Workbook

Sheet P7 EisenWensen - TB1
A1: Bijlage G7 Programma van prijzen, eisen en wensen Perceel 7 Bosbouwwerktuigen (aanbouw- en getrokken) | M1: Maak uw keuze (verplicht!)
A2: Programma van eisen en wensen | M2: Nee, niet verkrijgbaar
A3: Inschrijver dient uitsluitend de geel gekleurde cellen in te vullen. LET OP: Het programma van prijzen, eisen en wensen bevat meerdere tabbladen (2). Er is een gunningsassortiment opgesteld dat Inschrijver moet kunnen leveren. Voor het gunningsassortiment gelden de onderstaande algemene eisen. Optioneel kan daarnaast materieel worden uitgevraagd wat past binnen het perceel. Inschrijver dient zijn assortiment aan te passen aan de wensen van Staatsbosbeheer. Hiervoor gelden in ieder geval de onderdstaande algemene eisen. | M3: Ja, optioneel (tegen meerprijs)
A4: Algemene eisen | M4: Ja, standaard onderdeel van (prijs) basisuitvoering
C5: Eisen | D5: Aanbouw | E5: Getrokken | F5: Eis leverbaar Ja/Nee | H5: Omschrijving wens | I5: Wens leverbaar | J5: Bruto meerprijs wens* | K5: Maximaal te behalen aantal punten | L5: Behaald aantal punten
A6: 1 | B6: Iedere aanbouw- of getrokken machine | C6: Voldoet bij levering aan de wegenverkeerswetgeving, inclusief bebording breedte verlichting, afscherming scherpe delen | D6: x | E6: x | F6: Maak uw keuze | H6: Nvt | I6: Nvt | J6: Nvt | K6: Nvt | L6: Nvt
A7: 2 | C7: Indien smeervet en olie noodzakelijk is dan wordt een vol synthetische biologisch afbreekbare (biodegredeble OECD301B) variant gebruikt. Hydrauliek-, achterbrugolie (HEES) is afgestemd op de aanwezige tractor(en) en altijd vol synthetisch en biologisch afbreekbaar. Smeermiddelen voldoen aan Milieukeurmerk Blauwe Engel, Eco Keurmerk, Swedish Standard. Zie bijlage O. | D7: x | E7: x | F7: Maak uw keuze | H7: Is voorzien van gesloten lagersmering, zonder smeerpunten. | I7: Maak uw keuze (verplicht!) | J7: 0 | K7: 500 | L7: =IF(I7="Maak uw keuze (verplicht!)","Keuze maken in kolom G",IF(I7="Nee, niet verkrijgbaar",0,IF(I7="Ja, optioneel (tegen meerprijs)",0.3*K7,IF(I7="Ja, standaard onderdeel van (prijs) basisuitvoering",K7)))) -> Keuze maken in kolom G
A8: Specifieke eisen aan het gunningsassortiment - Transportwerktuigen & Grondbewerking | H8: Wensen gunningsassortiment
A9: Transportwerktuigen | C9: Eisen | D9: Aanbouw | E9: Getrokken | F9: Eis leverbaar Ja/Nee | H9: Omschrijving wens | I9: Wens leverbaar | J9: Bruto meerprijs wens* | K9: Maximaal te behalen aantal punten | L9: Behaald aantal punten
A10: 3 | B10: Hydraulische arm/giek voor 3 punts hefinrichting | C10: Geschikt voor het inzetten van klepelmaaier, knipgarnituur of andere aanbouwdelen voor maai, knip, klepelwerkzaamheden waarbij de maaier op flexibele afstand van de tractor is in te stellen. Er zijn meerdere gieklengtes verkrijgbaar voor verschillende tractortypen. Joystick bediening op- of nabij de armleuning van de bestuurdersstoel. | D10: x | F10: Maak uw keuze | H10: minimaal 3 maatvoeringen verkrijgbaar | I10: Maak uw keuze (verplicht!) | J10: 0 | K10: 500 | L10: =IF(I10="Maak uw keuze (verplicht!)","Keuze maken in kolom G",IF(I10="Nee, niet verkrijgbaar",0,IF(I10="Ja, optioneel (tegen meerprijs)",0.3*K10,IF(I10="Ja, standaard onderdeel van (prijs) basisuitvoering",K10)))) -> Keuze maken in kolom G
A11: 4 | B11: Klepelmaaier achterhef werkzaam naast de trekker | C11: Geschikt voor maaien licht tot zwaar gewas. (struiken, lang gras, bermen, slootkanten, houtige opslag tot 70 mm); Degelijke constructie, zware klepelas en klepels ivm obstakels in natuurterrein; Obstakelbeveiling; meerdere maatvoeringen leverbaar met hamerklepels | D11: x | F11: Maak uw keuze | I11: Nvt | K11: Nvt | L11: Nvt
A12: 5 | C12: Bodemvolgend, Hydraulisch verstelbaar; Eenvoudig te vervangen slijtdelen (geschroefd); Klepelrotor is aan de machine te balanceren | D12: x | F12: Maak uw keuze | I12: Nvt | K12: Nvt | L12: Nvt
A13: 6 | B13: Klepelmaaier achterhef werkzaam achter de trekker | C13: Geschikt voor maaien licht tot zwaar gewas (struiken, lang gras, bermen, slootkanten, houtige opslag tot 70 mm); sideshift mogelijkheid; Front- en achterhef aansluiting; degelijke constructie ivm obstakels in gewas; leverbaar met hamerklepels | D13: x | F13: Maak uw keuze | I13: Nvt | K13: Nvt | L13: Nvt
A14: 7 | B14: Klepelmaaier fronthef | C14: Bodemvolgend, sideshiftfunctie; Hydraulisch verstelbaar; Eenvoudig te vervangen slijtdelen (geschroefd); Zware klepelrotor, aan de machine te balanceren, zware hamerklepels | D14: x | F14: Maak uw keuze | I14: Nvt | K14: Nvt | L14: Nvt
C15: Geschikt voor maaien van zwaar gewas. (struiken, lang gras, riet, bermen, slootkanten, tot 70 mm houtsopslag); sideshift mogelijkheid; Front- en achterhef aansluiting leverbaar met hamerklepels | D15: x | F15: Maak uw keuze | I15: Nvt | K15: Nvt | L15: Nvt
A16: 8 | B16: Klepelmaaier voor arm/giek | C16: Bodemvolgend, Hydraulisch verstelbaar; Eenvoudig te vervangen slijtdelen (geschroefd); Zware klepelrotor aan de machine te balanceren | D16: x | F16: Maak uw keuze | I16: Nvt | K16: Nvt | L16: Nvt
A17: 9 | C17: Maaier met klepelset leverbaar voor heggen scheren; | D17: x | F17: Maak uw keuze | I17: Nvt | K17: Nvt | L17: Nvt
A18: 10 | B18: Borstelmachine | C18: Achter/front aansluiting | D18: x | F18: Maak uw keuze | I18: Nvt | K18: Nvt | L18: Nvt
A19: 11 | B19: Bosklepelmaaier achter de tractor | C19: Bestemd voor het maaien of verpulveren van kreupelhout, struikgewas en jonge bomen, houtopslag. Klepelset met vaste beitels | D19: x | F19: Maak uw keuze | I19: Nvt | K19: Nvt | L19: Nvt
A20: 12 | B20: Bosklepelmaaier aan een arm | C20: Klepel/freesset voor verkleinen, verwijderen van houtige opslag, struiken | D20: x | F20: Maak uw keuze | H20: Geschikt voor versnipperen, verpulveren van houtopslag > 70 mm | I20: Maak uw keuze (verplicht!) | J20: 0 | K20: 500 | L20: =IF(I20="Maak uw keuze (verplicht!)","Keuze maken in kolom G",IF(I20="Nee, niet verkrijgbaar",0,IF(I20="Ja, optioneel (tegen meerprijs)",0.3*K20,IF(I20="Ja, standaard onderdeel van (prijs) basisuitvoering",K20)))) -> Keuze maken in kolom G
A21: 13 | B21: Bosploeg | C21: Ploegschijf voor bosgrond | D21: x | F21: Maak uw keuze | I21: Nvt | K21: Nvt | L21: Nvt
A22: 14 | B22: Uitsleeptang voor bomen | C22: Hydraulische aansturing, meerdere gewichtsklassen en tangformaten leverbaar; leverbaar met stootbord, hydraulisch aangedreven rotatie motor tussen frame en klem. | D22: x | F22: Maak uw keuze | I22: Nvt | K22: Nvt | L22: Nvt
A23: 15 | B23: Bosbouwlier | C23: Leverbaar met diverse trekvermogens; leverbaar met stootbord, automatische afrol/uitloop van de kabel; afstandsbediening en extra katrol voor overdwars werken. | D23: x | F23: Maak uw keuze | I23: Nvt | K23: Nvt | L23: Nvt
A24: 16 | B24: Bladblazer | C24: Versie voor 3 punts hefinrichting tractor. Op afstand instelbare uitstroomopening; Luchtopbrengst minimaal 5000 m3/uur | D24: x | E24: x | F24: Maak uw keuze | I24: Nvt | K24: Nvt | L24: Nvt
A25: 17 | C25: Versie op wielonderstel. Op afstand instelbare uitstroomopening; Luchtopbrengst minimaal 10.000 m3/uur | D25: x | E25: x | F25: Maak uw keuze | I25: Nvt | K25: Nvt | L25: Nvt
A26: 18 | B26: Plantgaten boor | C26: Aftakas aangedreven, met boor diam. 10, 30,60 cm | D26: x | F26: Maak uw keuze | I26: Nvt | K26: Nvt | L26: Nvt
A27: * Indien in kolom M 'Ja, optioneel (tegen meerprijs)' is geselecteerd vult u in kolom N 'Wensen meerprijs' de bruto meerprijs in van de betreffende wens. In andere gevallen laat u het bedrag op '€ 0,-' staan! | J27: Totaal bruto meerprijs Wensen | K27: Maximaal te behalen aantal punten 'wensen | L27: Behaald aantal punten 'wensen'
J28: =SUM(J10:J26,J7) -> 0 | K28: =SUM(K10:K26,K7) -> 1500 | L28: =SUM(L10:L26,L7) -> 0
B30: Bedrijfsnaam inschrijver | C30: [vul hier uw statutaire bedrijfsnaam in]

Sheet P7 Prijzen - TB2
A1: ='P7 EisenWensen - TB1'!A1:J1 -> Bijlage G7 Programma van prijzen, eisen en wensen Perceel 7 Bosbouwwerktuigen (aanbouw- en getrokken)
A2: Prijzen gunningsassortiment Perceel 7
A3: Inschrijver dient uitsluitend de geel gekleurde cellen in te vullen. LET OP: Het programma van prijzen, eisen en wensen bevat meerdere tabbladen (2).
A4: Productgroep | B4: Aanbouw / Getrokken | C4: Aanvullende opties/acc. | D4: Maatvoering indicatie | E4: Merk | F4: Type | G4: Bruto catalogusprijs | H4: Bruto catalogusprijs wensen | I4: korting (%) | J4: Netto Aanschafkosten | K4: Restwaarde (na 10 jaar) | L4: Totaal
A5: Klepelmaaier werkzaam naast de trekker | B5: aanbouw | D5: 1,8 m | G5: 0 | H5: ='P7 EisenWensen - TB1'!J$7 -> 0 | I5: 0 | J5: =(G5+H5)*(100%-I5) -> 0 | K5: 0 | L5: =J5-K5 -> 0
A6: Klepelmaaier Front + achterhef | B6: aanbouw | C6: Sideshift | D6: 2,20 m | G6: 0 | H6: ='P7 EisenWensen - TB1'!J$7 -> 0 | I6: 0 | J6: =(G6+H6)*(100%-I6) -> 0 | K6: 0 | L6: =J6-K6 -> 0
A7: Bladblazer, 3 punts hefinrichting tractor | B7: aanbouw | C7: vanaf tractor bestuurbare blaasmond, | D7: 5000 m3/uur, ca 20-25pk vermogen | G7: 0 | H7: ='P7 EisenWensen - TB1'!J$7 -> 0 | I7: 0 | J7: =(G7+H7)*(100%-I7) -> 0 | K7: 0 | L7: =J7-K7 -> 0
A8: Bladblazer op wielonderstel | B8: getrokken | C8: vanaf tractor bestuurbare blaasmond, | D8: 10-15.000 m3/uur, ca 45pk vermogen | G8: 0 | H8: ='P7 EisenWensen - TB1'!J$7 -> 0 | I8: 0 | J8: =(G8+H8)*(100%-I8) -> 0 | K8: 0 | L8: =J8-K8 -> 0
A9: Bosbouwlier met schutbord | B9: aanbouw | C9: Radiografische bediening; minimaal 50 meter kabel; hydraulische afloop; 8,5ton | D9: 8,5 ton trekkracht | G9: 0 | H9: ='P7 EisenWensen - TB1'!J$7 -> 0 | I9: 0 | J9: =(G9+H9)*(100%-I9) -> 0 | K9: 0 | L9: =J9-K9 -> 0
A10: Uitsleeptang voor bomen | B10: aanbouw | D10: 60 cm diameter | G10: 0 | H10: ='P7 EisenWensen - TB1'!J$7 -> 0 | I10: 0 | J10: =(G10+H10)*(100%-I10) -> 0 | K10: 0 | L10: =J10-K10 -> 0
A11: Hydraulische arm/giek voor 3 punts hefinrichting | B11: Aanbouw | D11: reikweidte giek 6 m | G11: 0 | H11: ='P7 EisenWensen - TB1'!J7+'P7 EisenWensen - TB1'!J10 -> 0 | I11: 0 | J11: =(G11+H11)*(100%-I11) -> 0 | K11: 0 | L11: =J11-K11 -> 0
A12: Klepelmaaier met giek | B12: aanbouw | D12: 1,2 m klepelbak, reikweidte 6 m | G12: 0 | H12: ='P7 EisenWensen - TB1'!J$7 -> 0 | I12: 0 | J12: =(G12+H12)*(100%-I12) -> 0 | K12: 0 | L12: =J12-K12 -> 0
A13: Borstelmachine | B13: aanbouw | D13: 2,25 m | G13: 0 | H13: ='P7 EisenWensen - TB1'!J$7 -> 0 | I13: 0 | J13: =(G13+H13)*(100%-I13) -> 0 | K13: 0 | L13: =J13-K13 -> 0
A14: Bosklepelmaaier achter- of voorzijde trekker | B14: aanbouw | C14: zware freesas met kooirotor | D14: 1,5 m | G14: 0 | H14: ='P7 EisenWensen - TB1'!J$7 -> 0 | I14: 0 | J14: =(G14+H14)*(100%-I14) -> 0 | K14: 0 | L14: =J14-K14 -> 0
A15: Bosklepelmaaier aan arm | B15: aanbouw | C15: zware freesas en geharde beitels | D15: 1,2 m | G15: 0 | H15: ='P7 EisenWensen - TB1'!J7+'P7 EisenWensen - TB1'!J20 -> 0 | I15: 0 | J15: =(G15+H15)*(100%-I15) -> 0 | K15: 0 | L15: =J15-K15 -> 0
A16: Bosploeg | B16: aanbouw | D16: schijfploeg | G16: 0 | H16: ='P7 EisenWensen - TB1'!J$7 -> 0 | I16: 0 | J16: =(G16+H16)*(100%-I16) -> 0 | K16: 0 | L16: =J16-K16 -> 0
A17: Totale kosten (grondslag voor beoordeling P7) | L17: =SUM(L5:L16) -> 0
A19: Tarieven Spoedreparaties* Indicatief (telt niet mee voor beoordeling prijscomponent, NB. tarieven gelden wel bij uitvoering overeenkomst!!) | F19: Bruto catologusprijs: | H19: Prijs van gunningsassortiment inclusief alle algemene en specifiek eisen en exclusief wensen en belastingen
A20: Uurtarief 1e monteur LMB | B20: ma t/m vr. tussen 08.00 - 17.00 | D20: 0 | F20: Bruto catalogusprijs wensen: | H20: Prijs van alle -tegen meerprijs- leverbare wensen, exclusief belastingen
B21: ma t/m vr. tussen 17.00 - 08.00 | D21: 0 | F21: Korting: | H21: Kortingspercentage over de bruto catologusprijs én de tegen meerprijs leverbare wensen
B22: za. 00.00 t/m ma. 08.00 uur | D22: 0 | F22: Netto aanschafkosten: | H22: = (bruto catologusprijs + bruto catolugusprijs wensen) - catologuskorting
A23: Voorrijkosten serviceauto | B23: all-in per km | D23: 0 | F23: Service en onderhoud | H23: Betreft alle dienstverlening en producten voor reguliere onderhoudswerkzaamheden volgens fabrieksnormen, exclusief BIO-smeermiddelen protocol en storingen/reparaties!
A25: Bedrijfsnaam inschrijver | B25: [vul hier uw statutaire bedrijfsnaam in]
