Workbook

Sheet P5 EisenWensen - TB1
A1: Bijlage 5 - Programma van prijzen, eisen en wensen Combinatie Perceel 5 Hooibouw- en Oogstwerktuigen (aanbouw- en getrokken) | Q1: Maak uw keuze (verplicht!)
A2: Programma van eisen en wensen | Q2: Nee, niet verkrijgbaar
A3: Inschrijver dient uitsluitend de geel gekleurde cellen in te vullen. LET OP: Het programma van prijzen, eisen en wensen bevat meerdere tabbladen (2). Er is een gunningsassortiment opgesteld dat Inschrijver moet kunnen leveren. Voor het gunningsassortiment gelden de onderstaande algemene eisen. Optioneel kan daarnaast materieel worden uitgevraagd wat past binnen het perceel. Inschrijver dient zijn assortiment aan te passen aan de wensen van Staatsbosbeheer. Hiervoor gelden in ieder geval de onderdstaande algemene eisen. | Q3: Ja, optioneel (tegen meerprijs)
A4: Algemene eisen | Q4: Ja, standaard onderdeel van (prijs) basisuitvoering
C5: Eisen | D5: Aanbouw | E5: Getrokken | J5: Eis leverbaar Ja/Nee | L5: Omschrijving wens | M5: Wens leverbaar | N5: Bruto meerprijs wens* | O5: Maximaal te behalen aantal punten | P5: Behaald aantal punten
A6: 1 | B6: Iedere aanbouw- of getrokken machine | C6: Voldoet bij levering aan de wegenverkeerswetgeving, inclusief bebording breedte verlichting, afscherming scherpe delen | D6: x | E6: x | J6: Maak uw keuze | M6: Nvt | O6: Nvt | P6: Nvt
A7: 2 | C7: Indien smeervet en olie noodzakelijk is dan wordt een vol synthetische biologisch afbreekbare (biodegredeble OECD301B) variant gebruikt. Hydrauliek-, achterbrugolie (HEES) is afgestemd op de aanwezige tractor(en) en altijd vol synthetisch en biologisch afbreekbaar. Smeermiddelen voldoen aan Milieukeurmerk Blauwe Engel, Eco Keurmerk, Swedish Standard. Zie bijlage O. | D7: x | E7: x | J7: Maak uw keuze | L7: Is voorzien van gesloten lagersmering, zonder smeerpunten. | M7: Maak uw keuze (verplicht!) | N7: 0 | O7: 600 | P7: =IF(M7="Maak uw keuze (verplicht!)","Keuze maken in kolom G",IF(M7="Nee, niet verkrijgbaar",0,IF(M7="Ja, optioneel (tegen meerprijs)",0.3*O7,IF(M7="Ja, standaard onderdeel van (prijs) basisuitvoering",O7)))) -> Keuze maken in kolom G
A8: 3 | C8: Getrokken werktuigen zijn voorzien van een luchtreminstallatie | E8: x | J8: Maak uw keuze | M8: Nvt | O8: Nvt | P8: Nvt
A9: Specifieke eisen aan het gunningsassortiment - Hooibouwwerktuigen | L9: Wensen gunningsassortiment
A10: Hooibouw | C10: Eisen | D10: Aanbouw | E10: Getrokken | F10: Schijven maaier achter | G10: Schijven maaier front | H10: Schotel maaier achter | I10: Schotel maaier front | J10: Eis leverbaar Ja/Nee | L10: Omschrijving wens | M10: Wens leverbaar | N10: Bruto meerprijs wens* | O10: Maximaal te behalen aantal punten | P10: Behaald aantal punten
A11: 3 | B11: Maaiers | C11: Maaier is geschikt voor lang en zwaar (natuur) gewas; | D11: x | E11: x | F11: x | G11: x | H11: x | I11: x | J11: Maak uw keuze | L11: Nvt | M11: Nvt | N11: Nvt | O11: Nvt | P11: Nvt
A12: 4 | C12: Schijven- en trommelmaaier variant leverbaar | D12: x | E12: x | F12: x | G12: x | H12: x | I12: x | J12: Maak uw keuze | L12: Nvt | M12: Nvt | N12: Nvt | O12: Nvt | P12: Nvt
A13: 5 | C13: Range t/m 2.80 m werkbreedte in 2 varianten | D13: x | E13: x | F13: x | G13: x | J13: Maak uw keuze | L13: Nvt | M13: Nvt | N13: Nvt | O13: Nvt | P13: Nvt
A14: 6 | C14: Range t/m 2.80 m werkbreedte heeft een uitvoering tot 550 kg | D14: x | G14: x | J14: Maak uw keuze | L14: Nvt | M14: Nvt | N14: Nvt | O14: Nvt | P14: Nvt
A15: 7 | C15: Range vanaf 2.80 m werkbreedte in 2 varianten | D15: x | E15: x | F15: x | G15: x | J15: Maak uw keuze | L15: Nvt | M15: Nvt | N15: Nvt | O15: Nvt | P15: Nvt
A16: 8 | C16: Range vanaf 2.80 m werkbreedte heeft een uitvoering tot 635 kg | D16: x | G16: x | J16: Maak uw keuze | L16: Nvt | M16: Nvt | N16: Nvt | O16: Nvt | P16: Nvt
A17: 9 | C17: Maaier is geschikt voor onvlak terrein, is bodemvolgend | D17: x | E17: x | F17: x | G17: x | H17: x | I17: x | J17: Maak uw keuze | L17: Nvt | M17: Nvt | N17: Nvt | O17: Nvt | P17: Nvt
A18: 10 | C18: Snelwisselsysteem messen | D18: x | E18: x | F18: x | G18: x | H18: x | I18: x | J18: Maak uw keuze | L18: Nvt | M18: Nvt | N18: Nvt | O18: Nvt | P18: Nvt
A19: 11 | C19: Eenvoudig instelbare maaihoogte, vlakstelling | D19: x | E19: x | F19: x | G19: x | H19: x | I19: x | J19: Maak uw keuze | L19: Nvt | M19: Nvt | N19: Nvt | O19: Nvt | P19: Nvt
A20: 12 | C20: Eenvoudig instelbare zwadbreedte | D20: x | E20: x | F20: x | G20: x | H20: x | I20: x | J20: Maak uw keuze | L20: Nvt | M20: Nvt | N20: Nvt | O20: Nvt | P20: Nvt
A21: 13 | C21: Liftcontrolsysteem (of vergelijkbaar) voor bodemdruk instelling | D21: x | E21: x | F21: x | G21: x | H21: x | I21: x | J21: Maak uw keuze | L21: Nvt | M21: Nvt | N21: Nvt | O21: Nvt | P21: Nvt
A22: 14 | C22: Obstakelbeveiliging | D22: x | E22: x | F22: x | H22: x | J22: Maak uw keuze | L22: Nvt | M22: Nvt | N22: Nvt | O22: Nvt | P22: Nvt
A23: 15 | C23: Aansluiting met accordbok | D23: x | G23: x | I23: x | J23: Maak uw keuze | L23: Nvt | M23: Nvt | N23: Nvt | O23: Nvt | P23: Nvt
A24: 16 | C24: Corrosiebestendig | D24: x | E24: x | F24: x | G24: x | H24: x | I24: x | J24: Maak uw keuze | L24: Poedercoating | M24: Maak uw keuze (verplicht!) | N24: 0 | O24: 300 | P24: =IF(M24="Maak uw keuze (verplicht!)","Keuze maken in kolom G",IF(M24="Nee, niet verkrijgbaar",0,IF(M24="Ja, optioneel (tegen meerprijs)",0.3*O24,IF(M24="Ja, standaard onderdeel van (prijs) basisuitvoering",O24)))) -> Keuze maken in kolom G
A25: 17 | D25: x | E25: x | F25: x | H25: x | J25: nvt | L25: Mogelijkheid zwad transportsysteem | M25: Maak uw keuze (verplicht!) | N25: 0 | O25: 500 | P25: =IF(M25="Maak uw keuze (verplicht!)","Keuze maken in kolom G",IF(M25="Nee, niet verkrijgbaar",0,IF(M25="Ja, optioneel (tegen meerprijs)",0.3*O25,IF(M25="Ja, standaard onderdeel van (prijs) basisuitvoering",O25)))) -> Keuze maken in kolom G
A26: 18 | D26: x | E26: x | F26: x | H26: x | J26: nvt | L26: Wildreddersysteem | M26: Maak uw keuze (verplicht!) | N26: 0 | O26: 300 | P26: =IF(M26="Maak uw keuze (verplicht!)","Keuze maken in kolom G",IF(M26="Nee, niet verkrijgbaar",0,IF(M26="Ja, optioneel (tegen meerprijs)",0.3*O26,IF(M26="Ja, standaard onderdeel van (prijs) basisuitvoering",O26)))) -> Keuze maken in kolom G
A27: 19 | B27: Schudder | C27: Geschikt voor lang en zwaar gewas; constructie voorkomt wikkelen van gewas aan machinedelen; | D27: x | E27: x | J27: Maak uw keuze | L27: Nvt | M27: Nvt | N27: Nvt | O27: Nvt | P27: Nvt
A28: 20 | C28: Eenvoudig instelbaar en opklapbaar | D28: x | E28: x | J28: Maak uw keuze | L28: Nvt | M28: Nvt | N28: Nvt | O28: Nvt | P28: Nvt
A29: 21 | C29: Tandafstelling instelbaar voor minimaal gronddelen in het gewas | D29: x | E29: x | J29: Maak uw keuze | L29: Nvt | M29: Nvt | N29: Nvt | O29: Nvt | P29: Nvt
A30: 22 | C30: Constructie van de tanden is zodanig dat tandbreuk uitzondering is | D30: x | E30: x | J30: Maak uw keuze | L30: Leverancier kan bevestigen dat tandbreuk minimaal is | M30: Maak uw keuze (verplicht!) | N30: 0 | O30: 300 | P30: =IF(M30="Maak uw keuze (verplicht!)","Keuze maken in kolom G",IF(M30="Nee, niet verkrijgbaar",0,IF(M30="Ja, optioneel (tegen meerprijs)",0.3*O30,IF(M30="Ja, standaard onderdeel van (prijs) basisuitvoering",O30)))) -> Keuze maken in kolom G
A31: 23 | C31: Goed bodemvolgend bij ongelijk terrein; | D31: x | E31: x | J31: Maak uw keuze | L31: Nvt | M31: Nvt | N31: Nvt | O31: Nvt | P31: Nvt
A32: 24 | C32: "Schuinfunctie", of specifieke instelling voor het werken langs perceelsranden | D32: x | E32: x | J32: Maak uw keuze | L32: Nvt | M32: Nvt | N32: Nvt | O32: Nvt | P32: Nvt
A33: 25 | C33: Maatvoering van de banden is af te stemmen op terreintype | D33: x | E33: x | J33: Maak uw keuze | L33: Nvt | M33: Nvt | N33: Nvt | O33: Nvt | P33: Nvt
A34: 26 | C34: Leverbaar in zowel 4 als 8 elementen | D34: x | E34: x | J34: Maak uw keuze | L34: Nvt | M34: Nvt | N34: Nvt | O34: Nvt | P34: Nvt
A35: 27 | B35: Zwadhark / wiersmachine | C35: Geschikt voor lang en zwaar gewas; constructie voorkomt wikkelen van gewas aan machinedelen; | D35: x | E35: x | J35: Maak uw keuze | L35: Nvt | M35: Nvt | N35: Nvt | O35: Nvt | P35: Nvt
A36: 28 | C36: Werkbreedte tot 6,5 m is leverbaar | D36: x | E36: x | J36: Maak uw keuze | L36: Nvt | M36: Nvt | N36: Nvt | O36: Nvt | P36: Nvt
A37: 29 | C37: Eenvoudig instelbaar en opklapbaar, veilig transporteerbaar | D37: x | E37: x | J37: Maak uw keuze | L37: Nvt | M37: Nvt | N37: Nvt | O37: Nvt | P37: Nvt
A38: 30 | C38: Tandafstelling instelbaar voor minimaal gronddelen in het gewas | D38: x | E38: x | J38: Maak uw keuze | L38: Nvt | M38: Nvt | N38: Nvt | O38: Nvt | P38: Nvt
A39: 31 | C39: Constructie van de tanden is zodanig dat tandbreuk uitzondering is | D39: x | E39: x | J39: Maak uw keuze | L39: Leverancier kan bevestigen dat tandbreuk minimaal is | M39: Maak uw keuze (verplicht!) | N39: 0 | O39: 300 | P39: =IF(M39="Maak uw keuze (verplicht!)","Keuze maken in kolom G",IF(M39="Nee, niet verkrijgbaar",0,IF(M39="Ja, optioneel (tegen meerprijs)",0.3*O39,IF(M39="Ja, standaard onderdeel van (prijs) basisuitvoering",O39)))) -> Keuze maken in kolom G
A40: 32 | C40: Maatvoering van de banden is af te stemmen op terreintype | D40: x | E40: x | J40: Maak uw keuze | L40: Nvt | M40: Nvt | N40: Nvt | O40: Nvt | P40: Nvt
...

Sheet P5 Prijzen - TB2
A1: ='P5 EisenWensen - TB1'!A1:N1 -> Bijlage 5 - Programma van prijzen, eisen en wensen Combinatie Perceel 5 Hooibouw- en Oogstwerktuigen (aanbouw- en getrokken)
A2: Prijzen gunningsassortiment Perceel 5
A3: Inschrijver dient uitsluitend de geel gekleurde cellen in te vullen. LET OP: Het programma van prijzen, eisen en wensen bevat meerdere tabbladen (2).
A4: Productgroep | B4: Aanbouw / Getrokken | C4: Inclusief aanvullende opties/acc. | D4: Maatvoering indicatie | E4: Merk | F4: Type | G4: Bruto catalogusprijs | H4: Bruto catalogusprijs wensen | I4: korting (%) | J4: Netto Aanschafkosten | K4: Restwaarde (na 10 jaar) | L4: Totaal
A5: Schijvenmaaier achter | B5: aanbouw | D5: 2.4 m | G5: 0 | H5: nvt | I5: 0.1 | J5: =G5*(100%-I5) -> 0 | K5: 0 | L5: =J5-K5 -> 0
B6: aanbouw | D6: 2,8 m | G6: 0 | H6: nvt | I6: 0 | J6: =G6*(100%-I6) -> 0 | K6: 0 | L6: =J6-K6 -> 0
A7: Alle wensen schijvenmaaiers achter | H7: ='P5 EisenWensen - TB1'!N7+'P5 EisenWensen - TB1'!N24+'P5 EisenWensen - TB1'!N25+'P5 EisenWensen - TB1'!N26 -> 0 | I7: 0 | J7: =H7*(100%-I7) -> 0 | K7: 0 | L7: =J7-K7 -> 0
A8: Schijvenmaaier front | B8: aanbouw | D8: 3,0 m | G8: 0 | H8: nvt | I8: 0 | J8: =G8*(100%-I8) -> 0 | K8: 0 | L8: =J8-K8 -> 0
B9: aanbouw | D9: 2,7 m | G9: 0 | H9: nvt | I9: 0 | J9: =G9*(100%-I9) -> 0 | K9: 0 | L9: =J9-K9 -> 0
A10: Alle wensen schijvenmaaiers front | H10: ='P5 EisenWensen - TB1'!N7+'P5 EisenWensen - TB1'!N24 -> 0 | I10: 0 | J10: =H10*(100%-I10) -> 0 | K10: 0 | L10: =J10-K10 -> 0
A11: Schudder | B11: aanbouw | D11: 4 rotoren; 5,2 m | G11: 0 | H11: ='P5 EisenWensen - TB1'!N7+'P5 EisenWensen - TB1'!N30 -> 0 | I11: 0 | J11: =(G11+H11)*(100%-I11) -> 0 | K11: 0 | L11: =J11-K11 -> 0
B12: aanbouw | D12: 8 rotoren; 10 m. | G12: 0 | H12: ='P5 EisenWensen - TB1'!N7+'P5 EisenWensen - TB1'!N30 -> 0 | I12: 0 | J12: =(G12+H12)*(100%-I12) -> 0 | K12: 0 | L12: =J12-K12 -> 0
A13: Zwadhark/wiersmachine | B13: aanbouw | D13: enkel 4,2 m | G13: 0 | H13: ='P5 EisenWensen - TB1'!N7+'P5 EisenWensen - TB1'!N39 -> 0 | I13: 0 | J13: =(G13+H13)*(100%-I13) -> 0 | K13: 0 | L13: =J13-K13 -> 0
B14: Getrokken | D14: dubbel 7 m | G14: 0 | H14: ='P5 EisenWensen - TB1'!N7+'P5 EisenWensen - TB1'!N39 -> 0 | I14: 0 | J14: =(G14+H14)*(100%-I14) -> 0 | K14: 0 | L14: =J14-K14 -> 0
A15: Weilandbloter | B15: aanbouw | C15: Geen beschadiging van de zode, eenvoudige instelling maaidiepte. | G15: 0 | H15: ='[1]P3 EisenWensen - TB1'!N53 -> 0 | I15: 0 | J15: =(G15+H15)*(100%-I15) -> 0 | K15: 0 | L15: =J15-K15 -> 0
A16: Graskuilverdeler | B16: aanbouw | G16: 0 | H16: ='P5 EisenWensen - TB1'!N$7 -> 0 | I16: 0 | J16: =(G16+H16)*(100%-I16) -> 0 | K16: 0 | L16: =J16-K16 -> 0
A17: Balenwikkelaar | B17: Getrokken | C17: Getrokken, minimaal 2 wikkelarmen | G17: 0 | H17: ='P5 EisenWensen - TB1'!N$7 -> 0 | I17: 0 | J17: =(G17+H17)*(100%-I17) -> 0 | K17: 0 | L17: =J17-K17 -> 0
A18: Balendrager achterhef | B18: aanbouw | G18: 0 | H18: ='P5 EisenWensen - TB1'!N$7 -> 0 | I18: 0 | J18: =(G18+H18)*(100%-I18) -> 0 | K18: 0 | L18: =J18-K18 -> 0
A19: Opraapsnijwagen klein, tandem onderstel | D19: 15 m3 | G19: 0 | H19: ='P5 EisenWensen - TB1'!N$7+'P5 EisenWensen - TB1'!N49 -> 0 | I19: 0 | J19: =(G19+H19)*(100%-I19) -> 0 | K19: 0 | L19: =J19-K19 -> 0
A20: Opraapsnijwagen midden incl. 8 wielig gestuurd onderstel | D20: 25m3 | G20: 0 | H20: ='P5 EisenWensen - TB1'!N$7+'P5 EisenWensen - TB1'!N57+'P5 EisenWensen - TB1'!N65 -> 0 | I20: 0 | J20: =(G20+H20)*(100%-I20) -> 0 | K20: 0 | L20: =J20-K20 -> 0
A21: Opraapsnijwagen groot incl. 8 wielig gestuurd onderstel | D21: 35m3 | G21: 0 | H21: ='P5 EisenWensen - TB1'!N$7+'P5 EisenWensen - TB1'!N76+'P5 EisenWensen - TB1'!N79 -> 0 | I21: 0 | J21: =(G21+H21)*(100%-I21) -> 0 | K21: 0 | L21: =J21-K21 -> 0
A22: Rondebalenpers | D22: 1.3 m baal; grote banden | G22: 1000 | H22: ='P5 EisenWensen - TB1'!N$7+'P5 EisenWensen - TB1'!N94+'P5 EisenWensen - TB1'!N96+'P5 EisenWensen - TB1'!N98 -> 0 | I22: 0 | J22: =(G22+H22)*(100%-I22) -> 1000 | K22: 0 | L22: =J22-K22 -> 1000
A23: Totale kosten (grondslag voor beoordeling P5) | L23: =SUM(L5:L18) -> 0
A25: Tarieven Spoedreparaties* Indicatief (telt niet mee voor beoordeling prijscomponent, NB. tarieven gelden wel bij uitvoering overeenkomst!!) | F25: Bruto catologusprijs: | H25: Prijs van gunningsassortiment inclusief alle algemene en specifiek eisen en exclusief wensen en belastingen
A26: Uurtarief 1e monteur LMB | B26: ma t/m vr. tussen 08.00 - 17.00 | D26: 0 | F26: Bruto catalogusprijs wensen: | H26: Prijs van alle -tegen meerprijs- leverbare wensen, exclusief belastingen
B27: ma t/m vr. tussen 17.00 - 08.00 | D27: 0 | F27: Korting: | H27: Kortingspercentage over de bruto catologusprijs én de tegen meerprijs leverbare wensen
B28: za. 00.00 t/m ma. 08.00 uur | D28: 0 | F28: Netto aanschafkosten: | H28: = (bruto catologusprijs + bruto catolugusprijs wensen) - catologuskorting
A29: Voorrijkosten serviceauto | B29: all-in per km | D29: 0 | F29: Service en onderhoud | H29: Betreft alle dienstverlening en producten voor reguliere onderhoudswerkzaamheden volgens fabrieksnormen, exclusief BIO-smeermiddelen protocol en storingen/reparaties!
A31: Bedrijfsnaam inschrijver | B31: [vul hier uw statutaire bedrijfsnaam in]
