Workbook

Sheet Inschrijf som
D2: 2024 | F2: 2025 | H2: 2026 | J2: 2027 | L2: 2028 | N2: 2029 | P2: 2030 | R2: 2031 | S2: totaal
B3: Noord | C3: Preventief | D3: ='Prijzenboek regio N'!G56 -> 43050 | F3: ='Prijzenboek regio N'!I56 -> 0 | H3: ='Prijzenboek regio N'!K56 -> 0 | J3: ='Prijzenboek regio N'!M56 -> 0 | L3: ='Prijzenboek regio N'!O56 -> 0 | N3: ='Prijzenboek regio N'!Q56 -> 0 | P3: ='Prijzenboek regio N'!S56 -> 0 | R3: ='Prijzenboek regio N'!U56 -> 0 | S3: =SUM(D3:R3) -> 43050
C4: Uren en deel materiaal | D4: ='Prijzenboek regio N'!G89 -> 0 | F4: ='Prijzenboek regio N'!I89 -> 0 | H4: ='Prijzenboek regio N'!K89 -> 0 | J4: ='Prijzenboek regio N'!M89 -> 0 | L4: ='Prijzenboek regio N'!O89 -> 0 | N4: ='Prijzenboek regio N'!Q89 -> 0 | P4: ='Prijzenboek regio N'!S89 -> 0 | R4: ='Prijzenboek regio N'!U89 -> 0 | S4: =SUM(D4:R4) -> 0
C5: Vervangingen en tekeningen | D5: ='Prijzenboek regio N'!G136 -> 11400 | F5: ='Prijzenboek regio N'!I136 -> 11400 | H5: ='Prijzenboek regio N'!K136 -> 11400 | J5: ='Prijzenboek regio N'!M136 -> 11400 | L5: ='Prijzenboek regio N'!O136 -> 11400 | N5: ='Prijzenboek regio N'!Q136 -> 11400 | P5: ='Prijzenboek regio N'!S136 -> 11400 | R5: ='Prijzenboek regio N'!U136 -> 11400 | S5: =SUM(D5:R5) -> 91200
C7: totaal per jaar | D7: =SUM(D3:D5) -> 54450 | F7: =SUM(F3:F5) -> 11400 | H7: =SUM(H3:H5) -> 11400 | J7: =SUM(J3:J5) -> 11400 | L7: =SUM(L3:L5) -> 11400 | N7: =SUM(N3:N5) -> 11400 | P7: =SUM(P3:P5) -> 11400 | R7: =SUM(R3:R5) -> 11400
C8: totaal 8 jaar | S8: =SUM(D7:R7) -> 134250
B12: Noord-west | C12: Preventief | D12: ='Prijzenboek regio N-W'!G56 -> 0 | E12: ='Prijzenboek regio N-W'!H56 -> 0 | F12: ='Prijzenboek regio N-W'!I56 -> 0 | G12: ='Prijzenboek regio N-W'!J56 -> 0 | H12: ='Prijzenboek regio N-W'!K56 -> 0 | I12: ='Prijzenboek regio N-W'!L56 -> 0 | J12: ='Prijzenboek regio N-W'!M56 -> 0 | K12: ='Prijzenboek regio N-W'!N56 -> 0 | ... R12: ='Prijzenboek regio N-W'!U56 -> 0 | S12: =SUM(D12:R12) -> 0
C13: Uren en deel materiaal | D13: ='Prijzenboek regio N-W'!G89 -> 0 | E13: ='Prijzenboek regio N-W'!H89 -> 0 | F13: ='Prijzenboek regio N-W'!I89 -> 0 | G13: ='Prijzenboek regio N-W'!J89 -> 0 | H13: ='Prijzenboek regio N-W'!K89 -> 0 | I13: ='Prijzenboek regio N-W'!L89 -> 0 | J13: ='Prijzenboek regio N-W'!M89 -> 0 | K13: ='Prijzenboek regio N-W'!N89 -> 0 | ... R13: ='Prijzenboek regio N-W'!U89 -> 0 | S13: =SUM(D13:R13) -> 0
C14: Vervangingen en tekeningen | D14: ='Prijzenboek regio N-W'!G136 -> 13800 | E14: ='Prijzenboek regio N-W'!H136 -> 0 | F14: ='Prijzenboek regio N-W'!I136 -> 13800 | G14: ='Prijzenboek regio N-W'!J136 -> 0 | H14: ='Prijzenboek regio N-W'!K136 -> 13800 | I14: ='Prijzenboek regio N-W'!L136 -> 0 | J14: ='Prijzenboek regio N-W'!M136 -> 13800 | K14: ='Prijzenboek regio N-W'!N136 -> 0 | ... R14: ='Prijzenboek regio N-W'!U136 -> 13800 | S14: =SUM(D14:R14) -> 110400
C16: totaal per jaar | D16: =SUM(D12:D14) -> 13800 | F16: =SUM(F12:F14) -> 13800 | H16: =SUM(H12:H14) -> 13800 | J16: =SUM(J12:J14) -> 13800 | L16: =SUM(L12:L14) -> 13800 | N16: =SUM(N12:N14) -> 13800 | P16: =SUM(P12:P14) -> 13800 | R16: =SUM(R12:R14) -> 13800
C17: totaal 8 jaar | S17: =SUM(D16:S16) -> 110400
B21: Oost | C21: Preventief | D21: ='Prijzenboek regio O'!G56 -> 0 | E21: ='Prijzenboek regio O'!H56 -> 0 | F21: ='Prijzenboek regio O'!I56 -> 0 | G21: ='Prijzenboek regio O'!J56 -> 0 | H21: ='Prijzenboek regio O'!K56 -> 0 | I21: ='Prijzenboek regio O'!L56 -> 0 | J21: ='Prijzenboek regio O'!M56 -> 0 | K21: ='Prijzenboek regio O'!N56 -> 0 | ... R21: ='Prijzenboek regio O'!U56 -> 0 | S21: =SUM(D21:R21) -> 0
C22: Uren en deel materiaal | D22: ='Prijzenboek regio O'!G89 -> 0 | E22: ='Prijzenboek regio O'!H89 -> 0 | F22: ='Prijzenboek regio O'!I89 -> 0 | G22: ='Prijzenboek regio O'!J89 -> 0 | H22: ='Prijzenboek regio O'!K89 -> 0 | I22: ='Prijzenboek regio O'!L89 -> 0 | J22: ='Prijzenboek regio O'!M89 -> 0 | K22: ='Prijzenboek regio O'!N89 -> 0 | ... R22: ='Prijzenboek regio O'!U89 -> 0 | S22: =SUM(D22:R22) -> 0
C23: Vervangingen en tekeningen | D23: ='Prijzenboek regio O'!G136 -> 13000 | E23: ='Prijzenboek regio O'!H136 -> 0 | F23: ='Prijzenboek regio O'!I136 -> 13000 | G23: ='Prijzenboek regio O'!J136 -> 0 | H23: ='Prijzenboek regio O'!K136 -> 13000 | I23: ='Prijzenboek regio O'!L136 -> 0 | J23: ='Prijzenboek regio O'!M136 -> 13000 | K23: ='Prijzenboek regio O'!N136 -> 0 | ... R23: ='Prijzenboek regio O'!U136 -> 13000 | S23: =SUM(D23:R23) -> 104000
C25: totaal per jaar | D25: =SUM(D21:D23) -> 13000 | F25: =SUM(F21:F23) -> 13000 | H25: =SUM(H21:H23) -> 13000 | J25: =SUM(J21:J23) -> 13000 | L25: =SUM(L21:L23) -> 13000 | N25: =SUM(N21:N23) -> 13000 | P25: =SUM(P21:P23) -> 13000 | R25: =SUM(R21:R23) -> 13000
C26: totaal 8 jaar | S26: =SUM(D25:S25) -> 104000
B30: Zuid | C30: Preventief | D30: ='Prijzenboek regio Z'!G56 -> 0 | E30: ='Prijzenboek regio Z'!H56 -> 0 | F30: ='Prijzenboek regio Z'!I56 -> 0 | G30: ='Prijzenboek regio Z'!J56 -> 0 | H30: ='Prijzenboek regio Z'!K56 -> 0 | I30: ='Prijzenboek regio Z'!L56 -> 0 | J30: ='Prijzenboek regio Z'!M56 -> 0 | K30: ='Prijzenboek regio Z'!N56 -> 0 | ... R30: ='Prijzenboek regio Z'!U56 -> 0 | S30: =SUM(D30:R30) -> 0
C31: Uren en deel materiaal | D31: ='Prijzenboek regio Z'!G89 -> 0 | E31: ='Prijzenboek regio Z'!H89 -> 0 | F31: ='Prijzenboek regio Z'!I89 -> 0 | G31: ='Prijzenboek regio Z'!J89 -> 0 | H31: ='Prijzenboek regio Z'!K89 -> 0 | I31: ='Prijzenboek regio Z'!L89 -> 0 | J31: ='Prijzenboek regio Z'!M89 -> 0 | K31: ='Prijzenboek regio Z'!N89 -> 0 | ... R31: ='Prijzenboek regio Z'!U89 -> 0 | S31: =SUM(D31:R31) -> 0
C32: Vervangingen en tekeningen | D32: ='Prijzenboek regio Z'!G136 -> 17000 | E32: ='Prijzenboek regio Z'!H136 -> 0 | F32: ='Prijzenboek regio Z'!I136 -> 17000 | G32: ='Prijzenboek regio Z'!J136 -> 0 | H32: ='Prijzenboek regio Z'!K136 -> 17000 | I32: ='Prijzenboek regio Z'!L136 -> 0 | J32: ='Prijzenboek regio Z'!M136 -> 17000 | K32: ='Prijzenboek regio Z'!N136 -> 0 | ... R32: ='Prijzenboek regio Z'!U136 -> 17000 | S32: =SUM(D32:R32) -> 136000
C34: totaal per jaar | D34: =SUM(D30:D32) -> 17000 | F34: =SUM(F30:F32) -> 17000 | H34: =SUM(H30:H32) -> 17000 | J34: =SUM(J30:J32) -> 17000 | L34: =SUM(L30:L32) -> 17000 | N34: =SUM(N30:N32) -> 17000 | P34: =SUM(P30:P32) -> 17000 | R34: =SUM(R30:R32) -> 17000
C35: totaal 8 jaar | S35: =SUM(D34:S34) -> 136000
B39: Zuid-West | C39: Preventief | D39: ='Prijzenboek regio Z-W'!G56 -> 0 | E39: ='Prijzenboek regio Z-W'!H56 -> 0 | F39: ='Prijzenboek regio Z-W'!I56 -> 0 | G39: ='Prijzenboek regio Z-W'!J56 -> 0 | H39: ='Prijzenboek regio Z-W'!K56 -> 0 | I39: ='Prijzenboek regio Z-W'!L56 -> 0 | J39: ='Prijzenboek regio Z-W'!M56 -> 0 | K39: ='Prijzenboek regio Z-W'!N56 -> 0 | ... R39: ='Prijzenboek regio Z-W'!U56 -> 0 | S39: =SUM(D39:R39) -> 0
C40: Uren en deel materiaal | D40: ='Prijzenboek regio Z-W'!G89 -> 0 | E40: ='Prijzenboek regio Z-W'!H89 -> 0 | F40: ='Prijzenboek regio Z-W'!I89 -> 0 | G40: ='Prijzenboek regio Z-W'!J89 -> 0 | H40: ='Prijzenboek regio Z-W'!K89 -> 0 | I40: ='Prijzenboek regio Z-W'!L89 -> 0 | J40: ='Prijzenboek regio Z-W'!M89 -> 0 | K40: ='Prijzenboek regio Z-W'!N89 -> 0 | ... R40: ='Prijzenboek regio Z-W'!U89 -> 0 | S40: =SUM(D40:R40) -> 0
C41: Vervangingen en tekeningen | D41: ='Prijzenboek regio Z-W'!G136 -> 12200 | E41: ='Prijzenboek regio Z-W'!H136 -> 0 | F41: ='Prijzenboek regio Z-W'!I136 -> 12200 | G41: ='Prijzenboek regio Z-W'!J136 -> 0 | H41: ='Prijzenboek regio Z-W'!K136 -> 12200 | I41: ='Prijzenboek regio Z-W'!L136 -> 0 | J41: ='Prijzenboek regio Z-W'!M136 -> 12200 | K41: ='Prijzenboek regio Z-W'!N136 -> 0 | ... R41: ='Prijzenboek regio Z-W'!U136 -> 12200 | S41: =SUM(D41:R41) -> 97600
C43: totaal per jaar | D43: =SUM(D39:D41) -> 12200 | F43: =SUM(F39:F41) -> 12200 | H43: =SUM(H39:H41) -> 12200 | J43: =SUM(J39:J41) -> 12200 | L43: =SUM(L39:L41) -> 12200 | N43: =SUM(N39:N41) -> 12200 | P43: =SUM(P39:P41) -> 12200 | R43: =SUM(R39:R41) -> 12200
C44: totaal 8 jaar | S44: =SUM(D43:S43) -> 97600
N48: Inschrijf som | S48: =S44+S35+S26+S17+S8 -> 582250

Sheet Prijzenboek regio N
B1: Prijzenboek Regio Noord
F2: 2024 | I2: 2025 | K2: 2026 | M2: 2027 | O2: 2028 | Q2: 2029 | S2: 2030 | U2: 2031
H3: Indexering | I3: 1 | J3: Indexering | K3: 1 | L3: Indexering | M3: 1 | N3: Indexering | O3: 1 | P3: Indexering | Q3: 1 | R3: Indexering | S3: 1 | T3: Indexering | U3: 1
B5: Blok | D5: Eenheid | E5: Aantallen (fictief per jaar) | F5: Verrekenprijs (per eenheid) | G5: Prijs (aantal x eenheidsprijs) | H5: Aantallen (fictief per jaar) | I5: Prijs (aantal x indexering x eenheidsprijs) | J5: Aantallen (fictief per jaar) | K5: Prijs (aantal x indexering x eenheidsprijs) | L5: Aantallen (fictief per jaar) | M5: Prijs (aantal x indexering x eenheidsprijs) | N5: Aantallen (fictief per jaar) | O5: Prijs (aantal x indexering x eenheidsprijs) | P5: Aantallen (fictief per jaar) | Q5: Prijs (aantal x indexering x eenheidsprijs) | R5: Aantallen (fictief per jaar) | S5: Prijs (aantal x indexering x eenheidsprijs) | T5: Aantallen (fictief per jaar) | U5: Prijs (aantal x indexering x eenheidsprijs)
B6: 10 | C6: Preventief Onderhoud volgens Keuringsplan
C7: Noodstroominstallaties paragraaf 4.3.3
A8: 1 | B8: =B$6&"."&A8 -> 10.1 | C8: Onderhoud Statische No-break 1j -48V | D8: Ruimte | E8: 26 | F8: 0 | G8: =E8*F8 -> 0 | H8: 26 | I8: =($F8*$I$3)*H8 -> 0 | J8: 26 | K8: =$F8*$I$3*$K$3*J8 -> 0 | L8: 26 | M8: =($F8*$I$3*$K$3*$M$3)*L8 -> 0 | N8: 26 | O8: =($F8*$I$3*$K$3*$M$3*$O$3)*N8 -> 0 | P8: 26 | Q8: =$F8*$I$3*$K$3*$M$3*$O$3*$Q$3*P8 -> 0 | R8: 26 | S8: =$F8*$I$3*$K$3*$M$3*$O$3*$Q$3*$S$3*R8 -> 0 | T8: 26 | U8: =$F8*$I$3*$K$3*$M$3*$O$3*$Q$3*$S$3*$U$3*T8 -> 0
A9: 2 | B9: =B$6&"."&A9 -> 10.2 | C9: Onderhoud / inspectie rectifier | D9: stuks | E9: 78 | F9: 0 | G9: =E9*F9 -> 0 | H9: 70 | I9: =($F9*$I$3)*H9 -> 0 | J9: 62 | K9: =$F9*$I$3*$K$3*J9 -> 0 | L9: 54 | M9: =$F9*$I$3*$K$3*$M$3*L9 -> 0 | N9: 46 | O9: =($F9*$I$3*$K$3*$M$3*$O$3)*N9 -> 0 | P9: 36 | Q9: =$F9*$I$3*$K$3*$M$3*$O$3*$Q$3*P9 -> 0 | R9: 28 | S9: =$F9*$I$3*$K$3*$M$3*$O$3*$Q$3*$S$3*R9 -> 0 | T9: 20 | U9: =$F9*$I$3*$K$3*$M$3*$O$3*$Q$3*$S$3*$U$3*T9 -> 0
A10: 3 | B10: =B$6&"."&A10 -> 10.3 | C10: Onderhoud / inspectie inverter | D10: stuks | E10: 29 | F10: 0 | G10: =E10*F10 -> 0 | H10: 26 | I10: =($F10*$I$3)*H10 -> 0 | J10: 23 | K10: =($F10*$I$3*$K$3)*J10 -> 0 | L10: 20 | M10: =$F10*$I$3*$K$3*$M$3*L10 -> 0 | N10: 17 | O10: =($F10*$I$3*$K$3*$M$3*$O$3)*N10 -> 0 | P10: 14 | Q10: =$F10*$I$3*$K$3*$M$3*$O$3*$Q$3*P10 -> 0 | R10: 11 | S10: =$F10*$I$3*$K$3*$M$3*$O$3*$Q$3*$S$3*R10 -> 0 | T10: 8 | U10: =$F10*$I$3*$K$3*$M$3*$O$3*$Q$3*$S$3*$U$3*T10 -> 0
A11: 4 | B11: =B$6&"."&A11 -> 10.4 | C11: Onderhoud / inspectie accu's en Siemens meting (per accu) | D11: stuks | E11: 268 | F11: 0 | G11: =E11*F11 -> 0 | H11: 240 | I11: =($F11*$I$3)*H11 -> 0 | J11: 212 | K11: =($F11*$I$3*$K$3)*J11 -> 0 | L11: 186 | M11: =$F11*$I$3*$K$3*$M$3*L11 -> 0 | N11: 168 | O11: =($F11*$I$3*$K$3*$M$3*$O$3)*N11 -> 0 | P11: 140 | Q11: =$F11*$I$3*$K$3*$M$3*$O$3*$Q$3*P11 -> 0 | R11: 118 | S11: =$F11*$I$3*$K$3*$M$3*$O$3*$Q$3*$S$3*R11 -> 0 | T11: 90 | U11: =$F11*$I$3*$K$3*$M$3*$O$3*$Q$3*$S$3*$U$3*T11 -> 0
A12: 5 | B12: =B$6&"."&A12 -> 10.5 | C12: Inspectie HPDE afdichtingen | D12: stuks | E12: 131 | F12: 0 | G12: =E12*F12 -> 0 | H12: 131 | I12: =($F12*$I$3)*H12 -> 0 | J12: 131 | K12: =($F12*$I$3*$K$3)*J12 -> 0 | L12: 131 | M12: =$F12*$I$3*$K$3*$M$3*L12 -> 0 | N12: 131 | O12: =($F12*$I$3*$K$3*$M$3*$O$3)*N12 -> 0 | P12: 131 | Q12: =$F12*$I$3*$K$3*$M$3*$O$3*$Q$3*P12 -> 0 | R12: 131 | S12: =$F12*$I$3*$K$3*$M$3*$O$3*$Q$3*$S$3*R12 -> 0 | T12: 131 | U12: =$F12*$I$3*$K$3*$M$3*$O$3*$Q$3*$S$3*$U$3*T12 -> 0
A13: 6 | B13: =B$6&"."&A13 -> 10.6 | C13: Controleren doormeldingen naar ITOC | D13: Ruimte | E13: 25 | F13: 0 | G13: =E13*F13 -> 0 | H13: 25 | I13: =($F13*$I$3)*H13 -> 0 | J13: 25 | K13: =$F13*$I$3*$K$3*J13 -> 0 | L13: 25 | M13: =($F13*$I$3*$K$3*$M$3)*L13 -> 0 | N13: 25 | O13: =($F13*$I$3*$K$3*$M$3*$O$3)*N13 -> 0 | P13: 25 | Q13: =$F13*$I$3*$K$3*$M$3*$O$3*$Q$3*P13 -> 0 | R13: 25 | S13: =$F13*$I$3*$K$3*$M$3*$O$3*$Q$3*$S$3*R13 -> 0 | T13: 25 | U13: =$F13*$I$3*$K$3*$M$3*$O$3*$Q$3*$S$3*$U$3*T13 -> 0
A14: 7 | B14: =B$6&"."&A14 -> 10.7 | C14: Onderhoud Statische No-break 1j (priva) | D14: stuks | E14: 7 | F14: 0 | G14: =E14*F14 -> 0 | H14: 9 | I14: =($F14*$I$3)*H14 -> 0 | J14: 9 | K14: =($F14*$I$3*$K$3)*J14 -> 0 | L14: 9 | M14: =$F14*$I$3*$K$3*$M$3*L14 -> 0 | N14: 9 | O14: =($F14*$I$3*$K$3*$M$3*$O$3)*N14 -> 0 | P14: 9 | Q14: =$F14*$I$3*$K$3*$M$3*$O$3*$Q$3*P14 -> 0 | R14: 9 | S14: =$F14*$I$3*$K$3*$M$3*$O$3*$Q$3*$S$3*R14 -> 0 | T14: 9 | U14: =$F14*$I$3*$K$3*$M$3*$O$3*$Q$3*$S$3*$U$3*T14 -> 0
A15: 8 | B15: =B$6&"."&A15 -> 10.8 | C15: Onderhoud Statische No-break 1j | D15: stuks | E15: 10 | F15: 0 | G15: =E15*F15 -> 0 | H15: 10 | I15: =($F15*$I$3)*H15 -> 0 | J15: 10 | K15: =($F15*$I$3*$K$3)*J15 -> 0 | L15: 10 | M15: =$F15*$I$3*$K$3*$M$3*L15 -> 0 | N15: 10 | O15: =($F15*$I$3*$K$3*$M$3*$O$3)*N15 -> 0 | P15: 10 | Q15: =$F15*$I$3*$K$3*$M$3*$O$3*$Q$3*P15 -> 0 | R15: 10 | S15: =$F15*$I$3*$K$3*$M$3*$O$3*$Q$3*$S$3*R15 -> 0 | T15: 10 | U15: =$F15*$I$3*$K$3*$M$3*$O$3*$Q$3*$S$3*$U$3*T15 -> 0
C16: Aspiratie systeem paragraaf 4.3.6
A17: 9 | B17: =B$6&"."&A17 -> 10.9 | C17: XTRALIS VESDA ASPIRATIEDETECTIE | D17: stuks | E17: 11 | F17: 0 | G17: =E17*F17 -> 0 | H17: 11 | I17: =($F17*$I$3)*H17 -> 0 | J17: 11 | K17: =($F17*$I$3*$K$3)*J17 -> 0 | L17: 11 | M17: =$F17*$I$3*$K$3*$M$3*L17 -> 0 | N17: 11 | O17: =($F17*$I$3*$K$3*$M$3*$O$3)*N17 -> 0 | P17: 11 | Q17: =$F17*$I$3*$K$3*$M$3*$O$3*$Q$3*P17 -> 0 | R17: 11 | S17: =$F17*$I$3*$K$3*$M$3*$O$3*$Q$3*$S$3*R17 -> 0 | T17: 11 | U17: =$F17*$I$3*$K$3*$M$3*$O$3*$Q$3*$S$3*$U$3*T17 -> 0
C18: Brandmeldinstallatie paragraaf 4.3.7
A19: 10 | B19: =B$6&"."&A19 -> 10.10 | C19: Controle hand, rook melder en temperatuur melder BMI (Prijs per melder) | D19: stuks | E19: 17 | F19: 0 | G19: =E19*F19 -> 0 | H19: 17 | I19: =($F19*$I$3)*H19 -> 0 | J19: 17 | K19: =($F19*$I$3*$K$3)*J19 -> 0 | L19: 17 | M19: =$F19*$I$3*$K$3*$M$3*L19 -> 0 | N19: 17 | O19: =($F19*$I$3*$K$3*$M$3*$O$3)*N19 -> 0 | P19: 17 | Q19: =$F19*$I$3*$K$3*$M$3*$O$3*$Q$3*P19 -> 0 | R19: 17 | S19: =$F19*$I$3*$K$3*$M$3*$O$3*$Q$3*$S$3*R19 -> 0 | T19: 17 | U19: =$F19*$I$3*$K$3*$M$3*$O$3*$Q$3*$S$3*$U$3*T19 -> 0
A20: 11 | B20: =B$6&"."&A20 -> 10.11 | C20: Neventableau | D20: stuks | E20: 12 | F20: 0 | G20: =E20*F20 -> 0 | H20: 12 | I20: =($F20*$I$3)*H20 -> 0 | J20: 12 | K20: =($F20*$I$3*$K$3)*J20 -> 0 | L20: 12 | M20: =$F20*$I$3*$K$3*$M$3*L20 -> 0 | N20: 12 | O20: =($F20*$I$3*$K$3*$M$3*$O$3)*N20 -> 0 | P20: 12 | Q20: =$F20*$I$3*$K$3*$M$3*$O$3*$Q$3*P20 -> 0 | R20: 12 | S20: =$F20*$I$3*$K$3*$M$3*$O$3*$Q$3*$S$3*R20 -> 0 | T20: 12 | U20: =$F20*$I$3*$K$3*$M$3*$O$3*$Q$3*$S$3*$U$3*T20 -> 0
A21: 12 | B21: =B$6&"."&A21 -> 10.12 | C21: Doormeldingen | D21: ruimte | E21: 17 | F21: 0 | G21: =E21*F21 -> 0 | H21: 17 | I21: =($F21*$I$3)*H21 -> 0 | J21: 17 | K21: =($F21*$I$3*$K$3)*J21 -> 0 | L21: 17 | M21: =$F21*$I$3*$K$3*$M$3*L21 -> 0 | N21: 17 | O21: =($F21*$I$3*$K$3*$M$3*$O$3)*N21 -> 0 | P21: 17 | Q21: =$F21*$I$3*$K$3*$M$3*$O$3*$Q$3*P21 -> 0 | R21: 17 | S21: =$F21*$I$3*$K$3*$M$3*$O$3*$Q$3*$S$3*R21 -> 0 | T21: 17 | U21: =$F21*$I$3*$K$3*$M$3*$O$3*$Q$3*$S$3*$U$3*T21 -> 0
A22: 13 | B22: =B$6&"."&A22 -> 10.13 | C22: Inspectie en onderhoud BMI met centrale 12m | D22: stuks | E22: 12 | F22: 0 | G22: =E22*F22 -> 0 | H22: 12 | I22: =($F22*$I$3)*H22 -> 0 | J22: 12 | K22: =($F22*$I$3*$K$3)*J22 -> 0 | L22: 12 | M22: =$F22*$I$3*$K$3*$M$3*L22 -> 0 | N22: 12 | O22: =($F22*$I$3*$K$3*$M$3*$O$3)*N22 -> 0 | P22: 12 | Q22: =$F22*$I$3*$K$3*$M$3*$O$3*$Q$3*P22 -> 0 | R22: 12 | S22: =$F22*$I$3*$K$3*$M$3*$O$3*$Q$3*$S$3*R22 -> 0 | T22: 12 | U22: =$F22*$I$3*$K$3*$M$3*$O$3*$Q$3*$S$3*$U$3*T22 -> 0
A23: 14 | B23: =B$6&"."&A23 -> 10.14 | C23: 07-B1 CCV insp en odh VBB blusgas 1j | D23: stuks | E23: 2 | F23: 0 | G23: =E23*F23 -> 0 | H23: 2 | I23: =($F23*$I$3)*H23 -> 0 | J23: 2 | K23: =($F23*$I$3*$K$3)*J23 -> 0 | L23: 2 | M23: =$F23*$I$3*$K$3*$M$3*L23 -> 0 | N23: 2 | O23: =($F23*$I$3*$K$3*$M$3*$O$3)*N23 -> 0 | P23: 2 | Q23: =$F23*$I$3*$K$3*$M$3*$O$3*$Q$3*P23 -> 0 | R23: 2 | S23: =$F23*$I$3*$K$3*$M$3*$O$3*$Q$3*$S$3*R23 -> 0 | T23: 2 | U23: =$F23*$I$3*$K$3*$M$3*$O$3*$Q$3*$S$3*$U$3*T23 -> 0
A24: 15 | B24: =B$6&"."&A24 -> 10.15 | C24: 07-B2 CCV insp en odh blusgas 5j | D24: stuks | E24: 2 | F24: 0 | G24: =E24*F24 -> 0 | I24: =($F24*$I$3)*H24 -> 0 | K24: =($F24*$I$3*$K$3)*J24 -> 0 | M24: =$F24*$I$3*$K$3*$M$3*L24 -> 0 | O24: =($F24*$I$3*$K$3*$M$3*$O$3)*N24 -> 0 | P24: 2 | Q24: =$F24*$I$3*$K$3*$M$3*$O$3*$Q$3*P24 -> 0 | S24: =$F24*$I$3*$K$3*$M$3*$O$3*$Q$3*$S$3*R24 -> 0 | U24: =$F24*$I$3*$K$3*$M$3*$O$3*$Q$3*$S$3*$U$3*T24 -> 0
C25: Mechanische luchtbehandeling
A26: 16 | B26: =B$6&"."&A26 -> 10.16 | C26: Onderhoud / inspectie stoombevochtiger | D26: stuks | E26: 11 | F26: 0 | G26: =E26*F26 -> 0 | H26: 11 | I26: =($F26*$I$3)*H26 -> 0 | J26: 11 | K26: =($F26*$I$3*$K$3)*J26 -> 0 | L26: 11 | M26: =$F26*$I$3*$K$3*$M$3*L26 -> 0 | N26: 11 | O26: =($F26*$I$3*$K$3*$M$3*$O$3)*N26 -> 0 | P26: 11 | Q26: =$F26*$I$3*$K$3*$M$3*$O$3*$Q$3*P26 -> 0 | R26: 11 | S26: =$F26*$I$3*$K$3*$M$3*$O$3*$Q$3*$S$3*R26 -> 0 | T26: 11 | U26: =$F26*$I$3*$K$3*$M$3*$O$3*$Q$3*$S$3*$U$3*T26 -> 0
C27: Klimaatregelinstallatie paragraaf 4.3.9
A28: 17 | B28: =B$6&"."&A28 -> 10.17 | C28: Softwarecontrole 1j | D28: stuks | E28: 11 | F28: 0 | G28: =E28*F28 -> 0 | H28: 11 | I28: =($F28*$I$3)*H28 -> 0 | J28: 11 | K28: =($F28*$I$3*$K$3)*J28 -> 0 | L28: 11 | M28: =$F28*$I$3*$K$3*$M$3*L28 -> 0 | N28: 11 | O28: =($F28*$I$3*$K$3*$M$3*$O$3)*N28 -> 0 | P28: 11 | Q28: =$F28*$I$3*$K$3*$M$3*$O$3*$Q$3*P28 -> 0 | R28: 11 | S28: =$F28*$I$3*$K$3*$M$3*$O$3*$Q$3*$S$3*R28 -> 0 | T28: 11 | U28: =$F28*$I$3*$K$3*$M$3*$O$3*$Q$3*$S$3*$U$3*T28 -> 0
A29: 18 | B29: =B$6&"."&A29 -> 10.18 | C29: Onderhoud klimaatregelinstallatie 1j | D29: stuks | E29: 11 | F29: 0 | G29: =E29*F29 -> 0 | H29: 11 | I29: =($F29*$I$3)*H29 -> 0 | J29: 11 | K29: =($F29*$I$3*$K$3)*J29 -> 0 | L29: 11 | M29: =$F29*$I$3*$K$3*$M$3*L29 -> 0 | N29: 11 | O29: =($F29*$I$3*$K$3*$M$3*$O$3)*N29 -> 0 | P29: 11 | Q29: =$F29*$I$3*$K$3*$M$3*$O$3*$Q$3*P29 -> 0 | R29: 11 | S29: =$F29*$I$3*$K$3*$M$3*$O$3*$Q$3*$S$3*R29 -> 0 | T29: 11 | U29: =$F29*$I$3*$K$3*$M$3*$O$3*$Q$3*$S$3*$U$3*T29 -> 0
A30: 19 | B30: =B$6&"."&A30 -> 10.19 | C30: Onderhoud klimaatregelinstallatie 4j vervangen back-up accu | D30: stuks | E30: 0 | F30: 0 | G30: =E30*F30 -> 0 | H30: 11 | I30: =($F30*$I$3)*H30 -> 0 | J30: 0 | K30: =($F30*$I$3*$K$3)*J30 -> 0 | L30: 0 | M30: =$F30*$I$3*$K$3*$M$3*L30 -> 0 | N30: 0 | O30: =($F30*$I$3*$K$3*$M$3*$O$3)*N30 -> 0 | P30: 11 | Q30: =$F30*$I$3*$K$3*$M$3*$O$3*$Q$3*P30 -> 0 | R30: 0 | S30: =$F30*$I$3*$K$3*$M$3*$O$3*$Q$3*$S$3*R30 -> 0 | T30: 0 | U30: =$F30*$I$3*$K$3*$M$3*$O$3*$Q$3*$S$3*$U$3*T30 -> 0
C31: Brandwerende doorvoeringen paragraaf 4.3.3
A32: 20 | B32: =B$6&"."&A32 -> 10.20 | C32: Visuele inspectie brandwerende doorvoeringen | D32: Ruimte | E32: 10 | F32: 0 | G32: =E32*F32 -> 0 | H32: 10 | I32: =($F32*$I$3)*H32 -> 0 | J32: 10 | K32: =($F32*$I$3*$K$3)*J32 -> 0 | L32: 10 | M32: =$F32*$I$3*$K$3*$M$3*L32 -> 0 | N32: 10 | O32: =($F32*$I$3*$K$3*$M$3*$O$3)*N32 -> 0 | P32: 10 | Q32: =$F32*$I$3*$K$3*$M$3*$O$3*$Q$3*P32 -> 0 | R32: 10 | S32: =$F32*$I$3*$K$3*$M$3*$O$3*$Q$3*$S$3*R32 -> 0 | T32: 10 | U32: =$F32*$I$3*$K$3*$M$3*$O$3*$Q$3*$S$3*$U$3*T32 -> 0
C33: Aardings- en Bliksembeveiligingsinstallaties paragraaf 4.3.2
A34: 21 | B34: =B$6&"."&A34 -> 10.21 | C34: Periodiek Inspectie geleidende vloer per ruimte incl. opstellen rapport | D34: Ruimte | E34: 13 | F34: 0 | G34: =E34*F34 -> 0 | H34: 13 | I34: =($F34*$I$3)*H34 -> 0 | J34: 13 | K34: =($F34*$I$3*$K$3)*J34 -> 0 | L34: 13 | M34: =$F34*$I$3*$K$3*$M$3*L34 -> 0 | N34: 13 | O34: =($F34*$I$3*$K$3*$M$3*$O$3)*N34 -> 0 | P34: 13 | Q34: =$F34*$I$3*$K$3*$M$3*$O$3*$Q$3*P34 -> 0 | R34: 13 | S34: =$F34*$I$3*$K$3*$M$3*$O$3*$Q$3*$S$3*R34 -> 0 | T34: 13 | U34: =$F34*$I$3*$K$3*$M$3*$O$3*$Q$3*$S$3*$U$3*T34 -> 0
A35: 22 | B35: =B$6&"."&A35 -> 10.22 | C35: Periodiek Inspectie statische aardstrip/aardrail en aardpunten per ruimte inclusief opstellen rapporten. | D35: Ruimte | E35: 26 | F35: 0 | G35: =E35*F35 -> 0 | H35: 26 | I35: =($F35*$I$3)*H35 -> 0 | J35: 26 | K35: =($F35*$I$3*$K$3)*J35 -> 0 | L35: 26 | M35: =$F35*$I$3*$K$3*$M$3*L35 -> 0 | N35: 26 | O35: =($F35*$I$3*$K$3*$M$3*$O$3)*N35 -> 0 | P35: 26 | Q35: =$F35*$I$3*$K$3*$M$3*$O$3*$Q$3*P35 -> 0 | R35: 26 | S35: =$F35*$I$3*$K$3*$M$3*$O$3*$Q$3*$S$3*R35 -> 0 | T35: 26 | U35: =$F35*$I$3*$K$3*$M$3*$O$3*$Q$3*$S$3*$U$3*T35 -> 0
C36: Periodieke inspecties laagspanning paragraaf 4.3.4
A37: 23 | B37: =B$6&"."&A37 -> 10.23 | C37: Periodieke inspectie elektrische installatie 1j | D37: Ruimte | E37: 21 | F37: 0 | G37: =E37*F37 -> 0 | H37: 0 | I37: =($F37*$I$3)*H37 -> 0 | J37: 21 | K37: =($F37*$I$3*$K$3)*J37 -> 0 | L37: 21 | M37: =$F37*$I$3*$K$3*$M$3*L37 -> 0 | N37: 21 | O37: =($F37*$I$3*$K$3*$M$3*$O$3)*N37 -> 0 | P37: 0 | Q37: =$F37*$I$3*$K$3*$M$3*$O$3*$Q$3*P37 -> 0 | R37: 21 | S37: =$F37*$I$3*$K$3*$M$3*$O$3*$Q$3*$S$3*R37 -> 0 | T37: 21 | U37: =$F37*$I$3*$K$3*$M$3*$O$3*$Q$3*$S$3*$U$3*T37 -> 0
A38: 24 | B38: =B$6&"."&A38 -> 10.24 | C38: Periodieke inspectie elektrische installatie 4j | D38: Ruimte | E38: 0 | F38: 0 | G38: =E38*F38 -> 0 | H38: 21 | I38: =($F38*$I$3)*H38 -> 0 | J38: 0 | K38: =($F38*$I$3*$K$3)*J38 -> 0 | L38: 0 | M38: =$F38*$I$3*$K$3*$M$3*L38 -> 0 | N38: 0 | O38: =($F38*$I$3*$K$3*$M$3*$O$3)*N38 -> 0 | P38: 21 | Q38: =$F38*$I$3*$K$3*$M$3*$O$3*$Q$3*P38 -> 0 | R38: 0 | S38: =$F38*$I$3*$K$3*$M$3*$O$3*$Q$3*$S$3*R38 -> 0 | T38: 0 | U38: =$F38*$I$3*$K$3*$M$3*$O$3*$Q$3*$S$3*$U$3*T38 -> 0
C39: Noodverlichtingsinstallaties paragraaf 4.3.5
A40: 25 | B40: =B$6&"."&A40 -> 10.25 | C40: Periodieke inspectie en onderhoud noodverlichting 1j, decentrale noodverliching per ruimte met 1 t/ m 10 armaturen | D40: Ruimte | E40: 17 | F40: 0 | G40: =E40*F40 -> 0 | H40: 21 | I40: =($F40*$I$3)*H40 -> 0 | J40: 21 | K40: =($F40*$I$3*$K$3)*J40 -> 0 | L40: 21 | M40: =$F40*$I$3*$K$3*$M$3*L40 -> 0 | N40: 21 | O40: =($F40*$I$3*$K$3*$M$3*$O$3)*N40 -> 0 | P40: 21 | Q40: =$F40*$I$3*$K$3*$M$3*$O$3*$Q$3*P40 -> 0 | R40: 21 | S40: =$F40*$I$3*$K$3*$M$3*$O$3*$Q$3*$S$3*R40 -> 0 | T40: 21 | U40: =$F40*$I$3*$K$3*$M$3*$O$3*$Q$3*$S$3*$U$3*T40 -> 0
C41: Koelinstallatie paragraaf 4.3.9
A42: 26 | B42: =B$6&"."&A42 -> 10.26 | C42: Onderhoud computerkoeling < 5 ton CO2 1j | D42: stuks | E42: 21 | F42: 0 | G42: =E42*F42 -> 0 | H42: 17 | I42: =($F42*$I$3)*H42 -> 0 | J42: 17 | K42: =($F42*$I$3*$K$3)*J42 -> 0 | L42: 17 | M42: =$F42*$I$3*$K$3*$M$3*L42 -> 0 | N42: 17 | O42: =($F42*$I$3*$K$3*$M$3*$O$3)*N42 -> 0 | P42: 17 | Q42: =$F42*$I$3*$K$3*$M$3*$O$3*$Q$3*P42 -> 0 | R42: 17 | S42: =$F42*$I$3*$K$3*$M$3*$O$3*$Q$3*$S$3*R42 -> 0 | T42: 17 | U42: =$F42*$I$3*$K$3*$M$3*$O$3*$Q$3*$S$3*$U$3*T42 -> 0
A43: 27 | B43: =B$6&"."&A43 -> 10.27 | C43: Controle lekdetectiesysteem computerkoeling 1j | D43: stuks | E43: 21 | F43: 0 | G43: =E43*F43 -> 0 | H43: 17 | I43: =($F43*$I$3)*H43 -> 0 | J43: 17 | K43: =($F43*$I$3*$K$3)*J43 -> 0 | L43: 17 | M43: =$F43*$I$3*$K$3*$M$3*L43 -> 0 | N43: 17 | O43: =($F43*$I$3*$K$3*$M$3*$O$3)*N43 -> 0 | P43: 17 | Q43: =$F43*$I$3*$K$3*$M$3*$O$3*$Q$3*P43 -> 0 | R43: 17 | S43: =$F43*$I$3*$K$3*$M$3*$O$3*$Q$3*$S$3*R43 -> 0 | T43: 17 | U43: =$F43*$I$3*$K$3*$M$3*$O$3*$Q$3*$S$3*$U$3*T43 -> 0
A44: 28 | B44: =B$6&"."&A44 -> 10.28 | C44: Periodieke herkeuring drukapparatuur 4j of 6 j | D44: stuks | E44: 2 | F44: 0 | G44: =E44*F44 -> 0 | H44: 2 | I44: =($F44*$I$3)*H44 -> 0 | J44: 2 | K44: =($F44*$I$3*$K$3)*J44 -> 0 | L44: 2 | M44: =$F44*$I$3*$K$3*$M$3*L44 -> 0 | N44: 2 | O44: =($F44*$I$3*$K$3*$M$3*$O$3)*N44 -> 0 | P44: 2 | Q44: =$F44*$I$3*$K$3*$M$3*$O$3*$Q$3*P44 -> 0 | R44: 2 | S44: =$F44*$I$3*$K$3*$M$3*$O$3*$Q$3*$S$3*R44 -> 0 | T44: 2 | U44: =$F44*$I$3*$K$3*$M$3*$O$3*$Q$3*$S$3*$U$3*T44 -> 0
A45: 29 | B45: =B$6&"."&A45 -> 10.29 | C45: PED bepaling Paragraaf 4.5.10.1 t/m 4.5.10.4 | D45: stuks | E45: 21 | F45: 0 | G45: =E45*F45 -> 0 | H45: 2 | I45: =($F45*$I$3)*H45 -> 0 | J45: 2 | K45: =($F45*$I$3*$K$3)*J45 -> 0 | L45: 2 | M45: =$F45*$I$3*$K$3*$M$3*L45 -> 0 | N45: 2 | O45: =($F45*$I$3*$K$3*$M$3*$O$3)*N45 -> 0 | P45: 2 | Q45: =$F45*$I$3*$K$3*$M$3*$O$3*$Q$3*P45 -> 0 | R45: 2 | S45: =$F45*$I$3*$K$3*$M$3*$O$3*$Q$3*$S$3*R45 -> 0 | T45: 2 | U45: =$F45*$I$3*$K$3*$M$3*$O$3*$Q$3*$S$3*$U$3*T45 -> 0
C46: Implementatie vergoeding hoofdstuk 6
A47: 30 | B47: =B$6&"."&A47 -> 10.30 | C47: Implementatie vergoeding | D47: stuks | E47: 1 | F47: 25000 | G47: =E47*F47 -> 25000 | H47: 0 | I47: =($F47*$I$3)*H47 -> 0 | J47: 0 | K47: =($F47*$I$3*$K$3)*J47 -> 0 | L47: 0 | M47: =$F47*$I$3*$K$3*$M$3*L47 -> 0 | N47: 0 | O47: =($F47*$I$3*$K$3*$M$3*$O$3)*N47 -> 0 | P47: 0 | Q47: =$F47*$I$3*$K$3*$M$3*$O$3*$Q$3*P47 -> 0 | R47: 0 | S47: =$F47*$I$3*$K$3*$M$3*$O$3*$Q$3*$S$3*R47 -> 0 | T47: 0 | U47: =$F47*$I$3*$K$3*$M$3*$O$3*$Q$3*$S$3*$U$3*T47 -> 0
B48: 15 | C48: ABDO kosten paragraaf 4.2.1
A49: 1 | B49: =B$48&"."&A49 -> 15.1 | C49: Screening bedrijf | D49: stuks | E49: 1 | F49: 10000 | G49: =E49*F49 -> 10000 | H49: 0 | I49: =($F49*$I$3)*H49 -> 0 | J49: 0 | K49: =($F49*$I$3*$K$3)*J49 -> 0 | L49: 0 | M49: =$F49*$I$3*$K$3*$M$3*L49 -> 0 | N49: 0 | O49: =($F49*$I$3*$K$3*$M$3*$O$3)*N49 -> 0 | P49: 0 | Q49: =$F49*$I$3*$K$3*$M$3*$O$3*$Q$3*P49 -> 0 | R49: 0 | S49: =$F49*$I$3*$K$3*$M$3*$O$3*$Q$3*$S$3*R49 -> 0 | T49: 0 | U49: =$F49*$I$3*$K$3*$M$3*$O$3*$Q$3*$S$3*$U$3*T49 -> 0
A50: 2 | B50: =B$48&"."&A50 -> 15.2 | C50: Screening medewerker MIVD C | D50: stuks | E50: 28 | F50: 0 | G50: =E50*F50 -> 0 | H50: 0 | I50: =($F50*$I$3)*H50 -> 0 | J50: 0 | K50: =($F50*$I$3*$K$3)*J50 -> 0 | L50: 0 | M50: =$F50*$I$3*$K$3*$M$3*L50 -> 0 | N50: 0 | O50: =($F50*$I$3*$K$3*$M$3*$O$3)*N50 -> 0 | P50: 0 | Q50: =$F50*$I$3*$K$3*$M$3*$O$3*$Q$3*P50 -> 0 | R50: 0 | S50: =$F50*$I$3*$K$3*$M$3*$O$3*$Q$3*$S$3*R50 -> 0 | T50: 0 | U50: =$F50*$I$3*$K$3*$M$3*$O$3*$Q$3*$S$3*$U$3*T50 -> 0
A51: 3 | B51: =B$48&"."&A51 -> 15.3 | C51: Screening medewerker MIVD B | D51: stuks | E51: 2 | F51: 0 | G51: =E51*F51 -> 0 | H51: 0 | I51: =($F51*$I$3)*H51 -> 0 | J51: 0 | K51: =($F51*$I$3*$K$3)*J51 -> 0 | L51: 0 | M51: =$F51*$I$3*$K$3*$M$3*L51 -> 0 | N51: 0 | O51: =($F51*$I$3*$K$3*$M$3*$O$3)*N51 -> 0 | P51: 0 | Q51: =$F51*$I$3*$K$3*$M$3*$O$3*$Q$3*P51 -> 0 | R51: 0 | S51: =$F51*$I$3*$K$3*$M$3*$O$3*$Q$3*$S$3*R51 -> 0 | T51: 0 | U51: =$F51*$I$3*$K$3*$M$3*$O$3*$Q$3*$S$3*$U$3*T51 -> 0
A52: 4 | B52: =B$48&"."&A52 -> 15.4 | C52: LT met software | D52: stuks | E52: 2 | F52: =1.15*2500 -> 2875 | G52: =E52*F52 -> 5750 | H52: 0 | I52: =($F52*$I$3)*H52 -> 0 | J52: 0 | K52: =($F52*$I$3*$K$3)*J52 -> 0 | L52: 0 | M52: =$F52*$I$3*$K$3*$M$3*L52 -> 0 | N52: 0 | O52: =($F52*$I$3*$K$3*$M$3*$O$3)*N52 -> 0 | P52: 0 | Q52: =$F52*$I$3*$K$3*$M$3*$O$3*$Q$3*P52 -> 0 | R52: 0 | S52: =$F52*$I$3*$K$3*$M$3*$O$3*$Q$3*$S$3*R52 -> 0 | T52: 0 | U52: =$F52*$I$3*$K$3*$M$3*$O$3*$Q$3*$S$3*$U$3*T52 -> 0
A53: 5 | B53: =B$48&"."&A53 -> 15.5 | C53: Maken beveiliginsplan | D53: stuks | E53: 1 | F53: =1.15*2000 -> 2300 | G53: =E53*F53 -> 2300 | H53: 0 | I53: =($F53*$I$3)*H53 -> 0 | J53: 0 | K53: =($F53*$I$3*$K$3)*J53 -> 0 | L53: 0 | M53: =$F53*$I$3*$K$3*$M$3*L53 -> 0 | N53: 0 | O53: =($F53*$I$3*$K$3*$M$3*$O$3)*N53 -> 0 | P53: 0 | Q53: =$F53*$I$3*$K$3*$M$3*$O$3*$Q$3*P53 -> 0 | R53: 0 | S53: =$F53*$I$3*$K$3*$M$3*$O$3*$Q$3*$S$3*R53 -> 0 | T53: 0 | U53: =$F53*$I$3*$K$3*$M$3*$O$3*$Q$3*$S$3*$U$3*T53 -> 0
C54: Beveiligingsfunctionaris paragraaf 4.2.1
A55: 4 | B55: =B$48&"."&A55 -> 15.4 | C55: Uurtarief op werkdagen van 06:00 tot 18:00 uur | D55: uur | E55: 0 | F55: 0 | G55: =E55*F55 -> 0 | H55: 20 | I55: =($F55*$I$3)*H55 -> 0 | J55: 20 | K55: =($F55*$I$3*$K$3)*J55 -> 0 | L55: 20 | M55: =$F55*$I$3*$K$3*$M$3*L55 -> 0 | N55: 20 | O55: =($F55*$I$3*$K$3*$M$3*$O$3)*N55 -> 0 | P55: 20 | Q55: =$F55*$I$3*$K$3*$M$3*$O$3*$Q$3*P55 -> 0 | R55: 20 | S55: =$F55*$I$3*$K$3*$M$3*$O$3*$Q$3*$S$3*R55 -> 0 | T55: 20 | U55: =$F55*$I$3*$K$3*$M$3*$O$3*$Q$3*$S$3*$U$3*T55 -> 0
D56: Preventief Onderhoud | G56: =SUM(G8:G55) -> 43050 | I56: =SUM(I8:I55) -> 0 | K56: =SUM(K8:K55) -> 0 | M56: =SUM(M8:M55) -> 0 | O56: =SUM(O8:O55) -> 0 | Q56: =SUM(Q8:Q55) -> 0 | S56: =SUM(S8:S55) -> 0 | U56: =SUM(U8:U55) -> 0
B57: 20 | C57: Uurtarief voor het herstellen van Manco's. | E57: uren
C58: Begeleiden medewerkers onderaannemers
A59: 1 | B59: =B$57&"."&A59 -> 20.1 | C59: Uurtarief op werkdagen van 06:00 tot 18:00 uur | D59: uur | E59: 60 | F59: 0 | G59: =E59*F59 -> 0 | H59: 60 | I59: =($F59*$I$3)*H59 -> 0 | J59: 60 | K59: =($F59*$I$3*$K$3)*J59 -> 0 | L59: 60 | M59: =$F59*$I$3*$K$3*$M$3*L59 -> 0 | N59: 60 | O59: =($F59*$I$3*$K$3*$M$3*$O$3)*N59 -> 0 | P59: 60 | Q59: =$F59*$I$3*$K$3*$M$3*$O$3*$Q$3*P59 -> 0 | R59: 60 | S59: =$F59*$I$3*$K$3*$M$3*$O$3*$Q$3*$S$3*R59 -> 0 | T59: 60 | U59: =$F59*$I$3*$K$3*$M$3*$O$3*$Q$3*$S$3*$U$3*T59 -> 0
C60: Laagspannings, BMI en koel technicus.
A61: 2 | B61: =B$57&"."&A61 -> 20.2 | C61: Uurtarief op werkdagen van 06:00 tot 18:00 uur | D61: uur | E61: 160 | F61: 0 | G61: =E61*F61 -> 0 | H61: 160 | I61: =($F61*$I$3)*H61 -> 0 | J61: 160 | K61: =($F61*$I$3*$K$3)*J61 -> 0 | L61: 160 | M61: =$F61*$I$3*$K$3*$M$3*L61 -> 0 | N61: 160 | O61: =($F61*$I$3*$K$3*$M$3*$O$3)*N61 -> 0 | P61: 160 | Q61: =$F61*$I$3*$K$3*$M$3*$O$3*$Q$3*P61 -> 0 | R61: 160 | S61: =$F61*$I$3*$K$3*$M$3*$O$3*$Q$3*$S$3*R61 -> 0 | T61: 160 | U61: =$F61*$I$3*$K$3*$M$3*$O$3*$Q$3*$S$3*$U$3*T61 -> 0
A62: 3 | B62: =B$57&"."&A62 -> 20.3 | C62: Toeslag op uurtarief van 20.2 voor werk op werkdagen van 18:00 tot 06:00 uur (maximaal 15%) | D62: % | E62: 3 | F62: 0.1 | G62: =$F$61*$E62*F62 -> 0 | H62: 3 | I62: =($F61*$F62)*H62*$I$3 -> 0 | J62: 3 | K62: =($F$61*$F62)*J62*$I$3*J63*$K$3 -> 0 | L62: 3 | M62: =($F$61*$F62)*L62*$I$3*L63*$K$3*$M$3 -> 0 | N62: 3 | O62: =($F$61*$F62)*N62*$I$3*N63*$K$3*$M$3*$O$3 -> 0 | P62: 3 | Q62: =($F$61*$F62)*P62*$I$3*P63*$K$3*$M$3*$O$3*$Q$3 -> 0 | R62: 3 | S62: =($F$61*$F62)*R62*$I$3*R63*$K$3*$M$3*$O$3*$Q$3*$S$3 -> 0 | T62: 3 | U62: =($F$61*$F62)*T62*$I$3*T63*$K$3*$M$3*$O$3*$Q$3*$S$3*$U$3 -> 0
A63: =A62+1 -> 4 | B63: =B$57&"."&A63 -> 20.4 | C63: Toeslag op uurtarief van 20.2 voor werk op zaterdag (maximaal 25%) | D63: % | E63: 2 | F63: 0.2 | G63: =$F$61*$E63*F63 -> 0 | H63: 2 | I63: =($F$61*$F63)*H63*$I$3 -> 0 | J63: 2 | K63: =($F$61*$F63)*J63*$I$3*J64*$K$3 -> 0 | L63: 2 | M63: =($F$61*$F63)*L63*$I$3*L64*$K$3*$M$3 -> 0 | N63: 2 | O63: =($F$61*$F63)*N63*$I$3*N64*$K$3*$M$3*$O$3 -> 0 | P63: 2 | Q63: =($F$61*$F63)*P63*$I$3*P64*$K$3*$M$3*$O$3*$Q$3 -> 0 | R63: 2 | S63: =($F$61*$F63)*R63*$I$3*R64*$K$3*$M$3*$O$3*$Q$3*$S$3 -> 0 | T63: 2 | U63: =($F$61*$F63)*T63*$I$3*T64*$K$3*$M$3*$O$3*$Q$3*$S$3*$U$3 -> 0
A64: =A63+1 -> 5 | B64: =B$57&"."&A64 -> 20.5 | C64: Toeslag op uurtarief van 20.2 voor werk op zon- en feestdagen (maximaal 35%) | D64: % | E64: 1 | F64: 0.3 | G64: =$F$61*$E64*F64 -> 0 | H64: 1 | I64: =($F$61*$F64)*H64*I$3 -> 0 | J64: 1 | K64: =($F$61*$F64)*J64*$I$3*$K$3 -> 0 | L64: 1 | M64: =($F$61*$F64)*L64*$I$3*$K$3*$M$3 -> 0 | N64: 1 | O64: =($F$61*$F64)*N64*$I$3*$K$3*$M$3*$O$3 -> 0 | P64: 1 | Q64: =($F$61*$F64)*P64*$I$3*$K$3*$M$3*$O$3*$Q$3 -> 0 | R64: 1 | S64: =($F$61*$F64)*R64*$I$3*$K$3*$M$3*$O$3*$Q$3*$S$3 -> 0 | T64: 1 | U64: =($F$61*$F64)*T64*$I$3*$K$3*$M$3*$O$3*$Q$3*$S$3*$U$3 -> 0
C65: Technicus Noodstroominstallaties
A66: =A64+1 -> 6 | B66: =B$57&"."&A66 -> 20.6 | C66: Uurtarief op werkdagen van 06:00 tot 18:00 uur | D66: uur | E66: 75 | F66: 0 | G66: =E66*F66 -> 0 | H66: 75 | I66: =($F66*$I$3)*H66 -> 0 | J66: 75 | K66: =($F66*$I$3*$K$3)*J66 -> 0 | L66: 75 | M66: =$F66*$I$3*$K$3*$M$3*L66 -> 0 | N66: 75 | O66: =($F66*$I$3*$K$3*$M$3*$O$3)*N66 -> 0 | P66: 75 | Q66: =$F66*$I$3*$K$3*$M$3*$O$3*$Q$3*P66 -> 0 | R66: 75 | S66: =$F66*$I$3*$K$3*$M$3*$O$3*$Q$3*$S$3*R66 -> 0 | T66: 75 | U66: =$F66*$I$3*$K$3*$M$3*$O$3*$Q$3*$S$3*$U$3*T66 -> 0
A67: =A66+1 -> 7 | B67: =B$57&"."&A67 -> 20.7 | C67: Toeslag op uurtarief van 20.2 voor werk op werkdagen van 18:00 tot 06:00 uur (maximaal 15%) | D67: % | E67: 3 | F67: 0.1 | G67: =$F$66*F67*E67 -> 0 | H67: 3 | I67: =($F66*$F67)*H67*$I$3 -> 0 | J67: 3 | K67: =($F66*$F67)*J67*$I$3*J68*$K$3 -> 0 | L67: 3 | M67: =($F66*$F67)*L67*$I$3*L68*$K$3*$M$3 -> 0 | N67: 3 | O67: =($F66*$F67)*N67*$I$3*N68*$K$3*$M$3*$O$3 -> 0 | P67: 3 | Q67: =($F66*$F67)*P67*$I$3*P68*$K$3*$M$3*$O$3*$Q$3 -> 0 | R67: 3 | S67: =($F66*$F67)*R67*$I$3*R68*$K$3*$M$3*$O$3*$Q$3*$S$3 -> 0 | T67: 3 | U67: =($F66*$F67)*T67*$I$3*T68*$K$3*$M$3*$O$3*$Q$3*$S$3*$U$3 -> 0
A68: =A67+1 -> 8 | B68: =B$57&"."&A68 -> 20.8 | C68: Toeslag op uurtarief van 20.2 voor werk op zaterdag (maximaal 25%) | D68: % | E68: 3 | F68: 0.2 | G68: =$F$66*F68*E68 -> 0 | H68: 3 | I68: =($F66*$F68)*H68*$I$3 -> 0 | J68: 3 | K68: =($F66*$F68)*J68*$I$3*J69*$K$3 -> 0 | L68: 3 | M68: =($F66*$F68)*L68*$I$3*L69*$K$3*$M$3 -> 0 | N68: 3 | O68: =($F66*$F68)*N68*$I$3*N69*$K$3*$M$3*$O$3 -> 0 | P68: 3 | Q68: =($F66*$F68)*P68*$I$3*P69*$K$3*$M$3*$O$3*$Q$3 -> 0 | R68: 3 | S68: =($F66*$F68)*R68*$I$3*R69*$K$3*$M$3*$O$3*$Q$3*$S$3 -> 0 | T68: 3 | U68: =($F66*$F68)*T68*$I$3*T69*$K$3*$M$3*$O$3*$Q$3*$S$3*$U$3 -> 0
A69: =A68+1 -> 9 | B69: =B$57&"."&A69 -> 20.9 | C69: Toeslag op uurtarief van 20.2 voor werk op zon- en feestdagen (maximaal 35%) | D69: % | E69: 1 | F69: 0.3 | G69: =$F$66*F69*E69 -> 0 | H69: 1 | I69: =($F66*$F69)*H69*I$3 -> 0 | J69: 1 | K69: =($F66*$F69)*J69*$I$3*$K$3 -> 0 | L69: 1 | M69: =($F66*$F69)*L69*$I$3*$K$3*$M$3 -> 0 | N69: 1 | O69: =($F66*$F69)*N69*$I$3*$K$3*$M$3*$O$3 -> 0 | P69: 1 | Q69: =($F66*$F69)*P69*$I$3*$K$3*$M$3*$O$3*$Q$3 -> 0 | R69: 1 | S69: =($F66*$F69)*R69*$I$3*$K$3*$M$3*$O$3*$Q$3*$S$3 -> 0 | T69: 1 | U69: =($F66*$F69)*T69*$I$3*$K$3*$M$3*$O$3*$Q$3*$S$3*$U$3 -> 0
B70: 25 | C70: Uurlonen voor extra werkzaamheden klimaatregelinstallaties
A71: =A70+1 -> 1 | B71: =B$70&"."&A71 -> 25.1 | C71: Uurtarief servicetechnicus meet-en regeltechniek (MRK-A en MRK-B) op werkdagen van 06:00 tot 18:00 | D71: uur | E71: 16 | F71: 0 | G71: =E71*F71 -> 0 | H71: 16 | I71: =($F71*$I$3)*H71 -> 0 | J71: 16 | K71: =($F71*$I$3*$K$3)*J71 -> 0 | L71: 16 | M71: =$F71*$I$3*$K$3*$M$3*L71 -> 0 | N71: 16 | O71: =($F71*$I$3*$K$3*$M$3*$O$3)*N71 -> 0 | P71: 16 | Q71: =$F71*$I$3*$K$3*$M$3*$O$3*$Q$3*P71 -> 0 | R71: 16 | S71: =$F71*$I$3*$K$3*$M$3*$O$3*$Q$3*$S$3*R71 -> 0 | T71: 16 | U71: =$F71*$I$3*$K$3*$M$3*$O$3*$Q$3*$S$3*$U$3*T71 -> 0
B72: 30 | C72: Uurtarief voor het herstellen van storingen
C73: Laagspannings, BMI en koel technicus.
A74: =A73+1 -> 1 | B74: =B$72&"."&A74 -> 30.1 | C74: Uurtarief op werkdagen van 06:00 tot 18:00 uur | D74: uur | E74: 26 | F74: 0 | G74: =E74*F74 -> 0 | H74: 26 | I74: =($F74*$I$3)*H74 -> 0 | J74: 26 | K74: =($F74*$I$3*$K$3)*J74 -> 0 | L74: 26 | M74: =$F74*$I$3*$K$3*$M$3*L74 -> 0 | N74: 26 | O74: =($F74*$I$3*$K$3*$M$3*$O$3)*N74 -> 0 | P74: 26 | Q74: =$F74*$I$3*$K$3*$M$3*$O$3*$Q$3*P74 -> 0 | R74: 26 | S74: =$F74*$I$3*$K$3*$M$3*$O$3*$Q$3*$S$3*R74 -> 0 | T74: 26 | U74: =$F74*$I$3*$K$3*$M$3*$O$3*$Q$3*$S$3*$U$3*T74 -> 0
A75: =A74+1 -> 2 | B75: =B$72&"."&A75 -> 30.2 | C75: Toeslag op uurtarief van 20.2 voor werk op werkdagen van 18:00 tot 06:00 uur (maximaal 15%) | D75: % | E75: 8 | F75: 0.15 | G75: =$F$74*F75*E75 -> 0 | H75: 8 | I75: =($F74*$F75)*H75*$I$3 -> 0 | J75: 8 | K75: =($F74*$F75)*J75*$I$3*J76*$K$3 -> 0 | L75: 8 | M75: =($F74*$F75)*L75*$I$3*L76*$K$3*$M$3 -> 0 | N75: 8 | O75: =($F74*$F75)*N75*$I$3*N76*$K$3*$M$3*$O$3 -> 0 | P75: 8 | Q75: =($F74*$F75)*P75*$I$3*P76*$K$3*$M$3*$O$3*$Q$3 -> 0 | R75: 8 | S75: =($F74*$F75)*R75*$I$3*R76*$K$3*$M$3*$O$3*$Q$3*$S$3 -> 0 | T75: 8 | U75: =($F74*$F75)*T75*$I$3*T76*$K$3*$M$3*$O$3*$Q$3*$S$3*$U$3 -> 0
A76: =A75+1 -> 3 | B76: =B$72&"."&A76 -> 30.3 | C76: Toeslag op uurtarief van 20.2 voor werk op zaterdag (maximaal 25%) | D76: % | E76: 4 | F76: 0.25 | G76: =$F$74*F76*E76 -> 0 | H76: 4 | I76: =($F74*$F76)*H76*$I$3 -> 0 | J76: 4 | K76: =($F74*$F76)*J76*$I$3*J77*$K$3 -> 0 | L76: 4 | M76: =($F74*$F76)*L76*$I$3*L77*$K$3*$M$3 -> 0 | N76: 4 | O76: =($F74*$F76)*N76*$I$3*N77*$K$3*$M$3*$O$3 -> 0 | P76: 4 | Q76: =($F74*$F76)*P76*$I$3*P77*$K$3*$M$3*$O$3*$Q$3 -> 0 | R76: 4 | S76: =($F74*$F76)*R76*$I$3*R77*$K$3*$M$3*$O$3*$Q$3*$S$3 -> 0 | T76: 4 | U76: =($F74*$F76)*T76*$I$3*T77*$K$3*$M$3*$O$3*$Q$3*$S$3*$U$3 -> 0
A77: =A76+1 -> 4 | B77: =B$72&"."&A77 -> 30.4 | C77: Toeslag op uurtarief van 20.2 voor werk op zon- en feestdagen (maximaal 35%) | D77: % | E77: 2 | F77: 0.35 | G77: =$F$74*F77*E77 -> 0 | H77: 2 | I77: =($F74*$F77)*H77*I$3 -> 0 | J77: 2 | K77: =($F74*$F77)*J77*$I$3*$K$3 -> 0 | L77: 2 | M77: =($F74*$F77)*L77*$I$3*$K$3*$M$3 -> 0 | N77: 2 | O77: =($F74*$F77)*N77*$I$3*$K$3*$M$3*$O$3 -> 0 | P77: 2 | Q77: =($F74*$F77)*P77*$I$3*$K$3*$M$3*$O$3*$Q$3 -> 0 | R77: 2 | S77: =($F74*$F77)*R77*$I$3*$K$3*$M$3*$O$3*$Q$3*$S$3 -> 0 | T77: 2 | U77: =($F74*$F77)*T77*$I$3*$K$3*$M$3*$O$3*$Q$3*$S$3*$U$3 -> 0
B78: 45 | C78: Noodstroominstallaties
A79: 5 | B79: =B$72&"."&A79 -> 30.5 | C79: Uurtarief op werkdagen van 06:00 tot 18:00 uur | D79: uur | E79: 26 | F79: 0 | G79: =E79*F79 -> 0 | H79: 26 | I79: =($F79*$I$3)*H79 -> 0 | J79: 26 | K79: =($F79*$I$3*$K$3)*J79 -> 0 | L79: 26 | M79: =$F79*$I$3*$K$3*$M$3*L79 -> 0 | N79: 26 | O79: =($F79*$I$3*$K$3*$M$3*$O$3)*N79 -> 0 | P79: 26 | Q79: =$F79*$I$3*$K$3*$M$3*$O$3*$Q$3*P79 -> 0 | R79: 26 | S79: =$F79*$I$3*$K$3*$M$3*$O$3*$Q$3*$S$3*R79 -> 0 | T79: 26 | U79: =$F79*$I$3*$K$3*$M$3*$O$3*$Q$3*$S$3*$U$3*T79 -> 0
A80: 6 | B80: =B$72&"."&A80 -> 30.6 | C80: Toeslag op uurtarief van 30.1 voor werk op werkdagen van 18:00 tot 06:00 uur (maximaal 15%) | D80: % | E80: 8 | F80: 0.15 | G80: =$F$79*F80*E80 -> 0 | H80: 8 | I80: =($F79*$F80)*H80*$I$3 -> 0 | J80: 8 | K80: =($F79*$F80)*J80*$I$3*J81*$K$3 -> 0 | L80: 8 | M80: =($F79*$F80)*L80*$I$3*L81*$K$3*$M$3 -> 0 | N80: 8 | O80: =($F79*$F80)*N80*$I$3*N81*$K$3*$M$3*$O$3 -> 0 | P80: 8 | Q80: =($F79*$F80)*P80*$I$3*P81*$K$3*$M$3*$O$3*$Q$3 -> 0 | R80: 8 | S80: =($F79*$F80)*R80*$I$3*R81*$K$3*$M$3*$O$3*$Q$3*$S$3 -> 0 | T80: 8 | U80: =($F79*$F80)*T80*$I$3*T81*$K$3*$M$3*$O$3*$Q$3*$S$3*$U$3 -> 0
A81: =A80+1 -> 7 | B81: =B$72&"."&A81 -> 30.7 | C81: Toeslag op uurtarief van 30.1 voor werk op zaterdag (maximaal 25%) | D81: % | E81: 4 | F81: 0.25 | G81: =$F$79*F81*E81 -> 0 | H81: 4 | I81: =($F79*$F81)*H81*$I$3 -> 0 | J81: 4 | K81: =($F79*$F81)*J81*$I$3*J82*$K$3 -> 0 | L81: 4 | M81: =($F79*$F81)*L81*$I$3*L82*$K$3*$M$3 -> 0 | N81: 4 | O81: =($F79*$F81)*N81*$I$3*N82*$K$3*$M$3*$O$3 -> 0 | P81: 4 | Q81: =($F79*$F81)*P81*$I$3*P82*$K$3*$M$3*$O$3*$Q$3 -> 0 | R81: 4 | S81: =($F79*$F81)*R81*$I$3*R82*$K$3*$M$3*$O$3*$Q$3*$S$3 -> 0 | T81: 4 | U81: =($F79*$F81)*T81*$I$3*T82*$K$3*$M$3*$O$3*$Q$3*$S$3*$U$3 -> 0
A82: =A81+1 -> 8 | B82: =B$72&"."&A82 -> 30.8 | C82: Toeslag op uurtarief van 30.1 voor werk op zon- en feestdagen (maximaal 35%) | D82: % | E82: 2 | F82: 0.35 | G82: =$F$79*F82*E82 -> 0 | H82: 2 | I82: =($F79*$F82)*H82*I$3 -> 0 | J82: 2 | K82: =($F79*$F82)*J82*$I$3*$K$3 -> 0 | L82: 2 | M82: =($F79*$F82)*L82*$I$3*$K$3*$M$3 -> 0 | N82: 2 | O82: =($F79*$F82)*N82*$I$3*$K$3*$M$3*$O$3 -> 0 | P82: 2 | Q82: =($F79*$F82)*P82*$I$3*$K$3*$M$3*$O$3*$Q$3 -> 0 | R82: 2 | S82: =($F79*$F82)*R82*$I$3*$K$3*$M$3*$O$3*$Q$3*$S$3 -> 0 | T82: 2 | U82: =($F79*$F82)*T82*$I$3*$K$3*$M$3*$O$3*$Q$3*$S$3*$U$3 -> 0
B83: 45 | C83: Uurtarief projecten | E83: Bruto | H83: Bruto | J83: Bruto | L83: Bruto | N83: Bruto | P83: Bruto | R83: Bruto | T83: Bruto
A84: =A83+1 -> 1 | B84: =B$83&"."&A84 -> 45.1 | C84: Projectleider | D84: uur | E84: 120 | F84: 0 | G84: =E84*F84 -> 0 | H84: 120 | I84: =($F84*$I$3)*H84 -> 0 | J84: 120 | K84: =($F84*$I$3*$K$3)*J84 -> 0 | L84: 120 | M84: =$F84*$I$3*$K$3*$M$3*L84 -> 0 | N84: 120 | O84: =($F84*$I$3*$K$3*$M$3*$O$3)*N84 -> 0 | P84: 120 | Q84: =$F84*$I$3*$K$3*$M$3*$O$3*$Q$3*P84 -> 0 | R84: 120 | S84: =$F84*$I$3*$K$3*$M$3*$O$3*$Q$3*$S$3*R84 -> 0 | T84: 120 | U84: =$F84*$I$3*$K$3*$M$3*$O$3*$Q$3*$S$3*$U$3*T84 -> 0
A85: =A84+1 -> 2 | B85: =B$83&"."&A85 -> 45.2 | C85: Calculator | D85: uur | E85: 40 | F85: 0 | G85: =E85*F85 -> 0 | H85: 40 | I85: =($F85*$I$3)*H85 -> 0 | J85: 40 | K85: =($F85*$I$3*$K$3)*J85 -> 0 | L85: 40 | M85: =$F85*$I$3*$K$3*$M$3*L85 -> 0 | N85: 40 | O85: =($F85*$I$3*$K$3*$M$3*$O$3)*N85 -> 0 | P85: 40 | Q85: =$F85*$I$3*$K$3*$M$3*$O$3*$Q$3*P85 -> 0 | R85: 40 | S85: =$F85*$I$3*$K$3*$M$3*$O$3*$Q$3*$S$3*R85 -> 0 | T85: 40 | U85: =$F85*$I$3*$K$3*$M$3*$O$3*$Q$3*$S$3*$U$3*T85 -> 0
A86: =A85+1 -> 3 | B86: =B$83&"."&A86 -> 45.3 | C86: Engineer | D86: uur | E86: 100 | F86: 0 | G86: =E86*F86 -> 0 | H86: 100 | I86: =($F86*$I$3)*H86 -> 0 | J86: 100 | K86: =($F86*$I$3*$K$3)*J86 -> 0 | L86: 100 | M86: =$F86*$I$3*$K$3*$M$3*L86 -> 0 | N86: 100 | O86: =($F86*$I$3*$K$3*$M$3*$O$3)*N86 -> 0 | P86: 100 | Q86: =$F86*$I$3*$K$3*$M$3*$O$3*$Q$3*P86 -> 0 | R86: 100 | S86: =$F86*$I$3*$K$3*$M$3*$O$3*$Q$3*$S$3*R86 -> 0 | T86: 100 | U86: =$F86*$I$3*$K$3*$M$3*$O$3*$Q$3*$S$3*$U$3*T86 -> 0
A87: =A86+1 -> 4 | B87: =B$83&"."&A87 -> 45.4 | C87: Werkvoorbereider | D87: uur | E87: 100 | F87: 0 | G87: =E87*F87 -> 0 | H87: 100 | I87: =($F87*$I$3)*H87 -> 0 | J87: 100 | K87: =($F87*$I$3*$K$3)*J87 -> 0 | L87: 100 | M87: =$F87*$I$3*$K$3*$M$3*L87 -> 0 | N87: 100 | O87: =($F87*$I$3*$K$3*$M$3*$O$3)*N87 -> 0 | P87: 100 | Q87: =$F87*$I$3*$K$3*$M$3*$O$3*$Q$3*P87 -> 0 | R87: 100 | S87: =$F87*$I$3*$K$3*$M$3*$O$3*$Q$3*$S$3*R87 -> 0 | T87: 100 | U87: =$F87*$I$3*$K$3*$M$3*$O$3*$Q$3*$S$3*$U$3*T87 -> 0
A88: =A87+1 -> 5 | B88: =B$83&"."&A88 -> 45.5 | C88: Tekenaar | D88: uur | E88: 40 | F88: 0 | G88: =E88*F88 -> 0 | H88: 40 | I88: =($F88*$I$3)*H88 -> 0 | J88: 40 | K88: =($F88*$I$3*$K$3)*J88 -> 0 | L88: 40 | M88: =$F88*$I$3*$K$3*$M$3*L88 -> 0 | N88: 40 | O88: =($F88*$I$3*$K$3*$M$3*$O$3)*N88 -> 0 | P88: 40 | Q88: =$F88*$I$3*$K$3*$M$3*$O$3*$Q$3*P88 -> 0 | R88: 40 | S88: =$F88*$I$3*$K$3*$M$3*$O$3*$Q$3*$S$3*R88 -> 0 | T88: 40 | U88: =$F88*$I$3*$K$3*$M$3*$O$3*$Q$3*$S$3*$U$3*T88 -> 0
G89: =SUM(G59:G88) -> 0 | I89: =SUM(I59:I88) -> 0 | K89: =SUM(K59:K88) -> 0 | M89: =SUM(M59:M88) -> 0 | O89: =SUM(O59:O88) -> 0 | Q89: =SUM(Q59:Q88) -> 0 | S89: =SUM(S59:S88) -> 0 | U89: =SUM(U59:U88) -> 0
B90: 60 | C90: Inventarisatie paragraaf 4.6.1
A91: 1 | B91: =B$90&"."&A91 -> 60.1 | C91: Inventarisatie | D91: ruimte | E91: 25 | F91: 0 | G91: =E91*F91 -> 0 | H91: 1 | I91: =($F91*$I$3)*H91 -> 0 | J91: 1 | K91: =($F91*$I$3*$K$3)*J91 -> 0 | L91: 1 | M91: =$F91*$I$3*$K$3*$M$3*L91 -> 0 | N91: 1 | O91: =($F91*$I$3*$K$3*$M$3*$O$3)*N91 -> 0 | P91: 1 | Q91: =$F91*$I$3*$K$3*$M$3*$O$3*$Q$3*P91 -> 0 | R91: 1 | S91: =$F91*$I$3*$K$3*$M$3*$O$3*$Q$3*$S$3*R91 -> 0 | T91: 1 | U91: =$F91*$I$3*$K$3*$M$3*$O$3*$Q$3*$S$3*$U$3*T91 -> 0 | AFC91: =AFC93 -> 0 | AFD91: =AFD93 -> 0 | AFE91: =AFE93 -> 0 | AFF91: =AFF93 -> 0 | AFG91: =AFG93 -> 0 | AFH91: =AFH93 -> 0 | AFI91: =AFI93 -> 0 | AFJ91: =AFJ93 -> 0 | ... XFD91: =XFD93 -> 0
B92: 70 | C92: Nieuwe Logboeken en ruimte dossier NTN paragraaf 4.6.1 en paragraaf 5.8
A93: 1 | B93: =B$92&"."&A93 -> 70.1 | C93: Ruimte dossier NTN | D93: stuks | E93: 5 | F93: 0 | G93: =E93*F93 -> 0 | H93: 5 | I93: =($F93*$I$3)*H93 -> 0 | J93: 5 | K93: =($F93*$I$3*$K$3)*J93 -> 0 | L93: 5 | M93: =$F93*$I$3*$K$3*$M$3*L93 -> 0 | N93: 5 | O93: =($F93*$I$3*$K$3*$M$3*$O$3)*N93 -> 0 | P93: 5 | Q93: =$F93*$I$3*$K$3*$M$3*$O$3*$Q$3*P93 -> 0 | R93: 5 | S93: =$F93*$I$3*$K$3*$M$3*$O$3*$Q$3*$S$3*R93 -> 0 | T93: 5 | U93: =$F93*$I$3*$K$3*$M$3*$O$3*$Q$3*$S$3*$U$3*T93 -> 0
A94: 2 | B94: =B$92&"."&A94 -> 70.2 | C94: Logboek koelinstallatie NTN ruimte | D94: stuks | E94: 5 | F94: 0 | G94: =E94*F95 -> 0 | H94: 5 | I94: =($F95*$I$3)*H94 -> 0 | J94: 5 | K94: =($F94*$I$3*$K$3)*J94 -> 0 | L94: 5 | M94: =$F95*$I$3*$K$3*$M$3*L94 -> 0 | N94: 5 | O94: =($F94*$I$3*$K$3*$M$3*$O$3)*N94 -> 0 | P94: 5 | Q94: =$F94*$I$3*$K$3*$M$3*$O$3*$Q$3*P94 -> 0 | R94: 5 | S94: =$F94*$I$3*$K$3*$M$3*$O$3*$Q$3*$S$3*R94 -> 0 | T94: 5 | U94: =$F94*$I$3*$K$3*$M$3*$O$3*$Q$3*$S$3*$U$3*T94 -> 0
A95: 3 | B95: =B$92&"."&A95 -> 70.3 | C95: Logboek brandwerende doorvoeringen NTN ruimte | D95: stuks | E95: 2 | F95: 0 | G95: =E95*F95 -> 0 | H95: 2 | I95: =($F95*$I$3)*H95 -> 0 | J95: 2 | K95: =($F95*$I$3*$K$3)*J95 -> 0 | L95: 2 | M95: =$F95*$I$3*$K$3*$M$3*L95 -> 0 | N95: 2 | O95: =($F95*$I$3*$K$3*$M$3*$O$3)*N95 -> 0 | P95: 2 | Q95: =$F95*$I$3*$K$3*$M$3*$O$3*$Q$3*P95 -> 0 | R95: 2 | S95: =$F95*$I$3*$K$3*$M$3*$O$3*$Q$3*$S$3*R95 -> 0 | T95: 2 | U95: =$F95*$I$3*$K$3*$M$3*$O$3*$Q$3*$S$3*$U$3*T95 -> 0
B96: 75 | C96: Vergoeding voor niet uit tevoeren werkzaamheden en wachturen
A97: =A96+1 -> 1 | B97: =B$96&"."&A97 -> 75.1 | C97: Vergoeding bij status niet gekeurd | D97: stuks | E97: 4 | F97: =F61 -> 0 | G97: =E97*F97 -> 0 | H97: 4 | I97: =($F97*$I$3)*H97 -> 0 | J97: 4 | K97: =($F97*$I$3*$K$3)*J97 -> 0 | L97: 4 | M97: =$F97*$I$3*$K$3*$M$3*L97 -> 0 | N97: 4 | O97: =($F97*$I$3*$K$3*$M$3*$O$3)*N97 -> 0 | P97: 4 | Q97: =$F97*$I$3*$K$3*$M$3*$O$3*$Q$3*P97 -> 0 | R97: 4 | S97: =$F97*$I$3*$K$3*$M$3*$O$3*$Q$3*$S$3*R97 -> 0 | T97: 4 | U97: =$F97*$I$3*$K$3*$M$3*$O$3*$Q$3*$S$3*$U$3*T97 -> 0
A98: =A97+1 -> 2 | B98: =B$96&"."&A98 -> 75.2 | C98: Vergoeding voor opnemen volledige gegevens nieuwe componenten | D98: stuks | E98: 1 | F98: =F61 -> 0 | G98: =E98*F98 -> 0 | H98: 1 | I98: =($F98*$I$3)*H98 -> 0 | J98: 1 | K98: =($F98*$I$3*$K$3)*J98 -> 0 | L98: 1 | M98: =$F98*$I$3*$K$3*$M$3*L98 -> 0 | N98: 1 | O98: =($F98*$I$3*$K$3*$M$3*$O$3)*N98 -> 0 | P98: 1 | Q98: =$F98*$I$3*$K$3*$M$3*$O$3*$Q$3*P98 -> 0 | R98: 1 | S98: =$F98*$I$3*$K$3*$M$3*$O$3*$Q$3*$S$3*R98 -> 0 | T98: 1 | U98: =$F98*$I$3*$K$3*$M$3*$O$3*$Q$3*$S$3*$U$3*T98 -> 0
A99: =A98+1 -> 3 | B99: =B$96&"."&A99 -> 75.3 | C99: Wachturen | D99: uur | E99: 12 | F99: =F61 -> 0 | G99: =E99*F99 -> 0 | H99: 12 | I99: =($F99*$I$3)*H99 -> 0 | J99: 12 | K99: =($F99*$I$3*$K$3)*J99 -> 0 | L99: 12 | M99: =$F99*$I$3*$K$3*$M$3*L99 -> 0 | N99: 12 | O99: =($F99*$I$3*$K$3*$M$3*$O$3)*N99 -> 0 | P99: 12 | Q99: =$F99*$I$3*$K$3*$M$3*$O$3*$Q$3*P99 -> 0 | R99: 12 | S99: =$F99*$I$3*$K$3*$M$3*$O$3*$Q$3*$S$3*R99 -> 0 | T99: 12 | U99: =$F99*$I$3*$K$3*$M$3*$O$3*$Q$3*$S$3*$U$3*T99 -> 0
A100: =A99+1 -> 4 | B100: =B$96&"."&A100 -> 75.4 | C100: Vergoeding niet nakomen uitvoeringsdatum inspectie en onderhoud. Zie paragraaf 4.2 | D100: stuks | E100: 12 | F100: 750 | G100: =E100*F100 -> 9000 | H100: 12 | I100: =($F100*$I$3)*H100 -> 9000 | J100: 12 | K100: =($F100*$I$3*$K$3)*J100 -> 9000 | L100: 12 | M100: =$F100*$I$3*$K$3*$M$3*L100 -> 9000 | N100: 12 | O100: =($F100*$I$3*$K$3*$M$3*$O$3)*N100 -> 9000 | P100: 12 | Q100: =$F100*$I$3*$K$3*$M$3*$O$3*$Q$3*P100 -> 9000 | R100: 12 | S100: =$F100*$I$3*$K$3*$M$3*$O$3*$Q$3*$S$3*R100 -> 9000 | T100: 12 | U100: =$F100*$I$3*$K$3*$M$3*$O$3*$Q$3*$S$3*$U$3*T100 -> 9000
B101: 80 | C101: Hulpmiddelen
...

Sheet Prijzenboek regio N-W
B1: Prijzenboek Regio Noord-West
F2: 2024 | I2: 2025 | K2: 2026 | M2: 2027 | O2: 2028 | Q2: 2029 | S2: 2030 | U2: 2031
H3: Indexering | I3: 1 | J3: Indexering | K3: 1 | L3: Indexering | M3: 1 | N3: Indexering | O3: 1 | P3: Indexering | Q3: 1 | R3: Indexering | S3: 1 | T3: Indexering | U3: 1
B5: Blok | D5: Eenheid | E5: Aantallen (fictief per jaar) | F5: Verrekenprijs (per eenheid) | G5: Prijs (aantal x eenheidsprijs) | H5: Aantallen (fictief per jaar) | I5: Prijs (aantal x indexering x eenheidsprijs) | J5: Aantallen (fictief per jaar) | K5: Prijs (aantal x indexering x eenheidsprijs) | L5: Aantallen (fictief per jaar) | M5: Prijs (aantal x indexering x eenheidsprijs) | N5: Aantallen (fictief per jaar) | O5: Prijs (aantal x indexering x eenheidsprijs) | P5: Aantallen (fictief per jaar) | Q5: Prijs (aantal x indexering x eenheidsprijs) | R5: Aantallen (fictief per jaar) | S5: Prijs (aantal x indexering x eenheidsprijs) | T5: Aantallen (fictief per jaar) | U5: Prijs (aantal x indexering x eenheidsprijs)
B6: 10 | C6: Preventief Onderhoud volgens Keuringsplan
C7: Noodstroominstallaties paragraaf 4.3.3
A8: 1 | B8: =B$6&"."&A8 -> 10.1 | C8: Onderhoud Statische No-break 1j -48V | D8: Ruimte | E8: 35 | F8: ='Prijzenboek regio N'!F8 -> 0 | G8: =E8*F8 -> 0 | H8: 35 | I8: =($F8*$I$3)*H8 -> 0 | J8: 35 | K8: =$F8*$I$3*$K$3*J8 -> 0 | L8: 35 | M8: =($F8*$I$3*$K$3*$M$3)*L8 -> 0 | N8: 35 | O8: =($F8*$I$3*$K$3*$M$3*$O$3)*N8 -> 0 | P8: 35 | Q8: =$F8*$I$3*$K$3*$M$3*$O$3*$Q$3*P8 -> 0 | R8: 35 | S8: =$F8*$I$3*$K$3*$M$3*$O$3*$Q$3*$S$3*R8 -> 0 | T8: 35 | U8: =$F8*$I$3*$K$3*$M$3*$O$3*$Q$3*$S$3*$U$3*T8 -> 0
A9: 2 | B9: =B$6&"."&A9 -> 10.2 | C9: Onderhoud / inspectie rectifier | D9: stuks | E9: 145 | F9: ='Prijzenboek regio N'!F9 -> 0 | G9: =E9*F9 -> 0 | H9: 130 | I9: =($F9*$I$3)*H9 -> 0 | J9: 115 | K9: =$F9*$I$3*$K$3*J9 -> 0 | L9: 100 | M9: =$F9*$I$3*$K$3*$M$3*L9 -> 0 | N9: 85 | O9: =($F9*$I$3*$K$3*$M$3*$O$3)*N9 -> 0 | P9: 70 | Q9: =$F9*$I$3*$K$3*$M$3*$O$3*$Q$3*P9 -> 0 | R9: 55 | S9: =$F9*$I$3*$K$3*$M$3*$O$3*$Q$3*$S$3*R9 -> 0 | T9: 40 | U9: =$F9*$I$3*$K$3*$M$3*$O$3*$Q$3*$S$3*$U$3*T9 -> 0
A10: 3 | B10: =B$6&"."&A10 -> 10.3 | C10: Onderhoud / inspectie inverter | D10: stuks | E10: 46 | F10: ='Prijzenboek regio N'!F10 -> 0 | G10: =E10*F10 -> 0 | H10: 42 | I10: =($F10*$I$3)*H10 -> 0 | J10: 38 | K10: =($F10*$I$3*$K$3)*J10 -> 0 | L10: 34 | M10: =$F10*$I$3*$K$3*$M$3*L10 -> 0 | N10: 30 | O10: =($F10*$I$3*$K$3*$M$3*$O$3)*N10 -> 0 | P10: 26 | Q10: =$F10*$I$3*$K$3*$M$3*$O$3*$Q$3*P10 -> 0 | R10: 22 | S10: =$F10*$I$3*$K$3*$M$3*$O$3*$Q$3*$S$3*R10 -> 0 | T10: 18 | U10: =$F10*$I$3*$K$3*$M$3*$O$3*$Q$3*$S$3*$U$3*T10 -> 0
A11: 4 | B11: =B$6&"."&A11 -> 10.4 | C11: Onderhoud / inspectie accu's en Siemens meting (per accu) | D11: stuks | E11: 409 | F11: ='Prijzenboek regio N'!F11 -> 0 | G11: =E11*F11 -> 0 | H11: 370 | I11: =($F11*$I$3)*H11 -> 0 | J11: 330 | K11: =($F11*$I$3*$K$3)*J11 -> 0 | L11: 290 | M11: =$F11*$I$3*$K$3*$M$3*L11 -> 0 | N11: 250 | O11: =($F11*$I$3*$K$3*$M$3*$O$3)*N11 -> 0 | P11: 210 | Q11: =$F11*$I$3*$K$3*$M$3*$O$3*$Q$3*P11 -> 0 | R11: 170 | S11: =$F11*$I$3*$K$3*$M$3*$O$3*$Q$3*$S$3*R11 -> 0 | T11: 130 | U11: =$F11*$I$3*$K$3*$M$3*$O$3*$Q$3*$S$3*$U$3*T11 -> 0
A12: 5 | B12: =B$6&"."&A12 -> 10.5 | C12: Inspectie HPDE afdichtingen | D12: stuks | E12: 232 | F12: ='Prijzenboek regio N'!F12 -> 0 | G12: =E12*F12 -> 0 | H12: 232 | I12: =($F12*$I$3)*H12 -> 0 | J12: 232 | K12: =($F12*$I$3*$K$3)*J12 -> 0 | L12: 232 | M12: =$F12*$I$3*$K$3*$M$3*L12 -> 0 | N12: 232 | O12: =($F12*$I$3*$K$3*$M$3*$O$3)*N12 -> 0 | P12: 232 | Q12: =$F12*$I$3*$K$3*$M$3*$O$3*$Q$3*P12 -> 0 | R12: 232 | S12: =$F12*$I$3*$K$3*$M$3*$O$3*$Q$3*$S$3*R12 -> 0 | T12: 232 | U12: =$F12*$I$3*$K$3*$M$3*$O$3*$Q$3*$S$3*$U$3*T12 -> 0
A13: 6 | B13: =B$6&"."&A13 -> 10.6 | C13: Controleren doormeldingen naar ITOC | D13: Ruimte | E13: 37 | F13: ='Prijzenboek regio N'!F13 -> 0 | G13: =E13*F13 -> 0 | H13: 37 | I13: =($F13*$I$3)*H13 -> 0 | J13: 37 | K13: =$F13*$I$3*$K$3*J13 -> 0 | L13: 37 | M13: =($F13*$I$3*$K$3*$M$3)*L13 -> 0 | N13: 37 | O13: =($F13*$I$3*$K$3*$M$3*$O$3)*N13 -> 0 | P13: 37 | Q13: =$F13*$I$3*$K$3*$M$3*$O$3*$Q$3*P13 -> 0 | R13: 37 | S13: =$F13*$I$3*$K$3*$M$3*$O$3*$Q$3*$S$3*R13 -> 0 | T13: 37 | U13: =$F13*$I$3*$K$3*$M$3*$O$3*$Q$3*$S$3*$U$3*T13 -> 0
A14: 7 | B14: =B$6&"."&A14 -> 10.7 | C14: Onderhoud Statische No-break 1j (priva) | D14: stuks | E14: 5 | F14: ='Prijzenboek regio N'!F14 -> 0 | G14: =E14*F14 -> 0 | H14: 5 | I14: =($F14*$I$3)*H14 -> 0 | J14: 5 | K14: =($F14*$I$3*$K$3)*J14 -> 0 | L14: 5 | M14: =$F14*$I$3*$K$3*$M$3*L14 -> 0 | N14: 5 | O14: =($F14*$I$3*$K$3*$M$3*$O$3)*N14 -> 0 | P14: 5 | Q14: =$F14*$I$3*$K$3*$M$3*$O$3*$Q$3*P14 -> 0 | R14: 5 | S14: =$F14*$I$3*$K$3*$M$3*$O$3*$Q$3*$S$3*R14 -> 0 | T14: 5 | U14: =$F14*$I$3*$K$3*$M$3*$O$3*$Q$3*$S$3*$U$3*T14 -> 0
A15: 8 | B15: =B$6&"."&A15 -> 10.8 | C15: Onderhoud Statische No-break 1j | D15: stuks | E15: 5 | F15: ='Prijzenboek regio N'!F15 -> 0 | G15: =E15*F15 -> 0 | H15: 5 | I15: =($F15*$I$3)*H15 -> 0 | J15: 5 | K15: =($F15*$I$3*$K$3)*J15 -> 0 | L15: 5 | M15: =$F15*$I$3*$K$3*$M$3*L15 -> 0 | N15: 5 | O15: =($F15*$I$3*$K$3*$M$3*$O$3)*N15 -> 0 | P15: 5 | Q15: =$F15*$I$3*$K$3*$M$3*$O$3*$Q$3*P15 -> 0 | R15: 5 | S15: =$F15*$I$3*$K$3*$M$3*$O$3*$Q$3*$S$3*R15 -> 0 | T15: 5 | U15: =$F15*$I$3*$K$3*$M$3*$O$3*$Q$3*$S$3*$U$3*T15 -> 0
C16: Aspiratie systeem paragraaf 4.3.6
A17: 9 | B17: =B$6&"."&A17 -> 10.9 | C17: XTRALIS VESDA ASPIRATIEDETECTIE | D17: stuks | E17: 22 | F17: ='Prijzenboek regio N'!F17 -> 0 | G17: =E17*F17 -> 0 | H17: 17 | I17: =($F17*$I$3)*H17 -> 0 | J17: 17 | K17: =($F17*$I$3*$K$3)*J17 -> 0 | L17: 17 | M17: =$F17*$I$3*$K$3*$M$3*L17 -> 0 | N17: 17 | O17: =($F17*$I$3*$K$3*$M$3*$O$3)*N17 -> 0 | P17: 17 | Q17: =$F17*$I$3*$K$3*$M$3*$O$3*$Q$3*P17 -> 0 | R17: 17 | S17: =$F17*$I$3*$K$3*$M$3*$O$3*$Q$3*$S$3*R17 -> 0 | T17: 17 | U17: =$F17*$I$3*$K$3*$M$3*$O$3*$Q$3*$S$3*$U$3*T17 -> 0
C18: Brandmeldinstallatie paragraaf 4.3.7
A19: 10 | B19: =B$6&"."&A19 -> 10.10 | C19: Controle hand, rook melder en temperatuur melder BMI (Prijs per melder) | D19: stuks | E19: 25 | F19: ='Prijzenboek regio N'!F19 -> 0 | G19: =E19*F19 -> 0 | H19: 22 | I19: =($F19*$I$3)*H19 -> 0 | J19: 22 | K19: =($F19*$I$3*$K$3)*J19 -> 0 | L19: 22 | M19: =$F19*$I$3*$K$3*$M$3*L19 -> 0 | N19: 22 | O19: =($F19*$I$3*$K$3*$M$3*$O$3)*N19 -> 0 | P19: 22 | Q19: =$F19*$I$3*$K$3*$M$3*$O$3*$Q$3*P19 -> 0 | R19: 22 | S19: =$F19*$I$3*$K$3*$M$3*$O$3*$Q$3*$S$3*R19 -> 0 | T19: 12 | U19: =$F19*$I$3*$K$3*$M$3*$O$3*$Q$3*$S$3*$U$3*T19 -> 0
A20: 11 | B20: =B$6&"."&A20 -> 10.11 | C20: Neventableau | D20: stuks | E20: 12 | F20: ='Prijzenboek regio N'!F20 -> 0 | G20: =E20*F20 -> 0 | H20: 12 | I20: =($F20*$I$3)*H20 -> 0 | J20: 12 | K20: =($F20*$I$3*$K$3)*J20 -> 0 | L20: 12 | M20: =$F20*$I$3*$K$3*$M$3*L20 -> 0 | N20: 12 | O20: =($F20*$I$3*$K$3*$M$3*$O$3)*N20 -> 0 | P20: 12 | Q20: =$F20*$I$3*$K$3*$M$3*$O$3*$Q$3*P20 -> 0 | R20: 12 | S20: =$F20*$I$3*$K$3*$M$3*$O$3*$Q$3*$S$3*R20 -> 0 | T20: 37 | U20: =$F20*$I$3*$K$3*$M$3*$O$3*$Q$3*$S$3*$U$3*T20 -> 0
A21: 12 | B21: =B$6&"."&A21 -> 10.12 | C21: Doormeldingen | D21: ruimte | E21: 37 | F21: ='Prijzenboek regio N'!F21 -> 0 | G21: =E21*F21 -> 0 | H21: 37 | I21: =($F21*$I$3)*H21 -> 0 | J21: 37 | K21: =($F21*$I$3*$K$3)*J21 -> 0 | L21: 37 | M21: =$F21*$I$3*$K$3*$M$3*L21 -> 0 | N21: 37 | O21: =($F21*$I$3*$K$3*$M$3*$O$3)*N21 -> 0 | P21: 37 | Q21: =$F21*$I$3*$K$3*$M$3*$O$3*$Q$3*P21 -> 0 | R21: 37 | S21: =$F21*$I$3*$K$3*$M$3*$O$3*$Q$3*$S$3*R21 -> 0 | T21: 16 | U21: =$F21*$I$3*$K$3*$M$3*$O$3*$Q$3*$S$3*$U$3*T21 -> 0
A22: 13 | B22: =B$6&"."&A22 -> 10.13 | C22: Inspectie en onderhoud BMI 12m | D22: stuks | E22: 16 | F22: ='Prijzenboek regio N'!F22 -> 0 | G22: =E22*F22 -> 0 | H22: 16 | I22: =($F22*$I$3)*H22 -> 0 | J22: 16 | K22: =($F22*$I$3*$K$3)*J22 -> 0 | L22: 16 | M22: =$F22*$I$3*$K$3*$M$3*L22 -> 0 | N22: 16 | O22: =($F22*$I$3*$K$3*$M$3*$O$3)*N22 -> 0 | P22: 16 | Q22: =$F22*$I$3*$K$3*$M$3*$O$3*$Q$3*P22 -> 0 | R22: 16 | S22: =$F22*$I$3*$K$3*$M$3*$O$3*$Q$3*$S$3*R22 -> 0 | T22: 2 | U22: =$F22*$I$3*$K$3*$M$3*$O$3*$Q$3*$S$3*$U$3*T22 -> 0
A23: 14 | B23: =B$6&"."&A23 -> 10.14 | C23: 07-B1 CCV insp en odh VBB blusgas 1j | D23: stuks | E23: 2 | F23: ='Prijzenboek regio N'!F23 -> 0 | G23: =E23*F23 -> 0 | H23: 2 | I23: =($F23*$I$3)*H23 -> 0 | J23: 2 | K23: =($F23*$I$3*$K$3)*J23 -> 0 | L23: 2 | M23: =$F23*$I$3*$K$3*$M$3*L23 -> 0 | N23: 2 | O23: =($F23*$I$3*$K$3*$M$3*$O$3)*N23 -> 0 | P23: 2 | Q23: =$F23*$I$3*$K$3*$M$3*$O$3*$Q$3*P23 -> 0 | R23: 2 | S23: =$F23*$I$3*$K$3*$M$3*$O$3*$Q$3*$S$3*R23 -> 0 | T23: 2 | U23: =$F23*$I$3*$K$3*$M$3*$O$3*$Q$3*$S$3*$U$3*T23 -> 0
A24: 15 | B24: =B$6&"."&A24 -> 10.15 | C24: 07-B2 CCV insp en odh blusgas 5j | D24: stuks | E24: 2 | F24: ='Prijzenboek regio N'!F24 -> 0 | G24: =E24*F24 -> 0 | I24: =($F24*$I$3)*H24 -> 0 | K24: =($F24*$I$3*$K$3)*J24 -> 0 | M24: =$F24*$I$3*$K$3*$M$3*L24 -> 0 | O24: =($F24*$I$3*$K$3*$M$3*$O$3)*N24 -> 0 | P24: 2 | Q24: =$F24*$I$3*$K$3*$M$3*$O$3*$Q$3*P24 -> 0 | S24: =$F24*$I$3*$K$3*$M$3*$O$3*$Q$3*$S$3*R24 -> 0 | U24: =$F24*$I$3*$K$3*$M$3*$O$3*$Q$3*$S$3*$U$3*T24 -> 0
C25: Mechanische luchtbehandeling
A26: 16 | B26: =B$6&"."&A26 -> 10.16 | C26: Onderhoud / inspectie stoombevochtiger | D26: stuks | E26: 17 | F26: ='Prijzenboek regio N'!F26 -> 0 | G26: =E26*F26 -> 0 | H26: 17 | I26: =($F26*$I$3)*H26 -> 0 | J26: 17 | K26: =($F26*$I$3*$K$3)*J26 -> 0 | L26: 17 | M26: =$F26*$I$3*$K$3*$M$3*L26 -> 0 | N26: 17 | O26: =($F26*$I$3*$K$3*$M$3*$O$3)*N26 -> 0 | P26: 17 | Q26: =$F26*$I$3*$K$3*$M$3*$O$3*$Q$3*P26 -> 0 | R26: 17 | S26: =$F26*$I$3*$K$3*$M$3*$O$3*$Q$3*$S$3*R26 -> 0 | T26: 17 | U26: =$F26*$I$3*$K$3*$M$3*$O$3*$Q$3*$S$3*$U$3*T26 -> 0
C27: Klimaatregelinstallatie paragraaf 4.3.9
A28: 17 | B28: =B$6&"."&A28 -> 10.17 | C28: Softwarecontrole 1j | D28: stuks | E28: 7 | F28: ='Prijzenboek regio N'!F28 -> 0 | G28: =E28*F28 -> 0 | H28: 7 | I28: =($F28*$I$3)*H28 -> 0 | J28: 7 | K28: =($F28*$I$3*$K$3)*J28 -> 0 | L28: 7 | M28: =$F28*$I$3*$K$3*$M$3*L28 -> 0 | N28: 7 | O28: =($F28*$I$3*$K$3*$M$3*$O$3)*N28 -> 0 | P28: 7 | Q28: =$F28*$I$3*$K$3*$M$3*$O$3*$Q$3*P28 -> 0 | R28: 7 | S28: =$F28*$I$3*$K$3*$M$3*$O$3*$Q$3*$S$3*R28 -> 0 | T28: 7 | U28: =$F28*$I$3*$K$3*$M$3*$O$3*$Q$3*$S$3*$U$3*T28 -> 0
A29: 18 | B29: =B$6&"."&A29 -> 10.18 | C29: Onderhoud klimaatregelinstallatie 1j | D29: stuks | E29: 7 | F29: ='Prijzenboek regio N'!F29 -> 0 | G29: =E29*F29 -> 0 | H29: 7 | I29: =($F29*$I$3)*H29 -> 0 | J29: 7 | K29: =($F29*$I$3*$K$3)*J29 -> 0 | L29: 7 | M29: =$F29*$I$3*$K$3*$M$3*L29 -> 0 | N29: 7 | O29: =($F29*$I$3*$K$3*$M$3*$O$3)*N29 -> 0 | P29: 7 | Q29: =$F29*$I$3*$K$3*$M$3*$O$3*$Q$3*P29 -> 0 | R29: 7 | S29: =$F29*$I$3*$K$3*$M$3*$O$3*$Q$3*$S$3*R29 -> 0 | T29: 7 | U29: =$F29*$I$3*$K$3*$M$3*$O$3*$Q$3*$S$3*$U$3*T29 -> 0
A30: 19 | B30: =B$6&"."&A30 -> 10.19 | C30: Onderhoud klimaatregelinstallatie 4j vervangen back-up accu | D30: stuks | E30: 2 | F30: ='Prijzenboek regio N'!F30 -> 0 | G30: =E30*F30 -> 0 | H30: 2 | I30: =($F30*$I$3)*H30 -> 0 | J30: 2 | K30: =($F30*$I$3*$K$3)*J30 -> 0 | L30: 2 | M30: =$F30*$I$3*$K$3*$M$3*L30 -> 0 | N30: 2 | O30: =($F30*$I$3*$K$3*$M$3*$O$3)*N30 -> 0 | P30: 2 | Q30: =$F30*$I$3*$K$3*$M$3*$O$3*$Q$3*P30 -> 0 | R30: 2 | S30: =$F30*$I$3*$K$3*$M$3*$O$3*$Q$3*$S$3*R30 -> 0 | T30: 2 | U30: =$F30*$I$3*$K$3*$M$3*$O$3*$Q$3*$S$3*$U$3*T30 -> 0
C31: Brandwerende doorvoeringen paragraaf 4.3.3
A32: 20 | B32: =B$6&"."&A32 -> 10.20 | C32: Visuele inspectie brandwerende doorvoeringen | D32: Ruimte | E32: 11 | F32: ='Prijzenboek regio N'!F32 -> 0 | G32: =E32*F32 -> 0 | H32: 11 | I32: =($F32*$I$3)*H32 -> 0 | J32: 11 | K32: =($F32*$I$3*$K$3)*J32 -> 0 | L32: 11 | M32: =$F32*$I$3*$K$3*$M$3*L32 -> 0 | N32: 11 | O32: =($F32*$I$3*$K$3*$M$3*$O$3)*N32 -> 0 | P32: 11 | Q32: =$F32*$I$3*$K$3*$M$3*$O$3*$Q$3*P32 -> 0 | R32: 11 | S32: =$F32*$I$3*$K$3*$M$3*$O$3*$Q$3*$S$3*R32 -> 0 | T32: 11 | U32: =$F32*$I$3*$K$3*$M$3*$O$3*$Q$3*$S$3*$U$3*T32 -> 0
C33: Aardings- en Bliksembeveiligingsinstallaties paragraaf 4.3.2
A34: 21 | B34: =B$6&"."&A34 -> 10.21 | C34: Periodiek Inspectie geleidende vloer per ruimte incl. opstellen rapport | D34: Ruimte | E34: 22 | F34: ='Prijzenboek regio N'!F34 -> 0 | G34: =E34*F34 -> 0 | H34: 22 | I34: =($F34*$I$3)*H34 -> 0 | J34: 22 | K34: =($F34*$I$3*$K$3)*J34 -> 0 | L34: 22 | M34: =$F34*$I$3*$K$3*$M$3*L34 -> 0 | N34: 22 | O34: =($F34*$I$3*$K$3*$M$3*$O$3)*N34 -> 0 | P34: 22 | Q34: =$F34*$I$3*$K$3*$M$3*$O$3*$Q$3*P34 -> 0 | R34: 22 | S34: =$F34*$I$3*$K$3*$M$3*$O$3*$Q$3*$S$3*R34 -> 0 | T34: 22 | U34: =$F34*$I$3*$K$3*$M$3*$O$3*$Q$3*$S$3*$U$3*T34 -> 0
A35: 22 | B35: =B$6&"."&A35 -> 10.22 | C35: Periodiek Inspectie statische aardstrip/aardrail en aardpunten per ruimte inclusief opstellen rapporten. | D35: Ruimte | E35: 31 | F35: ='Prijzenboek regio N'!F35 -> 0 | G35: =E35*F35 -> 0 | H35: 31 | I35: =($F35*$I$3)*H35 -> 0 | J35: 31 | K35: =($F35*$I$3*$K$3)*J35 -> 0 | L35: 31 | M35: =$F35*$I$3*$K$3*$M$3*L35 -> 0 | N35: 31 | O35: =($F35*$I$3*$K$3*$M$3*$O$3)*N35 -> 0 | P35: 31 | Q35: =$F35*$I$3*$K$3*$M$3*$O$3*$Q$3*P35 -> 0 | R35: 31 | S35: =$F35*$I$3*$K$3*$M$3*$O$3*$Q$3*$S$3*R35 -> 0 | T35: 31 | U35: =$F35*$I$3*$K$3*$M$3*$O$3*$Q$3*$S$3*$U$3*T35 -> 0
C36: Periodieke inspecties laagspanning paragraaf 4.3.4
A37: 23 | B37: =B$6&"."&A37 -> 10.23 | C37: Periodieke inspectie elektrische installatie 1j | D37: Ruimte | E37: 31 | F37: ='Prijzenboek regio N'!F37 -> 0 | G37: =E37*F37 -> 0 | H37: 0 | I37: =($F37*$I$3)*H37 -> 0 | J37: 31 | K37: =($F37*$I$3*$K$3)*J37 -> 0 | L37: 31 | M37: =$F37*$I$3*$K$3*$M$3*L37 -> 0 | N37: 31 | O37: =($F37*$I$3*$K$3*$M$3*$O$3)*N37 -> 0 | P37: 0 | Q37: =$F37*$I$3*$K$3*$M$3*$O$3*$Q$3*P37 -> 0 | R37: 31 | S37: =$F37*$I$3*$K$3*$M$3*$O$3*$Q$3*$S$3*R37 -> 0 | T37: 31 | U37: =$F37*$I$3*$K$3*$M$3*$O$3*$Q$3*$S$3*$U$3*T37 -> 0
A38: 24 | B38: =B$6&"."&A38 -> 10.24 | C38: Periodieke inspectie elektrische installatie 4j | D38: Ruimte | E38: 0 | F38: ='Prijzenboek regio N'!F38 -> 0 | G38: =E38*F38 -> 0 | H38: 31 | I38: =($F38*$I$3)*H38 -> 0 | J38: 0 | K38: =($F38*$I$3*$K$3)*J38 -> 0 | L38: 0 | M38: =$F38*$I$3*$K$3*$M$3*L38 -> 0 | N38: 0 | O38: =($F38*$I$3*$K$3*$M$3*$O$3)*N38 -> 0 | P38: 31 | Q38: =$F38*$I$3*$K$3*$M$3*$O$3*$Q$3*P38 -> 0 | R38: 0 | S38: =$F38*$I$3*$K$3*$M$3*$O$3*$Q$3*$S$3*R38 -> 0 | T38: 0 | U38: =$F38*$I$3*$K$3*$M$3*$O$3*$Q$3*$S$3*$U$3*T38 -> 0
C39: Noodverlichtingsinstallaties paragraaf 4.3.5
A40: 25 | B40: =B$6&"."&A40 -> 10.25 | C40: Periodieke inspectie en onderhoud noodverlichting 1j, decentrale noodverliching per ruimte met 1 t/ m 10 armaturen | D40: Ruimte | E40: 33 | F40: ='Prijzenboek regio N'!F40 -> 0 | G40: =E40*F40 -> 0 | H40: 33 | I40: =($F40*$I$3)*H40 -> 0 | J40: 33 | K40: =($F40*$I$3*$K$3)*J40 -> 0 | L40: 33 | M40: =$F40*$I$3*$K$3*$M$3*L40 -> 0 | N40: 33 | O40: =($F40*$I$3*$K$3*$M$3*$O$3)*N40 -> 0 | P40: 33 | Q40: =$F40*$I$3*$K$3*$M$3*$O$3*$Q$3*P40 -> 0 | R40: 33 | S40: =$F40*$I$3*$K$3*$M$3*$O$3*$Q$3*$S$3*R40 -> 0 | T40: 33 | U40: =$F40*$I$3*$K$3*$M$3*$O$3*$Q$3*$S$3*$U$3*T40 -> 0
C41: Koelinstallatie paragraaf 4.3.9
A42: 26 | B42: =B$6&"."&A42 -> 10.26 | C42: Onderhoud computerkoeling < 5 ton CO2 1j | D42: stuks | E42: 40 | F42: ='Prijzenboek regio N'!F42 -> 0 | G42: =E42*F42 -> 0 | H42: 34 | I42: =($F42*$I$3)*H42 -> 0 | J42: 34 | K42: =($F42*$I$3*$K$3)*J42 -> 0 | L42: 34 | M42: =$F42*$I$3*$K$3*$M$3*L42 -> 0 | N42: 34 | O42: =($F42*$I$3*$K$3*$M$3*$O$3)*N42 -> 0 | P42: 34 | Q42: =$F42*$I$3*$K$3*$M$3*$O$3*$Q$3*P42 -> 0 | R42: 34 | S42: =$F42*$I$3*$K$3*$M$3*$O$3*$Q$3*$S$3*R42 -> 0 | T42: 34 | U42: =$F42*$I$3*$K$3*$M$3*$O$3*$Q$3*$S$3*$U$3*T42 -> 0
A43: 27 | B43: =B$6&"."&A43 -> 10.27 | C43: Controle lekdetectiesysteem computerkoeling 1j | D43: stuks | E43: 40 | F43: ='Prijzenboek regio N'!F43 -> 0 | G43: =E43*F43 -> 0 | H43: 34 | I43: =($F43*$I$3)*H43 -> 0 | J43: 34 | K43: =($F43*$I$3*$K$3)*J43 -> 0 | L43: 34 | M43: =$F43*$I$3*$K$3*$M$3*L43 -> 0 | N43: 34 | O43: =($F43*$I$3*$K$3*$M$3*$O$3)*N43 -> 0 | P43: 34 | Q43: =$F43*$I$3*$K$3*$M$3*$O$3*$Q$3*P43 -> 0 | R43: 34 | S43: =$F43*$I$3*$K$3*$M$3*$O$3*$Q$3*$S$3*R43 -> 0 | T43: 34 | U43: =$F43*$I$3*$K$3*$M$3*$O$3*$Q$3*$S$3*$U$3*T43 -> 0
A44: 28 | B44: =B$6&"."&A44 -> 10.28 | C44: Periodieke herkeuring drukapparatuur 4j of 6 j | D44: stuks | E44: 9 | F44: ='Prijzenboek regio N'!F44 -> 0 | G44: =E44*F44 -> 0 | H44: 9 | I44: =($F44*$I$3)*H44 -> 0 | J44: 9 | K44: =($F44*$I$3*$K$3)*J44 -> 0 | L44: 9 | M44: =$F44*$I$3*$K$3*$M$3*L44 -> 0 | N44: 9 | O44: =($F44*$I$3*$K$3*$M$3*$O$3)*N44 -> 0 | P44: 9 | Q44: =$F44*$I$3*$K$3*$M$3*$O$3*$Q$3*P44 -> 0 | R44: 9 | S44: =$F44*$I$3*$K$3*$M$3*$O$3*$Q$3*$S$3*R44 -> 0 | T44: 9 | U44: =$F44*$I$3*$K$3*$M$3*$O$3*$Q$3*$S$3*$U$3*T44 -> 0
A45: 29 | B45: =B$6&"."&A45 -> 10.29 | C45: PED bepaling Paragraaf 4.5.10.1 t/m 4.5.10.4 | D45: stuks | E45: 40 | F45: ='Prijzenboek regio N'!F45 -> 0 | G45: =E45*F45 -> 0 | H45: 2 | I45: =($F45*$I$3)*H45 -> 0 | J45: 2 | K45: =($F45*$I$3*$K$3)*J45 -> 0 | L45: 2 | M45: =$F45*$I$3*$K$3*$M$3*L45 -> 0 | N45: 2 | O45: =($F45*$I$3*$K$3*$M$3*$O$3)*N45 -> 0 | P45: 2 | Q45: =$F45*$I$3*$K$3*$M$3*$O$3*$Q$3*P45 -> 0 | R45: 2 | S45: =$F45*$I$3*$K$3*$M$3*$O$3*$Q$3*$S$3*R45 -> 0 | T45: 2 | U45: =$F45*$I$3*$K$3*$M$3*$O$3*$Q$3*$S$3*$U$3*T45 -> 0
C46: Implementatie vergoeding hoofdstuk 6
A47: 30 | B47: =B$6&"."&A47 -> 10.30 | C47: Implementatie vergoeding | D47: stuks | E47: 0 | F47: 0 | G47: =E47*F47 -> 0 | H47: 0 | I47: =($F47*$I$3)*H47 -> 0 | J47: 0 | K47: =($F47*$I$3*$K$3)*J47 -> 0 | L47: 0 | M47: =$F47*$I$3*$K$3*$M$3*L47 -> 0 | N47: 0 | O47: =($F47*$I$3*$K$3*$M$3*$O$3)*N47 -> 0 | P47: 0 | Q47: =$F47*$I$3*$K$3*$M$3*$O$3*$Q$3*P47 -> 0 | R47: 0 | S47: =$F47*$I$3*$K$3*$M$3*$O$3*$Q$3*$S$3*R47 -> 0 | T47: 0 | U47: =$F47*$I$3*$K$3*$M$3*$O$3*$Q$3*$S$3*$U$3*T47 -> 0
B48: 15 | C48: ABDO kosten paragraaf 4.2.1
A49: 1 | B49: =B$48&"."&A49 -> 15.1 | C49: Screening bedrijf | D49: stuks | E49: 0 | F49: 0 | G49: =E49*F49 -> 0 | H49: 0 | I49: =($F49*$I$3)*H49 -> 0 | J49: 0 | K49: =($F49*$I$3*$K$3)*J49 -> 0 | L49: 0 | M49: =$F49*$I$3*$K$3*$M$3*L49 -> 0 | N49: 0 | O49: =($F49*$I$3*$K$3*$M$3*$O$3)*N49 -> 0 | P49: 0 | Q49: =$F49*$I$3*$K$3*$M$3*$O$3*$Q$3*P49 -> 0 | R49: 0 | S49: =$F49*$I$3*$K$3*$M$3*$O$3*$Q$3*$S$3*R49 -> 0 | T49: 0 | U49: =$F49*$I$3*$K$3*$M$3*$O$3*$Q$3*$S$3*$U$3*T49 -> 0
A50: 2 | B50: =B$48&"."&A50 -> 15.2 | C50: Screening medewerker MIVD C | D50: stuks | E50: 0 | F50: 0 | G50: =E50*F50 -> 0 | H50: 0 | I50: =($F50*$I$3)*H50 -> 0 | J50: 0 | K50: =($F50*$I$3*$K$3)*J50 -> 0 | L50: 0 | M50: =$F50*$I$3*$K$3*$M$3*L50 -> 0 | N50: 0 | O50: =($F50*$I$3*$K$3*$M$3*$O$3)*N50 -> 0 | P50: 0 | Q50: =$F50*$I$3*$K$3*$M$3*$O$3*$Q$3*P50 -> 0 | R50: 0 | S50: =$F50*$I$3*$K$3*$M$3*$O$3*$Q$3*$S$3*R50 -> 0 | T50: 0 | U50: =$F50*$I$3*$K$3*$M$3*$O$3*$Q$3*$S$3*$U$3*T50 -> 0
A51: 3 | B51: =B$48&"."&A51 -> 15.3 | C51: Screening medewerker MIVD B | D51: stuks | E51: 0 | F51: 0 | G51: =E51*F51 -> 0 | H51: 0 | I51: =($F51*$I$3)*H51 -> 0 | J51: 0 | K51: =($F51*$I$3*$K$3)*J51 -> 0 | L51: 0 | M51: =$F51*$I$3*$K$3*$M$3*L51 -> 0 | N51: 0 | O51: =($F51*$I$3*$K$3*$M$3*$O$3)*N51 -> 0 | P51: 0 | Q51: =$F51*$I$3*$K$3*$M$3*$O$3*$Q$3*P51 -> 0 | R51: 0 | S51: =$F51*$I$3*$K$3*$M$3*$O$3*$Q$3*$S$3*R51 -> 0 | T51: 0 | U51: =$F51*$I$3*$K$3*$M$3*$O$3*$Q$3*$S$3*$U$3*T51 -> 0
A52: 4 | B52: =B$48&"."&A52 -> 15.4 | C52: LT met software | D52: stuks | E52: 0 | F52: 0 | G52: =E52*F52 -> 0 | H52: 0 | I52: =($F52*$I$3)*H52 -> 0 | J52: 0 | K52: =($F52*$I$3*$K$3)*J52 -> 0 | L52: 0 | M52: =$F52*$I$3*$K$3*$M$3*L52 -> 0 | N52: 0 | O52: =($F52*$I$3*$K$3*$M$3*$O$3)*N52 -> 0 | P52: 0 | Q52: =$F52*$I$3*$K$3*$M$3*$O$3*$Q$3*P52 -> 0 | R52: 0 | S52: =$F52*$I$3*$K$3*$M$3*$O$3*$Q$3*$S$3*R52 -> 0 | T52: 0 | U52: =$F52*$I$3*$K$3*$M$3*$O$3*$Q$3*$S$3*$U$3*T52 -> 0
A53: 5 | B53: =B$48&"."&A53 -> 15.5 | C53: Maken beveiliginsplan | D53: stuks | E53: 0 | F53: 0 | G53: =E53*F53 -> 0 | H53: 0 | I53: =($F53*$I$3)*H53 -> 0 | J53: 0 | K53: =($F53*$I$3*$K$3)*J53 -> 0 | L53: 0 | M53: =$F53*$I$3*$K$3*$M$3*L53 -> 0 | N53: 0 | O53: =($F53*$I$3*$K$3*$M$3*$O$3)*N53 -> 0 | P53: 0 | Q53: =$F53*$I$3*$K$3*$M$3*$O$3*$Q$3*P53 -> 0 | R53: 0 | S53: =$F53*$I$3*$K$3*$M$3*$O$3*$Q$3*$S$3*R53 -> 0 | T53: 0 | U53: =$F53*$I$3*$K$3*$M$3*$O$3*$Q$3*$S$3*$U$3*T53 -> 0
C54: Beveiligingsfunctionaris paragraaf 4.2.1
A55: 4 | B55: =B$48&"."&A55 -> 15.4 | C55: Uurtarief op werkdagen van 06:00 tot 18:00 uur | D55: uur | E55: 0 | F55: 0 | G55: =E55*F55 -> 0 | H55: 0 | I55: =($F55*$I$3)*H55 -> 0 | J55: 0 | K55: =($F55*$I$3*$K$3)*J55 -> 0 | L55: 0 | M55: =$F55*$I$3*$K$3*$M$3*L55 -> 0 | N55: 0 | O55: =($F55*$I$3*$K$3*$M$3*$O$3)*N55 -> 0 | P55: 0 | Q55: =$F55*$I$3*$K$3*$M$3*$O$3*$Q$3*P55 -> 0 | R55: 0 | S55: =$F55*$I$3*$K$3*$M$3*$O$3*$Q$3*$S$3*R55 -> 0 | T55: 0 | U55: =$F55*$I$3*$K$3*$M$3*$O$3*$Q$3*$S$3*$U$3*T55 -> 0
D56: Preventief Onderhoud | G56: =SUM(G8:G55) -> 0 | I56: =SUM(I8:I55) -> 0 | K56: =SUM(K8:K55) -> 0 | M56: =SUM(M8:M55) -> 0 | O56: =SUM(O8:O55) -> 0 | Q56: =SUM(Q8:Q55) -> 0 | S56: =SUM(S8:S55) -> 0 | U56: =SUM(U8:U55) -> 0
B57: 20 | C57: Uurtarief voor het herstellen van Manco's. | E57: uren
C58: Begeleiden medewerkers onderaannemers
A59: 1 | B59: =B$57&"."&A59 -> 20.1 | C59: Uurtarief op werkdagen van 06:00 tot 18:00 uur | D59: uur | E59: 60 | F59: ='Prijzenboek regio N'!F59 -> 0 | G59: =E59*F59 -> 0 | H59: 60 | I59: =($F59*$I$3)*H59 -> 0 | J59: 60 | K59: =($F59*$I$3*$K$3)*J59 -> 0 | L59: 60 | M59: =$F59*$I$3*$K$3*$M$3*L59 -> 0 | N59: 60 | O59: =($F59*$I$3*$K$3*$M$3*$O$3)*N59 -> 0 | P59: 60 | Q59: =$F59*$I$3*$K$3*$M$3*$O$3*$Q$3*P59 -> 0 | R59: 60 | S59: =$F59*$I$3*$K$3*$M$3*$O$3*$Q$3*$S$3*R59 -> 0 | T59: 60 | U59: =$F59*$I$3*$K$3*$M$3*$O$3*$Q$3*$S$3*$U$3*T59 -> 0
C60: Laagspannings, BMI en koel technicus.
A61: 2 | B61: =B$57&"."&A61 -> 20.2 | C61: Uurtarief op werkdagen van 06:00 tot 18:00 uur | D61: uur | E61: 160 | F61: ='Prijzenboek regio N'!F61 -> 0 | G61: =E61*F61 -> 0 | H61: 160 | I61: =($F61*$I$3)*H61 -> 0 | J61: 160 | K61: =($F61*$I$3*$K$3)*J61 -> 0 | L61: 160 | M61: =$F61*$I$3*$K$3*$M$3*L61 -> 0 | N61: 160 | O61: =($F61*$I$3*$K$3*$M$3*$O$3)*N61 -> 0 | P61: 160 | Q61: =$F61*$I$3*$K$3*$M$3*$O$3*$Q$3*P61 -> 0 | R61: 160 | S61: =$F61*$I$3*$K$3*$M$3*$O$3*$Q$3*$S$3*R61 -> 0 | T61: 160 | U61: =$F61*$I$3*$K$3*$M$3*$O$3*$Q$3*$S$3*$U$3*T61 -> 0
A62: 3 | B62: =B$57&"."&A62 -> 20.3 | C62: Toeslag op uurtarief van 20.2 voor werk op werkdagen van 18:00 tot 06:00 uur (maximaal 15%) | D62: % | E62: 3 | F62: ='Prijzenboek regio N'!F62 -> 0.1 | G62: =$F$61*$E62*F62 -> 0 | H62: 3 | I62: =($F61*$F62)*H62*$I$3 -> 0 | J62: 3 | K62: =($F$61*$F62)*J62*$I$3*J63*$K$3 -> 0 | L62: 3 | M62: =($F$61*$F62)*L62*$I$3*L63*$K$3*$M$3 -> 0 | N62: 3 | O62: =($F$61*$F62)*N62*$I$3*N63*$K$3*$M$3*$O$3 -> 0 | P62: 3 | Q62: =($F$61*$F62)*P62*$I$3*P63*$K$3*$M$3*$O$3*$Q$3 -> 0 | R62: 3 | S62: =($F$61*$F62)*R62*$I$3*R63*$K$3*$M$3*$O$3*$Q$3*$S$3 -> 0 | T62: 3 | U62: =($F$61*$F62)*T62*$I$3*T63*$K$3*$M$3*$O$3*$Q$3*$S$3*$U$3 -> 0
A63: =A62+1 -> 4 | B63: =B$57&"."&A63 -> 20.4 | C63: Toeslag op uurtarief van 20.2 voor werk op zaterdag (maximaal 25%) | D63: % | E63: 2 | F63: ='Prijzenboek regio N'!F63 -> 0.2 | G63: =$F$61*$E63*F63 -> 0 | H63: 2 | I63: =($F$61*$F63)*H63*$I$3 -> 0 | J63: 2 | K63: =($F$61*$F63)*J63*$I$3*J64*$K$3 -> 0 | L63: 2 | M63: =($F$61*$F63)*L63*$I$3*L64*$K$3*$M$3 -> 0 | N63: 2 | O63: =($F$61*$F63)*N63*$I$3*N64*$K$3*$M$3*$O$3 -> 0 | P63: 2 | Q63: =($F$61*$F63)*P63*$I$3*P64*$K$3*$M$3*$O$3*$Q$3 -> 0 | R63: 2 | S63: =($F$61*$F63)*R63*$I$3*R64*$K$3*$M$3*$O$3*$Q$3*$S$3 -> 0 | T63: 2 | U63: =($F$61*$F63)*T63*$I$3*T64*$K$3*$M$3*$O$3*$Q$3*$S$3*$U$3 -> 0
A64: =A63+1 -> 5 | B64: =B$57&"."&A64 -> 20.5 | C64: Toeslag op uurtarief van 20.2 voor werk op zon- en feestdagen (maximaal 35%) | D64: % | E64: 1 | F64: ='Prijzenboek regio N'!F64 -> 0.3 | G64: =$F$61*$E64*F64 -> 0 | H64: 1 | I64: =($F$61*$F64)*H64*I$3 -> 0 | J64: 1 | K64: =($F$61*$F64)*J64*$I$3*$K$3 -> 0 | L64: 1 | M64: =($F$61*$F64)*L64*$I$3*$K$3*$M$3 -> 0 | N64: 1 | O64: =($F$61*$F64)*N64*$I$3*$K$3*$M$3*$O$3 -> 0 | P64: 1 | Q64: =($F$61*$F64)*P64*$I$3*$K$3*$M$3*$O$3*$Q$3 -> 0 | R64: 1 | S64: =($F$61*$F64)*R64*$I$3*$K$3*$M$3*$O$3*$Q$3*$S$3 -> 0 | T64: 1 | U64: =($F$61*$F64)*T64*$I$3*$K$3*$M$3*$O$3*$Q$3*$S$3*$U$3 -> 0
C65: Technicus Noodstroominstallaties
A66: =A64+1 -> 6 | B66: =B$57&"."&A66 -> 20.6 | C66: Uurtarief op werkdagen van 06:00 tot 18:00 uur | D66: uur | E66: 75 | F66: ='Prijzenboek regio N'!F66 -> 0 | G66: =E66*F66 -> 0 | H66: 75 | I66: =($F66*$I$3)*H66 -> 0 | J66: 75 | K66: =($F66*$I$3*$K$3)*J66 -> 0 | L66: 75 | M66: =$F66*$I$3*$K$3*$M$3*L66 -> 0 | N66: 75 | O66: =($F66*$I$3*$K$3*$M$3*$O$3)*N66 -> 0 | P66: 75 | Q66: =$F66*$I$3*$K$3*$M$3*$O$3*$Q$3*P66 -> 0 | R66: 75 | S66: =$F66*$I$3*$K$3*$M$3*$O$3*$Q$3*$S$3*R66 -> 0 | T66: 75 | U66: =$F66*$I$3*$K$3*$M$3*$O$3*$Q$3*$S$3*$U$3*T66 -> 0
A67: =A66+1 -> 7 | B67: =B$57&"."&A67 -> 20.7 | C67: Toeslag op uurtarief van 20.2 voor werk op werkdagen van 18:00 tot 06:00 uur (maximaal 15%) | D67: % | E67: 3 | F67: ='Prijzenboek regio N'!F67 -> 0.1 | G67: =$F$66*F67*E67 -> 0 | H67: 3 | I67: =($F66*$F67)*H67*$I$3 -> 0 | J67: 3 | K67: =($F66*$F67)*J67*$I$3*J68*$K$3 -> 0 | L67: 3 | M67: =($F66*$F67)*L67*$I$3*L68*$K$3*$M$3 -> 0 | N67: 3 | O67: =($F66*$F67)*N67*$I$3*N68*$K$3*$M$3*$O$3 -> 0 | P67: 3 | Q67: =($F66*$F67)*P67*$I$3*P68*$K$3*$M$3*$O$3*$Q$3 -> 0 | R67: 3 | S67: =($F66*$F67)*R67*$I$3*R68*$K$3*$M$3*$O$3*$Q$3*$S$3 -> 0 | T67: 3 | U67: =($F66*$F67)*T67*$I$3*T68*$K$3*$M$3*$O$3*$Q$3*$S$3*$U$3 -> 0
A68: =A67+1 -> 8 | B68: =B$57&"."&A68 -> 20.8 | C68: Toeslag op uurtarief van 20.2 voor werk op zaterdag (maximaal 25%) | D68: % | E68: 3 | F68: ='Prijzenboek regio N'!F68 -> 0.2 | G68: =$F$66*F68*E68 -> 0 | H68: 3 | I68: =($F66*$F68)*H68*$I$3 -> 0 | J68: 3 | K68: =($F66*$F68)*J68*$I$3*J69*$K$3 -> 0 | L68: 3 | M68: =($F66*$F68)*L68*$I$3*L69*$K$3*$M$3 -> 0 | N68: 3 | O68: =($F66*$F68)*N68*$I$3*N69*$K$3*$M$3*$O$3 -> 0 | P68: 3 | Q68: =($F66*$F68)*P68*$I$3*P69*$K$3*$M$3*$O$3*$Q$3 -> 0 | R68: 3 | S68: =($F66*$F68)*R68*$I$3*R69*$K$3*$M$3*$O$3*$Q$3*$S$3 -> 0 | T68: 3 | U68: =($F66*$F68)*T68*$I$3*T69*$K$3*$M$3*$O$3*$Q$3*$S$3*$U$3 -> 0
A69: =A68+1 -> 9 | B69: =B$57&"."&A69 -> 20.9 | C69: Toeslag op uurtarief van 20.2 voor werk op zon- en feestdagen (maximaal 35%) | D69: % | E69: 1 | F69: ='Prijzenboek regio N'!F69 -> 0.3 | G69: =$F$66*F69*E69 -> 0 | H69: 1 | I69: =($F66*$F69)*H69*I$3 -> 0 | J69: 1 | K69: =($F66*$F69)*J69*$I$3*$K$3 -> 0 | L69: 1 | M69: =($F66*$F69)*L69*$I$3*$K$3*$M$3 -> 0 | N69: 1 | O69: =($F66*$F69)*N69*$I$3*$K$3*$M$3*$O$3 -> 0 | P69: 1 | Q69: =($F66*$F69)*P69*$I$3*$K$3*$M$3*$O$3*$Q$3 -> 0 | R69: 1 | S69: =($F66*$F69)*R69*$I$3*$K$3*$M$3*$O$3*$Q$3*$S$3 -> 0 | T69: 1 | U69: =($F66*$F69)*T69*$I$3*$K$3*$M$3*$O$3*$Q$3*$S$3*$U$3 -> 0
B70: 25 | C70: Uurlonen voor extra werkzaamheden klimaatregelinstallaties
A71: =A70+1 -> 1 | B71: =B$70&"."&A71 -> 25.1 | C71: Uurtarief servicetechnicus meet-en regeltechniek (MRK-A en MRK-B) op werkdagen van 06:00 tot 18:00 | D71: uur | E71: 16 | F71: ='Prijzenboek regio N'!F71 -> 0 | G71: =E71*F71 -> 0 | H71: 16 | I71: =($F71*$I$3)*H71 -> 0 | J71: 16 | K71: =($F71*$I$3*$K$3)*J71 -> 0 | L71: 16 | M71: =$F71*$I$3*$K$3*$M$3*L71 -> 0 | N71: 16 | O71: =($F71*$I$3*$K$3*$M$3*$O$3)*N71 -> 0 | P71: 16 | Q71: =$F71*$I$3*$K$3*$M$3*$O$3*$Q$3*P71 -> 0 | R71: 16 | S71: =$F71*$I$3*$K$3*$M$3*$O$3*$Q$3*$S$3*R71 -> 0 | T71: 16 | U71: =$F71*$I$3*$K$3*$M$3*$O$3*$Q$3*$S$3*$U$3*T71 -> 0
B72: 30 | C72: Uurtarief voor het herstellen van storingen
C73: Laagspannings, BMI en koel technicus.
A74: =A73+1 -> 1 | B74: =B$72&"."&A74 -> 30.1 | C74: Uurtarief op werkdagen van 06:00 tot 18:00 uur | D74: uur | E74: 26 | F74: ='Prijzenboek regio N'!F74 -> 0 | G74: =E74*F74 -> 0 | H74: 26 | I74: =($F74*$I$3)*H74 -> 0 | J74: 26 | K74: =($F74*$I$3*$K$3)*J74 -> 0 | L74: 26 | M74: =$F74*$I$3*$K$3*$M$3*L74 -> 0 | N74: 26 | O74: =($F74*$I$3*$K$3*$M$3*$O$3)*N74 -> 0 | P74: 26 | Q74: =$F74*$I$3*$K$3*$M$3*$O$3*$Q$3*P74 -> 0 | R74: 26 | S74: =$F74*$I$3*$K$3*$M$3*$O$3*$Q$3*$S$3*R74 -> 0 | T74: 26 | U74: =$F74*$I$3*$K$3*$M$3*$O$3*$Q$3*$S$3*$U$3*T74 -> 0
A75: =A74+1 -> 2 | B75: =B$72&"."&A75 -> 30.2 | C75: Toeslag op uurtarief van 20.2 voor werk op werkdagen van 18:00 tot 06:00 uur (maximaal 15%) | D75: % | E75: 8 | F75: ='Prijzenboek regio N'!F75 -> 0.15 | G75: =$F$74*F75*E75 -> 0 | H75: 8 | I75: =($F74*$F75)*H75*$I$3 -> 0 | J75: 8 | K75: =($F74*$F75)*J75*$I$3*J76*$K$3 -> 0 | L75: 8 | M75: =($F74*$F75)*L75*$I$3*L76*$K$3*$M$3 -> 0 | N75: 8 | O75: =($F74*$F75)*N75*$I$3*N76*$K$3*$M$3*$O$3 -> 0 | P75: 8 | Q75: =($F74*$F75)*P75*$I$3*P76*$K$3*$M$3*$O$3*$Q$3 -> 0 | R75: 8 | S75: =($F74*$F75)*R75*$I$3*R76*$K$3*$M$3*$O$3*$Q$3*$S$3 -> 0 | T75: 8 | U75: =($F74*$F75)*T75*$I$3*T76*$K$3*$M$3*$O$3*$Q$3*$S$3*$U$3 -> 0
A76: =A75+1 -> 3 | B76: =B$72&"."&A76 -> 30.3 | C76: Toeslag op uurtarief van 20.2 voor werk op zaterdag (maximaal 25%) | D76: % | E76: 4 | F76: ='Prijzenboek regio N'!F76 -> 0.25 | G76: =$F$74*F76*E76 -> 0 | H76: 4 | I76: =($F74*$F76)*H76*$I$3 -> 0 | J76: 4 | K76: =($F74*$F76)*J76*$I$3*J77*$K$3 -> 0 | L76: 4 | M76: =($F74*$F76)*L76*$I$3*L77*$K$3*$M$3 -> 0 | N76: 4 | O76: =($F74*$F76)*N76*$I$3*N77*$K$3*$M$3*$O$3 -> 0 | P76: 4 | Q76: =($F74*$F76)*P76*$I$3*P77*$K$3*$M$3*$O$3*$Q$3 -> 0 | R76: 4 | S76: =($F74*$F76)*R76*$I$3*R77*$K$3*$M$3*$O$3*$Q$3*$S$3 -> 0 | T76: 4 | U76: =($F74*$F76)*T76*$I$3*T77*$K$3*$M$3*$O$3*$Q$3*$S$3*$U$3 -> 0
A77: =A76+1 -> 4 | B77: =B$72&"."&A77 -> 30.4 | C77: Toeslag op uurtarief van 20.2 voor werk op zon- en feestdagen (maximaal 35%) | D77: % | E77: 2 | F77: ='Prijzenboek regio N'!F77 -> 0.35 | G77: =$F$74*F77*E77 -> 0 | H77: 2 | I77: =($F74*$F77)*H77*I$3 -> 0 | J77: 2 | K77: =($F74*$F77)*J77*$I$3*$K$3 -> 0 | L77: 2 | M77: =($F74*$F77)*L77*$I$3*$K$3*$M$3 -> 0 | N77: 2 | O77: =($F74*$F77)*N77*$I$3*$K$3*$M$3*$O$3 -> 0 | P77: 2 | Q77: =($F74*$F77)*P77*$I$3*$K$3*$M$3*$O$3*$Q$3 -> 0 | R77: 2 | S77: =($F74*$F77)*R77*$I$3*$K$3*$M$3*$O$3*$Q$3*$S$3 -> 0 | T77: 2 | U77: =($F74*$F77)*T77*$I$3*$K$3*$M$3*$O$3*$Q$3*$S$3*$U$3 -> 0
B78: 45 | C78: Noodstroominstallaties
A79: 5 | B79: =B$72&"."&A79 -> 30.5 | C79: Uurtarief op werkdagen van 06:00 tot 18:00 uur | D79: uur | E79: 26 | F79: ='Prijzenboek regio N'!F79 -> 0 | G79: =E79*F79 -> 0 | H79: 26 | I79: =($F79*$I$3)*H79 -> 0 | J79: 26 | K79: =($F79*$I$3*$K$3)*J79 -> 0 | L79: 26 | M79: =$F79*$I$3*$K$3*$M$3*L79 -> 0 | N79: 26 | O79: =($F79*$I$3*$K$3*$M$3*$O$3)*N79 -> 0 | P79: 26 | Q79: =$F79*$I$3*$K$3*$M$3*$O$3*$Q$3*P79 -> 0 | R79: 26 | S79: =$F79*$I$3*$K$3*$M$3*$O$3*$Q$3*$S$3*R79 -> 0 | T79: 26 | U79: =$F79*$I$3*$K$3*$M$3*$O$3*$Q$3*$S$3*$U$3*T79 -> 0
A80: 6 | B80: =B$72&"."&A80 -> 30.6 | C80: Toeslag op uurtarief van 30.1 voor werk op werkdagen van 18:00 tot 06:00 uur (maximaal 15%) | D80: % | E80: 8 | F80: ='Prijzenboek regio N'!F80 -> 0.15 | G80: =$F$79*F80*E80 -> 0 | H80: 8 | I80: =($F79*$F80)*H80*$I$3 -> 0 | J80: 8 | K80: =($F79*$F80)*J80*$I$3*J81*$K$3 -> 0 | L80: 8 | M80: =($F79*$F80)*L80*$I$3*L81*$K$3*$M$3 -> 0 | N80: 8 | O80: =($F79*$F80)*N80*$I$3*N81*$K$3*$M$3*$O$3 -> 0 | P80: 8 | Q80: =($F79*$F80)*P80*$I$3*P81*$K$3*$M$3*$O$3*$Q$3 -> 0 | R80: 8 | S80: =($F79*$F80)*R80*$I$3*R81*$K$3*$M$3*$O$3*$Q$3*$S$3 -> 0 | T80: 8 | U80: =($F79*$F80)*T80*$I$3*T81*$K$3*$M$3*$O$3*$Q$3*$S$3*$U$3 -> 0
A81: =A80+1 -> 7 | B81: =B$72&"."&A81 -> 30.7 | C81: Toeslag op uurtarief van 30.1 voor werk op zaterdag (maximaal 25%) | D81: % | E81: 4 | F81: ='Prijzenboek regio N'!F81 -> 0.25 | G81: =$F$79*F81*E81 -> 0 | H81: 4 | I81: =($F79*$F81)*H81*$I$3 -> 0 | J81: 4 | K81: =($F79*$F81)*J81*$I$3*J82*$K$3 -> 0 | L81: 4 | M81: =($F79*$F81)*L81*$I$3*L82*$K$3*$M$3 -> 0 | N81: 4 | O81: =($F79*$F81)*N81*$I$3*N82*$K$3*$M$3*$O$3 -> 0 | P81: 4 | Q81: =($F79*$F81)*P81*$I$3*P82*$K$3*$M$3*$O$3*$Q$3 -> 0 | R81: 4 | S81: =($F79*$F81)*R81*$I$3*R82*$K$3*$M$3*$O$3*$Q$3*$S$3 -> 0 | T81: 4 | U81: =($F79*$F81)*T81*$I$3*T82*$K$3*$M$3*$O$3*$Q$3*$S$3*$U$3 -> 0
A82: =A81+1 -> 8 | B82: =B$72&"."&A82 -> 30.8 | C82: Toeslag op uurtarief van 30.1 voor werk op zon- en feestdagen (maximaal 35%) | D82: % | E82: 2 | F82: ='Prijzenboek regio N'!F82 -> 0.35 | G82: =$F$79*F82*E82 -> 0 | H82: 2 | I82: =($F79*$F82)*H82*I$3 -> 0 | J82: 2 | K82: =($F79*$F82)*J82*$I$3*$K$3 -> 0 | L82: 2 | M82: =($F79*$F82)*L82*$I$3*$K$3*$M$3 -> 0 | N82: 2 | O82: =($F79*$F82)*N82*$I$3*$K$3*$M$3*$O$3 -> 0 | P82: 2 | Q82: =($F79*$F82)*P82*$I$3*$K$3*$M$3*$O$3*$Q$3 -> 0 | R82: 2 | S82: =($F79*$F82)*R82*$I$3*$K$3*$M$3*$O$3*$Q$3*$S$3 -> 0 | T82: 2 | U82: =($F79*$F82)*T82*$I$3*$K$3*$M$3*$O$3*$Q$3*$S$3*$U$3 -> 0
B83: 45 | C83: Uurtarief projecten | F83: ='Prijzenboek regio N'!F83 -> 0
A84: =A83+1 -> 1 | B84: =B$83&"."&A84 -> 45.1 | C84: Projectleider | D84: uur | E84: 180 | F84: ='Prijzenboek regio N'!F84 -> 0 | G84: =E84*F84 -> 0 | H84: 180 | I84: =($F84*$I$3)*H84 -> 0 | J84: 180 | K84: =($F84*$I$3*$K$3)*J84 -> 0 | L84: 180 | M84: =$F84*$I$3*$K$3*$M$3*L84 -> 0 | N84: 180 | O84: =($F84*$I$3*$K$3*$M$3*$O$3)*N84 -> 0 | P84: 180 | Q84: =$F84*$I$3*$K$3*$M$3*$O$3*$Q$3*P84 -> 0 | R84: 180 | S84: =$F84*$I$3*$K$3*$M$3*$O$3*$Q$3*$S$3*R84 -> 0 | T84: 180 | U84: =$F84*$I$3*$K$3*$M$3*$O$3*$Q$3*$S$3*$U$3*T84 -> 0
A85: =A84+1 -> 2 | B85: =B$83&"."&A85 -> 45.2 | C85: Calculator | D85: uur | E85: 55 | F85: ='Prijzenboek regio N'!F85 -> 0 | G85: =E85*F85 -> 0 | H85: 55 | I85: =($F85*$I$3)*H85 -> 0 | J85: 55 | K85: =($F85*$I$3*$K$3)*J85 -> 0 | L85: 55 | M85: =$F85*$I$3*$K$3*$M$3*L85 -> 0 | N85: 55 | O85: =($F85*$I$3*$K$3*$M$3*$O$3)*N85 -> 0 | P85: 55 | Q85: =$F85*$I$3*$K$3*$M$3*$O$3*$Q$3*P85 -> 0 | R85: 55 | S85: =$F85*$I$3*$K$3*$M$3*$O$3*$Q$3*$S$3*R85 -> 0 | T85: 55 | U85: =$F85*$I$3*$K$3*$M$3*$O$3*$Q$3*$S$3*$U$3*T85 -> 0
A86: =A85+1 -> 3 | B86: =B$83&"."&A86 -> 45.3 | C86: Engineer | D86: uur | E86: 140 | F86: ='Prijzenboek regio N'!F86 -> 0 | G86: =E86*F86 -> 0 | H86: 140 | I86: =($F86*$I$3)*H86 -> 0 | J86: 140 | K86: =($F86*$I$3*$K$3)*J86 -> 0 | L86: 140 | M86: =$F86*$I$3*$K$3*$M$3*L86 -> 0 | N86: 140 | O86: =($F86*$I$3*$K$3*$M$3*$O$3)*N86 -> 0 | P86: 140 | Q86: =$F86*$I$3*$K$3*$M$3*$O$3*$Q$3*P86 -> 0 | R86: 140 | S86: =$F86*$I$3*$K$3*$M$3*$O$3*$Q$3*$S$3*R86 -> 0 | T86: 140 | U86: =$F86*$I$3*$K$3*$M$3*$O$3*$Q$3*$S$3*$U$3*T86 -> 0
A87: =A86+1 -> 4 | B87: =B$83&"."&A87 -> 45.4 | C87: Werkvoorbereider | D87: uur | E87: 140 | F87: ='Prijzenboek regio N'!F87 -> 0 | G87: =E87*F87 -> 0 | H87: 140 | I87: =($F87*$I$3)*H87 -> 0 | J87: 140 | K87: =($F87*$I$3*$K$3)*J87 -> 0 | L87: 140 | M87: =$F87*$I$3*$K$3*$M$3*L87 -> 0 | N87: 140 | O87: =($F87*$I$3*$K$3*$M$3*$O$3)*N87 -> 0 | P87: 140 | Q87: =$F87*$I$3*$K$3*$M$3*$O$3*$Q$3*P87 -> 0 | R87: 140 | S87: =$F87*$I$3*$K$3*$M$3*$O$3*$Q$3*$S$3*R87 -> 0 | T87: 140 | U87: =$F87*$I$3*$K$3*$M$3*$O$3*$Q$3*$S$3*$U$3*T87 -> 0
A88: =A87+1 -> 5 | B88: =B$83&"."&A88 -> 45.5 | C88: Tekenaar | D88: uur | E88: 55 | F88: ='Prijzenboek regio N'!F88 -> 0 | G88: =E88*F88 -> 0 | H88: 55 | I88: =($F88*$I$3)*H88 -> 0 | J88: 55 | K88: =($F88*$I$3*$K$3)*J88 -> 0 | L88: 55 | M88: =$F88*$I$3*$K$3*$M$3*L88 -> 0 | N88: 55 | O88: =($F88*$I$3*$K$3*$M$3*$O$3)*N88 -> 0 | P88: 55 | Q88: =$F88*$I$3*$K$3*$M$3*$O$3*$Q$3*P88 -> 0 | R88: 55 | S88: =$F88*$I$3*$K$3*$M$3*$O$3*$Q$3*$S$3*R88 -> 0 | T88: 55 | U88: =$F88*$I$3*$K$3*$M$3*$O$3*$Q$3*$S$3*$U$3*T88 -> 0
G89: =SUM(G59:G88) -> 0 | I89: =SUM(I59:I88) -> 0 | K89: =SUM(K59:K88) -> 0 | M89: =SUM(M59:M88) -> 0 | O89: =SUM(O59:O88) -> 0 | Q89: =SUM(Q59:Q88) -> 0 | S89: =SUM(S59:S88) -> 0 | U89: =SUM(U59:U88) -> 0
B90: 60 | C90: Inventarisatie paragraaf 4.6.1
A91: 1 | B91: =B$90&"."&A91 -> 60.1 | C91: Inventarisatie | D91: ruimte | E91: 37 | F91: ='Prijzenboek regio N'!F91 -> 0 | G91: =E91*F91 -> 0 | H91: 1 | I91: =($F91*$I$3)*H91 -> 0 | J91: 1 | K91: =($F91*$I$3*$K$3)*J91 -> 0 | L91: 1 | M91: =$F91*$I$3*$K$3*$M$3*L91 -> 0 | N91: 1 | O91: =($F91*$I$3*$K$3*$M$3*$O$3)*N91 -> 0 | P91: 1 | Q91: =$F91*$I$3*$K$3*$M$3*$O$3*$Q$3*P91 -> 0 | R91: 1 | S91: =$F91*$I$3*$K$3*$M$3*$O$3*$Q$3*$S$3*R91 -> 0 | T91: 1 | U91: =$F91*$I$3*$K$3*$M$3*$O$3*$Q$3*$S$3*$U$3*T91 -> 0
B92: 70 | C92: Nieuwe Logboeken en ruimte dossier NTN paragraaf 4.6.1 en paragraaf 5.8
A93: 1 | B93: =B$92&"."&A93 -> 70.1 | C93: Ruimte dossier NTN | D93: stuks | E93: 5 | F93: ='Prijzenboek regio N'!F93 -> 0 | G93: =E93*F93 -> 0 | H93: 5 | I93: =($F93*$I$3)*H93 -> 0 | J93: 5 | K93: =($F93*$I$3*$K$3)*J93 -> 0 | L93: 5 | M93: =$F93*$I$3*$K$3*$M$3*L93 -> 0 | N93: 5 | O93: =($F93*$I$3*$K$3*$M$3*$O$3)*N93 -> 0 | P93: 5 | Q93: =$F93*$I$3*$K$3*$M$3*$O$3*$Q$3*P93 -> 0 | R93: 5 | S93: =$F93*$I$3*$K$3*$M$3*$O$3*$Q$3*$S$3*R93 -> 0 | T93: 5 | U93: =$F93*$I$3*$K$3*$M$3*$O$3*$Q$3*$S$3*$U$3*T93 -> 0
A94: 2 | B94: =B$92&"."&A94 -> 70.2 | C94: Logboek koelinstallatie NTN ruimte | D94: stuks | E94: 5 | F94: ='Prijzenboek regio N'!F94 -> 0 | G94: =E94*F95 -> 0 | H94: 5 | I94: =($F95*$I$3)*H94 -> 0 | J94: 5 | K94: =($F94*$I$3*$K$3)*J94 -> 0 | L94: 5 | M94: =$F95*$I$3*$K$3*$M$3*L94 -> 0 | N94: 5 | O94: =($F94*$I$3*$K$3*$M$3*$O$3)*N94 -> 0 | P94: 5 | Q94: =$F94*$I$3*$K$3*$M$3*$O$3*$Q$3*P94 -> 0 | R94: 5 | S94: =$F94*$I$3*$K$3*$M$3*$O$3*$Q$3*$S$3*R94 -> 0 | T94: 5 | U94: =$F94*$I$3*$K$3*$M$3*$O$3*$Q$3*$S$3*$U$3*T94 -> 0
A95: 3 | B95: =B$92&"."&A95 -> 70.3 | C95: Logboek brandwerende doorvoeringen NTN ruimte | D95: stuks | E95: 2 | F95: ='Prijzenboek regio N'!F95 -> 0 | G95: =E95*F95 -> 0 | H95: 2 | I95: =($F95*$I$3)*H95 -> 0 | J95: 2 | K95: =($F95*$I$3*$K$3)*J95 -> 0 | L95: 2 | M95: =$F95*$I$3*$K$3*$M$3*L95 -> 0 | N95: 2 | O95: =($F95*$I$3*$K$3*$M$3*$O$3)*N95 -> 0 | P95: 2 | Q95: =$F95*$I$3*$K$3*$M$3*$O$3*$Q$3*P95 -> 0 | R95: 2 | S95: =$F95*$I$3*$K$3*$M$3*$O$3*$Q$3*$S$3*R95 -> 0 | T95: 2 | U95: =$F95*$I$3*$K$3*$M$3*$O$3*$Q$3*$S$3*$U$3*T95 -> 0
B96: 75 | C96: Vergoeding voor niet uit tevoeren werkzaamheden en wachturen
A97: =A96+1 -> 1 | B97: =B$96&"."&A97 -> 75.1 | C97: Vergoeding bij status niet gekeurd | D97: stuks | E97: 4 | F97: ='Prijzenboek regio N'!F97 -> 0 | G97: =E97*F97 -> 0 | H97: 4 | I97: =($F97*$I$3)*H97 -> 0 | J97: 4 | K97: =($F97*$I$3*$K$3)*J97 -> 0 | L97: 4 | M97: =$F97*$I$3*$K$3*$M$3*L97 -> 0 | N97: 4 | O97: =($F97*$I$3*$K$3*$M$3*$O$3)*N97 -> 0 | P97: 4 | Q97: =$F97*$I$3*$K$3*$M$3*$O$3*$Q$3*P97 -> 0 | R97: 4 | S97: =$F97*$I$3*$K$3*$M$3*$O$3*$Q$3*$S$3*R97 -> 0 | T97: 4 | U97: =$F97*$I$3*$K$3*$M$3*$O$3*$Q$3*$S$3*$U$3*T97 -> 0
A98: =A97+1 -> 2 | B98: =B$96&"."&A98 -> 75.2 | C98: Vergoeding voor opnemen volledige gegevens nieuwe componenten | D98: stuks | E98: 1 | F98: ='Prijzenboek regio N'!F98 -> 0 | G98: =E98*F98 -> 0 | H98: 1 | I98: =($F98*$I$3)*H98 -> 0 | J98: 1 | K98: =($F98*$I$3*$K$3)*J98 -> 0 | L98: 1 | M98: =$F98*$I$3*$K$3*$M$3*L98 -> 0 | N98: 1 | O98: =($F98*$I$3*$K$3*$M$3*$O$3)*N98 -> 0 | P98: 1 | Q98: =$F98*$I$3*$K$3*$M$3*$O$3*$Q$3*P98 -> 0 | R98: 1 | S98: =$F98*$I$3*$K$3*$M$3*$O$3*$Q$3*$S$3*R98 -> 0 | T98: 1 | U98: =$F98*$I$3*$K$3*$M$3*$O$3*$Q$3*$S$3*$U$3*T98 -> 0
A99: =A98+1 -> 3 | B99: =B$96&"."&A99 -> 75.3 | C99: Wachturen | D99: uur | E99: 12 | F99: ='Prijzenboek regio N'!F99 -> 0 | G99: =E99*F99 -> 0 | H99: 12 | I99: =($F99*$I$3)*H99 -> 0 | J99: 12 | K99: =($F99*$I$3*$K$3)*J99 -> 0 | L99: 12 | M99: =$F99*$I$3*$K$3*$M$3*L99 -> 0 | N99: 12 | O99: =($F99*$I$3*$K$3*$M$3*$O$3)*N99 -> 0 | P99: 12 | Q99: =$F99*$I$3*$K$3*$M$3*$O$3*$Q$3*P99 -> 0 | R99: 12 | S99: =$F99*$I$3*$K$3*$M$3*$O$3*$Q$3*$S$3*R99 -> 0 | T99: 12 | U99: =$F99*$I$3*$K$3*$M$3*$O$3*$Q$3*$S$3*$U$3*T99 -> 0
A100: =A99+1 -> 4 | B100: =B$96&"."&A100 -> 75.4 | C100: Vergoeding niet nakomen uitvoeringsdatum inspectie en onderhoud. | D100: stuks | E100: 12 | F100: ='Prijzenboek regio N'!F100 -> 750 | G100: =E100*F100 -> 9000 | H100: 12 | I100: =($F100*$I$3)*H100 -> 9000 | J100: 12 | K100: =($F100*$I$3*$K$3)*J100 -> 9000 | L100: 12 | M100: =$F100*$I$3*$K$3*$M$3*L100 -> 9000 | N100: 12 | O100: =($F100*$I$3*$K$3*$M$3*$O$3)*N100 -> 9000 | P100: 12 | Q100: =$F100*$I$3*$K$3*$M$3*$O$3*$Q$3*P100 -> 9000 | R100: 12 | S100: =$F100*$I$3*$K$3*$M$3*$O$3*$Q$3*$S$3*R100 -> 9000 | T100: 12 | U100: =$F100*$I$3*$K$3*$M$3*$O$3*$Q$3*$S$3*$U$3*T100 -> 9000
B101: 80 | C101: Hulpmiddelen
...

Sheet Prijzenboek regio O
B1: Prijzenboek Regio Oost
F2: 2024 | I2: 2025 | K2: 2026 | M2: 2027 | O2: 2028 | Q2: 2029 | S2: 2030 | U2: 2031
H3: Indexering | I3: 1 | J3: Indexering | K3: 1 | L3: Indexering | M3: 1 | N3: Indexering | O3: 1 | P3: Indexering | Q3: 1 | R3: Indexering | S3: 1 | T3: Indexering | U3: 1
B5: Blok | D5: Eenheid | E5: Aantallen (fictief per jaar) | F5: Verrekenprijs (per eenheid) | G5: Prijs (aantal x eenheidsprijs) | H5: Aantallen (fictief per jaar) | I5: Prijs (aantal x indexering x eenheidsprijs) | J5: Aantallen (fictief per jaar) | K5: Prijs (aantal x indexering x eenheidsprijs) | L5: Aantallen (fictief per jaar) | M5: Prijs (aantal x indexering x eenheidsprijs) | N5: Aantallen (fictief per jaar) | O5: Prijs (aantal x indexering x eenheidsprijs) | P5: Aantallen (fictief per jaar) | Q5: Prijs (aantal x indexering x eenheidsprijs) | R5: Aantallen (fictief per jaar) | S5: Prijs (aantal x indexering x eenheidsprijs) | T5: Aantallen (fictief per jaar) | U5: Prijs (aantal x indexering x eenheidsprijs)
B6: 10 | C6: Preventief Onderhoud volgens Keuringsplan
C7: Noodstroominstallaties paragraaf 4.3.3
A8: 1 | B8: =B$6&"."&A8 -> 10.1 | C8: Onderhoud Statische No-break 1j -48V | D8: Ruimte | E8: 22 | F8: ='Prijzenboek regio N'!F8 -> 0 | G8: =E8*F8 -> 0 | H8: 22 | I8: =($F8*$I$3)*H8 -> 0 | J8: 22 | K8: =$F8*$I$3*$K$3*J8 -> 0 | L8: 22 | M8: =($F8*$I$3*$K$3*$M$3)*L8 -> 0 | N8: 22 | O8: =($F8*$I$3*$K$3*$M$3*$O$3)*N8 -> 0 | P8: 22 | Q8: =$F8*$I$3*$K$3*$M$3*$O$3*$Q$3*P8 -> 0 | R8: 22 | S8: =$F8*$I$3*$K$3*$M$3*$O$3*$Q$3*$S$3*R8 -> 0 | T8: 22 | U8: =$F8*$I$3*$K$3*$M$3*$O$3*$Q$3*$S$3*$U$3*T8 -> 0
A9: 2 | B9: =B$6&"."&A9 -> 10.2 | C9: Onderhoud / inspectie rectifier | D9: stuks | E9: 95 | F9: ='Prijzenboek regio N'!F9 -> 0 | G9: =E9*F9 -> 0 | H9: 86 | I9: =($F9*$I$3)*H9 -> 0 | J9: 77 | K9: =$F9*$I$3*$K$3*J9 -> 0 | L9: 68 | M9: =$F9*$I$3*$K$3*$M$3*L9 -> 0 | N9: 61 | O9: =($F9*$I$3*$K$3*$M$3*$O$3)*N9 -> 0 | P9: 52 | Q9: =$F9*$I$3*$K$3*$M$3*$O$3*$Q$3*P9 -> 0 | R9: 43 | S9: =$F9*$I$3*$K$3*$M$3*$O$3*$Q$3*$S$3*R9 -> 0 | T9: 34 | U9: =$F9*$I$3*$K$3*$M$3*$O$3*$Q$3*$S$3*$U$3*T9 -> 0
A10: 3 | B10: =B$6&"."&A10 -> 10.3 | C10: Onderhoud / inspectie inverter | D10: stuks | E10: 17 | F10: ='Prijzenboek regio N'!F10 -> 0 | G10: =E10*F10 -> 0 | H10: 16 | I10: =($F10*$I$3)*H10 -> 0 | J10: 15 | K10: =($F10*$I$3*$K$3)*J10 -> 0 | L10: 14 | M10: =$F10*$I$3*$K$3*$M$3*L10 -> 0 | N10: 13 | O10: =($F10*$I$3*$K$3*$M$3*$O$3)*N10 -> 0 | P10: 12 | Q10: =$F10*$I$3*$K$3*$M$3*$O$3*$Q$3*P10 -> 0 | R10: 11 | S10: =$F10*$I$3*$K$3*$M$3*$O$3*$Q$3*$S$3*R10 -> 0 | T10: 10 | U10: =$F10*$I$3*$K$3*$M$3*$O$3*$Q$3*$S$3*$U$3*T10 -> 0
A11: 4 | B11: =B$6&"."&A11 -> 10.4 | C11: Onderhoud / inspectie accu's en Siemens meting (per accu) | D11: stuks | E11: 196 | F11: ='Prijzenboek regio N'!F11 -> 0 | G11: =E11*F11 -> 0 | H11: 176 | I11: =($F11*$I$3)*H11 -> 0 | J11: 156 | K11: =($F11*$I$3*$K$3)*J11 -> 0 | L11: 136 | M11: =$F11*$I$3*$K$3*$M$3*L11 -> 0 | N11: 116 | O11: =($F11*$I$3*$K$3*$M$3*$O$3)*N11 -> 0 | P11: 96 | Q11: =$F11*$I$3*$K$3*$M$3*$O$3*$Q$3*P11 -> 0 | R11: 76 | S11: =$F11*$I$3*$K$3*$M$3*$O$3*$Q$3*$S$3*R11 -> 0 | T11: 56 | U11: =$F11*$I$3*$K$3*$M$3*$O$3*$Q$3*$S$3*$U$3*T11 -> 0
A12: 5 | B12: =B$6&"."&A12 -> 10.5 | C12: Inspectie HPDE afdichtingen | D12: stuks | E12: 146 | F12: ='Prijzenboek regio N'!F12 -> 0 | G12: =E12*F12 -> 0 | H12: 146 | I12: =($F12*$I$3)*H12 -> 0 | J12: 146 | K12: =($F12*$I$3*$K$3)*J12 -> 0 | L12: 146 | M12: =$F12*$I$3*$K$3*$M$3*L12 -> 0 | N12: 146 | O12: =($F12*$I$3*$K$3*$M$3*$O$3)*N12 -> 0 | P12: 146 | Q12: =$F12*$I$3*$K$3*$M$3*$O$3*$Q$3*P12 -> 0 | R12: 146 | S12: =$F12*$I$3*$K$3*$M$3*$O$3*$Q$3*$S$3*R12 -> 0 | T12: 146 | U12: =$F12*$I$3*$K$3*$M$3*$O$3*$Q$3*$S$3*$U$3*T12 -> 0
A13: 6 | B13: =B$6&"."&A13 -> 10.6 | C13: Controleren doormeldingen naar ITOC | D13: Ruimte | E13: 22 | F13: ='Prijzenboek regio N'!F13 -> 0 | G13: =E13*F13 -> 0 | H13: 22 | I13: =($F13*$I$3)*H13 -> 0 | J13: 22 | K13: =$F13*$I$3*$K$3*J13 -> 0 | L13: 22 | M13: =($F13*$I$3*$K$3*$M$3)*L13 -> 0 | N13: 22 | O13: =($F13*$I$3*$K$3*$M$3*$O$3)*N13 -> 0 | P13: 22 | Q13: =$F13*$I$3*$K$3*$M$3*$O$3*$Q$3*P13 -> 0 | R13: 22 | S13: =$F13*$I$3*$K$3*$M$3*$O$3*$Q$3*$S$3*R13 -> 0 | T13: 22 | U13: =$F13*$I$3*$K$3*$M$3*$O$3*$Q$3*$S$3*$U$3*T13 -> 0
A14: 7 | B14: =B$6&"."&A14 -> 10.7 | C14: Onderhoud Statische No-break 1j (priva) | D14: stuks | E14: 2 | F14: ='Prijzenboek regio N'!F14 -> 0 | G14: =E14*F14 -> 0 | H14: 2 | I14: =($F14*$I$3)*H14 -> 0 | J14: 2 | K14: =($F14*$I$3*$K$3)*J14 -> 0 | L14: 2 | M14: =$F14*$I$3*$K$3*$M$3*L14 -> 0 | N14: 2 | O14: =($F14*$I$3*$K$3*$M$3*$O$3)*N14 -> 0 | P14: 2 | Q14: =$F14*$I$3*$K$3*$M$3*$O$3*$Q$3*P14 -> 0 | R14: 2 | S14: =$F14*$I$3*$K$3*$M$3*$O$3*$Q$3*$S$3*R14 -> 0 | T14: 2 | U14: =$F14*$I$3*$K$3*$M$3*$O$3*$Q$3*$S$3*$U$3*T14 -> 0
A15: 8 | B15: =B$6&"."&A15 -> 10.8 | C15: Onderhoud Statische No-break 1j | D15: stuks | E15: 14 | F15: ='Prijzenboek regio N'!F15 -> 0 | G15: =E15*F15 -> 0 | H15: 5 | I15: =($F15*$I$3)*H15 -> 0 | J15: 5 | K15: =($F15*$I$3*$K$3)*J15 -> 0 | L15: 5 | M15: =$F15*$I$3*$K$3*$M$3*L15 -> 0 | N15: 5 | O15: =($F15*$I$3*$K$3*$M$3*$O$3)*N15 -> 0 | P15: 5 | Q15: =$F15*$I$3*$K$3*$M$3*$O$3*$Q$3*P15 -> 0 | R15: 5 | S15: =$F15*$I$3*$K$3*$M$3*$O$3*$Q$3*$S$3*R15 -> 0 | T15: 5 | U15: =$F15*$I$3*$K$3*$M$3*$O$3*$Q$3*$S$3*$U$3*T15 -> 0
C16: Aspiratie systeem paragraaf 4.3.6
A17: 9 | B17: =B$6&"."&A17 -> 10.9 | C17: XTRALIS VESDA ASPIRATIEDETECTIE | D17: stuks | E17: 17 | F17: ='Prijzenboek regio N'!F17 -> 0 | G17: =E17*F17 -> 0 | H17: 17 | I17: =($F17*$I$3)*H17 -> 0 | J17: 17 | K17: =($F17*$I$3*$K$3)*J17 -> 0 | L17: 17 | M17: =$F17*$I$3*$K$3*$M$3*L17 -> 0 | N17: 17 | O17: =($F17*$I$3*$K$3*$M$3*$O$3)*N17 -> 0 | P17: 17 | Q17: =$F17*$I$3*$K$3*$M$3*$O$3*$Q$3*P17 -> 0 | R17: 17 | S17: =$F17*$I$3*$K$3*$M$3*$O$3*$Q$3*$S$3*R17 -> 0 | T17: 17 | U17: =$F17*$I$3*$K$3*$M$3*$O$3*$Q$3*$S$3*$U$3*T17 -> 0
C18: Brandmeldinstallatie paragraaf 4.3.7
A19: 10 | B19: =B$6&"."&A19 -> 10.10 | C19: Controle hand, rook melder en temperatuur melder BMI (Prijs per melder) | D19: stuks | E19: 22 | F19: ='Prijzenboek regio N'!F19 -> 0 | G19: =E19*F19 -> 0 | H19: 22 | I19: =($F19*$I$3)*H19 -> 0 | J19: 22 | K19: =($F19*$I$3*$K$3)*J19 -> 0 | L19: 22 | M19: =$F19*$I$3*$K$3*$M$3*L19 -> 0 | N19: 22 | O19: =($F19*$I$3*$K$3*$M$3*$O$3)*N19 -> 0 | P19: 22 | Q19: =$F19*$I$3*$K$3*$M$3*$O$3*$Q$3*P19 -> 0 | R19: 22 | S19: =$F19*$I$3*$K$3*$M$3*$O$3*$Q$3*$S$3*R19 -> 0 | T19: 22 | U19: =$F19*$I$3*$K$3*$M$3*$O$3*$Q$3*$S$3*$U$3*T19 -> 0
A20: 11 | B20: =B$6&"."&A20 -> 10.11 | C20: Neventableau | D20: stuks | E20: 6 | F20: ='Prijzenboek regio N'!F20 -> 0 | G20: =E20*F20 -> 0 | H20: 6 | I20: =($F20*$I$3)*H20 -> 0 | J20: 6 | K20: =($F20*$I$3*$K$3)*J20 -> 0 | L20: 6 | M20: =$F20*$I$3*$K$3*$M$3*L20 -> 0 | N20: 6 | O20: =($F20*$I$3*$K$3*$M$3*$O$3)*N20 -> 0 | P20: 6 | Q20: =$F20*$I$3*$K$3*$M$3*$O$3*$Q$3*P20 -> 0 | R20: 6 | S20: =$F20*$I$3*$K$3*$M$3*$O$3*$Q$3*$S$3*R20 -> 0 | T20: 6 | U20: =$F20*$I$3*$K$3*$M$3*$O$3*$Q$3*$S$3*$U$3*T20 -> 0
A21: 12 | B21: =B$6&"."&A21 -> 10.12 | C21: Doormeldingen | D21: ruimte | E21: 22 | F21: ='Prijzenboek regio N'!F21 -> 0 | G21: =E21*F21 -> 0 | H21: 22 | I21: =($F21*$I$3)*H21 -> 0 | J21: 22 | K21: =($F21*$I$3*$K$3)*J21 -> 0 | L21: 22 | M21: =$F21*$I$3*$K$3*$M$3*L21 -> 0 | N21: 22 | O21: =($F21*$I$3*$K$3*$M$3*$O$3)*N21 -> 0 | P21: 22 | Q21: =$F21*$I$3*$K$3*$M$3*$O$3*$Q$3*P21 -> 0 | R21: 22 | S21: =$F21*$I$3*$K$3*$M$3*$O$3*$Q$3*$S$3*R21 -> 0 | T21: 22 | U21: =$F21*$I$3*$K$3*$M$3*$O$3*$Q$3*$S$3*$U$3*T21 -> 0
A22: 13 | B22: =B$6&"."&A22 -> 10.13 | C22: Inspectie en onderhoud BMI 12m | D22: stuks | E22: 17 | F22: ='Prijzenboek regio N'!F22 -> 0 | G22: =E22*F22 -> 0 | H22: 17 | I22: =($F22*$I$3)*H22 -> 0 | J22: 17 | K22: =($F22*$I$3*$K$3)*J22 -> 0 | L22: 17 | M22: =$F22*$I$3*$K$3*$M$3*L22 -> 0 | N22: 17 | O22: =($F22*$I$3*$K$3*$M$3*$O$3)*N22 -> 0 | P22: 17 | Q22: =$F22*$I$3*$K$3*$M$3*$O$3*$Q$3*P22 -> 0 | R22: 17 | S22: =$F22*$I$3*$K$3*$M$3*$O$3*$Q$3*$S$3*R22 -> 0 | T22: 17 | U22: =$F22*$I$3*$K$3*$M$3*$O$3*$Q$3*$S$3*$U$3*T22 -> 0
A23: 14 | B23: =B$6&"."&A23 -> 10.14 | C23: 07-B1 CCV insp en odh VBB blusgas 1j | D23: stuks | E23: 0 | F23: ='Prijzenboek regio N'!F23 -> 0 | G23: =E23*F23 -> 0 | H23: 0 | I23: =($F23*$I$3)*H23 -> 0 | J23: 0 | K23: =($F23*$I$3*$K$3)*J23 -> 0 | L23: 0 | M23: =$F23*$I$3*$K$3*$M$3*L23 -> 0 | N23: 0 | O23: =($F23*$I$3*$K$3*$M$3*$O$3)*N23 -> 0 | P23: 0 | Q23: =$F23*$I$3*$K$3*$M$3*$O$3*$Q$3*P23 -> 0 | R23: 0 | S23: =$F23*$I$3*$K$3*$M$3*$O$3*$Q$3*$S$3*R23 -> 0 | T23: 0 | U23: =$F23*$I$3*$K$3*$M$3*$O$3*$Q$3*$S$3*$U$3*T23 -> 0
A24: 15 | B24: =B$6&"."&A24 -> 10.15 | C24: 07-B2 CCV insp en odh blusgas 5j | D24: stuks | E24: 0 | F24: ='Prijzenboek regio N'!F24 -> 0 | G24: =E24*F24 -> 0 | H24: 0 | I24: =($F24*$I$3)*H24 -> 0 | J24: 0 | K24: =($F24*$I$3*$K$3)*J24 -> 0 | L24: 0 | M24: =$F24*$I$3*$K$3*$M$3*L24 -> 0 | N24: 0 | O24: =($F24*$I$3*$K$3*$M$3*$O$3)*N24 -> 0 | P24: 0 | Q24: =$F24*$I$3*$K$3*$M$3*$O$3*$Q$3*P24 -> 0 | R24: 0 | S24: =$F24*$I$3*$K$3*$M$3*$O$3*$Q$3*$S$3*R24 -> 0 | T24: 0 | U24: =$F24*$I$3*$K$3*$M$3*$O$3*$Q$3*$S$3*$U$3*T24 -> 0
C25: Mechanische luchtbehandeling
A26: 16 | B26: =B$6&"."&A26 -> 10.16 | C26: Onderhoud / inspectie stoombevochtiger | D26: stuks | E26: 10 | F26: ='Prijzenboek regio N'!F26 -> 0 | G26: =E26*F26 -> 0 | H26: 10 | I26: =($F26*$I$3)*H26 -> 0 | J26: 10 | K26: =($F26*$I$3*$K$3)*J26 -> 0 | L26: 10 | M26: =$F26*$I$3*$K$3*$M$3*L26 -> 0 | N26: 10 | O26: =($F26*$I$3*$K$3*$M$3*$O$3)*N26 -> 0 | P26: 10 | Q26: =$F26*$I$3*$K$3*$M$3*$O$3*$Q$3*P26 -> 0 | R26: 10 | S26: =$F26*$I$3*$K$3*$M$3*$O$3*$Q$3*$S$3*R26 -> 0 | T26: 10 | U26: =$F26*$I$3*$K$3*$M$3*$O$3*$Q$3*$S$3*$U$3*T26 -> 0
C27: Klimaatregelinstallatie paragraaf 4.3.9
A28: 17 | B28: =B$6&"."&A28 -> 10.17 | C28: Softwarecontrole 1j | D28: stuks | E28: 6 | F28: ='Prijzenboek regio N'!F28 -> 0 | G28: =E28*F28 -> 0 | H28: 6 | I28: =($F28*$I$3)*H28 -> 0 | J28: 6 | K28: =($F28*$I$3*$K$3)*J28 -> 0 | L28: 6 | M28: =$F28*$I$3*$K$3*$M$3*L28 -> 0 | N28: 6 | O28: =($F28*$I$3*$K$3*$M$3*$O$3)*N28 -> 0 | P28: 6 | Q28: =$F28*$I$3*$K$3*$M$3*$O$3*$Q$3*P28 -> 0 | R28: 6 | S28: =$F28*$I$3*$K$3*$M$3*$O$3*$Q$3*$S$3*R28 -> 0 | T28: 6 | U28: =$F28*$I$3*$K$3*$M$3*$O$3*$Q$3*$S$3*$U$3*T28 -> 0
A29: 18 | B29: =B$6&"."&A29 -> 10.18 | C29: Onderhoud klimaatregelinstallatie 1j | D29: stuks | E29: 6 | F29: ='Prijzenboek regio N'!F29 -> 0 | G29: =E29*F29 -> 0 | H29: 6 | I29: =($F29*$I$3)*H29 -> 0 | J29: 6 | K29: =($F29*$I$3*$K$3)*J29 -> 0 | L29: 6 | M29: =$F29*$I$3*$K$3*$M$3*L29 -> 0 | N29: 6 | O29: =($F29*$I$3*$K$3*$M$3*$O$3)*N29 -> 0 | P29: 6 | Q29: =$F29*$I$3*$K$3*$M$3*$O$3*$Q$3*P29 -> 0 | R29: 6 | S29: =$F29*$I$3*$K$3*$M$3*$O$3*$Q$3*$S$3*R29 -> 0 | T29: 6 | U29: =$F29*$I$3*$K$3*$M$3*$O$3*$Q$3*$S$3*$U$3*T29 -> 0
A30: 19 | B30: =B$6&"."&A30 -> 10.19 | C30: Onderhoud klimaatregelinstallatie 4j vervangen back-up accu | D30: stuks | E30: 2 | F30: ='Prijzenboek regio N'!F30 -> 0 | G30: =E30*F30 -> 0 | H30: 2 | I30: =($F30*$I$3)*H30 -> 0 | J30: 2 | K30: =($F30*$I$3*$K$3)*J30 -> 0 | L30: 2 | M30: =$F30*$I$3*$K$3*$M$3*L30 -> 0 | N30: 2 | O30: =($F30*$I$3*$K$3*$M$3*$O$3)*N30 -> 0 | P30: 2 | Q30: =$F30*$I$3*$K$3*$M$3*$O$3*$Q$3*P30 -> 0 | R30: 2 | S30: =$F30*$I$3*$K$3*$M$3*$O$3*$Q$3*$S$3*R30 -> 0 | T30: 2 | U30: =$F30*$I$3*$K$3*$M$3*$O$3*$Q$3*$S$3*$U$3*T30 -> 0
C31: Brandwerende doorvoeringen paragraaf 4.3.3
A32: 20 | B32: =B$6&"."&A32 -> 10.20 | C32: Visuele inspectie brandwerende doorvoeringen | D32: Ruimte | E32: 19 | F32: ='Prijzenboek regio N'!F32 -> 0 | G32: =E32*F32 -> 0 | H32: 4 | I32: =($F32*$I$3)*H32 -> 0 | J32: 4 | K32: =($F32*$I$3*$K$3)*J32 -> 0 | L32: 4 | M32: =$F32*$I$3*$K$3*$M$3*L32 -> 0 | N32: 4 | O32: =($F32*$I$3*$K$3*$M$3*$O$3)*N32 -> 0 | P32: 4 | Q32: =$F32*$I$3*$K$3*$M$3*$O$3*$Q$3*P32 -> 0 | R32: 4 | S32: =$F32*$I$3*$K$3*$M$3*$O$3*$Q$3*$S$3*R32 -> 0 | T32: 4 | U32: =$F32*$I$3*$K$3*$M$3*$O$3*$Q$3*$S$3*$U$3*T32 -> 0
C33: Aardings- en Bliksembeveiligingsinstallaties paragraaf 4.3.2
A34: 21 | B34: =B$6&"."&A34 -> 10.21 | C34: Periodiek Inspectie geleidende vloer per ruimte incl. opstellen rapport | D34: Ruimte | E34: 12 | F34: ='Prijzenboek regio N'!F34 -> 0 | G34: =E34*F34 -> 0 | H34: 12 | I34: =($F34*$I$3)*H34 -> 0 | J34: 12 | K34: =($F34*$I$3*$K$3)*J34 -> 0 | L34: 12 | M34: =$F34*$I$3*$K$3*$M$3*L34 -> 0 | N34: 12 | O34: =($F34*$I$3*$K$3*$M$3*$O$3)*N34 -> 0 | P34: 12 | Q34: =$F34*$I$3*$K$3*$M$3*$O$3*$Q$3*P34 -> 0 | R34: 12 | S34: =$F34*$I$3*$K$3*$M$3*$O$3*$Q$3*$S$3*R34 -> 0 | T34: 12 | U34: =$F34*$I$3*$K$3*$M$3*$O$3*$Q$3*$S$3*$U$3*T34 -> 0
A35: 22 | B35: =B$6&"."&A35 -> 10.22 | C35: Periodiek Inspectie statische aardstrip/aardrail en aardpunten per ruimte inclusief opstellen rapporten. | D35: Ruimte | E35: 20 | F35: ='Prijzenboek regio N'!F35 -> 0 | G35: =E35*F35 -> 0 | H35: 20 | I35: =($F35*$I$3)*H35 -> 0 | J35: 20 | K35: =($F35*$I$3*$K$3)*J35 -> 0 | L35: 20 | M35: =$F35*$I$3*$K$3*$M$3*L35 -> 0 | N35: 20 | O35: =($F35*$I$3*$K$3*$M$3*$O$3)*N35 -> 0 | P35: 20 | Q35: =$F35*$I$3*$K$3*$M$3*$O$3*$Q$3*P35 -> 0 | R35: 20 | S35: =$F35*$I$3*$K$3*$M$3*$O$3*$Q$3*$S$3*R35 -> 0 | T35: 20 | U35: =$F35*$I$3*$K$3*$M$3*$O$3*$Q$3*$S$3*$U$3*T35 -> 0
C36: Periodieke inspecties laagspanning paragraaf 4.3.4
A37: 23 | B37: =B$6&"."&A37 -> 10.23 | C37: Periodieke inspectie elektrische installatie 1j | D37: Ruimte | E37: 20 | F37: ='Prijzenboek regio N'!F37 -> 0 | G37: =E37*F37 -> 0 | H37: 0 | I37: =($F37*$I$3)*H37 -> 0 | J37: 20 | K37: =($F37*$I$3*$K$3)*J37 -> 0 | L37: 20 | M37: =$F37*$I$3*$K$3*$M$3*L37 -> 0 | N37: 20 | O37: =($F37*$I$3*$K$3*$M$3*$O$3)*N37 -> 0 | P37: 0 | Q37: =$F37*$I$3*$K$3*$M$3*$O$3*$Q$3*P37 -> 0 | R37: 20 | S37: =$F37*$I$3*$K$3*$M$3*$O$3*$Q$3*$S$3*R37 -> 0 | T37: 20 | U37: =$F37*$I$3*$K$3*$M$3*$O$3*$Q$3*$S$3*$U$3*T37 -> 0
A38: 24 | B38: =B$6&"."&A38 -> 10.24 | C38: Periodieke inspectie elektrische installatie 4j | D38: Ruimte | E38: 0 | F38: ='Prijzenboek regio N'!F38 -> 0 | G38: =E38*F38 -> 0 | H38: 20 | I38: =($F38*$I$3)*H38 -> 0 | J38: 0 | K38: =($F38*$I$3*$K$3)*J38 -> 0 | L38: 0 | M38: =$F38*$I$3*$K$3*$M$3*L38 -> 0 | N38: 0 | O38: =($F38*$I$3*$K$3*$M$3*$O$3)*N38 -> 0 | P38: 20 | Q38: =$F38*$I$3*$K$3*$M$3*$O$3*$Q$3*P38 -> 0 | R38: 0 | S38: =$F38*$I$3*$K$3*$M$3*$O$3*$Q$3*$S$3*R38 -> 0 | T38: 0 | U38: =$F38*$I$3*$K$3*$M$3*$O$3*$Q$3*$S$3*$U$3*T38 -> 0
C39: Noodverlichtingsinstallaties paragraaf 4.3.5
A40: 25 | B40: =B$6&"."&A40 -> 10.25 | C40: Periodieke inspectie en onderhoud noodverlichting 1j, decentrale noodverliching per ruimte met 1 t/ m 10 armaturen | D40: Ruimte | E40: 21 | F40: ='Prijzenboek regio N'!F40 -> 0 | G40: =E40*F40 -> 0 | H40: 20 | I40: =($F40*$I$3)*H40 -> 0 | J40: 20 | K40: =($F40*$I$3*$K$3)*J40 -> 0 | L40: 20 | M40: =$F40*$I$3*$K$3*$M$3*L40 -> 0 | N40: 20 | O40: =($F40*$I$3*$K$3*$M$3*$O$3)*N40 -> 0 | P40: 20 | Q40: =$F40*$I$3*$K$3*$M$3*$O$3*$Q$3*P40 -> 0 | R40: 20 | S40: =$F40*$I$3*$K$3*$M$3*$O$3*$Q$3*$S$3*R40 -> 0 | T40: 20 | U40: =$F40*$I$3*$K$3*$M$3*$O$3*$Q$3*$S$3*$U$3*T40 -> 0
C41: Koelinstallatie paragraaf 4.3.9
A42: 26 | B42: =B$6&"."&A42 -> 10.26 | C42: Onderhoud computerkoeling < 5 ton CO2 1j | D42: stuks | E42: 21 | F42: ='Prijzenboek regio N'!F42 -> 0 | G42: =E42*F42 -> 0 | H42: 20 | I42: =($F42*$I$3)*H42 -> 0 | J42: 20 | K42: =($F42*$I$3*$K$3)*J42 -> 0 | L42: 20 | M42: =$F42*$I$3*$K$3*$M$3*L42 -> 0 | N42: 20 | O42: =($F42*$I$3*$K$3*$M$3*$O$3)*N42 -> 0 | P42: 20 | Q42: =$F42*$I$3*$K$3*$M$3*$O$3*$Q$3*P42 -> 0 | R42: 20 | S42: =$F42*$I$3*$K$3*$M$3*$O$3*$Q$3*$S$3*R42 -> 0 | T42: 20 | U42: =$F42*$I$3*$K$3*$M$3*$O$3*$Q$3*$S$3*$U$3*T42 -> 0
A43: 27 | B43: =B$6&"."&A43 -> 10.27 | C43: Controle lekdetectiesysteem computerkoeling 1j | D43: stuks | E43: 21 | F43: ='Prijzenboek regio N'!F43 -> 0 | G43: =E43*F43 -> 0 | H43: 20 | I43: =($F43*$I$3)*H43 -> 0 | J43: 20 | K43: =($F43*$I$3*$K$3)*J43 -> 0 | L43: 20 | M43: =$F43*$I$3*$K$3*$M$3*L43 -> 0 | N43: 20 | O43: =($F43*$I$3*$K$3*$M$3*$O$3)*N43 -> 0 | P43: 20 | Q43: =$F43*$I$3*$K$3*$M$3*$O$3*$Q$3*P43 -> 0 | R43: 20 | S43: =$F43*$I$3*$K$3*$M$3*$O$3*$Q$3*$S$3*R43 -> 0 | T43: 20 | U43: =$F43*$I$3*$K$3*$M$3*$O$3*$Q$3*$S$3*$U$3*T43 -> 0
A44: 28 | B44: =B$6&"."&A44 -> 10.28 | C44: Periodieke herkeuring drukapparatuur 4j of 6 j | D44: stuks | E44: 5 | F44: ='Prijzenboek regio N'!F44 -> 0 | G44: =E44*F44 -> 0 | H44: 5 | I44: =($F44*$I$3)*H44 -> 0 | J44: 5 | K44: =($F44*$I$3*$K$3)*J44 -> 0 | L44: 5 | M44: =$F44*$I$3*$K$3*$M$3*L44 -> 0 | N44: 5 | O44: =($F44*$I$3*$K$3*$M$3*$O$3)*N44 -> 0 | P44: 5 | Q44: =$F44*$I$3*$K$3*$M$3*$O$3*$Q$3*P44 -> 0 | R44: 5 | S44: =$F44*$I$3*$K$3*$M$3*$O$3*$Q$3*$S$3*R44 -> 0 | T44: 5 | U44: =$F44*$I$3*$K$3*$M$3*$O$3*$Q$3*$S$3*$U$3*T44 -> 0
A45: 29 | B45: =B$6&"."&A45 -> 10.29 | C45: PED bepaling Paragraaf 4.5.10.1 t/m 4.5.10.4 | D45: stuks | E45: 21 | F45: ='Prijzenboek regio N'!F45 -> 0 | G45: =E45*F45 -> 0 | H45: 2 | I45: =($F45*$I$3)*H45 -> 0 | J45: 2 | K45: =($F45*$I$3*$K$3)*J45 -> 0 | L45: 2 | M45: =$F45*$I$3*$K$3*$M$3*L45 -> 0 | N45: 2 | O45: =($F45*$I$3*$K$3*$M$3*$O$3)*N45 -> 0 | P45: 2 | Q45: =$F45*$I$3*$K$3*$M$3*$O$3*$Q$3*P45 -> 0 | R45: 2 | S45: =$F45*$I$3*$K$3*$M$3*$O$3*$Q$3*$S$3*R45 -> 0 | T45: 2 | U45: =$F45*$I$3*$K$3*$M$3*$O$3*$Q$3*$S$3*$U$3*T45 -> 0
C46: Implementatie vergoeding hoofdstuk 6
A47: 30 | B47: =B$6&"."&A47 -> 10.30 | C47: Implementatie vergoeding | D47: stuks | E47: 0 | F47: 0 | G47: =E47*F47 -> 0 | H47: 0 | I47: =($F47*$I$3)*H47 -> 0 | J47: 0 | K47: =($F47*$I$3*$K$3)*J47 -> 0 | L47: 0 | M47: =$F47*$I$3*$K$3*$M$3*L47 -> 0 | N47: 0 | O47: =($F47*$I$3*$K$3*$M$3*$O$3)*N47 -> 0 | P47: 0 | Q47: =$F47*$I$3*$K$3*$M$3*$O$3*$Q$3*P47 -> 0 | R47: 0 | S47: =$F47*$I$3*$K$3*$M$3*$O$3*$Q$3*$S$3*R47 -> 0 | T47: 0 | U47: =$F47*$I$3*$K$3*$M$3*$O$3*$Q$3*$S$3*$U$3*T47 -> 0
B48: 15 | C48: ABDO kosten paragraaf 4.2.1
A49: 1 | B49: =B$48&"."&A49 -> 15.1 | C49: Screening bedrijf | D49: stuks | E49: 0 | F49: 0 | G49: =E49*F49 -> 0 | H49: 0 | I49: =($F49*$I$3)*H49 -> 0 | J49: 0 | K49: =($F49*$I$3*$K$3)*J49 -> 0 | L49: 0 | M49: =$F49*$I$3*$K$3*$M$3*L49 -> 0 | N49: 0 | O49: =($F49*$I$3*$K$3*$M$3*$O$3)*N49 -> 0 | P49: 0 | Q49: =$F49*$I$3*$K$3*$M$3*$O$3*$Q$3*P49 -> 0 | R49: 0 | S49: =$F49*$I$3*$K$3*$M$3*$O$3*$Q$3*$S$3*R49 -> 0 | T49: 0 | U49: =$F49*$I$3*$K$3*$M$3*$O$3*$Q$3*$S$3*$U$3*T49 -> 0
A50: 2 | B50: =B$48&"."&A50 -> 15.2 | C50: Screening medewerker MIVD C | D50: stuks | E50: 0 | F50: 0 | G50: =E50*F50 -> 0 | H50: 0 | I50: =($F50*$I$3)*H50 -> 0 | J50: 0 | K50: =($F50*$I$3*$K$3)*J50 -> 0 | L50: 0 | M50: =$F50*$I$3*$K$3*$M$3*L50 -> 0 | N50: 0 | O50: =($F50*$I$3*$K$3*$M$3*$O$3)*N50 -> 0 | P50: 0 | Q50: =$F50*$I$3*$K$3*$M$3*$O$3*$Q$3*P50 -> 0 | R50: 0 | S50: =$F50*$I$3*$K$3*$M$3*$O$3*$Q$3*$S$3*R50 -> 0 | T50: 0 | U50: =$F50*$I$3*$K$3*$M$3*$O$3*$Q$3*$S$3*$U$3*T50 -> 0
A51: 3 | B51: =B$48&"."&A51 -> 15.3 | C51: Screening medewerker MIVD B | D51: stuks | E51: 0 | F51: 0 | G51: =E51*F51 -> 0 | H51: 0 | I51: =($F51*$I$3)*H51 -> 0 | J51: 0 | K51: =($F51*$I$3*$K$3)*J51 -> 0 | L51: 0 | M51: =$F51*$I$3*$K$3*$M$3*L51 -> 0 | N51: 0 | O51: =($F51*$I$3*$K$3*$M$3*$O$3)*N51 -> 0 | P51: 0 | Q51: =$F51*$I$3*$K$3*$M$3*$O$3*$Q$3*P51 -> 0 | R51: 0 | S51: =$F51*$I$3*$K$3*$M$3*$O$3*$Q$3*$S$3*R51 -> 0 | T51: 0 | U51: =$F51*$I$3*$K$3*$M$3*$O$3*$Q$3*$S$3*$U$3*T51 -> 0
A52: 4 | B52: =B$48&"."&A52 -> 15.4 | C52: LT met software | D52: stuks | E52: 0 | F52: 0 | G52: =E52*F52 -> 0 | H52: 0 | I52: =($F52*$I$3)*H52 -> 0 | J52: 0 | K52: =($F52*$I$3*$K$3)*J52 -> 0 | L52: 0 | M52: =$F52*$I$3*$K$3*$M$3*L52 -> 0 | N52: 0 | O52: =($F52*$I$3*$K$3*$M$3*$O$3)*N52 -> 0 | P52: 0 | Q52: =$F52*$I$3*$K$3*$M$3*$O$3*$Q$3*P52 -> 0 | R52: 0 | S52: =$F52*$I$3*$K$3*$M$3*$O$3*$Q$3*$S$3*R52 -> 0 | T52: 0 | U52: =$F52*$I$3*$K$3*$M$3*$O$3*$Q$3*$S$3*$U$3*T52 -> 0
A53: 5 | B53: =B$48&"."&A53 -> 15.5 | C53: Maken beveiliginsplan | D53: stuks | E53: 0 | F53: 0 | G53: =E53*F53 -> 0 | H53: 0 | I53: =($F53*$I$3)*H53 -> 0 | J53: 0 | K53: =($F53*$I$3*$K$3)*J53 -> 0 | L53: 0 | M53: =$F53*$I$3*$K$3*$M$3*L53 -> 0 | N53: 0 | O53: =($F53*$I$3*$K$3*$M$3*$O$3)*N53 -> 0 | P53: 0 | Q53: =$F53*$I$3*$K$3*$M$3*$O$3*$Q$3*P53 -> 0 | R53: 0 | S53: =$F53*$I$3*$K$3*$M$3*$O$3*$Q$3*$S$3*R53 -> 0 | T53: 0 | U53: =$F53*$I$3*$K$3*$M$3*$O$3*$Q$3*$S$3*$U$3*T53 -> 0
C54: Beveiligingsfunctionaris paragraaf 4.2.1
A55: 4 | B55: =B$48&"."&A55 -> 15.4 | C55: Uurtarief op werkdagen van 06:00 tot 18:00 uur | D55: uur | F55: 0 | G55: =E55*F55 -> 0 | I55: =($F55*$I$3)*H55 -> 0 | K55: =($F55*$I$3*$K$3)*J55 -> 0 | M55: =$F55*$I$3*$K$3*$M$3*L55 -> 0 | O55: =($F55*$I$3*$K$3*$M$3*$O$3)*N55 -> 0 | Q55: =$F55*$I$3*$K$3*$M$3*$O$3*$Q$3*P55 -> 0 | S55: =$F55*$I$3*$K$3*$M$3*$O$3*$Q$3*$S$3*R55 -> 0 | U55: =$F55*$I$3*$K$3*$M$3*$O$3*$Q$3*$S$3*$U$3*T55 -> 0
D56: Preventief Onderhoud | G56: =SUM(G8:G55) -> 0 | I56: =SUM(I8:I55) -> 0 | K56: =SUM(K8:K55) -> 0 | M56: =SUM(M8:M55) -> 0 | O56: =SUM(O8:O55) -> 0 | Q56: =SUM(Q8:Q55) -> 0 | S56: =SUM(S8:S55) -> 0 | U56: =SUM(U8:U55) -> 0
B57: 20 | C57: Uurtarief voor het herstellen van Manco's. | E57: uren
C58: Begeleiden medewerkers onderaannemers
A59: 1 | B59: =B$57&"."&A59 -> 20.1 | C59: Uurtarief op werkdagen van 06:00 tot 18:00 uur | D59: uur | E59: 60 | F59: ='Prijzenboek regio N'!F59 -> 0 | G59: =E59*F59 -> 0 | H59: 60 | I59: =($F59*$I$3)*H59 -> 0 | J59: 60 | K59: =($F59*$I$3*$K$3)*J59 -> 0 | L59: 60 | M59: =$F59*$I$3*$K$3*$M$3*L59 -> 0 | N59: 60 | O59: =($F59*$I$3*$K$3*$M$3*$O$3)*N59 -> 0 | P59: 60 | Q59: =$F59*$I$3*$K$3*$M$3*$O$3*$Q$3*P59 -> 0 | R59: 60 | S59: =$F59*$I$3*$K$3*$M$3*$O$3*$Q$3*$S$3*R59 -> 0 | T59: 60 | U59: =$F59*$I$3*$K$3*$M$3*$O$3*$Q$3*$S$3*$U$3*T59 -> 0
C60: Laagspannings, BMI en koel technicus.
A61: 2 | B61: =B$57&"."&A61 -> 20.2 | C61: Uurtarief op werkdagen van 06:00 tot 18:00 uur | D61: uur | E61: 140 | F61: ='Prijzenboek regio N'!F61 -> 0 | G61: =E61*F61 -> 0 | H61: 140 | I61: =($F61*$I$3)*H61 -> 0 | J61: 140 | K61: =($F61*$I$3*$K$3)*J61 -> 0 | L61: 140 | M61: =$F61*$I$3*$K$3*$M$3*L61 -> 0 | N61: 140 | O61: =($F61*$I$3*$K$3*$M$3*$O$3)*N61 -> 0 | P61: 140 | Q61: =$F61*$I$3*$K$3*$M$3*$O$3*$Q$3*P61 -> 0 | R61: 140 | S61: =$F61*$I$3*$K$3*$M$3*$O$3*$Q$3*$S$3*R61 -> 0 | T61: 140 | U61: =$F61*$I$3*$K$3*$M$3*$O$3*$Q$3*$S$3*$U$3*T61 -> 0
A62: 3 | B62: =B$57&"."&A62 -> 20.3 | C62: Toeslag op uurtarief van 20.2 voor werk op werkdagen van 18:00 tot 06:00 uur (maximaal 15%) | D62: % | E62: 3 | F62: ='Prijzenboek regio N'!F62 -> 0.1 | G62: =$F$61*$E62*F62 -> 0 | H62: 3 | I62: =($F61*$F62)*H62*$I$3 -> 0 | J62: 3 | K62: =($F$61*$F62)*J62*$I$3*J63*$K$3 -> 0 | L62: 3 | M62: =($F$61*$F62)*L62*$I$3*L63*$K$3*$M$3 -> 0 | N62: 3 | O62: =($F$61*$F62)*N62*$I$3*N63*$K$3*$M$3*$O$3 -> 0 | P62: 3 | Q62: =($F$61*$F62)*P62*$I$3*P63*$K$3*$M$3*$O$3*$Q$3 -> 0 | R62: 3 | S62: =($F$61*$F62)*R62*$I$3*R63*$K$3*$M$3*$O$3*$Q$3*$S$3 -> 0 | T62: 3 | U62: =($F$61*$F62)*T62*$I$3*T63*$K$3*$M$3*$O$3*$Q$3*$S$3*$U$3 -> 0
A63: =A62+1 -> 4 | B63: =B$57&"."&A63 -> 20.4 | C63: Toeslag op uurtarief van 20.2 voor werk op zaterdag (maximaal 25%) | D63: % | E63: 2 | F63: ='Prijzenboek regio N'!F63 -> 0.2 | G63: =$F$61*$E63*F63 -> 0 | H63: 2 | I63: =($F$61*$F63)*H63*$I$3 -> 0 | J63: 2 | K63: =($F$61*$F63)*J63*$I$3*J64*$K$3 -> 0 | L63: 2 | M63: =($F$61*$F63)*L63*$I$3*L64*$K$3*$M$3 -> 0 | N63: 2 | O63: =($F$61*$F63)*N63*$I$3*N64*$K$3*$M$3*$O$3 -> 0 | P63: 2 | Q63: =($F$61*$F63)*P63*$I$3*P64*$K$3*$M$3*$O$3*$Q$3 -> 0 | R63: 2 | S63: =($F$61*$F63)*R63*$I$3*R64*$K$3*$M$3*$O$3*$Q$3*$S$3 -> 0 | T63: 2 | U63: =($F$61*$F63)*T63*$I$3*T64*$K$3*$M$3*$O$3*$Q$3*$S$3*$U$3 -> 0
A64: =A63+1 -> 5 | B64: =B$57&"."&A64 -> 20.5 | C64: Toeslag op uurtarief van 20.2 voor werk op zon- en feestdagen (maximaal 35%) | D64: % | E64: 1 | F64: ='Prijzenboek regio N'!F64 -> 0.3 | G64: =$F$61*$E64*F64 -> 0 | H64: 1 | I64: =($F$61*$F64)*H64*I$3 -> 0 | J64: 1 | K64: =($F$61*$F64)*J64*$I$3*$K$3 -> 0 | L64: 1 | M64: =($F$61*$F64)*L64*$I$3*$K$3*$M$3 -> 0 | N64: 1 | O64: =($F$61*$F64)*N64*$I$3*$K$3*$M$3*$O$3 -> 0 | P64: 1 | Q64: =($F$61*$F64)*P64*$I$3*$K$3*$M$3*$O$3*$Q$3 -> 0 | R64: 1 | S64: =($F$61*$F64)*R64*$I$3*$K$3*$M$3*$O$3*$Q$3*$S$3 -> 0 | T64: 1 | U64: =($F$61*$F64)*T64*$I$3*$K$3*$M$3*$O$3*$Q$3*$S$3*$U$3 -> 0
C65: Technicus Noodstroominstallaties
A66: =A64+1 -> 6 | B66: =B$57&"."&A66 -> 20.6 | C66: Uurtarief op werkdagen van 06:00 tot 18:00 uur | D66: uur | E66: 70 | F66: ='Prijzenboek regio N'!F66 -> 0 | G66: =E66*F66 -> 0 | H66: 70 | I66: =($F66*$I$3)*H66 -> 0 | J66: 70 | K66: =($F66*$I$3*$K$3)*J66 -> 0 | L66: 70 | M66: =$F66*$I$3*$K$3*$M$3*L66 -> 0 | N66: 70 | O66: =($F66*$I$3*$K$3*$M$3*$O$3)*N66 -> 0 | P66: 70 | Q66: =$F66*$I$3*$K$3*$M$3*$O$3*$Q$3*P66 -> 0 | R66: 70 | S66: =$F66*$I$3*$K$3*$M$3*$O$3*$Q$3*$S$3*R66 -> 0 | T66: 70 | U66: =$F66*$I$3*$K$3*$M$3*$O$3*$Q$3*$S$3*$U$3*T66 -> 0
A67: =A66+1 -> 7 | B67: =B$57&"."&A67 -> 20.7 | C67: Toeslag op uurtarief van 20.2 voor werk op werkdagen van 18:00 tot 06:00 uur (maximaal 15%) | D67: % | E67: 3 | F67: ='Prijzenboek regio N'!F67 -> 0.1 | G67: =$F$66*F67*E67 -> 0 | H67: 3 | I67: =($F66*$F67)*H67*$I$3 -> 0 | J67: 3 | K67: =($F66*$F67)*J67*$I$3*J68*$K$3 -> 0 | L67: 3 | M67: =($F66*$F67)*L67*$I$3*L68*$K$3*$M$3 -> 0 | N67: 3 | O67: =($F66*$F67)*N67*$I$3*N68*$K$3*$M$3*$O$3 -> 0 | P67: 3 | Q67: =($F66*$F67)*P67*$I$3*P68*$K$3*$M$3*$O$3*$Q$3 -> 0 | R67: 3 | S67: =($F66*$F67)*R67*$I$3*R68*$K$3*$M$3*$O$3*$Q$3*$S$3 -> 0 | T67: 3 | U67: =($F66*$F67)*T67*$I$3*T68*$K$3*$M$3*$O$3*$Q$3*$S$3*$U$3 -> 0
A68: =A67+1 -> 8 | B68: =B$57&"."&A68 -> 20.8 | C68: Toeslag op uurtarief van 20.2 voor werk op zaterdag (maximaal 25%) | D68: % | E68: 3 | F68: ='Prijzenboek regio N'!F68 -> 0.2 | G68: =$F$66*F68*E68 -> 0 | H68: 3 | I68: =($F66*$F68)*H68*$I$3 -> 0 | J68: 3 | K68: =($F66*$F68)*J68*$I$3*J69*$K$3 -> 0 | L68: 3 | M68: =($F66*$F68)*L68*$I$3*L69*$K$3*$M$3 -> 0 | N68: 3 | O68: =($F66*$F68)*N68*$I$3*N69*$K$3*$M$3*$O$3 -> 0 | P68: 3 | Q68: =($F66*$F68)*P68*$I$3*P69*$K$3*$M$3*$O$3*$Q$3 -> 0 | R68: 3 | S68: =($F66*$F68)*R68*$I$3*R69*$K$3*$M$3*$O$3*$Q$3*$S$3 -> 0 | T68: 3 | U68: =($F66*$F68)*T68*$I$3*T69*$K$3*$M$3*$O$3*$Q$3*$S$3*$U$3 -> 0
A69: =A68+1 -> 9 | B69: =B$57&"."&A69 -> 20.9 | C69: Toeslag op uurtarief van 20.2 voor werk op zon- en feestdagen (maximaal 35%) | D69: % | E69: 1 | F69: ='Prijzenboek regio N'!F69 -> 0.3 | G69: =$F$66*F69*E69 -> 0 | H69: 1 | I69: =($F66*$F69)*H69*I$3 -> 0 | J69: 1 | K69: =($F66*$F69)*J69*$I$3*$K$3 -> 0 | L69: 1 | M69: =($F66*$F69)*L69*$I$3*$K$3*$M$3 -> 0 | N69: 1 | O69: =($F66*$F69)*N69*$I$3*$K$3*$M$3*$O$3 -> 0 | P69: 1 | Q69: =($F66*$F69)*P69*$I$3*$K$3*$M$3*$O$3*$Q$3 -> 0 | R69: 1 | S69: =($F66*$F69)*R69*$I$3*$K$3*$M$3*$O$3*$Q$3*$S$3 -> 0 | T69: 1 | U69: =($F66*$F69)*T69*$I$3*$K$3*$M$3*$O$3*$Q$3*$S$3*$U$3 -> 0
B70: 25 | C70: Uurlonen voor extra werkzaamheden klimaatregelinstallaties
A71: =A70+1 -> 1 | B71: =B$70&"."&A71 -> 25.1 | C71: Uurtarief servicetechnicus meet-en regeltechniek (MRK-A en MRK-B) op werkdagen van 06:00 tot 18:00 | D71: uur | E71: 16 | F71: ='Prijzenboek regio N'!F71 -> 0 | G71: =E71*F71 -> 0 | H71: 16 | I71: =($F71*$I$3)*H71 -> 0 | J71: 16 | K71: =($F71*$I$3*$K$3)*J71 -> 0 | L71: 16 | M71: =$F71*$I$3*$K$3*$M$3*L71 -> 0 | N71: 16 | O71: =($F71*$I$3*$K$3*$M$3*$O$3)*N71 -> 0 | P71: 16 | Q71: =$F71*$I$3*$K$3*$M$3*$O$3*$Q$3*P71 -> 0 | R71: 16 | S71: =$F71*$I$3*$K$3*$M$3*$O$3*$Q$3*$S$3*R71 -> 0 | T71: 16 | U71: =$F71*$I$3*$K$3*$M$3*$O$3*$Q$3*$S$3*$U$3*T71 -> 0
B72: 30 | C72: Uurtarief voor het herstellen van storingen
C73: Laagspannings, BMI en koel technicus.
A74: =A73+1 -> 1 | B74: =B$72&"."&A74 -> 30.1 | C74: Uurtarief op werkdagen van 06:00 tot 18:00 uur | D74: uur | E74: 26 | F74: ='Prijzenboek regio N'!F74 -> 0 | G74: =E74*F74 -> 0 | H74: 26 | I74: =($F74*$I$3)*H74 -> 0 | J74: 26 | K74: =($F74*$I$3*$K$3)*J74 -> 0 | L74: 26 | M74: =$F74*$I$3*$K$3*$M$3*L74 -> 0 | N74: 26 | O74: =($F74*$I$3*$K$3*$M$3*$O$3)*N74 -> 0 | P74: 26 | Q74: =$F74*$I$3*$K$3*$M$3*$O$3*$Q$3*P74 -> 0 | R74: 26 | S74: =$F74*$I$3*$K$3*$M$3*$O$3*$Q$3*$S$3*R74 -> 0 | T74: 26 | U74: =$F74*$I$3*$K$3*$M$3*$O$3*$Q$3*$S$3*$U$3*T74 -> 0
A75: =A74+1 -> 2 | B75: =B$72&"."&A75 -> 30.2 | C75: Toeslag op uurtarief van 20.2 voor werk op werkdagen van 18:00 tot 06:00 uur (maximaal 15%) | D75: % | E75: 8 | F75: ='Prijzenboek regio N'!F75 -> 0.15 | G75: =$F$74*F75*E75 -> 0 | H75: 8 | I75: =($F74*$F75)*H75*$I$3 -> 0 | J75: 8 | K75: =($F74*$F75)*J75*$I$3*J76*$K$3 -> 0 | L75: 8 | M75: =($F74*$F75)*L75*$I$3*L76*$K$3*$M$3 -> 0 | N75: 8 | O75: =($F74*$F75)*N75*$I$3*N76*$K$3*$M$3*$O$3 -> 0 | P75: 8 | Q75: =($F74*$F75)*P75*$I$3*P76*$K$3*$M$3*$O$3*$Q$3 -> 0 | R75: 8 | S75: =($F74*$F75)*R75*$I$3*R76*$K$3*$M$3*$O$3*$Q$3*$S$3 -> 0 | T75: 8 | U75: =($F74*$F75)*T75*$I$3*T76*$K$3*$M$3*$O$3*$Q$3*$S$3*$U$3 -> 0
A76: =A75+1 -> 3 | B76: =B$72&"."&A76 -> 30.3 | C76: Toeslag op uurtarief van 20.2 voor werk op zaterdag (maximaal 25%) | D76: % | E76: 4 | F76: ='Prijzenboek regio N'!F76 -> 0.25 | G76: =$F$74*F76*E76 -> 0 | H76: 4 | I76: =($F74*$F76)*H76*$I$3 -> 0 | J76: 4 | K76: =($F74*$F76)*J76*$I$3*J77*$K$3 -> 0 | L76: 4 | M76: =($F74*$F76)*L76*$I$3*L77*$K$3*$M$3 -> 0 | N76: 4 | O76: =($F74*$F76)*N76*$I$3*N77*$K$3*$M$3*$O$3 -> 0 | P76: 4 | Q76: =($F74*$F76)*P76*$I$3*P77*$K$3*$M$3*$O$3*$Q$3 -> 0 | R76: 4 | S76: =($F74*$F76)*R76*$I$3*R77*$K$3*$M$3*$O$3*$Q$3*$S$3 -> 0 | T76: 4 | U76: =($F74*$F76)*T76*$I$3*T77*$K$3*$M$3*$O$3*$Q$3*$S$3*$U$3 -> 0
A77: =A76+1 -> 4 | B77: =B$72&"."&A77 -> 30.4 | C77: Toeslag op uurtarief van 20.2 voor werk op zon- en feestdagen (maximaal 35%) | D77: % | E77: 2 | F77: ='Prijzenboek regio N'!F77 -> 0.35 | G77: =$F$74*F77*E77 -> 0 | H77: 2 | I77: =($F74*$F77)*H77*I$3 -> 0 | J77: 2 | K77: =($F74*$F77)*J77*$I$3*$K$3 -> 0 | L77: 2 | M77: =($F74*$F77)*L77*$I$3*$K$3*$M$3 -> 0 | N77: 2 | O77: =($F74*$F77)*N77*$I$3*$K$3*$M$3*$O$3 -> 0 | P77: 2 | Q77: =($F74*$F77)*P77*$I$3*$K$3*$M$3*$O$3*$Q$3 -> 0 | R77: 2 | S77: =($F74*$F77)*R77*$I$3*$K$3*$M$3*$O$3*$Q$3*$S$3 -> 0 | T77: 2 | U77: =($F74*$F77)*T77*$I$3*$K$3*$M$3*$O$3*$Q$3*$S$3*$U$3 -> 0
B78: 45 | C78: Noodstroominstallaties
A79: 5 | B79: =B$72&"."&A79 -> 30.5 | C79: Uurtarief op werkdagen van 06:00 tot 18:00 uur | D79: uur | E79: 26 | F79: ='Prijzenboek regio N'!F79 -> 0 | G79: =E79*F79 -> 0 | H79: 26 | I79: =($F79*$I$3)*H79 -> 0 | J79: 26 | K79: =($F79*$I$3*$K$3)*J79 -> 0 | L79: 26 | M79: =$F79*$I$3*$K$3*$M$3*L79 -> 0 | N79: 26 | O79: =($F79*$I$3*$K$3*$M$3*$O$3)*N79 -> 0 | P79: 26 | Q79: =$F79*$I$3*$K$3*$M$3*$O$3*$Q$3*P79 -> 0 | R79: 26 | S79: =$F79*$I$3*$K$3*$M$3*$O$3*$Q$3*$S$3*R79 -> 0 | T79: 26 | U79: =$F79*$I$3*$K$3*$M$3*$O$3*$Q$3*$S$3*$U$3*T79 -> 0
A80: 6 | B80: =B$72&"."&A80 -> 30.6 | C80: Toeslag op uurtarief van 30.1 voor werk op werkdagen van 18:00 tot 06:00 uur (maximaal 15%) | D80: % | E80: 8 | F80: ='Prijzenboek regio N'!F80 -> 0.15 | G80: =$F$79*F80*E80 -> 0 | H80: 8 | I80: =($F79*$F80)*H80*$I$3 -> 0 | J80: 8 | K80: =($F79*$F80)*J80*$I$3*J81*$K$3 -> 0 | L80: 8 | M80: =($F79*$F80)*L80*$I$3*L81*$K$3*$M$3 -> 0 | N80: 8 | O80: =($F79*$F80)*N80*$I$3*N81*$K$3*$M$3*$O$3 -> 0 | P80: 8 | Q80: =($F79*$F80)*P80*$I$3*P81*$K$3*$M$3*$O$3*$Q$3 -> 0 | R80: 8 | S80: =($F79*$F80)*R80*$I$3*R81*$K$3*$M$3*$O$3*$Q$3*$S$3 -> 0 | T80: 8 | U80: =($F79*$F80)*T80*$I$3*T81*$K$3*$M$3*$O$3*$Q$3*$S$3*$U$3 -> 0
A81: =A80+1 -> 7 | B81: =B$72&"."&A81 -> 30.7 | C81: Toeslag op uurtarief van 30.1 voor werk op zaterdag (maximaal 25%) | D81: % | E81: 4 | F81: ='Prijzenboek regio N'!F81 -> 0.25 | G81: =$F$79*F81*E81 -> 0 | H81: 4 | I81: =($F79*$F81)*H81*$I$3 -> 0 | J81: 4 | K81: =($F79*$F81)*J81*$I$3*J82*$K$3 -> 0 | L81: 4 | M81: =($F79*$F81)*L81*$I$3*L82*$K$3*$M$3 -> 0 | N81: 4 | O81: =($F79*$F81)*N81*$I$3*N82*$K$3*$M$3*$O$3 -> 0 | P81: 4 | Q81: =($F79*$F81)*P81*$I$3*P82*$K$3*$M$3*$O$3*$Q$3 -> 0 | R81: 4 | S81: =($F79*$F81)*R81*$I$3*R82*$K$3*$M$3*$O$3*$Q$3*$S$3 -> 0 | T81: 4 | U81: =($F79*$F81)*T81*$I$3*T82*$K$3*$M$3*$O$3*$Q$3*$S$3*$U$3 -> 0
A82: =A81+1 -> 8 | B82: =B$72&"."&A82 -> 30.8 | C82: Toeslag op uurtarief van 30.1 voor werk op zon- en feestdagen (maximaal 35%) | D82: % | E82: 2 | F82: ='Prijzenboek regio N'!F82 -> 0.35 | G82: =$F$79*F82*E82 -> 0 | H82: 2 | I82: =($F79*$F82)*H82*I$3 -> 0 | J82: 2 | K82: =($F79*$F82)*J82*$I$3*$K$3 -> 0 | L82: 2 | M82: =($F79*$F82)*L82*$I$3*$K$3*$M$3 -> 0 | N82: 2 | O82: =($F79*$F82)*N82*$I$3*$K$3*$M$3*$O$3 -> 0 | P82: 2 | Q82: =($F79*$F82)*P82*$I$3*$K$3*$M$3*$O$3*$Q$3 -> 0 | R82: 2 | S82: =($F79*$F82)*R82*$I$3*$K$3*$M$3*$O$3*$Q$3*$S$3 -> 0 | T82: 2 | U82: =($F79*$F82)*T82*$I$3*$K$3*$M$3*$O$3*$Q$3*$S$3*$U$3 -> 0
B83: 45 | C83: Uurtarief projecten
A84: =A83+1 -> 1 | B84: =B$83&"."&A84 -> 45.1 | C84: Projectleider | D84: uur | E84: 110 | F84: ='Prijzenboek regio N'!F84 -> 0 | G84: =E84*F84 -> 0 | H84: 110 | I84: =($F84*$I$3)*H84 -> 0 | J84: 110 | K84: =($F84*$I$3*$K$3)*J84 -> 0 | L84: 110 | M84: =$F84*$I$3*$K$3*$M$3*L84 -> 0 | N84: 110 | O84: =($F84*$I$3*$K$3*$M$3*$O$3)*N84 -> 0 | P84: 110 | Q84: =$F84*$I$3*$K$3*$M$3*$O$3*$Q$3*P84 -> 0 | R84: 110 | S84: =$F84*$I$3*$K$3*$M$3*$O$3*$Q$3*$S$3*R84 -> 0 | T84: 110 | U84: =$F84*$I$3*$K$3*$M$3*$O$3*$Q$3*$S$3*$U$3*T84 -> 0
A85: =A84+1 -> 2 | B85: =B$83&"."&A85 -> 45.2 | C85: Calculator | D85: uur | E85: 36 | F85: ='Prijzenboek regio N'!F85 -> 0 | G85: =E85*F85 -> 0 | H85: 36 | I85: =($F85*$I$3)*H85 -> 0 | J85: 36 | K85: =($F85*$I$3*$K$3)*J85 -> 0 | L85: 36 | M85: =$F85*$I$3*$K$3*$M$3*L85 -> 0 | N85: 36 | O85: =($F85*$I$3*$K$3*$M$3*$O$3)*N85 -> 0 | P85: 36 | Q85: =$F85*$I$3*$K$3*$M$3*$O$3*$Q$3*P85 -> 0 | R85: 36 | S85: =$F85*$I$3*$K$3*$M$3*$O$3*$Q$3*$S$3*R85 -> 0 | T85: 36 | U85: =$F85*$I$3*$K$3*$M$3*$O$3*$Q$3*$S$3*$U$3*T85 -> 0
A86: =A85+1 -> 3 | B86: =B$83&"."&A86 -> 45.3 | C86: Engineer | D86: uur | E86: 90 | F86: ='Prijzenboek regio N'!F86 -> 0 | G86: =E86*F86 -> 0 | H86: 90 | I86: =($F86*$I$3)*H86 -> 0 | J86: 90 | K86: =($F86*$I$3*$K$3)*J86 -> 0 | L86: 90 | M86: =$F86*$I$3*$K$3*$M$3*L86 -> 0 | N86: 90 | O86: =($F86*$I$3*$K$3*$M$3*$O$3)*N86 -> 0 | P86: 90 | Q86: =$F86*$I$3*$K$3*$M$3*$O$3*$Q$3*P86 -> 0 | R86: 90 | S86: =$F86*$I$3*$K$3*$M$3*$O$3*$Q$3*$S$3*R86 -> 0 | T86: 90 | U86: =$F86*$I$3*$K$3*$M$3*$O$3*$Q$3*$S$3*$U$3*T86 -> 0
A87: =A86+1 -> 4 | B87: =B$83&"."&A87 -> 45.4 | C87: Werkvoorbereider | D87: uur | E87: 90 | F87: ='Prijzenboek regio N'!F87 -> 0 | G87: =E87*F87 -> 0 | H87: 90 | I87: =($F87*$I$3)*H87 -> 0 | J87: 90 | K87: =($F87*$I$3*$K$3)*J87 -> 0 | L87: 90 | M87: =$F87*$I$3*$K$3*$M$3*L87 -> 0 | N87: 90 | O87: =($F87*$I$3*$K$3*$M$3*$O$3)*N87 -> 0 | P87: 90 | Q87: =$F87*$I$3*$K$3*$M$3*$O$3*$Q$3*P87 -> 0 | R87: 90 | S87: =$F87*$I$3*$K$3*$M$3*$O$3*$Q$3*$S$3*R87 -> 0 | T87: 90 | U87: =$F87*$I$3*$K$3*$M$3*$O$3*$Q$3*$S$3*$U$3*T87 -> 0
A88: =A87+1 -> 5 | B88: =B$83&"."&A88 -> 45.5 | C88: Tekenaar | D88: uur | E88: 36 | F88: ='Prijzenboek regio N'!F88 -> 0 | G88: =E88*F88 -> 0 | H88: 36 | I88: =($F88*$I$3)*H88 -> 0 | J88: 36 | K88: =($F88*$I$3*$K$3)*J88 -> 0 | L88: 36 | M88: =$F88*$I$3*$K$3*$M$3*L88 -> 0 | N88: 36 | O88: =($F88*$I$3*$K$3*$M$3*$O$3)*N88 -> 0 | P88: 36 | Q88: =$F88*$I$3*$K$3*$M$3*$O$3*$Q$3*P88 -> 0 | R88: 36 | S88: =$F88*$I$3*$K$3*$M$3*$O$3*$Q$3*$S$3*R88 -> 0 | T88: 36 | U88: =$F88*$I$3*$K$3*$M$3*$O$3*$Q$3*$S$3*$U$3*T88 -> 0
G89: =SUM(G59:G88) -> 0 | I89: =SUM(I59:I88) -> 0 | K89: =SUM(K59:K88) -> 0 | M89: =SUM(M59:M88) -> 0 | O89: =SUM(O59:O88) -> 0 | Q89: =SUM(Q59:Q88) -> 0 | S89: =SUM(S59:S88) -> 0 | U89: =SUM(U59:U88) -> 0
B90: 60 | C90: Inventarisatie paragraaf 4.6.1
A91: 1 | B91: =B$90&"."&A91 -> 60.1 | C91: Inventarisatie | D91: ruimte | E91: 22 | F91: ='Prijzenboek regio N'!F91 -> 0 | G91: =E91*F91 -> 0 | H91: 22 | I91: =($F91*$I$3)*H91 -> 0 | J91: 22 | K91: =($F91*$I$3*$K$3)*J91 -> 0 | L91: 22 | M91: =$F91*$I$3*$K$3*$M$3*L91 -> 0 | N91: 22 | O91: =($F91*$I$3*$K$3*$M$3*$O$3)*N91 -> 0 | P91: 22 | Q91: =$F91*$I$3*$K$3*$M$3*$O$3*$Q$3*P91 -> 0 | R91: 22 | S91: =$F91*$I$3*$K$3*$M$3*$O$3*$Q$3*$S$3*R91 -> 0 | T91: 22 | U91: =$F91*$I$3*$K$3*$M$3*$O$3*$Q$3*$S$3*$U$3*T91 -> 0
B92: 70 | C92: Nieuwe Logboeken en ruimte dossier NTN paragraaf 4.6.1 en paragraaf 5.8
A93: 1 | B93: =B$92&"."&A93 -> 70.1 | C93: Ruimte dossier NTN | D93: stuks | E93: 5 | F93: ='Prijzenboek regio N'!F93 -> 0 | G93: =E93*F93 -> 0 | H93: 5 | I93: =($F93*$I$3)*H93 -> 0 | J93: 5 | K93: =($F93*$I$3*$K$3)*J93 -> 0 | L93: 5 | M93: =$F93*$I$3*$K$3*$M$3*L93 -> 0 | N93: 5 | O93: =($F93*$I$3*$K$3*$M$3*$O$3)*N93 -> 0 | P93: 5 | Q93: =$F93*$I$3*$K$3*$M$3*$O$3*$Q$3*P93 -> 0 | R93: 5 | S93: =$F93*$I$3*$K$3*$M$3*$O$3*$Q$3*$S$3*R93 -> 0 | T93: 5 | U93: =$F93*$I$3*$K$3*$M$3*$O$3*$Q$3*$S$3*$U$3*T93 -> 0
A94: 2 | B94: =B$92&"."&A94 -> 70.2 | C94: Logboek koelinstallatie NTN ruimte | D94: stuks | E94: 5 | F94: ='Prijzenboek regio N'!F94 -> 0 | G94: =E94*F95 -> 0 | H94: 5 | I94: =($F95*$I$3)*H94 -> 0 | J94: 5 | K94: =($F94*$I$3*$K$3)*J94 -> 0 | L94: 5 | M94: =$F95*$I$3*$K$3*$M$3*L94 -> 0 | N94: 5 | O94: =($F94*$I$3*$K$3*$M$3*$O$3)*N94 -> 0 | P94: 5 | Q94: =$F94*$I$3*$K$3*$M$3*$O$3*$Q$3*P94 -> 0 | R94: 5 | S94: =$F94*$I$3*$K$3*$M$3*$O$3*$Q$3*$S$3*R94 -> 0 | T94: 5 | U94: =$F94*$I$3*$K$3*$M$3*$O$3*$Q$3*$S$3*$U$3*T94 -> 0
A95: 3 | B95: =B$92&"."&A95 -> 70.3 | C95: Logboek brandwerende doorvoeringen NTN ruimte | D95: stuks | E95: 2 | F95: ='Prijzenboek regio N'!F95 -> 0 | G95: =E95*F95 -> 0 | H95: 2 | I95: =($F95*$I$3)*H95 -> 0 | J95: 2 | K95: =($F95*$I$3*$K$3)*J95 -> 0 | L95: 2 | M95: =$F95*$I$3*$K$3*$M$3*L95 -> 0 | N95: 2 | O95: =($F95*$I$3*$K$3*$M$3*$O$3)*N95 -> 0 | P95: 2 | Q95: =$F95*$I$3*$K$3*$M$3*$O$3*$Q$3*P95 -> 0 | R95: 2 | S95: =$F95*$I$3*$K$3*$M$3*$O$3*$Q$3*$S$3*R95 -> 0 | T95: 2 | U95: =$F95*$I$3*$K$3*$M$3*$O$3*$Q$3*$S$3*$U$3*T95 -> 0
B96: 75 | C96: Vergoeding voor niet uit tevoeren werkzaamheden en wachturen
A97: =A96+1 -> 1 | B97: =B$96&"."&A97 -> 75.1 | C97: Vergoeding bij status niet gekeurd | D97: stuks | E97: 4 | F97: ='Prijzenboek regio N'!F97 -> 0 | G97: =E97*F97 -> 0 | H97: 4 | I97: =($F97*$I$3)*H97 -> 0 | J97: 4 | K97: =($F97*$I$3*$K$3)*J97 -> 0 | L97: 4 | M97: =$F97*$I$3*$K$3*$M$3*L97 -> 0 | N97: 4 | O97: =($F97*$I$3*$K$3*$M$3*$O$3)*N97 -> 0 | P97: 4 | Q97: =$F97*$I$3*$K$3*$M$3*$O$3*$Q$3*P97 -> 0 | R97: 4 | S97: =$F97*$I$3*$K$3*$M$3*$O$3*$Q$3*$S$3*R97 -> 0 | T97: 4 | U97: =$F97*$I$3*$K$3*$M$3*$O$3*$Q$3*$S$3*$U$3*T97 -> 0
A98: =A97+1 -> 2 | B98: =B$96&"."&A98 -> 75.2 | C98: Vergoeding voor opnemen volledige gegevens nieuwe componenten | D98: stuks | E98: 1 | F98: ='Prijzenboek regio N'!F98 -> 0 | G98: =E98*F98 -> 0 | H98: 1 | I98: =($F98*$I$3)*H98 -> 0 | J98: 1 | K98: =($F98*$I$3*$K$3)*J98 -> 0 | L98: 1 | M98: =$F98*$I$3*$K$3*$M$3*L98 -> 0 | N98: 1 | O98: =($F98*$I$3*$K$3*$M$3*$O$3)*N98 -> 0 | P98: 1 | Q98: =$F98*$I$3*$K$3*$M$3*$O$3*$Q$3*P98 -> 0 | R98: 1 | S98: =$F98*$I$3*$K$3*$M$3*$O$3*$Q$3*$S$3*R98 -> 0 | T98: 1 | U98: =$F98*$I$3*$K$3*$M$3*$O$3*$Q$3*$S$3*$U$3*T98 -> 0
A99: =A98+1 -> 3 | B99: =B$96&"."&A99 -> 75.3 | C99: Wachturen | D99: uur | E99: 12 | F99: ='Prijzenboek regio N'!F99 -> 0 | G99: =E99*F99 -> 0 | H99: 12 | I99: =($F99*$I$3)*H99 -> 0 | J99: 12 | K99: =($F99*$I$3*$K$3)*J99 -> 0 | L99: 12 | M99: =$F99*$I$3*$K$3*$M$3*L99 -> 0 | N99: 12 | O99: =($F99*$I$3*$K$3*$M$3*$O$3)*N99 -> 0 | P99: 12 | Q99: =$F99*$I$3*$K$3*$M$3*$O$3*$Q$3*P99 -> 0 | R99: 12 | S99: =$F99*$I$3*$K$3*$M$3*$O$3*$Q$3*$S$3*R99 -> 0 | T99: 12 | U99: =$F99*$I$3*$K$3*$M$3*$O$3*$Q$3*$S$3*$U$3*T99 -> 0
A100: =A99+1 -> 4 | B100: =B$96&"."&A100 -> 75.4 | C100: Vergoeding niet nakomen uitvoeringsdatum inspectie en onderhoud. | D100: stuks | E100: 12 | F100: ='Prijzenboek regio N'!F100 -> 750 | G100: =E100*F100 -> 9000 | H100: 12 | I100: =($F100*$I$3)*H100 -> 9000 | J100: 12 | K100: =($F100*$I$3*$K$3)*J100 -> 9000 | L100: 12 | M100: =$F100*$I$3*$K$3*$M$3*L100 -> 9000 | N100: 12 | O100: =($F100*$I$3*$K$3*$M$3*$O$3)*N100 -> 9000 | P100: 12 | Q100: =$F100*$I$3*$K$3*$M$3*$O$3*$Q$3*P100 -> 9000 | R100: 12 | S100: =$F100*$I$3*$K$3*$M$3*$O$3*$Q$3*$S$3*R100 -> 9000 | T100: 12 | U100: =$F100*$I$3*$K$3*$M$3*$O$3*$Q$3*$S$3*$U$3*T100 -> 9000
B101: 80 | C101: Hulpmiddelen
...

Sheet Prijzenboek regio Z
B1: Prijzenboek Regio Zuid
F2: 2024 | I2: 2025 | K2: 2026 | M2: 2027 | O2: 2028 | Q2: 2029 | S2: 2030 | U2: 2031
H3: Indexering | I3: 1 | J3: Indexering | K3: 1 | L3: Indexering | M3: 1 | N3: Indexering | O3: 1 | P3: Indexering | Q3: 1 | R3: Indexering | S3: 1 | T3: Indexering | U3: 1
B5: Blok | D5: Eenheid | E5: Aantallen (fictief per jaar) | F5: Verrekenprijs (per eenheid) | G5: Prijs (aantal x eenheidsprijs) | H5: Aantallen (fictief per jaar) | I5: Prijs (aantal x indexering x eenheidsprijs) | J5: Aantallen (fictief per jaar) | K5: Prijs (aantal x indexering x eenheidsprijs) | L5: Aantallen (fictief per jaar) | M5: Prijs (aantal x indexering x eenheidsprijs) | N5: Aantallen (fictief per jaar) | O5: Prijs (aantal x indexering x eenheidsprijs) | P5: Aantallen (fictief per jaar) | Q5: Prijs (aantal x indexering x eenheidsprijs) | R5: Aantallen (fictief per jaar) | S5: Prijs (aantal x indexering x eenheidsprijs) | T5: Aantallen (fictief per jaar) | U5: Prijs (aantal x indexering x eenheidsprijs)
B6: 10 | C6: Preventief Onderhoud volgens Keuringsplan
C7: Noodstroominstallaties paragraaf 4.3.3
A8: 1 | B8: =B$6&"."&A8 -> 10.1 | C8: Onderhoud Statische No-break 1j -48V | D8: Ruimte | E8: 43 | F8: ='Prijzenboek regio N'!F8 -> 0 | G8: =E8*F8 -> 0 | H8: 43 | I8: =($F8*$I$3)*H8 -> 0 | J8: 43 | K8: =$F8*$I$3*$K$3*J8 -> 0 | L8: 43 | M8: =($F8*$I$3*$K$3*$M$3)*L8 -> 0 | N8: 43 | O8: =($F8*$I$3*$K$3*$M$3*$O$3)*N8 -> 0 | P8: 43 | Q8: =$F8*$I$3*$K$3*$M$3*$O$3*$Q$3*P8 -> 0 | R8: 43 | S8: =$F8*$I$3*$K$3*$M$3*$O$3*$Q$3*$S$3*R8 -> 0 | T8: 43 | U8: =$F8*$I$3*$K$3*$M$3*$O$3*$Q$3*$S$3*$U$3*T8 -> 0
A9: 2 | B9: =B$6&"."&A9 -> 10.2 | C9: Onderhoud / inspectie rectifier | D9: stuks | E9: 161 | F9: ='Prijzenboek regio N'!F9 -> 0 | G9: =E9*F9 -> 0 | H9: 145 | I9: =($F9*$I$3)*H9 -> 0 | J9: 130 | K9: =$F9*$I$3*$K$3*J9 -> 0 | L9: 115 | M9: =$F9*$I$3*$K$3*$M$3*L9 -> 0 | N9: 100 | O9: =($F9*$I$3*$K$3*$M$3*$O$3)*N9 -> 0 | P9: 85 | Q9: =$F9*$I$3*$K$3*$M$3*$O$3*$Q$3*P9 -> 0 | R9: 70 | S9: =$F9*$I$3*$K$3*$M$3*$O$3*$Q$3*$S$3*R9 -> 0 | T9: 55 | U9: =$F9*$I$3*$K$3*$M$3*$O$3*$Q$3*$S$3*$U$3*T9 -> 0
A10: 3 | B10: =B$6&"."&A10 -> 10.3 | C10: Onderhoud / inspectie inverter | D10: stuks | E10: 46 | F10: ='Prijzenboek regio N'!F10 -> 0 | G10: =E10*F10 -> 0 | H10: 43 | I10: =($F10*$I$3)*H10 -> 0 | J10: 40 | K10: =($F10*$I$3*$K$3)*J10 -> 0 | L10: 37 | M10: =$F10*$I$3*$K$3*$M$3*L10 -> 0 | N10: 34 | O10: =($F10*$I$3*$K$3*$M$3*$O$3)*N10 -> 0 | P10: 31 | Q10: =$F10*$I$3*$K$3*$M$3*$O$3*$Q$3*P10 -> 0 | R10: 28 | S10: =$F10*$I$3*$K$3*$M$3*$O$3*$Q$3*$S$3*R10 -> 0 | T10: 25 | U10: =$F10*$I$3*$K$3*$M$3*$O$3*$Q$3*$S$3*$U$3*T10 -> 0
A11: 4 | B11: =B$6&"."&A11 -> 10.4 | C11: Onderhoud / inspectie accu's en Siemens meting (per accu) | D11: stuks | E11: 470 | F11: ='Prijzenboek regio N'!F11 -> 0 | G11: =E11*F11 -> 0 | H11: 430 | I11: =($F11*$I$3)*H11 -> 0 | J11: 390 | K11: =($F11*$I$3*$K$3)*J11 -> 0 | L11: 350 | M11: =$F11*$I$3*$K$3*$M$3*L11 -> 0 | N11: 310 | O11: =($F11*$I$3*$K$3*$M$3*$O$3)*N11 -> 0 | P11: 270 | Q11: =$F11*$I$3*$K$3*$M$3*$O$3*$Q$3*P11 -> 0 | R11: 230 | S11: =$F11*$I$3*$K$3*$M$3*$O$3*$Q$3*$S$3*R11 -> 0 | T11: 190 | U11: =$F11*$I$3*$K$3*$M$3*$O$3*$Q$3*$S$3*$U$3*T11 -> 0
A12: 5 | B12: =B$6&"."&A12 -> 10.5 | C12: Inspectie HPDE afdichtingen | D12: stuks | E12: 119 | F12: ='Prijzenboek regio N'!F12 -> 0 | G12: =E12*F12 -> 0 | H12: 119 | I12: =($F12*$I$3)*H12 -> 0 | J12: 119 | K12: =($F12*$I$3*$K$3)*J12 -> 0 | L12: 119 | M12: =$F12*$I$3*$K$3*$M$3*L12 -> 0 | N12: 119 | O12: =($F12*$I$3*$K$3*$M$3*$O$3)*N12 -> 0 | P12: 119 | Q12: =$F12*$I$3*$K$3*$M$3*$O$3*$Q$3*P12 -> 0 | R12: 119 | S12: =$F12*$I$3*$K$3*$M$3*$O$3*$Q$3*$S$3*R12 -> 0 | T12: 119 | U12: =$F12*$I$3*$K$3*$M$3*$O$3*$Q$3*$S$3*$U$3*T12 -> 0
A13: 6 | B13: =B$6&"."&A13 -> 10.6 | C13: Controleren doormeldingen naar ITOC | D13: Ruimte | E13: 43 | F13: ='Prijzenboek regio N'!F13 -> 0 | G13: =E13*F13 -> 0 | H13: 43 | I13: =($F13*$I$3)*H13 -> 0 | J13: 43 | K13: =$F13*$I$3*$K$3*J13 -> 0 | L13: 43 | M13: =($F13*$I$3*$K$3*$M$3)*L13 -> 0 | N13: 43 | O13: =($F13*$I$3*$K$3*$M$3*$O$3)*N13 -> 0 | P13: 43 | Q13: =$F13*$I$3*$K$3*$M$3*$O$3*$Q$3*P13 -> 0 | R13: 43 | S13: =$F13*$I$3*$K$3*$M$3*$O$3*$Q$3*$S$3*R13 -> 0 | T13: 43 | U13: =$F13*$I$3*$K$3*$M$3*$O$3*$Q$3*$S$3*$U$3*T13 -> 0
A14: 7 | B14: =B$6&"."&A14 -> 10.7 | C14: Onderhoud Statische No-break 1j (priva) | D14: stuks | E14: 6 | F14: ='Prijzenboek regio N'!F14 -> 0 | G14: =E14*F14 -> 0 | H14: 4 | I14: =($F14*$I$3)*H14 -> 0 | J14: 4 | K14: =($F14*$I$3*$K$3)*J14 -> 0 | L14: 4 | M14: =$F14*$I$3*$K$3*$M$3*L14 -> 0 | N14: 4 | O14: =($F14*$I$3*$K$3*$M$3*$O$3)*N14 -> 0 | P14: 4 | Q14: =$F14*$I$3*$K$3*$M$3*$O$3*$Q$3*P14 -> 0 | R14: 4 | S14: =$F14*$I$3*$K$3*$M$3*$O$3*$Q$3*$S$3*R14 -> 0 | T14: 4 | U14: =$F14*$I$3*$K$3*$M$3*$O$3*$Q$3*$S$3*$U$3*T14 -> 0
A15: 8 | B15: =B$6&"."&A15 -> 10.8 | C15: Onderhoud Statische No-break 1j | D15: stuks | E15: 22 | F15: ='Prijzenboek regio N'!F15 -> 0 | G15: =E15*F15 -> 0 | H15: 5 | I15: =($F15*$I$3)*H15 -> 0 | J15: 5 | K15: =($F15*$I$3*$K$3)*J15 -> 0 | L15: 5 | M15: =$F15*$I$3*$K$3*$M$3*L15 -> 0 | N15: 5 | O15: =($F15*$I$3*$K$3*$M$3*$O$3)*N15 -> 0 | P15: 5 | Q15: =$F15*$I$3*$K$3*$M$3*$O$3*$Q$3*P15 -> 0 | R15: 5 | S15: =$F15*$I$3*$K$3*$M$3*$O$3*$Q$3*$S$3*R15 -> 0 | T15: 5 | U15: =$F15*$I$3*$K$3*$M$3*$O$3*$Q$3*$S$3*$U$3*T15 -> 0
C16: Aspiratie systeem paragraaf 4.3.6
A17: 9 | B17: =B$6&"."&A17 -> 10.9 | C17: XTRALIS VESDA ASPIRATIEDETECTIE | D17: stuks | E17: 18 | F17: ='Prijzenboek regio N'!F17 -> 0 | G17: =E17*F17 -> 0 | H17: 18 | I17: =($F17*$I$3)*H17 -> 0 | J17: 18 | K17: =($F17*$I$3*$K$3)*J17 -> 0 | L17: 18 | M17: =$F17*$I$3*$K$3*$M$3*L17 -> 0 | N17: 18 | O17: =($F17*$I$3*$K$3*$M$3*$O$3)*N17 -> 0 | P17: 18 | Q17: =$F17*$I$3*$K$3*$M$3*$O$3*$Q$3*P17 -> 0 | R17: 18 | S17: =$F17*$I$3*$K$3*$M$3*$O$3*$Q$3*$S$3*R17 -> 0 | T17: 18 | U17: =$F17*$I$3*$K$3*$M$3*$O$3*$Q$3*$S$3*$U$3*T17 -> 0
C18: Brandmeldinstallatie paragraaf 4.3.7
A19: 10 | B19: =B$6&"."&A19 -> 10.10 | C19: Controle hand, rook melder en temperatuur melder BMI (Prijs per melder) | D19: stuks | E19: 43 | F19: ='Prijzenboek regio N'!F19 -> 0 | G19: =E19*F19 -> 0 | H19: 43 | I19: =($F19*$I$3)*H19 -> 0 | J19: 43 | K19: =($F19*$I$3*$K$3)*J19 -> 0 | L19: 43 | M19: =$F19*$I$3*$K$3*$M$3*L19 -> 0 | N19: 43 | O19: =($F19*$I$3*$K$3*$M$3*$O$3)*N19 -> 0 | P19: 43 | Q19: =$F19*$I$3*$K$3*$M$3*$O$3*$Q$3*P19 -> 0 | R19: 43 | S19: =$F19*$I$3*$K$3*$M$3*$O$3*$Q$3*$S$3*R19 -> 0 | T19: 43 | U19: =$F19*$I$3*$K$3*$M$3*$O$3*$Q$3*$S$3*$U$3*T19 -> 0
A20: 11 | B20: =B$6&"."&A20 -> 10.11 | C20: Neventableau | D20: stuks | E20: 24 | F20: ='Prijzenboek regio N'!F20 -> 0 | G20: =E20*F20 -> 0 | H20: 24 | I20: =($F20*$I$3)*H20 -> 0 | J20: 24 | K20: =($F20*$I$3*$K$3)*J20 -> 0 | L20: 24 | M20: =$F20*$I$3*$K$3*$M$3*L20 -> 0 | N20: 24 | O20: =($F20*$I$3*$K$3*$M$3*$O$3)*N20 -> 0 | P20: 24 | Q20: =$F20*$I$3*$K$3*$M$3*$O$3*$Q$3*P20 -> 0 | R20: 24 | S20: =$F20*$I$3*$K$3*$M$3*$O$3*$Q$3*$S$3*R20 -> 0 | T20: 24 | U20: =$F20*$I$3*$K$3*$M$3*$O$3*$Q$3*$S$3*$U$3*T20 -> 0
A21: 12 | B21: =B$6&"."&A21 -> 10.12 | C21: Doormeldingen | D21: ruimte | E21: 43 | F21: ='Prijzenboek regio N'!F21 -> 0 | G21: =E21*F21 -> 0 | H21: 43 | I21: =($F21*$I$3)*H21 -> 0 | J21: 43 | K21: =($F21*$I$3*$K$3)*J21 -> 0 | L21: 43 | M21: =$F21*$I$3*$K$3*$M$3*L21 -> 0 | N21: 43 | O21: =($F21*$I$3*$K$3*$M$3*$O$3)*N21 -> 0 | P21: 43 | Q21: =$F21*$I$3*$K$3*$M$3*$O$3*$Q$3*P21 -> 0 | R21: 43 | S21: =$F21*$I$3*$K$3*$M$3*$O$3*$Q$3*$S$3*R21 -> 0 | T21: 43 | U21: =$F21*$I$3*$K$3*$M$3*$O$3*$Q$3*$S$3*$U$3*T21 -> 0
A22: 13 | B22: =B$6&"."&A22 -> 10.13 | C22: Inspectie en onderhoud BMI 12m | D22: stuks | E22: 24 | F22: ='Prijzenboek regio N'!F22 -> 0 | G22: =E22*F22 -> 0 | H22: 24 | I22: =($F22*$I$3)*H22 -> 0 | J22: 24 | K22: =($F22*$I$3*$K$3)*J22 -> 0 | L22: 24 | M22: =$F22*$I$3*$K$3*$M$3*L22 -> 0 | N22: 24 | O22: =($F22*$I$3*$K$3*$M$3*$O$3)*N22 -> 0 | P22: 24 | Q22: =$F22*$I$3*$K$3*$M$3*$O$3*$Q$3*P22 -> 0 | R22: 24 | S22: =$F22*$I$3*$K$3*$M$3*$O$3*$Q$3*$S$3*R22 -> 0 | T22: 24 | U22: =$F22*$I$3*$K$3*$M$3*$O$3*$Q$3*$S$3*$U$3*T22 -> 0
A23: 14 | B23: =B$6&"."&A23 -> 10.14 | C23: 07-B1 CCV insp en odh VBB blusgas 1j | D23: stuks | E23: 2 | F23: ='Prijzenboek regio N'!F23 -> 0 | G23: =E23*F23 -> 0 | H23: 2 | I23: =($F23*$I$3)*H23 -> 0 | J23: 2 | K23: =($F23*$I$3*$K$3)*J23 -> 0 | L23: 2 | M23: =$F23*$I$3*$K$3*$M$3*L23 -> 0 | N23: 2 | O23: =($F23*$I$3*$K$3*$M$3*$O$3)*N23 -> 0 | P23: 2 | Q23: =$F23*$I$3*$K$3*$M$3*$O$3*$Q$3*P23 -> 0 | R23: 2 | S23: =$F23*$I$3*$K$3*$M$3*$O$3*$Q$3*$S$3*R23 -> 0 | T23: 2 | U23: =$F23*$I$3*$K$3*$M$3*$O$3*$Q$3*$S$3*$U$3*T23 -> 0
A24: 15 | B24: =B$6&"."&A24 -> 10.15 | C24: 07-B2 CCV insp en odh blusgas 5j | D24: stuks | E24: 2 | F24: ='Prijzenboek regio N'!F24 -> 0 | G24: =E24*F24 -> 0 | I24: =($F24*$I$3)*H24 -> 0 | K24: =($F24*$I$3*$K$3)*J24 -> 0 | M24: =$F24*$I$3*$K$3*$M$3*L24 -> 0 | O24: =($F24*$I$3*$K$3*$M$3*$O$3)*N24 -> 0 | Q24: =$F24*$I$3*$K$3*$M$3*$O$3*$Q$3*P24 -> 0 | S24: =$F24*$I$3*$K$3*$M$3*$O$3*$Q$3*$S$3*R24 -> 0 | U24: =$F24*$I$3*$K$3*$M$3*$O$3*$Q$3*$S$3*$U$3*T24 -> 0
C25: Mechanische luchtbehandeling
A26: 16 | B26: =B$6&"."&A26 -> 10.16 | C26: Onderhoud / inspectie stoombevochtiger | D26: stuks | E26: 20 | F26: ='Prijzenboek regio N'!F26 -> 0 | G26: =E26*F26 -> 0 | H26: 20 | I26: =($F26*$I$3)*H26 -> 0 | J26: 20 | K26: =($F26*$I$3*$K$3)*J26 -> 0 | L26: 20 | M26: =$F26*$I$3*$K$3*$M$3*L26 -> 0 | N26: 20 | O26: =($F26*$I$3*$K$3*$M$3*$O$3)*N26 -> 0 | P26: 20 | Q26: =$F26*$I$3*$K$3*$M$3*$O$3*$Q$3*P26 -> 0 | R26: 20 | S26: =$F26*$I$3*$K$3*$M$3*$O$3*$Q$3*$S$3*R26 -> 0 | T26: 20 | U26: =$F26*$I$3*$K$3*$M$3*$O$3*$Q$3*$S$3*$U$3*T26 -> 0
C27: Klimaatregelinstallatie paragraaf 4.3.9
A28: 17 | B28: =B$6&"."&A28 -> 10.17 | C28: Softwarecontrole 1j | D28: stuks | E28: 12 | F28: ='Prijzenboek regio N'!F28 -> 0 | G28: =E28*F28 -> 0 | H28: 12 | I28: =($F28*$I$3)*H28 -> 0 | J28: 12 | K28: =($F28*$I$3*$K$3)*J28 -> 0 | L28: 12 | M28: =$F28*$I$3*$K$3*$M$3*L28 -> 0 | N28: 12 | O28: =($F28*$I$3*$K$3*$M$3*$O$3)*N28 -> 0 | P28: 12 | Q28: =$F28*$I$3*$K$3*$M$3*$O$3*$Q$3*P28 -> 0 | R28: 12 | S28: =$F28*$I$3*$K$3*$M$3*$O$3*$Q$3*$S$3*R28 -> 0 | T28: 12 | U28: =$F28*$I$3*$K$3*$M$3*$O$3*$Q$3*$S$3*$U$3*T28 -> 0
A29: 18 | B29: =B$6&"."&A29 -> 10.18 | C29: Onderhoud klimaatregelinstallatie 1j | D29: stuks | E29: 12 | F29: ='Prijzenboek regio N'!F29 -> 0 | G29: =E29*F29 -> 0 | H29: 12 | I29: =($F29*$I$3)*H29 -> 0 | J29: 12 | K29: =($F29*$I$3*$K$3)*J29 -> 0 | L29: 12 | M29: =$F29*$I$3*$K$3*$M$3*L29 -> 0 | N29: 12 | O29: =($F29*$I$3*$K$3*$M$3*$O$3)*N29 -> 0 | P29: 12 | Q29: =$F29*$I$3*$K$3*$M$3*$O$3*$Q$3*P29 -> 0 | R29: 12 | S29: =$F29*$I$3*$K$3*$M$3*$O$3*$Q$3*$S$3*R29 -> 0 | T29: 12 | U29: =$F29*$I$3*$K$3*$M$3*$O$3*$Q$3*$S$3*$U$3*T29 -> 0
A30: 19 | B30: =B$6&"."&A30 -> 10.19 | C30: Onderhoud klimaatregelinstallatie 4j vervangen back-up accu | D30: stuks | E30: 3 | F30: ='Prijzenboek regio N'!F30 -> 0 | G30: =E30*F30 -> 0 | H30: 3 | I30: =($F30*$I$3)*H30 -> 0 | J30: 3 | K30: =($F30*$I$3*$K$3)*J30 -> 0 | L30: 3 | M30: =$F30*$I$3*$K$3*$M$3*L30 -> 0 | N30: 3 | O30: =($F30*$I$3*$K$3*$M$3*$O$3)*N30 -> 0 | P30: 3 | Q30: =$F30*$I$3*$K$3*$M$3*$O$3*$Q$3*P30 -> 0 | R30: 3 | S30: =$F30*$I$3*$K$3*$M$3*$O$3*$Q$3*$S$3*R30 -> 0 | T30: 3 | U30: =$F30*$I$3*$K$3*$M$3*$O$3*$Q$3*$S$3*$U$3*T30 -> 0
C31: Brandwerende doorvoeringen paragraaf 4.3.3
A32: 20 | B32: =B$6&"."&A32 -> 10.20 | C32: Visuele inspectie brandwerende doorvoeringen | D32: Ruimte | E32: 10 | F32: ='Prijzenboek regio N'!F32 -> 0 | G32: =E32*F32 -> 0 | H32: 39 | I32: =($F32*$I$3)*H32 -> 0 | J32: 39 | K32: =($F32*$I$3*$K$3)*J32 -> 0 | L32: 39 | M32: =$F32*$I$3*$K$3*$M$3*L32 -> 0 | N32: 39 | O32: =($F32*$I$3*$K$3*$M$3*$O$3)*N32 -> 0 | P32: 39 | Q32: =$F32*$I$3*$K$3*$M$3*$O$3*$Q$3*P32 -> 0 | R32: 39 | S32: =$F32*$I$3*$K$3*$M$3*$O$3*$Q$3*$S$3*R32 -> 0 | T32: 39 | U32: =$F32*$I$3*$K$3*$M$3*$O$3*$Q$3*$S$3*$U$3*T32 -> 0
C33: Aardings- en Bliksembeveiligingsinstallaties paragraaf 4.3.2
A34: 21 | B34: =B$6&"."&A34 -> 10.21 | C34: Periodiek Inspectie geleidende vloer per ruimte incl. opstellen rapport | D34: Ruimte | E34: 20 | F34: ='Prijzenboek regio N'!F34 -> 0 | G34: =E34*F34 -> 0 | H34: 19 | I34: =($F34*$I$3)*H34 -> 0 | J34: 19 | K34: =($F34*$I$3*$K$3)*J34 -> 0 | L34: 19 | M34: =$F34*$I$3*$K$3*$M$3*L34 -> 0 | N34: 19 | O34: =($F34*$I$3*$K$3*$M$3*$O$3)*N34 -> 0 | P34: 19 | Q34: =$F34*$I$3*$K$3*$M$3*$O$3*$Q$3*P34 -> 0 | R34: 19 | S34: =$F34*$I$3*$K$3*$M$3*$O$3*$Q$3*$S$3*R34 -> 0 | T34: 19 | U34: =$F34*$I$3*$K$3*$M$3*$O$3*$Q$3*$S$3*$U$3*T34 -> 0
A35: 22 | B35: =B$6&"."&A35 -> 10.22 | C35: Periodiek Inspectie statische aardstrip/aardrail en aardpunten per ruimte inclusief opstellen rapporten. | D35: Ruimte | E35: 41 | F35: ='Prijzenboek regio N'!F35 -> 0 | G35: =E35*F35 -> 0 | H35: 43 | I35: =($F35*$I$3)*H35 -> 0 | J35: 43 | K35: =($F35*$I$3*$K$3)*J35 -> 0 | L35: 43 | M35: =$F35*$I$3*$K$3*$M$3*L35 -> 0 | N35: 43 | O35: =($F35*$I$3*$K$3*$M$3*$O$3)*N35 -> 0 | P35: 43 | Q35: =$F35*$I$3*$K$3*$M$3*$O$3*$Q$3*P35 -> 0 | R35: 43 | S35: =$F35*$I$3*$K$3*$M$3*$O$3*$Q$3*$S$3*R35 -> 0 | T35: 43 | U35: =$F35*$I$3*$K$3*$M$3*$O$3*$Q$3*$S$3*$U$3*T35 -> 0
C36: Periodieke inspecties laagspanning paragraaf 4.3.4
A37: 23 | B37: =B$6&"."&A37 -> 10.23 | C37: Periodieke inspectie elektrische installatie 1j | D37: Ruimte | E37: 40 | F37: ='Prijzenboek regio N'!F37 -> 0 | G37: =E37*F37 -> 0 | H37: 0 | I37: =($F37*$I$3)*H37 -> 0 | J37: 40 | K37: =($F37*$I$3*$K$3)*J37 -> 0 | L37: 40 | M37: =$F37*$I$3*$K$3*$M$3*L37 -> 0 | N37: 40 | O37: =($F37*$I$3*$K$3*$M$3*$O$3)*N37 -> 0 | P37: 0 | Q37: =$F37*$I$3*$K$3*$M$3*$O$3*$Q$3*P37 -> 0 | R37: 40 | S37: =$F37*$I$3*$K$3*$M$3*$O$3*$Q$3*$S$3*R37 -> 0 | T37: 40 | U37: =$F37*$I$3*$K$3*$M$3*$O$3*$Q$3*$S$3*$U$3*T37 -> 0
A38: 24 | B38: =B$6&"."&A38 -> 10.24 | C38: Periodieke inspectie elektrische installatie 4j | D38: Ruimte | E38: 0 | F38: ='Prijzenboek regio N'!F38 -> 0 | G38: =E38*F38 -> 0 | H38: 40 | I38: =($F38*$I$3)*H38 -> 0 | J38: 0 | K38: =($F38*$I$3*$K$3)*J38 -> 0 | L38: 0 | M38: =$F38*$I$3*$K$3*$M$3*L38 -> 0 | N38: 0 | O38: =($F38*$I$3*$K$3*$M$3*$O$3)*N38 -> 0 | P38: 40 | Q38: =$F38*$I$3*$K$3*$M$3*$O$3*$Q$3*P38 -> 0 | R38: 0 | S38: =$F38*$I$3*$K$3*$M$3*$O$3*$Q$3*$S$3*R38 -> 0 | T38: 0 | U38: =$F38*$I$3*$K$3*$M$3*$O$3*$Q$3*$S$3*$U$3*T38 -> 0
C39: Noodverlichtingsinstallaties paragraaf 4.3.5
A40: 25 | B40: =B$6&"."&A40 -> 10.25 | C40: Periodieke inspectie en onderhoud noodverlichting 1j, decentrale noodverliching per ruimte met 1 t/ m 10 armaturen | D40: Ruimte | E40: 29 | F40: ='Prijzenboek regio N'!F40 -> 0 | G40: =E40*F40 -> 0 | H40: 41 | I40: =($F40*$I$3)*H40 -> 0 | J40: 41 | K40: =($F40*$I$3*$K$3)*J40 -> 0 | L40: 41 | M40: =$F40*$I$3*$K$3*$M$3*L40 -> 0 | N40: 41 | O40: =($F40*$I$3*$K$3*$M$3*$O$3)*N40 -> 0 | P40: 41 | Q40: =$F40*$I$3*$K$3*$M$3*$O$3*$Q$3*P40 -> 0 | R40: 41 | S40: =$F40*$I$3*$K$3*$M$3*$O$3*$Q$3*$S$3*R40 -> 0 | T40: 41 | U40: =$F40*$I$3*$K$3*$M$3*$O$3*$Q$3*$S$3*$U$3*T40 -> 0
C41: Koelinstallatie paragraaf 4.3.9
A42: 26 | B42: =B$6&"."&A42 -> 10.26 | C42: Onderhoud computerkoeling < 5 ton CO2 1j | D42: stuks | E42: 41 | F42: ='Prijzenboek regio N'!F42 -> 0 | G42: =E42*F42 -> 0 | H42: 40 | I42: =($F42*$I$3)*H42 -> 0 | J42: 40 | K42: =($F42*$I$3*$K$3)*J42 -> 0 | L42: 40 | M42: =$F42*$I$3*$K$3*$M$3*L42 -> 0 | N42: 40 | O42: =($F42*$I$3*$K$3*$M$3*$O$3)*N42 -> 0 | P42: 40 | Q42: =$F42*$I$3*$K$3*$M$3*$O$3*$Q$3*P42 -> 0 | R42: 40 | S42: =$F42*$I$3*$K$3*$M$3*$O$3*$Q$3*$S$3*R42 -> 0 | T42: 40 | U42: =$F42*$I$3*$K$3*$M$3*$O$3*$Q$3*$S$3*$U$3*T42 -> 0
A43: 27 | B43: =B$6&"."&A43 -> 10.27 | C43: Controle lekdetectiesysteem computerkoeling 1j | D43: stuks | E43: 41 | F43: ='Prijzenboek regio N'!F43 -> 0 | G43: =E43*F43 -> 0 | H43: 40 | I43: =($F43*$I$3)*H43 -> 0 | J43: 40 | K43: =($F43*$I$3*$K$3)*J43 -> 0 | L43: 40 | M43: =$F43*$I$3*$K$3*$M$3*L43 -> 0 | N43: 40 | O43: =($F43*$I$3*$K$3*$M$3*$O$3)*N43 -> 0 | P43: 40 | Q43: =$F43*$I$3*$K$3*$M$3*$O$3*$Q$3*P43 -> 0 | R43: 40 | S43: =$F43*$I$3*$K$3*$M$3*$O$3*$Q$3*$S$3*R43 -> 0 | T43: 40 | U43: =$F43*$I$3*$K$3*$M$3*$O$3*$Q$3*$S$3*$U$3*T43 -> 0
A44: 28 | B44: =B$6&"."&A44 -> 10.28 | C44: Periodieke herkeuring drukapparatuur 4j of 6 j | D44: stuks | E44: 10 | F44: ='Prijzenboek regio N'!F44 -> 0 | G44: =E44*F44 -> 0 | H44: 10 | I44: =($F44*$I$3)*H44 -> 0 | J44: 10 | K44: =($F44*$I$3*$K$3)*J44 -> 0 | L44: 10 | M44: =$F44*$I$3*$K$3*$M$3*L44 -> 0 | N44: 10 | O44: =($F44*$I$3*$K$3*$M$3*$O$3)*N44 -> 0 | P44: 10 | Q44: =$F44*$I$3*$K$3*$M$3*$O$3*$Q$3*P44 -> 0 | R44: 10 | S44: =$F44*$I$3*$K$3*$M$3*$O$3*$Q$3*$S$3*R44 -> 0 | T44: 10 | U44: =$F44*$I$3*$K$3*$M$3*$O$3*$Q$3*$S$3*$U$3*T44 -> 0
A45: 29 | B45: =B$6&"."&A45 -> 10.29 | C45: PED bepaling Paragraaf 4.5.10.1 t/m 4.5.10.4 | D45: stuks | E45: 41 | F45: ='Prijzenboek regio N'!F45 -> 0 | G45: =E45*F45 -> 0 | H45: 2 | I45: =($F45*$I$3)*H45 -> 0 | J45: 2 | K45: =($F45*$I$3*$K$3)*J45 -> 0 | L45: 2 | M45: =$F45*$I$3*$K$3*$M$3*L45 -> 0 | N45: 2 | O45: =($F45*$I$3*$K$3*$M$3*$O$3)*N45 -> 0 | P45: 2 | Q45: =$F45*$I$3*$K$3*$M$3*$O$3*$Q$3*P45 -> 0 | R45: 2 | S45: =$F45*$I$3*$K$3*$M$3*$O$3*$Q$3*$S$3*R45 -> 0 | T45: 2 | U45: =$F45*$I$3*$K$3*$M$3*$O$3*$Q$3*$S$3*$U$3*T45 -> 0
C46: Implementatie vergoeding hoofdstuk 6
A47: 30 | B47: =B$6&"."&A47 -> 10.30 | C47: Implementatie vergoeding | D47: stuks | E47: 0 | F47: 0 | G47: =E47*F47 -> 0 | H47: 0 | I47: =($F47*$I$3)*H47 -> 0 | J47: 0 | K47: =($F47*$I$3*$K$3)*J47 -> 0 | L47: 0 | M47: =$F47*$I$3*$K$3*$M$3*L47 -> 0 | N47: 0 | O47: =($F47*$I$3*$K$3*$M$3*$O$3)*N47 -> 0 | P47: 0 | Q47: =$F47*$I$3*$K$3*$M$3*$O$3*$Q$3*P47 -> 0 | R47: 0 | S47: =$F47*$I$3*$K$3*$M$3*$O$3*$Q$3*$S$3*R47 -> 0 | T47: 0 | U47: =$F47*$I$3*$K$3*$M$3*$O$3*$Q$3*$S$3*$U$3*T47 -> 0
B48: 15 | C48: ABDO kosten paragraaf 4.2.1
A49: 1 | B49: =B$48&"."&A49 -> 15.1 | C49: Screening bedrijf | D49: stuks | E49: 0 | F49: 0 | G49: =E49*F49 -> 0 | H49: 0 | I49: =($F49*$I$3)*H49 -> 0 | J49: 0 | K49: =($F49*$I$3*$K$3)*J49 -> 0 | L49: 0 | M49: =$F49*$I$3*$K$3*$M$3*L49 -> 0 | N49: 0 | O49: =($F49*$I$3*$K$3*$M$3*$O$3)*N49 -> 0 | P49: 0 | Q49: =$F49*$I$3*$K$3*$M$3*$O$3*$Q$3*P49 -> 0 | R49: 0 | S49: =$F49*$I$3*$K$3*$M$3*$O$3*$Q$3*$S$3*R49 -> 0 | T49: 0 | U49: =$F49*$I$3*$K$3*$M$3*$O$3*$Q$3*$S$3*$U$3*T49 -> 0
A50: 2 | B50: =B$48&"."&A50 -> 15.2 | C50: Screening medewerker MIVD C | D50: stuks | E50: 0 | F50: 0 | G50: =E50*F50 -> 0 | H50: 0 | I50: =($F50*$I$3)*H50 -> 0 | J50: 0 | K50: =($F50*$I$3*$K$3)*J50 -> 0 | L50: 0 | M50: =$F50*$I$3*$K$3*$M$3*L50 -> 0 | N50: 0 | O50: =($F50*$I$3*$K$3*$M$3*$O$3)*N50 -> 0 | P50: 0 | Q50: =$F50*$I$3*$K$3*$M$3*$O$3*$Q$3*P50 -> 0 | R50: 0 | S50: =$F50*$I$3*$K$3*$M$3*$O$3*$Q$3*$S$3*R50 -> 0 | T50: 0 | U50: =$F50*$I$3*$K$3*$M$3*$O$3*$Q$3*$S$3*$U$3*T50 -> 0
A51: 3 | B51: =B$48&"."&A51 -> 15.3 | C51: Screening medewerker MIVD B | D51: stuks | E51: 0 | F51: 0 | G51: =E51*F51 -> 0 | H51: 0 | I51: =($F51*$I$3)*H51 -> 0 | J51: 0 | K51: =($F51*$I$3*$K$3)*J51 -> 0 | L51: 0 | M51: =$F51*$I$3*$K$3*$M$3*L51 -> 0 | N51: 0 | O51: =($F51*$I$3*$K$3*$M$3*$O$3)*N51 -> 0 | P51: 0 | Q51: =$F51*$I$3*$K$3*$M$3*$O$3*$Q$3*P51 -> 0 | R51: 0 | S51: =$F51*$I$3*$K$3*$M$3*$O$3*$Q$3*$S$3*R51 -> 0 | T51: 0 | U51: =$F51*$I$3*$K$3*$M$3*$O$3*$Q$3*$S$3*$U$3*T51 -> 0
A52: 4 | B52: =B$48&"."&A52 -> 15.4 | C52: LT met software | D52: stuks | E52: 0 | F52: 0 | G52: =E52*F52 -> 0 | H52: 0 | I52: =($F52*$I$3)*H52 -> 0 | J52: 0 | K52: =($F52*$I$3*$K$3)*J52 -> 0 | L52: 0 | M52: =$F52*$I$3*$K$3*$M$3*L52 -> 0 | N52: 0 | O52: =($F52*$I$3*$K$3*$M$3*$O$3)*N52 -> 0 | P52: 0 | Q52: =$F52*$I$3*$K$3*$M$3*$O$3*$Q$3*P52 -> 0 | R52: 0 | S52: =$F52*$I$3*$K$3*$M$3*$O$3*$Q$3*$S$3*R52 -> 0 | T52: 0 | U52: =$F52*$I$3*$K$3*$M$3*$O$3*$Q$3*$S$3*$U$3*T52 -> 0
A53: 5 | B53: =B$48&"."&A53 -> 15.5 | C53: Maken beveiliginsplan | D53: stuks | E53: 0 | F53: 0 | G53: =E53*F53 -> 0 | H53: 0 | I53: =($F53*$I$3)*H53 -> 0 | J53: 0 | K53: =($F53*$I$3*$K$3)*J53 -> 0 | L53: 0 | M53: =$F53*$I$3*$K$3*$M$3*L53 -> 0 | N53: 0 | O53: =($F53*$I$3*$K$3*$M$3*$O$3)*N53 -> 0 | P53: 0 | Q53: =$F53*$I$3*$K$3*$M$3*$O$3*$Q$3*P53 -> 0 | R53: 0 | S53: =$F53*$I$3*$K$3*$M$3*$O$3*$Q$3*$S$3*R53 -> 0 | T53: 0 | U53: =$F53*$I$3*$K$3*$M$3*$O$3*$Q$3*$S$3*$U$3*T53 -> 0
C54: Beveiligingsfunctionaris paragraaf 4.2.1
A55: 4 | B55: =B$48&"."&A55 -> 15.4 | C55: Uurtarief op werkdagen van 06:00 tot 18:00 uur | D55: uur | E55: 0 | F55: 0 | G55: =E55*F55 -> 0 | H55: 0 | I55: =($F55*$I$3)*H55 -> 0 | J55: 0 | K55: =($F55*$I$3*$K$3)*J55 -> 0 | L55: 0 | M55: =$F55*$I$3*$K$3*$M$3*L55 -> 0 | N55: 0 | O55: =($F55*$I$3*$K$3*$M$3*$O$3)*N55 -> 0 | P55: 0 | Q55: =$F55*$I$3*$K$3*$M$3*$O$3*$Q$3*P55 -> 0 | R55: 0 | S55: =$F55*$I$3*$K$3*$M$3*$O$3*$Q$3*$S$3*R55 -> 0 | T55: 0 | U55: =$F55*$I$3*$K$3*$M$3*$O$3*$Q$3*$S$3*$U$3*T55 -> 0
D56: Preventief Onderhoud | G56: =SUM(G8:G55) -> 0 | I56: =SUM(I8:I55) -> 0 | K56: =SUM(K8:K55) -> 0 | M56: =SUM(M8:M55) -> 0 | O56: =SUM(O8:O55) -> 0 | Q56: =SUM(Q8:Q55) -> 0 | S56: =SUM(S8:S55) -> 0 | U56: =SUM(U8:U55) -> 0
B57: 20 | C57: Uurtarief voor het herstellen van Manco's. | E57: uren
C58: Begeleiden medewerkers onderaannemers
A59: 1 | B59: =B$57&"."&A59 -> 20.1 | C59: Uurtarief op werkdagen van 06:00 tot 18:00 uur | D59: uur | E59: 60 | F59: ='Prijzenboek regio N'!F59 -> 0 | G59: =E59*F59 -> 0 | H59: 60 | I59: =($F59*$I$3)*H59 -> 0 | J59: 60 | K59: =($F59*$I$3*$K$3)*J59 -> 0 | L59: 60 | M59: =$F59*$I$3*$K$3*$M$3*L59 -> 0 | N59: 60 | O59: =($F59*$I$3*$K$3*$M$3*$O$3)*N59 -> 0 | P59: 60 | Q59: =$F59*$I$3*$K$3*$M$3*$O$3*$Q$3*P59 -> 0 | R59: 60 | S59: =$F59*$I$3*$K$3*$M$3*$O$3*$Q$3*$S$3*R59 -> 0 | T59: 60 | U59: =$F59*$I$3*$K$3*$M$3*$O$3*$Q$3*$S$3*$U$3*T59 -> 0
C60: Laagspannings, BMI en koel technicus.
A61: 2 | B61: =B$57&"."&A61 -> 20.2 | C61: Uurtarief op werkdagen van 06:00 tot 18:00 uur | D61: uur | E61: 200 | F61: ='Prijzenboek regio N'!F61 -> 0 | G61: =E61*F61 -> 0 | H61: 200 | I61: =($F61*$I$3)*H61 -> 0 | J61: 200 | K61: =($F61*$I$3*$K$3)*J61 -> 0 | L61: 200 | M61: =$F61*$I$3*$K$3*$M$3*L61 -> 0 | N61: 200 | O61: =($F61*$I$3*$K$3*$M$3*$O$3)*N61 -> 0 | P61: 200 | Q61: =$F61*$I$3*$K$3*$M$3*$O$3*$Q$3*P61 -> 0 | R61: 200 | S61: =$F61*$I$3*$K$3*$M$3*$O$3*$Q$3*$S$3*R61 -> 0 | T61: 200 | U61: =$F61*$I$3*$K$3*$M$3*$O$3*$Q$3*$S$3*$U$3*T61 -> 0
A62: 3 | B62: =B$57&"."&A62 -> 20.3 | C62: Toeslag op uurtarief van 20.2 voor werk op werkdagen van 18:00 tot 06:00 uur (maximaal 15%) | D62: % | E62: 3 | F62: ='Prijzenboek regio N'!F62 -> 0.1 | G62: =$F$61*$E62*F62 -> 0 | H62: 3 | I62: =($F61*$F62)*H62*$I$3 -> 0 | J62: 3 | K62: =($F$61*$F62)*J62*$I$3*J63*$K$3 -> 0 | L62: 3 | M62: =($F$61*$F62)*L62*$I$3*L63*$K$3*$M$3 -> 0 | N62: 3 | O62: =($F$61*$F62)*N62*$I$3*N63*$K$3*$M$3*$O$3 -> 0 | P62: 3 | Q62: =($F$61*$F62)*P62*$I$3*P63*$K$3*$M$3*$O$3*$Q$3 -> 0 | R62: 3 | S62: =($F$61*$F62)*R62*$I$3*R63*$K$3*$M$3*$O$3*$Q$3*$S$3 -> 0 | T62: 3 | U62: =($F$61*$F62)*T62*$I$3*T63*$K$3*$M$3*$O$3*$Q$3*$S$3*$U$3 -> 0
A63: =A62+1 -> 4 | B63: =B$57&"."&A63 -> 20.4 | C63: Toeslag op uurtarief van 20.2 voor werk op zaterdag (maximaal 25%) | D63: % | E63: 2 | F63: ='Prijzenboek regio N'!F63 -> 0.2 | G63: =$F$61*$E63*F63 -> 0 | H63: 2 | I63: =($F$61*$F63)*H63*$I$3 -> 0 | J63: 2 | K63: =($F$61*$F63)*J63*$I$3*J64*$K$3 -> 0 | L63: 2 | M63: =($F$61*$F63)*L63*$I$3*L64*$K$3*$M$3 -> 0 | N63: 2 | O63: =($F$61*$F63)*N63*$I$3*N64*$K$3*$M$3*$O$3 -> 0 | P63: 2 | Q63: =($F$61*$F63)*P63*$I$3*P64*$K$3*$M$3*$O$3*$Q$3 -> 0 | R63: 2 | S63: =($F$61*$F63)*R63*$I$3*R64*$K$3*$M$3*$O$3*$Q$3*$S$3 -> 0 | T63: 2 | U63: =($F$61*$F63)*T63*$I$3*T64*$K$3*$M$3*$O$3*$Q$3*$S$3*$U$3 -> 0
A64: =A63+1 -> 5 | B64: =B$57&"."&A64 -> 20.5 | C64: Toeslag op uurtarief van 20.2 voor werk op zon- en feestdagen (maximaal 35%) | D64: % | E64: 1 | F64: ='Prijzenboek regio N'!F64 -> 0.3 | G64: =$F$61*$E64*F64 -> 0 | H64: 1 | I64: =($F$61*$F64)*H64*I$3 -> 0 | J64: 1 | K64: =($F$61*$F64)*J64*$I$3*$K$3 -> 0 | L64: 1 | M64: =($F$61*$F64)*L64*$I$3*$K$3*$M$3 -> 0 | N64: 1 | O64: =($F$61*$F64)*N64*$I$3*$K$3*$M$3*$O$3 -> 0 | P64: 1 | Q64: =($F$61*$F64)*P64*$I$3*$K$3*$M$3*$O$3*$Q$3 -> 0 | R64: 1 | S64: =($F$61*$F64)*R64*$I$3*$K$3*$M$3*$O$3*$Q$3*$S$3 -> 0 | T64: 1 | U64: =($F$61*$F64)*T64*$I$3*$K$3*$M$3*$O$3*$Q$3*$S$3*$U$3 -> 0
C65: Technicus Noodstroominstallaties
A66: =A64+1 -> 6 | B66: =B$57&"."&A66 -> 20.6 | C66: Uurtarief op werkdagen van 06:00 tot 18:00 uur | D66: uur | E66: 100 | F66: ='Prijzenboek regio N'!F66 -> 0 | G66: =E66*F66 -> 0 | H66: 100 | I66: =($F66*$I$3)*H66 -> 0 | J66: 100 | K66: =($F66*$I$3*$K$3)*J66 -> 0 | L66: 100 | M66: =$F66*$I$3*$K$3*$M$3*L66 -> 0 | N66: 100 | O66: =($F66*$I$3*$K$3*$M$3*$O$3)*N66 -> 0 | P66: 100 | Q66: =$F66*$I$3*$K$3*$M$3*$O$3*$Q$3*P66 -> 0 | R66: 100 | S66: =$F66*$I$3*$K$3*$M$3*$O$3*$Q$3*$S$3*R66 -> 0 | T66: 100 | U66: =$F66*$I$3*$K$3*$M$3*$O$3*$Q$3*$S$3*$U$3*T66 -> 0
A67: =A66+1 -> 7 | B67: =B$57&"."&A67 -> 20.7 | C67: Toeslag op uurtarief van 20.2 voor werk op werkdagen van 18:00 tot 06:00 uur (maximaal 15%) | D67: % | E67: 3 | F67: ='Prijzenboek regio N'!F67 -> 0.1 | G67: =$F$66*F67*E67 -> 0 | H67: 3 | I67: =($F66*$F67)*H67*$I$3 -> 0 | J67: 3 | K67: =($F66*$F67)*J67*$I$3*J68*$K$3 -> 0 | L67: 3 | M67: =($F66*$F67)*L67*$I$3*L68*$K$3*$M$3 -> 0 | N67: 3 | O67: =($F66*$F67)*N67*$I$3*N68*$K$3*$M$3*$O$3 -> 0 | P67: 3 | Q67: =($F66*$F67)*P67*$I$3*P68*$K$3*$M$3*$O$3*$Q$3 -> 0 | R67: 3 | S67: =($F66*$F67)*R67*$I$3*R68*$K$3*$M$3*$O$3*$Q$3*$S$3 -> 0 | T67: 3 | U67: =($F66*$F67)*T67*$I$3*T68*$K$3*$M$3*$O$3*$Q$3*$S$3*$U$3 -> 0
A68: =A67+1 -> 8 | B68: =B$57&"."&A68 -> 20.8 | C68: Toeslag op uurtarief van 20.2 voor werk op zaterdag (maximaal 25%) | D68: % | E68: 3 | F68: ='Prijzenboek regio N'!F68 -> 0.2 | G68: =$F$66*F68*E68 -> 0 | H68: 3 | I68: =($F66*$F68)*H68*$I$3 -> 0 | J68: 3 | K68: =($F66*$F68)*J68*$I$3*J69*$K$3 -> 0 | L68: 3 | M68: =($F66*$F68)*L68*$I$3*L69*$K$3*$M$3 -> 0 | N68: 3 | O68: =($F66*$F68)*N68*$I$3*N69*$K$3*$M$3*$O$3 -> 0 | P68: 3 | Q68: =($F66*$F68)*P68*$I$3*P69*$K$3*$M$3*$O$3*$Q$3 -> 0 | R68: 3 | S68: =($F66*$F68)*R68*$I$3*R69*$K$3*$M$3*$O$3*$Q$3*$S$3 -> 0 | T68: 3 | U68: =($F66*$F68)*T68*$I$3*T69*$K$3*$M$3*$O$3*$Q$3*$S$3*$U$3 -> 0
A69: =A68+1 -> 9 | B69: =B$57&"."&A69 -> 20.9 | C69: Toeslag op uurtarief van 20.2 voor werk op zon- en feestdagen (maximaal 35%) | D69: % | E69: 1 | F69: ='Prijzenboek regio N'!F69 -> 0.3 | G69: =$F$66*F69*E69 -> 0 | H69: 1 | I69: =($F66*$F69)*H69*I$3 -> 0 | J69: 1 | K69: =($F66*$F69)*J69*$I$3*$K$3 -> 0 | L69: 1 | M69: =($F66*$F69)*L69*$I$3*$K$3*$M$3 -> 0 | N69: 1 | O69: =($F66*$F69)*N69*$I$3*$K$3*$M$3*$O$3 -> 0 | P69: 1 | Q69: =($F66*$F69)*P69*$I$3*$K$3*$M$3*$O$3*$Q$3 -> 0 | R69: 1 | S69: =($F66*$F69)*R69*$I$3*$K$3*$M$3*$O$3*$Q$3*$S$3 -> 0 | T69: 1 | U69: =($F66*$F69)*T69*$I$3*$K$3*$M$3*$O$3*$Q$3*$S$3*$U$3 -> 0
B70: 25 | C70: Uurlonen voor extra werkzaamheden klimaatregelinstallaties
A71: =A70+1 -> 1 | B71: =B$70&"."&A71 -> 25.1 | C71: Uurtarief servicetechnicus meet-en regeltechniek (MRK-A en MRK-B) op werkdagen van 06:00 tot 18:00 | D71: uur | E71: 16 | F71: ='Prijzenboek regio N'!F71 -> 0 | G71: =E71*F71 -> 0 | H71: 16 | I71: =($F71*$I$3)*H71 -> 0 | J71: 16 | K71: =($F71*$I$3*$K$3)*J71 -> 0 | L71: 16 | M71: =$F71*$I$3*$K$3*$M$3*L71 -> 0 | N71: 16 | O71: =($F71*$I$3*$K$3*$M$3*$O$3)*N71 -> 0 | P71: 16 | Q71: =$F71*$I$3*$K$3*$M$3*$O$3*$Q$3*P71 -> 0 | R71: 16 | S71: =$F71*$I$3*$K$3*$M$3*$O$3*$Q$3*$S$3*R71 -> 0 | T71: 16 | U71: =$F71*$I$3*$K$3*$M$3*$O$3*$Q$3*$S$3*$U$3*T71 -> 0
B72: 30 | C72: Uurtarief voor het herstellen van storingen
C73: Laagspannings, BMI en koel technicus.
A74: =A73+1 -> 1 | B74: =B$72&"."&A74 -> 30.1 | C74: Uurtarief op werkdagen van 06:00 tot 18:00 uur | D74: uur | E74: 26 | F74: ='Prijzenboek regio N'!F74 -> 0 | G74: =E74*F74 -> 0 | H74: 26 | I74: =($F74*$I$3)*H74 -> 0 | J74: 26 | K74: =($F74*$I$3*$K$3)*J74 -> 0 | L74: 26 | M74: =$F74*$I$3*$K$3*$M$3*L74 -> 0 | N74: 26 | O74: =($F74*$I$3*$K$3*$M$3*$O$3)*N74 -> 0 | P74: 26 | Q74: =$F74*$I$3*$K$3*$M$3*$O$3*$Q$3*P74 -> 0 | R74: 26 | S74: =$F74*$I$3*$K$3*$M$3*$O$3*$Q$3*$S$3*R74 -> 0 | T74: 26 | U74: =$F74*$I$3*$K$3*$M$3*$O$3*$Q$3*$S$3*$U$3*T74 -> 0
A75: =A74+1 -> 2 | B75: =B$72&"."&A75 -> 30.2 | C75: Toeslag op uurtarief van 20.2 voor werk op werkdagen van 18:00 tot 06:00 uur (maximaal 15%) | D75: % | E75: 8 | F75: ='Prijzenboek regio N'!F75 -> 0.15 | G75: =$F$74*F75*E75 -> 0 | H75: 8 | I75: =($F74*$F75)*H75*$I$3 -> 0 | J75: 8 | K75: =($F74*$F75)*J75*$I$3*J76*$K$3 -> 0 | L75: 8 | M75: =($F74*$F75)*L75*$I$3*L76*$K$3*$M$3 -> 0 | N75: 8 | O75: =($F74*$F75)*N75*$I$3*N76*$K$3*$M$3*$O$3 -> 0 | P75: 8 | Q75: =($F74*$F75)*P75*$I$3*P76*$K$3*$M$3*$O$3*$Q$3 -> 0 | R75: 8 | S75: =($F74*$F75)*R75*$I$3*R76*$K$3*$M$3*$O$3*$Q$3*$S$3 -> 0 | T75: 8 | U75: =($F74*$F75)*T75*$I$3*T76*$K$3*$M$3*$O$3*$Q$3*$S$3*$U$3 -> 0
A76: =A75+1 -> 3 | B76: =B$72&"."&A76 -> 30.3 | C76: Toeslag op uurtarief van 20.2 voor werk op zaterdag (maximaal 25%) | D76: % | E76: 4 | F76: ='Prijzenboek regio N'!F76 -> 0.25 | G76: =$F$74*F76*E76 -> 0 | H76: 4 | I76: =($F74*$F76)*H76*$I$3 -> 0 | J76: 4 | K76: =($F74*$F76)*J76*$I$3*J77*$K$3 -> 0 | L76: 4 | M76: =($F74*$F76)*L76*$I$3*L77*$K$3*$M$3 -> 0 | N76: 4 | O76: =($F74*$F76)*N76*$I$3*N77*$K$3*$M$3*$O$3 -> 0 | P76: 4 | Q76: =($F74*$F76)*P76*$I$3*P77*$K$3*$M$3*$O$3*$Q$3 -> 0 | R76: 4 | S76: =($F74*$F76)*R76*$I$3*R77*$K$3*$M$3*$O$3*$Q$3*$S$3 -> 0 | T76: 4 | U76: =($F74*$F76)*T76*$I$3*T77*$K$3*$M$3*$O$3*$Q$3*$S$3*$U$3 -> 0
A77: =A76+1 -> 4 | B77: =B$72&"."&A77 -> 30.4 | C77: Toeslag op uurtarief van 20.2 voor werk op zon- en feestdagen (maximaal 35%) | D77: % | E77: 2 | F77: ='Prijzenboek regio N'!F77 -> 0.35 | G77: =$F$74*F77*E77 -> 0 | H77: 2 | I77: =($F74*$F77)*H77*I$3 -> 0 | J77: 2 | K77: =($F74*$F77)*J77*$I$3*$K$3 -> 0 | L77: 2 | M77: =($F74*$F77)*L77*$I$3*$K$3*$M$3 -> 0 | N77: 2 | O77: =($F74*$F77)*N77*$I$3*$K$3*$M$3*$O$3 -> 0 | P77: 2 | Q77: =($F74*$F77)*P77*$I$3*$K$3*$M$3*$O$3*$Q$3 -> 0 | R77: 2 | S77: =($F74*$F77)*R77*$I$3*$K$3*$M$3*$O$3*$Q$3*$S$3 -> 0 | T77: 2 | U77: =($F74*$F77)*T77*$I$3*$K$3*$M$3*$O$3*$Q$3*$S$3*$U$3 -> 0
B78: 45 | C78: Noodstroominstallaties
A79: 5 | B79: =B$72&"."&A79 -> 30.5 | C79: Uurtarief op werkdagen van 06:00 tot 18:00 uur | D79: uur | E79: 26 | F79: ='Prijzenboek regio N'!F79 -> 0 | G79: =E79*F79 -> 0 | H79: 26 | I79: =($F79*$I$3)*H79 -> 0 | J79: 26 | K79: =($F79*$I$3*$K$3)*J79 -> 0 | L79: 26 | M79: =$F79*$I$3*$K$3*$M$3*L79 -> 0 | N79: 26 | O79: =($F79*$I$3*$K$3*$M$3*$O$3)*N79 -> 0 | P79: 26 | Q79: =$F79*$I$3*$K$3*$M$3*$O$3*$Q$3*P79 -> 0 | R79: 26 | S79: =$F79*$I$3*$K$3*$M$3*$O$3*$Q$3*$S$3*R79 -> 0 | T79: 26 | U79: =$F79*$I$3*$K$3*$M$3*$O$3*$Q$3*$S$3*$U$3*T79 -> 0
A80: 6 | B80: =B$72&"."&A80 -> 30.6 | C80: Toeslag op uurtarief van 30.1 voor werk op werkdagen van 18:00 tot 06:00 uur (maximaal 15%) | D80: % | E80: 8 | F80: ='Prijzenboek regio N'!F80 -> 0.15 | G80: =$F$79*F80*E80 -> 0 | H80: 8 | I80: =($F79*$F80)*H80*$I$3 -> 0 | J80: 8 | K80: =($F79*$F80)*J80*$I$3*J81*$K$3 -> 0 | L80: 8 | M80: =($F79*$F80)*L80*$I$3*L81*$K$3*$M$3 -> 0 | N80: 8 | O80: =($F79*$F80)*N80*$I$3*N81*$K$3*$M$3*$O$3 -> 0 | P80: 8 | Q80: =($F79*$F80)*P80*$I$3*P81*$K$3*$M$3*$O$3*$Q$3 -> 0 | R80: 8 | S80: =($F79*$F80)*R80*$I$3*R81*$K$3*$M$3*$O$3*$Q$3*$S$3 -> 0 | T80: 8 | U80: =($F79*$F80)*T80*$I$3*T81*$K$3*$M$3*$O$3*$Q$3*$S$3*$U$3 -> 0
A81: =A80+1 -> 7 | B81: =B$72&"."&A81 -> 30.7 | C81: Toeslag op uurtarief van 30.1 voor werk op zaterdag (maximaal 25%) | D81: % | E81: 4 | F81: ='Prijzenboek regio N'!F81 -> 0.25 | G81: =$F$79*F81*E81 -> 0 | H81: 4 | I81: =($F79*$F81)*H81*$I$3 -> 0 | J81: 4 | K81: =($F79*$F81)*J81*$I$3*J82*$K$3 -> 0 | L81: 4 | M81: =($F79*$F81)*L81*$I$3*L82*$K$3*$M$3 -> 0 | N81: 4 | O81: =($F79*$F81)*N81*$I$3*N82*$K$3*$M$3*$O$3 -> 0 | P81: 4 | Q81: =($F79*$F81)*P81*$I$3*P82*$K$3*$M$3*$O$3*$Q$3 -> 0 | R81: 4 | S81: =($F79*$F81)*R81*$I$3*R82*$K$3*$M$3*$O$3*$Q$3*$S$3 -> 0 | T81: 4 | U81: =($F79*$F81)*T81*$I$3*T82*$K$3*$M$3*$O$3*$Q$3*$S$3*$U$3 -> 0
A82: =A81+1 -> 8 | B82: =B$72&"."&A82 -> 30.8 | C82: Toeslag op uurtarief van 30.1 voor werk op zon- en feestdagen (maximaal 35%) | D82: % | E82: 2 | F82: ='Prijzenboek regio N'!F82 -> 0.35 | G82: =$F$79*F82*E82 -> 0 | H82: 2 | I82: =($F79*$F82)*H82*I$3 -> 0 | J82: 2 | K82: =($F79*$F82)*J82*$I$3*$K$3 -> 0 | L82: 2 | M82: =($F79*$F82)*L82*$I$3*$K$3*$M$3 -> 0 | N82: 2 | O82: =($F79*$F82)*N82*$I$3*$K$3*$M$3*$O$3 -> 0 | P82: 2 | Q82: =($F79*$F82)*P82*$I$3*$K$3*$M$3*$O$3*$Q$3 -> 0 | R82: 2 | S82: =($F79*$F82)*R82*$I$3*$K$3*$M$3*$O$3*$Q$3*$S$3 -> 0 | T82: 2 | U82: =($F79*$F82)*T82*$I$3*$K$3*$M$3*$O$3*$Q$3*$S$3*$U$3 -> 0
B83: 45 | C83: Uurtarief projecten
A84: =A83+1 -> 1 | B84: =B$83&"."&A84 -> 45.1 | C84: Projectleider | D84: uur | E84: 220 | F84: ='Prijzenboek regio N'!F84 -> 0 | G84: =E84*F84 -> 0 | H84: 220 | I84: =($F84*$I$3)*H84 -> 0 | J84: 220 | K84: =($F84*$I$3*$K$3)*J84 -> 0 | L84: 220 | M84: =$F84*$I$3*$K$3*$M$3*L84 -> 0 | N84: 220 | O84: =($F84*$I$3*$K$3*$M$3*$O$3)*N84 -> 0 | P84: 220 | Q84: =$F84*$I$3*$K$3*$M$3*$O$3*$Q$3*P84 -> 0 | R84: 220 | S84: =$F84*$I$3*$K$3*$M$3*$O$3*$Q$3*$S$3*R84 -> 0 | T84: 220 | U84: =$F84*$I$3*$K$3*$M$3*$O$3*$Q$3*$S$3*$U$3*T84 -> 0
A85: =A84+1 -> 2 | B85: =B$83&"."&A85 -> 45.2 | C85: Calculator | D85: uur | E85: 70 | F85: ='Prijzenboek regio N'!F85 -> 0 | G85: =E85*F85 -> 0 | H85: 70 | I85: =($F85*$I$3)*H85 -> 0 | J85: 70 | K85: =($F85*$I$3*$K$3)*J85 -> 0 | L85: 70 | M85: =$F85*$I$3*$K$3*$M$3*L85 -> 0 | N85: 70 | O85: =($F85*$I$3*$K$3*$M$3*$O$3)*N85 -> 0 | P85: 70 | Q85: =$F85*$I$3*$K$3*$M$3*$O$3*$Q$3*P85 -> 0 | R85: 70 | S85: =$F85*$I$3*$K$3*$M$3*$O$3*$Q$3*$S$3*R85 -> 0 | T85: 70 | U85: =$F85*$I$3*$K$3*$M$3*$O$3*$Q$3*$S$3*$U$3*T85 -> 0
A86: =A85+1 -> 3 | B86: =B$83&"."&A86 -> 45.3 | C86: Engineer | D86: uur | E86: 180 | F86: ='Prijzenboek regio N'!F86 -> 0 | G86: =E86*F86 -> 0 | H86: 180 | I86: =($F86*$I$3)*H86 -> 0 | J86: 180 | K86: =($F86*$I$3*$K$3)*J86 -> 0 | L86: 180 | M86: =$F86*$I$3*$K$3*$M$3*L86 -> 0 | N86: 180 | O86: =($F86*$I$3*$K$3*$M$3*$O$3)*N86 -> 0 | P86: 180 | Q86: =$F86*$I$3*$K$3*$M$3*$O$3*$Q$3*P86 -> 0 | R86: 180 | S86: =$F86*$I$3*$K$3*$M$3*$O$3*$Q$3*$S$3*R86 -> 0 | T86: 180 | U86: =$F86*$I$3*$K$3*$M$3*$O$3*$Q$3*$S$3*$U$3*T86 -> 0
A87: =A86+1 -> 4 | B87: =B$83&"."&A87 -> 45.4 | C87: Werkvoorbereider | D87: uur | E87: 180 | F87: ='Prijzenboek regio N'!F87 -> 0 | G87: =E87*F87 -> 0 | H87: 180 | I87: =($F87*$I$3)*H87 -> 0 | J87: 180 | K87: =($F87*$I$3*$K$3)*J87 -> 0 | L87: 180 | M87: =$F87*$I$3*$K$3*$M$3*L87 -> 0 | N87: 180 | O87: =($F87*$I$3*$K$3*$M$3*$O$3)*N87 -> 0 | P87: 180 | Q87: =$F87*$I$3*$K$3*$M$3*$O$3*$Q$3*P87 -> 0 | R87: 180 | S87: =$F87*$I$3*$K$3*$M$3*$O$3*$Q$3*$S$3*R87 -> 0 | T87: 180 | U87: =$F87*$I$3*$K$3*$M$3*$O$3*$Q$3*$S$3*$U$3*T87 -> 0
A88: =A87+1 -> 5 | B88: =B$83&"."&A88 -> 45.5 | C88: Tekenaar | D88: uur | E88: 70 | F88: ='Prijzenboek regio N'!F88 -> 0 | G88: =E88*F88 -> 0 | H88: 70 | I88: =($F88*$I$3)*H88 -> 0 | J88: 70 | K88: =($F88*$I$3*$K$3)*J88 -> 0 | L88: 70 | M88: =$F88*$I$3*$K$3*$M$3*L88 -> 0 | N88: 70 | O88: =($F88*$I$3*$K$3*$M$3*$O$3)*N88 -> 0 | P88: 70 | Q88: =$F88*$I$3*$K$3*$M$3*$O$3*$Q$3*P88 -> 0 | R88: 70 | S88: =$F88*$I$3*$K$3*$M$3*$O$3*$Q$3*$S$3*R88 -> 0 | T88: 70 | U88: =$F88*$I$3*$K$3*$M$3*$O$3*$Q$3*$S$3*$U$3*T88 -> 0
G89: =SUM(G59:G88) -> 0 | I89: =SUM(I59:I88) -> 0 | K89: =SUM(K59:K88) -> 0 | M89: =SUM(M59:M88) -> 0 | O89: =SUM(O59:O88) -> 0 | Q89: =SUM(Q59:Q88) -> 0 | S89: =SUM(S59:S88) -> 0 | U89: =SUM(U59:U88) -> 0
B90: 60 | C90: Inventarisatie paragraaf 4.6.1
A91: 1 | B91: =B$90&"."&A91 -> 60.1 | C91: Inventarisatie | D91: ruimte | E91: 43 | F91: ='Prijzenboek regio N'!F91 -> 0 | G91: =E91*F91 -> 0 | H91: 1 | I91: =($F91*$I$3)*H91 -> 0 | J91: 1 | K91: =($F91*$I$3*$K$3)*J91 -> 0 | L91: 1 | M91: =$F91*$I$3*$K$3*$M$3*L91 -> 0 | N91: 1 | O91: =($F91*$I$3*$K$3*$M$3*$O$3)*N91 -> 0 | P91: 1 | Q91: =$F91*$I$3*$K$3*$M$3*$O$3*$Q$3*P91 -> 0 | R91: 1 | S91: =$F91*$I$3*$K$3*$M$3*$O$3*$Q$3*$S$3*R91 -> 0 | T91: 1 | U91: =$F91*$I$3*$K$3*$M$3*$O$3*$Q$3*$S$3*$U$3*T91 -> 0
B92: 70 | C92: Nieuwe Logboeken en ruimte dossier NTN paragraaf 4.6.1 en paragraaf 5.8
A93: 1 | B93: =B$92&"."&A93 -> 70.1 | C93: Ruimte dossier NTN | D93: stuks | E93: 5 | F93: ='Prijzenboek regio N'!F93 -> 0 | G93: =E93*F93 -> 0 | H93: 5 | I93: =($F93*$I$3)*H93 -> 0 | J93: 5 | K93: =($F93*$I$3*$K$3)*J93 -> 0 | L93: 5 | M93: =$F93*$I$3*$K$3*$M$3*L93 -> 0 | N93: 5 | O93: =($F93*$I$3*$K$3*$M$3*$O$3)*N93 -> 0 | P93: 5 | Q93: =$F93*$I$3*$K$3*$M$3*$O$3*$Q$3*P93 -> 0 | R93: 5 | S93: =$F93*$I$3*$K$3*$M$3*$O$3*$Q$3*$S$3*R93 -> 0 | T93: 5 | U93: =$F93*$I$3*$K$3*$M$3*$O$3*$Q$3*$S$3*$U$3*T93 -> 0
A94: 2 | B94: =B$92&"."&A94 -> 70.2 | C94: Logboek koelinstallatie NTN ruimte | D94: stuks | E94: 5 | F94: ='Prijzenboek regio N'!F94 -> 0 | G94: =E94*F95 -> 0 | H94: 5 | I94: =($F95*$I$3)*H94 -> 0 | J94: 5 | K94: =($F94*$I$3*$K$3)*J94 -> 0 | L94: 5 | M94: =$F95*$I$3*$K$3*$M$3*L94 -> 0 | N94: 5 | O94: =($F94*$I$3*$K$3*$M$3*$O$3)*N94 -> 0 | P94: 5 | Q94: =$F94*$I$3*$K$3*$M$3*$O$3*$Q$3*P94 -> 0 | R94: 5 | S94: =$F94*$I$3*$K$3*$M$3*$O$3*$Q$3*$S$3*R94 -> 0 | T94: 5 | U94: =$F94*$I$3*$K$3*$M$3*$O$3*$Q$3*$S$3*$U$3*T94 -> 0
A95: 3 | B95: =B$92&"."&A95 -> 70.3 | C95: Logboek brandwerende doorvoeringen NTN ruimte | D95: stuks | E95: 2 | F95: ='Prijzenboek regio N'!F95 -> 0 | G95: =E95*F95 -> 0 | H95: 2 | I95: =($F95*$I$3)*H95 -> 0 | J95: 2 | K95: =($F95*$I$3*$K$3)*J95 -> 0 | L95: 2 | M95: =$F95*$I$3*$K$3*$M$3*L95 -> 0 | N95: 2 | O95: =($F95*$I$3*$K$3*$M$3*$O$3)*N95 -> 0 | P95: 2 | Q95: =$F95*$I$3*$K$3*$M$3*$O$3*$Q$3*P95 -> 0 | R95: 2 | S95: =$F95*$I$3*$K$3*$M$3*$O$3*$Q$3*$S$3*R95 -> 0 | T95: 2 | U95: =$F95*$I$3*$K$3*$M$3*$O$3*$Q$3*$S$3*$U$3*T95 -> 0
B96: 75 | C96: Vergoeding voor niet uit tevoeren werkzaamheden en wachturen
A97: =A96+1 -> 1 | B97: =B$96&"."&A97 -> 75.1 | C97: Vergoeding bij status niet gekeurd | D97: stuks | E97: 5 | F97: ='Prijzenboek regio N'!F97 -> 0 | G97: =E97*F97 -> 0 | H97: 5 | I97: =($F97*$I$3)*H97 -> 0 | J97: 5 | K97: =($F97*$I$3*$K$3)*J97 -> 0 | L97: 5 | M97: =$F97*$I$3*$K$3*$M$3*L97 -> 0 | N97: 5 | O97: =($F97*$I$3*$K$3*$M$3*$O$3)*N97 -> 0 | P97: 5 | Q97: =$F97*$I$3*$K$3*$M$3*$O$3*$Q$3*P97 -> 0 | R97: 5 | S97: =$F97*$I$3*$K$3*$M$3*$O$3*$Q$3*$S$3*R97 -> 0 | T97: 5 | U97: =$F97*$I$3*$K$3*$M$3*$O$3*$Q$3*$S$3*$U$3*T97 -> 0
A98: =A97+1 -> 2 | B98: =B$96&"."&A98 -> 75.2 | C98: Vergoeding voor opnemen volledige gegevens nieuwe componenten | D98: stuks | E98: 2 | F98: ='Prijzenboek regio N'!F98 -> 0 | G98: =E98*F98 -> 0 | H98: 2 | I98: =($F98*$I$3)*H98 -> 0 | J98: 2 | K98: =($F98*$I$3*$K$3)*J98 -> 0 | L98: 2 | M98: =$F98*$I$3*$K$3*$M$3*L98 -> 0 | N98: 2 | O98: =($F98*$I$3*$K$3*$M$3*$O$3)*N98 -> 0 | P98: 2 | Q98: =$F98*$I$3*$K$3*$M$3*$O$3*$Q$3*P98 -> 0 | R98: 2 | S98: =$F98*$I$3*$K$3*$M$3*$O$3*$Q$3*$S$3*R98 -> 0 | T98: 2 | U98: =$F98*$I$3*$K$3*$M$3*$O$3*$Q$3*$S$3*$U$3*T98 -> 0
A99: =A98+1 -> 3 | B99: =B$96&"."&A99 -> 75.3 | C99: Wachturen | D99: uur | E99: 20 | F99: ='Prijzenboek regio N'!F99 -> 0 | G99: =E99*F99 -> 0 | H99: 20 | I99: =($F99*$I$3)*H99 -> 0 | J99: 20 | K99: =($F99*$I$3*$K$3)*J99 -> 0 | L99: 20 | M99: =$F99*$I$3*$K$3*$M$3*L99 -> 0 | N99: 20 | O99: =($F99*$I$3*$K$3*$M$3*$O$3)*N99 -> 0 | P99: 20 | Q99: =$F99*$I$3*$K$3*$M$3*$O$3*$Q$3*P99 -> 0 | R99: 20 | S99: =$F99*$I$3*$K$3*$M$3*$O$3*$Q$3*$S$3*R99 -> 0 | T99: 20 | U99: =$F99*$I$3*$K$3*$M$3*$O$3*$Q$3*$S$3*$U$3*T99 -> 0
A100: =A99+1 -> 4 | B100: =B$96&"."&A100 -> 75.4 | C100: Vergoeding niet nakomen uitvoeringsdatum inspectie en onderhoud. | D100: stuks | E100: 12 | F100: ='Prijzenboek regio N'!F100 -> 750 | G100: =E100*F100 -> 9000 | H100: 12 | I100: =($F100*$I$3)*H100 -> 9000 | J100: 12 | K100: =($F100*$I$3*$K$3)*J100 -> 9000 | L100: 12 | M100: =$F100*$I$3*$K$3*$M$3*L100 -> 9000 | N100: 12 | O100: =($F100*$I$3*$K$3*$M$3*$O$3)*N100 -> 9000 | P100: 12 | Q100: =$F100*$I$3*$K$3*$M$3*$O$3*$Q$3*P100 -> 9000 | R100: 12 | S100: =$F100*$I$3*$K$3*$M$3*$O$3*$Q$3*$S$3*R100 -> 9000 | T100: 12 | U100: =$F100*$I$3*$K$3*$M$3*$O$3*$Q$3*$S$3*$U$3*T100 -> 9000
B101: 80 | C101: Hulpmiddelen
...

Sheet Prijzenboek  regio Z-W
B1: Prijzenboek Regio Zuid-West
F2: 2024 | I2: 2025 | K2: 2026 | M2: 2027 | O2: 2028 | Q2: 2029 | S2: 2030 | U2: 2031
H3: Indexering | I3: 1 | J3: Indexering | K3: 1 | L3: Indexering | M3: 1 | N3: Indexering | O3: 1 | P3: Indexering | Q3: 1 | R3: Indexering | S3: 1 | T3: Indexering | U3: 1
B5: Blok | D5: Eenheid | E5: Aantallen (fictief per jaar) | F5: Verrekenprijs (per eenheid) | G5: Prijs (aantal x eenheidsprijs) | H5: Aantallen (fictief per jaar) | I5: Prijs (aantal x indexering x eenheidsprijs) | J5: Aantallen (fictief per jaar) | K5: Prijs (aantal x indexering x eenheidsprijs) | L5: Aantallen (fictief per jaar) | M5: Prijs (aantal x indexering x eenheidsprijs) | N5: Aantallen (fictief per jaar) | O5: Prijs (aantal x indexering x eenheidsprijs) | P5: Aantallen (fictief per jaar) | Q5: Prijs (aantal x indexering x eenheidsprijs) | R5: Aantallen (fictief per jaar) | S5: Prijs (aantal x indexering x eenheidsprijs) | T5: Aantallen (fictief per jaar) | U5: Prijs (aantal x indexering x eenheidsprijs)
B6: 10 | C6: Preventief Onderhoud volgens Keuringsplan
C7: Noodstroominstallaties paragraaf 4.3.3
A8: 1 | B8: =B$6&"."&A8 -> 10.1 | C8: Onderhoud Statische No-break 1j -48V | D8: Ruimte | E8: 13 | F8: ='Prijzenboek regio N'!F8 -> 0 | G8: =E8*F8 -> 0 | H8: 13 | I8: =($F8*$I$3)*H8 -> 0 | J8: 13 | K8: =$F8*$I$3*$K$3*J8 -> 0 | L8: 13 | M8: =($F8*$I$3*$K$3*$M$3)*L8 -> 0 | N8: 13 | O8: =($F8*$I$3*$K$3*$M$3*$O$3)*N8 -> 0 | P8: 13 | Q8: =$F8*$I$3*$K$3*$M$3*$O$3*$Q$3*P8 -> 0 | R8: 13 | S8: =$F8*$I$3*$K$3*$M$3*$O$3*$Q$3*$S$3*R8 -> 0 | T8: 13 | U8: =$F8*$I$3*$K$3*$M$3*$O$3*$Q$3*$S$3*$U$3*T8 -> 0
A9: 2 | B9: =B$6&"."&A9 -> 10.2 | C9: Onderhoud / inspectie rectifier | D9: stuks | E9: 61 | F9: ='Prijzenboek regio N'!F9 -> 0 | G9: =E9*F9 -> 0 | H9: 55 | I9: =($F9*$I$3)*H9 -> 0 | J9: 50 | K9: =$F9*$I$3*$K$3*J9 -> 0 | L9: 45 | M9: =$F9*$I$3*$K$3*$M$3*L9 -> 0 | N9: 40 | O9: =($F9*$I$3*$K$3*$M$3*$O$3)*N9 -> 0 | P9: 35 | Q9: =$F9*$I$3*$K$3*$M$3*$O$3*$Q$3*P9 -> 0 | R9: 30 | S9: =$F9*$I$3*$K$3*$M$3*$O$3*$Q$3*$S$3*R9 -> 0 | T9: 25 | U9: =$F9*$I$3*$K$3*$M$3*$O$3*$Q$3*$S$3*$U$3*T9 -> 0
A10: 3 | B10: =B$6&"."&A10 -> 10.3 | C10: Onderhoud / inspectie inverter | D10: stuks | E10: 9 | F10: ='Prijzenboek regio N'!F10 -> 0 | G10: =E10*F10 -> 0 | H10: 8 | I10: =($F10*$I$3)*H10 -> 0 | J10: 8 | K10: =($F10*$I$3*$K$3)*J10 -> 0 | L10: 7 | M10: =$F10*$I$3*$K$3*$M$3*L10 -> 0 | N10: 7 | O10: =($F10*$I$3*$K$3*$M$3*$O$3)*N10 -> 0 | P10: 6 | Q10: =$F10*$I$3*$K$3*$M$3*$O$3*$Q$3*P10 -> 0 | R10: 6 | S10: =$F10*$I$3*$K$3*$M$3*$O$3*$Q$3*$S$3*R10 -> 0 | T10: 5 | U10: =$F10*$I$3*$K$3*$M$3*$O$3*$Q$3*$S$3*$U$3*T10 -> 0
A11: 4 | B11: =B$6&"."&A11 -> 10.4 | C11: Onderhoud / inspectie accu's en Siemens meting (per accu) | D11: stuks | E11: 120 | F11: ='Prijzenboek regio N'!F11 -> 0 | G11: =E11*F11 -> 0 | H11: 108 | I11: =($F11*$I$3)*H11 -> 0 | J11: 96 | K11: =($F11*$I$3*$K$3)*J11 -> 0 | L11: 84 | M11: =$F11*$I$3*$K$3*$M$3*L11 -> 0 | N11: 72 | O11: =($F11*$I$3*$K$3*$M$3*$O$3)*N11 -> 0 | P11: 60 | Q11: =$F11*$I$3*$K$3*$M$3*$O$3*$Q$3*P11 -> 0 | R11: 48 | S11: =$F11*$I$3*$K$3*$M$3*$O$3*$Q$3*$S$3*R11 -> 0 | T11: 36 | U11: =$F11*$I$3*$K$3*$M$3*$O$3*$Q$3*$S$3*$U$3*T11 -> 0
A12: 5 | B12: =B$6&"."&A12 -> 10.5 | C12: Inspectie HPDE afdichtingen | D12: stuks | E12: 51 | F12: ='Prijzenboek regio N'!F12 -> 0 | G12: =E12*F12 -> 0 | H12: 51 | I12: =($F12*$I$3)*H12 -> 0 | J12: 51 | K12: =($F12*$I$3*$K$3)*J12 -> 0 | L12: 51 | M12: =$F12*$I$3*$K$3*$M$3*L12 -> 0 | N12: 51 | O12: =($F12*$I$3*$K$3*$M$3*$O$3)*N12 -> 0 | P12: 51 | Q12: =$F12*$I$3*$K$3*$M$3*$O$3*$Q$3*P12 -> 0 | R12: 51 | S12: =$F12*$I$3*$K$3*$M$3*$O$3*$Q$3*$S$3*R12 -> 0 | T12: 51 | U12: =$F12*$I$3*$K$3*$M$3*$O$3*$Q$3*$S$3*$U$3*T12 -> 0
A13: 6 | B13: =B$6&"."&A13 -> 10.6 | C13: Controleren doormeldingen naar ITOC | D13: Ruimte | E13: 14 | F13: ='Prijzenboek regio N'!F13 -> 0 | G13: =E13*F13 -> 0 | H13: 14 | I13: =($F13*$I$3)*H13 -> 0 | J13: 14 | K13: =$F13*$I$3*$K$3*J13 -> 0 | L13: 14 | M13: =($F13*$I$3*$K$3*$M$3)*L13 -> 0 | N13: 14 | O13: =($F13*$I$3*$K$3*$M$3*$O$3)*N13 -> 0 | P13: 14 | Q13: =$F13*$I$3*$K$3*$M$3*$O$3*$Q$3*P13 -> 0 | R13: 14 | S13: =$F13*$I$3*$K$3*$M$3*$O$3*$Q$3*$S$3*R13 -> 0 | T13: 14 | U13: =$F13*$I$3*$K$3*$M$3*$O$3*$Q$3*$S$3*$U$3*T13 -> 0
A14: 7 | B14: =B$6&"."&A14 -> 10.7 | C14: Onderhoud Statische No-break 1j (priva) | D14: stuks | E14: 3 | F14: ='Prijzenboek regio N'!F14 -> 0 | G14: =E14*F14 -> 0 | H14: 3 | I14: =($F14*$I$3)*H14 -> 0 | J14: 3 | K14: =($F14*$I$3*$K$3)*J14 -> 0 | L14: 3 | M14: =$F14*$I$3*$K$3*$M$3*L14 -> 0 | N14: 3 | O14: =($F14*$I$3*$K$3*$M$3*$O$3)*N14 -> 0 | P14: 3 | Q14: =$F14*$I$3*$K$3*$M$3*$O$3*$Q$3*P14 -> 0 | R14: 3 | S14: =$F14*$I$3*$K$3*$M$3*$O$3*$Q$3*$S$3*R14 -> 0 | T14: 3 | U14: =$F14*$I$3*$K$3*$M$3*$O$3*$Q$3*$S$3*$U$3*T14 -> 0
A15: 8 | B15: =B$6&"."&A15 -> 10.8 | C15: Onderhoud Statische No-break 1j | D15: stuks | E15: 4 | F15: ='Prijzenboek regio N'!F15 -> 0 | G15: =E15*F15 -> 0 | H15: 5 | I15: =($F15*$I$3)*H15 -> 0 | J15: 5 | K15: =($F15*$I$3*$K$3)*J15 -> 0 | L15: 5 | M15: =$F15*$I$3*$K$3*$M$3*L15 -> 0 | N15: 5 | O15: =($F15*$I$3*$K$3*$M$3*$O$3)*N15 -> 0 | P15: 5 | Q15: =$F15*$I$3*$K$3*$M$3*$O$3*$Q$3*P15 -> 0 | R15: 5 | S15: =$F15*$I$3*$K$3*$M$3*$O$3*$Q$3*$S$3*R15 -> 0 | T15: 5 | U15: =$F15*$I$3*$K$3*$M$3*$O$3*$Q$3*$S$3*$U$3*T15 -> 0
C16: Aspiratie systeem paragraaf 4.3.6
A17: 9 | B17: =B$6&"."&A17 -> 10.9 | C17: XTRALIS VESDA ASPIRATIEDETECTIE | D17: stuks | E17: 8 | F17: ='Prijzenboek regio N'!F17 -> 0 | G17: =E17*F17 -> 0 | H17: 8 | I17: =($F17*$I$3)*H17 -> 0 | J17: 8 | K17: =($F17*$I$3*$K$3)*J17 -> 0 | L17: 8 | M17: =$F17*$I$3*$K$3*$M$3*L17 -> 0 | N17: 8 | O17: =($F17*$I$3*$K$3*$M$3*$O$3)*N17 -> 0 | P17: 8 | Q17: =$F17*$I$3*$K$3*$M$3*$O$3*$Q$3*P17 -> 0 | R17: 8 | S17: =$F17*$I$3*$K$3*$M$3*$O$3*$Q$3*$S$3*R17 -> 0 | T17: 8 | U17: =$F17*$I$3*$K$3*$M$3*$O$3*$Q$3*$S$3*$U$3*T17 -> 0
C18: Brandmeldinstallatie paragraaf 4.3.7
A19: 10 | B19: =B$6&"."&A19 -> 10.10 | C19: Controle hand, rook melder en temperatuur melder BMI (Prijs per melder) | D19: stuks | E19: 8 | F19: ='Prijzenboek regio N'!F19 -> 0 | G19: =E19*F19 -> 0 | H19: 8 | I19: =($F19*$I$3)*H19 -> 0 | J19: 8 | K19: =($F19*$I$3*$K$3)*J19 -> 0 | L19: 8 | M19: =$F19*$I$3*$K$3*$M$3*L19 -> 0 | N19: 8 | O19: =($F19*$I$3*$K$3*$M$3*$O$3)*N19 -> 0 | P19: 8 | Q19: =$F19*$I$3*$K$3*$M$3*$O$3*$Q$3*P19 -> 0 | R19: 8 | S19: =$F19*$I$3*$K$3*$M$3*$O$3*$Q$3*$S$3*R19 -> 0 | T19: 8 | U19: =$F19*$I$3*$K$3*$M$3*$O$3*$Q$3*$S$3*$U$3*T19 -> 0
A20: 11 | B20: =B$6&"."&A20 -> 10.11 | C20: Neventableau | D20: stuks | E20: 6 | F20: ='Prijzenboek regio N'!F20 -> 0 | G20: =E20*F20 -> 0 | H20: 6 | I20: =($F20*$I$3)*H20 -> 0 | J20: 6 | K20: =($F20*$I$3*$K$3)*J20 -> 0 | L20: 6 | M20: =$F20*$I$3*$K$3*$M$3*L20 -> 0 | N20: 6 | O20: =($F20*$I$3*$K$3*$M$3*$O$3)*N20 -> 0 | P20: 6 | Q20: =$F20*$I$3*$K$3*$M$3*$O$3*$Q$3*P20 -> 0 | R20: 6 | S20: =$F20*$I$3*$K$3*$M$3*$O$3*$Q$3*$S$3*R20 -> 0 | T20: 6 | U20: =$F20*$I$3*$K$3*$M$3*$O$3*$Q$3*$S$3*$U$3*T20 -> 0
A21: 12 | B21: =B$6&"."&A21 -> 10.12 | C21: Doormeldingen | D21: ruimte | E21: 8 | F21: ='Prijzenboek regio N'!F21 -> 0 | G21: =E21*F21 -> 0 | H21: 8 | I21: =($F21*$I$3)*H21 -> 0 | J21: 8 | K21: =($F21*$I$3*$K$3)*J21 -> 0 | L21: 8 | M21: =$F21*$I$3*$K$3*$M$3*L21 -> 0 | N21: 8 | O21: =($F21*$I$3*$K$3*$M$3*$O$3)*N21 -> 0 | P21: 8 | Q21: =$F21*$I$3*$K$3*$M$3*$O$3*$Q$3*P21 -> 0 | R21: 8 | S21: =$F21*$I$3*$K$3*$M$3*$O$3*$Q$3*$S$3*R21 -> 0 | T21: 8 | U21: =$F21*$I$3*$K$3*$M$3*$O$3*$Q$3*$S$3*$U$3*T21 -> 0
A22: 13 | B22: =B$6&"."&A22 -> 10.13 | C22: Inspectie en onderhoud BMI 12m | D22: stuks | E22: 6 | F22: ='Prijzenboek regio N'!F22 -> 0 | G22: =E22*F22 -> 0 | H22: 6 | I22: =($F22*$I$3)*H22 -> 0 | J22: 6 | K22: =($F22*$I$3*$K$3)*J22 -> 0 | L22: 6 | M22: =$F22*$I$3*$K$3*$M$3*L22 -> 0 | N22: 6 | O22: =($F22*$I$3*$K$3*$M$3*$O$3)*N22 -> 0 | P22: 6 | Q22: =$F22*$I$3*$K$3*$M$3*$O$3*$Q$3*P22 -> 0 | R22: 6 | S22: =$F22*$I$3*$K$3*$M$3*$O$3*$Q$3*$S$3*R22 -> 0 | T22: 6 | U22: =$F22*$I$3*$K$3*$M$3*$O$3*$Q$3*$S$3*$U$3*T22 -> 0
A23: 14 | B23: =B$6&"."&A23 -> 10.14 | C23: 07-B1 CCV insp en odh VBB blusgas 1j | D23: stuks | E23: 1 | F23: ='Prijzenboek regio N'!F23 -> 0 | G23: =E23*F23 -> 0 | H23: 1 | I23: =($F23*$I$3)*H23 -> 0 | J23: 1 | K23: =($F23*$I$3*$K$3)*J23 -> 0 | L23: 1 | M23: =$F23*$I$3*$K$3*$M$3*L23 -> 0 | N23: 1 | O23: =($F23*$I$3*$K$3*$M$3*$O$3)*N23 -> 0 | P23: 1 | Q23: =$F23*$I$3*$K$3*$M$3*$O$3*$Q$3*P23 -> 0 | R23: 1 | S23: =$F23*$I$3*$K$3*$M$3*$O$3*$Q$3*$S$3*R23 -> 0 | T23: 1 | U23: =$F23*$I$3*$K$3*$M$3*$O$3*$Q$3*$S$3*$U$3*T23 -> 0
A24: 15 | B24: =B$6&"."&A24 -> 10.15 | C24: 07-B2 CCV insp en odh blusgas 5j | D24: stuks | E24: 1 | F24: ='Prijzenboek regio N'!F24 -> 0 | G24: =E24*F24 -> 0 | I24: =($F24*$I$3)*H24 -> 0 | K24: =($F24*$I$3*$K$3)*J24 -> 0 | M24: =$F24*$I$3*$K$3*$M$3*L24 -> 0 | O24: =($F24*$I$3*$K$3*$M$3*$O$3)*N24 -> 0 | P24: 1 | Q24: =$F24*$I$3*$K$3*$M$3*$O$3*$Q$3*P24 -> 0 | S24: =$F24*$I$3*$K$3*$M$3*$O$3*$Q$3*$S$3*R24 -> 0 | U24: =$F24*$I$3*$K$3*$M$3*$O$3*$Q$3*$S$3*$U$3*T24 -> 0
C25: Mechanische luchtbehandeling
A26: 16 | B26: =B$6&"."&A26 -> 10.16 | C26: Onderhoud / inspectie stoombevochtiger | D26: stuks | E26: 6 | F26: ='Prijzenboek regio N'!F26 -> 0 | G26: =E26*F26 -> 0 | H26: 6 | I26: =($F26*$I$3)*H26 -> 0 | J26: 6 | K26: =($F26*$I$3*$K$3)*J26 -> 0 | L26: 6 | M26: =$F26*$I$3*$K$3*$M$3*L26 -> 0 | N26: 6 | O26: =($F26*$I$3*$K$3*$M$3*$O$3)*N26 -> 0 | P26: 6 | Q26: =$F26*$I$3*$K$3*$M$3*$O$3*$Q$3*P26 -> 0 | R26: 6 | S26: =$F26*$I$3*$K$3*$M$3*$O$3*$Q$3*$S$3*R26 -> 0 | T26: 6 | U26: =$F26*$I$3*$K$3*$M$3*$O$3*$Q$3*$S$3*$U$3*T26 -> 0
C27: Klimaatregelinstallatie paragraaf 4.3.9
A28: 17 | B28: =B$6&"."&A28 -> 10.17 | C28: Softwarecontrole 1j | D28: stuks | E28: 3 | F28: ='Prijzenboek regio N'!F28 -> 0 | G28: =E28*F28 -> 0 | H28: 3 | I28: =($F28*$I$3)*H28 -> 0 | J28: 3 | K28: =($F28*$I$3*$K$3)*J28 -> 0 | L28: 3 | M28: =$F28*$I$3*$K$3*$M$3*L28 -> 0 | N28: 3 | O28: =($F28*$I$3*$K$3*$M$3*$O$3)*N28 -> 0 | P28: 3 | Q28: =$F28*$I$3*$K$3*$M$3*$O$3*$Q$3*P28 -> 0 | R28: 3 | S28: =$F28*$I$3*$K$3*$M$3*$O$3*$Q$3*$S$3*R28 -> 0 | T28: 3 | U28: =$F28*$I$3*$K$3*$M$3*$O$3*$Q$3*$S$3*$U$3*T28 -> 0
A29: 18 | B29: =B$6&"."&A29 -> 10.18 | C29: Onderhoud klimaatregelinstallatie 1j | D29: stuks | E29: 3 | F29: ='Prijzenboek regio N'!F29 -> 0 | G29: =E29*F29 -> 0 | H29: 3 | I29: =($F29*$I$3)*H29 -> 0 | J29: 3 | K29: =($F29*$I$3*$K$3)*J29 -> 0 | L29: 3 | M29: =$F29*$I$3*$K$3*$M$3*L29 -> 0 | N29: 3 | O29: =($F29*$I$3*$K$3*$M$3*$O$3)*N29 -> 0 | P29: 3 | Q29: =$F29*$I$3*$K$3*$M$3*$O$3*$Q$3*P29 -> 0 | R29: 3 | S29: =$F29*$I$3*$K$3*$M$3*$O$3*$Q$3*$S$3*R29 -> 0 | T29: 3 | U29: =$F29*$I$3*$K$3*$M$3*$O$3*$Q$3*$S$3*$U$3*T29 -> 0
A30: 19 | B30: =B$6&"."&A30 -> 10.19 | C30: Onderhoud klimaatregelinstallatie 4j vervangen back-up accu | D30: stuks | E30: 1 | F30: ='Prijzenboek regio N'!F30 -> 0 | G30: =E30*F30 -> 0 | H30: 1 | I30: =($F30*$I$3)*H30 -> 0 | J30: 1 | K30: =($F30*$I$3*$K$3)*J30 -> 0 | L30: 1 | M30: =$F30*$I$3*$K$3*$M$3*L30 -> 0 | N30: 1 | O30: =($F30*$I$3*$K$3*$M$3*$O$3)*N30 -> 0 | P30: 1 | Q30: =$F30*$I$3*$K$3*$M$3*$O$3*$Q$3*P30 -> 0 | R30: 1 | S30: =$F30*$I$3*$K$3*$M$3*$O$3*$Q$3*$S$3*R30 -> 0 | T30: 1 | U30: =$F30*$I$3*$K$3*$M$3*$O$3*$Q$3*$S$3*$U$3*T30 -> 0
C31: Brandwerende doorvoeringen paragraaf 4.3.3
A32: 20 | B32: =B$6&"."&A32 -> 10.20 | C32: Visuele inspectie brandwerende doorvoeringen | D32: Ruimte | E32: 5 | F32: ='Prijzenboek regio N'!F32 -> 0 | G32: =E32*F32 -> 0 | H32: 5 | I32: =($F32*$I$3)*H32 -> 0 | J32: 5 | K32: =($F32*$I$3*$K$3)*J32 -> 0 | L32: 5 | M32: =$F32*$I$3*$K$3*$M$3*L32 -> 0 | N32: 5 | O32: =($F32*$I$3*$K$3*$M$3*$O$3)*N32 -> 0 | P32: 5 | Q32: =$F32*$I$3*$K$3*$M$3*$O$3*$Q$3*P32 -> 0 | R32: 5 | S32: =$F32*$I$3*$K$3*$M$3*$O$3*$Q$3*$S$3*R32 -> 0 | T32: 5 | U32: =$F32*$I$3*$K$3*$M$3*$O$3*$Q$3*$S$3*$U$3*T32 -> 0
C33: Aardings- en Bliksembeveiligingsinstallaties paragraaf 4.3.2
A34: 21 | B34: =B$6&"."&A34 -> 10.21 | C34: Periodiek Inspectie geleidende vloer per ruimte incl. opstellen rapport | D34: Ruimte | E34: 8 | F34: ='Prijzenboek regio N'!F34 -> 0 | G34: =E34*F34 -> 0 | H34: 7 | I34: =($F34*$I$3)*H34 -> 0 | J34: 7 | K34: =($F34*$I$3*$K$3)*J34 -> 0 | L34: 7 | M34: =$F34*$I$3*$K$3*$M$3*L34 -> 0 | N34: 7 | O34: =($F34*$I$3*$K$3*$M$3*$O$3)*N34 -> 0 | P34: 7 | Q34: =$F34*$I$3*$K$3*$M$3*$O$3*$Q$3*P34 -> 0 | R34: 7 | S34: =$F34*$I$3*$K$3*$M$3*$O$3*$Q$3*$S$3*R34 -> 0 | T34: 7 | U34: =$F34*$I$3*$K$3*$M$3*$O$3*$Q$3*$S$3*$U$3*T34 -> 0
A35: 22 | B35: =B$6&"."&A35 -> 10.22 | C35: Periodiek Inspectie statische aardstrip/aardrail en aardpunten per ruimte inclusief opstellen rapporten. | D35: Ruimte | E35: 13 | F35: ='Prijzenboek regio N'!F35 -> 0 | G35: =E35*F35 -> 0 | H35: 13 | I35: =($F35*$I$3)*H35 -> 0 | J35: 13 | K35: =($F35*$I$3*$K$3)*J35 -> 0 | L35: 13 | M35: =$F35*$I$3*$K$3*$M$3*L35 -> 0 | N35: 13 | O35: =($F35*$I$3*$K$3*$M$3*$O$3)*N35 -> 0 | P35: 13 | Q35: =$F35*$I$3*$K$3*$M$3*$O$3*$Q$3*P35 -> 0 | R35: 13 | S35: =$F35*$I$3*$K$3*$M$3*$O$3*$Q$3*$S$3*R35 -> 0 | T35: 13 | U35: =$F35*$I$3*$K$3*$M$3*$O$3*$Q$3*$S$3*$U$3*T35 -> 0
C36: Periodieke inspecties laagspanning paragraaf 4.3.4
A37: 23 | B37: =B$6&"."&A37 -> 10.23 | C37: Periodieke inspectie elektrische installatie 1j | D37: Ruimte | E37: 13 | F37: ='Prijzenboek regio N'!F37 -> 0 | G37: =E37*F37 -> 0 | H37: 0 | I37: =($F37*$I$3)*H37 -> 0 | J37: 13 | K37: =($F37*$I$3*$K$3)*J37 -> 0 | L37: 13 | M37: =$F37*$I$3*$K$3*$M$3*L37 -> 0 | N37: 13 | O37: =($F37*$I$3*$K$3*$M$3*$O$3)*N37 -> 0 | P37: 0 | Q37: =$F37*$I$3*$K$3*$M$3*$O$3*$Q$3*P37 -> 0 | R37: 13 | S37: =$F37*$I$3*$K$3*$M$3*$O$3*$Q$3*$S$3*R37 -> 0 | T37: 13 | U37: =$F37*$I$3*$K$3*$M$3*$O$3*$Q$3*$S$3*$U$3*T37 -> 0
A38: 24 | B38: =B$6&"."&A38 -> 10.24 | C38: Periodieke inspectie elektrische installatie 4j | D38: Ruimte | E38: 0 | F38: ='Prijzenboek regio N'!F38 -> 0 | G38: =E38*F38 -> 0 | H38: 13 | I38: =($F38*$I$3)*H38 -> 0 | J38: 0 | K38: =($F38*$I$3*$K$3)*J38 -> 0 | L38: 0 | M38: =$F38*$I$3*$K$3*$M$3*L38 -> 0 | N38: 0 | O38: =($F38*$I$3*$K$3*$M$3*$O$3)*N38 -> 0 | P38: 13 | Q38: =$F38*$I$3*$K$3*$M$3*$O$3*$Q$3*P38 -> 0 | S38: =$F38*$I$3*$K$3*$M$3*$O$3*$Q$3*$S$3*R38 -> 0 | T38: 0 | U38: =$F38*$I$3*$K$3*$M$3*$O$3*$Q$3*$S$3*$U$3*T38 -> 0
C39: Noodverlichtingsinstallaties paragraaf 4.3.5
A40: 25 | B40: =B$6&"."&A40 -> 10.25 | C40: Periodieke inspectie en onderhoud noodverlichting 1j, decentrale noodverliching per ruimte met 1 t/ m 10 armaturen | D40: Ruimte | E40: 13 | F40: ='Prijzenboek regio N'!F40 -> 0 | G40: =E40*F40 -> 0 | H40: 13 | I40: =($F40*$I$3)*H40 -> 0 | J40: 13 | K40: =($F40*$I$3*$K$3)*J40 -> 0 | L40: 13 | M40: =$F40*$I$3*$K$3*$M$3*L40 -> 0 | N40: 13 | O40: =($F40*$I$3*$K$3*$M$3*$O$3)*N40 -> 0 | P40: 13 | Q40: =$F40*$I$3*$K$3*$M$3*$O$3*$Q$3*P40 -> 0 | R40: 13 | S40: =$F40*$I$3*$K$3*$M$3*$O$3*$Q$3*$S$3*R40 -> 0 | T40: 13 | U40: =$F40*$I$3*$K$3*$M$3*$O$3*$Q$3*$S$3*$U$3*T40 -> 0
C41: Koelinstallatie paragraaf 4.3.9
A42: 26 | B42: =B$6&"."&A42 -> 10.26 | C42: Onderhoud computerkoeling < 5 ton CO2 1j | D42: stuks | E42: 13 | F42: ='Prijzenboek regio N'!F42 -> 0 | G42: =E42*F42 -> 0 | H42: 12 | I42: =($F42*$I$3)*H42 -> 0 | J42: 12 | K42: =($F42*$I$3*$K$3)*J42 -> 0 | L42: 12 | M42: =$F42*$I$3*$K$3*$M$3*L42 -> 0 | N42: 12 | O42: =($F42*$I$3*$K$3*$M$3*$O$3)*N42 -> 0 | P42: 12 | Q42: =$F42*$I$3*$K$3*$M$3*$O$3*$Q$3*P42 -> 0 | R42: 12 | S42: =$F42*$I$3*$K$3*$M$3*$O$3*$Q$3*$S$3*R42 -> 0 | T42: 12 | U42: =$F42*$I$3*$K$3*$M$3*$O$3*$Q$3*$S$3*$U$3*T42 -> 0
A43: 27 | B43: =B$6&"."&A43 -> 10.27 | C43: Controle lekdetectiesysteem computerkoeling 1j | D43: stuks | E43: 13 | F43: ='Prijzenboek regio N'!F43 -> 0 | G43: =E43*F43 -> 0 | H43: 12 | I43: =($F43*$I$3)*H43 -> 0 | J43: 12 | K43: =($F43*$I$3*$K$3)*J43 -> 0 | L43: 12 | M43: =$F43*$I$3*$K$3*$M$3*L43 -> 0 | N43: 12 | O43: =($F43*$I$3*$K$3*$M$3*$O$3)*N43 -> 0 | P43: 12 | Q43: =$F43*$I$3*$K$3*$M$3*$O$3*$Q$3*P43 -> 0 | R43: 12 | S43: =$F43*$I$3*$K$3*$M$3*$O$3*$Q$3*$S$3*R43 -> 0 | T43: 12 | U43: =$F43*$I$3*$K$3*$M$3*$O$3*$Q$3*$S$3*$U$3*T43 -> 0
A44: 28 | B44: =B$6&"."&A44 -> 10.28 | C44: Periodieke herkeuring drukapparatuur 4j of 6 j | D44: stuks | E44: 3 | F44: ='Prijzenboek regio N'!F44 -> 0 | G44: =E44*F44 -> 0 | H44: 3 | I44: =($F44*$I$3)*H44 -> 0 | J44: 3 | K44: =($F44*$I$3*$K$3)*J44 -> 0 | L44: 3 | M44: =$F44*$I$3*$K$3*$M$3*L44 -> 0 | N44: 3 | O44: =($F44*$I$3*$K$3*$M$3*$O$3)*N44 -> 0 | P44: 3 | Q44: =$F44*$I$3*$K$3*$M$3*$O$3*$Q$3*P44 -> 0 | R44: 3 | S44: =$F44*$I$3*$K$3*$M$3*$O$3*$Q$3*$S$3*R44 -> 0 | T44: 3 | U44: =$F44*$I$3*$K$3*$M$3*$O$3*$Q$3*$S$3*$U$3*T44 -> 0
A45: 29 | B45: =B$6&"."&A45 -> 10.29 | C45: PED bepaling Paragraaf 4.5.10.1 t/m 4.5.10.4 | D45: stuks | E45: 13 | F45: ='Prijzenboek regio N'!F45 -> 0 | G45: =E45*F45 -> 0 | H45: 2 | I45: =($F45*$I$3)*H45 -> 0 | J45: 2 | K45: =($F45*$I$3*$K$3)*J45 -> 0 | L45: 2 | M45: =$F45*$I$3*$K$3*$M$3*L45 -> 0 | N45: 2 | O45: =($F45*$I$3*$K$3*$M$3*$O$3)*N45 -> 0 | P45: 2 | Q45: =$F45*$I$3*$K$3*$M$3*$O$3*$Q$3*P45 -> 0 | R45: 2 | S45: =$F45*$I$3*$K$3*$M$3*$O$3*$Q$3*$S$3*R45 -> 0 | T45: 2 | U45: =$F45*$I$3*$K$3*$M$3*$O$3*$Q$3*$S$3*$U$3*T45 -> 0
C46: Implementatie vergoeding hoofdstuk 6
A47: 30 | B47: =B$6&"."&A47 -> 10.30 | C47: Implementatie vergoeding | D47: stuks | E47: 0 | F47: 0 | G47: =E47*F47 -> 0 | H47: 0 | I47: =($F47*$I$3)*H47 -> 0 | J47: 0 | K47: =($F47*$I$3*$K$3)*J47 -> 0 | L47: 0 | M47: =$F47*$I$3*$K$3*$M$3*L47 -> 0 | N47: 0 | O47: =($F47*$I$3*$K$3*$M$3*$O$3)*N47 -> 0 | P47: 0 | Q47: =$F47*$I$3*$K$3*$M$3*$O$3*$Q$3*P47 -> 0 | R47: 0 | S47: =$F47*$I$3*$K$3*$M$3*$O$3*$Q$3*$S$3*R47 -> 0 | T47: 0 | U47: =$F47*$I$3*$K$3*$M$3*$O$3*$Q$3*$S$3*$U$3*T47 -> 0
B48: 15 | C48: ABDO kosten paragraaf 4.2.1
A49: 1 | B49: =B$48&"."&A49 -> 15.1 | C49: Screening bedrijf | D49: stuks | E49: 0 | F49: 0 | G49: =E49*F49 -> 0 | H49: 0 | I49: =($F49*$I$3)*H49 -> 0 | J49: 0 | K49: =($F49*$I$3*$K$3)*J49 -> 0 | L49: 0 | M49: =$F49*$I$3*$K$3*$M$3*L49 -> 0 | N49: 0 | O49: =($F49*$I$3*$K$3*$M$3*$O$3)*N49 -> 0 | P49: 0 | Q49: =$F49*$I$3*$K$3*$M$3*$O$3*$Q$3*P49 -> 0 | R49: 0 | S49: =$F49*$I$3*$K$3*$M$3*$O$3*$Q$3*$S$3*R49 -> 0 | T49: 0 | U49: =$F49*$I$3*$K$3*$M$3*$O$3*$Q$3*$S$3*$U$3*T49 -> 0
A50: 2 | B50: =B$48&"."&A50 -> 15.2 | C50: Screening medewerker MIVD C | D50: stuks | E50: 0 | F50: 0 | G50: =E50*F50 -> 0 | H50: 0 | I50: =($F50*$I$3)*H50 -> 0 | J50: 0 | K50: =($F50*$I$3*$K$3)*J50 -> 0 | L50: 0 | M50: =$F50*$I$3*$K$3*$M$3*L50 -> 0 | N50: 0 | O50: =($F50*$I$3*$K$3*$M$3*$O$3)*N50 -> 0 | P50: 0 | Q50: =$F50*$I$3*$K$3*$M$3*$O$3*$Q$3*P50 -> 0 | R50: 0 | S50: =$F50*$I$3*$K$3*$M$3*$O$3*$Q$3*$S$3*R50 -> 0 | T50: 0 | U50: =$F50*$I$3*$K$3*$M$3*$O$3*$Q$3*$S$3*$U$3*T50 -> 0
A51: 3 | B51: =B$48&"."&A51 -> 15.3 | C51: Screening medewerker MIVD B | D51: stuks | E51: 0 | F51: 0 | G51: =E51*F51 -> 0 | H51: 0 | I51: =($F51*$I$3)*H51 -> 0 | J51: 0 | K51: =($F51*$I$3*$K$3)*J51 -> 0 | L51: 0 | M51: =$F51*$I$3*$K$3*$M$3*L51 -> 0 | N51: 0 | O51: =($F51*$I$3*$K$3*$M$3*$O$3)*N51 -> 0 | P51: 0 | Q51: =$F51*$I$3*$K$3*$M$3*$O$3*$Q$3*P51 -> 0 | R51: 0 | S51: =$F51*$I$3*$K$3*$M$3*$O$3*$Q$3*$S$3*R51 -> 0 | T51: 0 | U51: =$F51*$I$3*$K$3*$M$3*$O$3*$Q$3*$S$3*$U$3*T51 -> 0
A52: 4 | B52: =B$48&"."&A52 -> 15.4 | C52: LT met software | D52: stuks | E52: 0 | F52: 0 | G52: =E52*F52 -> 0 | H52: 0 | I52: =($F52*$I$3)*H52 -> 0 | J52: 0 | K52: =($F52*$I$3*$K$3)*J52 -> 0 | L52: 0 | M52: =$F52*$I$3*$K$3*$M$3*L52 -> 0 | N52: 0 | O52: =($F52*$I$3*$K$3*$M$3*$O$3)*N52 -> 0 | P52: 0 | Q52: =$F52*$I$3*$K$3*$M$3*$O$3*$Q$3*P52 -> 0 | R52: 0 | S52: =$F52*$I$3*$K$3*$M$3*$O$3*$Q$3*$S$3*R52 -> 0 | T52: 0 | U52: =$F52*$I$3*$K$3*$M$3*$O$3*$Q$3*$S$3*$U$3*T52 -> 0
A53: 5 | B53: =B$48&"."&A53 -> 15.5 | C53: Maken beveiliginsplan | D53: stuks | E53: 0 | F53: 0 | G53: =E53*F53 -> 0 | H53: 0 | I53: =($F53*$I$3)*H53 -> 0 | J53: 0 | K53: =($F53*$I$3*$K$3)*J53 -> 0 | L53: 0 | M53: =$F53*$I$3*$K$3*$M$3*L53 -> 0 | N53: 0 | O53: =($F53*$I$3*$K$3*$M$3*$O$3)*N53 -> 0 | P53: 0 | Q53: =$F53*$I$3*$K$3*$M$3*$O$3*$Q$3*P53 -> 0 | R53: 0 | S53: =$F53*$I$3*$K$3*$M$3*$O$3*$Q$3*$S$3*R53 -> 0 | T53: 0 | U53: =$F53*$I$3*$K$3*$M$3*$O$3*$Q$3*$S$3*$U$3*T53 -> 0
C54: Beveiligingsfunctionaris paragraaf 4.2.1
A55: 4 | B55: =B$48&"."&A55 -> 15.4 | C55: Uurtarief op werkdagen van 06:00 tot 18:00 uur | D55: uur | E55: 0 | F55: 0 | G55: =E55*F55 -> 0 | H55: 0 | I55: =($F55*$I$3)*H55 -> 0 | J55: 0 | K55: =($F55*$I$3*$K$3)*J55 -> 0 | L55: 0 | M55: =$F55*$I$3*$K$3*$M$3*L55 -> 0 | N55: 0 | O55: =($F55*$I$3*$K$3*$M$3*$O$3)*N55 -> 0 | P55: 0 | Q55: =$F55*$I$3*$K$3*$M$3*$O$3*$Q$3*P55 -> 0 | R55: 0 | S55: =$F55*$I$3*$K$3*$M$3*$O$3*$Q$3*$S$3*R55 -> 0 | T55: 0 | U55: =$F55*$I$3*$K$3*$M$3*$O$3*$Q$3*$S$3*$U$3*T55 -> 0
D56: Preventief Onderhoud | G56: =SUM(G8:G55) -> 0 | I56: =SUM(I8:I55) -> 0 | K56: =SUM(K8:K55) -> 0 | M56: =SUM(M8:M55) -> 0 | O56: =SUM(O8:O55) -> 0 | Q56: =SUM(Q8:Q55) -> 0 | S56: =SUM(S8:S55) -> 0 | U56: =SUM(U8:U55) -> 0
B57: 20 | C57: Uurtarief voor het herstellen van Manco's. | E57: uren
C58: Begeleiden medewerkers onderaannemers
A59: 1 | B59: =B$57&"."&A59 -> 20.1 | C59: Uurtarief op werkdagen van 06:00 tot 18:00 uur | D59: uur | E59: 50 | F59: ='Prijzenboek regio N'!F59 -> 0 | G59: =E59*F59 -> 0 | H59: 50 | I59: =($F59*$I$3)*H59 -> 0 | J59: 50 | K59: =($F59*$I$3*$K$3)*J59 -> 0 | L59: 50 | M59: =$F59*$I$3*$K$3*$M$3*L59 -> 0 | N59: 50 | O59: =($F59*$I$3*$K$3*$M$3*$O$3)*N59 -> 0 | P59: 50 | Q59: =$F59*$I$3*$K$3*$M$3*$O$3*$Q$3*P59 -> 0 | R59: 50 | S59: =$F59*$I$3*$K$3*$M$3*$O$3*$Q$3*$S$3*R59 -> 0 | T59: 50 | U59: =$F59*$I$3*$K$3*$M$3*$O$3*$Q$3*$S$3*$U$3*T59 -> 0
C60: Laagspannings, BMI en koel technicus.
A61: 2 | B61: =B$57&"."&A61 -> 20.2 | C61: Uurtarief op werkdagen van 06:00 tot 18:00 uur | D61: uur | E61: 80 | F61: ='Prijzenboek regio N'!F61 -> 0 | G61: =E61*F61 -> 0 | H61: 80 | I61: =($F61*$I$3)*H61 -> 0 | J61: 80 | K61: =($F61*$I$3*$K$3)*J61 -> 0 | L61: 80 | M61: =$F61*$I$3*$K$3*$M$3*L61 -> 0 | N61: 80 | O61: =($F61*$I$3*$K$3*$M$3*$O$3)*N61 -> 0 | P61: 80 | Q61: =$F61*$I$3*$K$3*$M$3*$O$3*$Q$3*P61 -> 0 | R61: 80 | S61: =$F61*$I$3*$K$3*$M$3*$O$3*$Q$3*$S$3*R61 -> 0 | T61: 80 | U61: =$F61*$I$3*$K$3*$M$3*$O$3*$Q$3*$S$3*$U$3*T61 -> 0
A62: 3 | B62: =B$57&"."&A62 -> 20.3 | C62: Toeslag op uurtarief van 20.2 voor werk op werkdagen van 18:00 tot 06:00 uur (maximaal 15%) | D62: % | E62: 1 | F62: ='Prijzenboek regio N'!F62 -> 0.1 | G62: =$F$61*$E62*F62 -> 0 | H62: 1 | I62: =($F61*$F62)*H62*$I$3 -> 0 | J62: 1 | K62: =($F$61*$F62)*J62*$I$3*J63*$K$3 -> 0 | L62: 1 | M62: =($F$61*$F62)*L62*$I$3*L63*$K$3*$M$3 -> 0 | N62: 1 | O62: =($F$61*$F62)*N62*$I$3*N63*$K$3*$M$3*$O$3 -> 0 | P62: 1 | Q62: =($F$61*$F62)*P62*$I$3*P63*$K$3*$M$3*$O$3*$Q$3 -> 0 | R62: 1 | S62: =($F$61*$F62)*R62*$I$3*R63*$K$3*$M$3*$O$3*$Q$3*$S$3 -> 0 | T62: 1 | U62: =($F$61*$F62)*T62*$I$3*T63*$K$3*$M$3*$O$3*$Q$3*$S$3*$U$3 -> 0
A63: =A62+1 -> 4 | B63: =B$57&"."&A63 -> 20.4 | C63: Toeslag op uurtarief van 20.2 voor werk op zaterdag (maximaal 25%) | D63: % | E63: 2 | F63: ='Prijzenboek regio N'!F63 -> 0.2 | G63: =$F$61*$E63*F63 -> 0 | H63: 2 | I63: =($F$61*$F63)*H63*$I$3 -> 0 | J63: 2 | K63: =($F$61*$F63)*J63*$I$3*J64*$K$3 -> 0 | L63: 2 | M63: =($F$61*$F63)*L63*$I$3*L64*$K$3*$M$3 -> 0 | N63: 2 | O63: =($F$61*$F63)*N63*$I$3*N64*$K$3*$M$3*$O$3 -> 0 | P63: 2 | Q63: =($F$61*$F63)*P63*$I$3*P64*$K$3*$M$3*$O$3*$Q$3 -> 0 | R63: 2 | S63: =($F$61*$F63)*R63*$I$3*R64*$K$3*$M$3*$O$3*$Q$3*$S$3 -> 0 | T63: 2 | U63: =($F$61*$F63)*T63*$I$3*T64*$K$3*$M$3*$O$3*$Q$3*$S$3*$U$3 -> 0
A64: =A63+1 -> 5 | B64: =B$57&"."&A64 -> 20.5 | C64: Toeslag op uurtarief van 20.2 voor werk op zon- en feestdagen (maximaal 35%) | D64: % | E64: 3 | F64: ='Prijzenboek regio N'!F64 -> 0.3 | G64: =$F$61*$E64*F64 -> 0 | H64: 3 | I64: =($F$61*$F64)*H64*I$3 -> 0 | J64: 3 | K64: =($F$61*$F64)*J64*$I$3*$K$3 -> 0 | L64: 3 | M64: =($F$61*$F64)*L64*$I$3*$K$3*$M$3 -> 0 | N64: 3 | O64: =($F$61*$F64)*N64*$I$3*$K$3*$M$3*$O$3 -> 0 | P64: 3 | Q64: =($F$61*$F64)*P64*$I$3*$K$3*$M$3*$O$3*$Q$3 -> 0 | R64: 3 | S64: =($F$61*$F64)*R64*$I$3*$K$3*$M$3*$O$3*$Q$3*$S$3 -> 0 | T64: 3 | U64: =($F$61*$F64)*T64*$I$3*$K$3*$M$3*$O$3*$Q$3*$S$3*$U$3 -> 0
C65: Technicus Noodstroominstallaties
A66: =A64+1 -> 6 | B66: =B$57&"."&A66 -> 20.6 | C66: Uurtarief op werkdagen van 06:00 tot 18:00 uur | D66: uur | E66: 40 | F66: ='Prijzenboek regio N'!F66 -> 0 | G66: =E66*F66 -> 0 | H66: 40 | I66: =($F66*$I$3)*H66 -> 0 | J66: 40 | K66: =($F66*$I$3*$K$3)*J66 -> 0 | L66: 40 | M66: =$F66*$I$3*$K$3*$M$3*L66 -> 0 | N66: 40 | O66: =($F66*$I$3*$K$3*$M$3*$O$3)*N66 -> 0 | P66: 40 | Q66: =$F66*$I$3*$K$3*$M$3*$O$3*$Q$3*P66 -> 0 | R66: 40 | S66: =$F66*$I$3*$K$3*$M$3*$O$3*$Q$3*$S$3*R66 -> 0 | T66: 40 | U66: =$F66*$I$3*$K$3*$M$3*$O$3*$Q$3*$S$3*$U$3*T66 -> 0
A67: =A66+1 -> 7 | B67: =B$57&"."&A67 -> 20.7 | C67: Toeslag op uurtarief van 20.2 voor werk op werkdagen van 18:00 tot 06:00 uur (maximaal 15%) | D67: % | E67: 1 | F67: ='Prijzenboek regio N'!F67 -> 0.1 | G67: =$F$66*F67*E67 -> 0 | H67: 1 | I67: =($F66*$F67)*H67*$I$3 -> 0 | J67: 1 | K67: =($F66*$F67)*J67*$I$3*J68*$K$3 -> 0 | L67: 1 | M67: =($F66*$F67)*L67*$I$3*L68*$K$3*$M$3 -> 0 | N67: 1 | O67: =($F66*$F67)*N67*$I$3*N68*$K$3*$M$3*$O$3 -> 0 | P67: 1 | Q67: =($F66*$F67)*P67*$I$3*P68*$K$3*$M$3*$O$3*$Q$3 -> 0 | R67: 1 | S67: =($F66*$F67)*R67*$I$3*R68*$K$3*$M$3*$O$3*$Q$3*$S$3 -> 0 | T67: 1 | U67: =($F66*$F67)*T67*$I$3*T68*$K$3*$M$3*$O$3*$Q$3*$S$3*$U$3 -> 0
A68: =A67+1 -> 8 | B68: =B$57&"."&A68 -> 20.8 | C68: Toeslag op uurtarief van 20.2 voor werk op zaterdag (maximaal 25%) | D68: % | E68: 2 | F68: ='Prijzenboek regio N'!F68 -> 0.2 | G68: =$F$66*F68*E68 -> 0 | H68: 2 | I68: =($F66*$F68)*H68*$I$3 -> 0 | J68: 2 | K68: =($F66*$F68)*J68*$I$3*J69*$K$3 -> 0 | L68: 2 | M68: =($F66*$F68)*L68*$I$3*L69*$K$3*$M$3 -> 0 | N68: 2 | O68: =($F66*$F68)*N68*$I$3*N69*$K$3*$M$3*$O$3 -> 0 | P68: 2 | Q68: =($F66*$F68)*P68*$I$3*P69*$K$3*$M$3*$O$3*$Q$3 -> 0 | R68: 2 | S68: =($F66*$F68)*R68*$I$3*R69*$K$3*$M$3*$O$3*$Q$3*$S$3 -> 0 | T68: 2 | U68: =($F66*$F68)*T68*$I$3*T69*$K$3*$M$3*$O$3*$Q$3*$S$3*$U$3 -> 0
A69: =A68+1 -> 9 | B69: =B$57&"."&A69 -> 20.9 | C69: Toeslag op uurtarief van 20.2 voor werk op zon- en feestdagen (maximaal 35%) | D69: % | E69: 3 | F69: ='Prijzenboek regio N'!F69 -> 0.3 | G69: =$F$66*F69*E69 -> 0 | H69: 3 | I69: =($F66*$F69)*H69*I$3 -> 0 | J69: 3 | K69: =($F66*$F69)*J69*$I$3*$K$3 -> 0 | L69: 3 | M69: =($F66*$F69)*L69*$I$3*$K$3*$M$3 -> 0 | N69: 3 | O69: =($F66*$F69)*N69*$I$3*$K$3*$M$3*$O$3 -> 0 | P69: 3 | Q69: =($F66*$F69)*P69*$I$3*$K$3*$M$3*$O$3*$Q$3 -> 0 | R69: 3 | S69: =($F66*$F69)*R69*$I$3*$K$3*$M$3*$O$3*$Q$3*$S$3 -> 0 | T69: 3 | U69: =($F66*$F69)*T69*$I$3*$K$3*$M$3*$O$3*$Q$3*$S$3*$U$3 -> 0
B70: 25 | C70: Uurlonen voor extra werkzaamheden klimaatregelinstallaties
A71: =A70+1 -> 1 | B71: =B$70&"."&A71 -> 25.1 | C71: Uurtarief servicetechnicus meet-en regeltechniek (MRK-A en MRK-B) op werkdagen van 06:00 tot 18:00 | D71: uur | E71: 2 | F71: ='Prijzenboek regio N'!F71 -> 0 | G71: =E71*F71 -> 0 | H71: 2 | I71: =($F71*$I$3)*H71 -> 0 | J71: 2 | K71: =($F71*$I$3*$K$3)*J71 -> 0 | L71: 2 | M71: =$F71*$I$3*$K$3*$M$3*L71 -> 0 | N71: 2 | O71: =($F71*$I$3*$K$3*$M$3*$O$3)*N71 -> 0 | P71: 2 | Q71: =$F71*$I$3*$K$3*$M$3*$O$3*$Q$3*P71 -> 0 | R71: 2 | S71: =$F71*$I$3*$K$3*$M$3*$O$3*$Q$3*$S$3*R71 -> 0 | T71: 2 | U71: =$F71*$I$3*$K$3*$M$3*$O$3*$Q$3*$S$3*$U$3*T71 -> 0
B72: 30 | C72: Uurtarief voor het herstellen van storingen
C73: Laagspannings, BMI en koel technicus.
A74: =A73+1 -> 1 | B74: =B$72&"."&A74 -> 30.1 | C74: Uurtarief op werkdagen van 06:00 tot 18:00 uur | D74: uur | E74: 14 | F74: ='Prijzenboek regio N'!F74 -> 0 | G74: =E74*F74 -> 0 | H74: 14 | I74: =($F74*$I$3)*H74 -> 0 | J74: 14 | K74: =($F74*$I$3*$K$3)*J74 -> 0 | L74: 14 | M74: =$F74*$I$3*$K$3*$M$3*L74 -> 0 | N74: 14 | O74: =($F74*$I$3*$K$3*$M$3*$O$3)*N74 -> 0 | P74: 14 | Q74: =$F74*$I$3*$K$3*$M$3*$O$3*$Q$3*P74 -> 0 | R74: 14 | S74: =$F74*$I$3*$K$3*$M$3*$O$3*$Q$3*$S$3*R74 -> 0 | T74: 14 | U74: =$F74*$I$3*$K$3*$M$3*$O$3*$Q$3*$S$3*$U$3*T74 -> 0
A75: =A74+1 -> 2 | B75: =B$72&"."&A75 -> 30.2 | C75: Toeslag op uurtarief van 20.2 voor werk op werkdagen van 18:00 tot 06:00 uur (maximaal 15%) | D75: % | E75: 1 | F75: ='Prijzenboek regio N'!F75 -> 0.15 | G75: =$F$74*F75*E75 -> 0 | H75: 1 | I75: =($F74*$F75)*H75*$I$3 -> 0 | J75: 1 | K75: =($F74*$F75)*J75*$I$3*J76*$K$3 -> 0 | L75: 1 | M75: =($F74*$F75)*L75*$I$3*L76*$K$3*$M$3 -> 0 | N75: 1 | O75: =($F74*$F75)*N75*$I$3*N76*$K$3*$M$3*$O$3 -> 0 | P75: 1 | Q75: =($F74*$F75)*P75*$I$3*P76*$K$3*$M$3*$O$3*$Q$3 -> 0 | R75: 1 | S75: =($F74*$F75)*R75*$I$3*R76*$K$3*$M$3*$O$3*$Q$3*$S$3 -> 0 | T75: 1 | U75: =($F74*$F75)*T75*$I$3*T76*$K$3*$M$3*$O$3*$Q$3*$S$3*$U$3 -> 0
A76: =A75+1 -> 3 | B76: =B$72&"."&A76 -> 30.3 | C76: Toeslag op uurtarief van 20.2 voor werk op zaterdag (maximaal 25%) | D76: % | E76: 2 | F76: ='Prijzenboek regio N'!F76 -> 0.25 | G76: =$F$74*F76*E76 -> 0 | H76: 2 | I76: =($F74*$F76)*H76*$I$3 -> 0 | J76: 2 | K76: =($F74*$F76)*J76*$I$3*J77*$K$3 -> 0 | L76: 2 | M76: =($F74*$F76)*L76*$I$3*L77*$K$3*$M$3 -> 0 | N76: 2 | O76: =($F74*$F76)*N76*$I$3*N77*$K$3*$M$3*$O$3 -> 0 | P76: 2 | Q76: =($F74*$F76)*P76*$I$3*P77*$K$3*$M$3*$O$3*$Q$3 -> 0 | R76: 2 | S76: =($F74*$F76)*R76*$I$3*R77*$K$3*$M$3*$O$3*$Q$3*$S$3 -> 0 | T76: 2 | U76: =($F74*$F76)*T76*$I$3*T77*$K$3*$M$3*$O$3*$Q$3*$S$3*$U$3 -> 0
A77: =A76+1 -> 4 | B77: =B$72&"."&A77 -> 30.4 | C77: Toeslag op uurtarief van 20.2 voor werk op zon- en feestdagen (maximaal 35%) | D77: % | E77: 3 | F77: ='Prijzenboek regio N'!F77 -> 0.35 | G77: =$F$74*F77*E77 -> 0 | H77: 3 | I77: =($F74*$F77)*H77*I$3 -> 0 | J77: 3 | K77: =($F74*$F77)*J77*$I$3*$K$3 -> 0 | L77: 3 | M77: =($F74*$F77)*L77*$I$3*$K$3*$M$3 -> 0 | N77: 3 | O77: =($F74*$F77)*N77*$I$3*$K$3*$M$3*$O$3 -> 0 | P77: 3 | Q77: =($F74*$F77)*P77*$I$3*$K$3*$M$3*$O$3*$Q$3 -> 0 | R77: 3 | S77: =($F74*$F77)*R77*$I$3*$K$3*$M$3*$O$3*$Q$3*$S$3 -> 0 | T77: 3 | U77: =($F74*$F77)*T77*$I$3*$K$3*$M$3*$O$3*$Q$3*$S$3*$U$3 -> 0
B78: 45 | C78: Noodstroominstallaties
A79: 5 | B79: =B$72&"."&A79 -> 30.5 | C79: Uurtarief op werkdagen van 06:00 tot 18:00 uur | D79: uur | E79: 14 | F79: ='Prijzenboek regio N'!F79 -> 0 | G79: =E79*F79 -> 0 | H79: 14 | I79: =($F79*$I$3)*H79 -> 0 | J79: 14 | K79: =($F79*$I$3*$K$3)*J79 -> 0 | L79: 14 | M79: =$F79*$I$3*$K$3*$M$3*L79 -> 0 | N79: 14 | O79: =($F79*$I$3*$K$3*$M$3*$O$3)*N79 -> 0 | P79: 14 | Q79: =$F79*$I$3*$K$3*$M$3*$O$3*$Q$3*P79 -> 0 | R79: 14 | S79: =$F79*$I$3*$K$3*$M$3*$O$3*$Q$3*$S$3*R79 -> 0 | T79: 14 | U79: =$F79*$I$3*$K$3*$M$3*$O$3*$Q$3*$S$3*$U$3*T79 -> 0
A80: 6 | B80: =B$72&"."&A80 -> 30.6 | C80: Toeslag op uurtarief van 30.1 voor werk op werkdagen van 18:00 tot 06:00 uur (maximaal 15%) | D80: % | E80: 1 | F80: ='Prijzenboek regio N'!F80 -> 0.15 | G80: =$F$79*F80*E80 -> 0 | H80: 1 | I80: =($F79*$F80)*H80*$I$3 -> 0 | J80: 1 | K80: =($F79*$F80)*J80*$I$3*J81*$K$3 -> 0 | L80: 1 | M80: =($F79*$F80)*L80*$I$3*L81*$K$3*$M$3 -> 0 | N80: 1 | O80: =($F79*$F80)*N80*$I$3*N81*$K$3*$M$3*$O$3 -> 0 | P80: 1 | Q80: =($F79*$F80)*P80*$I$3*P81*$K$3*$M$3*$O$3*$Q$3 -> 0 | R80: 1 | S80: =($F79*$F80)*R80*$I$3*R81*$K$3*$M$3*$O$3*$Q$3*$S$3 -> 0 | T80: 1 | U80: =($F79*$F80)*T80*$I$3*T81*$K$3*$M$3*$O$3*$Q$3*$S$3*$U$3 -> 0
A81: =A80+1 -> 7 | B81: =B$72&"."&A81 -> 30.7 | C81: Toeslag op uurtarief van 30.1 voor werk op zaterdag (maximaal 25%) | D81: % | E81: 2 | F81: ='Prijzenboek regio N'!F81 -> 0.25 | G81: =$F$79*F81*E81 -> 0 | H81: 2 | I81: =($F79*$F81)*H81*$I$3 -> 0 | J81: 2 | K81: =($F79*$F81)*J81*$I$3*J82*$K$3 -> 0 | L81: 2 | M81: =($F79*$F81)*L81*$I$3*L82*$K$3*$M$3 -> 0 | N81: 2 | O81: =($F79*$F81)*N81*$I$3*N82*$K$3*$M$3*$O$3 -> 0 | P81: 2 | Q81: =($F79*$F81)*P81*$I$3*P82*$K$3*$M$3*$O$3*$Q$3 -> 0 | R81: 2 | S81: =($F79*$F81)*R81*$I$3*R82*$K$3*$M$3*$O$3*$Q$3*$S$3 -> 0 | T81: 2 | U81: =($F79*$F81)*T81*$I$3*T82*$K$3*$M$3*$O$3*$Q$3*$S$3*$U$3 -> 0
A82: =A81+1 -> 8 | B82: =B$72&"."&A82 -> 30.8 | C82: Toeslag op uurtarief van 30.1 voor werk op zon- en feestdagen (maximaal 35%) | D82: % | E82: 3 | F82: ='Prijzenboek regio N'!F82 -> 0.35 | G82: =$F$79*F82*E82 -> 0 | H82: 3 | I82: =($F79*$F82)*H82*I$3 -> 0 | J82: 3 | K82: =($F79*$F82)*J82*$I$3*$K$3 -> 0 | L82: 3 | M82: =($F79*$F82)*L82*$I$3*$K$3*$M$3 -> 0 | N82: 3 | O82: =($F79*$F82)*N82*$I$3*$K$3*$M$3*$O$3 -> 0 | P82: 3 | Q82: =($F79*$F82)*P82*$I$3*$K$3*$M$3*$O$3*$Q$3 -> 0 | R82: 3 | S82: =($F79*$F82)*R82*$I$3*$K$3*$M$3*$O$3*$Q$3*$S$3 -> 0 | T82: 3 | U82: =($F79*$F82)*T82*$I$3*$K$3*$M$3*$O$3*$Q$3*$S$3*$U$3 -> 0
B83: 45 | C83: Uurtarief projecten
A84: =A83+1 -> 1 | B84: =B$83&"."&A84 -> 45.1 | C84: Projectleider | D84: uur | E84: 110 | F84: ='Prijzenboek regio N'!F84 -> 0 | G84: =E84*F84 -> 0 | H84: 110 | I84: =($F84*$I$3)*H84 -> 0 | J84: 110 | K84: =($F84*$I$3*$K$3)*J84 -> 0 | L84: 110 | M84: =$F84*$I$3*$K$3*$M$3*L84 -> 0 | N84: 110 | O84: =($F84*$I$3*$K$3*$M$3*$O$3)*N84 -> 0 | P84: 110 | Q84: =$F84*$I$3*$K$3*$M$3*$O$3*$Q$3*P84 -> 0 | R84: 110 | S84: =$F84*$I$3*$K$3*$M$3*$O$3*$Q$3*$S$3*R84 -> 0 | T84: 110 | U84: =$F84*$I$3*$K$3*$M$3*$O$3*$Q$3*$S$3*$U$3*T84 -> 0
A85: =A84+1 -> 2 | B85: =B$83&"."&A85 -> 45.2 | C85: Calculator | D85: uur | E85: 36 | F85: ='Prijzenboek regio N'!F85 -> 0 | G85: =E85*F85 -> 0 | H85: 36 | I85: =($F85*$I$3)*H85 -> 0 | J85: 36 | K85: =($F85*$I$3*$K$3)*J85 -> 0 | L85: 36 | M85: =$F85*$I$3*$K$3*$M$3*L85 -> 0 | N85: 36 | O85: =($F85*$I$3*$K$3*$M$3*$O$3)*N85 -> 0 | P85: 36 | Q85: =$F85*$I$3*$K$3*$M$3*$O$3*$Q$3*P85 -> 0 | R85: 36 | S85: =$F85*$I$3*$K$3*$M$3*$O$3*$Q$3*$S$3*R85 -> 0 | T85: 36 | U85: =$F85*$I$3*$K$3*$M$3*$O$3*$Q$3*$S$3*$U$3*T85 -> 0
A86: =A85+1 -> 3 | B86: =B$83&"."&A86 -> 45.3 | C86: Engineer | D86: uur | E86: 90 | F86: ='Prijzenboek regio N'!F86 -> 0 | G86: =E86*F86 -> 0 | H86: 90 | I86: =($F86*$I$3)*H86 -> 0 | J86: 90 | K86: =($F86*$I$3*$K$3)*J86 -> 0 | L86: 90 | M86: =$F86*$I$3*$K$3*$M$3*L86 -> 0 | N86: 90 | O86: =($F86*$I$3*$K$3*$M$3*$O$3)*N86 -> 0 | P86: 90 | Q86: =$F86*$I$3*$K$3*$M$3*$O$3*$Q$3*P86 -> 0 | R86: 90 | S86: =$F86*$I$3*$K$3*$M$3*$O$3*$Q$3*$S$3*R86 -> 0 | T86: 90 | U86: =$F86*$I$3*$K$3*$M$3*$O$3*$Q$3*$S$3*$U$3*T86 -> 0
A87: =A86+1 -> 4 | B87: =B$83&"."&A87 -> 45.4 | C87: Werkvoorbereider | D87: uur | E87: 90 | F87: ='Prijzenboek regio N'!F87 -> 0 | G87: =E87*F87 -> 0 | H87: 90 | I87: =($F87*$I$3)*H87 -> 0 | J87: 90 | K87: =($F87*$I$3*$K$3)*J87 -> 0 | L87: 90 | M87: =$F87*$I$3*$K$3*$M$3*L87 -> 0 | N87: 90 | O87: =($F87*$I$3*$K$3*$M$3*$O$3)*N87 -> 0 | P87: 90 | Q87: =$F87*$I$3*$K$3*$M$3*$O$3*$Q$3*P87 -> 0 | R87: 90 | S87: =$F87*$I$3*$K$3*$M$3*$O$3*$Q$3*$S$3*R87 -> 0 | T87: 90 | U87: =$F87*$I$3*$K$3*$M$3*$O$3*$Q$3*$S$3*$U$3*T87 -> 0
A88: =A87+1 -> 5 | B88: =B$83&"."&A88 -> 45.5 | C88: Tekenaar | D88: uur | E88: 36 | F88: ='Prijzenboek regio N'!F88 -> 0 | G88: =E88*F88 -> 0 | H88: 36 | I88: =($F88*$I$3)*H88 -> 0 | J88: 36 | K88: =($F88*$I$3*$K$3)*J88 -> 0 | L88: 36 | M88: =$F88*$I$3*$K$3*$M$3*L88 -> 0 | N88: 36 | O88: =($F88*$I$3*$K$3*$M$3*$O$3)*N88 -> 0 | P88: 36 | Q88: =$F88*$I$3*$K$3*$M$3*$O$3*$Q$3*P88 -> 0 | R88: 36 | S88: =$F88*$I$3*$K$3*$M$3*$O$3*$Q$3*$S$3*R88 -> 0 | T88: 36 | U88: =$F88*$I$3*$K$3*$M$3*$O$3*$Q$3*$S$3*$U$3*T88 -> 0
