Workbook

Sheet Inschrijf som
D2: 2024 | F2: 2025 | H2: 2026 | J2: 2027 | L2: 2028 | N2: 2029 | P2: 2030 | R2: 2031 | S2: totaal
B3: Noord | C3: Preventief | D3: ='Prijzenboek regio N'!G56 -> 43050 | F3: ='Prijzenboek regio N'!I56 -> 0 | H3: ='Prijzenboek regio N'!K56 -> 0 | J3: ='Prijzenboek regio N'!M56 -> 0 | L3: ='Prijzenboek regio N'!O56 -> 0 | N3: ='Prijzenboek regio N'!Q56 -> 0 | P3: ='Prijzenboek regio N'!S56 -> 0 | R3: ='Prijzenboek regio N'!U56 -> 0 | S3: =SUM(D3:R3) -> 43050
C4: Uren en deel materiaal | D4: ='Prijzenboek regio N'!G89 -> 0 | F4: ='Prijzenboek regio N'!I89 -> 0 | H4: ='Prijzenboek regio N'!K89 -> 0 | J4: ='Prijzenboek regio N'!M89 -> 0 | L4: ='Prijzenboek regio N'!O89 -> 0 | N4: ='Prijzenboek regio N'!Q89 -> 0 | P4: ='Prijzenboek regio N'!S89 -> 0 | R4: ='Prijzenboek regio N'!U89 -> 0 | S4: =SUM(D4:R4) -> 0
C5: Vervangingen en tekeningen | D5: ='Prijzenboek regio N'!G136 -> 11400 | F5: ='Prijzenboek regio N'!I136 -> 11400 | H5: ='Prijzenboek regio N'!K136 -> 11400 | J5: ='Prijzenboek regio N'!M136 -> 11400 | L5: ='Prijzenboek regio N'!O136 -> 11400 | N5: ='Prijzenboek regio N'!Q136 -> 11400 | P5: ='Prijzenboek regio N'!S136 -> 11400 | R5: ='Prijzenboek regio N'!U136 -> 11400 | S5: =SUM(D5:R5) -> 91200
C7: totaal per jaar | D7: =SUM(D3:D5) -> 54450 | F7: =SUM(F3:F5) -> 11400 | H7: =SUM(H3:H5) -> 11400 | J7: =SUM(J3:J5) -> 11400 | L7: =SUM(L3:L5) -> 11400 | N7: =SUM(N3:N5) -> 11400 | P7: =SUM(P3:P5) -> 11400 | R7: =SUM(R3:R5) -> 11400
C8: totaal 8 jaar | S8: =SUM(D7:R7) -> 134250
B12: Noord-west | C12: Preventief | D12: ='Prijzenboek regio N-W'!G56 -> 0 | E12: ='Prijzenboek regio N-W'!H56 -> 0 | F12: ='Prijzenboek regio N-W'!I56 -> 0 | G12: ='Prijzenboek regio N-W'!J56 -> 0 | H12: ='Prijzenboek regio N-W'!K56 -> 0 | I12: ='Prijzenboek regio N-W'!L56 -> 0 | J12: ='Prijzenboek regio N-W'!M56 -> 0 | K12: ='Prijzenboek regio N-W'!N56 -> 0 | ... R12: ='Prijzenboek regio N-W'!U56 -> 0 | S12: =SUM(D12:R12) -> 0
C13: Uren en deel materiaal | D13: ='Prijzenboek regio N-W'!G89 -> 0 | E13: ='Prijzenboek regio N-W'!H89 -> 0 | F13: ='Prijzenboek regio N-W'!I89 -> 0 | G13: ='Prijzenboek regio N-W'!J89 -> 0 | H13: ='Prijzenboek regio N-W'!K89 -> 0 | I13: ='Prijzenboek regio N-W'!L89 -> 0 | J13: ='Prijzenboek regio N-W'!M89 -> 0 | K13: ='Prijzenboek regio N-W'!N89 -> 0 | ... R13: ='Prijzenboek regio N-W'!U89 -> 0 | S13: =SUM(D13:R13) -> 0
C14: Vervangingen en tekeningen | D14: ='Prijzenboek regio N-W'!G136 -> 13800 | E14: ='Prijzenboek regio N-W'!H136 -> 0 | F14: ='Prijzenboek regio N-W'!I136 -> 13800 | G14: ='Prijzenboek regio N-W'!J136 -> 0 | H14: ='Prijzenboek regio N-W'!K136 -> 13800 | I14: ='Prijzenboek regio N-W'!L136 -> 0 | J14: ='Prijzenboek regio N-W'!M136 -> 13800 | K14: ='Prijzenboek regio N-W'!N136 -> 0 | ... R14: ='Prijzenboek regio N-W'!U136 -> 13800 | S14: =SUM(D14:R14) -> 110400
C16: totaal per jaar | D16: =SUM(D12:D14) -> 13800 | F16: =SUM(F12:F14) -> 13800 | H16: =SUM(H12:H14) -> 13800 | J16: =SUM(J12:J14) -> 13800 | L16: =SUM(L12:L14) -> 13800 | N16: =SUM(N12:N14) -> 13800 | P16: =SUM(P12:P14) -> 13800 | R16: =SUM(R12:R14) -> 13800
C17: totaal 8 jaar | S17: =SUM(D16:S16) -> 110400
B21: Oost | C21: Preventief | D21: ='Prijzenboek regio O'!G56 -> 0 | E21: ='Prijzenboek regio O'!H56 -> 0 | F21: ='Prijzenboek regio O'!I56 -> 0 | G21: ='Prijzenboek regio O'!J56 -> 0 | H21: ='Prijzenboek regio O'!K56 -> 0 | I21: ='Prijzenboek regio O'!L56 -> 0 | J21: ='Prijzenboek regio O'!M56 -> 0 | K21: ='Prijzenboek regio O'!N56 -> 0 | ... R21: ='Prijzenboek regio O'!U56 -> 0 | S21: =SUM(D21:R21) -> 0
C22: Uren en deel materiaal | D22: ='Prijzenboek regio O'!G89 -> 0 | E22: ='Prijzenboek regio O'!H89 -> 0 | F22: ='Prijzenboek regio O'!I89 -> 0 | G22: ='Prijzenboek regio O'!J89 -> 0 | H22: ='Prijzenboek regio O'!K89 -> 0 | I22: ='Prijzenboek regio O'!L89 -> 0 | J22: ='Prijzenboek regio O'!M89 -> 0 | K22: ='Prijzenboek regio O'!N89 -> 0 | ... R22: ='Prijzenboek regio O'!U89 -> 0 | S22: =SUM(D22:R22) -> 0
C23: Vervangingen en tekeningen | D23: ='Prijzenboek regio O'!G136 -> 13000 | E23: ='Prijzenboek regio O'!H136 -> 0 | F23: ='Prijzenboek regio O'!I136 -> 13000 | G23: ='Prijzenboek regio O'!J136 -> 0 | H23: ='Prijzenboek regio O'!K136 -> 13000 | I23: ='Prijzenboek regio O'!L136 -> 0 | J23: ='Prijzenboek regio O'!M136 -> 13000 | K23: ='Prijzenboek regio O'!N136 -> 0 | ... R23: ='Prijzenboek regio O'!U136 -> 13000 | S23: =SUM(D23:R23) -> 104000
C25: totaal per jaar | D25: =SUM(D21:D23) -> 13000 | F25: =SUM(F21:F23) -> 13000 | H25: =SUM(H21:H23) -> 13000 | J25: =SUM(J21:J23) -> 13000 | L25: =SUM(L21:L23) -> 13000 | N25: =SUM(N21:N23) -> 13000 | P25: =SUM(P21:P23) -> 13000 | R25: =SUM(R21:R23) -> 13000
C26: totaal 8 jaar | S26: =SUM(D25:S25) -> 104000
B30: Zuid | C30: Preventief | D30: ='Prijzenboek regio Z'!G56 -> 0 | E30: ='Prijzenboek regio Z'!H56 -> 0 | F30: ='Prijzenboek regio Z'!I56 -> 0 | G30: ='Prijzenboek regio Z'!J56 -> 0 | H30: ='Prijzenboek regio Z'!K56 -> 0 | I30: ='Prijzenboek regio Z'!L56 -> 0 | J30: ='Prijzenboek regio Z'!M56 -> 0 | K30: ='Prijzenboek regio Z'!N56 -> 0 | ... R30: ='Prijzenboek regio Z'!U56 -> 0 | S30: =SUM(D30:R30) -> 0
C31: Uren en deel materiaal | D31: ='Prijzenboek regio Z'!G89 -> 0 | E31: ='Prijzenboek regio Z'!H89 -> 0 | F31: ='Prijzenboek regio Z'!I89 -> 0 | G31: ='Prijzenboek regio Z'!J89 -> 0 | H31: ='Prijzenboek regio Z'!K89 -> 0 | I31: ='Prijzenboek regio Z'!L89 -> 0 | J31: ='Prijzenboek regio Z'!M89 -> 0 | K31: ='Prijzenboek regio Z'!N89 -> 0 | ... R31: ='Prijzenboek regio Z'!U89 -> 0 | S31: =SUM(D31:R31) -> 0
C32: Vervangingen en tekeningen | D32: ='Prijzenboek regio Z'!G136 -> 17000 | E32: ='Prijzenboek regio Z'!H136 -> 0 | F32: ='Prijzenboek regio Z'!I136 -> 17000 | G32: ='Prijzenboek regio Z'!J136 -> 0 | H32: ='Prijzenboek regio Z'!K136 -> 17000 | I32: ='Prijzenboek regio Z'!L136 -> 0 | J32: ='Prijzenboek regio Z'!M136 -> 17000 | K32: ='Prijzenboek regio Z'!N136 -> 0 | ... R32: ='Prijzenboek regio Z'!U136 -> 17000 | S32: =SUM(D32:R32) -> 136000
C34: totaal per jaar | D34: =SUM(D30:D32) -> 17000 | F34: =SUM(F30:F32) -> 17000 | H34: =SUM(H30:H32) -> 17000 | J34: =SUM(J30:J32) -> 17000 | L34: =SUM(L30:L32) -> 17000 | N34: =SUM(N30:N32) -> 17000 | P34: =SUM(P30:P32) -> 17000 | R34: =SUM(R30:R32) -> 17000
C35: totaal 8 jaar | S35: =SUM(D34:S34) -> 136000
B39: Zuid-West | C39: Preventief | D39: ='Prijzenboek regio Z-W'!G56 -> 0 | E39: ='Prijzenboek regio Z-W'!H56 -> 0 | F39: ='Prijzenboek regio Z-W'!I56 -> 0 | G39: ='Prijzenboek regio Z-W'!J56 -> 0 | H39: ='Prijzenboek regio Z-W'!K56 -> 0 | I39: ='Prijzenboek regio Z-W'!L56 -> 0 | J39: ='Prijzenboek regio Z-W'!M56 -> 0 | K39: ='Prijzenboek regio Z-W'!N56 -> 0 | ... R39: ='Prijzenboek regio Z-W'!U56 -> 0 | S39: =SUM(D39:R39) -> 0
C40: Uren en deel materiaal | D40: ='Prijzenboek regio Z-W'!G89 -> 0 | E40: ='Prijzenboek regio Z-W'!H89 -> 0 | F40: ='Prijzenboek regio Z-W'!I89 -> 0 | G40: ='Prijzenboek regio Z-W'!J89 -> 0 | H40: ='Prijzenboek regio Z-W'!K89 -> 0 | I40: ='Prijzenboek regio Z-W'!L89 -> 0 | J40: ='Prijzenboek regio Z-W'!M89 -> 0 | K40: ='Prijzenboek regio Z-W'!N89 -> 0 | ... R40: ='Prijzenboek regio Z-W'!U89 -> 0 | S40: =SUM(D40:R40) -> 0
C41: Vervangingen en tekeningen | D41: ='Prijzenboek regio Z-W'!G136 -> 12200 | E41: ='Prijzenboek regio Z-W'!H136 -> 0 | F41: ='Prijzenboek regio Z-W'!I136 -> 12200 | G41: ='Prijzenboek regio Z-W'!J136 -> 0 | H41: ='Prijzenboek regio Z-W'!K136 -> 12200 | I41: ='Prijzenboek regio Z-W'!L136 -> 0 | J41: ='Prijzenboek regio Z-W'!M136 -> 12200 | K41: ='Prijzenboek regio Z-W'!N136 -> 0 | ... R41: ='Prijzenboek regio Z-W'!U136 -> 12200 | S41: =SUM(D41:R41) -> 97600
C43: totaal per jaar | D43: =SUM(D39:D41) -> 12200 | F43: =SUM(F39:F41) -> 12200 | H43: =SUM(H39:H41) -> 12200 | J43: =SUM(J39:J41) -> 12200 | L43: =SUM(L39:L41) -> 12200 | N43: =SUM(N39:N41) -> 12200 | P43: =SUM(P39:P41) -> 12200 | R43: =SUM(R39:R41) -> 12200
C44: totaal 8 jaar | S44: =SUM(D43:S43) -> 97600
N48: Inschrijf som | S48: =S44+S35+S26+S17+S8 -> 582250

Sheet Prijzenboek regio N
B1: Prijzenboek Regio Noord
F2: 2024 | I2: 2025 | K2: 2026 | M2: 2027 | O2: 2028 | Q2: 2029 | S2: 2030 | U2: 2031
H3: Indexering | I3: 1 | J3: Indexering | K3: 1 | L3: Indexering | M3: 1 | N3: Indexering | O3: 1 | P3: Indexering | Q3: 1 | R3: Indexering | S3: 1 | T3: Indexering | U3: 1
B5: Blok | D5: Eenheid | E5: Aantallen (fictief per jaar) | F5: Verrekenprijs (per eenheid) | G5: Prijs (aantal x eenheidsprijs) | H5: Aantallen (fictief per jaar) | I5: Prijs (aantal x indexering x eenheidsprijs) | J5: Aantallen (fictief per jaar) | K5: Prijs (aantal x indexering x eenheidsprijs) | L5: Aantallen (fictief per jaar) | M5: Prijs (aantal x indexering x eenheidsprijs) | N5: Aantallen (fictief per jaar) | O5: Prijs (aantal x indexering x eenheidsprijs) | P5: Aantallen (fictief per jaar) | Q5: Prijs (aantal x indexering x eenheidsprijs) | R5: Aantallen (fictief per jaar) | S5: Prijs (aantal x indexering x eenheidsprijs) | T5: Aantallen (fictief per jaar) | U5: Prijs (aantal x indexering x eenheidsprijs)
B6: 10 | C6: Preventief Onderhoud volgens Keuringsplan
C7: Noodstroominstallaties paragraaf 4.3.3
A8: 1 | B8: =B$6&"."&A8 -> 10.1 | C8: Onderhoud Statische No-break 1j -48V | D8: Ruimte | E8: 26 | F8: 0 | G8: =E8*F8 -> 0 | H8: 26 | I8: =($F8*$I$3)*H8 -> 0 | J8: 26 | K8: =$F8*$I$3*$K$3*J8 -> 0 | L8: 26 | M8: =($F8*$I$3*$K$3*$M$3)*L8 -> 0 | N8: 26 | O8: =($F8*$I$3*$K$3*$M$3*$O$3)*N8 -> 0 | P8: 26 | Q8: =$F8*$I$3*$K$3*$M$3*$O$3*$Q$3*P8 -> 0 | R8: 26 | S8: =$F8*$I$3*$K$3*$M$3*$O$3*$Q$3*$S$3*R8 -> 0 | T8: 26 | U8: =$F8*$I$3*$K$3*$M$3*$O$3*$Q$3*$S$3*$U$3*T8 -> 0
A9: 2 | B9: =B$6&"."&A9 -> 10.2 | C9: Onderhoud / inspectie rectifier | D9: stuks | E9: 78 | F9: 0 | G9: =E9*F9 -> 0 | H9: 70 | I9: =($F9*$I$3)*H9 -> 0 | J9: 62 | K9: =$F9*$I$3*$K$3*J9 -> 0 | L9: 54 | M9: =$F9*$I$3*$K$3*$M$3*L9 -> 0 | N9: 46 | O9: =($F9*$I$3*$K$3*$M$3*$O$3)*N9 -> 0 | P9: 36 | Q9: =$F9*$I$3*$K$3*$M$3*$O$3*$Q$3*P9 -> 0 | R9: 28 | S9: =$F9*$I$3*$K$3*$M$3*$O$3*$Q$3*$S$3*R9 -> 0 | T9: 20 | U9: =$F9*$I$3*$K$3*$M$3*$O$3*$Q$3*$S$3*$U$3*T9 -> 0
A10: 3 | B10: =B$6&"."&A10 -> 10.3 | C10: Onderhoud / inspectie inverter | D10: stuks | E10: 29 | F10: 0 | G10: =E10*F10 -> 0 | H10: 26 | I10: =($F10*$I$3)*H10 -> 0 | J10: 23 | K10: =($F10*$I$3*$K$3)*J10 -> 0 | L10: 20 | M10: =$F10*$I$3*$K$3*$M$3*L10 -> 0 | N10: 17 | O10: =($F10*$I$3*$K$3*$M$3*$O$3)*N10 -> 0 | P10: 14 | Q10: =$F10*$I$3*$K$3*$M$3*$O$3*$Q$3*P10 -> 0 | R10: 11 | S10: =$F10*$I$3*$K$3*$M$3*$O$3*$Q$3*$S$3*R10 -> 0 | T10: 8 | U10: =$F10*$I$3*$K$3*$M$3*$O$3*$Q$3*$S$3*$U$3*T10 -> 0
A11: 4 | B11: =B$6&"."&A11 -> 10.4 | C11: Onderhoud / inspectie accu's en Siemens meting (per accu) | D11: stuks | E11: 268 | F11: 0 | G11: =E11*F11 -> 0 | H11: 240 | I11: =($F11*$I$3)*H11 -> 0 | J11: 212 | K11: =($F11*$I$3*$K$3)*J11 -> 0 | L11: 186 | M11: =$F11*$I$3*$K$3*$M$3*L11 -> 0 | N11: 168 | O11: =($F11*$I$3*$K$3*$M$3*$O$3)*N11 -> 0 | P11: 140 | Q11: =$F11*$I$3*$K$3*$M$3*$O$3*$Q$3*P11 -> 0 | R11: 118 | S11: =$F11*$I$3*$K$3*$M$3*$O$3*$Q$3*$S$3*R11 -> 0 | T11: 90 | U11: =$F11*$I$3*$K$3*$M$3*$O$3*$Q$3*$S$3*$U$3*T11 -> 0
A12: 5 | B12: =B$6&"."&A12 -> 10.5 | C12: Inspectie HPDE afdichtingen | D12: stuks | E12: 131 | F12: 0 | G12: =E12*F12 -> 0 | H12: 131 | I12: =($F12*$I$3)*H12 -> 0 | J12: 131 | K12: =($F12*$I$3*$K$3)*J12 -> 0 | L12: 131 | M12: =$F12*$I$3*$K$3*$M$3*L12 -> 0 | N12: 131 | O12: =($F12*$I$3*$K$3*$M$3*$O$3)*N12 -> 0 | P12: 131 | Q12: =$F12*$I$3*$K$3*$M$3*$O$3*$Q$3*P12 -> 0 | R12: 131 | S12: =$F12*$I$3*$K$3*$M$3*$O$3*$Q$3*$S$3*R12 -> 0 | T12: 131 | U12: =$F12*$I$3*$K$3*$M$3*$O$3*$Q$3*$S$3*$U$3*T12 -> 0
A13: 6 | B13: =B$6&"."&A13 -> 10.6 | C13: Controleren doormeldingen naar ITOC | D13: Ruimte | E13: 25 | F13: 0 | G13: =E13*F13 -> 0 | H13: 25 | I13: =($F13*$I$3)*H13 -> 0 | J13: 25 | K13: =$F13*$I$3*$K$3*J13 -> 0 | L13: 25 | M13: =($F13*$I$3*$K$3*$M$3)*L13 -> 0 | N13: 25 | O13: =($F13*$I$3*$K$3*$M$3*$O$3)*N13 -> 0 | P13: 25 | Q13: =$F13*$I$3*$K$3*$M$3*$O$3*$Q$3*P13 -> 0 | R13: 25 | S13: =$F13*$I$3*$K$3*$M$3*$O$3*$Q$3*$S$3*R13 -> 0 | T13: 25 | U13: =$F13*$I$3*$K$3*$M$3*$O$3*$Q$3*$S$3*$U$3*T13 -> 0
A14: 7 | B14: =B$6&"."&A14 -> 10.7 | C14: Onderhoud Statische No-break 1j (priva) | D14: stuks | E14: 7 | F14: 0 | G14: =E14*F14 -> 0 | H14: 9 | I14: =($F14*$I$3)*H14 -> 0 | J14: 9 | K14: =($F14*$I$3*$K$3)*J14 -> 0 | L14: 9 | M14: =$F14*$I$3*$K$3*$M$3*L14 -> 0 | N14: 9 | O14: =($F14*$I$3*$K$3*$M$3*$O$3)*N14 -> 0 | P14: 9 | Q14: =$F14*$I$3*$K$3*$M$3*$O$3*$Q$3*P14 -> 0 | R14: 9 | S14: =$F14*$I$3*$K$3*$M$3*$O$3*$Q$3*$S$3*R14 -> 0 | T14: 9 | U14: =$F14*$I$3*$K$3*$M$3*$O$3*$Q$3*$S$3*$U$3*T14 -> 0
A15: 8 | B15: =B$6&"."&A15 -> 10.8 | C15: Onderhoud Statische No-break 1j | D15: stuks | E15: 10 | F15: 0 | G15: =E15*F15 -> 0 | H15: 10 | I15: =($F15*$I$3)*H15 -> 0 | J15: 10 | K15: =($F15*$I$3*$K$3)*J15 -> 0 | L15: 10 | M15: =$F15*$I$3*$K$3*$M$3*L15 -> 0 | N15: 10 | O15: =($F15*$I$3*$K$3*$M$3*$O$3)*N15 -> 0 | P15: 10 | Q15: =$F15*$I$3*$K$3*$M$3*$O$3*$Q$3*P15 -> 0 | R15: 10 | S15: =$F15*$I$3*$K$3*$M$3*$O$3*$Q$3*$S$3*R15 -> 0 | T15: 10 | U15: =$F15*$I$3*$K$3*$M$3*$O$3*$Q$3*$S$3*$U$3*T15 -> 0
C16: Aspiratie systeem paragraaf 4.3.6
A17: 9 | B17: =B$6&"."&A17 -> 10.9 | C17: XTRALIS VESDA ASPIRATIEDETECTIE | D17: stuks | E17: 11 | F17: 0 | G17: =E17*F17 -> 0 | H17: 11 | I17: =($F17*$I$3)*H17 -> 0 | J17: 11 | K17: =($F17*$I$3*$K$3)*J17 -> 0 | L17: 11 | M17: =$F17*$I$3*$K$3*$M$3*L17 -> 0 | N17: 11 | O17: =($F17*$I$3*$K$3*$M$3*$O$3)*N17 -> 0 | P17: 11 | Q17: =$F17*$I$3*$K$3*$M$3*$O$3*$Q$3*P17 -> 0 | R17: 11 | S17: =$F17*$I$3*$K$3*$M$3*$O$3*$Q$3*$S$3*R17 -> 0 | T17: 11 | U17: =$F17*$I$3*$K$3*$M$3*$O$3*$Q$3*$S$3*$U$3*T17 -> 0
C18: Brandmeldinstallatie paragraaf 4.3.7
A19: 10 | B19: =B$6&"."&A19 -> 10.10 | C19: Controle hand, rook melder en temperatuur melder BMI (Prijs per melder) | D19: stuks | E19: 17 | F19: 0 | G19: =E19*F19 -> 0 | H19: 17 | I19: =($F19*$I$3)*H19 -> 0 | J19: 17 | K19: =($F19*$I$3*$K$3)*J19 -> 0 | L19: 17 | M19: =$F19*$I$3*$K$3*$M$3*L19 -> 0 | N19: 17 | O19: =($F19*$I$3*$K$3*$M$3*$O$3)*N19 -> 0 | P19: 17 | Q19: =$F19*$I$3*$K$3*$M$3*$O$3*$Q$3*P19 -> 0 | R19: 17 | S19: =$F19*$I$3*$K$3*$M$3*$O$3*$Q$3*$S$3*R19 -> 0 | T19: 17 | U19: =$F19*$I$3*$K$3*$M$3*$O$3*$Q$3*$S$3*$U$3*T19 -> 0
A20: 11 | B20: =B$6&"."&A20 -> 10.11 | C20: Neventableau | D20: stuks | E20: 12 | F20: 0 | G20: =E20*F20 -> 0 | H20: 12 | I20: =($F20*$I$3)*H20 -> 0 | J20: 12 | K20: =($F20*$I$3*$K$3)*J20 -> 0 | L20: 12 | M20: =$F20*$I$3*$K$3*$M$3*L20 -> 0 | N20: 12 | O20: =($F20*$I$3*$K$3*$M$3*$O$3)*N20 -> 0 | P20: 12 | Q20: =$F20*$I$3*$K$3*$M$3*$O$3*$Q$3*P20 -> 0 | R20: 12 | S20: =$F20*$I$3*$K$3*$M$3*$O$3*$Q$3*$S$3*R20 -> 0 | T20: 12 | U20: =$F20*$I$3*$K$3*$M$3*$O$3*$Q$3*$S$3*$U$3*T20 -> 0
A21: 12 | B21: =B$6&"."&A21 -> 10.12 | C21: Doormeldingen | D21: ruimte | E21: 17 | F21: 0 | G21: =E21*F21 -> 0 | H21: 17 | I21: =($F21*$I$3)*H21 -> 0 | J21: 17 | K21: =($F21*$I$3*$K$3)*J21 -> 0 | L21: 17 | M21: =$F21*$I$3*$K$3*$M$3*L21 -> 0 | N21: 17 | O21: =($F21*$I$3*$K$3*$M$3*$O$3)*N21 -> 0 | P21: 17 | Q21: =$F21*$I$3*$K$3*$M$3*$O$3*$Q$3*P21 -> 0 | R21: 17 | S21: =$F21*$I$3*$K$3*$M$3*$O$3*$Q$3*$S$3*R21 -> 0 | T21: 17 | U21: =$F21*$I$3*$K$3*$M$3*$O$3*$Q$3*$S$3*$U$3*T21 -> 0
A22: 13 | B22: =B$6&"."&A22 -> 10.13 | C22: Inspectie en onderhoud BMI met centrale 12m | D22: stuks | E22: 12 | F22: 0 | G22: =E22*F22 -> 0 | H22: 12 | I22: =($F22*$I$3)*H22 -> 0 | J22: 12 | K22: =($F22*$I$3*$K$3)*J22 -> 0 | L22: 12 | M22: =$F22*$I$3*$K$3*$M$3*L22 -> 0 | N22: 12 | O22: =($F22*$I$3*$K$3*$M$3*$O$3)*N22 -> 0 | P22: 12 | Q22: =$F22*$I$3*$K$3*$M$3*$O$3*$Q$3*P22 -> 0 | R22: 12 | S22: =$F22*$I$3*$K$3*$M$3*$O$3*$Q$3*$S$3*R22 -> 0 | T22: 12 | U22: =$F22*$I$3*$K$3*$M$3*$O$3*$Q$3*$S$3*$U$3*T22 -> 0
A23: 14 | B23: =B$6&"."&A23 -> 10.14 | C23: 07-B1 CCV insp en odh VBB blusgas 1j | D23: stuks | E23: 2 | F23: 0 | G23: =E23*F23 -> 0 | H23: 2 | I23: =($F23*$I$3)*H23 -> 0 | J23: 2 | K23: =($F23*$I$3*$K$3)*J23 -> 0 | L23: 2 | M23: =$F23*$I$3*$K$3*$M$3*L23 -> 0 | N23: 2 | O23: =($F23*$I$3*$K$3*$M$3*$O$3)*N23 -> 0 | P23: 2 | Q23: =$F23*$I$3*$K$3*$M$3*$O$3*$Q$3*P23 -> 0 | R23: 2 | S23: =$F23*$I$3*$K$3*$M$3*$O$3*$Q$3*$S$3*R23 -> 0 | T23: 2 | U23: =$F23*$I$3*$K$3*$M$3*$O$3*$Q$3*$S$3*$U$3*T23 -> 0
A24: 15 | B24: =B$6&"."&A24 -> 10.15 | C24: 07-B2 CCV insp en odh blusgas 5j | D24: stuks | E24: 2 | F24: 0 | G24: =E24*F24 -> 0 | I24: =($F24*$I$3)*H24 -> 0 | K24: =($F24*$I$3*$K$3)*J24 -> 0 | M24: =$F24*$I$3*$K$3*$M$3*L24 -> 0 | O24: =($F24*$I$3*$K$3*$M$3*$O$3)*N24 -> 0 | P24: 2 | Q24: =$F24*$I$3*$K$3*$M$3*$O$3*$Q$3*P24 -> 0 | S24: =$F24*$I$3*$K$3*$M$3*$O$3*$Q$3*$S$3*R24 -> 0 | U24: =$F24*$I$3*$K$3*$M$3*$O$3*$Q$3*$S$3*$U$3*T24 -> 0
C25: Mechanische luchtbehandeling
A26: 16 | B26: =B$6&"."&A26 -> 10.16 | C26: Onderhoud / inspectie stoombevochtiger | D26: stuks | E26: 11 | F26: 0 | G26: =E26*F26 -> 0 | H26: 11 | I26: =($F26*$I$3)*H26 -> 0 | J26: 11 | K26: =($F26*$I$3*$K$3)*J26 -> 0 | L26: 11 | M26: =$F26*$I$3*$K$3*$M$3*L26 -> 0 | N26: 11 | O26: =($F26*$I$3*$K$3*$M$3*$O$3)*N26 -> 0 | P26: 11 | Q26: =$F26*$I$3*$K$3*$M$3*$O$3*$Q$3*P26 -> 0 | R26: 11 | S26: =$F26*$I$3*$K$3*$M$3*$O$3*$Q$3*$S$3*R26 -> 0 | T26: 11 | U26: =$F26*$I$3*$K$3*$M$3*$O$3*$Q$3*$S$3*$U$3*T26 -> 0
C27: Klimaatregelinstallatie paragraaf 4.3.9
A28: 17 | B28: =B$6&"."&A28 -> 10.17 | C28: Softwarecontrole 1j | D28: stuks | E28: 11 | F28: 0 | G28: =E28*F28 -> 0 | H28: 11 | I28: =($F28*$I$3)*H28 -> 0 | J28: 11 | K28: =($F28*$I$3*$K$3)*J28 -> 0 | L28: 11 | M28: =$F28*$I$3*$K$3*$M$3*L28 -> 0 | N28: 11 | O28: =($F28*$I$3*$K$3*$M$3*$O$3)*N28 -> 0 | P28: 11 | Q28: =$F28*$I$3*$K$3*$M$3*$O$3*$Q$3*P28 -> 0 | R28: 11 | S28: =$F28*$I$3*$K$3*$M$3*$O$3*$Q$3*$S$3*R28 -> 0 | T28: 11 | U28: =$F28*$I$3*$K$3*$M$3*$O$3*$Q$3*$S$3*$U$3*T28 -> 0
A29: 18 | B29: =B$6&"."&A29 -> 10.18 | C29: Onderhoud klimaatregelinstallatie 1j | D29: stuks | E29: 11 | F29: 0 | G29: =E29*F29 -> 0 | H29: 11 | I29: =($F29*$I$3)*H29 -> 0 | J29: 11 | K29: =($F29*$I$3*$K$3)*J29 -> 0 | L29: 11 | M29: =$F29*$I$3*$K$3*$M$3*L29 -> 0 | N29: 11 | O29: =($F29*$I$3*$K$3*$M$3*$O$3)*N29 -> 0 | P29: 11 | Q29: =$F29*$I$3*$K$3*$M$3*$O$3*$Q$3*P29 -> 0 | R29: 11 | S29: =$F29*$I$3*$K$3*$M$3*$O$3*$Q$3*$S$3*R29 -> 0 | T29: 11 | U29: =$F29*$I$3*$K$3*$M$3*$O$3*$Q$3*$S$3*$U$3*T29 -> 0
A30: 19 | B30: =B$6&"."&A30 -> 10.19 | C30: Onderhoud klimaatregelinstallatie 4j vervangen back-up accu | D30: stuks | E30: 0 | F30: 0 | G30: =E30*F30 -> 0 | H30: 11 | I30: =($F30*$I$3)*H30 -> 0 | J30: 0 | K30: =($F30*$I$3*$K$3)*J30 -> 0 | L30: 0 | M30: =$F30*$I$3*$K$3*$M$3*L30 -> 0 | N30: 0 | O30: =($F30*$I$3*$K$3*$M$3*$O$3)*N30 -> 0 | P30: 11 | Q30: =$F30*$I$3*$K$3*$M$3*$O$3*$Q$3*P30 -> 0 | R30: 0 | S30: =$F30*$I$3*$K$3*$M$3*$O$3*$Q$3*$S$3*R30 -> 0 | T30: 0 | U30: =$F30*$I$3*$K$3*$M$3*$O$3*$Q$3*$S$3*$U$3*T30 -> 0
C31: Brandwerende doorvoeringen paragraaf 4.3.3
A32: 20 | B32: =B$6&"."&A32 -> 10.20 | C32: Visuele inspectie brandwerende doorvoeringen | D32: Ruimte | E32: 10 | F32: 0 | G32: =E32*F32 -> 0 | H32: 10 | I32: =($F32*$I$3)*H32 -> 0 | J32: 10 | K32: =($F32*$I$3*$K$3)*J32 -> 0 | L32: 10 | M32: =$F32*$I$3*$K$3*$M$3*L32 -> 0 | N32: 10 | O32: =($F32*$I$3*$K$3*$M$3*$O$3)*N32 -> 0 | P32: 10 | Q32: =$F32*$I$3*$K$3*$M$3*$O$3*$Q$3*P32 -> 0 | R32: 10 | S32: =$F32*$I$3*$K$3*$M$3*$O$3*$Q$3*$S$3*R32 -> 0 | T32: 10 | U32: =$F32*$I$3*$K$3*$M$3*$O$3*$Q$3*$S$3*$U$3*T32 -> 0
C33: Aardings- en Bliksembeveiligingsinstallaties paragraaf 4.3.2
A34: 21 | B34: =B$6&"."&A34 -> 10.21 | C34: Periodiek Inspectie geleidende vloer per ruimte incl. opstellen rapport | D34: Ruimte | E34: 13 | F34: 0 | G34: =E34*F34 -> 0 | H34: 13 | I34: =($F34*$I$3)*H34 -> 0 | J34: 13 | K34: =($F34*$I$3*$K$3)*J34 -> 0 | L34: 13 | M34: =$F34*$I$3*$K$3*$M$3*L34 -> 0 | N34: 13 | O34: =($F34*$I$3*$K$3*$M$3*$O$3)*N34 -> 0 | P34: 13 | Q34: =$F34*$I$3*$K$3*$M$3*$O$3*$Q$3*P34 -> 0 | R34: 13 | S34: =$F34*$I$3*$K$3*$M$3*$O$3*$Q$3*$S$3*R34 -> 0 | T34: 13 | U34: =$F34*$I$3*$K$3*$M$3*$O$3*$Q$3*$S$3*$U$3*T34 -> 0
A35: 22 | B35: =B$6&"."&A35 -> 10.22 | C35: Periodiek Inspectie statische aardstrip/aardrail en aardpunten per ruimte inclusief opstellen rapporten. | D35: Ruimte | E35: 26 | F35: 0 | G35: =E35*F35 -> 0 | H35: 26 | I35: =($F35*$I$3)*H35 -> 0 | J35: 26 | K35: =($F35*$I$3*$K$3)*J35 -> 0 | L35: 26 | M35: =$F35*$I$3*$K$3*$M$3*L35 -> 0 | N35: 26 | O35: =($F35*$I$3*$K$3*$M$3*$O$3)*N35 -> 0 | P35: 26 | Q35: =$F35*$I$3*$K$3*$M$3*$O$3*$Q$3*P35 -> 0 | R35: 26 | S35: =$F35*$I$3*$K$3*$M$3*$O$3*$Q$3*$S$3*R35 -> 0 | T35: 26 | U35: =$F35*$I$3*$K$3*$M$3*$O$3*$Q$3*$S$3*$U$3*T35 -> 0
C36: Periodieke inspecties laagspanning paragraaf 4.3.4
A37: 23 | B37: =B$6&"."&A37 -> 10.23 | C37: Periodieke inspectie elektrische installatie 1j | D37: Ruimte | E37: 21 | F37: 0 | G37: =E37*F37 -> 0 | H37: 0 | I37: =($F37*$I$3)*H37 -> 0 | J37: 21 | K37: =($F37*$I$3*$K$3)*J37 -> 0 | L37: 21 | M37: =$F37*$I$3*$K$3*$M$3*L37 -> 0 | N37: 21 | O37: =($F37*$I$3*$K$3*$M$3*$O$3)*N37 -> 0 | P37: 0 | Q37: =$F37*$I$3*$K$3*$M$3*$O$3*$Q$3*P37 -> 0 | R37: 21 | S37: =$F37*$I$3*$K$3*$M$3*$O$3*$Q$3*$S$3*R37 -> 0 | T37: 21 | U37: =$F37*$I$3*$K$3*$M$3*$O$3*$Q$3*$S$3*$U$3*T37 -> 0
A38: 24 | B38: =B$6&"."&A38 -> 10.24 | C38: Periodieke inspectie elektrische installatie 4j | D38: Ruimte | E38: 0 | F38: 0 | G38: =E38*F38 -> 0 | H38: 21 | I38: =($F38*$I$3)*H38 -> 0 | J38: 0 | K38: =($F38*$I$3*$K$3)*J38 -> 0 | L38: 0 | M38: =$F38*$I$3*$K$3*$M$3*L38 -> 0 | N38: 0 | O38: =($F38*$I$3*$K$3*$M$3*$O$3)*N38 -> 0 | P38: 21 | Q38: =$F38*$I$3*$K$3*$M$3*$O$3*$Q$3*P38 -> 0 | R38: 0 | S38: =$F38*$I$3*$K$3*$M$3*$O$3*$Q$3*$S$3*R38 -> 0 | T38: 0 | U38: =$F38*$I$3*$K$3*$M$3*$O$3*$Q$3*$S$3*$U$3*T38 -> 0
C39: Noodverlichtingsinstallaties paragraaf 4.3.5
A40: 25 | B40: =B$6&"."&A40 -> 10.25 | C40: Periodieke inspectie en onderhoud noodverlichting 1j, decentrale noodverliching per ruimte met 1 t/ m 10 armaturen | D40: Ruimte | E40: 17 | F40: 0 | G40: =E40*F40 -> 0 | H40: 21 | I40: =($F40*$I$3)*H40 -> 0 | J40: 21 | K40: =($F40*$I$3*$K$3)*J40 -> 0 | L40: 21 | M40: =$F40*$I$3*$K$3*$M$3*L40 -> 0 | N40: 21 | O40: =($F40*$I$3*$K$3*$M$3*$O$3)*N40 -> 0 | P40: 21 | Q40: =$F40*$I$3*$K$3*$M$3*$O$3*$Q$3*P40 -> 0 | R40: 21 | S40: =$F40*$I$3*$K$3*$M$3*$O$3*$Q$3*$S$3*R40 -> 0 | T40: 21 | U40: =$F40*$I$3*$K$3*$M$3*$O$3*$Q$3*$S$3*$U$3*T40 -> 0
C41: Koelinstallatie paragraaf 4.3.9
...

Sheet Prijzenboek regio N-W
B1: Prijzenboek Regio Noord-West
F2: 2024 | I2: 2025 | K2: 2026 | M2: 2027 | O2: 2028 | Q2: 2029 | S2: 2030 | U2: 2031
H3: Indexering | I3: 1 | J3: Indexering | K3: 1 | L3: Indexering | M3: 1 | N3: Indexering | O3: 1 | P3: Indexering | Q3: 1 | R3: Indexering | S3: 1 | T3: Indexering | U3: 1
B5: Blok | D5: Eenheid | E5: Aantallen (fictief per jaar) | F5: Verrekenprijs (per eenheid) | G5: Prijs (aantal x eenheidsprijs) | H5: Aantallen (fictief per jaar) | I5: Prijs (aantal x indexering x eenheidsprijs) | J5: Aantallen (fictief per jaar) | K5: Prijs (aantal x indexering x eenheidsprijs) | L5: Aantallen (fictief per jaar) | M5: Prijs (aantal x indexering x eenheidsprijs) | N5: Aantallen (fictief per jaar) | O5: Prijs (aantal x indexering x eenheidsprijs) | P5: Aantallen (fictief per jaar) | Q5: Prijs (aantal x indexering x eenheidsprijs) | R5: Aantallen (fictief per jaar) | S5: Prijs (aantal x indexering x eenheidsprijs) | T5: Aantallen (fictief per jaar) | U5: Prijs (aantal x indexering x eenheidsprijs)
B6: 10 | C6: Preventief Onderhoud volgens Keuringsplan
C7: Noodstroominstallaties paragraaf 4.3.3
A8: 1 | B8: =B$6&"."&A8 -> 10.1 | C8: Onderhoud Statische No-break 1j -48V | D8: Ruimte | E8: 35 | F8: ='Prijzenboek regio N'!F8 -> 0 | G8: =E8*F8 -> 0 | H8: 35 | I8: =($F8*$I$3)*H8 -> 0 | J8: 35 | K8: =$F8*$I$3*$K$3*J8 -> 0 | L8: 35 | M8: =($F8*$I$3*$K$3*$M$3)*L8 -> 0 | N8: 35 | O8: =($F8*$I$3*$K$3*$M$3*$O$3)*N8 -> 0 | P8: 35 | Q8: =$F8*$I$3*$K$3*$M$3*$O$3*$Q$3*P8 -> 0 | R8: 35 | S8: =$F8*$I$3*$K$3*$M$3*$O$3*$Q$3*$S$3*R8 -> 0 | T8: 35 | U8: =$F8*$I$3*$K$3*$M$3*$O$3*$Q$3*$S$3*$U$3*T8 -> 0
A9: 2 | B9: =B$6&"."&A9 -> 10.2 | C9: Onderhoud / inspectie rectifier | D9: stuks | E9: 145 | F9: ='Prijzenboek regio N'!F9 -> 0 | G9: =E9*F9 -> 0 | H9: 130 | I9: =($F9*$I$3)*H9 -> 0 | J9: 115 | K9: =$F9*$I$3*$K$3*J9 -> 0 | L9: 100 | M9: =$F9*$I$3*$K$3*$M$3*L9 -> 0 | N9: 85 | O9: =($F9*$I$3*$K$3*$M$3*$O$3)*N9 -> 0 | P9: 70 | Q9: =$F9*$I$3*$K$3*$M$3*$O$3*$Q$3*P9 -> 0 | R9: 55 | S9: =$F9*$I$3*$K$3*$M$3*$O$3*$Q$3*$S$3*R9 -> 0 | T9: 40 | U9: =$F9*$I$3*$K$3*$M$3*$O$3*$Q$3*$S$3*$U$3*T9 -> 0
A10: 3 | B10: =B$6&"."&A10 -> 10.3 | C10: Onderhoud / inspectie inverter | D10: stuks | E10: 46 | F10: ='Prijzenboek regio N'!F10 -> 0 | G10: =E10*F10 -> 0 | H10: 42 | I10: =($F10*$I$3)*H10 -> 0 | J10: 38 | K10: =($F10*$I$3*$K$3)*J10 -> 0 | L10: 34 | M10: =$F10*$I$3*$K$3*$M$3*L10 -> 0 | N10: 30 | O10: =($F10*$I$3*$K$3*$M$3*$O$3)*N10 -> 0 | P10: 26 | Q10: =$F10*$I$3*$K$3*$M$3*$O$3*$Q$3*P10 -> 0 | R10: 22 | S10: =$F10*$I$3*$K$3*$M$3*$O$3*$Q$3*$S$3*R10 -> 0 | T10: 18 | U10: =$F10*$I$3*$K$3*$M$3*$O$3*$Q$3*$S$3*$U$3*T10 -> 0
A11: 4 | B11: =B$6&"."&A11 -> 10.4 | C11: Onderhoud / inspectie accu's en Siemens meting (per accu) | D11: stuks | E11: 409 | F11: ='Prijzenboek regio N'!F11 -> 0 | G11: =E11*F11 -> 0 | H11: 370 | I11: =($F11*$I$3)*H11 -> 0 | J11: 330 | K11: =($F11*$I$3*$K$3)*J11 -> 0 | L11: 290 | M11: =$F11*$I$3*$K$3*$M$3*L11 -> 0 | N11: 250 | O11: =($F11*$I$3*$K$3*$M$3*$O$3)*N11 -> 0 | P11: 210 | Q11: =$F11*$I$3*$K$3*$M$3*$O$3*$Q$3*P11 -> 0 | R11: 170 | S11: =$F11*$I$3*$K$3*$M$3*$O$3*$Q$3*$S$3*R11 -> 0 | T11: 130 | U11: =$F11*$I$3*$K$3*$M$3*$O$3*$Q$3*$S$3*$U$3*T11 -> 0
A12: 5 | B12: =B$6&"."&A12 -> 10.5 | C12: Inspectie HPDE afdichtingen | D12: stuks | E12: 232 | F12: ='Prijzenboek regio N'!F12 -> 0 | G12: =E12*F12 -> 0 | H12: 232 | I12: =($F12*$I$3)*H12 -> 0 | J12: 232 | K12: =($F12*$I$3*$K$3)*J12 -> 0 | L12: 232 | M12: =$F12*$I$3*$K$3*$M$3*L12 -> 0 | N12: 232 | O12: =($F12*$I$3*$K$3*$M$3*$O$3)*N12 -> 0 | P12: 232 | Q12: =$F12*$I$3*$K$3*$M$3*$O$3*$Q$3*P12 -> 0 | R12: 232 | S12: =$F12*$I$3*$K$3*$M$3*$O$3*$Q$3*$S$3*R12 -> 0 | T12: 232 | U12: =$F12*$I$3*$K$3*$M$3*$O$3*$Q$3*$S$3*$U$3*T12 -> 0
A13: 6 | B13: =B$6&"."&A13 -> 10.6 | C13: Controleren doormeldingen naar ITOC | D13: Ruimte | E13: 37 | F13: ='Prijzenboek regio N'!F13 -> 0 | G13: =E13*F13 -> 0 | H13: 37 | I13: =($F13*$I$3)*H13 -> 0 | J13: 37 | K13: =$F13*$I$3*$K$3*J13 -> 0 | L13: 37 | M13: =($F13*$I$3*$K$3*$M$3)*L13 -> 0 | N13: 37 | O13: =($F13*$I$3*$K$3*$M$3*$O$3)*N13 -> 0 | P13: 37 | Q13: =$F13*$I$3*$K$3*$M$3*$O$3*$Q$3*P13 -> 0 | R13: 37 | S13: =$F13*$I$3*$K$3*$M$3*$O$3*$Q$3*$S$3*R13 -> 0 | T13: 37 | U13: =$F13*$I$3*$K$3*$M$3*$O$3*$Q$3*$S$3*$U$3*T13 -> 0
A14: 7 | B14: =B$6&"."&A14 -> 10.7 | C14: Onderhoud Statische No-break 1j (priva) | D14: stuks | E14: 5 | F14: ='Prijzenboek regio N'!F14 -> 0 | G14: =E14*F14 -> 0 | H14: 5 | I14: =($F14*$I$3)*H14 -> 0 | J14: 5 | K14: =($F14*$I$3*$K$3)*J14 -> 0 | L14: 5 | M14: =$F14*$I$3*$K$3*$M$3*L14 -> 0 | N14: 5 | O14: =($F14*$I$3*$K$3*$M$3*$O$3)*N14 -> 0 | P14: 5 | Q14: =$F14*$I$3*$K$3*$M$3*$O$3*$Q$3*P14 -> 0 | R14: 5 | S14: =$F14*$I$3*$K$3*$M$3*$O$3*$Q$3*$S$3*R14 -> 0 | T14: 5 | U14: =$F14*$I$3*$K$3*$M$3*$O$3*$Q$3*$S$3*$U$3*T14 -> 0
A15: 8 | B15: =B$6&"."&A15 -> 10.8 | C15: Onderhoud Statische No-break 1j | D15: stuks | E15: 5 | F15: ='Prijzenboek regio N'!F15 -> 0 | G15: =E15*F15 -> 0 | H15: 5 | I15: =($F15*$I$3)*H15 -> 0 | J15: 5 | K15: =($F15*$I$3*$K$3)*J15 -> 0 | L15: 5 | M15: =$F15*$I$3*$K$3*$M$3*L15 -> 0 | N15: 5 | O15: =($F15*$I$3*$K$3*$M$3*$O$3)*N15 -> 0 | P15: 5 | Q15: =$F15*$I$3*$K$3*$M$3*$O$3*$Q$3*P15 -> 0 | R15: 5 | S15: =$F15*$I$3*$K$3*$M$3*$O$3*$Q$3*$S$3*R15 -> 0 | T15: 5 | U15: =$F15*$I$3*$K$3*$M$3*$O$3*$Q$3*$S$3*$U$3*T15 -> 0
C16: Aspiratie systeem paragraaf 4.3.6
A17: 9 | B17: =B$6&"."&A17 -> 10.9 | C17: XTRALIS VESDA ASPIRATIEDETECTIE | D17: stuks | E17: 22 | F17: ='Prijzenboek regio N'!F17 -> 0 | G17: =E17*F17 -> 0 | H17: 17 | I17: =($F17*$I$3)*H17 -> 0 | J17: 17 | K17: =($F17*$I$3*$K$3)*J17 -> 0 | L17: 17 | M17: =$F17*$I$3*$K$3*$M$3*L17 -> 0 | N17: 17 | O17: =($F17*$I$3*$K$3*$M$3*$O$3)*N17 -> 0 | P17: 17 | Q17: =$F17*$I$3*$K$3*$M$3*$O$3*$Q$3*P17 -> 0 | R17: 17 | S17: =$F17*$I$3*$K$3*$M$3*$O$3*$Q$3*$S$3*R17 -> 0 | T17: 17 | U17: =$F17*$I$3*$K$3*$M$3*$O$3*$Q$3*$S$3*$U$3*T17 -> 0
C18: Brandmeldinstallatie paragraaf 4.3.7
A19: 10 | B19: =B$6&"."&A19 -> 10.10 | C19: Controle hand, rook melder en temperatuur melder BMI (Prijs per melder) | D19: stuks | E19: 25 | F19: ='Prijzenboek regio N'!F19 -> 0 | G19: =E19*F19 -> 0 | H19: 22 | I19: =($F19*$I$3)*H19 -> 0 | J19: 22 | K19: =($F19*$I$3*$K$3)*J19 -> 0 | L19: 22 | M19: =$F19*$I$3*$K$3*$M$3*L19 -> 0 | N19: 22 | O19: =($F19*$I$3*$K$3*$M$3*$O$3)*N19 -> 0 | P19: 22 | Q19: =$F19*$I$3*$K$3*$M$3*$O$3*$Q$3*P19 -> 0 | R19: 22 | S19: =$F19*$I$3*$K$3*$M$3*$O$3*$Q$3*$S$3*R19 -> 0 | T19: 12 | U19: =$F19*$I$3*$K$3*$M$3*$O$3*$Q$3*$S$3*$U$3*T19 -> 0
A20: 11 | B20: =B$6&"."&A20 -> 10.11 | C20: Neventableau | D20: stuks | E20: 12 | F20: ='Prijzenboek regio N'!F20 -> 0 | G20: =E20*F20 -> 0 | H20: 12 | I20: =($F20*$I$3)*H20 -> 0 | J20: 12 | K20: =($F20*$I$3*$K$3)*J20 -> 0 | L20: 12 | M20: =$F20*$I$3*$K$3*$M$3*L20 -> 0 | N20: 12 | O20: =($F20*$I$3*$K$3*$M$3*$O$3)*N20 -> 0 | P20: 12 | Q20: =$F20*$I$3*$K$3*$M$3*$O$3*$Q$3*P20 -> 0 | R20: 12 | S20: =$F20*$I$3*$K$3*$M$3*$O$3*$Q$3*$S$3*R20 -> 0 | T20: 37 | U20: =$F20*$I$3*$K$3*$M$3*$O$3*$Q$3*$S$3*$U$3*T20 -> 0
A21: 12 | B21: =B$6&"."&A21 -> 10.12 | C21: Doormeldingen | D21: ruimte | E21: 37 | F21: ='Prijzenboek regio N'!F21 -> 0 | G21: =E21*F21 -> 0 | H21: 37 | I21: =($F21*$I$3)*H21 -> 0 | J21: 37 | K21: =($F21*$I$3*$K$3)*J21 -> 0 | L21: 37 | M21: =$F21*$I$3*$K$3*$M$3*L21 -> 0 | N21: 37 | O21: =($F21*$I$3*$K$3*$M$3*$O$3)*N21 -> 0 | P21: 37 | Q21: =$F21*$I$3*$K$3*$M$3*$O$3*$Q$3*P21 -> 0 | R21: 37 | S21: =$F21*$I$3*$K$3*$M$3*$O$3*$Q$3*$S$3*R21 -> 0 | T21: 16 | U21: =$F21*$I$3*$K$3*$M$3*$O$3*$Q$3*$S$3*$U$3*T21 -> 0
A22: 13 | B22: =B$6&"."&A22 -> 10.13 | C22: Inspectie en onderhoud BMI 12m | D22: stuks | E22: 16 | F22: ='Prijzenboek regio N'!F22 -> 0 | G22: =E22*F22 -> 0 | H22: 16 | I22: =($F22*$I$3)*H22 -> 0 | J22: 16 | K22: =($F22*$I$3*$K$3)*J22 -> 0 | L22: 16 | M22: =$F22*$I$3*$K$3*$M$3*L22 -> 0 | N22: 16 | O22: =($F22*$I$3*$K$3*$M$3*$O$3)*N22 -> 0 | P22: 16 | Q22: =$F22*$I$3*$K$3*$M$3*$O$3*$Q$3*P22 -> 0 | R22: 16 | S22: =$F22*$I$3*$K$3*$M$3*$O$3*$Q$3*$S$3*R22 -> 0 | T22: 2 | U22: =$F22*$I$3*$K$3*$M$3*$O$3*$Q$3*$S$3*$U$3*T22 -> 0
A23: 14 | B23: =B$6&"."&A23 -> 10.14 | C23: 07-B1 CCV insp en odh VBB blusgas 1j | D23: stuks | E23: 2 | F23: ='Prijzenboek regio N'!F23 -> 0 | G23: =E23*F23 -> 0 | H23: 2 | I23: =($F23*$I$3)*H23 -> 0 | J23: 2 | K23: =($F23*$I$3*$K$3)*J23 -> 0 | L23: 2 | M23: =$F23*$I$3*$K$3*$M$3*L23 -> 0 | N23: 2 | O23: =($F23*$I$3*$K$3*$M$3*$O$3)*N23 -> 0 | P23: 2 | Q23: =$F23*$I$3*$K$3*$M$3*$O$3*$Q$3*P23 -> 0 | R23: 2 | S23: =$F23*$I$3*$K$3*$M$3*$O$3*$Q$3*$S$3*R23 -> 0 | T23: 2 | U23: =$F23*$I$3*$K$3*$M$3*$O$3*$Q$3*$S$3*$U$3*T23 -> 0
A24: 15 | B24: =B$6&"."&A24 -> 10.15 | C24: 07-B2 CCV insp en odh blusgas 5j | D24: stuks | E24: 2 | F24: ='Prijzenboek regio N'!F24 -> 0 | G24: =E24*F24 -> 0 | I24: =($F24*$I$3)*H24 -> 0 | K24: =($F24*$I$3*$K$3)*J24 -> 0 | M24: =$F24*$I$3*$K$3*$M$3*L24 -> 0 | O24: =($F24*$I$3*$K$3*$M$3*$O$3)*N24 -> 0 | P24: 2 | Q24: =$F24*$I$3*$K$3*$M$3*$O$3*$Q$3*P24 -> 0 | S24: =$F24*$I$3*$K$3*$M$3*$O$3*$Q$3*$S$3*R24 -> 0 | U24: =$F24*$I$3*$K$3*$M$3*$O$3*$Q$3*$S$3*$U$3*T24 -> 0
C25: Mechanische luchtbehandeling
A26: 16 | B26: =B$6&"."&A26 -> 10.16 | C26: Onderhoud / inspectie stoombevochtiger | D26: stuks | E26: 17 | F26: ='Prijzenboek regio N'!F26 -> 0 | G26: =E26*F26 -> 0 | H26: 17 | I26: =($F26*$I$3)*H26 -> 0 | J26: 17 | K26: =($F26*$I$3*$K$3)*J26 -> 0 | L26: 17 | M26: =$F26*$I$3*$K$3*$M$3*L26 -> 0 | N26: 17 | O26: =($F26*$I$3*$K$3*$M$3*$O$3)*N26 -> 0 | P26: 17 | Q26: =$F26*$I$3*$K$3*$M$3*$O$3*$Q$3*P26 -> 0 | R26: 17 | S26: =$F26*$I$3*$K$3*$M$3*$O$3*$Q$3*$S$3*R26 -> 0 | T26: 17 | U26: =$F26*$I$3*$K$3*$M$3*$O$3*$Q$3*$S$3*$U$3*T26 -> 0
C27: Klimaatregelinstallatie paragraaf 4.3.9
A28: 17 | B28: =B$6&"."&A28 -> 10.17 | C28: Softwarecontrole 1j | D28: stuks | E28: 7 | F28: ='Prijzenboek regio N'!F28 -> 0 | G28: =E28*F28 -> 0 | H28: 7 | I28: =($F28*$I$3)*H28 -> 0 | J28: 7 | K28: =($F28*$I$3*$K$3)*J28 -> 0 | L28: 7 | M28: =$F28*$I$3*$K$3*$M$3*L28 -> 0 | N28: 7 | O28: =($F28*$I$3*$K$3*$M$3*$O$3)*N28 -> 0 | P28: 7 | Q28: =$F28*$I$3*$K$3*$M$3*$O$3*$Q$3*P28 -> 0 | R28: 7 | S28: =$F28*$I$3*$K$3*$M$3*$O$3*$Q$3*$S$3*R28 -> 0 | T28: 7 | U28: =$F28*$I$3*$K$3*$M$3*$O$3*$Q$3*$S$3*$U$3*T28 -> 0
A29: 18 | B29: =B$6&"."&A29 -> 10.18 | C29: Onderhoud klimaatregelinstallatie 1j | D29: stuks | E29: 7 | F29: ='Prijzenboek regio N'!F29 -> 0 | G29: =E29*F29 -> 0 | H29: 7 | I29: =($F29*$I$3)*H29 -> 0 | J29: 7 | K29: =($F29*$I$3*$K$3)*J29 -> 0 | L29: 7 | M29: =$F29*$I$3*$K$3*$M$3*L29 -> 0 | N29: 7 | O29: =($F29*$I$3*$K$3*$M$3*$O$3)*N29 -> 0 | P29: 7 | Q29: =$F29*$I$3*$K$3*$M$3*$O$3*$Q$3*P29 -> 0 | R29: 7 | S29: =$F29*$I$3*$K$3*$M$3*$O$3*$Q$3*$S$3*R29 -> 0 | T29: 7 | U29: =$F29*$I$3*$K$3*$M$3*$O$3*$Q$3*$S$3*$U$3*T29 -> 0
A30: 19 | B30: =B$6&"."&A30 -> 10.19 | C30: Onderhoud klimaatregelinstallatie 4j vervangen back-up accu | D30: stuks | E30: 2 | F30: ='Prijzenboek regio N'!F30 -> 0 | G30: =E30*F30 -> 0 | H30: 2 | I30: =($F30*$I$3)*H30 -> 0 | J30: 2 | K30: =($F30*$I$3*$K$3)*J30 -> 0 | L30: 2 | M30: =$F30*$I$3*$K$3*$M$3*L30 -> 0 | N30: 2 | O30: =($F30*$I$3*$K$3*$M$3*$O$3)*N30 -> 0 | P30: 2 | Q30: =$F30*$I$3*$K$3*$M$3*$O$3*$Q$3*P30 -> 0 | R30: 2 | S30: =$F30*$I$3*$K$3*$M$3*$O$3*$Q$3*$S$3*R30 -> 0 | T30: 2 | U30: =$F30*$I$3*$K$3*$M$3*$O$3*$Q$3*$S$3*$U$3*T30 -> 0
C31: Brandwerende doorvoeringen paragraaf 4.3.3
A32: 20 | B32: =B$6&"."&A32 -> 10.20 | C32: Visuele inspectie brandwerende doorvoeringen | D32: Ruimte | E32: 11 | F32: ='Prijzenboek regio N'!F32 -> 0 | G32: =E32*F32 -> 0 | H32: 11 | I32: =($F32*$I$3)*H32 -> 0 | J32: 11 | K32: =($F32*$I$3*$K$3)*J32 -> 0 | L32: 11 | M32: =$F32*$I$3*$K$3*$M$3*L32 -> 0 | N32: 11 | O32: =($F32*$I$3*$K$3*$M$3*$O$3)*N32 -> 0 | P32: 11 | Q32: =$F32*$I$3*$K$3*$M$3*$O$3*$Q$3*P32 -> 0 | R32: 11 | S32: =$F32*$I$3*$K$3*$M$3*$O$3*$Q$3*$S$3*R32 -> 0 | T32: 11 | U32: =$F32*$I$3*$K$3*$M$3*$O$3*$Q$3*$S$3*$U$3*T32 -> 0
C33: Aardings- en Bliksembeveiligingsinstallaties paragraaf 4.3.2
A34: 21 | B34: =B$6&"."&A34 -> 10.21 | C34: Periodiek Inspectie geleidende vloer per ruimte incl. opstellen rapport | D34: Ruimte | E34: 22 | F34: ='Prijzenboek regio N'!F34 -> 0 | G34: =E34*F34 -> 0 | H34: 22 | I34: =($F34*$I$3)*H34 -> 0 | J34: 22 | K34: =($F34*$I$3*$K$3)*J34 -> 0 | L34: 22 | M34: =$F34*$I$3*$K$3*$M$3*L34 -> 0 | N34: 22 | O34: =($F34*$I$3*$K$3*$M$3*$O$3)*N34 -> 0 | P34: 22 | Q34: =$F34*$I$3*$K$3*$M$3*$O$3*$Q$3*P34 -> 0 | R34: 22 | S34: =$F34*$I$3*$K$3*$M$3*$O$3*$Q$3*$S$3*R34 -> 0 | T34: 22 | U34: =$F34*$I$3*$K$3*$M$3*$O$3*$Q$3*$S$3*$U$3*T34 -> 0
A35: 22 | B35: =B$6&"."&A35 -> 10.22 | C35: Periodiek Inspectie statische aardstrip/aardrail en aardpunten per ruimte inclusief opstellen rapporten. | D35: Ruimte | E35: 31 | F35: ='Prijzenboek regio N'!F35 -> 0 | G35: =E35*F35 -> 0 | H35: 31 | I35: =($F35*$I$3)*H35 -> 0 | J35: 31 | K35: =($F35*$I$3*$K$3)*J35 -> 0 | L35: 31 | M35: =$F35*$I$3*$K$3*$M$3*L35 -> 0 | N35: 31 | O35: =($F35*$I$3*$K$3*$M$3*$O$3)*N35 -> 0 | P35: 31 | Q35: =$F35*$I$3*$K$3*$M$3*$O$3*$Q$3*P35 -> 0 | R35: 31 | S35: =$F35*$I$3*$K$3*$M$3*$O$3*$Q$3*$S$3*R35 -> 0 | T35: 31 | U35: =$F35*$I$3*$K$3*$M$3*$O$3*$Q$3*$S$3*$U$3*T35 -> 0
C36: Periodieke inspecties laagspanning paragraaf 4.3.4
A37: 23 | B37: =B$6&"."&A37 -> 10.23 | C37: Periodieke inspectie elektrische installatie 1j | D37: Ruimte | E37: 31 | F37: ='Prijzenboek regio N'!F37 -> 0 | G37: =E37*F37 -> 0 | H37: 0 | I37: =($F37*$I$3)*H37 -> 0 | J37: 31 | K37: =($F37*$I$3*$K$3)*J37 -> 0 | L37: 31 | M37: =$F37*$I$3*$K$3*$M$3*L37 -> 0 | N37: 31 | O37: =($F37*$I$3*$K$3*$M$3*$O$3)*N37 -> 0 | P37: 0 | Q37: =$F37*$I$3*$K$3*$M$3*$O$3*$Q$3*P37 -> 0 | R37: 31 | S37: =$F37*$I$3*$K$3*$M$3*$O$3*$Q$3*$S$3*R37 -> 0 | T37: 31 | U37: =$F37*$I$3*$K$3*$M$3*$O$3*$Q$3*$S$3*$U$3*T37 -> 0
A38: 24 | B38: =B$6&"."&A38 -> 10.24 | C38: Periodieke inspectie elektrische installatie 4j | D38: Ruimte | E38: 0 | F38: ='Prijzenboek regio N'!F38 -> 0 | G38: =E38*F38 -> 0 | H38: 31 | I38: =($F38*$I$3)*H38 -> 0 | J38: 0 | K38: =($F38*$I$3*$K$3)*J38 -> 0 | L38: 0 | M38: =$F38*$I$3*$K$3*$M$3*L38 -> 0 | N38: 0 | O38: =($F38*$I$3*$K$3*$M$3*$O$3)*N38 -> 0 | P38: 31 | Q38: =$F38*$I$3*$K$3*$M$3*$O$3*$Q$3*P38 -> 0 | R38: 0 | S38: =$F38*$I$3*$K$3*$M$3*$O$3*$Q$3*$S$3*R38 -> 0 | T38: 0 | U38: =$F38*$I$3*$K$3*$M$3*$O$3*$Q$3*$S$3*$U$3*T38 -> 0
C39: Noodverlichtingsinstallaties paragraaf 4.3.5
A40: 25 | B40: =B$6&"."&A40 -> 10.25 | C40: Periodieke inspectie en onderhoud noodverlichting 1j, decentrale noodverliching per ruimte met 1 t/ m 10 armaturen | D40: Ruimte | E40: 33 | F40: ='Prijzenboek regio N'!F40 -> 0 | G40: =E40*F40 -> 0 | H40: 33 | I40: =($F40*$I$3)*H40 -> 0 | J40: 33 | K40: =($F40*$I$3*$K$3)*J40 -> 0 | L40: 33 | M40: =$F40*$I$3*$K$3*$M$3*L40 -> 0 | N40: 33 | O40: =($F40*$I$3*$K$3*$M$3*$O$3)*N40 -> 0 | P40: 33 | Q40: =$F40*$I$3*$K$3*$M$3*$O$3*$Q$3*P40 -> 0 | R40: 33 | S40: =$F40*$I$3*$K$3*$M$3*$O$3*$Q$3*$S$3*R40 -> 0 | T40: 33 | U40: =$F40*$I$3*$K$3*$M$3*$O$3*$Q$3*$S$3*$U$3*T40 -> 0
C41: Koelinstallatie paragraaf 4.3.9
...

Sheet Prijzenboek regio O
B1: Prijzenboek Regio Oost
F2: 2024 | I2: 2025 | K2: 2026 | M2: 2027 | O2: 2028 | Q2: 2029 | S2: 2030 | U2: 2031
H3: Indexering | I3: 1 | J3: Indexering | K3: 1 | L3: Indexering | M3: 1 | N3: Indexering | O3: 1 | P3: Indexering | Q3: 1 | R3: Indexering | S3: 1 | T3: Indexering | U3: 1
B5: Blok | D5: Eenheid | E5: Aantallen (fictief per jaar) | F5: Verrekenprijs (per eenheid) | G5: Prijs (aantal x eenheidsprijs) | H5: Aantallen (fictief per jaar) | I5: Prijs (aantal x indexering x eenheidsprijs) | J5: Aantallen (fictief per jaar) | K5: Prijs (aantal x indexering x eenheidsprijs) | L5: Aantallen (fictief per jaar) | M5: Prijs (aantal x indexering x eenheidsprijs) | N5: Aantallen (fictief per jaar) | O5: Prijs (aantal x indexering x eenheidsprijs) | P5: Aantallen (fictief per jaar) | Q5: Prijs (aantal x indexering x eenheidsprijs) | R5: Aantallen (fictief per jaar) | S5: Prijs (aantal x indexering x eenheidsprijs) | T5: Aantallen (fictief per jaar) | U5: Prijs (aantal x indexering x eenheidsprijs)
B6: 10 | C6: Preventief Onderhoud volgens Keuringsplan
C7: Noodstroominstallaties paragraaf 4.3.3
A8: 1 | B8: =B$6&"."&A8 -> 10.1 | C8: Onderhoud Statische No-break 1j -48V | D8: Ruimte | E8: 22 | F8: ='Prijzenboek regio N'!F8 -> 0 | G8: =E8*F8 -> 0 | H8: 22 | I8: =($F8*$I$3)*H8 -> 0 | J8: 22 | K8: =$F8*$I$3*$K$3*J8 -> 0 | L8: 22 | M8: =($F8*$I$3*$K$3*$M$3)*L8 -> 0 | N8: 22 | O8: =($F8*$I$3*$K$3*$M$3*$O$3)*N8 -> 0 | P8: 22 | Q8: =$F8*$I$3*$K$3*$M$3*$O$3*$Q$3*P8 -> 0 | R8: 22 | S8: =$F8*$I$3*$K$3*$M$3*$O$3*$Q$3*$S$3*R8 -> 0 | T8: 22 | U8: =$F8*$I$3*$K$3*$M$3*$O$3*$Q$3*$S$3*$U$3*T8 -> 0
A9: 2 | B9: =B$6&"."&A9 -> 10.2 | C9: Onderhoud / inspectie rectifier | D9: stuks | E9: 95 | F9: ='Prijzenboek regio N'!F9 -> 0 | G9: =E9*F9 -> 0 | H9: 86 | I9: =($F9*$I$3)*H9 -> 0 | J9: 77 | K9: =$F9*$I$3*$K$3*J9 -> 0 | L9: 68 | M9: =$F9*$I$3*$K$3*$M$3*L9 -> 0 | N9: 61 | O9: =($F9*$I$3*$K$3*$M$3*$O$3)*N9 -> 0 | P9: 52 | Q9: =$F9*$I$3*$K$3*$M$3*$O$3*$Q$3*P9 -> 0 | R9: 43 | S9: =$F9*$I$3*$K$3*$M$3*$O$3*$Q$3*$S$3*R9 -> 0 | T9: 34 | U9: =$F9*$I$3*$K$3*$M$3*$O$3*$Q$3*$S$3*$U$3*T9 -> 0
A10: 3 | B10: =B$6&"."&A10 -> 10.3 | C10: Onderhoud / inspectie inverter | D10: stuks | E10: 17 | F10: ='Prijzenboek regio N'!F10 -> 0 | G10: =E10*F10 -> 0 | H10: 16 | I10: =($F10*$I$3)*H10 -> 0 | J10: 15 | K10: =($F10*$I$3*$K$3)*J10 -> 0 | L10: 14 | M10: =$F10*$I$3*$K$3*$M$3*L10 -> 0 | N10: 13 | O10: =($F10*$I$3*$K$3*$M$3*$O$3)*N10 -> 0 | P10: 12 | Q10: =$F10*$I$3*$K$3*$M$3*$O$3*$Q$3*P10 -> 0 | R10: 11 | S10: =$F10*$I$3*$K$3*$M$3*$O$3*$Q$3*$S$3*R10 -> 0 | T10: 10 | U10: =$F10*$I$3*$K$3*$M$3*$O$3*$Q$3*$S$3*$U$3*T10 -> 0
A11: 4 | B11: =B$6&"."&A11 -> 10.4 | C11: Onderhoud / inspectie accu's en Siemens meting (per accu) | D11: stuks | E11: 196 | F11: ='Prijzenboek regio N'!F11 -> 0 | G11: =E11*F11 -> 0 | H11: 176 | I11: =($F11*$I$3)*H11 -> 0 | J11: 156 | K11: =($F11*$I$3*$K$3)*J11 -> 0 | L11: 136 | M11: =$F11*$I$3*$K$3*$M$3*L11 -> 0 | N11: 116 | O11: =($F11*$I$3*$K$3*$M$3*$O$3)*N11 -> 0 | P11: 96 | Q11: =$F11*$I$3*$K$3*$M$3*$O$3*$Q$3*P11 -> 0 | R11: 76 | S11: =$F11*$I$3*$K$3*$M$3*$O$3*$Q$3*$S$3*R11 -> 0 | T11: 56 | U11: =$F11*$I$3*$K$3*$M$3*$O$3*$Q$3*$S$3*$U$3*T11 -> 0
A12: 5 | B12: =B$6&"."&A12 -> 10.5 | C12: Inspectie HPDE afdichtingen | D12: stuks | E12: 146 | F12: ='Prijzenboek regio N'!F12 -> 0 | G12: =E12*F12 -> 0 | H12: 146 | I12: =($F12*$I$3)*H12 -> 0 | J12: 146 | K12: =($F12*$I$3*$K$3)*J12 -> 0 | L12: 146 | M12: =$F12*$I$3*$K$3*$M$3*L12 -> 0 | N12: 146 | O12: =($F12*$I$3*$K$3*$M$3*$O$3)*N12 -> 0 | P12: 146 | Q12: =$F12*$I$3*$K$3*$M$3*$O$3*$Q$3*P12 -> 0 | R12: 146 | S12: =$F12*$I$3*$K$3*$M$3*$O$3*$Q$3*$S$3*R12 -> 0 | T12: 146 | U12: =$F12*$I$3*$K$3*$M$3*$O$3*$Q$3*$S$3*$U$3*T12 -> 0
A13: 6 | B13: =B$6&"."&A13 -> 10.6 | C13: Controleren doormeldingen naar ITOC | D13: Ruimte | E13: 22 | F13: ='Prijzenboek regio N'!F13 -> 0 | G13: =E13*F13 -> 0 | H13: 22 | I13: =($F13*$I$3)*H13 -> 0 | J13: 22 | K13: =$F13*$I$3*$K$3*J13 -> 0 | L13: 22 | M13: =($F13*$I$3*$K$3*$M$3)*L13 -> 0 | N13: 22 | O13: =($F13*$I$3*$K$3*$M$3*$O$3)*N13 -> 0 | P13: 22 | Q13: =$F13*$I$3*$K$3*$M$3*$O$3*$Q$3*P13 -> 0 | R13: 22 | S13: =$F13*$I$3*$K$3*$M$3*$O$3*$Q$3*$S$3*R13 -> 0 | T13: 22 | U13: =$F13*$I$3*$K$3*$M$3*$O$3*$Q$3*$S$3*$U$3*T13 -> 0
A14: 7 | B14: =B$6&"."&A14 -> 10.7 | C14: Onderhoud Statische No-break 1j (priva) | D14: stuks | E14: 2 | F14: ='Prijzenboek regio N'!F14 -> 0 | G14: =E14*F14 -> 0 | H14: 2 | I14: =($F14*$I$3)*H14 -> 0 | J14: 2 | K14: =($F14*$I$3*$K$3)*J14 -> 0 | L14: 2 | M14: =$F14*$I$3*$K$3*$M$3*L14 -> 0 | N14: 2 | O14: =($F14*$I$3*$K$3*$M$3*$O$3)*N14 -> 0 | P14: 2 | Q14: =$F14*$I$3*$K$3*$M$3*$O$3*$Q$3*P14 -> 0 | R14: 2 | S14: =$F14*$I$3*$K$3*$M$3*$O$3*$Q$3*$S$3*R14 -> 0 | T14: 2 | U14: =$F14*$I$3*$K$3*$M$3*$O$3*$Q$3*$S$3*$U$3*T14 -> 0
A15: 8 | B15: =B$6&"."&A15 -> 10.8 | C15: Onderhoud Statische No-break 1j | D15: stuks | E15: 14 | F15: ='Prijzenboek regio N'!F15 -> 0 | G15: =E15*F15 -> 0 | H15: 5 | I15: =($F15*$I$3)*H15 -> 0 | J15: 5 | K15: =($F15*$I$3*$K$3)*J15 -> 0 | L15: 5 | M15: =$F15*$I$3*$K$3*$M$3*L15 -> 0 | N15: 5 | O15: =($F15*$I$3*$K$3*$M$3*$O$3)*N15 -> 0 | P15: 5 | Q15: =$F15*$I$3*$K$3*$M$3*$O$3*$Q$3*P15 -> 0 | R15: 5 | S15: =$F15*$I$3*$K$3*$M$3*$O$3*$Q$3*$S$3*R15 -> 0 | T15: 5 | U15: =$F15*$I$3*$K$3*$M$3*$O$3*$Q$3*$S$3*$U$3*T15 -> 0
C16: Aspiratie systeem paragraaf 4.3.6
A17: 9 | B17: =B$6&"."&A17 -> 10.9 | C17: XTRALIS VESDA ASPIRATIEDETECTIE | D17: stuks | E17: 17 | F17: ='Prijzenboek regio N'!F17 -> 0 | G17: =E17*F17 -> 0 | H17: 17 | I17: =($F17*$I$3)*H17 -> 0 | J17: 17 | K17: =($F17*$I$3*$K$3)*J17 -> 0 | L17: 17 | M17: =$F17*$I$3*$K$3*$M$3*L17 -> 0 | N17: 17 | O17: =($F17*$I$3*$K$3*$M$3*$O$3)*N17 -> 0 | P17: 17 | Q17: =$F17*$I$3*$K$3*$M$3*$O$3*$Q$3*P17 -> 0 | R17: 17 | S17: =$F17*$I$3*$K$3*$M$3*$O$3*$Q$3*$S$3*R17 -> 0 | T17: 17 | U17: =$F17*$I$3*$K$3*$M$3*$O$3*$Q$3*$S$3*$U$3*T17 -> 0
C18: Brandmeldinstallatie paragraaf 4.3.7
A19: 10 | B19: =B$6&"."&A19 -> 10.10 | C19: Controle hand, rook melder en temperatuur melder BMI (Prijs per melder) | D19: stuks | E19: 22 | F19: ='Prijzenboek regio N'!F19 -> 0 | G19: =E19*F19 -> 0 | H19: 22 | I19: =($F19*$I$3)*H19 -> 0 | J19: 22 | K19: =($F19*$I$3*$K$3)*J19 -> 0 | L19: 22 | M19: =$F19*$I$3*$K$3*$M$3*L19 -> 0 | N19: 22 | O19: =($F19*$I$3*$K$3*$M$3*$O$3)*N19 -> 0 | P19: 22 | Q19: =$F19*$I$3*$K$3*$M$3*$O$3*$Q$3*P19 -> 0 | R19: 22 | S19: =$F19*$I$3*$K$3*$M$3*$O$3*$Q$3*$S$3*R19 -> 0 | T19: 22 | U19: =$F19*$I$3*$K$3*$M$3*$O$3*$Q$3*$S$3*$U$3*T19 -> 0
A20: 11 | B20: =B$6&"."&A20 -> 10.11 | C20: Neventableau | D20: stuks | E20: 6 | F20: ='Prijzenboek regio N'!F20 -> 0 | G20: =E20*F20 -> 0 | H20: 6 | I20: =($F20*$I$3)*H20 -> 0 | J20: 6 | K20: =($F20*$I$3*$K$3)*J20 -> 0 | L20: 6 | M20: =$F20*$I$3*$K$3*$M$3*L20 -> 0 | N20: 6 | O20: =($F20*$I$3*$K$3*$M$3*$O$3)*N20 -> 0 | P20: 6 | Q20: =$F20*$I$3*$K$3*$M$3*$O$3*$Q$3*P20 -> 0 | R20: 6 | S20: =$F20*$I$3*$K$3*$M$3*$O$3*$Q$3*$S$3*R20 -> 0 | T20: 6 | U20: =$F20*$I$3*$K$3*$M$3*$O$3*$Q$3*$S$3*$U$3*T20 -> 0
A21: 12 | B21: =B$6&"."&A21 -> 10.12 | C21: Doormeldingen | D21: ruimte | E21: 22 | F21: ='Prijzenboek regio N'!F21 -> 0 | G21: =E21*F21 -> 0 | H21: 22 | I21: =($F21*$I$3)*H21 -> 0 | J21: 22 | K21: =($F21*$I$3*$K$3)*J21 -> 0 | L21: 22 | M21: =$F21*$I$3*$K$3*$M$3*L21 -> 0 | N21: 22 | O21: =($F21*$I$3*$K$3*$M$3*$O$3)*N21 -> 0 | P21: 22 | Q21: =$F21*$I$3*$K$3*$M$3*$O$3*$Q$3*P21 -> 0 | R21: 22 | S21: =$F21*$I$3*$K$3*$M$3*$O$3*$Q$3*$S$3*R21 -> 0 | T21: 22 | U21: =$F21*$I$3*$K$3*$M$3*$O$3*$Q$3*$S$3*$U$3*T21 -> 0
A22: 13 | B22: =B$6&"."&A22 -> 10.13 | C22: Inspectie en onderhoud BMI 12m | D22: stuks | E22: 17 | F22: ='Prijzenboek regio N'!F22 -> 0 | G22: =E22*F22 -> 0 | H22: 17 | I22: =($F22*$I$3)*H22 -> 0 | J22: 17 | K22: =($F22*$I$3*$K$3)*J22 -> 0 | L22: 17 | M22: =$F22*$I$3*$K$3*$M$3*L22 -> 0 | N22: 17 | O22: =($F22*$I$3*$K$3*$M$3*$O$3)*N22 -> 0 | P22: 17 | Q22: =$F22*$I$3*$K$3*$M$3*$O$3*$Q$3*P22 -> 0 | R22: 17 | S22: =$F22*$I$3*$K$3*$M$3*$O$3*$Q$3*$S$3*R22 -> 0 | T22: 17 | U22: =$F22*$I$3*$K$3*$M$3*$O$3*$Q$3*$S$3*$U$3*T22 -> 0
A23: 14 | B23: =B$6&"."&A23 -> 10.14 | C23: 07-B1 CCV insp en odh VBB blusgas 1j | D23: stuks | E23: 0 | F23: ='Prijzenboek regio N'!F23 -> 0 | G23: =E23*F23 -> 0 | H23: 0 | I23: =($F23*$I$3)*H23 -> 0 | J23: 0 | K23: =($F23*$I$3*$K$3)*J23 -> 0 | L23: 0 | M23: =$F23*$I$3*$K$3*$M$3*L23 -> 0 | N23: 0 | O23: =($F23*$I$3*$K$3*$M$3*$O$3)*N23 -> 0 | P23: 0 | Q23: =$F23*$I$3*$K$3*$M$3*$O$3*$Q$3*P23 -> 0 | R23: 0 | S23: =$F23*$I$3*$K$3*$M$3*$O$3*$Q$3*$S$3*R23 -> 0 | T23: 0 | U23: =$F23*$I$3*$K$3*$M$3*$O$3*$Q$3*$S$3*$U$3*T23 -> 0
A24: 15 | B24: =B$6&"."&A24 -> 10.15 | C24: 07-B2 CCV insp en odh blusgas 5j | D24: stuks | E24: 0 | F24: ='Prijzenboek regio N'!F24 -> 0 | G24: =E24*F24 -> 0 | H24: 0 | I24: =($F24*$I$3)*H24 -> 0 | J24: 0 | K24: =($F24*$I$3*$K$3)*J24 -> 0 | L24: 0 | M24: =$F24*$I$3*$K$3*$M$3*L24 -> 0 | N24: 0 | O24: =($F24*$I$3*$K$3*$M$3*$O$3)*N24 -> 0 | P24: 0 | Q24: =$F24*$I$3*$K$3*$M$3*$O$3*$Q$3*P24 -> 0 | R24: 0 | S24: =$F24*$I$3*$K$3*$M$3*$O$3*$Q$3*$S$3*R24 -> 0 | T24: 0 | U24: =$F24*$I$3*$K$3*$M$3*$O$3*$Q$3*$S$3*$U$3*T24 -> 0
C25: Mechanische luchtbehandeling
A26: 16 | B26: =B$6&"."&A26 -> 10.16 | C26: Onderhoud / inspectie stoombevochtiger | D26: stuks | E26: 10 | F26: ='Prijzenboek regio N'!F26 -> 0 | G26: =E26*F26 -> 0 | H26: 10 | I26: =($F26*$I$3)*H26 -> 0 | J26: 10 | K26: =($F26*$I$3*$K$3)*J26 -> 0 | L26: 10 | M26: =$F26*$I$3*$K$3*$M$3*L26 -> 0 | N26: 10 | O26: =($F26*$I$3*$K$3*$M$3*$O$3)*N26 -> 0 | P26: 10 | Q26: =$F26*$I$3*$K$3*$M$3*$O$3*$Q$3*P26 -> 0 | R26: 10 | S26: =$F26*$I$3*$K$3*$M$3*$O$3*$Q$3*$S$3*R26 -> 0 | T26: 10 | U26: =$F26*$I$3*$K$3*$M$3*$O$3*$Q$3*$S$3*$U$3*T26 -> 0
C27: Klimaatregelinstallatie paragraaf 4.3.9
A28: 17 | B28: =B$6&"."&A28 -> 10.17 | C28: Softwarecontrole 1j | D28: stuks | E28: 6 | F28: ='Prijzenboek regio N'!F28 -> 0 | G28: =E28*F28 -> 0 | H28: 6 | I28: =($F28*$I$3)*H28 -> 0 | J28: 6 | K28: =($F28*$I$3*$K$3)*J28 -> 0 | L28: 6 | M28: =$F28*$I$3*$K$3*$M$3*L28 -> 0 | N28: 6 | O28: =($F28*$I$3*$K$3*$M$3*$O$3)*N28 -> 0 | P28: 6 | Q28: =$F28*$I$3*$K$3*$M$3*$O$3*$Q$3*P28 -> 0 | R28: 6 | S28: =$F28*$I$3*$K$3*$M$3*$O$3*$Q$3*$S$3*R28 -> 0 | T28: 6 | U28: =$F28*$I$3*$K$3*$M$3*$O$3*$Q$3*$S$3*$U$3*T28 -> 0
A29: 18 | B29: =B$6&"."&A29 -> 10.18 | C29: Onderhoud klimaatregelinstallatie 1j | D29: stuks | E29: 6 | F29: ='Prijzenboek regio N'!F29 -> 0 | G29: =E29*F29 -> 0 | H29: 6 | I29: =($F29*$I$3)*H29 -> 0 | J29: 6 | K29: =($F29*$I$3*$K$3)*J29 -> 0 | L29: 6 | M29: =$F29*$I$3*$K$3*$M$3*L29 -> 0 | N29: 6 | O29: =($F29*$I$3*$K$3*$M$3*$O$3)*N29 -> 0 | P29: 6 | Q29: =$F29*$I$3*$K$3*$M$3*$O$3*$Q$3*P29 -> 0 | R29: 6 | S29: =$F29*$I$3*$K$3*$M$3*$O$3*$Q$3*$S$3*R29 -> 0 | T29: 6 | U29: =$F29*$I$3*$K$3*$M$3*$O$3*$Q$3*$S$3*$U$3*T29 -> 0
A30: 19 | B30: =B$6&"."&A30 -> 10.19 | C30: Onderhoud klimaatregelinstallatie 4j vervangen back-up accu | D30: stuks | E30: 2 | F30: ='Prijzenboek regio N'!F30 -> 0 | G30: =E30*F30 -> 0 | H30: 2 | I30: =($F30*$I$3)*H30 -> 0 | J30: 2 | K30: =($F30*$I$3*$K$3)*J30 -> 0 | L30: 2 | M30: =$F30*$I$3*$K$3*$M$3*L30 -> 0 | N30: 2 | O30: =($F30*$I$3*$K$3*$M$3*$O$3)*N30 -> 0 | P30: 2 | Q30: =$F30*$I$3*$K$3*$M$3*$O$3*$Q$3*P30 -> 0 | R30: 2 | S30: =$F30*$I$3*$K$3*$M$3*$O$3*$Q$3*$S$3*R30 -> 0 | T30: 2 | U30: =$F30*$I$3*$K$3*$M$3*$O$3*$Q$3*$S$3*$U$3*T30 -> 0
C31: Brandwerende doorvoeringen paragraaf 4.3.3
A32: 20 | B32: =B$6&"."&A32 -> 10.20 | C32: Visuele inspectie brandwerende doorvoeringen | D32: Ruimte | E32: 19 | F32: ='Prijzenboek regio N'!F32 -> 0 | G32: =E32*F32 -> 0 | H32: 4 | I32: =($F32*$I$3)*H32 -> 0 | J32: 4 | K32: =($F32*$I$3*$K$3)*J32 -> 0 | L32: 4 | M32: =$F32*$I$3*$K$3*$M$3*L32 -> 0 | N32: 4 | O32: =($F32*$I$3*$K$3*$M$3*$O$3)*N32 -> 0 | P32: 4 | Q32: =$F32*$I$3*$K$3*$M$3*$O$3*$Q$3*P32 -> 0 | R32: 4 | S32: =$F32*$I$3*$K$3*$M$3*$O$3*$Q$3*$S$3*R32 -> 0 | T32: 4 | U32: =$F32*$I$3*$K$3*$M$3*$O$3*$Q$3*$S$3*$U$3*T32 -> 0
C33: Aardings- en Bliksembeveiligingsinstallaties paragraaf 4.3.2
A34: 21 | B34: =B$6&"."&A34 -> 10.21 | C34: Periodiek Inspectie geleidende vloer per ruimte incl. opstellen rapport | D34: Ruimte | E34: 12 | F34: ='Prijzenboek regio N'!F34 -> 0 | G34: =E34*F34 -> 0 | H34: 12 | I34: =($F34*$I$3)*H34 -> 0 | J34: 12 | K34: =($F34*$I$3*$K$3)*J34 -> 0 | L34: 12 | M34: =$F34*$I$3*$K$3*$M$3*L34 -> 0 | N34: 12 | O34: =($F34*$I$3*$K$3*$M$3*$O$3)*N34 -> 0 | P34: 12 | Q34: =$F34*$I$3*$K$3*$M$3*$O$3*$Q$3*P34 -> 0 | R34: 12 | S34: =$F34*$I$3*$K$3*$M$3*$O$3*$Q$3*$S$3*R34 -> 0 | T34: 12 | U34: =$F34*$I$3*$K$3*$M$3*$O$3*$Q$3*$S$3*$U$3*T34 -> 0
A35: 22 | B35: =B$6&"."&A35 -> 10.22 | C35: Periodiek Inspectie statische aardstrip/aardrail en aardpunten per ruimte inclusief opstellen rapporten. | D35: Ruimte | E35: 20 | F35: ='Prijzenboek regio N'!F35 -> 0 | G35: =E35*F35 -> 0 | H35: 20 | I35: =($F35*$I$3)*H35 -> 0 | J35: 20 | K35: =($F35*$I$3*$K$3)*J35 -> 0 | L35: 20 | M35: =$F35*$I$3*$K$3*$M$3*L35 -> 0 | N35: 20 | O35: =($F35*$I$3*$K$3*$M$3*$O$3)*N35 -> 0 | P35: 20 | Q35: =$F35*$I$3*$K$3*$M$3*$O$3*$Q$3*P35 -> 0 | R35: 20 | S35: =$F35*$I$3*$K$3*$M$3*$O$3*$Q$3*$S$3*R35 -> 0 | T35: 20 | U35: =$F35*$I$3*$K$3*$M$3*$O$3*$Q$3*$S$3*$U$3*T35 -> 0
C36: Periodieke inspecties laagspanning paragraaf 4.3.4
A37: 23 | B37: =B$6&"."&A37 -> 10.23 | C37: Periodieke inspectie elektrische installatie 1j | D37: Ruimte | E37: 20 | F37: ='Prijzenboek regio N'!F37 -> 0 | G37: =E37*F37 -> 0 | H37: 0 | I37: =($F37*$I$3)*H37 -> 0 | J37: 20 | K37: =($F37*$I$3*$K$3)*J37 -> 0 | L37: 20 | M37: =$F37*$I$3*$K$3*$M$3*L37 -> 0 | N37: 20 | O37: =($F37*$I$3*$K$3*$M$3*$O$3)*N37 -> 0 | P37: 0 | Q37: =$F37*$I$3*$K$3*$M$3*$O$3*$Q$3*P37 -> 0 | R37: 20 | S37: =$F37*$I$3*$K$3*$M$3*$O$3*$Q$3*$S$3*R37 -> 0 | T37: 20 | U37: =$F37*$I$3*$K$3*$M$3*$O$3*$Q$3*$S$3*$U$3*T37 -> 0
A38: 24 | B38: =B$6&"."&A38 -> 10.24 | C38: Periodieke inspectie elektrische installatie 4j | D38: Ruimte | E38: 0 | F38: ='Prijzenboek regio N'!F38 -> 0 | G38: =E38*F38 -> 0 | H38: 20 | I38: =($F38*$I$3)*H38 -> 0 | J38: 0 | K38: =($F38*$I$3*$K$3)*J38 -> 0 | L38: 0 | M38: =$F38*$I$3*$K$3*$M$3*L38 -> 0 | N38: 0 | O38: =($F38*$I$3*$K$3*$M$3*$O$3)*N38 -> 0 | P38: 20 | Q38: =$F38*$I$3*$K$3*$M$3*$O$3*$Q$3*P38 -> 0 | R38: 0 | S38: =$F38*$I$3*$K$3*$M$3*$O$3*$Q$3*$S$3*R38 -> 0 | T38: 0 | U38: =$F38*$I$3*$K$3*$M$3*$O$3*$Q$3*$S$3*$U$3*T38 -> 0
C39: Noodverlichtingsinstallaties paragraaf 4.3.5
A40: 25 | B40: =B$6&"."&A40 -> 10.25 | C40: Periodieke inspectie en onderhoud noodverlichting 1j, decentrale noodverliching per ruimte met 1 t/ m 10 armaturen | D40: Ruimte | E40: 21 | F40: ='Prijzenboek regio N'!F40 -> 0 | G40: =E40*F40 -> 0 | H40: 20 | I40: =($F40*$I$3)*H40 -> 0 | J40: 20 | K40: =($F40*$I$3*$K$3)*J40 -> 0 | L40: 20 | M40: =$F40*$I$3*$K$3*$M$3*L40 -> 0 | N40: 20 | O40: =($F40*$I$3*$K$3*$M$3*$O$3)*N40 -> 0 | P40: 20 | Q40: =$F40*$I$3*$K$3*$M$3*$O$3*$Q$3*P40 -> 0 | R40: 20 | S40: =$F40*$I$3*$K$3*$M$3*$O$3*$Q$3*$S$3*R40 -> 0 | T40: 20 | U40: =$F40*$I$3*$K$3*$M$3*$O$3*$Q$3*$S$3*$U$3*T40 -> 0
C41: Koelinstallatie paragraaf 4.3.9
...

Sheet Prijzenboek regio Z
B1: Prijzenboek Regio Zuid
F2: 2024 | I2: 2025 | K2: 2026 | M2: 2027 | O2: 2028 | Q2: 2029 | S2: 2030 | U2: 2031
H3: Indexering | I3: 1 | J3: Indexering | K3: 1 | L3: Indexering | M3: 1 | N3: Indexering | O3: 1 | P3: Indexering | Q3: 1 | R3: Indexering | S3: 1 | T3: Indexering | U3: 1
B5: Blok | D5: Eenheid | E5: Aantallen (fictief per jaar) | F5: Verrekenprijs (per eenheid) | G5: Prijs (aantal x eenheidsprijs) | H5: Aantallen (fictief per jaar) | I5: Prijs (aantal x indexering x eenheidsprijs) | J5: Aantallen (fictief per jaar) | K5: Prijs (aantal x indexering x eenheidsprijs) | L5: Aantallen (fictief per jaar) | M5: Prijs (aantal x indexering x eenheidsprijs) | N5: Aantallen (fictief per jaar) | O5: Prijs (aantal x indexering x eenheidsprijs) | P5: Aantallen (fictief per jaar) | Q5: Prijs (aantal x indexering x eenheidsprijs) | R5: Aantallen (fictief per jaar) | S5: Prijs (aantal x indexering x eenheidsprijs) | T5: Aantallen (fictief per jaar) | U5: Prijs (aantal x indexering x eenheidsprijs)
B6: 10 | C6: Preventief Onderhoud volgens Keuringsplan
C7: Noodstroominstallaties paragraaf 4.3.3
A8: 1 | B8: =B$6&"."&A8 -> 10.1 | C8: Onderhoud Statische No-break 1j -48V | D8: Ruimte | E8: 43 | F8: ='Prijzenboek regio N'!F8 -> 0 | G8: =E8*F8 -> 0 | H8: 43 | I8: =($F8*$I$3)*H8 -> 0 | J8: 43 | K8: =$F8*$I$3*$K$3*J8 -> 0 | L8: 43 | M8: =($F8*$I$3*$K$3*$M$3)*L8 -> 0 | N8: 43 | O8: =($F8*$I$3*$K$3*$M$3*$O$3)*N8 -> 0 | P8: 43 | Q8: =$F8*$I$3*$K$3*$M$3*$O$3*$Q$3*P8 -> 0 | R8: 43 | S8: =$F8*$I$3*$K$3*$M$3*$O$3*$Q$3*$S$3*R8 -> 0 | T8: 43 | U8: =$F8*$I$3*$K$3*$M$3*$O$3*$Q$3*$S$3*$U$3*T8 -> 0
A9: 2 | B9: =B$6&"."&A9 -> 10.2 | C9: Onderhoud / inspectie rectifier | D9: stuks | E9: 161 | F9: ='Prijzenboek regio N'!F9 -> 0 | G9: =E9*F9 -> 0 | H9: 145 | I9: =($F9*$I$3)*H9 -> 0 | J9: 130 | K9: =$F9*$I$3*$K$3*J9 -> 0 | L9: 115 | M9: =$F9*$I$3*$K$3*$M$3*L9 -> 0 | N9: 100 | O9: =($F9*$I$3*$K$3*$M$3*$O$3)*N9 -> 0 | P9: 85 | Q9: =$F9*$I$3*$K$3*$M$3*$O$3*$Q$3*P9 -> 0 | R9: 70 | S9: =$F9*$I$3*$K$3*$M$3*$O$3*$Q$3*$S$3*R9 -> 0 | T9: 55 | U9: =$F9*$I$3*$K$3*$M$3*$O$3*$Q$3*$S$3*$U$3*T9 -> 0
A10: 3 | B10: =B$6&"."&A10 -> 10.3 | C10: Onderhoud / inspectie inverter | D10: stuks | E10: 46 | F10: ='Prijzenboek regio N'!F10 -> 0 | G10: =E10*F10 -> 0 | H10: 43 | I10: =($F10*$I$3)*H10 -> 0 | J10: 40 | K10: =($F10*$I$3*$K$3)*J10 -> 0 | L10: 37 | M10: =$F10*$I$3*$K$3*$M$3*L10 -> 0 | N10: 34 | O10: =($F10*$I$3*$K$3*$M$3*$O$3)*N10 -> 0 | P10: 31 | Q10: =$F10*$I$3*$K$3*$M$3*$O$3*$Q$3*P10 -> 0 | R10: 28 | S10: =$F10*$I$3*$K$3*$M$3*$O$3*$Q$3*$S$3*R10 -> 0 | T10: 25 | U10: =$F10*$I$3*$K$3*$M$3*$O$3*$Q$3*$S$3*$U$3*T10 -> 0
A11: 4 | B11: =B$6&"."&A11 -> 10.4 | C11: Onderhoud / inspectie accu's en Siemens meting (per accu) | D11: stuks | E11: 470 | F11: ='Prijzenboek regio N'!F11 -> 0 | G11: =E11*F11 -> 0 | H11: 430 | I11: =($F11*$I$3)*H11 -> 0 | J11: 390 | K11: =($F11*$I$3*$K$3)*J11 -> 0 | L11: 350 | M11: =$F11*$I$3*$K$3*$M$3*L11 -> 0 | N11: 310 | O11: =($F11*$I$3*$K$3*$M$3*$O$3)*N11 -> 0 | P11: 270 | Q11: =$F11*$I$3*$K$3*$M$3*$O$3*$Q$3*P11 -> 0 | R11: 230 | S11: =$F11*$I$3*$K$3*$M$3*$O$3*$Q$3*$S$3*R11 -> 0 | T11: 190 | U11: =$F11*$I$3*$K$3*$M$3*$O$3*$Q$3*$S$3*$U$3*T11 -> 0
A12: 5 | B12: =B$6&"."&A12 -> 10.5 | C12: Inspectie HPDE afdichtingen | D12: stuks | E12: 119 | F12: ='Prijzenboek regio N'!F12 -> 0 | G12: =E12*F12 -> 0 | H12: 119 | I12: =($F12*$I$3)*H12 -> 0 | J12: 119 | K12: =($F12*$I$3*$K$3)*J12 -> 0 | L12: 119 | M12: =$F12*$I$3*$K$3*$M$3*L12 -> 0 | N12: 119 | O12: =($F12*$I$3*$K$3*$M$3*$O$3)*N12 -> 0 | P12: 119 | Q12: =$F12*$I$3*$K$3*$M$3*$O$3*$Q$3*P12 -> 0 | R12: 119 | S12: =$F12*$I$3*$K$3*$M$3*$O$3*$Q$3*$S$3*R12 -> 0 | T12: 119 | U12: =$F12*$I$3*$K$3*$M$3*$O$3*$Q$3*$S$3*$U$3*T12 -> 0
A13: 6 | B13: =B$6&"."&A13 -> 10.6 | C13: Controleren doormeldingen naar ITOC | D13: Ruimte | E13: 43 | F13: ='Prijzenboek regio N'!F13 -> 0 | G13: =E13*F13 -> 0 | H13: 43 | I13: =($F13*$I$3)*H13 -> 0 | J13: 43 | K13: =$F13*$I$3*$K$3*J13 -> 0 | L13: 43 | M13: =($F13*$I$3*$K$3*$M$3)*L13 -> 0 | N13: 43 | O13: =($F13*$I$3*$K$3*$M$3*$O$3)*N13 -> 0 | P13: 43 | Q13: =$F13*$I$3*$K$3*$M$3*$O$3*$Q$3*P13 -> 0 | R13: 43 | S13: =$F13*$I$3*$K$3*$M$3*$O$3*$Q$3*$S$3*R13 -> 0 | T13: 43 | U13: =$F13*$I$3*$K$3*$M$3*$O$3*$Q$3*$S$3*$U$3*T13 -> 0
A14: 7 | B14: =B$6&"."&A14 -> 10.7 | C14: Onderhoud Statische No-break 1j (priva) | D14: stuks | E14: 6 | F14: ='Prijzenboek regio N'!F14 -> 0 | G14: =E14*F14 -> 0 | H14: 4 | I14: =($F14*$I$3)*H14 -> 0 | J14: 4 | K14: =($F14*$I$3*$K$3)*J14 -> 0 | L14: 4 | M14: =$F14*$I$3*$K$3*$M$3*L14 -> 0 | N14: 4 | O14: =($F14*$I$3*$K$3*$M$3*$O$3)*N14 -> 0 | P14: 4 | Q14: =$F14*$I$3*$K$3*$M$3*$O$3*$Q$3*P14 -> 0 | R14: 4 | S14: =$F14*$I$3*$K$3*$M$3*$O$3*$Q$3*$S$3*R14 -> 0 | T14: 4 | U14: =$F14*$I$3*$K$3*$M$3*$O$3*$Q$3*$S$3*$U$3*T14 -> 0
A15: 8 | B15: =B$6&"."&A15 -> 10.8 | C15: Onderhoud Statische No-break 1j | D15: stuks | E15: 22 | F15: ='Prijzenboek regio N'!F15 -> 0 | G15: =E15*F15 -> 0 | H15: 5 | I15: =($F15*$I$3)*H15 -> 0 | J15: 5 | K15: =($F15*$I$3*$K$3)*J15 -> 0 | L15: 5 | M15: =$F15*$I$3*$K$3*$M$3*L15 -> 0 | N15: 5 | O15: =($F15*$I$3*$K$3*$M$3*$O$3)*N15 -> 0 | P15: 5 | Q15: =$F15*$I$3*$K$3*$M$3*$O$3*$Q$3*P15 -> 0 | R15: 5 | S15: =$F15*$I$3*$K$3*$M$3*$O$3*$Q$3*$S$3*R15 -> 0 | T15: 5 | U15: =$F15*$I$3*$K$3*$M$3*$O$3*$Q$3*$S$3*$U$3*T15 -> 0
C16: Aspiratie systeem paragraaf 4.3.6
A17: 9 | B17: =B$6&"."&A17 -> 10.9 | C17: XTRALIS VESDA ASPIRATIEDETECTIE | D17: stuks | E17: 18 | F17: ='Prijzenboek regio N'!F17 -> 0 | G17: =E17*F17 -> 0 | H17: 18 | I17: =($F17*$I$3)*H17 -> 0 | J17: 18 | K17: =($F17*$I$3*$K$3)*J17 -> 0 | L17: 18 | M17: =$F17*$I$3*$K$3*$M$3*L17 -> 0 | N17: 18 | O17: =($F17*$I$3*$K$3*$M$3*$O$3)*N17 -> 0 | P17: 18 | Q17: =$F17*$I$3*$K$3*$M$3*$O$3*$Q$3*P17 -> 0 | R17: 18 | S17: =$F17*$I$3*$K$3*$M$3*$O$3*$Q$3*$S$3*R17 -> 0 | T17: 18 | U17: =$F17*$I$3*$K$3*$M$3*$O$3*$Q$3*$S$3*$U$3*T17 -> 0
C18: Brandmeldinstallatie paragraaf 4.3.7
A19: 10 | B19: =B$6&"."&A19 -> 10.10 | C19: Controle hand, rook melder en temperatuur melder BMI (Prijs per melder) | D19: stuks | E19: 43 | F19: ='Prijzenboek regio N'!F19 -> 0 | G19: =E19*F19 -> 0 | H19: 43 | I19: =($F19*$I$3)*H19 -> 0 | J19: 43 | K19: =($F19*$I$3*$K$3)*J19 -> 0 | L19: 43 | M19: =$F19*$I$3*$K$3*$M$3*L19 -> 0 | N19: 43 | O19: =($F19*$I$3*$K$3*$M$3*$O$3)*N19 -> 0 | P19: 43 | Q19: =$F19*$I$3*$K$3*$M$3*$O$3*$Q$3*P19 -> 0 | R19: 43 | S19: =$F19*$I$3*$K$3*$M$3*$O$3*$Q$3*$S$3*R19 -> 0 | T19: 43 | U19: =$F19*$I$3*$K$3*$M$3*$O$3*$Q$3*$S$3*$U$3*T19 -> 0
A20: 11 | B20: =B$6&"."&A20 -> 10.11 | C20: Neventableau | D20: stuks | E20: 24 | F20: ='Prijzenboek regio N'!F20 -> 0 | G20: =E20*F20 -> 0 | H20: 24 | I20: =($F20*$I$3)*H20 -> 0 | J20: 24 | K20: =($F20*$I$3*$K$3)*J20 -> 0 | L20: 24 | M20: =$F20*$I$3*$K$3*$M$3*L20 -> 0 | N20: 24 | O20: =($F20*$I$3*$K$3*$M$3*$O$3)*N20 -> 0 | P20: 24 | Q20: =$F20*$I$3*$K$3*$M$3*$O$3*$Q$3*P20 -> 0 | R20: 24 | S20: =$F20*$I$3*$K$3*$M$3*$O$3*$Q$3*$S$3*R20 -> 0 | T20: 24 | U20: =$F20*$I$3*$K$3*$M$3*$O$3*$Q$3*$S$3*$U$3*T20 -> 0
A21: 12 | B21: =B$6&"."&A21 -> 10.12 | C21: Doormeldingen | D21: ruimte | E21: 43 | F21: ='Prijzenboek regio N'!F21 -> 0 | G21: =E21*F21 -> 0 | H21: 43 | I21: =($F21*$I$3)*H21 -> 0 | J21: 43 | K21: =($F21*$I$3*$K$3)*J21 -> 0 | L21: 43 | M21: =$F21*$I$3*$K$3*$M$3*L21 -> 0 | N21: 43 | O21: =($F21*$I$3*$K$3*$M$3*$O$3)*N21 -> 0 | P21: 43 | Q21: =$F21*$I$3*$K$3*$M$3*$O$3*$Q$3*P21 -> 0 | R21: 43 | S21: =$F21*$I$3*$K$3*$M$3*$O$3*$Q$3*$S$3*R21 -> 0 | T21: 43 | U21: =$F21*$I$3*$K$3*$M$3*$O$3*$Q$3*$S$3*$U$3*T21 -> 0
