Workbook

Sheet TCO
A2: aanbesteding TCO
B4: CENTRIFUGES | C4: =CENTRIFUGES!E4 -> 0
B5: MEERJARIG ONDERHOUD preventief ( inclusief materialen) | C5: ='MEERJARIG OH'!E19 -> 0
B6: NETTO STELPOST ONDERHOUD correctief ( 15 jr) | C6: 600000
B7: ENERGIE | C7: ='ENERGIE 15 jr '!E28 -> 0
B10: Total Cost of Ownership | C10: =SUM(C4:C9) -> 600000
C13: Deze prijs dient overgenomen te worden in TenderNed. In geval van afwijkingen is de ingevulde prijs hierboven leidend. De aanbestedende dienst zal dan de inschrijfprijs in TenderNed hierop aanpassen.

Sheet UITGANGSPUNTEN
A1: Uitgangspunten
D3: 0.03 | E3: per jaar | F3: inflatie/indexering
D4: 0.2 | E4: per kWh | F4: Energieprijs

Sheet CENTRIFUGES
A2: centrifuges
A3: Engineering, leveren, plaatsen , testen, inbedrijfstellen, asbuilt-engineering, opleveren CONFORM UITVRAAG bestek incl. bijlagen
D4: BEDRAG | F4: voor 4 machines excl. btw

Sheet MEERJARIG OH
A1: MEERJARIG ONDERHOUD
B2: jaar | C2: kalenderjaar | D2: Bedrag onderhoudskosten PREVENTIEF prijspeil 2025 excl btw 4 machines | E2: Incl. fictieve inflatie | F2: korte omschrijving preventief onderhoud
B3: 1 | C3: 2026 | E3: =D3*((1+UITGANGSPUNTEN!$D$3)^B3) -> 0
B4: 2 | C4: 2027 | E4: =D4*((1+UITGANGSPUNTEN!$D$3)^B4) -> 0
B5: 3 | C5: 2028 | E5: =D5*((1+UITGANGSPUNTEN!$D$3)^B5) -> 0
B6: 4 | C6: 2029 | E6: =D6*((1+UITGANGSPUNTEN!$D$3)^B6) -> 0
B7: 5 | C7: 2030 | E7: =D7*((1+UITGANGSPUNTEN!$D$3)^B7) -> 0
B8: 6 | C8: 2031 | E8: =D8*((1+UITGANGSPUNTEN!$D$3)^B8) -> 0
B9: 7 | C9: 2032 | E9: =D9*((1+UITGANGSPUNTEN!$D$3)^B9) -> 0
B10: 8 | C10: 2033 | E10: =D10*((1+UITGANGSPUNTEN!$D$3)^B10) -> 0
B11: 9 | C11: 2034 | E11: =D11*((1+UITGANGSPUNTEN!$D$3)^B11) -> 0
B12: 10 | C12: 2035 | E12: =D12*((1+UITGANGSPUNTEN!$D$3)^B12) -> 0
B13: 11 | C13: 2036 | E13: =D13*((1+UITGANGSPUNTEN!$D$3)^B13) -> 0
B14: 12 | C14: 2037 | E14: =D14*((1+UITGANGSPUNTEN!$D$3)^B14) -> 0
... B17: 15 | C17: 2040 | E17: =D17*((1+UITGANGSPUNTEN!$D$3)^B17) -> 0
D19: Totaal onderhoud | E19: =SUM(E3:E18) -> 0 | F19: voor 4 machines
D21: De onderhoudskosten worden getoetst op marktconformiteit
D22: LET OP : onderhoudskosten in TABBLAD MEERJARIG OH dienen volledig te correleren met inhoud van het MJOP.

Sheet ENERGIE 15 jr 
A2: ENERGIEVERBRUIK
D3: garantiewaarde | E3: 0 | F3: kWh per tds ingaand bij een afscheiding rendement van minimaal 97%.
F4: Gemeten in de FO ( inclusief 2,00% verliezen)
E6: =E3*18000 -> 0 | F6: kWh totaal voor 18000 tds per jaar
D8: Energiekosten | E8: =UITGANGSPUNTEN!D4*E6 -> 0 | F8: per jaar
B10: jaar | C10: kalenderjaar | D10: Bedrag energiekosten prijspeil 2025 | E10: Incl. fictieve inflatie
B11: 0 | C11: 2025 | D11: =E8 -> 0 | E11: =D11*((1+UITGANGSPUNTEN!$D$3)^B11) -> 0
B12: 1 | C12: 2026 | D12: =D11 -> 0 | E12: =D12*((1+UITGANGSPUNTEN!$D$3)^B12) -> 0
B13: 2 | C13: 2027 | D13: =D12 -> 0 | E13: =D13*((1+UITGANGSPUNTEN!$D$3)^B13) -> 0
B14: 3 | C14: 2028 | D14: =D13 -> 0 | E14: =D14*((1+UITGANGSPUNTEN!$D$3)^B14) -> 0
B15: 4 | C15: 2029 | D15: =D14 -> 0 | E15: =D15*((1+UITGANGSPUNTEN!$D$3)^B15) -> 0
B16: 5 | C16: 2030 | D16: =D15 -> 0 | E16: =D16*((1+UITGANGSPUNTEN!$D$3)^B16) -> 0
B17: 6 | C17: 2031 | D17: =D16 -> 0 | E17: =D17*((1+UITGANGSPUNTEN!$D$3)^B17) -> 0
B18: 7 | C18: 2032 | D18: =D17 -> 0 | E18: =D18*((1+UITGANGSPUNTEN!$D$3)^B18) -> 0
B19: 8 | C19: 2033 | D19: =D18 -> 0 | E19: =D19*((1+UITGANGSPUNTEN!$D$3)^B19) -> 0
B20: 9 | C20: 2034 | D20: =D19 -> 0 | E20: =D20*((1+UITGANGSPUNTEN!$D$3)^B20) -> 0
B21: 10 | C21: 2035 | D21: =D20 -> 0 | E21: =D21*((1+UITGANGSPUNTEN!$D$3)^B21) -> 0
B22: 11 | C22: 2036 | D22: =D21 -> 0 | E22: =D22*((1+UITGANGSPUNTEN!$D$3)^B22) -> 0
B23: 12 | C23: 2037 | D23: =D22 -> 0 | E23: =D23*((1+UITGANGSPUNTEN!$D$3)^B23) -> 0
... B26: 15 | C26: 2040 | D26: =D25 -> 0 | E26: =D26*((1+UITGANGSPUNTEN!$D$3)^B26) -> 0
D28: BEDRAG | E28: =SUM(E11:E27) -> 0
