Workbook

Sheet Ondertekening
A1: Naam inschrijver: ….......................................................................................................
A2: Datum: ……...................................................................................................................
A3: Handtekening: ……........................................................................................................
A4: Naam en functie: …......................................................................................................
A5: Plaats: ….......................................................................................................................
A6: De aanbestedende dienst vermeldt aan inschrijver geanonimiseerd de uitslag na afronding van de aanbesteding de gewonnen percelen met de totaalscores.
A8: Door u gewonnen percelen
A9: Door inschrijver 2 gewonnen
A10: Door inschrijver 3 gewonnen

Sheet toelichting inschrijfformulier
A1: Algemeen:
A2: U dient het formulier zorgvuldig en correct in te vullen, anders wordt uw inschrijving als ongeldig ter zijde gelegd.
A5: Serviceniveau varianten:
A6: Per deelstroom vragen de aanbestedende gemeenten naar drie varianten in serviceniveau, namelijk:
A7: 1. | B7: Verwerking inclusief transport en containerverhuur.
A8: 2. | B8: Verwerking exclusief transport en inclusief containerhuur.
A9: 3. | B9: Verwerking exclusief transport en exclusief containerhuur.
A11: De inschrijver heeft per deelstroom drie inschrijfmogelijkheden, namelijk:
A12: A. | B12: Inschrijven voor serviceniveau 1, 2 en 3
A13: B. | B13: Inschrijven voor serviceniveau 2 en 3
A14: C. | B14: Inschrijven voor serviceniveau 3
A15: Het is per deelstroom enkel mogelijk om volgens bovenstaande inschrijfmogelijkheden (A, B of C) in te schrijven. Het is niet mogelijk om enkel voor serviceniveau 1, enkel voor serviceniveau 2, of enkel voor een combinatie van serviveniveau 1 en 2 in te schrijven.
A19: Indien u voor een bepaalde deelstroom wilt inschrijven voor variant 1, 2 en 3 dient u zowel het tarief voor transport (TP), het tarief voor containerverhuur (TC), het tarief voor verwerking (VP), het adres van de verwerkingslocatie voor de betreffende deelstroom en de transportafstand van de milieustraat naar de verwerkingslocatie in de juiste witte cellen in te vullen in het tabblad "Deelstromen".
A24: Indien u voor een bepaalde deelstroom wilt inschrijven voor variant 2 en 3 dient u zowel het tarief voor containerverhuur (TC), het tarief voor verwerking (VP), het adres van de verwerkingslocatie voor de betreffende deelstroom en de transportafstand van de milieustraat naar de verwerkingslocatie in de juiste witte cellen in te vullen in het tabblad "Deelstromen".
A29: Indien u voor een bepaalde deelstroom enkel wilt inschrijven voor variant 3, dient u enkel het tarief voor verwerking (VP), het adres van de verwerkingslocatie voor de betreffende deelstroom en de transportafstand van de milieustraat naar de verwerkingslocatie in de juiste witte cellen in te vullen in het tabblad "Deelstromen".
A34: Indien u voor een bepaalde deelstroom niet wilt inschrijven, dient u de witte cellen behorende bij de betreffende deelstroom in het tabblad "Deelstromen" leeg te laten.
A37: Transportafstand
A38: Voor de bepaling van de transportafstand in km (enkele reis) dient u gebruik te maken van de online routeplanner van Routenet (http://www.routenet.nl/default.aspx). Als instellingen dienen de volgende waarden te worden gehanteerd (voertuig: Truck 20T, optimalisatie: optimaal, vermijden: veerpont). Afstanden worden bepaald met het adres van de betreffende milieustraat naar het adres van verwerkingslocatie (enkele reis).
A44: Het tabblad "Renkenhulp deelstromen".
A45: U hoeft niets in te vullen op het tabblad "Rekenhulp deelstromen". Met behulp van dit tabblad berekent de anbestedende dienst de totaalscore van de inschrijver. Hiertoe worden de geel gemaakte cellen op het tabblad "Rekenulp deelstromen" door de aanbestedende dienst ingevuld. Tevens kunt u op dit tabbald zien hoe de scores berekend worden.
A50: Het tabblad "Ondertekening".
A51: De inschrijver dient het tabblad "ondertekening" in te vullen en rechtsgeldig te ondertekenen. Hiermee verklaart de inschrijver alles naar waarheid ingevuld te hebben.

Sheet Deelstromen
A1: Milieustraat: | B1: Emmen
B4: tonnage/jr | C4: aantal containers | D4: type container | E4: volume container | F4: Transportprijs (TP) per container van perceeladres naar verwerkingslocatie, inclusief wisselen met lege container | G4: Tarief containerhuur (TC) per container per maand | H4: Verwerkingsprijs (VP), poorttarief in € per ton | I4: Trede MVO prestatieladder | J4: Trede CO2 prestatieladder | K4: Totaalscore inclusief transport en containerhuur | L4: Totaalscore tariefstelling exclusief transport, inclusief containerhuur | M4: totaalscore tariefstelling exclusief transport, exclusief containerhuur
A6: Tapijt | B6: 162 | C6: 1 | D6: open afzet | E6: 40 m3 | K6: =I6+J6+90*'Rekenhulp deelstromen'!Q12/'Rekenhulp deelstromen'!N12 -> #VALUE! | L6: =I6+J6+90*'Rekenhulp deelstromen'!R12/'Rekenhulp deelstromen'!O12 -> #VALUE! | M6: =I6+J6+90*'Rekenhulp deelstromen'!S12/'Rekenhulp deelstromen'!P12 -> #VALUE!
A7: B hout | B7: 2436 | C7: 3 | D7: open afzet | E7: 40 m3 | K7: =I7+J7+90*'Rekenhulp deelstromen'!Q13/'Rekenhulp deelstromen'!N13 -> #VALUE! | L7: =I7+J7+90*'Rekenhulp deelstromen'!R13/'Rekenhulp deelstromen'!O13 -> #VALUE! | M7: =I7+J7+90*'Rekenhulp deelstromen'!S13/'Rekenhulp deelstromen'!P13 -> #VALUE!
A8: C hout | B8: 385 | C8: 2 | D8: open afzet | E8: 40 m3 | K8: =I8+J8+90*'Rekenhulp deelstromen'!Q14/'Rekenhulp deelstromen'!N14 -> #VALUE! | L8: =I8+J8+90*'Rekenhulp deelstromen'!R14/'Rekenhulp deelstromen'!O14 -> #VALUE! | M8: =I8+J8+90*'Rekenhulp deelstromen'!S14/'Rekenhulp deelstromen'!P14 -> #VALUE!
A9: Asbest | B9: 103 | C9: 1 | D9: open afzet | E9: 15 m3 | K9: =I9+J9+90*'Rekenhulp deelstromen'!Q15/'Rekenhulp deelstromen'!N15 -> #VALUE! | L9: =I9+J9+90*'Rekenhulp deelstromen'!R15/'Rekenhulp deelstromen'!O15 -> #VALUE! | M9: =I9+J9+90*'Rekenhulp deelstromen'!S15/'Rekenhulp deelstromen'!P15 -> #VALUE!
A10: Bouw en sloop afval | B10: 600 | C10: 2 | D10: open afzet | E10: 40 m3 | K10: =I10+J10+90*'Rekenhulp deelstromen'!Q16/'Rekenhulp deelstromen'!N16 -> #VALUE! | L10: =I10+J10+90*'Rekenhulp deelstromen'!R16/'Rekenhulp deelstromen'!O16 -> #VALUE! | M10: =I10+J10+90*'Rekenhulp deelstromen'!S16/'Rekenhulp deelstromen'!P16 -> #VALUE!
A11: Dakleer | B11: 102 | C11: 1 | D11: open afzet | E11: 15 m3 | K11: =I11+J11+90*'Rekenhulp deelstromen'!Q17/'Rekenhulp deelstromen'!N17 -> #VALUE! | L11: =I11+J11+90*'Rekenhulp deelstromen'!R17/'Rekenhulp deelstromen'!O17 -> #VALUE! | M11: =I11+J11+90*'Rekenhulp deelstromen'!S17/'Rekenhulp deelstromen'!P17 -> #VALUE!
A12: Gips | B12: 107 | C12: 1 | D12: open afzet | E12: 40 m3 | K12: =I12+J12+90*'Rekenhulp deelstromen'!Q18/'Rekenhulp deelstromen'!N18 -> #VALUE! | L12: =I12+J12+90*'Rekenhulp deelstromen'!R18/'Rekenhulp deelstromen'!O18 -> #VALUE! | M12: =I12+J12+90*'Rekenhulp deelstromen'!S18/'Rekenhulp deelstromen'!P18 -> #VALUE!
A13: Harde Kunststoffen | B13: 270 | C13: 2 | D13: open afzet | E13: 40 m3 | K13: =I13+J13+90*'Rekenhulp deelstromen'!Q19/'Rekenhulp deelstromen'!N19 -> #VALUE! | L13: =I13+J13+90*'Rekenhulp deelstromen'!R19/'Rekenhulp deelstromen'!O19 -> #VALUE! | M13: =I13+J13+90*'Rekenhulp deelstromen'!S19/'Rekenhulp deelstromen'!P19 -> #VALUE!
A14: Puin* | B14: 360 | C14: 1 | D14: open afzet | E14: 12 m3 | K14: =I14+J14+90*'Rekenhulp deelstromen'!Q20/'Rekenhulp deelstromen'!N20 -> #VALUE! | L14: =I14+J14+90*'Rekenhulp deelstromen'!R20/'Rekenhulp deelstromen'!O20 -> #VALUE! | M14: =I14+J14+90*'Rekenhulp deelstromen'!S20/'Rekenhulp deelstromen'!P20 -> #VALUE!
A15: Gruis | B15: 273 | C15: 1 | D15: open afzet | E15: 40 m3 | K15: =I15+J15+90*'Rekenhulp deelstromen'!Q21/'Rekenhulp deelstromen'!N21 -> #VALUE! | L15: =I15+J15+90*'Rekenhulp deelstromen'!R21/'Rekenhulp deelstromen'!O21 -> #VALUE! | M15: =I15+J15+90*'Rekenhulp deelstromen'!S21/'Rekenhulp deelstromen'!P21 -> #VALUE!
A16: Rubber ongesorteerd excl autobanden | B16: 17 | C16: 1 | D16: open afzet | E16: 15 m3 | K16: =I16+J16+90*'Rekenhulp deelstromen'!Q22/'Rekenhulp deelstromen'!N22 -> #VALUE! | L16: =I16+J16+90*'Rekenhulp deelstromen'!R22/'Rekenhulp deelstromen'!O22 -> #VALUE! | M16: =I16+J16+90*'Rekenhulp deelstromen'!S22/'Rekenhulp deelstromen'!P22 -> #VALUE!
A18: * container voor puin mag maximaal 85 cm. hoog zijn. | K18: Transportafstand adres milieustraat naar locatie waarmee inschrijver inschrijft enkele reis (km)
A20: Locatie (adres) waarmee inschrijver inschrijft:
A21: Tapijt
A22: A/B hout
A23: C hout
A24: Asbest
A25: Bouw en sloop afval
A26: Dakleer
A27: Gips
A28: Harde Kunststoffen
A29: Puin
A30: Gruis
A31: Rubber ongesorteerd excl autobanden

Sheet Rekenhulp deelstromen
G10: Fictieve belading (ton/container) | H10: Fictieve prijs transport per ton | I10: Inschatting hoeveelheid containers | J10: Fictieve prijs containerverhuur per ton | K10: Toegerekende transportprijs starttarief per container bij transport door opdrachtgever | L10: Toegerekende transportprijs per km per container bij transport door opdrachtgever | M10: Toegerekende transportprijs (per ton) bij transport door gemeente | N10: Fictieve inschrijfsom inclusief containerhuur en transport (per ton) | O10: Fictieve inschrijfsom exclusief transport, inclusief containerhuur (per ton) | P10: Fictieve inschrijfsom exclusief transport, exclusief containerhuur (per ton) | Q10: Laagste Fictieve inschrijfsom inclusief transport en containerhuur | R10: Laagste Fictieve inschrijfsom exclusief transport, inclusief containerhuur | S10: Laagste fictieve inschrijfsom exclusief transport, exclusief containerhuur
F12: Tapijt | G12: 7.7 | H12: =Deelstromen!F6/G12 -> 0 | I12: =Deelstromen!C6 -> 1 | J12: =12*'Rekenhulp deelstromen'!I12*Deelstromen!G6/Deelstromen!B6 -> 0 | K12: =$G$24 -> 100 | L12: =$G$25 -> 3.15 | M12: =(K12+2*Deelstromen!L21*L12)/G12 -> 12.987013 | N12: =IF(AND(Deelstromen!H6>0,Deelstromen!G6>0,Deelstromen!F6>0),Deelstromen!H6+J12+H12,"") | O12: =IF(AND(Deelstromen!H6>0,Deelstromen!G6>0),Deelstromen!H6+J12+M12,"") | P12: =IF(Deelstromen!H6>0,Deelstromen!H6+M12,"")
F13: A/B hout | G13: 6 | H13: =Deelstromen!F7/G13 -> 0 | I13: =Deelstromen!C7 -> 3 | J13: =12*I13*Deelstromen!G7/Deelstromen!B7 -> 0 | K13: =$G$24 -> 100 | L13: =$G$25 -> 3.15 | M13: =(K13+2*Deelstromen!L22*L13)/G13 -> 16.666667 | N13: =IF(AND(Deelstromen!H7>0,Deelstromen!G7>0,Deelstromen!F7>0),Deelstromen!H7+J13+H13,"") | O13: =IF(AND(Deelstromen!H7>0,Deelstromen!G7>0),Deelstromen!H7+J13+M13,"") | P13: =IF(Deelstromen!H7>0,Deelstromen!H7+M13,"")
F14: C hout | G14: 6 | H14: =Deelstromen!F8/G14 -> 0 | I14: =Deelstromen!C8 -> 2 | J14: =12*I14*Deelstromen!G8/Deelstromen!B8 -> 0 | K14: =$G$24 -> 100 | L14: =$G$25 -> 3.15 | M14: =(K14+2*Deelstromen!L23*L14)/G14 -> 16.666667 | N14: =IF(AND(Deelstromen!H8>0,Deelstromen!G8>0,Deelstromen!F8>0),Deelstromen!H8+J14+H14,"") | O14: =IF(AND(Deelstromen!H8>0,Deelstromen!G8>0),Deelstromen!H8+J14+M14,"") | P14: =IF(Deelstromen!H8>0,Deelstromen!H8+M14,"")
F15: Asbest | G15: 4.5 | H15: =Deelstromen!F9/G15 -> 0 | I15: =Deelstromen!C9 -> 1 | J15: =12*I15*Deelstromen!G9/Deelstromen!B9 -> 0 | K15: =$G$24 -> 100 | L15: =$G$25 -> 3.15 | M15: =(K15+2*Deelstromen!L24*L15)/G15 -> 22.222222 | N15: =IF(AND(Deelstromen!H9>0,Deelstromen!G9>0,Deelstromen!F9>0),Deelstromen!H9+J15+H15,"") | O15: =IF(AND(Deelstromen!H9>0,Deelstromen!G9>0),Deelstromen!H9+J15+M15,"") | P15: =IF(Deelstromen!H9>0,Deelstromen!H9+M15,"")
F16: Bouw en sloop afval | G16: 6.4 | H16: =Deelstromen!F10/G16 -> 0 | I16: =Deelstromen!C10 -> 2 | J16: =12*I16*Deelstromen!G10/Deelstromen!B10 -> 0 | K16: =$G$24 -> 100 | L16: =$G$25 -> 3.15 | M16: =(K16+2*Deelstromen!L25*L16)/G16 -> 15.625 | N16: =IF(AND(Deelstromen!H10>0,Deelstromen!G10>0,Deelstromen!F10>0),Deelstromen!H10+J16+H16,"") | O16: =IF(AND(Deelstromen!H10>0,Deelstromen!G10>0),Deelstromen!H10+J16+M16,"") | P16: =IF(Deelstromen!H10>0,Deelstromen!H10+M16,"")
F17: Dakleer | G17: 3.6 | H17: =Deelstromen!F11/G17 -> 0 | I17: =Deelstromen!C11 -> 1 | J17: =12*I17*Deelstromen!G11/Deelstromen!B11 -> 0 | K17: =$G$24 -> 100 | L17: =$G$25 -> 3.15 | M17: =(K17+2*Deelstromen!L26*L17)/G17 -> 27.777778 | N17: =IF(AND(Deelstromen!H11>0,Deelstromen!G11>0,Deelstromen!F11>0),Deelstromen!H11+J17+H17,"") | O17: =IF(AND(Deelstromen!H11>0,Deelstromen!G11>0),Deelstromen!H11+J17+M17,"") | P17: =IF(Deelstromen!H11>0,Deelstromen!H11+M17,"")
F18: Gips | G18: 9.9 | H18: =Deelstromen!F12/G18 -> 0 | I18: =Deelstromen!C12 -> 1 | J18: =12*I18*Deelstromen!G12/Deelstromen!B12 -> 0 | K18: =$G$24 -> 100 | L18: =$G$25 -> 3.15 | M18: =(K18+2*Deelstromen!L27*L18)/G18 -> 10.10101 | N18: =IF(AND(Deelstromen!H12>0,Deelstromen!G12>0,Deelstromen!F12>0),Deelstromen!H12+J18+H18,"") | O18: =IF(AND(Deelstromen!H12>0,Deelstromen!G12>0),Deelstromen!H12+J18+M18,"") | P18: =IF(Deelstromen!H12>0,Deelstromen!H12+M18,"")
F19: Harde Kunststoffen | G19: 2.7 | H19: =Deelstromen!F13/G19 -> 0 | I19: =Deelstromen!C13 -> 2 | J19: =12*I19*Deelstromen!G13/Deelstromen!B13 -> 0 | K19: =$G$24 -> 100 | L19: =$G$25 -> 3.15 | M19: =(K19+2*Deelstromen!L28*L19)/G19 -> 37.037037 | N19: =IF(AND(Deelstromen!H13>0,Deelstromen!G13>0,Deelstromen!F13>0),Deelstromen!H13+J19+H19,"") | O19: =IF(AND(Deelstromen!H13>0,Deelstromen!G13>0),Deelstromen!H13+J19+M19,"") | P19: =IF(Deelstromen!H13>0,Deelstromen!H13+M19,"")
F20: Puin | G20: 14 | H20: =Deelstromen!F14/G20 -> 0 | I20: =Deelstromen!C14 -> 1 | J20: =12*I20*Deelstromen!G14/Deelstromen!B14 -> 0 | K20: =$G$24 -> 100 | L20: =$G$25 -> 3.15 | M20: =(K20+2*Deelstromen!L29*L20)/G20 -> 7.1428571 | N20: =IF(AND(Deelstromen!H14>0,Deelstromen!G14>0,Deelstromen!F14>0),Deelstromen!H14+J20+H20,"") | O20: =IF(AND(Deelstromen!H14>0,Deelstromen!G14>0),Deelstromen!H14+J20+M20,"") | P20: =IF(Deelstromen!H14>0,Deelstromen!H14+M20,"")
F21: Gruis | G21: 4.9 | H21: =Deelstromen!F15/G21 -> 0 | I21: =Deelstromen!C15 -> 1 | J21: =12*I21*Deelstromen!G15/Deelstromen!B15 -> 0 | K21: =$G$24 -> 100 | L21: =$G$25 -> 3.15 | M21: =(K21+2*Deelstromen!L30*L21)/G21 -> 20.408163 | N21: =IF(AND(Deelstromen!H15>0,Deelstromen!G15>0,Deelstromen!F15>0),Deelstromen!H15+J21+H21,"") | O21: =IF(AND(Deelstromen!H15>0,Deelstromen!G15>0),Deelstromen!H15+J21+M21,"") | P21: =IF(Deelstromen!H15>0,Deelstromen!H15+M21,"")
F22: Rubber ongesorteerd | G22: 7.4 | H22: =Deelstromen!F16/G22 -> 0 | I22: =Deelstromen!C16 -> 1 | J22: =12*I22*Deelstromen!G16/Deelstromen!B16 -> 0 | K22: =$G$24 -> 100 | L22: =$G$25 -> 3.15 | M22: =(K22+2*Deelstromen!L31*L22)/G22 -> 13.513514 | N22: =IF(AND(Deelstromen!H16>0,Deelstromen!G16>0,Deelstromen!F16>0),Deelstromen!H16+J22+H22,"") | O22: =IF(AND(Deelstromen!H16>0,Deelstromen!G16>0),Deelstromen!H16+J22+M22,"") | P22: =IF(Deelstromen!H16>0,Deelstromen!H16+M22,"")
F24: Starttarief bij transp door gemeente | G24: 100
F25: Prijs/km transp door gemeente | G25: 3.15
