Workbook

Sheet Gemiddeld gewogen omrekenfactor
A1: Risicogroep uitzendbedrijven I- Administratief Tariefsoort | B1: Gewogen gemiddelde omreken factor | C1: Weging | D1: 0.65 | E1: Uitzenden
A2: Overeenkomst Fase A - reguliere uren | B2: ='Omrekenfactoren 2024 uitzenden'!D5 -> 1.1705 | C2: =D4*0.7*D2 -> 0.35105 | D2: 0.59 | E2: Administratief v totaal
A3: Overeenkomst Fase A - reguliere uren - Voorkeurskandidaten | B3: ='Omrekenfactoren 2024 uitzenden'!D6 -> 1.1705 | C3: =D4*0.25*D2 -> 0.125375
A4: Bepaalde tijd ovk. Fase B - reguliere uren | B4: ='Omrekenfactoren 2024 uitzenden'!D9 -> 1.1705 | C4: =D5*0.75*D2 -> 0.066375 | D4: 0.85 | E4: Fase A
A5: Bepaalde tijd ovk. Fase B - reguliere uren - Voorkeurskandidaat | B5: ='Omrekenfactoren 2024 uitzenden'!D10 -> 1.1705 | C5: =D5*0.25*D2 -> 0.022125 | D5: 0.15 | E5: Fase B
A6: Overeenkomst Fase A - AOW gerechtigde uren | B6: ='Omrekenfactoren 2024 uitzenden'!D13 -> 1.1705 | C6: =D4*0.05*D2 -> 0.025075
A7: Weging Risicogroep uitzendbedrijven I- Administratief Tariefsoort | B7: =AVERAGE((B2*C2)+(B4*C4)+(B3*C3)+(B5*C5)+(B6*C6)) -> 0.690595 | C7: =SUM(C2:C6) -> 0.59
A8: Risicogroep uitzendbedrijven II - Technisch Tariefsoort | B8: Gewogen gemiddelde omreken factor | C8: Weging
A9: Overeenkomst Fase A - reguliere uren | B9: ='Omrekenfactoren 2024 uitzenden'!D19 -> 1.1705 | C9: =D11*D13*0.7 -> 0.0357
A10: Overeenkomst Fase A - reguliere uren - Voorkeurskandidaten | B10: ='Omrekenfactoren 2024 uitzenden'!D20 -> 1.1705 | C10: =D11*D13*0.2 -> 0.0102
A11: Overeenkomst Fase A - toeslaguren incl. vakantiereservering | B11: ='Omrekenfactoren 2024 uitzenden'!D21 -> 1.1705 | C11: =D11*0.05*D13 -> 0.00255 | D11: 0.06 | E11: Technisch
A12: Bepaalde tijd ovk. Fase B - reguliere uren | B12: ='Omrekenfactoren 2024 uitzenden'!D23 -> 1.1705 | C12: =D11*D14*0.75 -> 0.00675
A13: Bepaalde tijd ovk. Fase B - reguliere uren - Voorkeurskandidaat | B13: ='Omrekenfactoren 2024 uitzenden'!D24 -> 1.1705 | C13: =D11*D14*0.25 -> 0.00225 | D13: 0.85 | E13: Fase A
A14: Overeenkomst Fase A - AOW gerechtigde uren | B14: ='Omrekenfactoren 2024 uitzenden'!D27 -> 1.1705 | C14: =D11*D13*0.05 -> 0.00255 | D14: 0.15 | E14: Fase B
A15: Weging Risicogroep uitzendbedrijven II - Technisch Tariefsoort | B15: =AVERAGE(B12*C12)+(B9*C9)+(B11*C11)+(B14*C14)+(B10*C10)+(B13*C13) -> 0.07023 | C15: =SUM(C9:C14) -> 0.06
A17: Gemiddeld gewogen omrekenfactor uitzenden | B17: =AVERAGE(B2*C2)+(B4*C4)+(B6*C6)+(B9*C9)+(B11*C11)+(B12*C12)+(B14*C14)+(B3*C3)+(B5*C5)+(B10*C10)+(B13*C13) -> 0.760825 | C17: =(C15+C7) -> 0.65
A18: Overeenkomsten payroll | B18: Gewogen gemiddelde omreken factor | C18: Weging
A19: Overeenkomst Declarabele reguliere uren | B19: ='Omrekenfactoren 2024 payroll'!D4 -> 1.1705 | C19: =D21*0.6 -> 0.21
A20: Overeenkomst Contract reguliere uren | B20: ='Omrekenfactoren 2024 payroll'!D7 -> 1.1705 | C20: =D21*0.2 -> 0.07
A21: Overeenkomst Contract AOW reguliere uren | B21: ='Omrekenfactoren 2024 payroll'!D10 -> 1.1705 | C21: =D21*0.05 -> 0.0175 | D21: 0.35 | E21: Payroll
A22: Overeenkomst Declarabele AOW reguliere uren | B22: ='Omrekenfactoren 2024 payroll'!D11 -> 1.1705 | C22: =D21*0.15 -> 0.0525
A23: Weging overeenkomsten payroll | B23: =AVERAGE(B22*C22)+(B21*C21)+(B20*C20)+(B19*C19) -> 0.409675 | C23: =SUM(C19:C22) -> 0.35 | D23: 0.95 | E23: reguliere uren
D24: 0.05 | E24: Toeslag/overuren
A25: Gemiddeld gewogen omrekenfactor payroll | B25: =AVERAGE(B19*C19)+(B21*C21)+(B22*C22)+(B20*C20) -> 0.409675 | C25: =C23 -> 0.35
A27: Gemiddeld gewogen omrekenfactor uitzenden en payroll | B27: =B17+B25 -> 1.1705 | C27: =C25+C17 -> 1
A29: Toelichting: Indien er in B27 geen factor komt te staan, dan is het belangrijk om het tabblad Omrekenfactoren na te kijken of daar handmatig de loonsom van alle verschillende urensoorten en fases ingevuld zijn. Indien er geen reële factor in kolom B komt te staan, kan de inschrijver niet beoordeeld worden.
A30: Er kunnen geen rechten ontleend worden aan de verstrekte gegevens.

Sheet Omrekenfactoren 2024 uitzenden
A1: Naam Aanbieder: | B1: SVP invullen
B2: Functies van loonschaal t/m 8 | E2: Functies van loonschaal 9 en hoger
A3: Risicogroep uitzendbedrijven I- Administratief Tariefsoort | B3: Kostprijs Administratief | C3: Marge % | D3: Omreken factor | E3: Kostprijs Administratief | F3: Marge % | G3: Omreken factor
A4: VOORBEELD | B4: 160 | C4: 10 | D4: =(B4/(100-C4)) -> 1.7777778 | E4: 160 | F4: 10 | G4: =(E4/(100-F4)) -> 1.7777778
A5: Overeenkomst Fase A - reguliere uren | B5: ='KP regulier uitzend 2024'!C39*100 -> 117.05 | C5: 0 | D5: =B5/(100-C5) -> 1.1705 | E5: =B5 -> 117.05 | F5: 0 | G5: =E5/(100-F5) -> 1.1705
A6: Overeenkomst Fase A - reguliere uren - Voorkeurskandidaat | B6: ='KP regulier uitzend 2024'!C39*100 -> 117.05 | C6: 0 | D6: =B6/(100-C6) -> 1.1705 | E6: =B6 -> 117.05 | F6: 0 | G6: =E6/(100-F6) -> 1.1705
A7: Overeenkomst Fase A - toeslaguren incl. vakantiereservering | B7: ='KP toeslaguren uitzend 2024'!C39*100 -> 117.05 | C7: 0 | D7: =B7/(100-C7) -> 1.1705 | E7: =B7 -> 117.05 | F7: 0 | G7: =E7/(100-F7) -> 1.1705
A8: Overeenkomst Fase A - overuren | B8: ='KP overuren uitzend 2024'!C39*100 -> 117.05 | C8: 0 | D8: =B8/(100-C8) -> 1.1705 | E8: =B8 -> 117.05 | F8: 0 | G8: =E8/(100-F8) -> 1.1705
A9: Bepaalde tijd ovk. Fase B - reguliere uren | B9: ='KP regulier uitzend 2024'!F39*100 -> 117.05 | C9: 0 | D9: =B9/(100-C9) -> 1.1705 | E9: =B9 -> 117.05 | F9: 0 | G9: =E9/(100-F9) -> 1.1705
A10: Bepaalde tijd ovk. Fase B - reguliere uren - Voorkeurskandidaat | B10: ='KP regulier uitzend 2024'!F39*100 -> 117.05 | C10: 0 | D10: =B10/(100-C10) -> 1.1705 | E10: =B10 -> 117.05 | F10: 0 | G10: =E10/(100-F10) -> 1.1705
A11: Bepaalde tijd ovk. Fase B - toeslaguren incl. vakantiereservering | B11: ='KP toeslaguren uitzend 2024'!F39*100 -> 117.05 | C11: 0 | D11: =B11/(100-C11) -> 1.1705 | E11: =B11 -> 117.05 | F11: 0 | G11: =E11/(100-F11) -> 1.1705
A12: Bepaalde tijd ovk. Fase B - overuren | B12: ='KP overuren uitzend 2024'!F39*100 -> 117.05 | C12: 0 | D12: =B12/(100-C12) -> 1.1705 | E12: =B12 -> 117.05 | F12: 0 | G12: =E12/(100-F12) -> 1.1705
A13: Overeenkomst Fase A - AOW gerechtigden | B13: ='KP AOW uitzend 2024'!C39*100 -> 117.05 | C13: 0 | D13: =B13/(100-C13) -> 1.1705 | E13: =B13 -> 117.05 | F13: 0 | G13: =E13/(100-F13) -> 1.1705
A14: Overeenkomst Fase A - vakantiekrachten | B14: ='KP vakantiekr. uitzend 2024'!C39*100 -> 117.05 | C14: 0 | D14: =B14/(100-C14) -> 1.1705 | E14: =B14 -> 117.05 | F14: 0 | G14: =E14/(100-F14) -> 1.1705
A15: Overeenkomst Fase A - vakantiekrachten toeslag en overuren | B15: ='KP vakantiekr. uitzend 2024'!F39*100 -> 117.05 | C15: 0 | D15: =B15/(100-C15) -> 1.1705 | E15: =B15 -> 117.05 | F15: 0 | G15: =E15/(100-F15) -> 1.1705
B17: Functies van loonschaal t/m 8 | E17: Functies van loonschaal 9 en hoger
A18: Risicogroep uitzendbedrijven II - Technisch Tariefsoort | B18: Kostprijs Technisch | C18: Marge % | D18: Omreken factor | E18: Kostprijs Technisch | F18: Marge % | G18: Omreken factor
A19: Overeenkomst Fase A - reguliere uren | B19: ='KP regulier uitzend 2024'!I39*100 -> 117.05 | C19: 0 | D19: =B19/(100-C19) -> 1.1705 | E19: =B19 -> 117.05 | F19: 0 | G19: =E19/(100-F19) -> 1.1705
A20: Overeenkomst Fase A - reguliere uren - Voorkeurskandidaat | B20: ='KP regulier uitzend 2024'!I39*100 -> 117.05 | C20: 0 | D20: =B20/(100-C20) -> 1.1705 | E20: =B20 -> 117.05 | F20: 0 | G20: =E20/(100-F20) -> 1.1705
A21: Overeenkomst Fase A - toeslaguren incl. vakantiereservering | B21: ='KP toeslaguren uitzend 2024'!I39*100 -> 117.05 | C21: 0 | D21: =B21/(100-C21) -> 1.1705 | E21: =B21 -> 117.05 | F21: 0 | G21: =E21/(100-F21) -> 1.1705
A22: Overeenkomst Fase A- overuren | B22: ='KP overuren uitzend 2024'!I39*100 -> 117.05 | C22: 0 | D22: =B22/(100-C22) -> 1.1705 | E22: =B22 -> 117.05 | F22: 0 | G22: =E22/(100-F22) -> 1.1705
A23: Bepaalde tijd ovk. Fase B - reguliere uren | B23: ='KP regulier uitzend 2024'!L39*100 -> 117.05 | C23: 0 | D23: =B23/(100-C23) -> 1.1705 | E23: =B23 -> 117.05 | F23: 0 | G23: =E23/(100-F23) -> 1.1705
A24: Bepaalde tijd ovk. Fase B - reguliere uren - Voorkeurskandidaat | B24: ='KP regulier uitzend 2024'!L39*100 -> 117.05 | C24: 0 | D24: =B24/(100-C24) -> 1.1705 | E24: =B24 -> 117.05 | F24: 0 | G24: =E24/(100-F24) -> 1.1705
A25: Bepaalde tijd ovk. Fase B - toeslaguren incl. vakantiereservering | B25: ='KP toeslaguren uitzend 2024'!L39*100 -> 117.05 | C25: 0 | D25: =B25/(100-C25) -> 1.1705 | E25: =B25 -> 117.05 | F25: 0 | G25: =E25/(100-F25) -> 1.1705
A26: Bepaalde tijd ovk. Fase B - overuren | B26: ='KP overuren uitzend 2024'!L39*100 -> 117.05 | C26: 0 | D26: =B26/(100-C26) -> 1.1705 | E26: =B26 -> 117.05 | F26: 0 | G26: =E26/(100-F26) -> 1.1705
A27: Overeenkomst Fase A - AOW gerechtigden | B27: ='KP AOW uitzend 2024'!I39*100 -> 117.05 | C27: 0 | D27: =B27/(100-C27) -> 1.1705 | E27: =B27 -> 117.05 | F27: 0 | G27: =E27/(100-F27) -> 1.1705
A28: Overeenkomst Fase A - vakantiekrachten | B28: ='KP vakantiekr. uitzend 2024'!I39*100 -> 117.05 | C28: 0 | D28: =B28/(100-C28) -> 1.1705 | E28: =B28 -> 117.05 | F28: 0 | G28: =E28/(100-F28) -> 1.1705
A29: Overeenkomst Fase A - vakantiekrachten toeslag en overuren | B29: ='KP vakantiekr. uitzend 2024'!L39*100 -> 117.05 | C29: 0 | D29: =B29/(100-C29) -> 1.1705 | E29: =B29 -> 117.05 | F29: 0 | G29: =E29/(100-F29) -> 1.1705
A31: N.B.1: U dient de kostprijs/loonsomfactor en marge in te vullen. U dient alle blauwe cellen in te vullen. U dient de bureaumarge in de blauwe cellen in te vullen, format rekent de kostprijs/loonsomfactor en bureaumarge om naar de omrekenfactor. Deze factoren worden automatisch doorgezet naar het tabblad "Gemiddelde gewogen omrekenfactor. De inhuur betreft de functies van loonschaal t/m 8, zie voor de exacte weging de corresponderende cellen in tabblad "Gemiddeld gewogen omrekenfactor". Omrekenfactor voor schaal 9 of hoger worden niet meegewogen. N.B.2: Alleen tabblad "Omrekenfactor" en tabbladen "Kostprijs (KP)" invullen. N.B. 3: Er mag geen marge op de over en toeslaguren worden doorberekend, dus deze cel kan niet worden ingevuld, deze is beveiligd. NB 4: Gespecificeerde Kostprijsopbouw (gedetailleerde open kostencalculatie) dient ingevuld te worden bij de tabbladen "KP). NB 5: Inschrijver dient naam bovenin te vermelden. N.B.6: Dit Prijzenblad is de basis voor de uitvraag van kostprijswijzigingen. De tabbladen "KP" kunnen jaarlijks voor 1 januari ingediend worden ter beoordeling en dienen schriftelijk te worden geodgekeurd. De eerstvolgende mogelijkheid is aanpassing vanaf 1-1-2025.

Sheet Omrekenfactoren 2024 payroll
A1: Naam Aanbieder: | B1: SVP invullen
B2: Payroll
A3: Urensoorten | B3: Kostprijs | C3: Marge % | D3: Omreken factor
A4: Overeenkomst Declarabele reguliere uren | B4: =('Kp payroll 2024 declarabel'!D37)*100 -> 117.05 | C4: 0 | D4: =B4/(100-C4) -> 1.1705
A5: Overeenkomst Declarabele toeslaguren | B5: =('Kp payroll 2024 declarabel'!G37)*100 -> 117.05 | C5: 0 | D5: =B5/(100-C5) -> 1.1705
A6: Overeenkomst Declarabele overuren | B6: =('Kp payroll 2024 declarabel'!J37)*100 -> 117.05 | C6: 0 | D6: =B6/(100-C6) -> 1.1705
A7: Overeenkomst Contract reguliere uren | B7: =('Kp payroll 2024 contracturen'!E30)*100 -> 117.05 | C7: 0 | D7: =B7/(100-C7) -> 1.1705
A8: Overeenkomst Contract toeslaguren | B8: =('Kp payroll 2024 contracturen'!H30)*100 -> 117.05 | C8: 0 | D8: =B8/(100-C8) -> 1.1705
A9: Overeenkomst Contract overuren | B9: =('Kp payroll 2024 contracturen'!K30)*100 -> 117.05 | C9: 0 | D9: =B9/(100-C9) -> 1.1705
A10: Overeenkomst Contract AOW reguliere uren | B10: =('KP payroll 2024 AOW'!D37)*100 -> 117.05 | C10: 0 | D10: =B10/(100-C10) -> 1.1705
A11: Overeenkomst Declarabele AOW reguliere uren | B11: =('KP payroll 2024 AOW'!G37)*100 -> 117.05 | C11: 0 | D11: =B11/(100-C11) -> 1.1705
A14: N.B.1: U dient de kostprijs/loonsomfactor en marge in te vullen. U dient alle blauwe cellen in te vullen. U dient de bureaumarge in de blauwe cellen in te vullen, format rekent de kostprijs/loonsomfactor en bureaumarge om naar de omrekenfactor. Deze factoren worden automatisch doorgezet naar het tabblad "Gemiddelde gewogen omrekenfactor. N.B.2: Alleen tabblad "Omrekenfactor" en tabbladen "Kostprijs (KP)" invullen. N.B. 3: Er mag geen marge op de over en toeslaguren worden doorberekend, dus deze cel kan niet worden ingevuld, deze is beveiligd. NB 4: Gespecificeerde Kostprijsopbouw (gedetailleerde open kostencalculatie) dient ingevuld te worden bij de tabbladen "KP). Indien er naderhand andere urenstoorten van toepassing zijn, dienen deze gedurende contractperiode aangeleverd te worden. NB 5: Inschrijver dient naam bovenin te vermelden. N.B.6: Dit Prijzenblad is de basis voor de uitvraag van kostprijswijzigingen. De tabbladen "KP" kunnen jaarlijks eenmalig op 1 januari aangepast te worden, na goedkeuring van Opdrachtgever. De eerstvolgende mogelijkheid is aanpassing vanaf 1-1-2025.

Sheet Kp payroll 2024 contracturen
A1: Naam Aanbieder: | B1: SVP invullen
D3: Contract Reguliere uren | G3: Contract Toeslaguren | J3: Contract Overuren
A5: Salaris
A6: Bruto uursalaris | D6: 1 | E6: =D6 -> 1 | G6: 1 | H6: =G6 -> 1 | J6: 1 | K6: =J6 -> 1
E7: =SUM(E6:E6) -> 1 | H7: =SUM(H6:H6) -> 1 | K7: =SUM(K6:K6) -> 1
A8: Reservering IKB (Individueel Keuze Budget; 8% vakantietoeslag, 1,5% levensloopregeling en 7,55% eindejaarsuitkering) | D8: 0.1705 | E8: =E7*D8 -> 0.1705 | G8: 0.1705 | H8: =H7*G8 -> 0.1705 | J8: 0.1705 | K8: =K7*J8 -> 0.1705
E9: =E8+E7 -> 1.1705 | H9: =H8+H7 -> 1.1705 | K9: =K8+K7 -> 1.1705
A10: Werkgeverslasten
A11: Ziektewet | D11: 0 | E11: =D11*E9 -> 0 | G11: 0 | H11: =G11*H9 -> 0 | J11: 0 | K11: =J11*K9 -> 0
A12: WW - PWAWW | D12: 0 | E12: =D12*E9 -> 0 | G12: 0 | H12: =G12*H9 -> 0 | J12: 0 | K12: =J12*K9 -> 0
A13: Premie AWF | D13: 0 | E13: =D13*E9 -> 0 | G13: =D13 -> 0 | H13: =G13*H9 -> 0 | J13: =D13 -> 0 | K13: =J13*K9 -> 0
A14: Premie aanvulling ziektewet (AZW) | D14: 0 | E14: =D14*E9 -> 0 | G14: 0 | H14: =G14*H9 -> 0 | J14: 0 | K14: =J14*K9 -> 0
A15: Zorgverzekeringswet (ZVW) | D15: 0 | E15: =D15*E9 -> 0 | G15: =D15 -> 0 | H15: =G15*H9 -> 0 | J15: =D15 -> 0 | K15: =J15*K9 -> 0
A16: AOF incl. kinderopvang | D16: 0 | E16: =D16*E9 -> 0 | G16: =D16 -> 0 | H16: =G16*H9 -> 0 | J16: =D16 -> 0 | K16: =J16*K9 -> 0
A17: WGA | D17: 0 | E17: =D17*E9 -> 0 | G17: =D17 -> 0 | H17: =G17*H9 -> 0 | J17: =D17 -> 0 | K17: =J17*K9 -> 0
A18: Transitievergoeding | D18: 0 | E18: =D18*E9 -> 0 | G18: 0 | H18: =G18*H9 -> 0 | J18: 0 | K18: =J18*K9 -> 0
A19: Pensioen reservering ABP | D19: 0 | E19: =D19*E9 -> 0 | G19: 0 | H19: =G19*H9 -> 0 | J19: 0 | K19: =J19*K9 -> 0
A20: Scholing reservering | D20: 0 | E20: =D20*E9 -> 0 | G20: 0 | H20: =G20*H9 -> 0 | J20: 0 | K20: =J20*K9 -> 0
A21: Specificeren | D21: 0 | E21: =D21*E9 -> 0 | G21: 0 | H21: =G21*H9 -> 0 | J21: 0 | K21: =J21*K9 -> 0
D22: =SUM(D11:D21) -> 0 | E22: =D22*E9 -> 0 | G22: =SUM(G11:G21) -> 0 | H22: =G22*H9 -> 0 | J22: =SUM(J11:J21) -> 0 | K22: =J22*K9 -> 0
E23: =E9+E22 -> 1.1705 | H23: =H9+H22 -> 1.1705 | K23: =K9+K22 -> 1.1705
A24: Additionele werkgeverslasten
A25: Specificeren | D25: 0 | E25: =D25*E23 -> 0 | G25: 0 | H25: =G25*H23 -> 0 | J25: 0 | K25: =J25*K23 -> 0
A26: Specificeren | D26: 0 | E26: =D26*E23 -> 0 | G26: 0 | H26: =G26*H23 -> 0 | J26: 0 | K26: =J26*K23 -> 0
A27: Specificeren | D27: 0 | E27: =D27*E23 -> 0 | G27: 0 | H27: =G27*H23 -> 0 | J27: 0 | K27: =J27*K23 -> 0
A28: Specificeren | D28: 0 | E28: =D28*E23 -> 0 | G28: 0 | H28: =G28*H23 -> 0 | J28: 0 | K28: =J28*K23 -> 0
D29: =SUM(D25:D28) -> 0 | E29: =E23*D29 -> 0 | G29: =SUM(G25:G28) -> 0 | H29: =H23*G29 -> 0 | J29: =SUM(J25:J28) -> 0 | K29: =K23*J29 -> 0
A30: Loonsomfactor contracturen | E30: =E23+E29 -> 1.1705 | H30: =H23+H29 -> 1.1705 | K30: =K23+K29 -> 1.1705
A32: Toelichting:
A33: N.B. 1 Jaarlijks worden per 1 januari, eenmalig de kostprijzen aangepast, na goedkeuring van Opdrachtgever.
A34: NB 2:Uitleg invullen sheet: alle reserveringen moeten worden ingevuld in de blauwe niet beveiligde cellen. De reserveringen worden automatisch doorberekend en komen als totale loonsomfactor in het sheet te staan. In het donkergrijze blok 3 'Additionele werkgeverslasten' kunnen bedrijfspecifieke omschrijvingen opgenomen worden. Tijdens de duur van het contract wordt Blok 3; Additionele werkgeverslasten niet meer aangepast.
A35: NB 3: in cel B1 dient u de bedrijfsnaam van de organisatie in te vullen.

Sheet Kp payroll 2024 declarabel
A1: Naam Aanbieder: | B1: SVP invullen
C3: Overeenkomst reguliere uren declarabel | F3: Overeenkomst toeslaguren declarabel | I3: Overeenkomst overuren declarabel
A5: Salaris
A6: Bruto uursalaris | C6: 1 | D6: =C6 -> 1 | F6: 1 | G6: =F6 -> 1 | I6: 1 | J6: =I6 -> 1
C7: 0 | D7: =C7 -> 0 | F7: 0 | G7: =F7 -> 0 | I7: 0 | J7: =I7 -> 0
D8: =SUM(D6:D7) -> 1 | G8: =SUM(G6:G7) -> 1 | J8: =SUM(J6:J7) -> 1
A9: Reserveringen
A10: Feestdagen | C10: 0 | D10: =C10*D8 -> 0 | F10: 0 | G10: =F10*G8 -> 0 | I10: 0 | J10: =I10*J8 -> 0
A11: Vakantiedagen | C11: 0 | D11: =C11*D8 -> 0 | F11: 0 | G11: =F11*G8 -> 0 | I11: 0 | J11: =I11*J8 -> 0
A12: Kort verzuim / buitengewoon verlof | C12: 0 | D12: =C12*D8 -> 0 | F12: 0 | G12: =F12*G8 -> 0 | I12: 0 | J12: =I12*J8 -> 0
C13: =SUM(C10:C12) -> 0 | D13: =D8*C13 -> 0 | F13: =SUM(F10:F12) -> 0 | G13: =G8*F13 -> 0 | I13: =SUM(I10:I12) -> 0 | J13: =J8*I13 -> 0
D14: =D8+D13 -> 1 | G14: =G8+G13 -> 1 | J14: =J8+J13 -> 1
A15: Reservering IKB (Individueel Keuze Budget; 8% vakantietoeslag, 1,5% levensloopregeling en 7,55% eindejaarsuitkering) | C15: 0.1705 | D15: =D14*C15 -> 0.1705 | F15: 0.1705 | G15: =G14*F15 -> 0.1705 | I15: 0.1705 | J15: =J14*I15 -> 0.1705
D16: =SUM(D14:D15) -> 1.1705 | G16: =SUM(G14:G15) -> 1.1705 | J16: =SUM(J14:J15) -> 1.1705
A17: Werkgeverslasten
A18: Ziektewet | C18: 0 | D18: =C18*D16 -> 0 | F18: 0 | G18: =F18*G16 -> 0 | I18: 0 | J18: =I18*J16 -> 0
A19: WW - PWAWW | C19: 0 | D19: =C19*D16 -> 0 | F19: 0 | G19: =F19*G16 -> 0 | I19: 0 | J19: =I19*J16 -> 0
A20: Premie AWF | C20: 0 | D20: =C20*D16 -> 0 | F20: =C20 -> 0 | G20: =F20*G16 -> 0 | I20: =C20 -> 0 | J20: =I20*J16 -> 0
A21: Premie aanvulling ziektewet (AZW) | C21: 0 | D21: =C21*D16 -> 0 | F21: 0 | G21: =F21*G16 -> 0 | I21: 0 | J21: =I21*J16 -> 0
A22: Zorgverzekeringswet (ZVW) | C22: 0 | D22: =C22*D16 -> 0 | F22: =C22 -> 0 | G22: =F22*G16 -> 0 | I22: =F22 -> 0 | J22: =I22*J16 -> 0
A23: AOF incl. kinderopvang | C23: 0 | D23: =C23*D16 -> 0 | F23: =C23 -> 0 | G23: =F23*G16 -> 0 | I23: =F23 -> 0 | J23: =I23*J16 -> 0
A24: WGA | C24: 0 | D24: =C24*D16 -> 0 | F24: =C24 -> 0 | G24: =F24*G16 -> 0 | I24: =F24 -> 0 | J24: =I24*J16 -> 0
A25: Transitievergoeding | C25: 0 | D25: =C25*D16 -> 0 | F25: =C25 -> 0 | G25: =F25*G16 -> 0 | I25: 0 | J25: =I25*J16 -> 0
A26: Pensioen reservering ABP | C26: 0 | D26: =C26*D16 -> 0 | F26: 0 | G26: =F26*G16 -> 0 | I26: 0 | J26: =I26*J16 -> 0
A27: Scholing reservering | C27: 0 | D27: =C27*D16 -> 0 | F27: 0 | G27: =F27*G16 -> 0 | I27: 0 | J27: =I27*J16 -> 0
A28: Specificeren | C28: 0 | D28: =C28*D16 -> 0 | F28: 0 | G28: =F28*G16 -> 0 | I28: 0 | J28: =I28*J16 -> 0
C29: =SUM(C18:C28) -> 0 | D29: =C29*D16 -> 0 | F29: =SUM(F18:F28) -> 0 | G29: =F29*G16 -> 0 | I29: =SUM(I18:I28) -> 0 | J29: =I29*J16 -> 0
D30: =D16+D29 -> 1.1705 | G30: =G16+G29 -> 1.1705 | J30: =J16+J29 -> 1.1705
A31: Additionele werkgeverslasten
A32: Specificeren | C32: 0 | D32: =C32*D30 -> 0 | F32: 0 | G32: =F32*G30 -> 0 | I32: 0 | J32: =I32*J30 -> 0
A33: Specificeren | C33: 0 | D33: =C33*D30 -> 0 | F33: 0 | G33: =F33*G30 -> 0 | I33: 0 | J33: =I33*J30 -> 0
A34: Specificeren | C34: 0 | D34: =C34*D30 -> 0 | F34: 0 | G34: =F34*G30 -> 0 | I34: 0 | J34: =I34*J30 -> 0
A35: Specificeren | C35: 0 | D35: =C35*D30 -> 0 | F35: 0 | G35: =F35*G30 -> 0 | I35: 0 | J35: =I35*J30 -> 0
C36: =SUM(C32:C35) -> 0 | D36: =D30*C36 -> 0 | F36: =SUM(F32:F35) -> 0 | G36: =G30*F36 -> 0 | I36: =SUM(I32:I35) -> 0 | J36: =J30*I36 -> 0
A37: Loonsomfactoren declarabele uren | D37: =D30+D36 -> 1.1705 | G37: =G30+G36 -> 1.1705 | J37: =J30+J36 -> 1.1705
A39: Toelichting:
A40: N.B. 1 Jaarlijks worden per 1 januari, eenmalig de kostprijzen aangepast, na goedkeuring van Opdrachtgever.
A41: NB 2:Uitleg invullen sheet: alle reserveringen moeten worden ingevuld in de blauwe niet beveiligde cellen. De reserveringen worden automatisch doorberekend en komen als totale loonsomfactor in het sheet te staan. In het donkergrijze blok 3 'Additionele werkgeverslasten' kunnen bedrijfspecifieke omschrijvingen opgenomen worden. Tijdens de duur van het contract wordt Blok 3; Additionele werkgeverslasten niet meer aangepast.
A42: NB 3: in cel B1 dient u de bedrijfsnaam van de organisatie in te vullen.

Sheet KP payroll 2024 AOW
A1: Naam Aanbieder: | B1: SVP invullen
C3: AOW Declarabele uren | F3: AOW Contracturen
A5: Salaris
A6: Bruto uursalaris | C6: 1 | D6: =C6 -> 1 | F6: 1 | G6: =F6 -> 1
C7: 0 | D7: =C7 -> 0 | F7: 0 | G7: =F7 -> 0
D8: =SUM(D6:D7) -> 1 | G8: =SUM(G6:G7) -> 1
A9: Reserveringen
A10: Feestdagen | C10: 0 | D10: =C10*D8 -> 0 | F10: 0 | G10: =F10*G8 -> 0
A11: Vakantiedagen | C11: 0 | D11: =C11*D8 -> 0 | F11: 0 | G11: =F11*G8 -> 0
A12: Kort verzuim / buitengewoon verlof | C12: 0 | D12: =C12*D8 -> 0 | F12: 0 | G12: =F12*G8 -> 0
C13: =SUM(C10:C12) -> 0 | D13: =D8*C13 -> 0 | F13: =SUM(F10:F12) -> 0 | G13: =G8*F13 -> 0
D14: =D8+D13 -> 1 | G14: =G8+G13 -> 1
A15: Reservering IKB (Individueel Keuze Budget; 8% vakantietoeslag, 1,5% levensloopregeling en 7,55% eindejaarsuitkering) | C15: 0.1705 | D15: =D14*C15 -> 0.1705 | F15: =C15 -> 0.1705 | G15: =G14*F15 -> 0.1705
D16: =SUM(D14:D15) -> 1.1705 | G16: =SUM(G14:G15) -> 1.1705
A17: Werkgeverslasten
A18: Ziektewet | C18: 0 | D18: =C18*D16 -> 0 | F18: 0 | G18: =F18*G16 -> 0
A19: WW - PWAWW | C19: 0 | D19: =C19*D16 -> 0 | F19: 0 | G19: =F19*G16 -> 0
A20: Premie AWF | C20: 0 | D20: =C20*D16 -> 0 | F20: 0 | G20: =F20*G16 -> 0
A21: Premie aanvulling ziektewet (AZW) | C21: 0 | D21: =C21*D16 -> 0 | F21: 0 | G21: =F21*G16 -> 0
A22: Zorgverzekeringswet (ZVW) | C22: 0 | D22: =C22*D16 -> 0 | F22: 0 | G22: =F22*G16 -> 0
A23: AOF incl. kinderopvang | C23: 0 | D23: =C23*D16 -> 0 | F23: 0 | G23: =F23*G16 -> 0
A24: WGA | C24: 0 | D24: =C24*D16 -> 0 | F24: 0 | G24: =F24*G16 -> 0
A25: Transitievergoeding | C25: 0 | D25: =C25*D16 -> 0 | F25: 0 | G25: =F25*G16 -> 0
A26: Pensioen reservering ABP | C26: 0 | D26: =C26*D16 -> 0 | F26: 0 | G26: =F26*G16 -> 0
A27: Scholing reservering | C27: 0 | D27: =C27*D16 -> 0 | F27: 0 | G27: =F27*G16 -> 0
A28: Specificeren | C28: 0 | D28: =C28*D16 -> 0 | F28: 0 | G28: =F28*G16 -> 0
C29: =SUM(C18:C28) -> 0 | D29: =C29*D16 -> 0 | F29: =SUM(F18:F28) -> 0 | G29: =F29*G16 -> 0
D30: =D16+D29 -> 1.1705 | G30: =G16+G29 -> 1.1705
A31: Additionele werkgeverslasten
A32: Specificeren | C32: 0 | D32: =C32*D30 -> 0 | F32: 0 | G32: =F32*G30 -> 0
A33: Specificeren | C33: 0 | D33: =C33*D30 -> 0 | F33: 0 | G33: =F33*G30 -> 0
A34: Specificeren | C34: 0 | D34: =C34*D30 -> 0 | F34: 0 | G34: =F34*G30 -> 0
A35: Specificeren | C35: 0 | D35: =C35*D30 -> 0 | F35: 0 | G35: =F35*G30 -> 0
C36: =SUM(C32:C35) -> 0 | D36: =D30*C36 -> 0 | F36: =SUM(F32:F35) -> 0 | G36: =G30*F36 -> 0
A37: Loonsomfactoren payroll AOW uren | D37: =D30+D36 -> 1.1705 | G37: =G30+G36 -> 1.1705
A39: Toelichting:
A40: N.B. 1 Jaarlijks worden per 1 januari, eenmalig de kostprijzen aangepast, na goedkeuring van Opdrachtgever.
A41: NB 2:Uitleg invullen sheet: alle reserveringen moeten worden ingevuld in de blauwe niet beveiligde cellen. De reserveringen worden automatisch doorberekend en komen als totale loonsomfactor in het sheet te staan. In het donkergrijze blok 3 'Additionele werkgeverslasten' kunnen bedrijfspecifieke omschrijvingen opgenomen worden. Tijdens de duur van het contract wordt Blok 3; Additionele werkgeverslasten niet meer aangepast.
A42: NB 3: in cel B1 dient u de bedrijfsnaam van de organisatie in te vullen.

Sheet KP regulier uitzend 2024
A1: Naam Aanbieder: | B1: SVP invullen
B2: Risicogroep Uitzendbedrijven I- Administratief | H2: Risicogroep Uitzendbedrijven II - Technisch
B4: Overeenkomst (Fase A) | E4: Bepaalde tijd contract (Fase B) | H4: Overeenkomst (Fase A) | K4: Bepaalde tijd contract (Fase B)
A6: Salaris
A7: Bruto uursalaris | B7: 1 | C7: =B7 -> 1 | E7: 1 | F7: =E7 -> 1 | H7: 1 | I7: =H7 -> 1 | K7: 1 | L7: =K7 -> 1
B8: 0 | C8: =B8 -> 0 | E8: 0 | F8: =E8 -> 0 | H8: 0 | I8: =H8 -> 0 | K8: 0 | L8: =K8 -> 0
C9: =SUM(C7:C8) -> 1 | F9: =SUM(F7:F8) -> 1 | I9: =SUM(I7:I8) -> 1 | L9: =SUM(L7:L8) -> 1
A10: Reserveringen
A11: Feestdagen | B11: 0 | C11: =B11*C9 -> 0 | E11: 0 | F11: =E11*F9 -> 0 | H11: 0 | I11: =H11*I9 -> 0 | K11: 0 | L11: =K11*L9 -> 0
A12: Vakantiedagen | B12: 0 | C12: =B12*C9 -> 0 | E12: 0 | F12: =E12*F9 -> 0 | H12: 0 | I12: =H12*I9 -> 0 | K12: 0 | L12: =K12*L9 -> 0
A13: Kort verzuim / buitengewoon verlof | B13: 0 | C13: =B13*C9 -> 0 | E13: 0 | F13: =E13*F9 -> 0 | H13: 0 | I13: =H13*I9 -> 0 | K13: 0 | L13: =K13*L9 -> 0
B14: =SUM(B11:B13) -> 0 | C14: =SUM(C11:C13) -> 0 | E14: =SUM(E11:E13) -> 0 | F14: =SUM(F11:F13) -> 0 | H14: =SUM(H11:H13) -> 0 | I14: =SUM(I11:I13) -> 0 | K14: =SUM(K11:K13) -> 0 | L14: =SUM(L11:L13) -> 0
C15: =C9+C14 -> 1 | F15: =F9+F14 -> 1 | I15: =I9+I14 -> 1 | L15: =L9+L14 -> 1
A16: Reservering IKB (Individueel Keuze Budget; 8% vakantietoeslag, 1,5% levensloopregeling en 7,55% eindejaarsuitkering) | B16: 0.1705 | C16: =C15*B16 -> 0.1705 | E16: 0.1705 | F16: =F15*E16 -> 0.1705 | H16: 0.1705 | I16: =I15*H16 -> 0.1705 | K16: 0.1705 | L16: =L15*K16 -> 0.1705
C17: =SUM(C15:C16) -> 1.1705 | F17: =SUM(F15:F16) -> 1.1705 | I17: =SUM(I15:I16) -> 1.1705 | L17: =SUM(L15:L16) -> 1.1705
A18: Werkgeverslasten
A19: Ziektewet | B19: 0 | C19: =B19*C17 -> 0 | E19: 0 | F19: =E19*F17 -> 0 | H19: 0 | I19: =H19*I17 -> 0 | K19: 0 | L19: =K19*L17 -> 0
A20: Stichting Sociaal fonds uitzendbranche (SFU) | B20: 0 | C20: =B20*C17 -> 0 | E20: 0 | F20: =E20*F17 -> 0 | H20: 0 | I20: =H20*I17 -> 0 | K20: 0 | L20: =K20*L17 -> 0
A21: Premie WW -SPAWW | B21: 0 | C21: =B21*C17 -> 0 | E21: 0 | F21: =E21*F17 -> 0 | H21: 0 | I21: =H21*I17 -> 0 | K21: 0 | L21: =K21*L17 -> 0
A22: Premie AWF | B22: 0 | C22: =B22*C17 -> 0 | E22: 0 | F22: =E22*F17 -> 0 | H22: 0 | I22: =H22*I17 -> 0 | K22: 0 | L22: =K22*L17 -> 0
A23: Premie aanvulling ziektewet (AZW) | B23: 0 | C23: =B23*C17 -> 0 | E23: 0 | F23: =E23*F17 -> 0 | H23: 0 | I23: =H23*I17 -> 0 | K23: 0 | L23: =K23*L17 -> 0
A24: Zorgverzekeringswet (ZVW) | B24: 0 | C24: =B24*C17 -> 0 | E24: 0 | F24: =E24*F17 -> 0 | H24: 0 | I24: =H24*I17 -> 0 | K24: 0 | L24: =K24*L17 -> 0
A25: AOF incl. kinderopvang | B25: 0 | C25: =B25*C17 -> 0 | E25: 0 | F25: =E25*F17 -> 0 | H25: 0 | I25: =H25*I17 -> 0 | K25: 0 | L25: =K25*L17 -> 0
A26: Transitievergoeding | B26: 0 | C26: =B26*C17 -> 0 | E26: 0 | F26: =E26*F17 -> 0 | H26: 0 | I26: =H26*I17 -> 0 | K26: 0 | L26: =K26*L17 -> 0
A27: WGA totaal | B27: 0 | C27: =B27*C17 -> 0 | E27: 0 | F27: =E27*F17 -> 0 | H27: 0 | I27: =H27*I17 -> 0 | K27: 0 | L27: =K27*L17 -> 0
A28: Pensioen reservering | B28: 0 | C28: =B28*C17 -> 0 | E28: 0 | F28: =E28*F17 -> 0 | H28: 0 | I28: =H28*I17 -> 0 | K28: 0 | L28: =K28*L17 -> 0
A29: Scholing reservering | B29: 0 | C29: =B29*C17 -> 0 | E29: 0 | F29: =E29*F17 -> 0 | H29: 0 | I29: =H29*I17 -> 0 | K29: 0 | L29: =K29*L17 -> 0
A30: Specificeren | B30: 0 | C30: =B30*C17 -> 0 | E30: 0 | F30: =E30*F17 -> 0 | H30: 0 | I30: =H30*I17 -> 0 | K30: 0 | L30: =K30*L17 -> 0
B31: =SUM(B19:B30) -> 0 | C31: =C17*B31 -> 0 | E31: =SUM(E19:E30) -> 0 | F31: =F17*E31 -> 0 | H31: =SUM(H19:H30) -> 0 | I31: =I17*H31 -> 0 | K31: =SUM(K19:K30) -> 0 | L31: =L17*K31 -> 0
C32: =C17+C31 -> 1.1705 | F32: =F17+F31 -> 1.1705 | I32: =I17+I31 -> 1.1705 | L32: =L17+L31 -> 1.1705
A33: Additionele werkgeverslasten
A34: Specificeren | B34: 0 | C34: =B34*C32 -> 0 | E34: 0 | F34: =E34*F32 -> 0 | H34: 0 | I34: =H34*I32 -> 0 | K34: 0 | L34: =K34*L32 -> 0
A35: Specificeren | B35: 0 | C35: =B35*C32 -> 0 | E35: 0 | F35: =E35*F32 -> 0 | H35: 0 | I35: =H35*I32 -> 0 | K35: 0 | L35: =K35*L32 -> 0
A36: Specificeren | B36: 0 | C36: =B36*C32 -> 0 | E36: 0 | F36: =E36*F32 -> 0 | H36: 0 | I36: =H36*I32 -> 0 | K36: 0 | L36: =K36*L32 -> 0
A37: Specificeren | B37: 0 | C37: =B37*C32 -> 0 | E37: 0 | F37: =E37*F32 -> 0 | H37: 0 | I37: =H37*I32 -> 0 | K37: 0 | L37: =K37*L32 -> 0
B38: =SUM(B34:B37) -> 0 | C38: =C32*B38 -> 0 | E38: =SUM(E34:E37) -> 0 | F38: =F32*E38 -> 0 | H38: =SUM(H34:H37) -> 0 | I38: =I32*H38 -> 0 | K38: =SUM(K34:K37) -> 0 | L38: =L32*K38 -> 0
A39: Loonsomfactor reguliere uren | C39: =C32+C38 -> 1.1705 | F39: =F32+F38 -> 1.1705 | I39: =I32+I38 -> 1.1705 | L39: =L32+L38 -> 1.1705
A41: Toelichting:
A42: N.B. 1 De ingevulde percentages zijn de officiële percentages van de ABU CAO. Deze zullen worden gehanteerd gedurende de contractperiode. Per ingangsdatum van het contract zullen deze worden aangepast aan de officiële, door de ABU gepubliceerde, percentages, denk hierbij aan scholingsreservering, kort verzuim, feestdagen, vakantiedagen etc.
A43: NB 2:Uitleg invullen sheet: alle reserveringen moeten worden ingevuld in de blauwe niet beveiligde cellen. De reserveringen worden automatisch doorberekend en komen als totale loonsomfactor in het sheet te staan. In het donkergrijze blok 3 'Additionele werkgeverslasten' kunnen bedrijfspecifieke omschrijvingen opgenomen worden. Tijdens de duur van het contract wordt Blok 3; Additionele werkgeverslasten niet meer aangepast.
...

Sheet KP toeslaguren uitzend 2024
A1: Naam Aanbieder: | B1: SVP invullen
B2: Risicogroep Uitzendbedrijven I- Administratief | H2: Risicogroep Uitzendbedrijven II - Technisch
B4: Toeslaguren Overeenkomst (Fase A) | E4: Toeslaguren Bepaalde tijd contract (Fase B) | H4: Toeslaguren Overeenkomst (Fase A) | K4: Toeslaguren Bepaalde tijd contract (Fase B)
A6: Salaris
A7: Bruto uursalaris | B7: 1 | C7: =B7 -> 1 | E7: 1 | F7: =E7 -> 1 | H7: 1 | I7: =H7 -> 1 | K7: 1 | L7: =K7 -> 1
B8: 0 | C8: =B8 -> 0 | E8: 0 | F8: =E8 -> 0 | H8: 0 | I8: =H8 -> 0 | K8: 0 | L8: =K8 -> 0
C9: =SUM(C7:C8) -> 1 | F9: =SUM(F7:F8) -> 1 | I9: =SUM(I7:I8) -> 1 | L9: =SUM(L7:L8) -> 1
A10: Reserveringen
A11: Feestdagen | B11: 0 | C11: =B11*C9 -> 0 | E11: 0 | F11: =E11*F9 -> 0 | H11: 0 | I11: =H11*I9 -> 0 | K11: 0 | L11: =K11*L9 -> 0
A12: Vakantiedagen | B12: 0 | C12: =B12*C9 -> 0 | E12: 0 | F12: =E12*F9 -> 0 | H12: 0 | I12: =H12*I9 -> 0 | K12: 0 | L12: =K12*L9 -> 0
A13: Kort verzuim / buitengewoon verlof | B13: 0 | C13: =B13*C9 -> 0 | E13: 0 | F13: =E13*F9 -> 0 | H13: 0 | I13: =H13*I9 -> 0 | K13: 0 | L13: =K13*L9 -> 0
B14: =SUM(B11:B13) -> 0 | C14: =SUM(C11:C13) -> 0 | E14: =SUM(E11:E13) -> 0 | F14: =SUM(F11:F13) -> 0 | H14: =SUM(H11:H13) -> 0 | I14: =SUM(I11:I13) -> 0 | K14: =SUM(K11:K13) -> 0 | L14: =SUM(L11:L13) -> 0
C15: =C9+C14 -> 1 | F15: =F9+F14 -> 1 | I15: =I9+I14 -> 1 | L15: =L9+L14 -> 1
A16: Reservering IKB (Individueel Keuze Budget; 8% vakantietoeslag, 1,5% levensloopregeling en 7,55% eindejaarsuitkering) | B16: 0.1705 | C16: =C15*B16 -> 0.1705 | E16: 0.1705 | F16: =F15*E16 -> 0.1705 | H16: 0.1705 | I16: =I15*H16 -> 0.1705 | K16: 0.1705 | L16: =L15*K16 -> 0.1705
C17: =SUM(C15:C16) -> 1.1705 | F17: =SUM(F15:F16) -> 1.1705 | I17: =SUM(I15:I16) -> 1.1705 | L17: =SUM(L15:L16) -> 1.1705
A18: Werkgeverslasten
A19: Ziektewet | B19: 0 | C19: =B19*C17 -> 0 | E19: 0 | F19: =E19*F17 -> 0 | H19: 0 | I19: =H19*I17 -> 0 | K19: 0 | L19: =K19*L17 -> 0
A20: Stichting Sociaal fonds uitzendbranche (SFU) | B20: 0 | C20: =B20*C17 -> 0 | E20: 0 | F20: =E20*F17 -> 0 | H20: 0 | I20: =H20*I17 -> 0 | K20: 0 | L20: =K20*L17 -> 0
A21: Premie WW -SPAWW | B21: 0 | C21: =B21*C17 -> 0 | E21: 0 | F21: =E21*F17 -> 0 | H21: 0 | I21: =H21*I17 -> 0 | K21: 0 | L21: =K21*L17 -> 0
A22: Premie AWF | B22: 0 | C22: =B22*C17 -> 0 | E22: 0 | F22: =E22*F17 -> 0 | H22: 0 | I22: =H22*I17 -> 0 | K22: 0 | L22: =K22*L17 -> 0
A23: Premie aanvulling ziektewet (AZW) | B23: 0 | C23: =B23*C17 -> 0 | E23: 0 | F23: =E23*F17 -> 0 | H23: 0 | I23: =H23*I17 -> 0 | K23: 0 | L23: =K23*L17 -> 0
A24: Zorgverzekeringswet (ZVW) | B24: 0 | C24: =B24*C17 -> 0 | E24: 0 | F24: =E24*F17 -> 0 | H24: 0 | I24: =H24*I17 -> 0 | K24: 0 | L24: =K24*L17 -> 0
A25: AOF incl. kinderopvang | B25: 0 | C25: =B25*C17 -> 0 | E25: 0 | F25: =E25*F17 -> 0 | H25: 0 | I25: =H25*I17 -> 0 | K25: 0 | L25: =K25*L17 -> 0
A26: Transitievergoeding | B26: 0 | C26: =B26*C17 -> 0 | E26: 0 | F26: =E26*F17 -> 0 | H26: 0 | I26: =H26*I17 -> 0 | K26: 0 | L26: =K26*L17 -> 0
A27: WGA totaal | B27: 0 | C27: =B27*C17 -> 0 | E27: 0 | F27: =E27*F17 -> 0 | H27: 0 | I27: =H27*I17 -> 0 | K27: 0 | L27: =K27*L17 -> 0
A28: Pensioen reservering | B28: 0 | C28: =B28*C17 -> 0 | E28: 0 | F28: =E28*F17 -> 0 | H28: 0 | I28: =H28*I17 -> 0 | K28: 0 | L28: =K28*L17 -> 0
A29: Scholing reservering | B29: 0 | C29: =B29*C17 -> 0 | E29: 0 | F29: =E29*F17 -> 0 | H29: 0 | I29: =H29*I17 -> 0 | K29: 0 | L29: =K29*L17 -> 0
A30: Specificeren | B30: 0 | C30: =B30*C17 -> 0 | E30: 0 | F30: =E30*F17 -> 0 | H30: 0 | I30: =H30*I17 -> 0 | K30: 0 | L30: =K30*L17 -> 0
B31: =SUM(B19:B30) -> 0 | C31: =C17*B31 -> 0 | E31: =SUM(E19:E30) -> 0 | F31: =F17*E31 -> 0 | H31: =SUM(H19:H30) -> 0 | I31: =I17*H31 -> 0 | K31: =SUM(K19:K30) -> 0 | L31: =L17*K31 -> 0
C32: =C17+C31 -> 1.1705 | F32: =F17+F31 -> 1.1705 | I32: =I17+I31 -> 1.1705 | L32: =L17+L31 -> 1.1705
A33: Additionele werkgeverslasten
A34: Specificeren | B34: 0 | C34: =B34*C32 -> 0 | E34: 0 | F34: =E34*F32 -> 0 | H34: 0 | I34: =H34*I32 -> 0 | K34: 0 | L34: =K34*L32 -> 0
A35: Specificeren | B35: 0 | C35: =B35*C32 -> 0 | E35: 0 | F35: =E35*F32 -> 0 | H35: 0 | I35: =H35*I32 -> 0 | K35: 0 | L35: =K35*L32 -> 0
A36: Specificeren | B36: 0 | C36: =B36*C32 -> 0 | E36: 0 | F36: =E36*F32 -> 0 | H36: 0 | I36: =H36*I32 -> 0 | K36: 0 | L36: =K36*L32 -> 0
A37: Specificeren | B37: 0 | C37: =B37*C32 -> 0 | E37: 0 | F37: =E37*F32 -> 0 | H37: 0 | I37: =H37*I32 -> 0 | K37: 0 | L37: =K37*L32 -> 0
B38: =SUM(B34:B37) -> 0 | C38: =C32*B38 -> 0 | E38: =SUM(E34:E37) -> 0 | F38: =F32*E38 -> 0 | H38: =SUM(H34:H37) -> 0 | I38: =I32*H38 -> 0 | K38: =SUM(K34:K37) -> 0 | L38: =L32*K38 -> 0
A39: Loonsomfactor toeslaguren | C39: =C32+C38 -> 1.1705 | F39: =F32+F38 -> 1.1705 | I39: =I32+I38 -> 1.1705 | L39: =L32+L38 -> 1.1705
A41: Toelichting:
A42: N.B. 1 De ingevulde percentages zijn de officiële percentages van de ABU CAO. Deze zullen worden gehanteerd gedurende de contractperiode. Per ingangsdatum van het contract zullen deze worden aangepast aan de officiële, door de ABU gepubliceerde, percentages, denk hierbij aan scholingsreservering, kort verzuim, feestdagen, vakantiedagen etc.
A43: NB 2:Uitleg invullen sheet: alle reserveringen moeten worden ingevuld in de blauwe niet beveiligde cellen. De reserveringen worden automatisch doorberekend en komen als totale loonsomfactor in het sheet te staan. In het donkergrijze blok 3 'Additionele werkgeverslasten' kunnen bedrijfspecifieke omschrijvingen opgenomen worden. Tijdens de duur van het contract wordt Blok 3; Additionele werkgeverslasten niet meer aangepast.
...

Sheet KP overuren uitzend 2024
A1: Naam Aanbieder: | B1: SVP invullen
B2: Risicogroep Uitzendbedrijven I- Administratief | H2: Risicogroep Uitzendbedrijven II - Technisch
B4: Overuren Overeenkomst (Fase A) | E4: Overuren Bepaalde tijd contract (Fase B) | H4: Overuren Overeenkomst (Fase A) | K4: Overuren Bepaalde tijd contract (Fase B)
A6: Salaris
A7: Bruto uursalaris | B7: 1 | C7: =B7 -> 1 | E7: 1 | F7: =E7 -> 1 | H7: 1 | I7: =H7 -> 1 | K7: 1 | L7: =K7 -> 1
B8: 0 | C8: =B8 -> 0 | E8: 0 | F8: =E8 -> 0 | H8: 0 | I8: =H8 -> 0 | K8: 0 | L8: =K8 -> 0
C9: =SUM(C7:C8) -> 1 | F9: =SUM(F7:F8) -> 1 | I9: =SUM(I7:I8) -> 1 | L9: =SUM(L7:L8) -> 1
A10: Reserveringen
A11: Feestdagen | B11: 0 | C11: =B11*C9 -> 0 | E11: 0 | F11: =E11*F9 -> 0 | H11: 0 | I11: =H11*I9 -> 0 | K11: 0 | L11: =K11*L9 -> 0
A12: Vakantiedagen | B12: 0 | C12: =B12*C9 -> 0 | E12: 0 | F12: =E12*F9 -> 0 | H12: 0 | I12: =H12*I9 -> 0 | K12: 0 | L12: =K12*L9 -> 0
A13: Kort verzuim / buitengewoon verlof | B13: 0 | C13: =B13*C9 -> 0 | E13: 0 | F13: =E13*F9 -> 0 | H13: 0 | I13: =H13*I9 -> 0 | K13: 0 | L13: =K13*L9 -> 0
B14: =SUM(B11:B13) -> 0 | C14: =SUM(C11:C13) -> 0 | E14: =SUM(E11:E13) -> 0 | F14: =F9*E14 -> 0 | H14: =SUM(H11:H13) -> 0 | I14: =I9*H14 -> 0 | K14: =SUM(K11:K13) -> 0 | L14: =L9*K14 -> 0
C15: =C9+C14 -> 1 | F15: =F9+F14 -> 1 | I15: =I9+I14 -> 1 | L15: =L9+L14 -> 1
A16: Reservering IKB (Individueel Keuze Budget; 8% vakantietoeslag, 1,5% levensloopregeling en 7,55% eindejaarsuitkering) | B16: 0.1705 | C16: =C15*B16 -> 0.1705 | E16: 0.1705 | F16: =F15*E16 -> 0.1705 | H16: 0.1705 | I16: =I15*H16 -> 0.1705 | K16: 0.1705 | L16: =L15*K16 -> 0.1705
C17: =SUM(C15:C16) -> 1.1705 | F17: =SUM(F15:F16) -> 1.1705 | I17: =SUM(I15:I16) -> 1.1705 | L17: =SUM(L15:L16) -> 1.1705
A18: Werkgeverslasten
A19: Ziektewet | B19: 0 | C19: =B19*C17 -> 0 | E19: 0 | F19: =E19*F17 -> 0 | H19: 0 | I19: =H19*I17 -> 0 | K19: 0 | L19: =K19*L17 -> 0
A20: Stichting Sociaal fonds uitzendbranche (SFU) | B20: 0 | C20: =B20*C17 -> 0 | E20: 0 | F20: =E20*F17 -> 0 | H20: 0 | I20: =H20*I17 -> 0 | K20: 0 | L20: =K20*L17 -> 0
A21: Premie WW -SPAWW | B21: 0 | C21: =B21*C17 -> 0 | E21: 0 | F21: =E21*F17 -> 0 | H21: 0 | I21: =H21*I17 -> 0 | K21: 0 | L21: =K21*L17 -> 0
A22: Premie AWF | B22: 0 | C22: =B22*C17 -> 0 | E22: 0 | F22: =E22*F17 -> 0 | H22: 0 | I22: =H22*I17 -> 0 | K22: 0 | L22: =K22*L17 -> 0
A23: Premie aanvulling ziektewet (AZW) | B23: 0 | C23: =B23*C17 -> 0 | E23: 0 | F23: =E23*F17 -> 0 | H23: 0 | I23: =H23*I17 -> 0 | K23: 0 | L23: =K23*L17 -> 0
A24: Zorgverzekeringswet (ZVW) | B24: 0 | C24: =B24*C17 -> 0 | E24: 0 | F24: =E24*F17 -> 0 | H24: 0 | I24: =H24*I17 -> 0 | K24: 0 | L24: =K24*L17 -> 0
A25: AOF incl. kinderopvang | B25: 0 | C25: =B25*C17 -> 0 | E25: 0 | F25: =E25*F17 -> 0 | H25: 0 | I25: =H25*I17 -> 0 | K25: 0 | L25: =K25*L17 -> 0
A26: Transitievergoeding | B26: 0 | C26: =B26*C17 -> 0 | E26: 0 | F26: =E26*F17 -> 0 | H26: 0 | I26: =H26*I17 -> 0 | K26: 0 | L26: =K26*L17 -> 0
A27: WGA totaal | B27: 0 | C27: =B27*C17 -> 0 | E27: 0 | F27: =E27*F17 -> 0 | H27: 0 | I27: =H27*I17 -> 0 | K27: 0 | L27: =K27*L17 -> 0
A28: Pensioen reservering | B28: 0 | C28: =B28*C17 -> 0 | E28: 0 | F28: =E28*F17 -> 0 | H28: 0 | I28: =H28*I17 -> 0 | K28: 0 | L28: =K28*L17 -> 0
A29: Scholing reservering | B29: 0 | C29: =B29*C17 -> 0 | E29: 0 | F29: =E29*F17 -> 0 | H29: 0 | I29: =H29*I17 -> 0 | K29: 0 | L29: =K29*L17 -> 0
A30: Specificeren | B30: 0 | C30: =B30*C17 -> 0 | E30: 0 | F30: =E30*F17 -> 0 | H30: 0 | I30: =H30*I17 -> 0 | K30: 0 | L30: =K30*L17 -> 0
B31: =SUM(B19:B30) -> 0 | C31: =C17*B31 -> 0 | E31: =SUM(E19:E30) -> 0 | F31: =F17*E31 -> 0 | H31: =SUM(H19:H30) -> 0 | I31: =I17*H31 -> 0 | K31: =SUM(K19:K30) -> 0 | L31: =L17*K31 -> 0
C32: =C17+C31 -> 1.1705 | F32: =F17+F31 -> 1.1705 | I32: =I17+I31 -> 1.1705 | L32: =L17+L31 -> 1.1705
A33: Additionele werkgeverslasten
A34: Specificeren | B34: 0 | C34: =B34*C32 -> 0 | E34: 0 | F34: =E34*F32 -> 0 | H34: 0 | I34: =H34*I32 -> 0 | K34: 0 | L34: =K34*L32 -> 0
A35: Specificeren | B35: 0 | C35: =B35*C32 -> 0 | E35: 0 | F35: =E35*F32 -> 0 | H35: 0 | I35: =H35*I32 -> 0 | K35: 0 | L35: =K35*L32 -> 0
A36: Specificeren | B36: 0 | C36: =B36*C32 -> 0 | E36: 0 | F36: =E36*F32 -> 0 | H36: 0 | I36: =H36*I32 -> 0 | K36: 0 | L36: =K36*L32 -> 0
A37: Specificeren | B37: 0 | C37: =B37*C32 -> 0 | E37: 0 | F37: =E37*F32 -> 0 | H37: 0 | I37: =H37*I32 -> 0 | K37: 0 | L37: =K37*L32 -> 0
B38: =SUM(B34:B37) -> 0 | C38: =C32*B38 -> 0 | E38: =SUM(E34:E37) -> 0 | F38: =F32*E38 -> 0 | H38: =SUM(H34:H37) -> 0 | I38: =I32*H38 -> 0 | K38: =SUM(K34:K37) -> 0 | L38: =L32*K38 -> 0
A39: Loonsomfactor overuren | C39: =C32+C38 -> 1.1705 | F39: =F32+F38 -> 1.1705 | I39: =I32+I38 -> 1.1705 | L39: =L32+L38 -> 1.1705
A41: Toelichting:
A42: N.B. 1 De ingevulde percentages zijn de officiële percentages van de ABU CAO. Deze zullen worden gehanteerd gedurende de contractperiode. Per ingangsdatum van het contract zullen deze worden aangepast aan de officiële, door de ABU gepubliceerde, percentages, denk hierbij aan scholingsreservering, kort verzuim, feestdagen, vakantiedagen etc.
A43: NB 2:Uitleg invullen sheet: alle reserveringen moeten worden ingevuld in de blauwe niet beveiligde cellen. De reserveringen worden automatisch doorberekend en komen als totale loonsomfactor in het sheet te staan. In het donkergrijze blok 3 'Additionele werkgeverslasten' kunnen bedrijfspecifieke omschrijvingen opgenomen worden. Tijdens de duur van het contract wordt Blok 3; Additionele werkgeverslasten niet meer aangepast.
...

Sheet KP AOW uitzend 2024
A1: Naam Aanbieder: | B1: SVP invullen
B2: Risicogroep Uitzendbedrijven I- Administratief | H2: Risicogroep Uitzendbedrijven II - Technisch
B4: AOW gerechtigden Overeenkomst (Fase A) | E4: AOW gerechtigden Over/toeslaguren (Fase A) | H4: AOW Gerechtigden Overeenkomst (Fase A) | K4: AOW gerechtigden Over/toeslaguren (Fase A)
A6: Salaris
A7: Bruto uursalaris | B7: 1 | C7: =B7 -> 1 | E7: 1 | F7: =E7 -> 1 | H7: 1 | I7: =H7 -> 1 | K7: 1 | L7: =K7 -> 1
B8: 0 | C8: =B8 -> 0 | E8: 0 | F8: =E8 -> 0 | H8: 0 | I8: =H8 -> 0 | K8: 0 | L8: =K8 -> 0
C9: =SUM(C7:C8) -> 1 | F9: =SUM(F7:F8) -> 1 | I9: =SUM(I7:I8) -> 1 | L9: =SUM(L7:L8) -> 1
A10: Reserveringen
A11: Feestdagen | B11: 0 | C11: =B11*C9 -> 0 | E11: 0 | F11: =E11*F9 -> 0 | H11: 0 | I11: =H11*I9 -> 0 | K11: 0 | L11: =K11*L9 -> 0
A12: Vakantiedagen | B12: 0 | C12: =B12*C9 -> 0 | E12: 0 | F12: =E12*F9 -> 0 | H12: 0 | I12: =H12*I9 -> 0 | K12: 0 | L12: =K12*L9 -> 0
A13: Kort verzuim / buitengewoon verlof | B13: 0 | C13: =B13*C9 -> 0 | E13: 0 | F13: =E13*F9 -> 0 | H13: 0 | I13: =H13*I9 -> 0 | K13: 0 | L13: =K13*L9 -> 0
B14: =SUM(B11:B13) -> 0 | C14: =SUM(C11:C13) -> 0 | E14: =SUM(E11:E13) -> 0 | F14: =F9*E14 -> 0 | H14: =SUM(H11:H13) -> 0 | I14: =I9*H14 -> 0 | K14: =SUM(K11:K13) -> 0 | L14: =L9*K14 -> 0
C15: =C9+C14 -> 1 | F15: =F9+F14 -> 1 | I15: =I9+I14 -> 1 | L15: =L9+L14 -> 1
A16: Reservering IKB (Individueel Keuze Budget; 8% vakantietoeslag, 1,5% levensloopregeling en 7,55% eindejaarsuitkering) | B16: 0.1705 | C16: =C15*B16 -> 0.1705 | E16: 0.1705 | F16: =F15*E16 -> 0.1705 | H16: 0.1705 | I16: =I15*H16 -> 0.1705 | K16: 0.1705 | L16: =L15*K16 -> 0.1705
C17: =SUM(C15:C16) -> 1.1705 | F17: =SUM(F15:F16) -> 1.1705 | I17: =SUM(I15:I16) -> 1.1705 | L17: =SUM(L15:L16) -> 1.1705
A18: Werkgeverslasten
A19: Ziektewet | B19: 0 | C19: =B19*C17 -> 0 | E19: 0 | F19: =E19*F17 -> 0 | H19: 0 | I19: =H19*I17 -> 0 | K19: 0 | L19: =K19*L17 -> 0
A20: Stichting Sociaal fonds uitzendbranche (SFU) | B20: 0 | C20: =B20*C17 -> 0 | E20: 0 | F20: =E20*F17 -> 0 | H20: 0 | I20: =H20*I17 -> 0 | K20: 0 | L20: =K20*L17 -> 0
A21: Premie WW -SPAWW | B21: 0 | C21: =B21*C17 -> 0 | E21: 0 | F21: =E21*F17 -> 0 | H21: 0 | I21: =H21*I17 -> 0 | K21: 0 | L21: =K21*L17 -> 0
A22: Premie AWF | B22: 0 | C22: =B22*C17 -> 0 | E22: 0 | F22: =E22*F17 -> 0 | H22: 0 | I22: =H22*I17 -> 0 | K22: 0 | L22: =K22*L17 -> 0
A23: Premie aanvulling ziektewet (AZW) | B23: 0 | C23: =B23*C17 -> 0 | E23: 0 | F23: =E23*F17 -> 0 | H23: 0 | I23: =H23*I17 -> 0 | K23: 0 | L23: =K23*L17 -> 0
A24: Zorgverzekeringswet (ZVW) | B24: 0 | C24: =B24*C17 -> 0 | E24: 0 | F24: =E24*F17 -> 0 | H24: 0 | I24: =H24*I17 -> 0 | K24: 0 | L24: =K24*L17 -> 0
A25: AOF incl. kinderopvang | B25: 0 | C25: =B25*C17 -> 0 | E25: 0 | F25: =E25*F17 -> 0 | H25: 0 | I25: =H25*I17 -> 0 | K25: 0 | L25: =K25*L17 -> 0
A26: Transitievergoeding | B26: 0 | C26: =B26*C17 -> 0 | E26: 0 | F26: =E26*F17 -> 0 | H26: 0 | I26: =H26*I17 -> 0 | K26: 0 | L26: =K26*L17 -> 0
A27: WGA totaal | B27: 0 | C27: =B27*C17 -> 0 | E27: 0 | F27: =E27*F17 -> 0 | H27: 0 | I27: =H27*I17 -> 0 | K27: 0 | L27: =K27*L17 -> 0
A28: Pensioen reservering | B28: 0 | C28: =B28*C17 -> 0 | E28: 0 | F28: =E28*F17 -> 0 | H28: 0 | I28: =H28*I17 -> 0 | K28: 0 | L28: =K28*L17 -> 0
A29: Scholing reservering | B29: 0 | C29: =B29*C17 -> 0 | E29: 0 | F29: =E29*F17 -> 0 | H29: 0 | I29: =H29*I17 -> 0 | K29: 0 | L29: =K29*L17 -> 0
A30: Specificeren | B30: 0 | C30: =B30*C17 -> 0 | E30: 0 | F30: =E30*F17 -> 0 | H30: 0 | I30: =H30*I17 -> 0 | K30: 0 | L30: =K30*L17 -> 0
B31: =SUM(B19:B30) -> 0 | C31: =C17*B31 -> 0 | E31: =SUM(E19:E30) -> 0 | F31: =F17*E31 -> 0 | H31: =SUM(H19:H30) -> 0 | I31: =I17*H31 -> 0 | K31: =SUM(K19:K30) -> 0 | L31: =L17*K31 -> 0
C32: =C17+C31 -> 1.1705 | F32: =F17+F31 -> 1.1705 | I32: =I17+I31 -> 1.1705 | L32: =L17+L31 -> 1.1705
A33: Additionele werkgeverslasten
A34: Specificeren | B34: 0 | C34: =B34*C32 -> 0 | E34: 0 | F34: =E34*F32 -> 0 | H34: 0 | I34: =H34*I32 -> 0 | K34: 0 | L34: =K34*L32 -> 0
A35: Specificeren | B35: 0 | C35: =B35*C32 -> 0 | E35: 0 | F35: =E35*F32 -> 0 | H35: 0 | I35: =H35*I32 -> 0 | K35: 0 | L35: =K35*L32 -> 0
A36: Specificeren | B36: 0 | C36: =B36*C32 -> 0 | E36: 0 | F36: =E36*F32 -> 0 | H36: 0 | I36: =H36*I32 -> 0 | K36: 0 | L36: =K36*L32 -> 0
A37: Specificeren | B37: 0 | C37: =B37*C32 -> 0 | E37: 0 | F37: =E37*F32 -> 0 | H37: 0 | I37: =H37*I32 -> 0 | K37: 0 | L37: =K37*L32 -> 0
B38: =SUM(B34:B37) -> 0 | C38: =C32*B38 -> 0 | E38: =SUM(E34:E37) -> 0 | F38: =F32*E38 -> 0 | H38: =SUM(H34:H37) -> 0 | I38: =I32*H38 -> 0 | K38: =SUM(K34:K37) -> 0 | L38: =L32*K38 -> 0
A39: Loonsomfactor AOW gerechtigden | C39: =C32+C38 -> 1.1705 | F39: =F32+F38 -> 1.1705 | I39: =I32+I38 -> 1.1705 | L39: =L32+L38 -> 1.1705
A40: Toelichting:
A41: N.B. 1 De ingevulde percentages zijn de officiële percentages van de ABU CAO. Deze zullen worden gehanteerd gedurende de contractperiode. Per ingangsdatum van het contract zullen deze worden aangepast aan de officiële, door de ABU gepubliceerde, percentages, denk hierbij aan scholingsreservering, kort verzuim, feestdagen, vakantiedagen etc.
A42: NB 2:Uitleg invullen sheet: alle reserveringen moeten worden ingevuld in de blauwe niet beveiligde cellen. De reserveringen worden automatisch doorberekend en komen als totale loonsomfactor in het sheet te staan. In het donkergrijze blok 3 'Additionele werkgeverslasten' kunnen bedrijfspecifieke omschrijvingen opgenomen worden. Tijdens de duur van het contract wordt Blok 3; Additionele werkgeverslasten niet meer aangepast.
...

Sheet KP vakantiekr. uitzend 2024
A1: Naam Aanbieder: | B1: SVP invullen
B2: Risicogroep Uitzendbedrijven I- Administratief | H2: Risicogroep Uitzendbedrijven II - Technisch
B4: Overeenkomst (Fase A) | E4: Over/toeslaguren (Fase A) | H4: Overeenkomst (Fase A) | K4: Over/toeslaguren (Fase A)
A6: Salaris
A7: Bruto uursalaris | B7: 1 | C7: =B7 -> 1 | E7: 1 | F7: =E7 -> 1 | H7: 1 | I7: =H7 -> 1 | K7: 1 | L7: =K7 -> 1
B8: 0 | C8: =B8 -> 0 | E8: 0 | F8: =E8 -> 0 | H8: 0 | I8: =H8 -> 0 | K8: 0 | L8: =K8 -> 0
C9: =SUM(C7:C8) -> 1 | F9: =SUM(F7:F8) -> 1 | I9: =SUM(I7:I8) -> 1 | L9: =SUM(L7:L8) -> 1
A10: Reserveringen
A11: Feestdagen | B11: 0 | C11: =B11*C9 -> 0 | E11: 0 | F11: =E11*F9 -> 0 | H11: 0 | I11: =H11*I9 -> 0 | K11: 0 | L11: =K11*L9 -> 0
A12: Vakantiedagen | B12: 0 | C12: =B12*C9 -> 0 | E12: 0 | F12: =E12*F9 -> 0 | H12: 0 | I12: =H12*I9 -> 0 | K12: 0 | L12: =K12*L9 -> 0
A13: Kort verzuim / buitengewoon verlof | B13: 0 | C13: =B13*C9 -> 0 | E13: 0 | F13: =E13*F9 -> 0 | H13: 0 | I13: =H13*I9 -> 0 | K13: 0 | L13: =K13*L9 -> 0
B14: =SUM(B11:B13) -> 0 | C14: =SUM(C11:C13) -> 0 | E14: =SUM(E11:E13) -> 0 | F14: =F9*E14 -> 0 | H14: =SUM(H11:H13) -> 0 | I14: =I9*H14 -> 0 | K14: =SUM(K11:K13) -> 0 | L14: =L9*K14 -> 0
C15: =C9+C14 -> 1 | F15: =F9+F14 -> 1 | I15: =I9+I14 -> 1 | L15: =L9+L14 -> 1
A16: Reservering IKB (Individueel Keuze Budget; 8% vakantietoeslag, 1,5% levensloopregeling en 7,55% eindejaarsuitkering) | B16: 0.1705 | C16: =C15*B16 -> 0.1705 | E16: 0.1705 | F16: =F15*E16 -> 0.1705 | H16: 0.1705 | I16: =I15*H16 -> 0.1705 | K16: 0.1705 | L16: =L15*K16 -> 0.1705
C17: =SUM(C15:C16) -> 1.1705 | F17: =SUM(F15:F16) -> 1.1705 | I17: =SUM(I15:I16) -> 1.1705 | L17: =SUM(L15:L16) -> 1.1705
A18: Werkgeverslasten
A19: Ziektewet | B19: 0 | C19: =B19*C17 -> 0 | E19: 0 | F19: =E19*F17 -> 0 | H19: 0 | I19: =H19*I17 -> 0 | K19: 0 | L19: =K19*L17 -> 0
A20: Stichting Sociaal fonds uitzendbranche (SFU) | B20: 0 | C20: =B20*C17 -> 0 | E20: 0 | F20: =E20*F17 -> 0 | H20: 0 | I20: =H20*I17 -> 0 | K20: 0 | L20: =K20*L17 -> 0
A21: Premie WW -SPAWW | B21: 0 | C21: =B21*C17 -> 0 | E21: 0 | F21: =E21*F17 -> 0 | H21: 0 | I21: =H21*I17 -> 0 | K21: 0 | L21: =K21*L17 -> 0
A22: Premie AWF | B22: 0 | C22: =B22*C17 -> 0 | E22: 0 | F22: =E22*F17 -> 0 | H22: 0 | I22: =H22*I17 -> 0 | K22: 0 | L22: =K22*L17 -> 0
A23: Premie aanvulling ziektewet (AZW) | B23: 0 | C23: =B23*C17 -> 0 | E23: 0 | F23: =E23*F17 -> 0 | H23: 0 | I23: =H23*I17 -> 0 | K23: 0 | L23: =K23*L17 -> 0
A24: Zorgverzekeringswet (ZVW) | B24: 0 | C24: =B24*C17 -> 0 | E24: 0 | F24: =E24*F17 -> 0 | H24: 0 | I24: =H24*I17 -> 0 | K24: 0 | L24: =K24*L17 -> 0
A25: AOF incl. kinderopvang | B25: 0 | C25: =B25*C17 -> 0 | E25: 0 | F25: =E25*F17 -> 0 | H25: 0 | I25: =H25*I17 -> 0 | K25: 0 | L25: =K25*L17 -> 0
A26: Transitievergoeding | B26: 0 | C26: =B26*C17 -> 0 | E26: 0 | F26: =E26*F17 -> 0 | H26: 0 | I26: =H26*I17 -> 0 | K26: 0 | L26: =K26*L17 -> 0
A27: WGA totaal | B27: 0 | C27: =B27*C17 -> 0 | E27: 0 | F27: =E27*F17 -> 0 | H27: 0 | I27: =H27*I17 -> 0 | K27: 0 | L27: =K27*L17 -> 0
A28: Pensioen reservering | B28: 0 | C28: =B28*C17 -> 0 | E28: 0 | F28: =E28*F17 -> 0 | H28: 0 | I28: =H28*I17 -> 0 | K28: 0 | L28: =K28*L17 -> 0
A29: Scholing reservering | B29: 0 | C29: =B29*C17 -> 0 | E29: 0 | F29: =E29*F17 -> 0 | H29: 0 | I29: =H29*I17 -> 0 | K29: 0 | L29: =K29*L17 -> 0
A30: Specificeren | B30: 0 | C30: =B30*C17 -> 0 | E30: 0 | F30: =E30*F17 -> 0 | H30: 0 | I30: =H30*I17 -> 0 | K30: 0 | L30: =K30*L17 -> 0
B31: =SUM(B19:B30) -> 0 | C31: =C17*B31 -> 0 | E31: =SUM(E19:E30) -> 0 | F31: =F17*E31 -> 0 | H31: =SUM(H19:H30) -> 0 | I31: =I17*H31 -> 0 | K31: =SUM(K19:K30) -> 0 | L31: =L17*K31 -> 0
C32: =C17+C31 -> 1.1705 | F32: =F17+F31 -> 1.1705 | I32: =I17+I31 -> 1.1705 | L32: =L17+L31 -> 1.1705
A33: Additionele werkgeverslasten
A34: Specificeren | B34: 0 | C34: =B34*C32 -> 0 | E34: 0 | F34: =E34*F32 -> 0 | H34: 0 | I34: =H34*I32 -> 0 | K34: 0 | L34: =K34*L32 -> 0
A35: Specificeren | B35: 0 | C35: =B35*C32 -> 0 | E35: 0 | F35: =E35*F32 -> 0 | H35: 0 | I35: =H35*I32 -> 0 | K35: 0 | L35: =K35*L32 -> 0
A36: Specificeren | B36: 0 | C36: =B36*C32 -> 0 | E36: 0 | F36: =E36*F32 -> 0 | H36: 0 | I36: =H36*I32 -> 0 | K36: 0 | L36: =K36*L32 -> 0
A37: Specificeren | B37: 0 | C37: =B37*C32 -> 0 | E37: 0 | F37: =E37*F32 -> 0 | H37: 0 | I37: =H37*I32 -> 0 | K37: 0 | L37: =K37*L32 -> 0
B38: =SUM(B34:B37) -> 0 | C38: =C32*B38 -> 0 | E38: =SUM(E34:E37) -> 0 | F38: =F32*E38 -> 0 | H38: =SUM(H34:H37) -> 0 | I38: =I32*H38 -> 0 | K38: =SUM(K34:K37) -> 0 | L38: =L32*K38 -> 0
A39: Loonsomfactor vakantiekrachten uren | C39: =C32+C38 -> 1.1705 | F39: =F32+F38 -> 1.1705 | I39: =I32+I38 -> 1.1705 | L39: =L32+L38 -> 1.1705
A41: Toelichting:
A42: N.B. 1 De ingevulde percentages zijn de officiële percentages van de ABU CAO. Deze zullen worden gehanteerd gedurende de contractperiode. Per ingangsdatum van het contract zullen deze worden aangepast aan de officiële, door de ABU gepubliceerde, percentages, denk hierbij aan scholingsreservering, kort verzuim, feestdagen, vakantiedagen etc.
A43: NB 2:Uitleg invullen sheet: alle reserveringen moeten worden ingevuld in de blauwe niet beveiligde cellen. De reserveringen worden automatisch doorberekend en komen als totale loonsomfactor in het sheet te staan. In het donkergrijze blok 3 'Additionele werkgeverslasten' kunnen bedrijfspecifieke omschrijvingen opgenomen worden. Tijdens de duur van het contract wordt Blok 3; Additionele werkgeverslasten niet meer aangepast.
...
