Workbook

Sheet 1. Totaal overzicht
A1: Bijlage 11 Prijzenblad - Totaal overzicht
A3: Totaal kosten koffieautomaten | B3: ='3. Automaten en onderhoud'!G8 -> 0
A4: Totaal kosten onderzetkasten | B4: ='3. Automaten en onderhoud'!G14 -> 0
A5: Totaal kosten dagelijks onderhoud | B5: ='3. Automaten en onderhoud'!G21 -> 0
A6: Totaal kosten koffie in de automaat | B6: ='2. Ingrediënten'!I5 -> 0
A7: Totaal kosten overige ingrediënten in de automaat | B7: ='2. Ingrediënten'!D12 -> 0
A8: Totaal kosten losse ingrediënten | B8: ='2. Ingrediënten'!D29 -> 0
A10: TOTAAL | B10: =B3+B4+B5+B6+B7+B8 -> 0
A13: Statutaire naam inschrijver (combinant)
A14: Naam ondertekenaar
A15: Functie ondertekenaar
A16: Handtekening
A19: Plaats en datum

Sheet 2. Ingrediënten
A1: Bijlage 13 Prijzenblad - Ingrediënten
A3: Koffie in de automaat | B3: Aantal consumpties | C3: Aangeboden zetmethode | D3: Aantal gram/mililiter per kopje weergegeven in kg of liter | E3: Totaal volume in kg/liter (kolom B * kolom D) | F3: prijs per kg/liter soort/smaak koffie 1 | G3: prijs per kg/liter soort/smaak koffie 2 | H3: Gemiddelde prijs per kg/liter koffie* | I3: TCO kosten 5 jaar (kolom E * kolom F) *5
A4: automaat koffie | B4: 150000 | E4: =B4*D4 -> 0 | H4: =(F4+G4)/2 -> 0 | I4: =(E4*H4)*5 -> 0
A5: TOTAAL KOSTEN | I5: =SUM(I4:I4) -> 0
A6: * zie pag. 33 beschrijvend document. In deze cel wordt dus de gemiddelde prijs van 2 smaken koffie berekend, zoals die in de cellen F4 en G4 dienen te worden beprijsd.
A8: Overige ingrediënten in de automaat | B8: Totaal aantal kilo per jaar | C8: Prijs per kilo | D8: TCO kosten 5 jaar (kolom B * kolom C) *5
A9: Cacao (prijs o.b.v. aantal kilo) | B9: 100 | D9: =(B9*C9)*5 -> 0
A10: Topping (prijs o.b.v. aantal kilo) | B10: 250 | D10: =(B10*C10)*5 -> 0
A11: Suiker (prijs o.b.v. aantal kilo) | B11: 100 | D11: =(B11*C11)*5 -> 0
A12: TOTAAL KOSTEN | D12: =SUM(D9:D11) -> 0
A15: Losse ingrediënten | B15: Totaal aantal kilo per jaar | C15: Prijs per kilo | D15: TCO kosten 5 jaar (kolom B * kolom C) *5
A16: Gewone thee (zakjes à 2 gram) | B16: 25 | D16: =(B16*C16)*5 -> 0
A17: Earl grey (zakjes à 2 gram) | B17: 25 | D17: =(B17*C17)*5 -> 0
A18: Rooibos (zakjes à 1,5 gram) | B18: 25 | D18: =(B18*C18)*5 -> 0
A19: Groene thee (zakjes à 1,5 gram) | B19: 25 | D19: =(B19*C19)*5 -> 0
A20: Groene thee lemon (zakjes à 2 gram) | B20: 25 | D20: =(B20*C20)*5 -> 0
A21: Tropische vruchten thee (zakjes à 1,5 gram) | B21: 25 | D21: =(B21*C21)*5 -> 0
A22: Bosvruchten thee (zakjes à 1,5 gram) | B22: 25 | D22: =(B22*C22)*5 -> 0
A23: Sterremunt (zakjes à 2 gram) | B23: 25 | D23: =(B23*C23)*5 -> 0
A24: Mango (zakjes à 1,5 gram) | B24: 25 | D24: =(B24*C24)*5 -> 0
A25: Suikersachets (4 grams) | B25: 25 | D25: =(B25*C25)*5 -> 0
A26: Creamersachets (2,5 grams) | B26: 25 | D26: =(B26*C26)*5 -> 0
A27: Sachets met zoetstof (zakjes met 2 zoetjes) | B27: 25 | D27: =(B27*C27)*5 -> 0
A28: Snelfilter koffie (per kilogram) | B28: 200 | D28: =(B28*C28)*5 -> 0
A29: TOTAAL KOSTEN | D29: =SUM(D16:D28) -> 0
A32: Non food ingrediënten en decafé sachets (buiten scope, optionele afname) | B32: Prijs per genoemde eenheid
A33: Roerstaafjes (2000 stuks)
A34: Decafé sachets (1,5 grams, 100 stuks)
A37: Statutaire naam inschrijver (combinant)
A38: Naam ondertekenaar
A39: Functie ondertekenaar
A40: Handtekening
A43: Plaats en datum

Sheet 3. Automaten en onderhoud
A1: Bijlage 13 Prijzenblad - Automaten en onderhoud
A3: Financieringsvorm: | B3: Huur
E5: Initiële looptijd (jaar 1 t/m 5) | H5: Verlengingsjaar 1 (jaar 6) | K5: Verlengingsjaar 2 (jaar 7)
A6: Koffieautomaat | B6: Aantal | C6: Aangeboden model automaat | D6: Zetmethode | E6: Periodieke huurkosten per mnd. (60 mnd.) | F6: Onderhouds- kosten (preventief en correctief) per mnd. | G6: TCO kosten 5 jaar ((kolom E + kolom F) * kolom B) *60 | H6: Periodieke huurkosten per mnd. | I6: Onderhouds- kosten (preventief en correctief) per mnd. | J6: TCO kosten 1 jaar ((kolom H + kolom I) * kolom B) *12 | K6: Periodieke huurkosten per mnd. | L6: Onderhouds- kosten (preventief en correctief) per mnd. | M6: TCO kosten 1 jaar ((kolom K + kolom L) * kolom B) *12
B7: 16 | G7: =((E7+F7)*B7)*60 -> 0 | J7: =((H7+I7)*B7)*12 -> 0 | M7: =((K7+L7)*B7)*12 -> 0
A8: TOTAAL KOSTEN | G8: =SUM(G7:G7) -> 0 | J8: =SUM(J7:J7) -> 0 | M8: =SUM(M7:M7) -> 0
E11: Initiële looptijd (jaar 1 t/m 5) | H11: Verlengingsjaar 1 (jaar 6) | K11: Verlengingsjaar 2 (jaar 7)
A12: Onderzetkast koffieautomaat | B12: Aantal | C12: Aangeboden model onderzetkast | D12: X | E12: Periodieke huurkosten per mnd. | F12: X | G12: TCO kosten 5 jaar (kolom E * kolom B) *60 | H12: Periodieke huurkosten per mnd. | I12: X | J12: TCO kosten 1 jaar (kolom H * kolom B) *12 | K12: Periodieke huurkosten per mnd. | L12: X | M12: TCO kosten 1 jaar (kolom K * kolom B) *12
B13: 10 | D13: X | F13: X | G13: =(E13*B13)*60 -> 0 | I13: X | J13: =(H13*B13)*12 -> 0 | L13: X | M13: =(K13*B13)*12 -> 0
A14: TOTAAL KOSTEN | G14: =SUM(G13:G13) -> 0 | J14: =SUM(J13:J13) -> 0 | M14: =SUM(M13:M13) -> 0
E18: Initiële looptijd (jaar 1 t/m 5) | H18: Verlengingsjaar 1 (jaar 6) | K18: Verlengingsjaar 2 (jaar 7)
A19: Dagelijks onderhoud koffieautomaat | B19: Totaal aantal onderhoudsbeurten per maand | C19: Aangeboden model automaat | D19: X | E19: Periodieke kosten per onderhoudsbeurt | F19: X | G19: TCO kosten 5 jaar (kolom E * kolom B) *60 | H19: Periodieke kosten per onderhoudsbeurt | I19: X | J19: TCO kosten 1 jaar (kolom H * kolom B) *12 | K19: Periodieke kosten per onderhoudsbeurt | L19: X | M19: TCO kosten 1 jaar (kolom K * kolom B) *12
B20: 13 | D20: X | F20: X | G20: =(E20*B20)*60 -> 0 | I20: X | J20: =(H20*B20)*12 -> 0 | L20: X | M20: =(K20*B20)*12 -> 0
A21: TOTAAL KOSTEN | G21: =SUM(G20:G20) -> 0 | J21: =SUM(J20:J20) -> 0 | M21: =SUM(M20:M20) -> 0
A30: Statutaire naam inschrijver (combinant)
A31: Naam ondertekenaar
A32: Functie ondertekenaar
A33: Handtekening
A36: Plaats en datum
