Workbook

Sheet Totaal prijs
A1: Curio
A2: Aanbesteding Drukwerk
A3: Perceel 1 Drukwerk
A4: Prijzenblad
A5: 45568
A7: Inschrijver
A9: Instructie prijzenblad U dient de groen gearceerde cellen van tabbladen Enveloppen', Brochures en folders', 'Periodiek', 'Posters, 'Examenpapier', 'Kaarten' en 'visitekaartjes' volledig in te vullen. Het totaal per onderwerp (tabblad) wordt automatisch overgenomen op dit tabblad 'Totaal prijs'. In de opgegeven prijzen zitten alle kosten inbegrepen. Inschrijver mag geen extra kosten in rekening brengen. Inschrijver is zelf verantwoordelijk voor het indienen van de juistheid van zijn inschrijfprijs. De prijzen zijn inclusief btw. De gehanteerde hoeveelheden worden alleen gehanteerd t.b.v. de onderhavige beoordeling, Inschrijver kan hier geen rechten aan ontlenen.
B12: Enveloppen | C12: =Enveloppen!C68 -> 0 | D12: 0.1 | E12: =C12*D12 -> 0
B13: Brochures en folders | C13: ='Brochures en folders'!C69 -> 0 | D13: 0.5 | E13: =C13*D13 -> 0
B14: Periodiek | C14: =Periodiek!C59 -> 0 | D14: 0.1 | E14: =C14*D14 -> 0
B15: Posters | C15: =Posters!C71 -> 0 | D15: 0.1 | E15: =C15*D15 -> 0
B16: Examenpapier | C16: =Examenpapier!C46 -> 0 | D16: 0.1 | E16: =C16*D16 -> 0
B17: Kaarten | C17: =Kaarten!C24 -> 0 | D17: 0.05 | E17: =C17*D17 -> 0
B18: Visitekaartjes | C18: =Visitekaartjes!C14 -> 0 | D18: 0.05 | E18: =C18*D18 -> 0
B19: Totale inschrijfprijs | C19: =SUM(C12:C18) -> 0 | E19: =SUM(E12:E18) -> 0

Sheet Enveloppen
A1: Enveloppen
B2: Specificatie | C2: Prijs
A3: object | B3: envelop (met striplock)
A4: formaat | B4: 114 x 162 mm. (C6)
A5: prepress | B5: compleet opgemaakt document aangeleverd
A6: papier | B6: 90 g/m2 wit bankpost (FSC gecertificeerd)
A7: press | B7: eenzijdig in PMS
A8: verpakken | B8: handzaam verpakt
A9: aflevering | B9: 1 adres in Etten-Leur
A10: prijs | B10: 500 exemplaren
A11: prijs | B11: elke 500 exemplaren meer
A12: object | B12: envelop met venster (met striplock)
A13: formaat | B13: 162 x 229 mm. (C5)
A14: prepress | B14: compleet opgemaakt document aangeleverd
... A66: prijs | B66: elke 3.000 exemplaren meer
B68: Totaal enveloppen | C68: =SUM(C66+C65+C64+C55+C54+C53+C44+C43+C42+C33+C32+C31+C22+C21+C20+C11+C10+C19+C30+C41+C52+C63) -> 0

Sheet Brochures en folders
A2: Brochures en Folder
B3: Specificatie | C3: Prijs
A4: object | B4: magazine 'Studiekeuzegids mbo'
A5: omvang | B5: 1 soort / 100 pagina's binnenwerk in 4 pagina's omslag
A6: formaat | B6: A4 = 210 x 297 mm staand
A7: prepress | B7: compleet opgemaakt document aangeleverd
A8: papier | B8: omslag: 250 grs houtvrij mat mc, G-Print binnenwerk: 130 grs houtvrij mat mc, G-print (FSC gecertificeerd)
A9: press | B9: geheel 2-zijdig in full colour
A10: afterpress | B10: garenloos brocheren en verpakken
A11: verpakken | B11: handzaam verpakt
A12: aflevering | B12: 1 adres in de regio
A13: prijs | B13: 15.000 exemplaren
A14: prijs | B14: elke 3.000 exemplaren meer
A15: prijs | B15: elke 6.000 exemplaren meer
... A67: prijs | B67: 1.000 stuks
B69: Totaal brochures en folders | C69: =SUM(C4:C67) -> 0

Sheet Periodiek
A2: Periodiek
B3: Specificatie | C3: Prijs
A4: object | B4: A5 kladblok a 50 vel
A5: omvang | B5: bloks a 50 vel, 1 soort
A6: formaat | B6: A5 = 148 x 210 mm staand
A7: prepress | B7: compleet opgemaakt document aangeleverd
A8: papier | B8: 80 grams houvrij wit offset (FSC gecertificeerd)
A9: press | B9: 1-zijdig in 1 kleur
A10: afwerking | B10: schoonsnijden en kopgelijmd op onderbord en verpakken
A11: verpakken | B11: handzaam verpakt
A12: prijs | B12: 15.000 exemplaren
A13: prijs | B13: elke 3.000 exemplaren meer
A14: prijs | B14: elke 6.000 exemplaren meer
A15: prijs | B15: elke 8.000 exemplaren meer
... A23: aflevering | B23: door jullie op voorraad te houden en op afroep te bezorgen (afhankelijk van de bestelde
B24: oplage in 1 of meerdere leveringen)
A25: Prijs | B25: 1.000 exemplaren
A26: prijs | B26: elke 500 exemplaren meer
A27: object | B27: Omslag / Diplomamap
A28: formaat | B28: 506 x 390 mm
A29: papier | B29: 350 grams 2 zijden gestreken sulfaatkarton (FSC gecertificeerd)
A30: bedrukking | B30: eenzijdig in full-colour + matlak
A31: verpakken | B31: handzaam verpakt
A32: aflevering | B32: door jullie op voorraad te houden en op afroep te bezorgen (afhankelijk van de bestelde
B33: oplage in 1 of meerdere leveringen)
A34: Prijs | B34: 1.000 exemplaren
A35: prijs | B35: elke 500 exemplaren meer
A36: object | B36: A4 rapportomslagen Curio, 4 varianten (printwerk)
A37: omvang | B37: 4 varianten gelijk verdeeld over de oplage / 4 pagina's
A38: formaat | B38: plano 420 x 297 mm, afgewerkt A4 = 210 x 297 mm staand
A39: papier | B39: 300 grams houtvrij wit natuurkarton (FSC gecertificeerd)
A40: bedrukking | B40: 2-zijdig in full colour
A41: afwerking | B41: rillen, schoonsnijden en plano verpakken
A42: verpakken | B42: handzaam verpakt, omslagen worden ongevouwen geleverd
A43: aflevering | B43: door jullie op voorraad te houden en op afroep te bezorgen (afhankelijk van de bestelde
B44: oplage in 1 of meerdere leveringen)
A45: Prijs | B45: 1.000 exemplaren
A46: prijs | B46: elke 500 exemplaren meer
A47: object | B47: A5 rapportomslagen Curio, 4 varianten (printwerk)
A48: omvang | B48: 4 varianten gelijk verdeeld over de oplage / 4 pagina's
...

Sheet Posters
A2: Posters
B4: Specificatie | C4: Prijs
A5: object | B5: A0 poster
A6: formaat | B6: A0 = 1189 x 841 mm staand
A7: prepress | B7: compleet opgemaakt document aangeleverd
A8: papier | B8: 150 grams silk mc (FSC gecertificeerd)
A9: press | B9: 1-zijdig in full colour
A10: afterpress | B10: schoonsnijden en verpakken
A11: verpakken | B11: handzaam
A12: aflevering | B12: 1 adres
A13: prijs | B13: 1 stuks
A14: prijs | B14: 5 stuks
A15: prijs | B15: 10 stuks
A16: prijs | B16: 20 stuks
... A69: prijs | B69: 50 stuks
B71: Totaal posters | C71: =SUM(C5:C69) -> 0

Sheet Examenpapier
A2: Examenpapier
B4: Specificatie | C4: Prijs
A5: object | B5: Examenpapier A3 ruit
A6: formaat | B6: 297 x 420 mm. (A3) gevouwen naar A4
A7: prepress | B7: compleet opgemaakt document aangeleverd
A8: papier | B8: 90 g/m2 kopieer- en laserprintgeschikt (FSC gecertificeerd)
A9: press | B9: tweezijdig Cool Gray 4
A10: verpakken | B10: Verpakt per 1.000 stuks
B11: verpakt in dozen en door u op voorraad te houden
A12: levering | B12: op afroep leveren (per 1.000 vel) binnen 24 uur
A13: aflevering | B13: 1 adres in de regio
A14: prijs | B14: 500.000 vel
A15: object | B15: Examenpapier A3 lijn
A16: formaat | B16: 297 x 420 mm. (A3) gevouwen naar A4
A17: prepress | B17: compleet opgemaakt document aangeleverd
A18: papier | B18: 90 g/m2 kopieer- en laserprintgeschikt (FSC gecertificeerd)
A19: press | B19: tweezijdig Cool Gray 4
A20: verpakken | B20: Verpakt per 1.000 stuks
B21: verpakt in dozen en door u op voorraad te houden
A22: levering | B22: op afroep leveren (per 1.000 vel) binnen 24 uur
A23: aflevering | B23: 1 adres in de regio
A24: prijs | B24: 500.000 vel
A25: object | B25: Examenpapier A4 ruit
A26: formaat | B26: 210 x 297 mm. (A4)
A27: prepress | B27: compleet opgemaakt document aangeleverd
A28: papier | B28: 90 g/m2 kopieer- en laserprintgeschikt (FSC gecertificeerd)
A29: press | B29: tweezijdig Cool Gray 4
A30: verpakken | B30: Verpakt per 1.000 stuks
B31: verpakt in dozen en door u op voorraad te houden
A32: levering | B32: op afroep leveren (per 1.000 vel) binnen 24 uur
A33: aflevering | B33: 1 adres in de regio
A34: prijs | B34: 500.000 vel
A35: object | B35: Examenpapier A4 lijn
A36: formaat | B36: 210 x 297 mm. (A4)
A37: prepress | B37: compleet opgemaakt document aangeleverd
A38: papier | B38: 90 g/m2 kopieer- en laserprintgeschikt (FSC gecertificeerd)
A39: press | B39: tweezijdig Cool Gray 4
A40: verpakken | B40: Verpakt per 1.000 stuks
B41: verpakt in dozen en door u op voorraad te houden
A42: levering | B42: op afroep leveren (per 1.000 vel) binnen 24 uur
...

Sheet Kaarten
A1: Kaarten
B2: Specificatie | C2: Prijs
A3: object | B3: kaart A6
A4: formaat | B4: 148 x 105 mm (A6)
A5: prepress | B5: compleet opgemaakt document aangeleverd
A6: papier | B6: 300 g/m2 gestr. sulfaatkarton (FSC gecertificeerd)
A7: press | B7: 2-zijdig bedrukt in full colour
A8: verpakken | B8: handzaam verpakt
A9: aflevering | B9: 1 adres in Etten-Leur
A10: prijs | B10: 100 exemplaren
A11: prijs | B11: 250 exemplaren
A12: prijs | B12: elke 50 exemplaren meer
A13: object | B13: kaart A5
A14: formaat | B14: 148 x 210 (A5)
... A22: prijs | B22: elke 50 exemplaren meer
B24: Totaal kaarten | C24: =SUM(C3:C22) -> 0

Sheet Visitekaartjes
A1: Visitekaartjes
B2: Specificatie | C2: Prijs
A3: object | B3: visitekaartje
A4: formaat | B4: 85 x 55 mm, 2 pagina's
A5: prepress | B5: compleet opgemaakt document aangeleverd
A6: papier | B6: 300 grams houtvrij silk mc
A7: press | B7: 2-zijdig bedrukt in full colour
A8: verpakken | B8: handzaam verpakt
A9: aflevering | B9: 1 adres in Etten-Leur
A10: prijs | B10: 100 exemplaren
A11: prijs | B11: 250 exemplaren
A12: prijs | B12: elke 50 exemplaren meer
B14: Totaal visitekaartjes | C14: =SUM(C3:C12) -> 0
