Workbook
Name asfaltMAXkorting: #REF!
Name asfaltMAXkorting: #REF!
Name asfaltMAXkorting: #REF!
Name asfaltMAXkorting: #REF!
Name asfaltMAXkorting: #REF!
Name asfaltMAXkorting: #REF!
Name asfaltMAXkorting: #REF!
Name asfaltMAXkorting: #REF!
Name bandenCIRCdrempel: #REF!
Name bandenCIRCdrempel: #REF!
Name bandenCIRCdrempel: #REF!
Name bandenCIRCdrempel: #REF!
Name bandenCIRCdrempel: #REF!
Name bandenCIRCdrempel: #REF!
Name bandenCIRCdrempel: #REF!
Name bandenCIRCdrempel: #REF!
Name bandenCIRCfactor: #REF!
Name bandenCIRCfactor: #REF!
Name bandenCIRCfactor: #REF!
Name bandenCIRCfactor: #REF!
Name bandenCIRCfactor: #REF!
Name bandenCIRCfactor: #REF!
Name bandenCIRCfactor: #REF!
Name bandenCIRCfactor: #REF!
Name bandenCIRCkorting: #REF!
Name bandenCIRCkorting: #REF!
Name bandenCIRCkorting: #REF!
Name bandenCIRCkorting: #REF!
Name bandenCIRCkorting: #REF!
Name bandenCIRCkorting: #REF!
Name bandenCIRCkorting: #REF!
Name bandenCIRCkorting: #REF!
Name bandenCIRCplafond: #REF!
Name bandenCIRCplafond: #REF!
Name bandenCIRCplafond: #REF!
Name bandenCIRCplafond: #REF!
Name bandenCIRCplafond: #REF!
Name bandenCIRCplafond: #REF!
Name bandenCIRCplafond: #REF!
Name bandenCIRCplafond: #REF!
Name bandenMAXkorting: #REF!
Name bandenMAXkorting: #REF!
Name bandenMAXkorting: #REF!
Name bandenMAXkorting: #REF!
Name bandenMAXkorting: #REF!
Name bandenMAXkorting: #REF!
Name bandenMAXkorting: #REF!
Name bandenMAXkorting: #REF!
Name bandenMKIdrempel: #REF!
Name bandenMKIdrempel: #REF!
Name bandenMKIdrempel: #REF!
Name bandenMKIdrempel: #REF!
Name bandenMKIdrempel: #REF!
Name bandenMKIdrempel: #REF!
Name bandenMKIdrempel: #REF!
Name bandenMKIdrempel: #REF!
Name bandenMKIfactor: #REF!
Name bandenMKIfactor: #REF!
Name bandenMKIfactor: #REF!
Name bandenMKIfactor: #REF!

Sheet Invulformulier
B1: Opdrachtnaam
B2: Invulformulier Zero-Emissie materieel
B4: Instructie
B5: Gelieve alle grijze vakken in te vullen.
B7: Inschrijver
B8: Voorbeeld BV
B10: Totale fictieve meerwaarde
B11: Behaald | C11: =$M$26+$M$48+$M$58 -> 0
B12: Te behalen | C12: 25000
B15: WERKTUIGEN | E15: Jaar 1 | G15: Jaar 2 | I15: Jaar 3 | K15: Jaar 4
B16: Stage klasse | C16: Brandstof | D16: Weegfactor | E16: Waardering | F16: Aantal uren inzet | G16: Waardering | H16: Aantal uren inzet | I16: Waardering | J16: Aantal uren inzet | K16: Waardering | L16: Aantal uren inzet | M16: Fictieve meerwaarde
B17: zero-emissie | C17: stroom | D17: 10 | E17: =$D17*F17 -> 0 | G17: =$D17*H17 -> 0 | I17: =$D17*J17 -> 0 | K17: =$D17*L17 -> 0
B18: zero-emissie | C18: waterstof | D18: 10 | E18: =$D18*F18 -> 0 | G18: =$D18*H18 -> 0 | I18: =$D18*J18 -> 0 | K18: =$D18*L18 -> 0
B19: stage V | C19: HVO 100 | D19: 6 | E19: =$D19*F19 -> 0 | G19: =$D19*H19 -> 0 | I19: =$D19*J19 -> 0 | K19: =$D19*L19 -> 0
B20: stage IV | C20: HVO 100 | D20: 4 | E20: =$D20*F20 -> 0 | G20: =$D20*H20 -> 0 | I20: =$D20*J20 -> 0 | K20: =$D20*L20 -> 0
B21: stage IIIb | C21: HVO 100 | D21: 2 | E21: =$D21*F21 -> 0 | G21: =$D21*H21 -> 0 | I21: =$D21*J21 -> 0 | K21: =$D21*L21 -> 0
B22: stage V | C22: diesel / HVO(<100) | D22: 4 | E22: =$D22*F22 -> 0 | G22: =$D22*H22 -> 0 | I22: =$D22*J22 -> 0 | K22: =$D22*L22 -> 0
B23: stage IV | C23: diesel / HVO(<100) | D23: 0 | E23: =$D23*F23 -> 0 | G23: =$D23*H23 -> 0 | I23: =$D23*J23 -> 0 | K23: =$D23*L23 -> 0
B24: stage IIIb (eis) | C24: diesel / HVO(<100) | D24: 0 | E24: =$D24*F24 -> 0 | G24: =$D24*H24 -> 0 | I24: =$D24*J24 -> 0 | K24: =$D24*L24 -> 0
D25: totaal | E25: =SUM(E17:E24) -> 0 | F25: =SUM(F17:F24) -> 0 | G25: =SUM(G17:G24) -> 0 | H25: =SUM(H17:H24) -> 0 | I25: =SUM(I17:I24) -> 0 | J25: =SUM(J17:J24) -> 0 | K25: =SUM(K17:K24) -> 0 | L25: =SUM(L17:L24) -> 0
D26: behaald | F26: =IFERROR(((E25/F25)/10)*F27,0) -> 0 | H26: =IFERROR(((G25/H25)/10)*H27,0) -> 0 | J26: =IFERROR(((I25/J25)/10)*J27,0) -> 0 | L26: =IFERROR(((K25/L25)/10)*L27,0) -> 0 | M26: =SUM(E26:L26) -> 0
D27: te behalen | F27: 4000 | H27: 4000 | J27: 4000 | L27: 1000 | M27: 13000
B30: VOERTUIGEN | E30: Jaar 1 | G30: Jaar 2 | I30: Jaar 3 | K30: Jaar 4
B31: Aandrijving | C31: Brandstof | D31: Weegfactor | E31: Waardering | F31: Aantal dagen inzet | G31: Waardering | H31: Aantal dagen inzet | I31: Waardering | J31: Aantal dagen inzet | K31: Waardering | L31: Aantal dagen inzet | M31: Fictieve meerwaarde
B32: elektromotor | C32: stroom | D32: 10 | E32: =$D32*F32 -> 0 | G32: =$D32*H32 -> 0 | I32: =$D32*J32 -> 0 | K32: =$D32*L32 -> 0
B33: (zero emissie) | C33: waterstof | D33: 10 | E33: =$D33*F33 -> 0 | G33: =$D33*H33 -> 0 | I33: =$D33*J33 -> 0 | K33: =$D33*L33 -> 0
B34: verbrandingsmotor | C34: HVO 100 | D34: 7 | E34: =$D34*F34 -> 0 | G34: =$D34*H34 -> 0 | I34: =$D34*J34 -> 0 | K34: =$D34*L34 -> 0
B35: verbrandingsmotor & elektromotor | C35: groen gas (BNG/LBG) | D35: 5.5 | E35: =$D35*F35 -> 0 | G35: =$D35*H35 -> 0 | I35: =$D35*J35 -> 0 | K35: =$D35*L35 -> 0
B36: (plug-in hybride) | C36: aardgas (CNG/LNG) | D36: 4.5 | E36: =$D36*F36 -> 0 | G36: =$D36*H36 -> 0 | I36: =$D36*J36 -> 0 | K36: =$D36*L36 -> 0
C37: HVO(<100)/GTL | D37: 4.5 | E37: =$D37*F37 -> 0 | G37: =$D37*H37 -> 0 | I37: =$D37*J37 -> 0 | K37: =$D37*L37 -> 0
C38: benzine/diesel | D38: 4 | E38: =$D38*F38 -> 0 | G38: =$D38*H38 -> 0 | I38: =$D38*J38 -> 0 | K38: =$D38*L38 -> 0
B39: verbrandingsmotor & elektromotor | C39: groen gas (BNG/LBG) | D39: 3.5 | E39: =$D39*F39 -> 0 | G39: =$D39*H39 -> 0 | I39: =$D39*J39 -> 0 | K39: =$D39*L39 -> 0
B40: (hybride) | C40: aardgas (CNG/LNG) | D40: 2.5 | E40: =$D40*F40 -> 0 | G40: =$D40*H40 -> 0 | I40: =$D40*J40 -> 0 | K40: =$D40*L40 -> 0
C41: HVO(<100)/GTL | D41: 2.5 | E41: =$D41*F41 -> 0 | G41: =$D41*H41 -> 0 | I41: =$D41*J41 -> 0 | K41: =$D41*L41 -> 0
C42: benzine/diesel | D42: 2 | E42: =$D42*F42 -> 0 | G42: =$D42*H42 -> 0 | I42: =$D42*J42 -> 0 | K42: =$D42*L42 -> 0
B43: verbrandingsmotor | C43: groen gas (BNG/LBG) | D43: 2 | E43: =$D43*F43 -> 0 | G43: =$D43*H43 -> 0 | I43: =$D43*J43 -> 0 | K43: =$D43*L43 -> 0
C44: aardgas (CNG/LNG) | D44: 0.5 | E44: =$D44*F44 -> 0 | G44: =$D44*H44 -> 0 | I44: =$D44*J44 -> 0 | K44: =$D44*L44 -> 0
C45: HVO(<100)/GTL | D45: 0.5 | E45: =$D45*F45 -> 0 | G45: =$D45*H45 -> 0 | I45: =$D45*J45 -> 0 | K45: =$D45*L45 -> 0
C46: benzine/diesel | D46: 0 | E46: =$D46*F46 -> 0 | G46: =$D46*H46 -> 0 | I46: =$D46*J46 -> 0 | K46: =$D46*L46 -> 0
D47: totaal | E47: =SUM(E32:E46) -> 0 | F47: =SUM(F32:F46) -> 0 | G47: =SUM(G32:G46) -> 0 | H47: =SUM(H32:H46) -> 0 | I47: =SUM(I32:I46) -> 0 | J47: =SUM(J32:J46) -> 0 | K47: =SUM(K32:K46) -> 0 | L47: =SUM(L32:L46) -> 0
D48: behaald | F48: =IFERROR(((E47/F47)/10)*F49,0) -> 0 | H48: =IFERROR(((G47/H47)/10)*H49,0) -> 0 | J48: =IFERROR(((I47/J47)/10)*J49,0) -> 0 | L48: =IFERROR(((K47/L47)/10)*L49,0) -> 0 | M48: =SUM(E48:L48) -> 0
D49: te behalen | F49: 2500 | H49: 2500 | J49: 2500 | L49: 2500 | M49: 10000
B52: GEREEDSCHAP | E52: Jaar 1 | G52: Jaar 2 | I52: Jaar 3 | K52: Jaar 4
B53: Brandstof | D53: Weegfactor | E53: Waardering | F53: Aantal uren inzet | G53: Waardering | H53: Aantal uren inzet | I53: Waardering | J53: Aantal uren inzet | K53: Waardering | L53: Aantal uren inzet | M53: Fictieve meerwaarde
B54: stroom | D54: 10 | E54: =$D54*F54 -> 0 | G54: =$D54*H54 -> 0 | I54: =$D54*J54 -> 0 | K54: =$D54*L54 -> 0
B55: HVO 100 / ASPEN | D55: 4 | E55: =$D55*F55 -> 0 | G55: =$D55*H55 -> 0 | I55: =$D55*J55 -> 0 | K55: =$D55*L55 -> 0
B56: diesel / HVO (<100) / benzine | D56: 0 | E56: =$D56*F56 -> 0 | G56: =$D56*H56 -> 0 | I56: =$D56*J56 -> 0 | K56: =$D56*L56 -> 0
D57: totaal | E57: =SUM(E54:E56) -> 0 | F57: =SUM(F54:F56) -> 0 | G57: =SUM(G54:G56) -> 0 | H57: =SUM(H54:H56) -> 0 | I57: =SUM(I54:I56) -> 0 | J57: =SUM(J54:J56) -> 0 | K57: =SUM(K54:K56) -> 0 | L57: =SUM(L54:L56) -> 0
D58: behaald | F58: =IFERROR(((E57/F57)/10)*F59,0) -> 0 | H58: =IFERROR(((G57/H57)/10)*H59,0) -> 0 | J58: =IFERROR(((I57/J57)/10)*J59,0) -> 0 | L58: =IFERROR(((K57/L57)/10)*L59,0) -> 0 | M58: =SUM(E58:L58) -> 0
D59: te behalen | F59: 500 | H59: 500 | J59: 500 | L59: 500 | M59: 2000
B61: Inschrijver
B62: gevestigd te
B63: KVK-nummer
B65: (Bij een natuurlijk persoon naam en voornamen voluit, bij een rechtspersoon de statutaire naam; bij een natuurlijk persoon de woonplaats, bij een rechtspersoon de vestigingsplaats.) Inschrijver verklaart zich door ondertekening dezes bereid de verplichtingen uit te zullen voeren welke behoren bij de aangeboden waarden uit bovenstaande tabel. (De inschrijver(s) (zie inschrijvingsbiljet) wijzen als gemachtigde om hen voor alle zaken van de opdracht betreffende te vertegenwoordigen aan, de hierboven genoemde inschrijver.) De inschrijver verklaart deze aanbieding te doen met inachtneming van de bepalingen (inclusief de boetebepalingen en garantiebepalingen) en gegevens zoals deze zijn omschreven in de voor de inschrijving relevante stukken.
B67: gedaan op (datum)
B68: te (plaats)
B70: handtekening
B71: naam
B72: functie
B74: Dit Invulblad geheel invullen, ondertekenen en bij de inschrijving voegen.
B75: De inschrijver draagt het risico van aanwezigheid van dit Invulblad bij de inschrijving.

Sheet Bewijslast 
C1: =Invulformulier!B2 -> Invulformulier Zero-Emissie materieel
C2: Overzicht materieel
C4: Instructie
C5: Gelieve alle grijze vakken in te vullen.
C7: Inschrijver
C8: =Invulformulier!B8 -> Voorbeeld BV
C10: WERKTUIGEN | F10: Jaar 1 | G10: Jaar 2 | H10: Jaar 3 | I10: Jaar 4
C11: Omschrijving | D11: Merk | E11: Kenteken, hoeft niet bij inschrijving te zijn ingevuld | F11: Totale machineuren | G11: Totale machineuren | H11: Totale machineuren | I11: Totale machineuren | J11: Motor | K11: Stageklasse | L11: Brandstof
B12: 1 | L12: Stroom
B13: 2 | L13: HVO 100
B14: 3 | L14: HVO 100
B15: 4 | L15: HVO 100
B16: 5
B17: 6
B18: 7
B19: 8
B20: 9
B21: 10
B22: 11
B23: 12
B24: 13
B25: 14
B26: 15
B27: 16
... B31: 20
C34: VOERTUIGEN | F34: Jaar 1 | G34: Jaar 2 | H34: Jaar 3 | I34: Jaar 4
C35: Omschrijving | D35: Merk | E35: Kenteken, hoeft niet bij inschrijving te zijn ingevuld | F35: Totaal aantal dagen aanwezig | G35: Totaal aantal dagen aanwezig | H35: Totaal aantal dagen aanwezig | I35: Totaal aantal dagen aanwezig | J35: Aandrijving | K35: Euroklasse | L35: Brandstof
B36: 1
B37: 2
B38: 3
B39: 4
B40: 5
B41: 6
B42: 7
B43: 8
B44: 9
B45: 10
B46: 11
B47: 12
... B55: 20
C58: GEREEDSCHAPPEN | F58: Jaar 1 | G58: Jaar 2 | H58: Jaar 3 | I58: Jaar 4
C59: Omschrijving | D59: Merk | E59: Registratienr. hoeft niet bij inschrijving te zijn ingevuld | F59: Totaal aantal dagen aanwezig | G59: Totaal aantal dagen aanwezig | H59: Totaal aantal dagen aanwezig | I59: Totaal aantal dagen aanwezig | J59: Aandrijving | K59: Aanvullende informatie | L59: Brandstof
B60: 1
B61: 2
B62: 3
B63: 4
B64: 5
B65: 6
B66: 7
B67: 8
B68: 9
B69: 10
B70: 11
B71: 12
... B79: 20

Sheet Invulformulier voorbeeld
B1: Opdrachtnaam
B2: Invulformulier Zero-Emissie materieel
B4: Instructie
B5: Gelieve alle grijze vakken in te vullen.
B7: Inschrijver
B8: Voorbeeld B.V.
B10: Totale fictieve meerwaarde
B11: Behaald | C11: =$M$26+$M$48+$M$58 -> 154425.97
B12: Te behalen | C12: =$M$27+$M$49+$M$59 -> 180000
B15: WERKTUIGEN | E15: Jaar 1 | G15: Jaar 2 | I15: Jaar 3 | K15: Jaar 4
B16: Stage klasse | C16: Brandstof | D16: Weegfactor | E16: Waardering | F16: Aantal uren inzet | G16: Waardering | H16: Aantal uren inzet | I16: Waardering | J16: Aantal uren inzet | K16: Waardering | L16: Aantal uren inzet | M16: Fictieve meerwaarde
B17: zero-emissie | C17: stroom | D17: 10 | E17: =$D17*F17 -> 3000 | F17: 300 | G17: =$D17*H17 -> 6000 | H17: 600 | I17: =$D17*J17 -> 6000 | J17: 600 | K17: =$D17*L17 -> 8000 | L17: 800
B18: zero-emissie | C18: waterstof | D18: 10 | E18: =$D18*F18 -> 0 | G18: =$D18*H18 -> 0 | I18: =$D18*J18 -> 0 | K18: =$D18*L18 -> 0
B19: stage V | C19: HVO 100 | D19: 6 | E19: =$D19*F19 -> 7200 | F19: 1200 | G19: =$D19*H19 -> 6000 | H19: 1000 | I19: =$D19*J19 -> 4800 | J19: 800 | K19: =$D19*L19 -> 4800 | L19: 800
B20: stage IV | C20: HVO 100 | D20: 4 | E20: =$D20*F20 -> 0 | G20: =$D20*H20 -> 0 | I20: =$D20*J20 -> 0 | K20: =$D20*L20 -> 0
B21: stage IIIb | C21: HVO 100 | D21: 2 | E21: =$D21*F21 -> 0 | G21: =$D21*H21 -> 0 | I21: =$D21*J21 -> 0 | K21: =$D21*L21 -> 0
B22: stage V | C22: diesel / HVO(<100) | D22: 4 | E22: =$D22*F22 -> 0 | G22: =$D22*H22 -> 0 | I22: =$D22*J22 -> 0 | K22: =$D22*L22 -> 0
B23: stage IV | C23: diesel / HVO(<100) | D23: 0 | E23: =$D23*F23 -> 0 | G23: =$D23*H23 -> 0 | I23: =$D23*J23 -> 0 | K23: =$D23*L23 -> 0
B24: stage IIIb (eis) | C24: diesel / HVO(<100) | D24: 0 | E24: =$D24*F24 -> 0 | G24: =$D24*H24 -> 0 | I24: =$D24*J24 -> 0 | K24: =$D24*L24 -> 0
D25: totaal | E25: =SUM(E17:E24) -> 10200 | F25: =SUM(F17:F24) -> 1500 | G25: =SUM(G17:G24) -> 12000 | H25: =SUM(H17:H24) -> 1600 | I25: =SUM(I17:I24) -> 10800 | J25: =SUM(J17:J24) -> 1400 | K25: =SUM(K17:K24) -> 12800 | L25: =SUM(L17:L24) -> 1600
D26: behaald | F26: =IFERROR(((E25/F25)/10)*F27,0) -> 10200 | H26: =IFERROR(((G25/H25)/10)*H27,0) -> 11250 | J26: =IFERROR(((I25/J25)/10)*J27,0) -> 11571.429 | L26: =IFERROR(((K25/L25)/10)*L27,0) -> 12000 | M26: =SUM(E26:L26) -> 45021.429
D27: te behalen | F27: 15000 | H27: 15000 | J27: 15000 | L27: 15000 | M27: =SUM(F27:L27) -> 60000
B30: VOERTUIGEN | E30: Jaar 1 | G30: Jaar 2 | I30: Jaar 3 | K30: Jaar 4
B31: Aandrijving | C31: Brandstof | D31: Weegfactor | E31: Waardering | F31: Aantal dagen inzet | G31: Waardering | H31: Aantal dagen inzet | I31: Waardering | J31: Aantal dagen inzet | K31: Waardering | L31: Aantal dagen inzet | M31: Fictieve meerwaarde
B32: elektromotor | C32: stroom | D32: 10 | E32: =$D32*F32 -> 200 | F32: 20 | G32: =$D32*H32 -> 300 | H32: 30 | I32: =$D32*J32 -> 300 | J32: 30 | K32: =$D32*L32 -> 500 | L32: 50
B33: (zero emissie) | C33: waterstof | D33: 10 | E33: =$D33*F33 -> 0 | G33: =$D33*H33 -> 0 | I33: =$D33*J33 -> 0 | K33: =$D33*L33 -> 0
B34: verbrandingsmotor | C34: HVO 100 | D34: 7 | E34: =$D34*F34 -> 140 | F34: 20 | G34: =$D34*H34 -> 175 | H34: 25 | I34: =$D34*J34 -> 140 | J34: 20 | K34: =$D34*L34 -> 0
B35: verbrandingsmotor & elektromotor | C35: groen gas (BNG/LBG) | D35: 5.5 | E35: =$D35*F35 -> 0 | G35: =$D35*H35 -> 0 | I35: =$D35*J35 -> 0 | K35: =$D35*L35 -> 0
B36: (plug-in hybride) | C36: aardgas (CNG/LNG) | D36: 4.5 | E36: =$D36*F36 -> 0 | G36: =$D36*H36 -> 0 | I36: =$D36*J36 -> 0 | K36: =$D36*L36 -> 0
C37: HVO(<100)/GTL | D37: 4.5 | E37: =$D37*F37 -> 0 | G37: =$D37*H37 -> 0 | I37: =$D37*J37 -> 0 | K37: =$D37*L37 -> 0
C38: benzine/diesel | D38: 4 | E38: =$D38*F38 -> 0 | G38: =$D38*H38 -> 0 | I38: =$D38*J38 -> 0 | K38: =$D38*L38 -> 0
B39: verbrandingsmotor & elektromotor | C39: groen gas (BNG/LBG) | D39: 3.5 | E39: =$D39*F39 -> 0 | G39: =$D39*H39 -> 0 | I39: =$D39*J39 -> 0 | K39: =$D39*L39 -> 0
B40: (hybride) | C40: aardgas (CNG/LNG) | D40: 2.5 | E40: =$D40*F40 -> 0 | G40: =$D40*H40 -> 0 | I40: =$D40*J40 -> 0 | K40: =$D40*L40 -> 0
C41: HVO(<100)/GTL | D41: 2.5 | E41: =$D41*F41 -> 0 | G41: =$D41*H41 -> 0 | I41: =$D41*J41 -> 0 | K41: =$D41*L41 -> 0
C42: benzine/diesel | D42: 2 | E42: =$D42*F42 -> 0 | G42: =$D42*H42 -> 0 | I42: =$D42*J42 -> 0 | K42: =$D42*L42 -> 0
B43: verbrandingsmotor | C43: groen gas (BNG/LBG) | D43: 2 | E43: =$D43*F43 -> 0 | G43: =$D43*H43 -> 0 | I43: =$D43*J43 -> 0 | K43: =$D43*L43 -> 0
C44: aardgas (CNG/LNG) | D44: 0.5 | E44: =$D44*F44 -> 0 | G44: =$D44*H44 -> 0 | I44: =$D44*J44 -> 0 | K44: =$D44*L44 -> 0
C45: HVO(<100)/GTL | D45: 0.5 | E45: =$D45*F45 -> 0 | G45: =$D45*H45 -> 0 | I45: =$D45*J45 -> 0 | K45: =$D45*L45 -> 0
C46: benzine/diesel | D46: 0 | E46: =$D46*F46 -> 0 | G46: =$D46*H46 -> 0 | I46: =$D46*J46 -> 0 | K46: =$D46*L46 -> 0
D47: totaal | E47: =SUM(E32:E46) -> 340 | F47: =SUM(F32:F46) -> 40 | G47: =SUM(G32:G46) -> 475 | H47: =SUM(H32:H46) -> 55 | I47: =SUM(I32:I46) -> 440 | J47: =SUM(J32:J46) -> 50 | K47: =SUM(K32:K46) -> 500 | L47: =SUM(L32:L46) -> 50
D48: behaald | F48: =IFERROR(((E47/F47)/10)*F49,0) -> 12750 | H48: =IFERROR(((G47/H47)/10)*H49,0) -> 12954.545 | J48: =IFERROR(((I47/J47)/10)*J49,0) -> 13200 | L48: =IFERROR(((K47/L47)/10)*L49,0) -> 15000 | M48: =SUM(E48:L48) -> 53904.545
D49: te behalen | F49: 15000 | H49: 15000 | J49: 15000 | L49: 15000 | M49: =SUM(F49:L49) -> 60000
B52: GEREEDSCHAP | E52: Jaar 1 | G52: Jaar 2 | I52: Jaar 3 | K52: Jaar 4
B53: Brandstof | D53: Weegfactor | E53: Waardering | F53: Aantal uren inzet | G53: Waardering | H53: Aantal uren inzet | I53: Waardering | J53: Aantal uren inzet | K53: Waardering | L53: Aantal uren inzet | M53: Fictieve meerwaarde
B54: stroom | D54: 10 | E54: =$D54*F54 -> 2000 | F54: 200 | G54: =$D54*H54 -> 4000 | H54: 400 | I54: =$D54*J54 -> 6000 | J54: 600 | K54: =$D54*L54 -> 4000 | L54: 400
B55: HVO 100 / ASPEN | D55: 4 | E55: =$D55*F55 -> 800 | F55: 200 | G55: =$D55*H55 -> 0 | I55: =$D55*J55 -> 0 | K55: =$D55*L55 -> 0
B56: diesel / HVO (<100) / benzine | D56: 0 | E56: =$D56*F56 -> 0 | G56: =$D56*H56 -> 0 | I56: =$D56*J56 -> 0 | K56: =$D56*L56 -> 0
D57: totaal | E57: =SUM(E54:E56) -> 2800 | F57: =SUM(F54:F56) -> 400 | G57: =SUM(G54:G56) -> 4000 | H57: =SUM(H54:H56) -> 400 | I57: =SUM(I54:I56) -> 6000 | J57: =SUM(J54:J56) -> 600 | K57: =SUM(K54:K56) -> 4000 | L57: =SUM(L54:L56) -> 400
D58: behaald | F58: =IFERROR(((E57/F57)/10)*F59,0) -> 10500 | H58: =IFERROR(((G57/H57)/10)*H59,0) -> 15000 | J58: =IFERROR(((I57/J57)/10)*J59,0) -> 15000 | L58: =IFERROR(((K57/L57)/10)*L59,0) -> 15000 | M58: =SUM(E58:L58) -> 55500
D59: te behalen | F59: 15000 | H59: 15000 | J59: 15000 | L59: 15000 | M59: =SUM(F59:L59) -> 60000
B61: Inschrijver
B62: gevestigd te
B63: KVK-nummer
B65: (Bij een natuurlijk persoon naam en voornamen voluit, bij een rechtspersoon de statutaire naam; bij een natuurlijk persoon de woonplaats, bij een rechtspersoon de vestigingsplaats.) Inschrijver verklaart zich door ondertekening dezes bereid de verplichtingen uit te zullen voeren welke behoren bij de aangeboden waarden uit bovenstaande tabel. (De inschrijver(s) (zie inschrijvingsbiljet) wijzen als gemachtigde om hen voor alle zaken van de opdracht betreffende te vertegenwoordigen aan, de hierboven genoemde inschrijver.) De inschrijver verklaart deze aanbieding te doen met inachtneming van de bepalingen (inclusief de boetebepalingen en garantiebepalingen) en gegevens zoals deze zijn omschreven in de voor de inschrijving relevante stukken.
B67: gedaan op (datum)
B68: te (plaats)
B70: handtekening
B71: naam
B72: functie
B74: Dit Invulblad geheel invullen, ondertekenen en bij de inschrijving voegen.
B75: De inschrijver draagt het risico van aanwezigheid van dit Invulblad bij de inschrijving.
B153: Helmond2020!

Sheet Voorbeeld Bewijslast
C1: =Invulformulier!B2 -> Invulformulier Zero-Emissie materieel
C2: Overzicht materieel
C4: Instructie
C5: Gelieve alle grijze vakken in te vullen.
C7: Inschrijver
C8: =Invulformulier!B8 -> Voorbeeld BV
C10: WERKTUIGEN | F10: Jaar 1 | G10: Jaar 2 | H10: Jaar 3 | I10: Jaar 4
C11: Omschrijving | D11: Merk | E11: Kenteken | F11: Totale machineuren | G11: Totale machineuren | H11: Totale machineuren | I11: Totale machineuren | J11: Motor | K11: Stageklasse | L11: Brandstof
B12: 1 | C12: Mobiele kraan | D12: Develon | E12: 45-RR-FF | F12: 300 | G12: 900 | J12: Elektro motor | K12: zero-emisie | L12: Stroom
B13: 2 | C13: Mini graver | D13: Develon | E13: 10-PK-OO | F13: 800 | G13: 350 | J13: Diesel motor | K13: Stage V | L13: HVO 100
B14: 3 | C14: Shovel | D14: Develon | E14: 24-IB-OR | F14: 400 | G14: 650 | J14: Diesel motor | K14: Stage V | L14: HVO 100
B15: 4 | C15: Mobiele kraan | D15: Develon | E15: 22-PK-TB | F15: 0 | G15: 100 | J15: Diesel motor | K15: Stage V | L15: HVO 100
B16: 5
B17: 6
B18: 7
B19: 8
B20: 9
B21: 10
B22: 11
B23: 12
B24: 13
B25: 14
B26: 15
B27: 16
... B31: 20
C34: VOERTUIGEN | F34: Jaar 1 | G34: Jaar 2 | H34: Jaar 3 | I34: Jaar 4
C35: Omschrijving | D35: Merk | E35: Kenteken | F35: Totaal aantal dagen aanwezig | G35: Totaal aantal dagen aanwezig | H35: Totaal aantal dagen aanwezig | I35: Totaal aantal dagen aanwezig | J35: Aandrijving | K35: Euroklasse | L35: Brandstof
B36: 1
B37: 2
B38: 3
B39: 4
B40: 5
B41: 6
B42: 7
B43: 8
B44: 9
B45: 10
B46: 11
B47: 12
... B55: 20
C58: GEREEDSCHAPPEN | F58: Jaar 1 | G58: Jaar 2 | H58: Jaar 3 | I58: Jaar 4
C59: Omschrijving | D59: Merk | E59: Registratienr. | F59: Totaal aantal dagen aanwezig | G59: Totaal aantal dagen aanwezig | H59: Totaal aantal dagen aanwezig | I59: Totaal aantal dagen aanwezig | J59: Aandrijving | K59: Aanvullende informatie | L59: Brandstof
B60: 1
B61: 2
B62: 3
B63: 4
B64: 5
B65: 6
B66: 7
B67: 8
B68: 9
B69: 10
B70: 11
B71: 12
... B79: 20

Sheet logboek Totaal
C1: =Invulformulier!B2 -> Invulformulier Zero-Emissie materieel
C2: Overzicht materieel - logboek totaal
C4: Instructie
C5: Gelieve enkel de grijze vakken in te vullen.
C7: Aannemer
C8: =Invulformulier!B8 -> Voorbeeld BV
C10: WERKTUIGEN | I10: Projectduur
C11: Omschrijving | D11: Merk | E11: Kenteken (vanaf 25 km/u)/registratie nr. | F11: Motor | G11: Stageklasse | H11: Brandstof | I11: Totaal aantal beloofde uren | J11: Cumulatieve ingezette uren
B12: 1 | C12: =IF('Voorbeeld Bewijslast'!C12="","",'Voorbeeld Bewijslast'!C12) -> Mobiele kraan | D12: =IF('Voorbeeld Bewijslast'!D12="","",'Voorbeeld Bewijslast'!D12) -> Develon | E12: =IF('Voorbeeld Bewijslast'!E12="","",'Voorbeeld Bewijslast'!E12) -> 45-RR-FF | F12: =IF('Voorbeeld Bewijslast'!J12="","",'Voorbeeld Bewijslast'!J12) -> Elektro motor | G12: =IF('Voorbeeld Bewijslast'!K12="","",'Voorbeeld Bewijslast'!K12) -> zero-emisie | H12: =IF('Voorbeeld Bewijslast'!L12="","",'Voorbeeld Bewijslast'!L12) -> Stroom | I12: =SUM('Voorbeeld Bewijslast'!F12:I12) -> 1200 | J12: =SUM(Begin:Einde!J12) -> 1100
B13: 2 | C13: =IF('Voorbeeld Bewijslast'!C13="","",'Voorbeeld Bewijslast'!C13) -> Mini graver | D13: =IF('Voorbeeld Bewijslast'!D13="","",'Voorbeeld Bewijslast'!D13) -> Develon | E13: =IF('Voorbeeld Bewijslast'!E13="","",'Voorbeeld Bewijslast'!E13) -> 10-PK-OO | F13: =IF('Voorbeeld Bewijslast'!J13="","",'Voorbeeld Bewijslast'!J13) -> Diesel motor | G13: =IF('Voorbeeld Bewijslast'!K13="","",'Voorbeeld Bewijslast'!K13) -> Stage V | H13: =IF('Voorbeeld Bewijslast'!L13="","",'Voorbeeld Bewijslast'!L13) -> HVO 100 | I13: =SUM('Voorbeeld Bewijslast'!F13:I13) -> 1150 | J13: =SUM(Begin:Einde!J13) -> 1150
B14: 3 | C14: =IF('Voorbeeld Bewijslast'!C14="","",'Voorbeeld Bewijslast'!C14) -> Shovel | D14: =IF('Voorbeeld Bewijslast'!D14="","",'Voorbeeld Bewijslast'!D14) -> Develon | E14: =IF('Voorbeeld Bewijslast'!E14="","",'Voorbeeld Bewijslast'!E14) -> 24-IB-OR | F14: =IF('Voorbeeld Bewijslast'!J14="","",'Voorbeeld Bewijslast'!J14) -> Diesel motor | G14: =IF('Voorbeeld Bewijslast'!K14="","",'Voorbeeld Bewijslast'!K14) -> Stage V | H14: =IF('Voorbeeld Bewijslast'!L14="","",'Voorbeeld Bewijslast'!L14) -> HVO 100 | I14: =SUM('Voorbeeld Bewijslast'!F14:I14) -> 1050 | J14: =SUM(Begin:Einde!J14) -> 1050
B15: 4 | C15: =IF('Voorbeeld Bewijslast'!C15="","",'Voorbeeld Bewijslast'!C15) -> Mobiele kraan | D15: =IF('Voorbeeld Bewijslast'!D15="","",'Voorbeeld Bewijslast'!D15) -> Develon | E15: =IF('Voorbeeld Bewijslast'!E15="","",'Voorbeeld Bewijslast'!E15) -> 22-PK-TB | F15: =IF('Voorbeeld Bewijslast'!J15="","",'Voorbeeld Bewijslast'!J15) -> Diesel motor | G15: =IF('Voorbeeld Bewijslast'!K15="","",'Voorbeeld Bewijslast'!K15) -> Stage V | H15: =IF('Voorbeeld Bewijslast'!L15="","",'Voorbeeld Bewijslast'!L15) -> HVO 100 | I15: =SUM('Voorbeeld Bewijslast'!F15:I15) -> 100 | J15: =SUM(Begin:Einde!J15) -> 100
B16: 5 | C16: =IF('Voorbeeld Bewijslast'!C16="","",'Voorbeeld Bewijslast'!C16) | D16: =IF('Voorbeeld Bewijslast'!D16="","",'Voorbeeld Bewijslast'!D16) | E16: =IF('Voorbeeld Bewijslast'!E16="","",'Voorbeeld Bewijslast'!E16) | F16: =IF('Voorbeeld Bewijslast'!J16="","",'Voorbeeld Bewijslast'!J16) | G16: =IF('Voorbeeld Bewijslast'!K16="","",'Voorbeeld Bewijslast'!K16) | H16: =IF('Voorbeeld Bewijslast'!L16="","",'Voorbeeld Bewijslast'!L16) | I16: =SUM('Voorbeeld Bewijslast'!F16:I16) -> 0 | J16: =SUM(Begin:Einde!J16) -> 0
B17: 6 | C17: =IF('Voorbeeld Bewijslast'!C17="","",'Voorbeeld Bewijslast'!C17) | D17: =IF('Voorbeeld Bewijslast'!D17="","",'Voorbeeld Bewijslast'!D17) | E17: =IF('Voorbeeld Bewijslast'!E17="","",'Voorbeeld Bewijslast'!E17) | F17: =IF('Voorbeeld Bewijslast'!J17="","",'Voorbeeld Bewijslast'!J17) | G17: =IF('Voorbeeld Bewijslast'!K17="","",'Voorbeeld Bewijslast'!K17) | H17: =IF('Voorbeeld Bewijslast'!L17="","",'Voorbeeld Bewijslast'!L17) | I17: =SUM('Voorbeeld Bewijslast'!F17:I17) -> 0 | J17: =SUM(Begin:Einde!J17) -> 0
B18: 7 | C18: =IF('Voorbeeld Bewijslast'!C18="","",'Voorbeeld Bewijslast'!C18) | D18: =IF('Voorbeeld Bewijslast'!D18="","",'Voorbeeld Bewijslast'!D18) | E18: =IF('Voorbeeld Bewijslast'!E18="","",'Voorbeeld Bewijslast'!E18) | F18: =IF('Voorbeeld Bewijslast'!J18="","",'Voorbeeld Bewijslast'!J18) | G18: =IF('Voorbeeld Bewijslast'!K18="","",'Voorbeeld Bewijslast'!K18) | H18: =IF('Voorbeeld Bewijslast'!L18="","",'Voorbeeld Bewijslast'!L18) | I18: =SUM('Voorbeeld Bewijslast'!F18:I18) -> 0 | J18: =SUM(Begin:Einde!J18) -> 0
B19: 8 | C19: =IF('Voorbeeld Bewijslast'!C19="","",'Voorbeeld Bewijslast'!C19) | D19: =IF('Voorbeeld Bewijslast'!D19="","",'Voorbeeld Bewijslast'!D19) | E19: =IF('Voorbeeld Bewijslast'!E19="","",'Voorbeeld Bewijslast'!E19) | F19: =IF('Voorbeeld Bewijslast'!J19="","",'Voorbeeld Bewijslast'!J19) | G19: =IF('Voorbeeld Bewijslast'!K19="","",'Voorbeeld Bewijslast'!K19) | H19: =IF('Voorbeeld Bewijslast'!L19="","",'Voorbeeld Bewijslast'!L19) | I19: =SUM('Voorbeeld Bewijslast'!F19:I19) -> 0 | J19: =SUM(Begin:Einde!J19) -> 0
B20: 9 | C20: =IF('Voorbeeld Bewijslast'!C20="","",'Voorbeeld Bewijslast'!C20) | D20: =IF('Voorbeeld Bewijslast'!D20="","",'Voorbeeld Bewijslast'!D20) | E20: =IF('Voorbeeld Bewijslast'!E20="","",'Voorbeeld Bewijslast'!E20) | F20: =IF('Voorbeeld Bewijslast'!J20="","",'Voorbeeld Bewijslast'!J20) | G20: =IF('Voorbeeld Bewijslast'!K20="","",'Voorbeeld Bewijslast'!K20) | H20: =IF('Voorbeeld Bewijslast'!L20="","",'Voorbeeld Bewijslast'!L20) | I20: =SUM('Voorbeeld Bewijslast'!F20:I20) -> 0 | J20: =SUM(Begin:Einde!J20) -> 0
B21: 10 | C21: =IF('Voorbeeld Bewijslast'!C21="","",'Voorbeeld Bewijslast'!C21) | D21: =IF('Voorbeeld Bewijslast'!D21="","",'Voorbeeld Bewijslast'!D21) | E21: =IF('Voorbeeld Bewijslast'!E21="","",'Voorbeeld Bewijslast'!E21) | F21: =IF('Voorbeeld Bewijslast'!J21="","",'Voorbeeld Bewijslast'!J21) | G21: =IF('Voorbeeld Bewijslast'!K21="","",'Voorbeeld Bewijslast'!K21) | H21: =IF('Voorbeeld Bewijslast'!L21="","",'Voorbeeld Bewijslast'!L21) | I21: =SUM('Voorbeeld Bewijslast'!F21:I21) -> 0 | J21: =SUM(Begin:Einde!J21) -> 0
B22: 11 | C22: =IF('Voorbeeld Bewijslast'!C22="","",'Voorbeeld Bewijslast'!C22) | D22: =IF('Voorbeeld Bewijslast'!D22="","",'Voorbeeld Bewijslast'!D22) | E22: =IF('Voorbeeld Bewijslast'!E22="","",'Voorbeeld Bewijslast'!E22) | F22: =IF('Voorbeeld Bewijslast'!J22="","",'Voorbeeld Bewijslast'!J22) | G22: =IF('Voorbeeld Bewijslast'!K22="","",'Voorbeeld Bewijslast'!K22) | H22: =IF('Voorbeeld Bewijslast'!L22="","",'Voorbeeld Bewijslast'!L22) | I22: =SUM('Voorbeeld Bewijslast'!F22:I22) -> 0 | J22: =SUM(Begin:Einde!J22) -> 0
B23: 12 | C23: =IF('Voorbeeld Bewijslast'!C23="","",'Voorbeeld Bewijslast'!C23) | D23: =IF('Voorbeeld Bewijslast'!D23="","",'Voorbeeld Bewijslast'!D23) | E23: =IF('Voorbeeld Bewijslast'!E23="","",'Voorbeeld Bewijslast'!E23) | F23: =IF('Voorbeeld Bewijslast'!J23="","",'Voorbeeld Bewijslast'!J23) | G23: =IF('Voorbeeld Bewijslast'!K23="","",'Voorbeeld Bewijslast'!K23) | H23: =IF('Voorbeeld Bewijslast'!L23="","",'Voorbeeld Bewijslast'!L23) | I23: =SUM('Voorbeeld Bewijslast'!F23:I23) -> 0 | J23: =SUM(Begin:Einde!J23) -> 0
... B31: 20 | C31: =IF('Voorbeeld Bewijslast'!C31="","",'Voorbeeld Bewijslast'!C31) | D31: =IF('Voorbeeld Bewijslast'!D31="","",'Voorbeeld Bewijslast'!D31) | E31: =IF('Voorbeeld Bewijslast'!E31="","",'Voorbeeld Bewijslast'!E31) | F31: =IF('Voorbeeld Bewijslast'!J31="","",'Voorbeeld Bewijslast'!J31) | G31: =IF('Voorbeeld Bewijslast'!K31="","",'Voorbeeld Bewijslast'!K31) | H31: =IF('Voorbeeld Bewijslast'!L31="","",'Voorbeeld Bewijslast'!L31) | I31: =SUM('Voorbeeld Bewijslast'!F31:I31) -> 0 | J31: =SUM(Begin:Einde!J31) -> 0
C34: VOERTUIGEN | I34: Projectduur
C35: Omschrijving | D35: Merk | E35: Kenteken | F35: Aandrijving | G35: Euroklasse | H35: Brandstof | I35: Totaal aantal beloofde dagen | J35: Cumulatieve ingezette uren
B36: 1 | C36: =IF('Voorbeeld Bewijslast'!C36="","",'Voorbeeld Bewijslast'!C36) | D36: =IF('Voorbeeld Bewijslast'!D36="","",'Voorbeeld Bewijslast'!D36) | E36: =IF('Voorbeeld Bewijslast'!E36="","",'Voorbeeld Bewijslast'!E36) | F36: =IF('Voorbeeld Bewijslast'!J36="","",'Voorbeeld Bewijslast'!J36) | G36: =IF('Voorbeeld Bewijslast'!K36="","",'Voorbeeld Bewijslast'!K36) | H36: =IF('Voorbeeld Bewijslast'!L36="","",'Voorbeeld Bewijslast'!L36) | I36: =SUM('Voorbeeld Bewijslast'!F36:I36) -> 0 | J36: =SUM(Begin:Einde!J36) -> 0
B37: 2 | C37: =IF('Voorbeeld Bewijslast'!C37="","",'Voorbeeld Bewijslast'!C37) | D37: =IF('Voorbeeld Bewijslast'!D37="","",'Voorbeeld Bewijslast'!D37) | E37: =IF('Voorbeeld Bewijslast'!E37="","",'Voorbeeld Bewijslast'!E37) | F37: =IF('Voorbeeld Bewijslast'!J37="","",'Voorbeeld Bewijslast'!J37) | G37: =IF('Voorbeeld Bewijslast'!K37="","",'Voorbeeld Bewijslast'!K37) | H37: =IF('Voorbeeld Bewijslast'!L37="","",'Voorbeeld Bewijslast'!L37) | I37: =SUM('Voorbeeld Bewijslast'!F37:I37) -> 0 | J37: =SUM(Begin:Einde!J37) -> 0
B38: 3 | C38: =IF('Voorbeeld Bewijslast'!C38="","",'Voorbeeld Bewijslast'!C38) | D38: =IF('Voorbeeld Bewijslast'!D38="","",'Voorbeeld Bewijslast'!D38) | E38: =IF('Voorbeeld Bewijslast'!E38="","",'Voorbeeld Bewijslast'!E38) | F38: =IF('Voorbeeld Bewijslast'!J38="","",'Voorbeeld Bewijslast'!J38) | G38: =IF('Voorbeeld Bewijslast'!K38="","",'Voorbeeld Bewijslast'!K38) | H38: =IF('Voorbeeld Bewijslast'!L38="","",'Voorbeeld Bewijslast'!L38) | I38: =SUM('Voorbeeld Bewijslast'!F38:I38) -> 0 | J38: =SUM(Begin:Einde!J38) -> 0
B39: 4 | C39: =IF('Voorbeeld Bewijslast'!C39="","",'Voorbeeld Bewijslast'!C39) | D39: =IF('Voorbeeld Bewijslast'!D39="","",'Voorbeeld Bewijslast'!D39) | E39: =IF('Voorbeeld Bewijslast'!E39="","",'Voorbeeld Bewijslast'!E39) | F39: =IF('Voorbeeld Bewijslast'!J39="","",'Voorbeeld Bewijslast'!J39) | G39: =IF('Voorbeeld Bewijslast'!K39="","",'Voorbeeld Bewijslast'!K39) | H39: =IF('Voorbeeld Bewijslast'!L39="","",'Voorbeeld Bewijslast'!L39) | I39: =SUM('Voorbeeld Bewijslast'!F39:I39) -> 0 | J39: =SUM(Begin:Einde!J39) -> 0
B40: 5 | C40: =IF('Voorbeeld Bewijslast'!C40="","",'Voorbeeld Bewijslast'!C40) | D40: =IF('Voorbeeld Bewijslast'!D40="","",'Voorbeeld Bewijslast'!D40) | E40: =IF('Voorbeeld Bewijslast'!E40="","",'Voorbeeld Bewijslast'!E40) | F40: =IF('Voorbeeld Bewijslast'!J40="","",'Voorbeeld Bewijslast'!J40) | G40: =IF('Voorbeeld Bewijslast'!K40="","",'Voorbeeld Bewijslast'!K40) | H40: =IF('Voorbeeld Bewijslast'!L40="","",'Voorbeeld Bewijslast'!L40) | I40: =SUM('Voorbeeld Bewijslast'!F40:I40) -> 0 | J40: =SUM(Begin:Einde!J40) -> 0
B41: 6 | C41: =IF('Voorbeeld Bewijslast'!C41="","",'Voorbeeld Bewijslast'!C41) | D41: =IF('Voorbeeld Bewijslast'!D41="","",'Voorbeeld Bewijslast'!D41) | E41: =IF('Voorbeeld Bewijslast'!E41="","",'Voorbeeld Bewijslast'!E41) | F41: =IF('Voorbeeld Bewijslast'!J41="","",'Voorbeeld Bewijslast'!J41) | G41: =IF('Voorbeeld Bewijslast'!K41="","",'Voorbeeld Bewijslast'!K41) | H41: =IF('Voorbeeld Bewijslast'!L41="","",'Voorbeeld Bewijslast'!L41) | I41: =SUM('Voorbeeld Bewijslast'!F41:I41) -> 0 | J41: =SUM(Begin:Einde!J41) -> 0
B42: 7 | C42: =IF('Voorbeeld Bewijslast'!C42="","",'Voorbeeld Bewijslast'!C42) | D42: =IF('Voorbeeld Bewijslast'!D42="","",'Voorbeeld Bewijslast'!D42) | E42: =IF('Voorbeeld Bewijslast'!E42="","",'Voorbeeld Bewijslast'!E42) | F42: =IF('Voorbeeld Bewijslast'!J42="","",'Voorbeeld Bewijslast'!J42) | G42: =IF('Voorbeeld Bewijslast'!K42="","",'Voorbeeld Bewijslast'!K42) | H42: =IF('Voorbeeld Bewijslast'!L42="","",'Voorbeeld Bewijslast'!L42) | I42: =SUM('Voorbeeld Bewijslast'!F42:I42) -> 0 | J42: =SUM(Begin:Einde!J42) -> 0
B43: 8 | C43: =IF('Voorbeeld Bewijslast'!C43="","",'Voorbeeld Bewijslast'!C43) | D43: =IF('Voorbeeld Bewijslast'!D43="","",'Voorbeeld Bewijslast'!D43) | E43: =IF('Voorbeeld Bewijslast'!E43="","",'Voorbeeld Bewijslast'!E43) | F43: =IF('Voorbeeld Bewijslast'!J43="","",'Voorbeeld Bewijslast'!J43) | G43: =IF('Voorbeeld Bewijslast'!K43="","",'Voorbeeld Bewijslast'!K43) | H43: =IF('Voorbeeld Bewijslast'!L43="","",'Voorbeeld Bewijslast'!L43) | I43: =SUM('Voorbeeld Bewijslast'!F43:I43) -> 0 | J43: =SUM(Begin:Einde!J43) -> 0
B44: 9 | C44: =IF('Voorbeeld Bewijslast'!C44="","",'Voorbeeld Bewijslast'!C44) | D44: =IF('Voorbeeld Bewijslast'!D44="","",'Voorbeeld Bewijslast'!D44) | E44: =IF('Voorbeeld Bewijslast'!E44="","",'Voorbeeld Bewijslast'!E44) | F44: =IF('Voorbeeld Bewijslast'!J44="","",'Voorbeeld Bewijslast'!J44) | G44: =IF('Voorbeeld Bewijslast'!K44="","",'Voorbeeld Bewijslast'!K44) | H44: =IF('Voorbeeld Bewijslast'!L44="","",'Voorbeeld Bewijslast'!L44) | I44: =SUM('Voorbeeld Bewijslast'!F44:I44) -> 0 | J44: =SUM(Begin:Einde!J44) -> 0
B45: 10 | C45: =IF('Voorbeeld Bewijslast'!C45="","",'Voorbeeld Bewijslast'!C45) | D45: =IF('Voorbeeld Bewijslast'!D45="","",'Voorbeeld Bewijslast'!D45) | E45: =IF('Voorbeeld Bewijslast'!E45="","",'Voorbeeld Bewijslast'!E45) | F45: =IF('Voorbeeld Bewijslast'!J45="","",'Voorbeeld Bewijslast'!J45) | G45: =IF('Voorbeeld Bewijslast'!K45="","",'Voorbeeld Bewijslast'!K45) | H45: =IF('Voorbeeld Bewijslast'!L45="","",'Voorbeeld Bewijslast'!L45) | I45: =SUM('Voorbeeld Bewijslast'!F45:I45) -> 0 | J45: =SUM(Begin:Einde!J45) -> 0
B46: 11 | C46: =IF('Voorbeeld Bewijslast'!C46="","",'Voorbeeld Bewijslast'!C46) | D46: =IF('Voorbeeld Bewijslast'!D46="","",'Voorbeeld Bewijslast'!D46) | E46: =IF('Voorbeeld Bewijslast'!E46="","",'Voorbeeld Bewijslast'!E46) | F46: =IF('Voorbeeld Bewijslast'!J46="","",'Voorbeeld Bewijslast'!J46) | G46: =IF('Voorbeeld Bewijslast'!K46="","",'Voorbeeld Bewijslast'!K46) | H46: =IF('Voorbeeld Bewijslast'!L46="","",'Voorbeeld Bewijslast'!L46) | I46: =SUM('Voorbeeld Bewijslast'!F46:I46) -> 0 | J46: =SUM(Begin:Einde!J46) -> 0
B47: 12 | C47: =IF('Voorbeeld Bewijslast'!C47="","",'Voorbeeld Bewijslast'!C47) | D47: =IF('Voorbeeld Bewijslast'!D47="","",'Voorbeeld Bewijslast'!D47) | E47: =IF('Voorbeeld Bewijslast'!E47="","",'Voorbeeld Bewijslast'!E47) | F47: =IF('Voorbeeld Bewijslast'!J47="","",'Voorbeeld Bewijslast'!J47) | G47: =IF('Voorbeeld Bewijslast'!K47="","",'Voorbeeld Bewijslast'!K47) | H47: =IF('Voorbeeld Bewijslast'!L47="","",'Voorbeeld Bewijslast'!L47) | I47: =SUM('Voorbeeld Bewijslast'!F47:I47) -> 0 | J47: =SUM(Begin:Einde!J47) -> 0
... B49: 14 | C49: =IF('Voorbeeld Bewijslast'!C49="","",'Voorbeeld Bewijslast'!C49) | D49: =IF('Voorbeeld Bewijslast'!D49="","",'Voorbeeld Bewijslast'!D49) | E49: =IF('Voorbeeld Bewijslast'!E49="","",'Voorbeeld Bewijslast'!E49) | F49: =IF('Voorbeeld Bewijslast'!J49="","",'Voorbeeld Bewijslast'!J49) | G49: =IF('Voorbeeld Bewijslast'!K49="","",'Voorbeeld Bewijslast'!K49) | H49: =IF('Voorbeeld Bewijslast'!L49="","",'Voorbeeld Bewijslast'!L49) | I49: =SUM('Voorbeeld Bewijslast'!F49:I49) -> 0 | J49: =SUM(Begin:Einde!J49) -> 0
B50: 15 | C50: =IF('Voorbeeld Bewijslast'!C50="","",'Voorbeeld Bewijslast'!C50) | D50: =IF('Voorbeeld Bewijslast'!D50="","",'Voorbeeld Bewijslast'!D50) | E50: =IF('Voorbeeld Bewijslast'!E50="","",'Voorbeeld Bewijslast'!E50) | F50: =IF('Voorbeeld Bewijslast'!J50="","",'Voorbeeld Bewijslast'!J50) | G50: =IF('Voorbeeld Bewijslast'!K50="","",'Voorbeeld Bewijslast'!K50) | H50: =IF('Voorbeeld Bewijslast'!L50="","",'Voorbeeld Bewijslast'!L50) | I50: 0 | J50: =SUM(Begin:Einde!J50) -> 0
B51: 16 | C51: =IF('Voorbeeld Bewijslast'!C51="","",'Voorbeeld Bewijslast'!C51) | D51: =IF('Voorbeeld Bewijslast'!D51="","",'Voorbeeld Bewijslast'!D51) | E51: =IF('Voorbeeld Bewijslast'!E51="","",'Voorbeeld Bewijslast'!E51) | F51: =IF('Voorbeeld Bewijslast'!J51="","",'Voorbeeld Bewijslast'!J51) | G51: =IF('Voorbeeld Bewijslast'!K51="","",'Voorbeeld Bewijslast'!K51) | H51: =IF('Voorbeeld Bewijslast'!L51="","",'Voorbeeld Bewijslast'!L51) | I51: =SUM('Voorbeeld Bewijslast'!F51:I51) -> 0 | J51: =SUM(Begin:Einde!J51) -> 0
B52: 17 | C52: =IF('Voorbeeld Bewijslast'!C52="","",'Voorbeeld Bewijslast'!C52) | D52: =IF('Voorbeeld Bewijslast'!D52="","",'Voorbeeld Bewijslast'!D52) | E52: =IF('Voorbeeld Bewijslast'!E52="","",'Voorbeeld Bewijslast'!E52) | F52: =IF('Voorbeeld Bewijslast'!J52="","",'Voorbeeld Bewijslast'!J52) | G52: =IF('Voorbeeld Bewijslast'!K52="","",'Voorbeeld Bewijslast'!K52) | H52: =IF('Voorbeeld Bewijslast'!L52="","",'Voorbeeld Bewijslast'!L52) | I52: =SUM('Voorbeeld Bewijslast'!F52:I52) -> 0 | J52: =SUM(Begin:Einde!J52) -> 0
B53: 18 | C53: =IF('Voorbeeld Bewijslast'!C53="","",'Voorbeeld Bewijslast'!C53) | D53: =IF('Voorbeeld Bewijslast'!D53="","",'Voorbeeld Bewijslast'!D53) | E53: =IF('Voorbeeld Bewijslast'!E53="","",'Voorbeeld Bewijslast'!E53) | F53: =IF('Voorbeeld Bewijslast'!J53="","",'Voorbeeld Bewijslast'!J53) | G53: =IF('Voorbeeld Bewijslast'!K53="","",'Voorbeeld Bewijslast'!K53) | H53: =IF('Voorbeeld Bewijslast'!L53="","",'Voorbeeld Bewijslast'!L53) | I53: =SUM('Voorbeeld Bewijslast'!F53:I53) -> 0 | J53: =SUM(Begin:Einde!J53) -> 0
B54: 19 | C54: =IF('Voorbeeld Bewijslast'!C54="","",'Voorbeeld Bewijslast'!C54) | D54: =IF('Voorbeeld Bewijslast'!D54="","",'Voorbeeld Bewijslast'!D54) | E54: =IF('Voorbeeld Bewijslast'!E54="","",'Voorbeeld Bewijslast'!E54) | F54: =IF('Voorbeeld Bewijslast'!J54="","",'Voorbeeld Bewijslast'!J54) | G54: =IF('Voorbeeld Bewijslast'!K54="","",'Voorbeeld Bewijslast'!K54) | H54: =IF('Voorbeeld Bewijslast'!L54="","",'Voorbeeld Bewijslast'!L54) | I54: =SUM('Voorbeeld Bewijslast'!F54:I54) -> 0 | J54: =SUM(Begin:Einde!J54) -> 0
B55: 20 | C55: =IF('Voorbeeld Bewijslast'!C55="","",'Voorbeeld Bewijslast'!C55) | D55: =IF('Voorbeeld Bewijslast'!D55="","",'Voorbeeld Bewijslast'!D55) | E55: =IF('Voorbeeld Bewijslast'!E55="","",'Voorbeeld Bewijslast'!E55) | F55: =IF('Voorbeeld Bewijslast'!J55="","",'Voorbeeld Bewijslast'!J55) | G55: =IF('Voorbeeld Bewijslast'!K55="","",'Voorbeeld Bewijslast'!K55) | H55: =IF('Voorbeeld Bewijslast'!L55="","",'Voorbeeld Bewijslast'!L55) | I55: =SUM('Voorbeeld Bewijslast'!F55:I55) -> 0 | J55: =SUM(Begin:Einde!J55) -> 0
C58: GEREEDSCHAPPEN | I58: Projectduur
C59: Omschrijving | D59: Merk | E59: Registratienr. | F59: Aandrijving | G59: Aanvullende informatie | H59: Brandstof | I59: Totaal aantal beloofde uren | J59: Cumulatieve ingezette uren
B60: 1 | C60: =IF('Voorbeeld Bewijslast'!C60="","",'Voorbeeld Bewijslast'!C60) | D60: =IF('Voorbeeld Bewijslast'!D60="","",'Voorbeeld Bewijslast'!D60) | E60: =IF('Voorbeeld Bewijslast'!E60="","",'Voorbeeld Bewijslast'!E60) | F60: =IF('Voorbeeld Bewijslast'!J60="","",'Voorbeeld Bewijslast'!J60) | G60: =IF('Voorbeeld Bewijslast'!K60="","",'Voorbeeld Bewijslast'!K60) | H60: =IF('Voorbeeld Bewijslast'!L60="","",'Voorbeeld Bewijslast'!L60) | I60: =SUM('Voorbeeld Bewijslast'!F60:I60) -> 0 | J60: =SUM(Begin:Einde!J60) -> 0
B61: 2 | C61: =IF('Voorbeeld Bewijslast'!C61="","",'Voorbeeld Bewijslast'!C61) | D61: =IF('Voorbeeld Bewijslast'!D61="","",'Voorbeeld Bewijslast'!D61) | E61: =IF('Voorbeeld Bewijslast'!E61="","",'Voorbeeld Bewijslast'!E61) | F61: =IF('Voorbeeld Bewijslast'!J61="","",'Voorbeeld Bewijslast'!J61) | G61: =IF('Voorbeeld Bewijslast'!K61="","",'Voorbeeld Bewijslast'!K61) | H61: =IF('Voorbeeld Bewijslast'!L61="","",'Voorbeeld Bewijslast'!L61) | I61: =SUM('Voorbeeld Bewijslast'!F61:I61) -> 0 | J61: =SUM(Begin:Einde!J61) -> 0
B62: 3 | C62: =IF('Voorbeeld Bewijslast'!C62="","",'Voorbeeld Bewijslast'!C62) | D62: =IF('Voorbeeld Bewijslast'!D62="","",'Voorbeeld Bewijslast'!D62) | E62: =IF('Voorbeeld Bewijslast'!E62="","",'Voorbeeld Bewijslast'!E62) | F62: =IF('Voorbeeld Bewijslast'!J62="","",'Voorbeeld Bewijslast'!J62) | G62: =IF('Voorbeeld Bewijslast'!K62="","",'Voorbeeld Bewijslast'!K62) | H62: =IF('Voorbeeld Bewijslast'!L62="","",'Voorbeeld Bewijslast'!L62) | I62: =SUM('Voorbeeld Bewijslast'!F62:I62) -> 0 | J62: =SUM(Begin:Einde!J62) -> 0
B63: 4 | C63: =IF('Voorbeeld Bewijslast'!C63="","",'Voorbeeld Bewijslast'!C63) | D63: =IF('Voorbeeld Bewijslast'!D63="","",'Voorbeeld Bewijslast'!D63) | E63: =IF('Voorbeeld Bewijslast'!E63="","",'Voorbeeld Bewijslast'!E63) | F63: =IF('Voorbeeld Bewijslast'!J63="","",'Voorbeeld Bewijslast'!J63) | G63: =IF('Voorbeeld Bewijslast'!K63="","",'Voorbeeld Bewijslast'!K63) | H63: =IF('Voorbeeld Bewijslast'!L63="","",'Voorbeeld Bewijslast'!L63) | I63: =SUM('Voorbeeld Bewijslast'!F63:I63) -> 0 | J63: =SUM(Begin:Einde!J63) -> 0
B64: 5 | C64: =IF('Voorbeeld Bewijslast'!C64="","",'Voorbeeld Bewijslast'!C64) | D64: =IF('Voorbeeld Bewijslast'!D64="","",'Voorbeeld Bewijslast'!D64) | E64: =IF('Voorbeeld Bewijslast'!E64="","",'Voorbeeld Bewijslast'!E64) | F64: =IF('Voorbeeld Bewijslast'!J64="","",'Voorbeeld Bewijslast'!J64) | G64: =IF('Voorbeeld Bewijslast'!K64="","",'Voorbeeld Bewijslast'!K64) | H64: =IF('Voorbeeld Bewijslast'!L64="","",'Voorbeeld Bewijslast'!L64) | I64: =SUM('Voorbeeld Bewijslast'!F64:I64) -> 0 | J64: =SUM(Begin:Einde!J64) -> 0
B65: 6 | C65: =IF('Voorbeeld Bewijslast'!C65="","",'Voorbeeld Bewijslast'!C65) | D65: =IF('Voorbeeld Bewijslast'!D65="","",'Voorbeeld Bewijslast'!D65) | E65: =IF('Voorbeeld Bewijslast'!E65="","",'Voorbeeld Bewijslast'!E65) | F65: =IF('Voorbeeld Bewijslast'!J65="","",'Voorbeeld Bewijslast'!J65) | G65: =IF('Voorbeeld Bewijslast'!K65="","",'Voorbeeld Bewijslast'!K65) | H65: =IF('Voorbeeld Bewijslast'!L65="","",'Voorbeeld Bewijslast'!L65) | I65: =SUM('Voorbeeld Bewijslast'!F65:I65) -> 0 | J65: =SUM(Begin:Einde!J65) -> 0
B66: 7 | C66: =IF('Voorbeeld Bewijslast'!C66="","",'Voorbeeld Bewijslast'!C66) | D66: =IF('Voorbeeld Bewijslast'!D66="","",'Voorbeeld Bewijslast'!D66) | E66: =IF('Voorbeeld Bewijslast'!E66="","",'Voorbeeld Bewijslast'!E66) | F66: =IF('Voorbeeld Bewijslast'!J66="","",'Voorbeeld Bewijslast'!J66) | G66: =IF('Voorbeeld Bewijslast'!K66="","",'Voorbeeld Bewijslast'!K66) | H66: =IF('Voorbeeld Bewijslast'!L66="","",'Voorbeeld Bewijslast'!L66) | I66: =SUM('Voorbeeld Bewijslast'!F66:I66) -> 0 | J66: =SUM(Begin:Einde!J66) -> 0
B67: 8 | C67: =IF('Voorbeeld Bewijslast'!C67="","",'Voorbeeld Bewijslast'!C67) | D67: =IF('Voorbeeld Bewijslast'!D67="","",'Voorbeeld Bewijslast'!D67) | E67: =IF('Voorbeeld Bewijslast'!E67="","",'Voorbeeld Bewijslast'!E67) | F67: =IF('Voorbeeld Bewijslast'!J67="","",'Voorbeeld Bewijslast'!J67) | G67: =IF('Voorbeeld Bewijslast'!K67="","",'Voorbeeld Bewijslast'!K67) | H67: =IF('Voorbeeld Bewijslast'!L67="","",'Voorbeeld Bewijslast'!L67) | I67: =SUM('Voorbeeld Bewijslast'!F67:I67) -> 0 | J67: =SUM(Begin:Einde!J67) -> 0
B68: 9 | C68: =IF('Voorbeeld Bewijslast'!C68="","",'Voorbeeld Bewijslast'!C68) | D68: =IF('Voorbeeld Bewijslast'!D68="","",'Voorbeeld Bewijslast'!D68) | E68: =IF('Voorbeeld Bewijslast'!E68="","",'Voorbeeld Bewijslast'!E68) | F68: =IF('Voorbeeld Bewijslast'!J68="","",'Voorbeeld Bewijslast'!J68) | G68: =IF('Voorbeeld Bewijslast'!K68="","",'Voorbeeld Bewijslast'!K68) | H68: =IF('Voorbeeld Bewijslast'!L68="","",'Voorbeeld Bewijslast'!L68) | I68: =SUM('Voorbeeld Bewijslast'!F68:I68) -> 0 | J68: =SUM(Begin:Einde!J68) -> 0
B69: 10 | C69: =IF('Voorbeeld Bewijslast'!C69="","",'Voorbeeld Bewijslast'!C69) | D69: =IF('Voorbeeld Bewijslast'!D69="","",'Voorbeeld Bewijslast'!D69) | E69: =IF('Voorbeeld Bewijslast'!E69="","",'Voorbeeld Bewijslast'!E69) | F69: =IF('Voorbeeld Bewijslast'!J69="","",'Voorbeeld Bewijslast'!J69) | G69: =IF('Voorbeeld Bewijslast'!K69="","",'Voorbeeld Bewijslast'!K69) | H69: =IF('Voorbeeld Bewijslast'!L69="","",'Voorbeeld Bewijslast'!L69) | I69: =SUM('Voorbeeld Bewijslast'!F69:I69) -> 0 | J69: =SUM(Begin:Einde!J69) -> 0
B70: 11 | C70: =IF('Voorbeeld Bewijslast'!C70="","",'Voorbeeld Bewijslast'!C70) | D70: =IF('Voorbeeld Bewijslast'!D70="","",'Voorbeeld Bewijslast'!D70) | E70: =IF('Voorbeeld Bewijslast'!E70="","",'Voorbeeld Bewijslast'!E70) | F70: =IF('Voorbeeld Bewijslast'!J70="","",'Voorbeeld Bewijslast'!J70) | G70: =IF('Voorbeeld Bewijslast'!K70="","",'Voorbeeld Bewijslast'!K70) | H70: =IF('Voorbeeld Bewijslast'!L70="","",'Voorbeeld Bewijslast'!L70) | I70: =SUM('Voorbeeld Bewijslast'!F70:I70) -> 0 | J70: =SUM(Begin:Einde!J70) -> 0
B71: 12 | C71: =IF('Voorbeeld Bewijslast'!C71="","",'Voorbeeld Bewijslast'!C71) | D71: =IF('Voorbeeld Bewijslast'!D71="","",'Voorbeeld Bewijslast'!D71) | E71: =IF('Voorbeeld Bewijslast'!E71="","",'Voorbeeld Bewijslast'!E71) | F71: =IF('Voorbeeld Bewijslast'!J71="","",'Voorbeeld Bewijslast'!J71) | G71: =IF('Voorbeeld Bewijslast'!K71="","",'Voorbeeld Bewijslast'!K71) | H71: =IF('Voorbeeld Bewijslast'!L71="","",'Voorbeeld Bewijslast'!L71) | I71: =SUM('Voorbeeld Bewijslast'!F71:I71) -> 0 | J71: =SUM(Begin:Einde!J71) -> 0
... B79: 20 | C79: =IF('Voorbeeld Bewijslast'!C79="","",'Voorbeeld Bewijslast'!C79) | D79: =IF('Voorbeeld Bewijslast'!D79="","",'Voorbeeld Bewijslast'!D79) | E79: =IF('Voorbeeld Bewijslast'!E79="","",'Voorbeeld Bewijslast'!E79) | F79: =IF('Voorbeeld Bewijslast'!J79="","",'Voorbeeld Bewijslast'!J79) | G79: =IF('Voorbeeld Bewijslast'!K79="","",'Voorbeeld Bewijslast'!K79) | H79: =IF('Voorbeeld Bewijslast'!L79="","",'Voorbeeld Bewijslast'!L79) | I79: =SUM('Voorbeeld Bewijslast'!F79:I79) -> 0 | J79: =SUM(Begin:Einde!J79) -> 0

Sheet Begin
B2: Logboek invullen Per werkweek moet het logboek worden ingevuld. Het tabblad 'wk40' en 'wk41' zijn het sjabloon voor het logboek. Deze tabbladen kunnen gekopieerd worden. De naam van het nieuwe tabblad dient te worden gewijzigd. let op! De locatie van alle tabbladen van het logboek is belangrijk. Deze dienen na het tabblad 'Begin' en voor het dit tabblad 'Einde' te staan. TIP! Om dit overzicht werkbaar te houden, zet de meest recente logboekweek vooraan!

Sheet 2023 wk40
C1: =Invulformulier!B2 -> Invulformulier Zero-Emissie materieel
C2: Overzicht materieel - logboek
C4: Instructie
C5: Gelieve alle grijze vakken in te vullen.
C7: Aannemer
C8: =Invulformulier!B8 -> Voorbeeld BV
C10: WERKTUIGEN | I10: Projectduur | K10: Weekinzet
C11: Omschrijving | D11: Merk | E11: Kenteken (vanaf 25 km/u)/registratie nr. | F11: Motor | G11: Stageklasse | H11: Brandstof | I11: Totaal aantal beloofde uren | J11: Cumulatieve ingezette uren | K11: Ma | L11: Di | M11: Wo | N11: Do | O11: Vr | P11: Za | Q11: Zo
B12: 1 | C12: =IF('Voorbeeld Bewijslast'!C12="","",'Voorbeeld Bewijslast'!C12) -> Mobiele kraan | D12: =IF('Voorbeeld Bewijslast'!D12="","",'Voorbeeld Bewijslast'!D12) -> Develon | E12: =IF('Voorbeeld Bewijslast'!E12="","",'Voorbeeld Bewijslast'!E12) -> 45-RR-FF | F12: =IF('Voorbeeld Bewijslast'!J12="","",'Voorbeeld Bewijslast'!J12) -> Elektro motor | G12: =IF('Voorbeeld Bewijslast'!K12="","",'Voorbeeld Bewijslast'!K12) -> zero-emisie | H12: =IF('Voorbeeld Bewijslast'!L12="","",'Voorbeeld Bewijslast'!L12) -> Stroom | I12: =SUM('Voorbeeld Bewijslast'!F12:I12) -> 1200 | J12: =SUM(K12:Q12) -> 1100 | K12: 250 | L12: 250 | M12: 250 | N12: 250 | O12: 100
B13: 2 | C13: =IF('Voorbeeld Bewijslast'!C13="","",'Voorbeeld Bewijslast'!C13) -> Mini graver | D13: =IF('Voorbeeld Bewijslast'!D13="","",'Voorbeeld Bewijslast'!D13) -> Develon | E13: =IF('Voorbeeld Bewijslast'!E13="","",'Voorbeeld Bewijslast'!E13) -> 10-PK-OO | F13: =IF('Voorbeeld Bewijslast'!J13="","",'Voorbeeld Bewijslast'!J13) -> Diesel motor | G13: =IF('Voorbeeld Bewijslast'!K13="","",'Voorbeeld Bewijslast'!K13) -> Stage V | H13: =IF('Voorbeeld Bewijslast'!L13="","",'Voorbeeld Bewijslast'!L13) -> HVO 100 | I13: =SUM('Voorbeeld Bewijslast'!F13:I13) -> 1150 | J13: =SUM(K13:Q13) -> 1150 | K13: 250 | L13: 250 | M13: 250 | N13: 250 | O13: 150
B14: 3 | C14: =IF('Voorbeeld Bewijslast'!C14="","",'Voorbeeld Bewijslast'!C14) -> Shovel | D14: =IF('Voorbeeld Bewijslast'!D14="","",'Voorbeeld Bewijslast'!D14) -> Develon | E14: =IF('Voorbeeld Bewijslast'!E14="","",'Voorbeeld Bewijslast'!E14) -> 24-IB-OR | F14: =IF('Voorbeeld Bewijslast'!J14="","",'Voorbeeld Bewijslast'!J14) -> Diesel motor | G14: =IF('Voorbeeld Bewijslast'!K14="","",'Voorbeeld Bewijslast'!K14) -> Stage V | H14: =IF('Voorbeeld Bewijslast'!L14="","",'Voorbeeld Bewijslast'!L14) -> HVO 100 | I14: =SUM('Voorbeeld Bewijslast'!F14:I14) -> 1050 | J14: =SUM(K14:Q14) -> 1050 | K14: 200 | L14: 200 | M14: 200 | N14: 200 | O14: 250
B15: 4 | C15: =IF('Voorbeeld Bewijslast'!C15="","",'Voorbeeld Bewijslast'!C15) -> Mobiele kraan | D15: =IF('Voorbeeld Bewijslast'!D15="","",'Voorbeeld Bewijslast'!D15) -> Develon | E15: =IF('Voorbeeld Bewijslast'!E15="","",'Voorbeeld Bewijslast'!E15) -> 22-PK-TB | F15: =IF('Voorbeeld Bewijslast'!J15="","",'Voorbeeld Bewijslast'!J15) -> Diesel motor | G15: =IF('Voorbeeld Bewijslast'!K15="","",'Voorbeeld Bewijslast'!K15) -> Stage V | H15: =IF('Voorbeeld Bewijslast'!L15="","",'Voorbeeld Bewijslast'!L15) -> HVO 100 | I15: =SUM('Voorbeeld Bewijslast'!F15:I15) -> 100 | J15: =SUM(K15:Q15) -> 100 | K15: 25 | L15: 25 | M15: 25 | N15: 25 | O15: 0
B16: 5 | C16: =IF('Voorbeeld Bewijslast'!C16="","",'Voorbeeld Bewijslast'!C16) | D16: =IF('Voorbeeld Bewijslast'!D16="","",'Voorbeeld Bewijslast'!D16) | E16: =IF('Voorbeeld Bewijslast'!E16="","",'Voorbeeld Bewijslast'!E16) | F16: =IF('Voorbeeld Bewijslast'!J16="","",'Voorbeeld Bewijslast'!J16) | G16: =IF('Voorbeeld Bewijslast'!K16="","",'Voorbeeld Bewijslast'!K16) | H16: =IF('Voorbeeld Bewijslast'!L16="","",'Voorbeeld Bewijslast'!L16) | I16: =SUM('Voorbeeld Bewijslast'!F16:I16) -> 0 | J16: =SUM(K16:Q16) -> 0
B17: 6 | C17: =IF('Voorbeeld Bewijslast'!C17="","",'Voorbeeld Bewijslast'!C17) | D17: =IF('Voorbeeld Bewijslast'!D17="","",'Voorbeeld Bewijslast'!D17) | E17: =IF('Voorbeeld Bewijslast'!E17="","",'Voorbeeld Bewijslast'!E17) | F17: =IF('Voorbeeld Bewijslast'!J17="","",'Voorbeeld Bewijslast'!J17) | G17: =IF('Voorbeeld Bewijslast'!K17="","",'Voorbeeld Bewijslast'!K17) | H17: =IF('Voorbeeld Bewijslast'!L17="","",'Voorbeeld Bewijslast'!L17) | I17: =SUM('Voorbeeld Bewijslast'!F17:I17) -> 0 | J17: =SUM(K17:Q17) -> 0
B18: 7 | C18: =IF('Voorbeeld Bewijslast'!C18="","",'Voorbeeld Bewijslast'!C18) | D18: =IF('Voorbeeld Bewijslast'!D18="","",'Voorbeeld Bewijslast'!D18) | E18: =IF('Voorbeeld Bewijslast'!E18="","",'Voorbeeld Bewijslast'!E18) | G18: =IF('Voorbeeld Bewijslast'!K18="","",'Voorbeeld Bewijslast'!K18) | H18: =IF('Voorbeeld Bewijslast'!L18="","",'Voorbeeld Bewijslast'!L18) | I18: =SUM('Voorbeeld Bewijslast'!F18:I18) -> 0 | J18: =SUM(K18:Q18) -> 0
B19: 8 | C19: =IF('Voorbeeld Bewijslast'!C19="","",'Voorbeeld Bewijslast'!C19) | D19: =IF('Voorbeeld Bewijslast'!D19="","",'Voorbeeld Bewijslast'!D19) | E19: =IF('Voorbeeld Bewijslast'!E19="","",'Voorbeeld Bewijslast'!E19) | F19: =IF('Voorbeeld Bewijslast'!J19="","",'Voorbeeld Bewijslast'!J19) | G19: =IF('Voorbeeld Bewijslast'!K19="","",'Voorbeeld Bewijslast'!K19) | H19: =IF('Voorbeeld Bewijslast'!L19="","",'Voorbeeld Bewijslast'!L19) | I19: =SUM('Voorbeeld Bewijslast'!F19:I19) -> 0 | J19: =SUM(K19:Q19) -> 0
B20: 9 | C20: =IF('Voorbeeld Bewijslast'!C20="","",'Voorbeeld Bewijslast'!C20) | D20: =IF('Voorbeeld Bewijslast'!D20="","",'Voorbeeld Bewijslast'!D20) | E20: =IF('Voorbeeld Bewijslast'!E20="","",'Voorbeeld Bewijslast'!E20) | F20: =IF('Voorbeeld Bewijslast'!J20="","",'Voorbeeld Bewijslast'!J20) | G20: =IF('Voorbeeld Bewijslast'!K20="","",'Voorbeeld Bewijslast'!K20) | H20: =IF('Voorbeeld Bewijslast'!L20="","",'Voorbeeld Bewijslast'!L20) | I20: =SUM('Voorbeeld Bewijslast'!F20:I20) -> 0 | J20: =SUM(K20:Q20) -> 0
B21: 10 | C21: =IF('Voorbeeld Bewijslast'!C21="","",'Voorbeeld Bewijslast'!C21) | D21: =IF('Voorbeeld Bewijslast'!D21="","",'Voorbeeld Bewijslast'!D21) | E21: =IF('Voorbeeld Bewijslast'!E21="","",'Voorbeeld Bewijslast'!E21) | F21: =IF('Voorbeeld Bewijslast'!J21="","",'Voorbeeld Bewijslast'!J21) | G21: =IF('Voorbeeld Bewijslast'!K21="","",'Voorbeeld Bewijslast'!K21) | H21: =IF('Voorbeeld Bewijslast'!L21="","",'Voorbeeld Bewijslast'!L21) | I21: =SUM('Voorbeeld Bewijslast'!F21:I21) -> 0 | J21: =SUM(K21:Q21) -> 0
B22: 11 | C22: =IF('Voorbeeld Bewijslast'!C22="","",'Voorbeeld Bewijslast'!C22) | D22: =IF('Voorbeeld Bewijslast'!D22="","",'Voorbeeld Bewijslast'!D22) | E22: =IF('Voorbeeld Bewijslast'!E22="","",'Voorbeeld Bewijslast'!E22) | F22: =IF('Voorbeeld Bewijslast'!J22="","",'Voorbeeld Bewijslast'!J22) | G22: =IF('Voorbeeld Bewijslast'!K22="","",'Voorbeeld Bewijslast'!K22) | H22: =IF('Voorbeeld Bewijslast'!L22="","",'Voorbeeld Bewijslast'!L22) | I22: =SUM('Voorbeeld Bewijslast'!F22:I22) -> 0 | J22: =SUM(K22:Q22) -> 0
B23: 12 | C23: =IF('Voorbeeld Bewijslast'!C23="","",'Voorbeeld Bewijslast'!C23) | D23: =IF('Voorbeeld Bewijslast'!D23="","",'Voorbeeld Bewijslast'!D23) | E23: =IF('Voorbeeld Bewijslast'!E23="","",'Voorbeeld Bewijslast'!E23) | F23: =IF('Voorbeeld Bewijslast'!J23="","",'Voorbeeld Bewijslast'!J23) | G23: =IF('Voorbeeld Bewijslast'!K23="","",'Voorbeeld Bewijslast'!K23) | H23: =IF('Voorbeeld Bewijslast'!L23="","",'Voorbeeld Bewijslast'!L23) | I23: =SUM('Voorbeeld Bewijslast'!F23:I23) -> 0 | J23: =SUM(K23:Q23) -> 0
B24: 13 | C24: =IF('Voorbeeld Bewijslast'!C24="","",'Voorbeeld Bewijslast'!C24) | D24: =IF('Voorbeeld Bewijslast'!D24="","",'Voorbeeld Bewijslast'!D24) | E24: =IF('Voorbeeld Bewijslast'!E24="","",'Voorbeeld Bewijslast'!E24) | F24: =IF('Voorbeeld Bewijslast'!J24="","",'Voorbeeld Bewijslast'!J24) | G24: =IF('Voorbeeld Bewijslast'!K24="","",'Voorbeeld Bewijslast'!K24) | H24: =IF('Voorbeeld Bewijslast'!L24="","",'Voorbeeld Bewijslast'!L24) | I24: =SUM('Voorbeeld Bewijslast'!F24:I24) -> 0 | J24: =SUM(K24:Q24) -> 0
B25: 14 | C25: =IF('Voorbeeld Bewijslast'!C25="","",'Voorbeeld Bewijslast'!C25) | D25: =IF('Voorbeeld Bewijslast'!D25="","",'Voorbeeld Bewijslast'!D25) | E25: =IF('Voorbeeld Bewijslast'!E25="","",'Voorbeeld Bewijslast'!E25) | F25: =IF('Voorbeeld Bewijslast'!J25="","",'Voorbeeld Bewijslast'!J25) | G25: =IF('Voorbeeld Bewijslast'!K25="","",'Voorbeeld Bewijslast'!K25) | H25: =IF('Voorbeeld Bewijslast'!L25="","",'Voorbeeld Bewijslast'!L25) | I25: =SUM('Voorbeeld Bewijslast'!F25:I25) -> 0 | J25: =SUM(K25:Q25) -> 0
B26: 15 | C26: =IF('Voorbeeld Bewijslast'!C26="","",'Voorbeeld Bewijslast'!C26) | D26: =IF('Voorbeeld Bewijslast'!D26="","",'Voorbeeld Bewijslast'!D26) | E26: =IF('Voorbeeld Bewijslast'!E26="","",'Voorbeeld Bewijslast'!E26) | F26: =IF('Voorbeeld Bewijslast'!J26="","",'Voorbeeld Bewijslast'!J26) | G26: =IF('Voorbeeld Bewijslast'!K26="","",'Voorbeeld Bewijslast'!K26) | H26: =IF('Voorbeeld Bewijslast'!L26="","",'Voorbeeld Bewijslast'!L26) | I26: =SUM('Voorbeeld Bewijslast'!F26:I26) -> 0 | J26: =SUM(K26:Q26) -> 0
B27: 16 | C27: =IF('Voorbeeld Bewijslast'!C27="","",'Voorbeeld Bewijslast'!C27) | D27: =IF('Voorbeeld Bewijslast'!D27="","",'Voorbeeld Bewijslast'!D27) | E27: =IF('Voorbeeld Bewijslast'!E27="","",'Voorbeeld Bewijslast'!E27) | F27: =IF('Voorbeeld Bewijslast'!J27="","",'Voorbeeld Bewijslast'!J27) | G27: =IF('Voorbeeld Bewijslast'!K27="","",'Voorbeeld Bewijslast'!K27) | H27: =IF('Voorbeeld Bewijslast'!L27="","",'Voorbeeld Bewijslast'!L27) | I27: =SUM('Voorbeeld Bewijslast'!F27:I27) -> 0 | J27: =SUM(K27:Q27) -> 0
B28: 17 | C28: =IF('Voorbeeld Bewijslast'!C28="","",'Voorbeeld Bewijslast'!C28) | D28: =IF('Voorbeeld Bewijslast'!D28="","",'Voorbeeld Bewijslast'!D28) | E28: =IF('Voorbeeld Bewijslast'!E28="","",'Voorbeeld Bewijslast'!E28) | F28: =IF('Voorbeeld Bewijslast'!J28="","",'Voorbeeld Bewijslast'!J28) | G28: =IF('Voorbeeld Bewijslast'!K28="","",'Voorbeeld Bewijslast'!K28) | H28: =IF('Voorbeeld Bewijslast'!L28="","",'Voorbeeld Bewijslast'!L28) | I28: =SUM('Voorbeeld Bewijslast'!F28:I28) -> 0 | J28: =SUM(K28:Q28) -> 0
B29: 18 | C29: =IF('Voorbeeld Bewijslast'!C29="","",'Voorbeeld Bewijslast'!C29) | D29: =IF('Voorbeeld Bewijslast'!D29="","",'Voorbeeld Bewijslast'!D29) | E29: =IF('Voorbeeld Bewijslast'!E29="","",'Voorbeeld Bewijslast'!E29) | F29: =IF('Voorbeeld Bewijslast'!J29="","",'Voorbeeld Bewijslast'!J29) | G29: =IF('Voorbeeld Bewijslast'!K29="","",'Voorbeeld Bewijslast'!K29) | H29: =IF('Voorbeeld Bewijslast'!L29="","",'Voorbeeld Bewijslast'!L29) | I29: =SUM('Voorbeeld Bewijslast'!F29:I29) -> 0 | J29: =SUM(K29:Q29) -> 0
B30: 19 | C30: =IF('Voorbeeld Bewijslast'!C30="","",'Voorbeeld Bewijslast'!C30) | D30: =IF('Voorbeeld Bewijslast'!D30="","",'Voorbeeld Bewijslast'!D30) | E30: =IF('Voorbeeld Bewijslast'!E30="","",'Voorbeeld Bewijslast'!E30) | F30: =IF('Voorbeeld Bewijslast'!J30="","",'Voorbeeld Bewijslast'!J30) | G30: =IF('Voorbeeld Bewijslast'!K30="","",'Voorbeeld Bewijslast'!K30) | H30: =IF('Voorbeeld Bewijslast'!L30="","",'Voorbeeld Bewijslast'!L30) | I30: =SUM('Voorbeeld Bewijslast'!F30:I30) -> 0 | J30: =SUM(K30:Q30) -> 0
B31: 20 | C31: =IF('Voorbeeld Bewijslast'!C31="","",'Voorbeeld Bewijslast'!C31) | D31: =IF('Voorbeeld Bewijslast'!D31="","",'Voorbeeld Bewijslast'!D31) | E31: =IF('Voorbeeld Bewijslast'!E31="","",'Voorbeeld Bewijslast'!E31) | F31: =IF('Voorbeeld Bewijslast'!J31="","",'Voorbeeld Bewijslast'!J31) | G31: =IF('Voorbeeld Bewijslast'!K31="","",'Voorbeeld Bewijslast'!K31) | H31: =IF('Voorbeeld Bewijslast'!L31="","",'Voorbeeld Bewijslast'!L31) | I31: =SUM('Voorbeeld Bewijslast'!F31:I31) -> 0 | J31: =SUM(K31:Q31) -> 0
C34: VOERTUIGEN | I34: Projectduur | K34: Weekinzet
C35: Omschrijving | D35: Merk | E35: Kenteken | F35: Aandrijving | G35: Euroklasse | H35: Brandstof | I35: Totaal aantal beloofde dagen | J35: Cumulatieve ingezette dagen | K35: Ma | L35: Di | M35: Wo | N35: Do | O35: Vr | P35: Za | Q35: Zo
B36: 1 | C36: =IF('Voorbeeld Bewijslast'!C36="","",'Voorbeeld Bewijslast'!C36) | D36: =IF('Voorbeeld Bewijslast'!D36="","",'Voorbeeld Bewijslast'!D36) | E36: =IF('Voorbeeld Bewijslast'!E36="","",'Voorbeeld Bewijslast'!E36) | F36: =IF('Voorbeeld Bewijslast'!J36="","",'Voorbeeld Bewijslast'!J36) | G36: =IF('Voorbeeld Bewijslast'!K36="","",'Voorbeeld Bewijslast'!K36) | H36: =IF('Voorbeeld Bewijslast'!L36="","",'Voorbeeld Bewijslast'!L36) | I36: =SUM('Voorbeeld Bewijslast'!F36:I36) -> 0 | J36: =SUM(K36:Q36) -> 0
B37: 2 | C37: =IF('Voorbeeld Bewijslast'!C37="","",'Voorbeeld Bewijslast'!C37) | D37: =IF('Voorbeeld Bewijslast'!D37="","",'Voorbeeld Bewijslast'!D37) | E37: =IF('Voorbeeld Bewijslast'!E37="","",'Voorbeeld Bewijslast'!E37) | F37: =IF('Voorbeeld Bewijslast'!J37="","",'Voorbeeld Bewijslast'!J37) | G37: =IF('Voorbeeld Bewijslast'!K37="","",'Voorbeeld Bewijslast'!K37) | H37: =IF('Voorbeeld Bewijslast'!L37="","",'Voorbeeld Bewijslast'!L37) | I37: =SUM('Voorbeeld Bewijslast'!F37:I37) -> 0 | J37: =SUM(K37:Q37) -> 0
B38: 3 | C38: =IF('Voorbeeld Bewijslast'!C38="","",'Voorbeeld Bewijslast'!C38) | D38: =IF('Voorbeeld Bewijslast'!D38="","",'Voorbeeld Bewijslast'!D38) | E38: =IF('Voorbeeld Bewijslast'!E38="","",'Voorbeeld Bewijslast'!E38) | F38: =IF('Voorbeeld Bewijslast'!J38="","",'Voorbeeld Bewijslast'!J38) | G38: =IF('Voorbeeld Bewijslast'!K38="","",'Voorbeeld Bewijslast'!K38) | H38: =IF('Voorbeeld Bewijslast'!L38="","",'Voorbeeld Bewijslast'!L38) | I38: =SUM('Voorbeeld Bewijslast'!F38:I38) -> 0 | J38: =SUM(K38:Q38) -> 0
B39: 4 | C39: =IF('Voorbeeld Bewijslast'!C39="","",'Voorbeeld Bewijslast'!C39) | D39: =IF('Voorbeeld Bewijslast'!D39="","",'Voorbeeld Bewijslast'!D39) | E39: =IF('Voorbeeld Bewijslast'!E39="","",'Voorbeeld Bewijslast'!E39) | F39: =IF('Voorbeeld Bewijslast'!J39="","",'Voorbeeld Bewijslast'!J39) | G39: =IF('Voorbeeld Bewijslast'!K39="","",'Voorbeeld Bewijslast'!K39) | H39: =IF('Voorbeeld Bewijslast'!L39="","",'Voorbeeld Bewijslast'!L39) | I39: =SUM('Voorbeeld Bewijslast'!F39:I39) -> 0 | J39: =SUM(K39:Q39) -> 0
B40: 5 | C40: =IF('Voorbeeld Bewijslast'!C40="","",'Voorbeeld Bewijslast'!C40) | D40: =IF('Voorbeeld Bewijslast'!D40="","",'Voorbeeld Bewijslast'!D40) | E40: =IF('Voorbeeld Bewijslast'!E40="","",'Voorbeeld Bewijslast'!E40) | F40: =IF('Voorbeeld Bewijslast'!J40="","",'Voorbeeld Bewijslast'!J40) | G40: =IF('Voorbeeld Bewijslast'!K40="","",'Voorbeeld Bewijslast'!K40) | H40: =IF('Voorbeeld Bewijslast'!L40="","",'Voorbeeld Bewijslast'!L40) | I40: =SUM('Voorbeeld Bewijslast'!F40:I40) -> 0 | J40: =SUM(K40:Q40) -> 0
B41: 6 | C41: =IF('Voorbeeld Bewijslast'!C41="","",'Voorbeeld Bewijslast'!C41) | D41: =IF('Voorbeeld Bewijslast'!D41="","",'Voorbeeld Bewijslast'!D41) | E41: =IF('Voorbeeld Bewijslast'!E41="","",'Voorbeeld Bewijslast'!E41) | F41: =IF('Voorbeeld Bewijslast'!J41="","",'Voorbeeld Bewijslast'!J41) | G41: =IF('Voorbeeld Bewijslast'!K41="","",'Voorbeeld Bewijslast'!K41) | H41: =IF('Voorbeeld Bewijslast'!L41="","",'Voorbeeld Bewijslast'!L41) | I41: =SUM('Voorbeeld Bewijslast'!F41:I41) -> 0 | J41: =SUM(K41:Q41) -> 0
B42: 7 | C42: =IF('Voorbeeld Bewijslast'!C42="","",'Voorbeeld Bewijslast'!C42) | D42: =IF('Voorbeeld Bewijslast'!D42="","",'Voorbeeld Bewijslast'!D42) | E42: =IF('Voorbeeld Bewijslast'!E42="","",'Voorbeeld Bewijslast'!E42) | F42: =IF('Voorbeeld Bewijslast'!J42="","",'Voorbeeld Bewijslast'!J42) | G42: =IF('Voorbeeld Bewijslast'!K42="","",'Voorbeeld Bewijslast'!K42) | H42: =IF('Voorbeeld Bewijslast'!L42="","",'Voorbeeld Bewijslast'!L42) | I42: =SUM('Voorbeeld Bewijslast'!F42:I42) -> 0 | J42: =SUM(K42:Q42) -> 0
B43: 8 | C43: =IF('Voorbeeld Bewijslast'!C43="","",'Voorbeeld Bewijslast'!C43) | D43: =IF('Voorbeeld Bewijslast'!D43="","",'Voorbeeld Bewijslast'!D43) | E43: =IF('Voorbeeld Bewijslast'!E43="","",'Voorbeeld Bewijslast'!E43) | F43: =IF('Voorbeeld Bewijslast'!J43="","",'Voorbeeld Bewijslast'!J43) | G43: =IF('Voorbeeld Bewijslast'!K43="","",'Voorbeeld Bewijslast'!K43) | H43: =IF('Voorbeeld Bewijslast'!L43="","",'Voorbeeld Bewijslast'!L43) | I43: =SUM('Voorbeeld Bewijslast'!F43:I43) -> 0 | J43: =SUM(K43:Q43) -> 0
B44: 9 | C44: =IF('Voorbeeld Bewijslast'!C44="","",'Voorbeeld Bewijslast'!C44) | D44: =IF('Voorbeeld Bewijslast'!D44="","",'Voorbeeld Bewijslast'!D44) | E44: =IF('Voorbeeld Bewijslast'!E44="","",'Voorbeeld Bewijslast'!E44) | F44: =IF('Voorbeeld Bewijslast'!J44="","",'Voorbeeld Bewijslast'!J44) | G44: =IF('Voorbeeld Bewijslast'!K44="","",'Voorbeeld Bewijslast'!K44) | H44: =IF('Voorbeeld Bewijslast'!L44="","",'Voorbeeld Bewijslast'!L44) | I44: =SUM('Voorbeeld Bewijslast'!F44:I44) -> 0 | J44: =SUM(K44:Q44) -> 0
B45: 10 | C45: =IF('Voorbeeld Bewijslast'!C45="","",'Voorbeeld Bewijslast'!C45) | D45: =IF('Voorbeeld Bewijslast'!D45="","",'Voorbeeld Bewijslast'!D45) | E45: =IF('Voorbeeld Bewijslast'!E45="","",'Voorbeeld Bewijslast'!E45) | F45: =IF('Voorbeeld Bewijslast'!J45="","",'Voorbeeld Bewijslast'!J45) | G45: =IF('Voorbeeld Bewijslast'!K45="","",'Voorbeeld Bewijslast'!K45) | H45: =IF('Voorbeeld Bewijslast'!L45="","",'Voorbeeld Bewijslast'!L45) | I45: =SUM('Voorbeeld Bewijslast'!F45:I45) -> 0 | J45: =SUM(K45:Q45) -> 0
B46: 11 | C46: =IF('Voorbeeld Bewijslast'!C46="","",'Voorbeeld Bewijslast'!C46) | D46: =IF('Voorbeeld Bewijslast'!D46="","",'Voorbeeld Bewijslast'!D46) | E46: =IF('Voorbeeld Bewijslast'!E46="","",'Voorbeeld Bewijslast'!E46) | F46: =IF('Voorbeeld Bewijslast'!J46="","",'Voorbeeld Bewijslast'!J46) | G46: =IF('Voorbeeld Bewijslast'!K46="","",'Voorbeeld Bewijslast'!K46) | H46: =IF('Voorbeeld Bewijslast'!L46="","",'Voorbeeld Bewijslast'!L46) | I46: =SUM('Voorbeeld Bewijslast'!F46:I46) -> 0 | J46: =SUM(K46:Q46) -> 0
B47: 12 | C47: =IF('Voorbeeld Bewijslast'!C47="","",'Voorbeeld Bewijslast'!C47) | D47: =IF('Voorbeeld Bewijslast'!D47="","",'Voorbeeld Bewijslast'!D47) | E47: =IF('Voorbeeld Bewijslast'!E47="","",'Voorbeeld Bewijslast'!E47) | F47: =IF('Voorbeeld Bewijslast'!J47="","",'Voorbeeld Bewijslast'!J47) | G47: =IF('Voorbeeld Bewijslast'!K47="","",'Voorbeeld Bewijslast'!K47) | H47: =IF('Voorbeeld Bewijslast'!L47="","",'Voorbeeld Bewijslast'!L47) | I47: =SUM('Voorbeeld Bewijslast'!F47:I47) -> 0 | J47: =SUM(K47:Q47) -> 0
... B49: 14 | C49: =IF('Voorbeeld Bewijslast'!C49="","",'Voorbeeld Bewijslast'!C49) | D49: =IF('Voorbeeld Bewijslast'!D49="","",'Voorbeeld Bewijslast'!D49) | E49: =IF('Voorbeeld Bewijslast'!E49="","",'Voorbeeld Bewijslast'!E49) | F49: =IF('Voorbeeld Bewijslast'!J49="","",'Voorbeeld Bewijslast'!J49) | G49: =IF('Voorbeeld Bewijslast'!K49="","",'Voorbeeld Bewijslast'!K49) | H49: =IF('Voorbeeld Bewijslast'!L49="","",'Voorbeeld Bewijslast'!L49) | I49: =SUM('Voorbeeld Bewijslast'!F49:I49) -> 0 | J49: =SUM(K49:Q49) -> 0
B50: 15 | C50: =IF('Voorbeeld Bewijslast'!C50="","",'Voorbeeld Bewijslast'!C50) | D50: =IF('Voorbeeld Bewijslast'!D50="","",'Voorbeeld Bewijslast'!D50) | E50: =IF('Voorbeeld Bewijslast'!E50="","",'Voorbeeld Bewijslast'!E50) | F50: =IF('Voorbeeld Bewijslast'!J50="","",'Voorbeeld Bewijslast'!J50) | G50: =IF('Voorbeeld Bewijslast'!K50="","",'Voorbeeld Bewijslast'!K50) | H50: =IF('Voorbeeld Bewijslast'!L50="","",'Voorbeeld Bewijslast'!L50) | I50: 0 | J50: =SUM(K50:Q50) -> 0
B51: 16 | C51: =IF('Voorbeeld Bewijslast'!C51="","",'Voorbeeld Bewijslast'!C51) | D51: =IF('Voorbeeld Bewijslast'!D51="","",'Voorbeeld Bewijslast'!D51) | E51: =IF('Voorbeeld Bewijslast'!E51="","",'Voorbeeld Bewijslast'!E51) | F51: =IF('Voorbeeld Bewijslast'!J51="","",'Voorbeeld Bewijslast'!J51) | G51: =IF('Voorbeeld Bewijslast'!K51="","",'Voorbeeld Bewijslast'!K51) | H51: =IF('Voorbeeld Bewijslast'!L51="","",'Voorbeeld Bewijslast'!L51) | I51: =SUM('Voorbeeld Bewijslast'!F51:I51) -> 0 | J51: =SUM(K51:Q51) -> 0
B52: 17 | C52: =IF('Voorbeeld Bewijslast'!C52="","",'Voorbeeld Bewijslast'!C52) | D52: =IF('Voorbeeld Bewijslast'!D52="","",'Voorbeeld Bewijslast'!D52) | E52: =IF('Voorbeeld Bewijslast'!E52="","",'Voorbeeld Bewijslast'!E52) | F52: =IF('Voorbeeld Bewijslast'!J52="","",'Voorbeeld Bewijslast'!J52) | G52: =IF('Voorbeeld Bewijslast'!K52="","",'Voorbeeld Bewijslast'!K52) | H52: =IF('Voorbeeld Bewijslast'!L52="","",'Voorbeeld Bewijslast'!L52) | I52: =SUM('Voorbeeld Bewijslast'!F52:I52) -> 0 | J52: =SUM(K52:Q52) -> 0
B53: 18 | C53: =IF('Voorbeeld Bewijslast'!C53="","",'Voorbeeld Bewijslast'!C53) | D53: =IF('Voorbeeld Bewijslast'!D53="","",'Voorbeeld Bewijslast'!D53) | E53: =IF('Voorbeeld Bewijslast'!E53="","",'Voorbeeld Bewijslast'!E53) | F53: =IF('Voorbeeld Bewijslast'!J53="","",'Voorbeeld Bewijslast'!J53) | G53: =IF('Voorbeeld Bewijslast'!K53="","",'Voorbeeld Bewijslast'!K53) | H53: =IF('Voorbeeld Bewijslast'!L53="","",'Voorbeeld Bewijslast'!L53) | I53: =SUM('Voorbeeld Bewijslast'!F53:I53) -> 0 | J53: =SUM(K53:Q53) -> 0
B54: 19 | C54: =IF('Voorbeeld Bewijslast'!C54="","",'Voorbeeld Bewijslast'!C54) | D54: =IF('Voorbeeld Bewijslast'!D54="","",'Voorbeeld Bewijslast'!D54) | E54: =IF('Voorbeeld Bewijslast'!E54="","",'Voorbeeld Bewijslast'!E54) | F54: =IF('Voorbeeld Bewijslast'!J54="","",'Voorbeeld Bewijslast'!J54) | G54: =IF('Voorbeeld Bewijslast'!K54="","",'Voorbeeld Bewijslast'!K54) | H54: =IF('Voorbeeld Bewijslast'!L54="","",'Voorbeeld Bewijslast'!L54) | I54: =SUM('Voorbeeld Bewijslast'!F54:I54) -> 0 | J54: =SUM(K54:Q54) -> 0
B55: 20 | C55: =IF('Voorbeeld Bewijslast'!C55="","",'Voorbeeld Bewijslast'!C55) | D55: =IF('Voorbeeld Bewijslast'!D55="","",'Voorbeeld Bewijslast'!D55) | E55: =IF('Voorbeeld Bewijslast'!E55="","",'Voorbeeld Bewijslast'!E55) | F55: =IF('Voorbeeld Bewijslast'!J55="","",'Voorbeeld Bewijslast'!J55) | G55: =IF('Voorbeeld Bewijslast'!K55="","",'Voorbeeld Bewijslast'!K55) | H55: =IF('Voorbeeld Bewijslast'!L55="","",'Voorbeeld Bewijslast'!L55) | I55: =SUM('Voorbeeld Bewijslast'!F55:I55) -> 0 | J55: =SUM(K55:Q55) -> 0
C58: GEREEDSCHAPPEN | I58: Projectduur | K58: Weekinzet
C59: Omschrijving | D59: Merk | E59: Registratienr. | F59: Aandrijving | G59: Aanvullende informatie | H59: Brandstof | I59: Totaal aantal beloofde uren | J59: Cumulatieve ingezette uren | K59: Ma | L59: Di | M59: Wo | N59: Do | O59: Vr | P59: Za | Q59: Zo
B60: 1 | C60: =IF('Voorbeeld Bewijslast'!C60="","",'Voorbeeld Bewijslast'!C60) | D60: =IF('Voorbeeld Bewijslast'!D60="","",'Voorbeeld Bewijslast'!D60) | E60: =IF('Voorbeeld Bewijslast'!E60="","",'Voorbeeld Bewijslast'!E60) | F60: =IF('Voorbeeld Bewijslast'!J60="","",'Voorbeeld Bewijslast'!J60) | G60: =IF('Voorbeeld Bewijslast'!K60="","",'Voorbeeld Bewijslast'!K60) | H60: =IF('Voorbeeld Bewijslast'!L60="","",'Voorbeeld Bewijslast'!L60) | I60: =SUM('Voorbeeld Bewijslast'!F60:I60) -> 0 | J60: =SUM(K60:Q60) -> 0
B61: 2 | C61: =IF('Voorbeeld Bewijslast'!C61="","",'Voorbeeld Bewijslast'!C61) | D61: =IF('Voorbeeld Bewijslast'!D61="","",'Voorbeeld Bewijslast'!D61) | E61: =IF('Voorbeeld Bewijslast'!E61="","",'Voorbeeld Bewijslast'!E61) | F61: =IF('Voorbeeld Bewijslast'!J61="","",'Voorbeeld Bewijslast'!J61) | G61: =IF('Voorbeeld Bewijslast'!K61="","",'Voorbeeld Bewijslast'!K61) | H61: =IF('Voorbeeld Bewijslast'!L61="","",'Voorbeeld Bewijslast'!L61) | I61: =SUM('Voorbeeld Bewijslast'!F61:I61) -> 0 | J61: =SUM(K61:Q61) -> 0
B62: 3 | C62: =IF('Voorbeeld Bewijslast'!C62="","",'Voorbeeld Bewijslast'!C62) | D62: =IF('Voorbeeld Bewijslast'!D62="","",'Voorbeeld Bewijslast'!D62) | E62: =IF('Voorbeeld Bewijslast'!E62="","",'Voorbeeld Bewijslast'!E62) | F62: =IF('Voorbeeld Bewijslast'!J62="","",'Voorbeeld Bewijslast'!J62) | G62: =IF('Voorbeeld Bewijslast'!K62="","",'Voorbeeld Bewijslast'!K62) | H62: =IF('Voorbeeld Bewijslast'!L62="","",'Voorbeeld Bewijslast'!L62) | I62: =SUM('Voorbeeld Bewijslast'!F62:I62) -> 0 | J62: =SUM(K62:Q62) -> 0
B63: 4 | C63: =IF('Voorbeeld Bewijslast'!C63="","",'Voorbeeld Bewijslast'!C63) | D63: =IF('Voorbeeld Bewijslast'!D63="","",'Voorbeeld Bewijslast'!D63) | E63: =IF('Voorbeeld Bewijslast'!E63="","",'Voorbeeld Bewijslast'!E63) | F63: =IF('Voorbeeld Bewijslast'!J63="","",'Voorbeeld Bewijslast'!J63) | G63: =IF('Voorbeeld Bewijslast'!K63="","",'Voorbeeld Bewijslast'!K63) | H63: =IF('Voorbeeld Bewijslast'!L63="","",'Voorbeeld Bewijslast'!L63) | I63: =SUM('Voorbeeld Bewijslast'!F63:I63) -> 0 | J63: =SUM(K63:Q63) -> 0
B64: 5 | C64: =IF('Voorbeeld Bewijslast'!C64="","",'Voorbeeld Bewijslast'!C64) | D64: =IF('Voorbeeld Bewijslast'!D64="","",'Voorbeeld Bewijslast'!D64) | E64: =IF('Voorbeeld Bewijslast'!E64="","",'Voorbeeld Bewijslast'!E64) | F64: =IF('Voorbeeld Bewijslast'!J64="","",'Voorbeeld Bewijslast'!J64) | G64: =IF('Voorbeeld Bewijslast'!K64="","",'Voorbeeld Bewijslast'!K64) | H64: =IF('Voorbeeld Bewijslast'!L64="","",'Voorbeeld Bewijslast'!L64) | I64: =SUM('Voorbeeld Bewijslast'!F64:I64) -> 0 | J64: =SUM(K64:Q64) -> 0
B65: 6 | C65: =IF('Voorbeeld Bewijslast'!C65="","",'Voorbeeld Bewijslast'!C65) | D65: =IF('Voorbeeld Bewijslast'!D65="","",'Voorbeeld Bewijslast'!D65) | E65: =IF('Voorbeeld Bewijslast'!E65="","",'Voorbeeld Bewijslast'!E65) | F65: =IF('Voorbeeld Bewijslast'!J65="","",'Voorbeeld Bewijslast'!J65) | G65: =IF('Voorbeeld Bewijslast'!K65="","",'Voorbeeld Bewijslast'!K65) | H65: =IF('Voorbeeld Bewijslast'!L65="","",'Voorbeeld Bewijslast'!L65) | I65: =SUM('Voorbeeld Bewijslast'!F65:I65) -> 0 | J65: =SUM(K65:Q65) -> 0
B66: 7 | C66: =IF('Voorbeeld Bewijslast'!C66="","",'Voorbeeld Bewijslast'!C66) | D66: =IF('Voorbeeld Bewijslast'!D66="","",'Voorbeeld Bewijslast'!D66) | E66: =IF('Voorbeeld Bewijslast'!E66="","",'Voorbeeld Bewijslast'!E66) | F66: =IF('Voorbeeld Bewijslast'!J66="","",'Voorbeeld Bewijslast'!J66) | G66: =IF('Voorbeeld Bewijslast'!K66="","",'Voorbeeld Bewijslast'!K66) | H66: =IF('Voorbeeld Bewijslast'!L66="","",'Voorbeeld Bewijslast'!L66) | I66: =SUM('Voorbeeld Bewijslast'!F66:I66) -> 0 | J66: =SUM(K66:Q66) -> 0
B67: 8 | C67: =IF('Voorbeeld Bewijslast'!C67="","",'Voorbeeld Bewijslast'!C67) | D67: =IF('Voorbeeld Bewijslast'!D67="","",'Voorbeeld Bewijslast'!D67) | E67: =IF('Voorbeeld Bewijslast'!E67="","",'Voorbeeld Bewijslast'!E67) | F67: =IF('Voorbeeld Bewijslast'!J67="","",'Voorbeeld Bewijslast'!J67) | G67: =IF('Voorbeeld Bewijslast'!K67="","",'Voorbeeld Bewijslast'!K67) | H67: =IF('Voorbeeld Bewijslast'!L67="","",'Voorbeeld Bewijslast'!L67) | I67: =SUM('Voorbeeld Bewijslast'!F67:I67) -> 0 | J67: =SUM(K67:Q67) -> 0
B68: 9 | C68: =IF('Voorbeeld Bewijslast'!C68="","",'Voorbeeld Bewijslast'!C68) | D68: =IF('Voorbeeld Bewijslast'!D68="","",'Voorbeeld Bewijslast'!D68) | E68: =IF('Voorbeeld Bewijslast'!E68="","",'Voorbeeld Bewijslast'!E68) | F68: =IF('Voorbeeld Bewijslast'!J68="","",'Voorbeeld Bewijslast'!J68) | G68: =IF('Voorbeeld Bewijslast'!K68="","",'Voorbeeld Bewijslast'!K68) | H68: =IF('Voorbeeld Bewijslast'!L68="","",'Voorbeeld Bewijslast'!L68) | I68: =SUM('Voorbeeld Bewijslast'!F68:I68) -> 0 | J68: =SUM(K68:Q68) -> 0
B69: 10 | C69: =IF('Voorbeeld Bewijslast'!C69="","",'Voorbeeld Bewijslast'!C69) | D69: =IF('Voorbeeld Bewijslast'!D69="","",'Voorbeeld Bewijslast'!D69) | E69: =IF('Voorbeeld Bewijslast'!E69="","",'Voorbeeld Bewijslast'!E69) | F69: =IF('Voorbeeld Bewijslast'!J69="","",'Voorbeeld Bewijslast'!J69) | G69: =IF('Voorbeeld Bewijslast'!K69="","",'Voorbeeld Bewijslast'!K69) | H69: =IF('Voorbeeld Bewijslast'!L69="","",'Voorbeeld Bewijslast'!L69) | I69: =SUM('Voorbeeld Bewijslast'!F69:I69) -> 0 | J69: =SUM(K69:Q69) -> 0
B70: 11 | C70: =IF('Voorbeeld Bewijslast'!C70="","",'Voorbeeld Bewijslast'!C70) | D70: =IF('Voorbeeld Bewijslast'!D70="","",'Voorbeeld Bewijslast'!D70) | E70: =IF('Voorbeeld Bewijslast'!E70="","",'Voorbeeld Bewijslast'!E70) | F70: =IF('Voorbeeld Bewijslast'!J70="","",'Voorbeeld Bewijslast'!J70) | G70: =IF('Voorbeeld Bewijslast'!K70="","",'Voorbeeld Bewijslast'!K70) | H70: =IF('Voorbeeld Bewijslast'!L70="","",'Voorbeeld Bewijslast'!L70) | I70: =SUM('Voorbeeld Bewijslast'!F70:I70) -> 0 | J70: =SUM(K70:Q70) -> 0
B71: 12 | C71: =IF('Voorbeeld Bewijslast'!C71="","",'Voorbeeld Bewijslast'!C71) | D71: =IF('Voorbeeld Bewijslast'!D71="","",'Voorbeeld Bewijslast'!D71) | E71: =IF('Voorbeeld Bewijslast'!E71="","",'Voorbeeld Bewijslast'!E71) | F71: =IF('Voorbeeld Bewijslast'!J71="","",'Voorbeeld Bewijslast'!J71) | G71: =IF('Voorbeeld Bewijslast'!K71="","",'Voorbeeld Bewijslast'!K71) | H71: =IF('Voorbeeld Bewijslast'!L71="","",'Voorbeeld Bewijslast'!L71) | I71: =SUM('Voorbeeld Bewijslast'!F71:I71) -> 0 | J71: =SUM(K71:Q71) -> 0
... B79: 20 | C79: =IF('Voorbeeld Bewijslast'!C79="","",'Voorbeeld Bewijslast'!C79) | D79: =IF('Voorbeeld Bewijslast'!D79="","",'Voorbeeld Bewijslast'!D79) | E79: =IF('Voorbeeld Bewijslast'!E79="","",'Voorbeeld Bewijslast'!E79) | F79: =IF('Voorbeeld Bewijslast'!J79="","",'Voorbeeld Bewijslast'!J79) | G79: =IF('Voorbeeld Bewijslast'!K79="","",'Voorbeeld Bewijslast'!K79) | H79: =IF('Voorbeeld Bewijslast'!L79="","",'Voorbeeld Bewijslast'!L79) | I79: =SUM('Voorbeeld Bewijslast'!F79:I79) -> 0 | J79: =SUM(K79:Q79) -> 0

Sheet 2023 wk41
C1: =Invulformulier!B2 -> Invulformulier Zero-Emissie materieel
C2: Overzicht materieel - logboek
C4: Instructie
C5: Gelieve alle grijze vakken in te vullen.
C7: Aannemer
C8: =Invulformulier!B8 -> Voorbeeld BV
C10: WERKTUIGEN | I10: Projectduur | K10: Weekinzet
C11: Omschrijving | D11: Merk | E11: Kenteken (vanaf 25 km/u)/registratie nr. | F11: Motor | G11: Stageklasse | H11: Brandstof | I11: Totaal aantal beloofde uren | J11: Cumulatieve ingezette uren | K11: Ma | L11: Di | M11: Wo | N11: Do | O11: Vr | P11: Za | Q11: Zo
B12: 1 | C12: =IF('Voorbeeld Bewijslast'!C12="","",'Voorbeeld Bewijslast'!C12) -> Mobiele kraan | D12: =IF('Voorbeeld Bewijslast'!D12="","",'Voorbeeld Bewijslast'!D12) -> Develon | E12: =IF('Voorbeeld Bewijslast'!E12="","",'Voorbeeld Bewijslast'!E12) -> 45-RR-FF | F12: =IF('Voorbeeld Bewijslast'!J12="","",'Voorbeeld Bewijslast'!J12) -> Elektro motor | G12: =IF('Voorbeeld Bewijslast'!K12="","",'Voorbeeld Bewijslast'!K12) -> zero-emisie | H12: =IF('Voorbeeld Bewijslast'!L12="","",'Voorbeeld Bewijslast'!L12) -> Stroom | I12: =SUM('Voorbeeld Bewijslast'!F12:I12) -> 1200 | J12: =SUM(K12:Q12) -> 0
B13: 2 | C13: =IF('Voorbeeld Bewijslast'!C13="","",'Voorbeeld Bewijslast'!C13) -> Mini graver | D13: =IF('Voorbeeld Bewijslast'!D13="","",'Voorbeeld Bewijslast'!D13) -> Develon | E13: =IF('Voorbeeld Bewijslast'!E13="","",'Voorbeeld Bewijslast'!E13) -> 10-PK-OO | F13: =IF('Voorbeeld Bewijslast'!J13="","",'Voorbeeld Bewijslast'!J13) -> Diesel motor | G13: =IF('Voorbeeld Bewijslast'!K13="","",'Voorbeeld Bewijslast'!K13) -> Stage V | H13: =IF('Voorbeeld Bewijslast'!L13="","",'Voorbeeld Bewijslast'!L13) -> HVO 100 | I13: =SUM('Voorbeeld Bewijslast'!F13:I13) -> 1150 | J13: =SUM(K13:Q13) -> 0
B14: 3 | C14: =IF('Voorbeeld Bewijslast'!C14="","",'Voorbeeld Bewijslast'!C14) -> Shovel | D14: =IF('Voorbeeld Bewijslast'!D14="","",'Voorbeeld Bewijslast'!D14) -> Develon | E14: =IF('Voorbeeld Bewijslast'!E14="","",'Voorbeeld Bewijslast'!E14) -> 24-IB-OR | F14: =IF('Voorbeeld Bewijslast'!J14="","",'Voorbeeld Bewijslast'!J14) -> Diesel motor | G14: =IF('Voorbeeld Bewijslast'!K14="","",'Voorbeeld Bewijslast'!K14) -> Stage V | H14: =IF('Voorbeeld Bewijslast'!L14="","",'Voorbeeld Bewijslast'!L14) -> HVO 100 | I14: =SUM('Voorbeeld Bewijslast'!F14:I14) -> 1050 | J14: =SUM(K14:Q14) -> 0
B15: 4 | C15: =IF('Voorbeeld Bewijslast'!C15="","",'Voorbeeld Bewijslast'!C15) -> Mobiele kraan | D15: =IF('Voorbeeld Bewijslast'!D15="","",'Voorbeeld Bewijslast'!D15) -> Develon | E15: =IF('Voorbeeld Bewijslast'!E15="","",'Voorbeeld Bewijslast'!E15) -> 22-PK-TB | F15: =IF('Voorbeeld Bewijslast'!J15="","",'Voorbeeld Bewijslast'!J15) -> Diesel motor | G15: =IF('Voorbeeld Bewijslast'!K15="","",'Voorbeeld Bewijslast'!K15) -> Stage V | H15: =IF('Voorbeeld Bewijslast'!L15="","",'Voorbeeld Bewijslast'!L15) -> HVO 100 | I15: =SUM('Voorbeeld Bewijslast'!F15:I15) -> 100 | J15: =SUM(K15:Q15) -> 0
B16: 5 | C16: =IF('Voorbeeld Bewijslast'!C16="","",'Voorbeeld Bewijslast'!C16) | D16: =IF('Voorbeeld Bewijslast'!D16="","",'Voorbeeld Bewijslast'!D16) | E16: =IF('Voorbeeld Bewijslast'!E16="","",'Voorbeeld Bewijslast'!E16) | F16: =IF('Voorbeeld Bewijslast'!J16="","",'Voorbeeld Bewijslast'!J16) | G16: =IF('Voorbeeld Bewijslast'!K16="","",'Voorbeeld Bewijslast'!K16) | H16: =IF('Voorbeeld Bewijslast'!L16="","",'Voorbeeld Bewijslast'!L16) | I16: =SUM('Voorbeeld Bewijslast'!F16:I16) -> 0 | J16: =SUM(K16:Q16) -> 0
B17: 6 | C17: =IF('Voorbeeld Bewijslast'!C17="","",'Voorbeeld Bewijslast'!C17) | D17: =IF('Voorbeeld Bewijslast'!D17="","",'Voorbeeld Bewijslast'!D17) | E17: =IF('Voorbeeld Bewijslast'!E17="","",'Voorbeeld Bewijslast'!E17) | F17: =IF('Voorbeeld Bewijslast'!J17="","",'Voorbeeld Bewijslast'!J17) | G17: =IF('Voorbeeld Bewijslast'!K17="","",'Voorbeeld Bewijslast'!K17) | H17: =IF('Voorbeeld Bewijslast'!L17="","",'Voorbeeld Bewijslast'!L17) | I17: =SUM('Voorbeeld Bewijslast'!F17:I17) -> 0 | J17: =SUM(K17:Q17) -> 0
B18: 7 | C18: =IF('Voorbeeld Bewijslast'!C18="","",'Voorbeeld Bewijslast'!C18) | D18: =IF('Voorbeeld Bewijslast'!D18="","",'Voorbeeld Bewijslast'!D18) | E18: =IF('Voorbeeld Bewijslast'!E18="","",'Voorbeeld Bewijslast'!E18) | F18: =IF('Voorbeeld Bewijslast'!J18="","",'Voorbeeld Bewijslast'!J18) | G18: =IF('Voorbeeld Bewijslast'!K18="","",'Voorbeeld Bewijslast'!K18) | H18: =IF('Voorbeeld Bewijslast'!L18="","",'Voorbeeld Bewijslast'!L18) | I18: =SUM('Voorbeeld Bewijslast'!F18:I18) -> 0 | J18: =SUM(K18:Q18) -> 0
B19: 8 | C19: =IF('Voorbeeld Bewijslast'!C19="","",'Voorbeeld Bewijslast'!C19) | D19: =IF('Voorbeeld Bewijslast'!D19="","",'Voorbeeld Bewijslast'!D19) | E19: =IF('Voorbeeld Bewijslast'!E19="","",'Voorbeeld Bewijslast'!E19) | F19: =IF('Voorbeeld Bewijslast'!J19="","",'Voorbeeld Bewijslast'!J19) | G19: =IF('Voorbeeld Bewijslast'!K19="","",'Voorbeeld Bewijslast'!K19) | H19: =IF('Voorbeeld Bewijslast'!L19="","",'Voorbeeld Bewijslast'!L19) | I19: =SUM('Voorbeeld Bewijslast'!F19:I19) -> 0 | J19: =SUM(K19:Q19) -> 0
B20: 9 | C20: =IF('Voorbeeld Bewijslast'!C20="","",'Voorbeeld Bewijslast'!C20) | D20: =IF('Voorbeeld Bewijslast'!D20="","",'Voorbeeld Bewijslast'!D20) | E20: =IF('Voorbeeld Bewijslast'!E20="","",'Voorbeeld Bewijslast'!E20) | F20: =IF('Voorbeeld Bewijslast'!J20="","",'Voorbeeld Bewijslast'!J20) | G20: =IF('Voorbeeld Bewijslast'!K20="","",'Voorbeeld Bewijslast'!K20) | H20: =IF('Voorbeeld Bewijslast'!L20="","",'Voorbeeld Bewijslast'!L20) | I20: =SUM('Voorbeeld Bewijslast'!F20:I20) -> 0 | J20: =SUM(K20:Q20) -> 0
B21: 10 | C21: =IF('Voorbeeld Bewijslast'!C21="","",'Voorbeeld Bewijslast'!C21) | D21: =IF('Voorbeeld Bewijslast'!D21="","",'Voorbeeld Bewijslast'!D21) | E21: =IF('Voorbeeld Bewijslast'!E21="","",'Voorbeeld Bewijslast'!E21) | F21: =IF('Voorbeeld Bewijslast'!J21="","",'Voorbeeld Bewijslast'!J21) | G21: =IF('Voorbeeld Bewijslast'!K21="","",'Voorbeeld Bewijslast'!K21) | H21: =IF('Voorbeeld Bewijslast'!L21="","",'Voorbeeld Bewijslast'!L21) | I21: =SUM('Voorbeeld Bewijslast'!F21:I21) -> 0 | J21: =SUM(K21:Q21) -> 0
B22: 11 | C22: =IF('Voorbeeld Bewijslast'!C22="","",'Voorbeeld Bewijslast'!C22) | D22: =IF('Voorbeeld Bewijslast'!D22="","",'Voorbeeld Bewijslast'!D22) | E22: =IF('Voorbeeld Bewijslast'!E22="","",'Voorbeeld Bewijslast'!E22) | F22: =IF('Voorbeeld Bewijslast'!J22="","",'Voorbeeld Bewijslast'!J22) | G22: =IF('Voorbeeld Bewijslast'!K22="","",'Voorbeeld Bewijslast'!K22) | H22: =IF('Voorbeeld Bewijslast'!L22="","",'Voorbeeld Bewijslast'!L22) | I22: =SUM('Voorbeeld Bewijslast'!F22:I22) -> 0 | J22: =SUM(K22:Q22) -> 0
B23: 12 | C23: =IF('Voorbeeld Bewijslast'!C23="","",'Voorbeeld Bewijslast'!C23) | D23: =IF('Voorbeeld Bewijslast'!D23="","",'Voorbeeld Bewijslast'!D23) | E23: =IF('Voorbeeld Bewijslast'!E23="","",'Voorbeeld Bewijslast'!E23) | F23: =IF('Voorbeeld Bewijslast'!J23="","",'Voorbeeld Bewijslast'!J23) | G23: =IF('Voorbeeld Bewijslast'!K23="","",'Voorbeeld Bewijslast'!K23) | H23: =IF('Voorbeeld Bewijslast'!L23="","",'Voorbeeld Bewijslast'!L23) | I23: =SUM('Voorbeeld Bewijslast'!F23:I23) -> 0 | J23: =SUM(K23:Q23) -> 0
... B31: 20 | C31: =IF('Voorbeeld Bewijslast'!C31="","",'Voorbeeld Bewijslast'!C31) | D31: =IF('Voorbeeld Bewijslast'!D31="","",'Voorbeeld Bewijslast'!D31) | E31: =IF('Voorbeeld Bewijslast'!E31="","",'Voorbeeld Bewijslast'!E31) | F31: =IF('Voorbeeld Bewijslast'!J31="","",'Voorbeeld Bewijslast'!J31) | G31: =IF('Voorbeeld Bewijslast'!K31="","",'Voorbeeld Bewijslast'!K31) | H31: =IF('Voorbeeld Bewijslast'!L31="","",'Voorbeeld Bewijslast'!L31) | I31: =SUM('Voorbeeld Bewijslast'!F31:I31) -> 0 | J31: =SUM(K31:Q31) -> 0
C34: VOERTUIGEN | I34: Projectduur | K34: Weekinzet
C35: Omschrijving | D35: Merk | E35: Kenteken | F35: Aandrijving | G35: Euroklasse | H35: Brandstof | I35: Totaal aantal beloofde dagen | J35: Cumulatieve ingezette dagen | K35: Ma | L35: Di | M35: Wo | N35: Do | O35: Vr | P35: Za | Q35: Zo
B36: 1 | C36: =IF('Voorbeeld Bewijslast'!C36="","",'Voorbeeld Bewijslast'!C36) | D36: =IF('Voorbeeld Bewijslast'!D36="","",'Voorbeeld Bewijslast'!D36) | E36: =IF('Voorbeeld Bewijslast'!E36="","",'Voorbeeld Bewijslast'!E36) | F36: =IF('Voorbeeld Bewijslast'!J36="","",'Voorbeeld Bewijslast'!J36) | G36: =IF('Voorbeeld Bewijslast'!K36="","",'Voorbeeld Bewijslast'!K36) | H36: =IF('Voorbeeld Bewijslast'!L36="","",'Voorbeeld Bewijslast'!L36) | I36: =SUM('Voorbeeld Bewijslast'!F36:I36) -> 0 | J36: =SUM(K36:Q36) -> 0
B37: 2 | C37: =IF('Voorbeeld Bewijslast'!C37="","",'Voorbeeld Bewijslast'!C37) | D37: =IF('Voorbeeld Bewijslast'!D37="","",'Voorbeeld Bewijslast'!D37) | E37: =IF('Voorbeeld Bewijslast'!E37="","",'Voorbeeld Bewijslast'!E37) | F37: =IF('Voorbeeld Bewijslast'!J37="","",'Voorbeeld Bewijslast'!J37) | G37: =IF('Voorbeeld Bewijslast'!K37="","",'Voorbeeld Bewijslast'!K37) | H37: =IF('Voorbeeld Bewijslast'!L37="","",'Voorbeeld Bewijslast'!L37) | I37: =SUM('Voorbeeld Bewijslast'!F37:I37) -> 0 | J37: =SUM(K37:Q37) -> 0
B38: 3 | C38: =IF('Voorbeeld Bewijslast'!C38="","",'Voorbeeld Bewijslast'!C38) | D38: =IF('Voorbeeld Bewijslast'!D38="","",'Voorbeeld Bewijslast'!D38) | E38: =IF('Voorbeeld Bewijslast'!E38="","",'Voorbeeld Bewijslast'!E38) | F38: =IF('Voorbeeld Bewijslast'!J38="","",'Voorbeeld Bewijslast'!J38) | G38: =IF('Voorbeeld Bewijslast'!K38="","",'Voorbeeld Bewijslast'!K38) | H38: =IF('Voorbeeld Bewijslast'!L38="","",'Voorbeeld Bewijslast'!L38) | I38: =SUM('Voorbeeld Bewijslast'!F38:I38) -> 0 | J38: =SUM(K38:Q38) -> 0
B39: 4 | C39: =IF('Voorbeeld Bewijslast'!C39="","",'Voorbeeld Bewijslast'!C39) | D39: =IF('Voorbeeld Bewijslast'!D39="","",'Voorbeeld Bewijslast'!D39) | E39: =IF('Voorbeeld Bewijslast'!E39="","",'Voorbeeld Bewijslast'!E39) | F39: =IF('Voorbeeld Bewijslast'!J39="","",'Voorbeeld Bewijslast'!J39) | G39: =IF('Voorbeeld Bewijslast'!K39="","",'Voorbeeld Bewijslast'!K39) | H39: =IF('Voorbeeld Bewijslast'!L39="","",'Voorbeeld Bewijslast'!L39) | I39: =SUM('Voorbeeld Bewijslast'!F39:I39) -> 0 | J39: =SUM(K39:Q39) -> 0
B40: 5 | C40: =IF('Voorbeeld Bewijslast'!C40="","",'Voorbeeld Bewijslast'!C40) | D40: =IF('Voorbeeld Bewijslast'!D40="","",'Voorbeeld Bewijslast'!D40) | E40: =IF('Voorbeeld Bewijslast'!E40="","",'Voorbeeld Bewijslast'!E40) | F40: =IF('Voorbeeld Bewijslast'!J40="","",'Voorbeeld Bewijslast'!J40) | G40: =IF('Voorbeeld Bewijslast'!K40="","",'Voorbeeld Bewijslast'!K40) | H40: =IF('Voorbeeld Bewijslast'!L40="","",'Voorbeeld Bewijslast'!L40) | I40: =SUM('Voorbeeld Bewijslast'!F40:I40) -> 0 | J40: =SUM(K40:Q40) -> 0
B41: 6 | C41: =IF('Voorbeeld Bewijslast'!C41="","",'Voorbeeld Bewijslast'!C41) | D41: =IF('Voorbeeld Bewijslast'!D41="","",'Voorbeeld Bewijslast'!D41) | E41: =IF('Voorbeeld Bewijslast'!E41="","",'Voorbeeld Bewijslast'!E41) | F41: =IF('Voorbeeld Bewijslast'!J41="","",'Voorbeeld Bewijslast'!J41) | G41: =IF('Voorbeeld Bewijslast'!K41="","",'Voorbeeld Bewijslast'!K41) | H41: =IF('Voorbeeld Bewijslast'!L41="","",'Voorbeeld Bewijslast'!L41) | I41: =SUM('Voorbeeld Bewijslast'!F41:I41) -> 0 | J41: =SUM(K41:Q41) -> 0
B42: 7 | C42: =IF('Voorbeeld Bewijslast'!C42="","",'Voorbeeld Bewijslast'!C42) | D42: =IF('Voorbeeld Bewijslast'!D42="","",'Voorbeeld Bewijslast'!D42) | E42: =IF('Voorbeeld Bewijslast'!E42="","",'Voorbeeld Bewijslast'!E42) | F42: =IF('Voorbeeld Bewijslast'!J42="","",'Voorbeeld Bewijslast'!J42) | G42: =IF('Voorbeeld Bewijslast'!K42="","",'Voorbeeld Bewijslast'!K42) | H42: =IF('Voorbeeld Bewijslast'!L42="","",'Voorbeeld Bewijslast'!L42) | I42: =SUM('Voorbeeld Bewijslast'!F42:I42) -> 0 | J42: =SUM(K42:Q42) -> 0
B43: 8 | C43: =IF('Voorbeeld Bewijslast'!C43="","",'Voorbeeld Bewijslast'!C43) | D43: =IF('Voorbeeld Bewijslast'!D43="","",'Voorbeeld Bewijslast'!D43) | E43: =IF('Voorbeeld Bewijslast'!E43="","",'Voorbeeld Bewijslast'!E43) | F43: =IF('Voorbeeld Bewijslast'!J43="","",'Voorbeeld Bewijslast'!J43) | G43: =IF('Voorbeeld Bewijslast'!K43="","",'Voorbeeld Bewijslast'!K43) | H43: =IF('Voorbeeld Bewijslast'!L43="","",'Voorbeeld Bewijslast'!L43) | I43: =SUM('Voorbeeld Bewijslast'!F43:I43) -> 0 | J43: =SUM(K43:Q43) -> 0
B44: 9 | C44: =IF('Voorbeeld Bewijslast'!C44="","",'Voorbeeld Bewijslast'!C44) | D44: =IF('Voorbeeld Bewijslast'!D44="","",'Voorbeeld Bewijslast'!D44) | E44: =IF('Voorbeeld Bewijslast'!E44="","",'Voorbeeld Bewijslast'!E44) | F44: =IF('Voorbeeld Bewijslast'!J44="","",'Voorbeeld Bewijslast'!J44) | G44: =IF('Voorbeeld Bewijslast'!K44="","",'Voorbeeld Bewijslast'!K44) | H44: =IF('Voorbeeld Bewijslast'!L44="","",'Voorbeeld Bewijslast'!L44) | I44: =SUM('Voorbeeld Bewijslast'!F44:I44) -> 0 | J44: =SUM(K44:Q44) -> 0
B45: 10 | C45: =IF('Voorbeeld Bewijslast'!C45="","",'Voorbeeld Bewijslast'!C45) | D45: =IF('Voorbeeld Bewijslast'!D45="","",'Voorbeeld Bewijslast'!D45) | E45: =IF('Voorbeeld Bewijslast'!E45="","",'Voorbeeld Bewijslast'!E45) | F45: =IF('Voorbeeld Bewijslast'!J45="","",'Voorbeeld Bewijslast'!J45) | G45: =IF('Voorbeeld Bewijslast'!K45="","",'Voorbeeld Bewijslast'!K45) | H45: =IF('Voorbeeld Bewijslast'!L45="","",'Voorbeeld Bewijslast'!L45) | I45: =SUM('Voorbeeld Bewijslast'!F45:I45) -> 0 | J45: =SUM(K45:Q45) -> 0
B46: 11 | C46: =IF('Voorbeeld Bewijslast'!C46="","",'Voorbeeld Bewijslast'!C46) | D46: =IF('Voorbeeld Bewijslast'!D46="","",'Voorbeeld Bewijslast'!D46) | E46: =IF('Voorbeeld Bewijslast'!E46="","",'Voorbeeld Bewijslast'!E46) | F46: =IF('Voorbeeld Bewijslast'!J46="","",'Voorbeeld Bewijslast'!J46) | G46: =IF('Voorbeeld Bewijslast'!K46="","",'Voorbeeld Bewijslast'!K46) | H46: =IF('Voorbeeld Bewijslast'!L46="","",'Voorbeeld Bewijslast'!L46) | I46: =SUM('Voorbeeld Bewijslast'!F46:I46) -> 0 | J46: =SUM(K46:Q46) -> 0
B47: 12 | C47: =IF('Voorbeeld Bewijslast'!C47="","",'Voorbeeld Bewijslast'!C47) | D47: =IF('Voorbeeld Bewijslast'!D47="","",'Voorbeeld Bewijslast'!D47) | E47: =IF('Voorbeeld Bewijslast'!E47="","",'Voorbeeld Bewijslast'!E47) | F47: =IF('Voorbeeld Bewijslast'!J47="","",'Voorbeeld Bewijslast'!J47) | G47: =IF('Voorbeeld Bewijslast'!K47="","",'Voorbeeld Bewijslast'!K47) | H47: =IF('Voorbeeld Bewijslast'!L47="","",'Voorbeeld Bewijslast'!L47) | I47: =SUM('Voorbeeld Bewijslast'!F47:I47) -> 0 | J47: =SUM(K47:Q47) -> 0
... B49: 14 | C49: =IF('Voorbeeld Bewijslast'!C49="","",'Voorbeeld Bewijslast'!C49) | D49: =IF('Voorbeeld Bewijslast'!D49="","",'Voorbeeld Bewijslast'!D49) | E49: =IF('Voorbeeld Bewijslast'!E49="","",'Voorbeeld Bewijslast'!E49) | F49: =IF('Voorbeeld Bewijslast'!J49="","",'Voorbeeld Bewijslast'!J49) | G49: =IF('Voorbeeld Bewijslast'!K49="","",'Voorbeeld Bewijslast'!K49) | H49: =IF('Voorbeeld Bewijslast'!L49="","",'Voorbeeld Bewijslast'!L49) | I49: =SUM('Voorbeeld Bewijslast'!F49:I49) -> 0 | J49: =SUM(K49:Q49) -> 0
B50: 15 | C50: =IF('Voorbeeld Bewijslast'!C50="","",'Voorbeeld Bewijslast'!C50) | D50: =IF('Voorbeeld Bewijslast'!D50="","",'Voorbeeld Bewijslast'!D50) | E50: =IF('Voorbeeld Bewijslast'!E50="","",'Voorbeeld Bewijslast'!E50) | F50: =IF('Voorbeeld Bewijslast'!J50="","",'Voorbeeld Bewijslast'!J50) | G50: =IF('Voorbeeld Bewijslast'!K50="","",'Voorbeeld Bewijslast'!K50) | H50: =IF('Voorbeeld Bewijslast'!L50="","",'Voorbeeld Bewijslast'!L50) | I50: 0 | J50: =SUM(K50:Q50) -> 0
B51: 16 | C51: =IF('Voorbeeld Bewijslast'!C51="","",'Voorbeeld Bewijslast'!C51) | D51: =IF('Voorbeeld Bewijslast'!D51="","",'Voorbeeld Bewijslast'!D51) | E51: =IF('Voorbeeld Bewijslast'!E51="","",'Voorbeeld Bewijslast'!E51) | F51: =IF('Voorbeeld Bewijslast'!J51="","",'Voorbeeld Bewijslast'!J51) | G51: =IF('Voorbeeld Bewijslast'!K51="","",'Voorbeeld Bewijslast'!K51) | H51: =IF('Voorbeeld Bewijslast'!L51="","",'Voorbeeld Bewijslast'!L51) | I51: =SUM('Voorbeeld Bewijslast'!F51:I51) -> 0 | J51: =SUM(K51:Q51) -> 0
B52: 17 | C52: =IF('Voorbeeld Bewijslast'!C52="","",'Voorbeeld Bewijslast'!C52) | D52: =IF('Voorbeeld Bewijslast'!D52="","",'Voorbeeld Bewijslast'!D52) | E52: =IF('Voorbeeld Bewijslast'!E52="","",'Voorbeeld Bewijslast'!E52) | F52: =IF('Voorbeeld Bewijslast'!J52="","",'Voorbeeld Bewijslast'!J52) | G52: =IF('Voorbeeld Bewijslast'!K52="","",'Voorbeeld Bewijslast'!K52) | H52: =IF('Voorbeeld Bewijslast'!L52="","",'Voorbeeld Bewijslast'!L52) | I52: =SUM('Voorbeeld Bewijslast'!F52:I52) -> 0 | J52: =SUM(K52:Q52) -> 0
B53: 18 | C53: =IF('Voorbeeld Bewijslast'!C53="","",'Voorbeeld Bewijslast'!C53) | D53: =IF('Voorbeeld Bewijslast'!D53="","",'Voorbeeld Bewijslast'!D53) | E53: =IF('Voorbeeld Bewijslast'!E53="","",'Voorbeeld Bewijslast'!E53) | F53: =IF('Voorbeeld Bewijslast'!J53="","",'Voorbeeld Bewijslast'!J53) | G53: =IF('Voorbeeld Bewijslast'!K53="","",'Voorbeeld Bewijslast'!K53) | H53: =IF('Voorbeeld Bewijslast'!L53="","",'Voorbeeld Bewijslast'!L53) | I53: =SUM('Voorbeeld Bewijslast'!F53:I53) -> 0 | J53: =SUM(K53:Q53) -> 0
B54: 19 | C54: =IF('Voorbeeld Bewijslast'!C54="","",'Voorbeeld Bewijslast'!C54) | D54: =IF('Voorbeeld Bewijslast'!D54="","",'Voorbeeld Bewijslast'!D54) | E54: =IF('Voorbeeld Bewijslast'!E54="","",'Voorbeeld Bewijslast'!E54) | F54: =IF('Voorbeeld Bewijslast'!J54="","",'Voorbeeld Bewijslast'!J54) | G54: =IF('Voorbeeld Bewijslast'!K54="","",'Voorbeeld Bewijslast'!K54) | H54: =IF('Voorbeeld Bewijslast'!L54="","",'Voorbeeld Bewijslast'!L54) | I54: =SUM('Voorbeeld Bewijslast'!F54:I54) -> 0 | J54: =SUM(K54:Q54) -> 0
B55: 20 | C55: =IF('Voorbeeld Bewijslast'!C55="","",'Voorbeeld Bewijslast'!C55) | D55: =IF('Voorbeeld Bewijslast'!D55="","",'Voorbeeld Bewijslast'!D55) | E55: =IF('Voorbeeld Bewijslast'!E55="","",'Voorbeeld Bewijslast'!E55) | F55: =IF('Voorbeeld Bewijslast'!J55="","",'Voorbeeld Bewijslast'!J55) | G55: =IF('Voorbeeld Bewijslast'!K55="","",'Voorbeeld Bewijslast'!K55) | H55: =IF('Voorbeeld Bewijslast'!L55="","",'Voorbeeld Bewijslast'!L55) | I55: =SUM('Voorbeeld Bewijslast'!F55:I55) -> 0 | J55: =SUM(K55:Q55) -> 0
C58: GEREEDSCHAPPEN | I58: Projectduur | K58: Weekinzet
C59: Omschrijving | D59: Merk | E59: Registratienr. | F59: Aandrijving | G59: Aanvullende informatie | H59: Brandstof | I59: Totaal aantal beloofde uren | J59: Cumulatieve ingezette uren | K59: Ma | L59: Di | M59: Wo | N59: Do | O59: Vr | P59: Za | Q59: Zo
B60: 1 | C60: =IF('Voorbeeld Bewijslast'!C60="","",'Voorbeeld Bewijslast'!C60) | D60: =IF('Voorbeeld Bewijslast'!D60="","",'Voorbeeld Bewijslast'!D60) | E60: =IF('Voorbeeld Bewijslast'!E60="","",'Voorbeeld Bewijslast'!E60) | F60: =IF('Voorbeeld Bewijslast'!J60="","",'Voorbeeld Bewijslast'!J60) | G60: =IF('Voorbeeld Bewijslast'!K60="","",'Voorbeeld Bewijslast'!K60) | H60: =IF('Voorbeeld Bewijslast'!L60="","",'Voorbeeld Bewijslast'!L60) | I60: =SUM('Voorbeeld Bewijslast'!F60:I60) -> 0 | J60: =SUM(K60:Q60) -> 0
B61: 2 | C61: =IF('Voorbeeld Bewijslast'!C61="","",'Voorbeeld Bewijslast'!C61) | D61: =IF('Voorbeeld Bewijslast'!D61="","",'Voorbeeld Bewijslast'!D61) | E61: =IF('Voorbeeld Bewijslast'!E61="","",'Voorbeeld Bewijslast'!E61) | F61: =IF('Voorbeeld Bewijslast'!J61="","",'Voorbeeld Bewijslast'!J61) | G61: =IF('Voorbeeld Bewijslast'!K61="","",'Voorbeeld Bewijslast'!K61) | H61: =IF('Voorbeeld Bewijslast'!L61="","",'Voorbeeld Bewijslast'!L61) | I61: =SUM('Voorbeeld Bewijslast'!F61:I61) -> 0 | J61: =SUM(K61:Q61) -> 0
B62: 3 | C62: =IF('Voorbeeld Bewijslast'!C62="","",'Voorbeeld Bewijslast'!C62) | D62: =IF('Voorbeeld Bewijslast'!D62="","",'Voorbeeld Bewijslast'!D62) | E62: =IF('Voorbeeld Bewijslast'!E62="","",'Voorbeeld Bewijslast'!E62) | F62: =IF('Voorbeeld Bewijslast'!J62="","",'Voorbeeld Bewijslast'!J62) | G62: =IF('Voorbeeld Bewijslast'!K62="","",'Voorbeeld Bewijslast'!K62) | H62: =IF('Voorbeeld Bewijslast'!L62="","",'Voorbeeld Bewijslast'!L62) | I62: =SUM('Voorbeeld Bewijslast'!F62:I62) -> 0 | J62: =SUM(K62:Q62) -> 0
B63: 4 | C63: =IF('Voorbeeld Bewijslast'!C63="","",'Voorbeeld Bewijslast'!C63) | D63: =IF('Voorbeeld Bewijslast'!D63="","",'Voorbeeld Bewijslast'!D63) | E63: =IF('Voorbeeld Bewijslast'!E63="","",'Voorbeeld Bewijslast'!E63) | F63: =IF('Voorbeeld Bewijslast'!J63="","",'Voorbeeld Bewijslast'!J63) | G63: =IF('Voorbeeld Bewijslast'!K63="","",'Voorbeeld Bewijslast'!K63) | H63: =IF('Voorbeeld Bewijslast'!L63="","",'Voorbeeld Bewijslast'!L63) | I63: =SUM('Voorbeeld Bewijslast'!F63:I63) -> 0 | J63: =SUM(K63:Q63) -> 0
B64: 5 | C64: =IF('Voorbeeld Bewijslast'!C64="","",'Voorbeeld Bewijslast'!C64) | D64: =IF('Voorbeeld Bewijslast'!D64="","",'Voorbeeld Bewijslast'!D64) | E64: =IF('Voorbeeld Bewijslast'!E64="","",'Voorbeeld Bewijslast'!E64) | F64: =IF('Voorbeeld Bewijslast'!J64="","",'Voorbeeld Bewijslast'!J64) | G64: =IF('Voorbeeld Bewijslast'!K64="","",'Voorbeeld Bewijslast'!K64) | H64: =IF('Voorbeeld Bewijslast'!L64="","",'Voorbeeld Bewijslast'!L64) | I64: =SUM('Voorbeeld Bewijslast'!F64:I64) -> 0 | J64: =SUM(K64:Q64) -> 0
B65: 6 | C65: =IF('Voorbeeld Bewijslast'!C65="","",'Voorbeeld Bewijslast'!C65) | D65: =IF('Voorbeeld Bewijslast'!D65="","",'Voorbeeld Bewijslast'!D65) | E65: =IF('Voorbeeld Bewijslast'!E65="","",'Voorbeeld Bewijslast'!E65) | F65: =IF('Voorbeeld Bewijslast'!J65="","",'Voorbeeld Bewijslast'!J65) | G65: =IF('Voorbeeld Bewijslast'!K65="","",'Voorbeeld Bewijslast'!K65) | H65: =IF('Voorbeeld Bewijslast'!L65="","",'Voorbeeld Bewijslast'!L65) | I65: =SUM('Voorbeeld Bewijslast'!F65:I65) -> 0 | J65: =SUM(K65:Q65) -> 0
B66: 7 | C66: =IF('Voorbeeld Bewijslast'!C66="","",'Voorbeeld Bewijslast'!C66) | D66: =IF('Voorbeeld Bewijslast'!D66="","",'Voorbeeld Bewijslast'!D66) | E66: =IF('Voorbeeld Bewijslast'!E66="","",'Voorbeeld Bewijslast'!E66) | F66: =IF('Voorbeeld Bewijslast'!J66="","",'Voorbeeld Bewijslast'!J66) | G66: =IF('Voorbeeld Bewijslast'!K66="","",'Voorbeeld Bewijslast'!K66) | H66: =IF('Voorbeeld Bewijslast'!L66="","",'Voorbeeld Bewijslast'!L66) | I66: =SUM('Voorbeeld Bewijslast'!F66:I66) -> 0 | J66: =SUM(K66:Q66) -> 0
B67: 8 | C67: =IF('Voorbeeld Bewijslast'!C67="","",'Voorbeeld Bewijslast'!C67) | D67: =IF('Voorbeeld Bewijslast'!D67="","",'Voorbeeld Bewijslast'!D67) | E67: =IF('Voorbeeld Bewijslast'!E67="","",'Voorbeeld Bewijslast'!E67) | F67: =IF('Voorbeeld Bewijslast'!J67="","",'Voorbeeld Bewijslast'!J67) | G67: =IF('Voorbeeld Bewijslast'!K67="","",'Voorbeeld Bewijslast'!K67) | H67: =IF('Voorbeeld Bewijslast'!L67="","",'Voorbeeld Bewijslast'!L67) | I67: =SUM('Voorbeeld Bewijslast'!F67:I67) -> 0 | J67: =SUM(K67:Q67) -> 0
B68: 9 | C68: =IF('Voorbeeld Bewijslast'!C68="","",'Voorbeeld Bewijslast'!C68) | D68: =IF('Voorbeeld Bewijslast'!D68="","",'Voorbeeld Bewijslast'!D68) | E68: =IF('Voorbeeld Bewijslast'!E68="","",'Voorbeeld Bewijslast'!E68) | F68: =IF('Voorbeeld Bewijslast'!J68="","",'Voorbeeld Bewijslast'!J68) | G68: =IF('Voorbeeld Bewijslast'!K68="","",'Voorbeeld Bewijslast'!K68) | H68: =IF('Voorbeeld Bewijslast'!L68="","",'Voorbeeld Bewijslast'!L68) | I68: =SUM('Voorbeeld Bewijslast'!F68:I68) -> 0 | J68: =SUM(K68:Q68) -> 0
B69: 10 | C69: =IF('Voorbeeld Bewijslast'!C69="","",'Voorbeeld Bewijslast'!C69) | D69: =IF('Voorbeeld Bewijslast'!D69="","",'Voorbeeld Bewijslast'!D69) | E69: =IF('Voorbeeld Bewijslast'!E69="","",'Voorbeeld Bewijslast'!E69) | F69: =IF('Voorbeeld Bewijslast'!J69="","",'Voorbeeld Bewijslast'!J69) | G69: =IF('Voorbeeld Bewijslast'!K69="","",'Voorbeeld Bewijslast'!K69) | H69: =IF('Voorbeeld Bewijslast'!L69="","",'Voorbeeld Bewijslast'!L69) | I69: =SUM('Voorbeeld Bewijslast'!F69:I69) -> 0 | J69: =SUM(K69:Q69) -> 0
B70: 11 | C70: =IF('Voorbeeld Bewijslast'!C70="","",'Voorbeeld Bewijslast'!C70) | D70: =IF('Voorbeeld Bewijslast'!D70="","",'Voorbeeld Bewijslast'!D70) | E70: =IF('Voorbeeld Bewijslast'!E70="","",'Voorbeeld Bewijslast'!E70) | F70: =IF('Voorbeeld Bewijslast'!J70="","",'Voorbeeld Bewijslast'!J70) | G70: =IF('Voorbeeld Bewijslast'!K70="","",'Voorbeeld Bewijslast'!K70) | H70: =IF('Voorbeeld Bewijslast'!L70="","",'Voorbeeld Bewijslast'!L70) | I70: =SUM('Voorbeeld Bewijslast'!F70:I70) -> 0 | J70: =SUM(K70:Q70) -> 0
B71: 12 | C71: =IF('Voorbeeld Bewijslast'!C71="","",'Voorbeeld Bewijslast'!C71) | D71: =IF('Voorbeeld Bewijslast'!D71="","",'Voorbeeld Bewijslast'!D71) | E71: =IF('Voorbeeld Bewijslast'!E71="","",'Voorbeeld Bewijslast'!E71) | F71: =IF('Voorbeeld Bewijslast'!J71="","",'Voorbeeld Bewijslast'!J71) | G71: =IF('Voorbeeld Bewijslast'!K71="","",'Voorbeeld Bewijslast'!K71) | H71: =IF('Voorbeeld Bewijslast'!L71="","",'Voorbeeld Bewijslast'!L71) | I71: =SUM('Voorbeeld Bewijslast'!F71:I71) -> 0 | J71: =SUM(K71:Q71) -> 0
... B79: 20 | C79: =IF('Voorbeeld Bewijslast'!C79="","",'Voorbeeld Bewijslast'!C79) | D79: =IF('Voorbeeld Bewijslast'!D79="","",'Voorbeeld Bewijslast'!D79) | E79: =IF('Voorbeeld Bewijslast'!E79="","",'Voorbeeld Bewijslast'!E79) | F79: =IF('Voorbeeld Bewijslast'!J79="","",'Voorbeeld Bewijslast'!J79) | G79: =IF('Voorbeeld Bewijslast'!K79="","",'Voorbeeld Bewijslast'!K79) | H79: =IF('Voorbeeld Bewijslast'!L79="","",'Voorbeeld Bewijslast'!L79) | I79: =SUM('Voorbeeld Bewijslast'!F79:I79) -> 0 | J79: =SUM(K79:Q79) -> 0

Sheet Einde
B2: Logboek invullen Per werkweek moet het logboek worden ingevuld. Het tabblad 'wk40' en 'wk41' zijn het sjabloon voor het logboek. Deze tabbladen kunnen gekopieerd worden. De naam van het nieuwe tabblad dient te worden gewijzigd. let op! De locatie van alle tabbladen van het logboek is belangrijk. Deze dienen na het tabblad 'Begin' en voor het dit tabblad 'Einde' te staan. TIP! Om dit overzicht werkbaar te houden, zet de meest recente logboekweek vooraan!
