Workbook

Sheet rekenmodel
A1: Rekenmodel prestatiemeting
A2: Projectgegevens
A3: Naam | B3: =Projectbeoordelingsformulier!B3 -> BRM Wethoudersbuurt
A4: Bestek | B4: 15-2024
A5: Dossier | B5: =Projectbeoordelingsformulier!B5 -> 3445
A6: Datum | B6: 45462
A8: Factor | B8: 0.15
A9: Aanneemsom | B9: 250000
A10: Rekenwaarde prestatiemeting | B10: =B9*B8 -> 37500
A11: Behaald % prestatiemeting | B11: =Projectbeoordelingsformulier!H9 -> 1
A12: Aangeboden % prestatiemeting | B12: 0.8
A13: Verschil | B13: =ROUND(B11-B12,2) -> 0.2
A14: Te verrekenen bedrag | B14: =IF(B13<=0%,B8*B9*B13*B17,B8*B9*B13*B16) -> 5625
A16: Factor bij bonus | B16: 0.75
A17: Factor bij malus | B17: 2.5
A20: De gele cellen zijn invulbaar

Sheet Projectbeoordelingsformulier
A1: PROJECTBEOORDELINGSFORMULIER
F2: 5 | G2: voldaan zonder herstel of tekortkoming
A3: =IF(rekenmodel!A3="","",rekenmodel!A3) -> Naam | B3: BRM Wethoudersbuurt | F3: 3 | G3: voldaan na incidentele tekortkoming
A4: =IF(rekenmodel!A4="","",rekenmodel!A4) -> Bestek | B4: 15-2024 | F4: 1 | G4: voldaan na meerder verzoek of meerder herstel of meerdere tekortkomingen of gevolgen voor TGKIO
A5: =IF(rekenmodel!A5="","",rekenmodel!A5) -> Dossier | B5: 3445
A6: =IF(rekenmodel!A6="","",rekenmodel!A6) -> Datum | B6: 45462 | F6: 0 | G6: voldaan na herhaaldelijk verzoek of herhaaldelijk herstel of met grote gevolgen voor TGKIO
B8: Toetsingsonderdelen | C8: Wegings- factor | D8: WF ter info en controle in % | E8: Maximaal te behalen punten | F8: Beoorde-lings waarde | G8: Behaalde punten | H8: Gescoorde waarde in procenten | I8: Max. rekenwaarde
C9: =C10+C14+C21+C32+C39 -> 1 | D9: =D10+D14+D21+D32+D39 -> 1 | G9: totaal gescoorde waarde | H9: =H10+H14+H21+H32+H39 -> 1 | I9: =I10+I14+I21+I32+I39 -> 37500
A10: 1 | B10: Aanleveren documenten | C10: 0.1 | D10: =SUM(D11:D12) -> 0.1 | E10: =SUM(E11:E12) -> 30 | G10: =SUM(G11:G12) -> 30 | H10: =G10/E10*C10 -> 0.1 | I10: =C10*rekenmodel!B10 -> 3750
A11: 1.1 | B11: Voor alle aan te leveren documenten geldt dat deze juist en conform contract aangeleverd dienen te worden. (Denk aan gedetailleerd werkplan, algemeen tijdschema, kwaliteits- en keuringsplan, V&G plan, werkplannen voor specifieke onderwerpen, omgaan met vrijgekomen materialen, verkeersplan, etc. | C11: 3 | D11: =$C$10/(SUM($C$11:$C$12))*C11 -> 0.05 | E11: =C11*$F$2 -> 15 | F11: 5 | G11: =C11*F11 -> 15 | I11: =$I$10/$E$10*E11 -> 1875
A12: 1.2 | B12: Het opleverdossier inclusief revisie- en inspectiegegevens tijdig en compleet indienen. | C12: 3 | D12: =$C$10/(SUM($C$11:$C$12))*C12 -> 0.05 | E12: =C12*$F$2 -> 15 | F12: 5 | G12: =C12*F12 -> 15 | I12: =$I$10/$E$10*E12 -> 1875
A14: 2. | B14: Algemeen tijdschema, werkplan/ projectadministratie | C14: 0.2 | D14: =SUM(D15:D19) -> 0.2 | E14: =SUM(E15:E19) -> 75 | G14: =SUM(G15:G19) -> 75 | H14: =G14/E14*C14 -> 0.2 | I14: =C14*rekenmodel!B10 -> 7500
A15: 2.1 | B15: Algemeen tijdsschema en gedetailleerd werkplan, voldoet aan de eisen van het contract en par.26 van de UAV 2012 en dient wekelijks geoptimaliseerd te worden. | C15: 3 | D15: =$C$14/(SUM($C$15:$C$19))*C15 -> 0.04 | E15: =C15*$F$2 -> 15 | F15: 5 | G15: =F15*C15 -> 15 | I15: =$I$14/$E$14*E15 -> 1500
A16: 2.2 | B16: Wijzigingen in het algemeen tijdschema worden dagelijks gemeld bij de directie. | C16: 3 | D16: =$C$14/(SUM($C$15:$C$19))*C16 -> 0.04 | E16: =C16*$F$2 -> 15 | F16: 5 | G16: =F16*C16 -> 15 | I16: =$I$14/$E$14*E16 -> 1500
A17: 2.3 | B17: Afwijkingen worden tijdig gemeld, duidelijk omschreven en goed gemotiveerd. Na verzoek indienen van open begroting met marktconforme prijzen. | C17: 3 | D17: =$C$14/(SUM($C$15:$C$19))*C17 -> 0.04 | E17: =C17*$F$2 -> 15 | F17: 5 | G17: =F17*C17 -> 15 | I17: =$I$14/$E$14*E17 -> 1500
A18: 2.4 | B18: Indienen onderbouwde termijnen, herleidbaar berekend, met aantoonbare hoeveelhedenverklaring, bonnen en schetsen tijdig en compleet indienen. | C18: 3 | D18: =$C$14/(SUM($C$15:$C$19))*C18 -> 0.04 | E18: =C18*$F$2 -> 15 | F18: 5 | G18: =F18*C18 -> 15 | I18: =$I$14/$E$14*E18 -> 1500
A19: 2.5 | B19: Dagrapporten worden wekelijks en compleet ingediend. | C19: 3 | D19: =$C$14/(SUM($C$15:$C$19))*C19 -> 0.04 | E19: =C19*$F$2 -> 15 | F19: 5 | G19: =F19*C19 -> 15 | I19: =$I$14/$E$14*E19 -> 1500
A21: 3. | B21: Projectkwaliteit en uitvoering | C21: 0.4 | D21: =SUM(D22:D30) -> 0.4 | E21: =SUM(E22:E30) -> 110 | G21: =SUM(G22:G30) -> 110 | H21: =G21/E21*C21 -> 0.4 | I21: =C21*rekenmodel!B10 -> 15000
A22: 3.1 | B22: Kwaliteitsborging wordt zodanig uitgevoerd dan bij (vermoeden van) onvoldoend werk, de opdrachtnemer dit zelf, proactief, signaleert en meldt, voordat onvoldoende werk door de directie is gesignaleerd. | C22: 2 | D22: =$C$21/(SUM($C$22:$C$30))*C22 -> 0.036363636 | E22: =C22*$F$2 -> 10 | F22: 5 | G22: =F22*C22 -> 10 | I22: =$I$21/$E$21*E22 -> 1363.6364
A23: 3.2 | B23: Stop- en bijwoonpunten tijdig aangemeld. | C23: 2 | D23: =$C$21/(SUM($C$22:$C$30))*C23 -> 0.036363636 | E23: =C23*$F$2 -> 10 | F23: 5 | G23: =F23*C23 -> 10 | I23: =$I$21/$E$21*E23 -> 1363.6364
A24: 3.3 | B24: Proactief voorkomen van schade aan werk en omgeving (bermen/bomen). | C24: 2 | D24: =$C$21/(SUM($C$22:$C$30))*C24 -> 0.036363636 | E24: =C24*$F$2 -> 10 | F24: 5 | G24: =F24*C24 -> 10 | I24: =$I$21/$E$21*E24 -> 1363.6364
A25: 3.4 | B25: Proactief herstellen van onvoldoend werk en schade. | C25: 2 | D25: =$C$21/(SUM($C$22:$C$30))*C25 -> 0.036363636 | E25: =C25*$F$2 -> 10 | F25: 5 | G25: =F25*C25 -> 10 | I25: =$I$21/$E$21*E25 -> 1363.6364
A26: 3.5 | B26: Grondstromen tijdig melden bij Meldpunt Bodemkwaliteit conform het Besluit Bodemkwaliteit | C26: 2 | D26: =$C$21/(SUM($C$22:$C$30))*C26 -> 0.036363636 | E26: =C26*$F$2 -> 10 | F26: 5 | G26: =F26*C26 -> 10 | I26: =$I$21/$E$21*E26 -> 1363.6364
A27: 3.6 | B27: Buiten werktijden alle bouwstoffen, afvalstoffen ect in een afgesloten omgeving. | C27: 2 | D27: =$C$21/(SUM($C$22:$C$30))*C27 -> 0.036363636 | E27: =C27*$F$2 -> 10 | F27: 5 | G27: =F27*C27 -> 10 | I27: =$I$21/$E$21*E27 -> 1363.6364
A28: 3.7 | B28: Grond van verschillende kwaliteit gescheiden ontgraven, melden, afvoeren en opslaan. | C28: 2 | D28: =$C$21/(SUM($C$22:$C$30))*C28 -> 0.036363636 | E28: =C28*$F$2 -> 10 | F28: 5 | G28: =F28*C28 -> 10 | I28: =$I$21/$E$21*E28 -> 1363.6364
A29: 3.8 | B29: Verdichting ondergrond, sleuven, aanvullingen en de fundering voldoen aan bestekeisen. | C29: 4 | D29: =$C$21/(SUM($C$22:$C$30))*C29 -> 0.072727273 | E29: =C29*$F$2 -> 20 | F29: 5 | G29: =F29*C29 -> 20 | I29: =$I$21/$E$21*E29 -> 2727.2727
A30: 3.9 | B30: Riolering voldoet aan bestekeisen | C30: 4 | D30: =$C$21/(SUM($C$22:$C$30))*C30 -> 0.072727273 | E30: =C30*$F$2 -> 20 | F30: 5 | G30: =F30*C30 -> 20 | I30: =$I$21/$E$21*E30 -> 2727.2727
A32: 4. | B32: Communicatie | C32: 0.15 | D32: =SUM(D33:D37) -> 0.15 | E32: =SUM(E33:E37) -> 75 | G32: =SUM(G33:G37) -> 75 | H32: =G32/E32*C32 -> 0.15 | I32: =C32*rekenmodel!B10 -> 5625
A33: 4.1 | B33: Opdrachtnemer komt afspraken met, en aanwijzingen van de directie juist en tijdig na. | C33: 3 | D33: =$C$32/(SUM($C$33:$C$37))*C33 -> 0.03 | E33: =C33*$F$2 -> 15 | F33: 5 | G33: =F33*C33 -> 15 | I33: =$I$32/$E$32*E33 -> 1125
A34: 4.2 | B34: Uitvoerder en/of projectleider is telefonisch goed bereikbaar en reageert dagelijks op vragen en opmerkingen. | C34: 3 | D34: =$C$32/(SUM($C$33:$C$37))*C34 -> 0.03 | E34: =C34*$F$2 -> 15 | F34: 5 | G34: =F34*C34 -> 15 | I34: =$I$32/$E$32*E34 -> 1125
A35: 4.3 | B35: Afspraken met derden (nutsen, andere opdrachtnemers en bewoners worden vastgelegd en tijdig gecommuniceerd met de directie. | C35: 3 | D35: =$C$32/(SUM($C$33:$C$37))*C35 -> 0.03 | E35: =C35*$F$2 -> 15 | F35: 5 | G35: =F35*C35 -> 15 | I35: =$I$32/$E$32*E35 -> 1125
A36: 4.4 | B36: Opdrachtnemer heeft oog voor de sociale aspecten naar de omgeving. | C36: 3 | D36: =$C$32/(SUM($C$33:$C$37))*C36 -> 0.03 | E36: =C36*$F$2 -> 15 | F36: 5 | G36: =F36*C36 -> 15 | I36: =$I$32/$E$32*E36 -> 1125
A37: 4.5 | B37: De opdrachtnemer voorkomt discussie door afspraken met de directie dagelijks per mail te bevestigen. | C37: 3 | D37: =$C$32/(SUM($C$33:$C$37))*C37 -> 0.03 | E37: =C37*$F$2 -> 15 | F37: 5 | G37: =F37*C37 -> 15 | I37: =$I$32/$E$32*E37 -> 1125
A39: 5. | B39: Werkterrein / veilig werken | C39: 0.15 | D39: =SUM(D40:D43) -> 0.15 | E39: =SUM(E40:E43) -> 50 | G39: =SUM(G40:G43) -> 50 | H39: =G39/E39*C39 -> 0.15 | I39: =C39*rekenmodel!B10 -> 5625
A40: 5.1 | B40: Verkeersmaatregelen worden dagelijks in stand gehouden | C40: 2 | D40: =$C$39/(SUM($C$40:$C$43))*C40 -> 0.03 | E40: =C40*$F$2 -> 10 | F40: 5 | G40: =F40*C40 -> 10 | I40: =$I$39/$E$39*E40 -> 1125
A41: 5.2 | B41: Maatregelen uit V&G-plan worden nagekomen | C41: 3 | D41: =$C$39/(SUM($C$40:$C$43))*C41 -> 0.045 | E41: =C41*$F$2 -> 15 | F41: 5 | G41: =F41*C41 -> 15 | I41: =$I$39/$E$39*E41 -> 1687.5
A42: 5.3 | B42: Veilig werken en voorkomen gevaarlijke situaties voor medewerkers, omwonenden en weggebruikers. | C42: 3 | D42: =$C$39/(SUM($C$40:$C$43))*C42 -> 0.045 | E42: =C42*$F$2 -> 15 | F42: 5 | G42: =F42*C42 -> 15 | I42: =$I$39/$E$39*E42 -> 1687.5
A43: 5.4 | B43: Het werkterrein is ordelijk. | C43: 2 | D43: =$C$39/(SUM($C$40:$C$43))*C43 -> 0.03 | E43: =C43*$F$2 -> 10 | F43: 5 | G43: =F43*C43 -> 10 | I43: =$I$39/$E$39*E43 -> 1125
