Workbook
Name SCORE: 'Beoordelen geboden oplossing'!$A$47:$A$51

Sheet Beoordelen geboden oplossing
A1: Beoordeling kwaliteit GEBODEN AUDIOVISUELE OPLOSSING & PROEFOPSTELLING
A2: Om de mate van kwaliteit van de dienstverlening en het inlevingsvermogen van de inschrijver te kunnen beoordelen dient de inschrijver inzake de Digiborden oplossing voor één leslokaal (namelijk het lokaal zoals getoond tijdens de schouw/ locatiebezoek) een plan van aanpak te beschrijven inzake de implementatie van de oplossing om aan de lessen in het primair onderwijs door de leerkracht een interactieve Digibord en moderne invulling te geven.
A3: Beoordelingskader geboden oplossing (7.1)
A4: 1. plan van aanpak
A5: Wat is het plan van aanpak van inschrijver om te komen tot een tevreden levering, passend bij de omgevingsfactoren in tijd (tijdsplanning) en wie doet wat?
A6: Welke voorbereidingen dient opdrachtgever te treffen en welke voorbereidingen zal de opdrachtgever uit handen worden genomen?
A7: Welke risico’s ziet inschrijver en welke beheersmaatregelen treft inschrijver?
A8: Welke meerwaarde biedt inschrijver boven op het gevraagde om de ICT-afdeling van de opdrachtgever maximaal te ontlasten?
A9: Welk type audiosysteem adviseert u, het aantal Watt geluidsvermogen en de kleur?
A10: Welke bekabeling, stekkerdozen, opties en overige voorzieningen zijn nodig om het werkend te krijgen?
A11: Met wie wil inschrijver communiceren om tot een succesvolle oplevering te kunnen komen?
A12: 2. gespecificeerde offerte
... A46: De afzonderlijke items zullen worden beoordeeld met:
A47: Beter | B47: dan huidige oplossing
A48: Vergelijkbaar | B48: met huidige oplossing
A49: Acceptabel verbeterpunt | B49: met huidige oplossing
A50: Onacceptabel verbeterpunt | B50: met huidige oplossing
A51: SCORE:

Sheet Beoordelaar 1
A1: Beoordelaar 1: <<>> | C1: Inschrijver <<>>
A2: ='Beoordelen geboden oplossing'!A4 -> 1. plan van aanpak | C2: Score:
A3: ='Beoordelen geboden oplossing'!A5 -> Wat is het plan van aanpak van inschrijver om te komen tot een tevreden levering, passend bij de omgevingsfactoren in tijd (tijdsplanning) en wie doet wat? | C3: SCORE:
C4: <MOTIVATIE>
A5: ='Beoordelen geboden oplossing'!A6 -> Welke voorbereidingen dient opdrachtgever te treffen en welke voorbereidingen zal de opdrachtgever uit handen worden genomen? | C5: SCORE:
C6: <MOTIVATIE>
A7: ='Beoordelen geboden oplossing'!A7 -> Welke risico’s ziet inschrijver en welke beheersmaatregelen treft inschrijver? | C7: SCORE:
C8: <MOTIVATIE>
A9: ='Beoordelen geboden oplossing'!A8 -> Welke meerwaarde biedt inschrijver boven op het gevraagde om de ICT-afdeling van de opdrachtgever maximaal te ontlasten? | C9: SCORE:
C10: <MOTIVATIE>
A11: ='Beoordelen geboden oplossing'!A9 -> Welk type audiosysteem adviseert u, het aantal Watt geluidsvermogen en de kleur? | C11: SCORE:
C12: <MOTIVATIE>
A13: ='Beoordelen geboden oplossing'!A10 -> Welke bekabeling, stekkerdozen, opties en overige voorzieningen zijn nodig om het werkend te krijgen? | C13: SCORE:
C14: <MOTIVATIE>
A15: ='Beoordelen geboden oplossing'!A11 -> Met wie wil inschrijver communiceren om tot een succesvolle oplevering te kunnen komen? | C15: SCORE:
C16: <MOTIVATIE>
A17: ='Beoordelen geboden oplossing'!A12 -> 2. gespecificeerde offerte | C17: Score:
A18: ='Beoordelen geboden oplossing'!A12 -> 2. gespecificeerde offerte | C18: SCORE
C19: <MOTIVATIE>
A20: ='Beoordelen geboden oplossing'!A14 -> 3. motivatie | C20: Score:
A21: ='Beoordelen geboden oplossing'!A15 -> Waarom het plan van aanpak van inschrijver de beste oplossing is voor het type onderwijs van de opdrachtgever. | C21: SCORE
C22: <MOTIVATIE>
A23: ='Beoordelen geboden oplossing'!A16 -> Welke meerwaarde inschrijver heeft voor de docenten. | C23: SCORE
C24: <MOTIVATIE>
A25: ='Beoordelen geboden oplossing'!A17 -> De mate van ontzorgen van opdrachtgever door inschrijver. | C25: SCORE
C26: <MOTIVATIE>
A27: ='Beoordelen geboden oplossing'!A18 -> Hoe inschrijver zich met haar aangeboden werkwijze onderscheidt met mogelijke andere oplossingen. | C27: SCORE
C28: <MOTIVATIE>
A31: ='Beoordelen geboden oplossing'!A21 -> Beoordelingskader proefopstelling (7.7) | C31: Score:
A32: ='Beoordelen geboden oplossing'!A22 -> 1. Eenvoud opstarten en gebruiken | C32: SCORE
C33: <MOTIVATIE>
A34: ='Beoordelen geboden oplossing'!A23 -> 2. Eenvoud en snelheid afsluiten | C34: SCORE
C35: <MOTIVATIE>
A36: ='Beoordelen geboden oplossing'!A24 -> 3. Werking van de digitale pen | C36: SCORE
C37: <MOTIVATIE>
A38: ='Beoordelen geboden oplossing'!A25 -> 4. Werking touch met hand / vinger | C38: SCORE
C39: <MOTIVATIE>
A40: ='Beoordelen geboden oplossing'!A26 -> 5. Werking digitaal whiteboard; schrijffunctie en eenvoud van de bediening vanaf een device | C40: SCORE
C41: <MOTIVATIE>
A42: ='Beoordelen geboden oplossing'!A27 -> 6. Werking ‘freezen’ scherm | C42: SCORE
...

Sheet Beoordelaar 2
A1: Beoordelaar 2: <<>> | C1: Inschrijver <<>>
A2: ='Beoordelen geboden oplossing'!A4 -> 1. plan van aanpak | C2: Score:
A3: ='Beoordelen geboden oplossing'!A5 -> Wat is het plan van aanpak van inschrijver om te komen tot een tevreden levering, passend bij de omgevingsfactoren in tijd (tijdsplanning) en wie doet wat? | C3: SCORE:
C4: <MOTIVATIE>
A5: ='Beoordelen geboden oplossing'!A6 -> Welke voorbereidingen dient opdrachtgever te treffen en welke voorbereidingen zal de opdrachtgever uit handen worden genomen? | C5: SCORE:
C6: <MOTIVATIE>
A7: ='Beoordelen geboden oplossing'!A7 -> Welke risico’s ziet inschrijver en welke beheersmaatregelen treft inschrijver? | C7: SCORE:
C8: <MOTIVATIE>
A9: ='Beoordelen geboden oplossing'!A8 -> Welke meerwaarde biedt inschrijver boven op het gevraagde om de ICT-afdeling van de opdrachtgever maximaal te ontlasten? | C9: SCORE:
C10: <MOTIVATIE>
A11: ='Beoordelen geboden oplossing'!A9 -> Welk type audiosysteem adviseert u, het aantal Watt geluidsvermogen en de kleur? | C11: SCORE:
C12: <MOTIVATIE>
A13: ='Beoordelen geboden oplossing'!A10 -> Welke bekabeling, stekkerdozen, opties en overige voorzieningen zijn nodig om het werkend te krijgen? | C13: SCORE:
C14: <MOTIVATIE>
A15: ='Beoordelen geboden oplossing'!A11 -> Met wie wil inschrijver communiceren om tot een succesvolle oplevering te kunnen komen? | C15: SCORE:
C16: <MOTIVATIE>
A17: ='Beoordelen geboden oplossing'!A12 -> 2. gespecificeerde offerte | C17: Score:
A18: ='Beoordelen geboden oplossing'!A12 -> 2. gespecificeerde offerte | C18: SCORE
C19: <MOTIVATIE>
A20: ='Beoordelen geboden oplossing'!A14 -> 3. motivatie | C20: Score:
A21: ='Beoordelen geboden oplossing'!A15 -> Waarom het plan van aanpak van inschrijver de beste oplossing is voor het type onderwijs van de opdrachtgever. | C21: SCORE
C22: <MOTIVATIE>
A23: ='Beoordelen geboden oplossing'!A16 -> Welke meerwaarde inschrijver heeft voor de docenten. | C23: SCORE
C24: <MOTIVATIE>
A25: ='Beoordelen geboden oplossing'!A17 -> De mate van ontzorgen van opdrachtgever door inschrijver. | C25: SCORE
C26: <MOTIVATIE>
A27: ='Beoordelen geboden oplossing'!A18 -> Hoe inschrijver zich met haar aangeboden werkwijze onderscheidt met mogelijke andere oplossingen. | C27: SCORE
C28: <MOTIVATIE>
A31: ='Beoordelen geboden oplossing'!A21 -> Beoordelingskader proefopstelling (7.7) | C31: Score:
A32: ='Beoordelen geboden oplossing'!A22 -> 1. Eenvoud opstarten en gebruiken | C32: SCORE
C33: <MOTIVATIE>
A34: ='Beoordelen geboden oplossing'!A23 -> 2. Eenvoud en snelheid afsluiten | C34: SCORE
C35: <MOTIVATIE>
A36: ='Beoordelen geboden oplossing'!A24 -> 3. Werking van de digitale pen | C36: SCORE
C37: <MOTIVATIE>
A38: ='Beoordelen geboden oplossing'!A25 -> 4. Werking touch met hand / vinger | C38: SCORE
C39: <MOTIVATIE>
A40: ='Beoordelen geboden oplossing'!A26 -> 5. Werking digitaal whiteboard; schrijffunctie en eenvoud van de bediening vanaf een device | C40: SCORE
C41: <MOTIVATIE>
A42: ='Beoordelen geboden oplossing'!A27 -> 6. Werking ‘freezen’ scherm | C42: SCORE
...

Sheet Beoordelaar 3
A1: Beoordelaar 3: <<>> | C1: Inschrijver <<>>
A2: ='Beoordelen geboden oplossing'!A4 -> 1. plan van aanpak | C2: Score:
A3: ='Beoordelen geboden oplossing'!A5 -> Wat is het plan van aanpak van inschrijver om te komen tot een tevreden levering, passend bij de omgevingsfactoren in tijd (tijdsplanning) en wie doet wat? | C3: SCORE:
C4: <MOTIVATIE>
A5: ='Beoordelen geboden oplossing'!A6 -> Welke voorbereidingen dient opdrachtgever te treffen en welke voorbereidingen zal de opdrachtgever uit handen worden genomen? | C5: SCORE:
C6: <MOTIVATIE>
A7: ='Beoordelen geboden oplossing'!A7 -> Welke risico’s ziet inschrijver en welke beheersmaatregelen treft inschrijver? | C7: SCORE:
C8: <MOTIVATIE>
A9: ='Beoordelen geboden oplossing'!A8 -> Welke meerwaarde biedt inschrijver boven op het gevraagde om de ICT-afdeling van de opdrachtgever maximaal te ontlasten? | C9: SCORE:
C10: <MOTIVATIE>
A11: ='Beoordelen geboden oplossing'!A9 -> Welk type audiosysteem adviseert u, het aantal Watt geluidsvermogen en de kleur? | C11: SCORE:
C12: <MOTIVATIE>
A13: ='Beoordelen geboden oplossing'!A10 -> Welke bekabeling, stekkerdozen, opties en overige voorzieningen zijn nodig om het werkend te krijgen? | C13: SCORE:
C14: <MOTIVATIE>
A15: ='Beoordelen geboden oplossing'!A11 -> Met wie wil inschrijver communiceren om tot een succesvolle oplevering te kunnen komen? | C15: SCORE:
C16: <MOTIVATIE>
A17: ='Beoordelen geboden oplossing'!A12 -> 2. gespecificeerde offerte | C17: Score:
A18: ='Beoordelen geboden oplossing'!A12 -> 2. gespecificeerde offerte | C18: SCORE
C19: <MOTIVATIE>
A20: ='Beoordelen geboden oplossing'!A14 -> 3. motivatie | C20: Score:
A21: ='Beoordelen geboden oplossing'!A15 -> Waarom het plan van aanpak van inschrijver de beste oplossing is voor het type onderwijs van de opdrachtgever. | C21: SCORE
C22: <MOTIVATIE>
A23: ='Beoordelen geboden oplossing'!A16 -> Welke meerwaarde inschrijver heeft voor de docenten. | C23: SCORE
C24: <MOTIVATIE>
A25: ='Beoordelen geboden oplossing'!A17 -> De mate van ontzorgen van opdrachtgever door inschrijver. | C25: SCORE
C26: <MOTIVATIE>
A27: ='Beoordelen geboden oplossing'!A18 -> Hoe inschrijver zich met haar aangeboden werkwijze onderscheidt met mogelijke andere oplossingen. | C27: SCORE
C28: <MOTIVATIE>
A31: ='Beoordelen geboden oplossing'!A21 -> Beoordelingskader proefopstelling (7.7) | C31: Score:
A32: ='Beoordelen geboden oplossing'!A22 -> 1. Eenvoud opstarten en gebruiken | C32: SCORE
C33: <MOTIVATIE>
A34: ='Beoordelen geboden oplossing'!A23 -> 2. Eenvoud en snelheid afsluiten | C34: SCORE
C35: <MOTIVATIE>
A36: ='Beoordelen geboden oplossing'!A24 -> 3. Werking van de digitale pen | C36: SCORE
C37: <MOTIVATIE>
A38: ='Beoordelen geboden oplossing'!A25 -> 4. Werking touch met hand / vinger | C38: SCORE
C39: <MOTIVATIE>
A40: ='Beoordelen geboden oplossing'!A26 -> 5. Werking digitaal whiteboard; schrijffunctie en eenvoud van de bediening vanaf een device | C40: SCORE
C41: <MOTIVATIE>
A42: ='Beoordelen geboden oplossing'!A27 -> 6. Werking ‘freezen’ scherm | C42: SCORE
...

Sheet Eindscores
A1: Totaalwaardes GEBODEN AUDIOVISUELE OPLOSSING (7.1) Wanneer een inschrijver voor dit criterium (criterium 7.1) van de 12 onderdelen 7 keer of meer matig scoort volgt uitsluiting, en waar 'uitsluiting' staat bij een onvoldoende volgt eveneens uitsluiting.
A2: ='Beoordelen geboden oplossing'!A4 -> 1. plan van aanpak | D2: ='Beoordelaar 1'!C1 -> Inschrijver <<>> | E2: Motivatie consensus
A3: ='Beoordelen geboden oplossing'!A5 -> Wat is het plan van aanpak van inschrijver om te komen tot een tevreden levering, passend bij de omgevingsfactoren in tijd (tijdsplanning) en wie doet wat? | B3: Beoordelaar 1 | D3: ='Beoordelaar 1'!C3 -> SCORE: | E3: <<MOTIVATIE>>
B4: Beoordelaar 2 | D4: ='Beoordelaar 2'!C3 -> SCORE:
B5: Beoordelaar 3 | D5: ='Beoordelaar 3'!C3 -> SCORE:
A6: Consensus | D6: SCORE:
D7: =IF(D6="5 Uitmuntend","€ 2.142,86",IF(D6="4 Goed","€ 1.928,57",IF(D6="3 Voldoende","€ 0",IF(D6="2 Matig","-€ 4.285,71",IF(D6="1 Onvoldoende","UITSLUITING"," ")))))
A8: ='Beoordelen geboden oplossing'!A6 -> Welke voorbereidingen dient opdrachtgever te treffen en welke voorbereidingen zal de opdrachtgever uit handen worden genomen? | B8: Beoordelaar 1 | D8: ='Beoordelaar 1'!C5 -> SCORE: | E8: <<MOTIVATIE>>
B9: Beoordelaar 2 | D9: ='Beoordelaar 2'!C5 -> SCORE:
B10: Beoordelaar 3 | D10: ='Beoordelaar 3'!C5 -> SCORE:
A11: Consensus | D11: SCORE:
D12: =IF(D11="5 Uitmuntend","€ 2.142,86",IF(D11="4 Goed","€ 1.928,57",IF(D11="3 Voldoende","€ 0",IF(D11="2 Matig","-€ 4.285,71",IF(D11="1 Onvoldoende","UITSLUITING"," ")))))
A13: ='Beoordelen geboden oplossing'!A7 -> Welke risico’s ziet inschrijver en welke beheersmaatregelen treft inschrijver? | B13: Beoordelaar 1 | D13: ='Beoordelaar 1'!C7 -> SCORE: | E13: <<MOTIVATIE>>
B14: Beoordelaar 2 | D14: ='Beoordelaar 2'!C7 -> SCORE:
B15: Beoordelaar 3 | D15: ='Beoordelaar 3'!C7 -> SCORE:
A16: Consensus | D16: SCORE:
D17: =IF(D16="5 Uitmuntend","€ 2.142,86",IF(D16="4 Goed","€ 1.928,57",IF(D16="3 Voldoende","€ 0",IF(D16="2 Matig","-€ 4.285,71",IF(D16="1 Onvoldoende","UITSLUITING"," ")))))
A18: ='Beoordelen geboden oplossing'!A8 -> Welke meerwaarde biedt inschrijver boven op het gevraagde om de ICT-afdeling van de opdrachtgever maximaal te ontlasten? | B18: Beoordelaar 1 | D18: ='Beoordelaar 1'!C9 -> SCORE: | E18: <<MOTIVATIE>>
B19: Beoordelaar 2 | D19: ='Beoordelaar 2'!C9 -> SCORE:
B20: Beoordelaar 3 | D20: ='Beoordelaar 3'!C9 -> SCORE:
A21: Consensus | D21: SCORE:
D22: =IF(D21="5 Uitmuntend","€ 2.142,86",IF(D21="4 Goed","€ 1.928,57",IF(D21="3 Voldoende","€ 0",IF(D21="2 Matig","-€ 4.285,71",IF(D21="1 Onvoldoende","UITSLUITING"," ")))))
A23: ='Beoordelen geboden oplossing'!A9 -> Welk type audiosysteem adviseert u, het aantal Watt geluidsvermogen en de kleur? | B23: Beoordelaar 1 | D23: ='Beoordelaar 1'!C11 -> SCORE: | E23: <<MOTIVATIE>>
B24: Beoordelaar 2 | D24: ='Beoordelaar 2'!C11 -> SCORE:
B25: Beoordelaar 3 | D25: ='Beoordelaar 3'!C11 -> SCORE:
A26: Consensus | D26: SCORE:
D27: =IF(D26="5 Uitmuntend","€ 2.142,86",IF(D26="4 Goed","€ 1.928,57",IF(D26="3 Voldoende","€ 0",IF(D26="2 Matig","-€ 4.285,71",IF(D26="1 Onvoldoende","UITSLUITING"," ")))))
A28: ='Beoordelen geboden oplossing'!A10 -> Welke bekabeling, stekkerdozen, opties en overige voorzieningen zijn nodig om het werkend te krijgen? | B28: Beoordelaar 1 | D28: ='Beoordelaar 1'!C13 -> SCORE: | E28: <<MOTIVATIE>>
B29: Beoordelaar 2 | D29: ='Beoordelaar 2'!C13 -> SCORE:
B30: Beoordelaar 3 | D30: ='Beoordelaar 3'!C13 -> SCORE:
A31: Consensus | D31: SCORE:
D32: =IF(D31="5 Uitmuntend","€ 2.142,86",IF(D31="4 Goed","€ 1.928,57",IF(D31="3 Voldoende","€ 0",IF(D31="2 Matig","-€ 4.285,71",IF(D31="1 Onvoldoende","UITSLUITING"," ")))))
A33: ='Beoordelen geboden oplossing'!A11 -> Met wie wil inschrijver communiceren om tot een succesvolle oplevering te kunnen komen? | B33: Beoordelaar 1 | D33: ='Beoordelaar 1'!C15 -> SCORE: | E33: <<MOTIVATIE>>
B34: Beoordelaar 2 | D34: ='Beoordelaar 2'!C15 -> SCORE:
B35: Beoordelaar 3 | D35: ='Beoordelaar 3'!C15 -> SCORE:
A36: Consensus | D36: SCORE:
D37: =IF(D36="5 Uitmuntend","€ 2.142,86",IF(D36="4 Goed","€ 1.928,57",IF(D36="3 Voldoende","€ 0",IF(D36="2 Matig","-€ 4.285,71",IF(D36="1 Onvoldoende","UITSLUITING"," ")))))
A38: ='Beoordelen geboden oplossing'!A12 -> 2. gespecificeerde offerte | D38: ='Beoordelaar 1'!C1 -> Inschrijver <<>> | E38: Motivatie consensus
A39: ='Beoordelen geboden oplossing'!A12 -> 2. gespecificeerde offerte | B39: Beoordelaar 1 | D39: ='Beoordelaar 1'!C18 -> SCORE | E39: <<MOTIVATIE>>
B40: Beoordelaar 2 | D40: ='Beoordelaar 2'!C18 -> SCORE
...
