Workbook

Sheet Voorblad
B2: BIJLAGE 1. INSCHRIJVINGSBILJET AANBESTEDING TRACTOREN
B4: Datum: | D4: 45070
B6: Versie: | D6: 0.9
B8: Status: | D8: DEF
B10: {=IF(D31="Nee","Inschrijver",IF(D31="Ja","Inschrijver A",Inschrijver))} -> Inschrijver | I10: (de statutaire naam van de inschrijver)
I12: (Vestiginsadres)
I14: (Postcode)
I16: (Plaats)
I18: (naam tekeningsgerechtigde functionaris)
I20: (functie van de tekensgerichtge functionaris)
I22: (datum ondertekening)
I24: (handtekening)
B29: Wordt er ingeschreven in een samwerkingsverband (combinatie) van ondernemers?
D31: Nee | I31: (Keuzemenu: Ja / Nee)
B33: Inschrijver B: | I33: (de statutaire naam van de inschrijver)
I35: (Vestiginsadres)
I37: (Postcode)
I39: (Plaats)
I41: (naam tekeningsgerechtigde functionaris)
I43: (functie van de tekensgerichtge functionaris)
I45: (datum ondertekening)
I47: (handtekening)
B52: Inschrijver C: | I52: (de statutaire naam van de inschrijver)
I54: (Vestiginsadres)
I56: (Postcode)
I58: (Plaats)
I60: (naam tekeningsgerechtigde functionaris)
I62: (functie van de tekensgerichtge functionaris)
I64: (datum ondertekening)
I66: (handtekening)
B71: Bij inschrijving in combinatie is Inschrijver A de penvoerder
B73: Inschrijvingssom | D73: =Prijzenblad!F53 -> 88000 | I73: (bedrag in cijfers excl. btw)
B75: Inschrijvingssom | D75: {=IF(D73=0,"",GetalEuro(D73))} -> #NAME? | I75: (bedrag in letters excl. btw)
M77: Wordt automatisch ingevuld als tabblad "Prijzenblad" is ingevuld
B78: Omzetbelasting | D78: =Prijzenblad!F54 -> 18480 | I78: (bedrag in cijfers)
B80: Omzetbelasting | D80: {=IF(D78=0,"",GetalEuro(D78))} -> #NAME? | I80: (bedrag in letters)

Sheet Prijzenblad
B2: =Voorblad!B2 -> BIJLAGE 1. INSCHRIJVINGSBILJET AANBESTEDING TRACTOREN
B4: Datum: | C4: =Voorblad!D4 -> 45070
B6: Versie: | C6: =Voorblad!D6 -> 0.9
B8: Status: | C8: DEF
B10: (Plafondbedrag 11 tractoren € 1.500.000,-)
B11: Nr. | C11: Omschrijving | D11: Prijs / Tractor | E11: Aantal | F11: Totaal
B12: Tractor Type 1 | E12: 7 | F12: =D12*E12 -> 0
B14: 1 | C14: RAL 5015 (hemelsblauw) met (RAL 9010) witte velgen | E14: 7 | F14: =D14*E14 -> 0
C15: Totaal excl. btw | F15: =SUM(F12:F14) -> 0
C16: Btw | F16: =F15*0.21 -> 0
C17: Totaal incl. btw | F17: =SUM(F15+F16) -> 0
B21: Nr. | C21: Omschrijving | D21: Prijs / Tractor | E21: Aantal | F21: Totaal
B22: Tractor Type 2 | E22: 3 | F22: =D22*E22 -> 0
B24: 1 | C24: RAL 5015 (hemelsblauw) met witte velgen | E24: 3 | F24: =D24*E24 -> 0
B25: 2 | C25: Fronthef, front aftakas en voorlader | E25: 3 | F25: =D25*E25 -> 0
B26: 3 | C26: Omkeerbare koelvin vanuit cabine bedienbaar. | E26: 3 | F26: =D26*E26 -> 0
B27: 4 | C27: Panoramadak t.b.v. tractor met voorlader. | E27: 3 | F27: =D27*E27 -> 0
C28: Totaal excl. btw | F28: =SUM(F22:F27) -> 0
C29: Btw | F29: =F28*0.21 -> 0
C30: Totaal incl. btw | F30: =SUM(F28+F29) -> 0
B32: Nr. | C32: Omschrijving | D32: Prijs / Tractor | E32: Aantal | F32: Totaal
B33: Tractor Type 2 variant | E33: 1 | F33: =D33*E33 -> 0
B35: 1 | C35: RAL 5015 (hemelsblauw) met witte velgen | E35: 1 | F35: =D35*E35 -> 0
B36: 2 | C36: Fronthef, front aftakas | E36: 1 | F36: =D36*E36 -> 0
B37: 3 | C37: Omkeerbare koelvin vanuit cabine bedienbaar. | E37: 1 | F37: =D37*E37 -> 0
B38: 4 | C38: vervallen | E38: 0 | F38: =D38*E38 -> 0
C39: Totaal excl. btw | F39: =SUM(F33:F38) -> 0
C40: Btw | F40: =F39*0.21 -> 0
C41: Totaal incl. btw | F41: =SUM(F39+F40) -> 0
B44: (Plafondbedrag 11 tractoren onderhoud 8 jaar € 300.000,-)
C45: Omschrijving | D45: Prijs/ jaar | E45: Aantal
C46: Onderhoud tractor type 1 per jaar op basis van contract voor 8 jaar. | D46: 1000 | E46: 7 | F46: =D46*E46 -> 7000
C47: Onderhoud tractor type 2 per jaar op basis van contract voor 8 jaar. | D47: 1000 | E47: 3 | F47: =D47*E47 -> 3000
C48: Onderhoud tractor type 2 variant per jaar op basis van contract voor 8 jaar. | D48: 1000 | E48: 1 | F48: =D48*E48 -> 1000
C49: Totaal excl. btw | F49: =(F46+F47+F48) -> 11000 | G49: =SUM(F49)*8 -> 88000
C50: Btw | F50: =F49*0.21 -> 2310
C51: Totaal incl. btw | F51: =F49*1.21 -> 13310
C53: Inschrijfsom totaal ex BTW | F53: =F15+F28+F39+G49 -> 88000
C54: Btw | F54: =F53*0.21 -> 18480
C55: Totaal incl. btw | F55: =SUM(F53+F54) -> 106480
