Workbook

Sheet TOTAAL
B2: Inschrijfformulier Prijzenblad Gewijzigd t.b.v. Nota van Inlichtingen I d.d. 22 januari 2024
B3: Aanbesteding VOS- en milieucamera’s ten behoeve van de binnenstad van de gemeente Arnhem
B4: Instructie: Inschrijver dient alle gele cellen in te vullen op alle tabbladen. Enkel de door de Inschrijver ingevulde prijzen (gele cellen) gelden tijdens de uitvoering van de opdracht. Overige genoemde totale kosten, zoals weergegeven in het prijsformat en die automatisch worden berekend, worden enkel gebruikt voor de offertebeoordeling. Derhalve kunnen aan deze totale kosten geen rechten worden ontleend.
B6: Totaaloverzicht
D8: Naam Inschrijver:
D10: Rechtsgeldig ondertekend door:
D12: Handtekening:
D15: Prijs vervanging camera's en glasvezel ontv/verz* | J15: =+'Vervanging Camera'!H26 -> 0
D17: Prijs implemenatie (vervanging of verplaatsing) VOS camera komende 5 jaar* | J17: =+'Implementatie VOS'!E17 -> 0
D19: Prijs Genetec (software) maintenance en support voor de komende 5 jaar* | J19: =+'Software Genetec'!H14 -> 0
D21: Prijs preventief onderhoud o.b.v. 5 jaar* | J21: =+'Preventief onderhoud'!G20 -> 0
D23: Prijs correctief onderhoud o.b.v. 5 jaar* | J23: =+'Correctief onderhoud'!H36 -> 0
D25: Totale fictieve kosten t.b.v. de beoordeling Prijs | J25: =SUM(J15:J23) -> 0
B28: * deze bedragen worden automatisch gegenereerd door het invullen van de overige tabbladen.

Sheet Vervanging Camera
B3: INVULINSTRUCTIE: Alleen de geel gearceerde velden dienen ingevuld te worden. Alle prijzen en tarieven dienen gesteld te zijn in euro's (twee decimalen), exclusief btw en inclusief overige kosten, belastingen en/of heffingen. In de kolom 'all-in prijs per camera' dient u een all-in prijs per camera in te vullen. Deze all-in prijs omvat:
B4: VOS en Milieu camera prijs
B5: a] Camera type /prijs
B7: Uitgangspunt: | F7: Exclusief:
B8: Fictieve vervanging totaal
B9: Universele omgeving
B11: Camera huidig | C11: Type voorstel | D11: Prijs | E11: aantal | F11: Totale aanschaf | H11: Totale kosten
B12: Bosch Dinion IP 4000 HD | E12: 32 | F12: =+E12*D12 -> 0 | H12: =+F12 -> 0
B13: Bosch Autodome IP starligt 7000i | E13: 69 | F13: =+E13*D13 -> 0 | H13: =+F13 -> 0
B14: AU-K-V-WS850-LC;White AutoVu SharpV | E14: 14 | F14: =+E14*D14 -> 0 | H14: =+F14 -> 0
H15: =SUM(H12:H14) -> 0
B17: Glasvezel huidig | C17: Type voorstel | D17: Prijs | E17: aantal | F17: Totale aanschaf | H17: Totale kosten
B18: Eth media conver + Box 230v transf + Boogarm | E18: 69 | F18: =+E18*D18 -> 0 | H18: =+F18 -> 0
B19: Commet SFP op fiber conver | E19: 115 | F19: =+E19*D19 -> 0 | H19: =+F19 -> 0
B20: SFP Singel of Multie switch zijde | E20: 115 | F20: =+E20*D20 -> 0 | H20: =+F20 -> 0
H21: =SUM(H18:H20) -> 0
G23: Totaal
G24: Subtotaal camera's | H24: =+H15 -> 0
G25: Subtotaal glasvezels | H25: =+H21 -> 0
H26: =SUM(H24:H25) -> 0

Sheet Implementatie VOS
B3: INVULINSTRUCTIE: Alleen de geel gearceerde velden dienen ingevuld te worden. Alle prijzen en tarieven dienen gesteld te zijn in euro's (twee decimalen), exclusief btw en inclusief overige kosten, belastingen en/of heffingen. In de kolom 'all-in prijs per camera' dient u een all-in prijs per camera in te vullen. Deze all-in prijs omvat:
B4: Leveren en vervanging van VOS camera
B5: a] Assembleren en afregelen leverancier
B6: b] Programmeren camera binnen netwerk gemeente Arnhem
B7: c] Opbouw en testen in netwerk
B8: d] Aanbrengen camera in Genetec op locatie
B9: e] Testen en bedrijfsstellen
B10: f] Projectmanagement
B11: g] Projectengineering
B12: h] Tekenwerk (blokschema)
B14: Uitgangspunt: bij uitbreiding of vervanging leveren camera inclusief communicate apparatuur en montage op mast of gevel en configureren binnen Genetec testen en opleveren | E14: Exclusief: leggen van infra
B16: Camera's installatie | C16: All-in prijs per camera installatie (Niet de camera aanschaf ) | D16: aantal | E16: Installatie activiteiten
B17: VOS Camera | D17: 65 | E17: =D17*C17 -> 0

Sheet Software Genetec
B3: INVULINSTRUCTIE: Alleen de geel gearceerde velden dienen ingevuld te worden. Alle prijzen en tarieven dienen gesteld te zijn in euro's (twee decimalen), exclusief btw en inclusief overige kosten, belastingen en/of heffingen. In de kolom 'all-in prijs ' dient u een all-in prijs in te vullen. Deze all-in prijs omvat:
B4: Preventief maintenance en support Genetec software platform per jaar (SLA bound)
B5: a] controle op correcte werking
B6: b] bij werken naar de laatste versie
B7: c] update op nieuwe ontwikkelingen
B9: Inclusief: | E9: Exclusief: | F9: Correctief onderhoud
B12: Genetec | C12: All in prijs | D12: aantal | F12: Inschrijfprijs per jaar | G12: Inschrijfprijs 5 jaar | H12: Totale kosten onderhoud
B13: Maintenance (patches, fixes, updates, …) & support | D13: 1 | F13: =+D13*C13 -> 0 | G13: =+F13*5 -> 0 | H13: =+G13 -> 0
H14: =+H13 -> 0

Sheet Preventief onderhoud
B3: INVULINSTRUCTIE: Alleen de geel gearceerde velden dienen ingevuld te worden. Alle prijzen en tarieven dienen gesteld te zijn in euro's (twee decimalen), exclusief btw en inclusief overige kosten, belastingen en/of heffingen. In de kolom 'all-in prijs per camera' dient u een all-in prijs per camera in te vullen. Deze all-in prijs omvat:
B4: Preventieve onderoudswerkzaaheden 3x per jaar (exclusief correctief onderhoud (call) en software updates en upgrades)
B5: a] Reinigen van de behuizingen en lenzen en behandeling met 'anti spin' middelen
B6: b] Uitrichten van camera's
B7: c] Scherpstellen van camera's
B8: d] Testen Spreek/luisterverbinding
B9: e] Controleren pre-set en privacy masking
B10: f] Inspectie van de volledige camera (pakkingen, bevestigingen, wartels, vervuiling, connectoren)
B11: g] Controle op vocht
B12: h] Insmeren van rubbers en bouten
B13: i] Herstellen van kleine tekortkomingen.
B14: j] Alle werkzaamheden kunnen worden uitgevoerd van maandag t/m vrijdag tussen 08:00 en 17:30
B16: Inclusief: Hoogwerker Service Rapportage Service Coördinatie Beheer systeem documentatie | E16: Exclusief: Correctief onderhoud Software updates en upgrades
B19: Camera's Preventief onderhoud | C19: All-in prijs per camera | D19: aantal | E19: Inschrijfprijs per jaar | F19: Inschrijfprijs 5 jaar | G19: Totale kosten onderhoud
B20: VOS en Milieu | D20: 115 | E20: =+D20*C20 -> 0 | F20: =+E20*5 -> 0 | G20: =+F20 -> 0

Sheet Correctief onderhoud
B2: Inschrijfformulier Prijzenblad
B3: Aanbesteding VOS- en milieucamera’s ten behoeve van de binnenstad van de gemeente Arnhem
B4: INVULINSTRUCTIE: Alleen de geel gearceerde velden dienen ingevuld te worden. Alle prijzen en tarieven dienen gesteld te zijn in euro's (twee decimalen), exclusief btw en inclusief overige kosten, belastingen en/of heffingen. In de kolom 'all-in prijs per camera' dient u een all-in prijs per camera in te vullen. Deze all-in prijs omvat:
B5: Correctief onderhoudswerkzaamheden camera's per jaar (SLA bound | Nacalculatie)
B6: a] 24/7 bereikbaarheid
B7: b] 4 uurs responsestijd Critical incident
B8: c] 8 uur responsetijd Major incident
B9: d] 24 uur responsestijd Minor incident
B10: e] AD bepaalt de gradatie van de storing
B11: f] Alle werkzaamheden kunnen worden uitgevoerd van maandag t/m vrijdag tussen 08:00 en 17:30
B12: g] uurtarieven
B13: h] Uitgangspunt is gemiddeld 6 uur per verstoring
B16: Inclusief: | E16: Exclusief: Hoogwerker
B17: Software updates en upgrades | E17: huur hoogwerker
E18: netwerk en infrastructuur
E19: jaarlijkse indexering
E20: werkvergunningen
E21: parkeerkosten & vergunningen
B23: Camera's correctief onderhoud | C23: All in prijs | D23: aantal | F23: Inschrijfprijs per jaar | G23: Inschrijfprijs 5 jaar | H23: Totale kosten onderhoud
B24: Standby dienst | D24: 1 | F24: =+D24*C24 -> 0 | G24: =+F24*5 -> 0 | H24: =+G24 -> 0
B26: Uurtarief corectief onderhoud Nacalculatie | C26: All in prijs | D26: Uren gemiddeld | E26: Fictief Incidenten per jaar | F26: Inschrijfprijs per jaar | G26: Inschrijfprijs 5 jaar | H26: Totale kosten onderhoud
B27: Uurtarief Service Engineer 08:00-17:30 | D27: 5 | E27: 10 | F27: =+E27*D27*C27 -> 0 | G27: =+F27*5 -> 0 | H27: =+G27 -> 0
B28: Uurtarief Service Coordinator 08:00-17:30 | D28: 2 | E28: 10 | F28: =+E28*D28*C28 -> 0 | G28: =+F28*5 -> 0 | H28: =+G28 -> 0
B29: Remote support 08:00-17:30 | D29: 2 | E29: 8 | F29: =+E29*D29*C29 -> 0 | G29: =+F29*5 -> 0 | H29: =+G29 -> 0
B30: Reisuren Service Engineer | D30: 1 | E30: 10 | F30: =+E30*D30*C30 -> 0 | G30: =+F30*5 -> 0 | H30: =+G30 -> 0
B31: Voorrijdtarief per rit 08:00-17:30 | D31: 1 | E31: 10 | F31: =+E31*D31*C31 -> 0 | G31: =+F31*5 -> 0 | H31: =+G31 -> 0
F32: =SUM(F27:F31) -> 0 | G32: =SUM(G27:G31) -> 0 | H32: =+G32 -> 0
B35: Uurtarief corectief onderhoud Standby en Nacalculatie | F35: Inschrijfprijs per jaar | G35: Inschrijfprijs 5 jaar | H35: Totale kosten onderhoud
F36: =+F32+F24 -> 0 | G36: =+G32+G24 -> 0 | H36: =+G36 -> 0
