Workbook

Sheet Totaalblad
A1: Prijzenblad Meubilair
A3: Innerwaard Integrale Kindcentra
A4: Referentienummer: 2023/1212RN-2
A6: Omschrijving | B6: Prijs per ruimte excl. BTW
A8: =Calculatieblad!A3 -> Groepsruimtes | B8: =Calculatieblad!G17 -> 0
A9: =Calculatieblad!A19 -> Leerplein onderbouw | B9: =Calculatieblad!G25 -> 0
A10: =Calculatieblad!A27 -> Leerplein bovenbouw | B10: =Calculatieblad!G36 -> 0
A12: Totaal (bedrag voor gunning) | B12: =SUM(B8:B10) -> 0
E15: U dient de blauw gearceerde cellen in te vullen
A18: Naam Inschrijver
A19: Naam ondertekenaar
A20: Handtekening
A21: Datum

Sheet Calculatieblad
A1: Kosten | C1: Prijzen exclusief BTW
A3: Groepsruimtes
A4: Aantal | B4: Omschrijving | C4: Model / Typenummer / Toelichting | D4: Bruto prijs per stuk | E4: Korting | F4: Nettoprijs per stuk | G4: Totaal Netto
A6: 120 | B6: A. leerlingstoel kleuters | D6: 0 | E6: 0 | F6: =D6*(1-E6) -> 0 | G6: =F6*A6 -> 0
A7: 100 | B7: B. leerlingstoel middenbouw | D7: 0 | E7: 0 | F7: =D7*(1-E7) -> 0 | G7: =F7*A7 -> 0
A8: 200 | B8: C. leerlingstoel bovenbouw | D8: 0 | E8: 0 | F8: =D8*(1-E8) -> 0 | G8: =F8*A8 -> 0
A9: 50 | B9: D. leerlingtafel kleuterbouw | D9: 0 | E9: 0 | F9: =D9*(1-E9) -> 0 | G9: =F9*A9 -> 0
A10: 4 | B10: E. groepstafel kleuterbouw | D10: 0 | E10: 0 | F10: =D10*(1-E10) -> 0 | G10: =F10*A10 -> 0
A11: 100 | B11: F. leerlingtafel middenbouw E5 | D11: 0 | E11: 0 | F11: =D11*(1-E11) -> 0 | G11: =F11*A11 -> 0
A12: 200 | B12: F. leerlingtafel bovenbouw F6 | D12: 0 | E12: 0 | F12: =D12*(1-E12) -> 0 | G12: =F12*A12 -> 0
A13: 4 | B13: G. instructietafel middenbouw E5 | D13: 0 | E13: 0 | F13: =D13*(1-E13) -> 0 | G13: =F13*A13 -> 0
A14: 7 | B14: G. instructietafel bovenbouw F6 | D14: 0 | E14: 0 | F14: =D14*(1-E14) -> 0 | G14: =F14*A14 -> 0
A15: 8 | B15: H. kleuterkast 1 | D15: 0 | E15: 0 | F15: =D15*(1-E15) -> 0 | G15: =F15*A15 -> 0
A16: 4 | B16: I. kleuterkast 2 | D16: 0 | E16: 0 | F16: =D16*(1-E16) -> 0 | G16: =F16*A16 -> 0
F17: Subtotaal | G17: =SUM(G6:G16) -> 0
A19: Leerplein onderbouw
A20: Aantal | B20: Omschrijving | C20: Model / Typenummer / Toelichting | D20: Bruto prijs per stuk | E20: Korting | F20: Nettoprijs per stuk | G20: Totaal Netto
A22: 2 | B22: J. tafels | D22: 0 | E22: 0 | F22: =D22*(1-E22) -> 0 | G22: =F22*A22 -> 0
A23: 6 | B23: K. poefjes | D23: 0 | E23: 0 | F23: =D23*(1-E23) -> 0 | G23: =F23*A23 -> 0
A24: 6 | B24: L. krukken | D24: 0 | E24: 0 | F24: =D24*(1-E24) -> 0 | G24: =F24*A24 -> 0
F25: Subtotaal | G25: =SUM(G22:G24) -> 0
A27: Leerplein bovenbouw
A28: Aantal | B28: Omschrijving | C28: Model / Typenummer / Toelichting | D28: Bruto prijs per stuk | E28: Korting | F28: Nettoprijs per stuk | G28: Totaal Netto
A30: 2 | B30: M. tafels | D30: 0 | E30: 0 | F30: =D30*(1-E30) -> 0 | G30: =F30*A30 -> 0
A31: 6 | B31: N. poefjes | D31: 0 | E31: 0 | F31: =D31*(1-E31) -> 0 | G31: =F31*A31 -> 0
A32: 6 | B32: O. krukken | D32: 0 | E32: 0 | F32: =D32*(1-E32) -> 0 | G32: =F32*A32 -> 0
A33: 2 | B33: P. tafels | D33: 0 | E33: 0 | F33: =D33*(1-E33) -> 0 | G33: =F33*A33 -> 0
A34: 10 | B34: Q. krukken | D34: 0 | E34: 0 | F34: =D34*(1-E34) -> 0 | G34: =F34*A34 -> 0
A35: 2 | B35: R. treinbanken | D35: 0 | E35: 0 | F35: =D35*(1-E35) -> 0 | G35: =F35*A35 -> 0
F36: Subtotaal | G36: =SUM(G30:G35) -> 0
