Workbook
Name SCORE: 'kwalitatieve gunningscriteria'!$A$14:$A$19

Sheet kwalitatieve gunningscriteria
A1: Kwalitatieve gunningscriteria
A2: Voor de bepaling van de inschrijving met de Beste Prijs-/Kwaliteit Verhouding, wordt het onderdeel kwaliteit beoordeeld op basis van het de kwalitatieve gunningscriteria.
A3: 1. Implementatie
A4: Zie hoofdstuk 5.4 'kwalitatieve gunningscriteria' van het aanbestedingsdocument.
A5: 2. Opleiding
A6: Zie hoofdstuk 5.4 'kwalitatieve gunningscriteria' van het aanbestedingsdocument.
A7: 3. Toekomstvisie
A8: Zie hoofdstuk 5.4 'kwalitatieve gunningscriteria' van het aanbestedingsdocument.
A9: 4. Support
A10: Zie hoofdstuk 5.4 'kwalitatieve gunningscriteria' van het aanbestedingsdocument.
A11: 5. Partnership
A12: Zie hoofdstuk 5.4 'kwalitatieve gunningscriteria' van het aanbestedingsdocument.
... A19: Onvoldoende

Sheet Demonstratie casuïstieken
A1: Demonstratie casuïstieken
A2: De aanbestedende dienst hecht veel waarde aan een goed werkend, volledig en zoveel mogelijk gebruiksvriendelijk Leerling informatiesysteem voor alle gebruikers. Tijdens de beoordeling zullen de verschillende leden van de beoordelingscommissie een aantal handelingen en processen beoordelen, zoals dit ook in de praktijk zal gaan plaatsvinden (praktijksimulatie) in het aangeboden Leerling informatiesysteem.
A4: Casus 1 integratie applicatie
A5: Casus 2 gestapelde rollen en rechten
A6: Casus 3 PTA workflows
A7: Casus 4 stuurinformatie en dashboards
A8: Casus 5 ELO

Sheet Beoordelaar 1
A1: Beoordelaar 1: <<>> | C1: Inschrijver 1 | F1: Inschrijver 2
A2: Open vragen | C2: Score: | F2: Score:
A3: =_xlfn.SINGLE('kwalitatieve gunningscriteria'!A3) -> 1. Implementatie | C3: SCORE | F3: SCORE
A4: =_xlfn.SINGLE('kwalitatieve gunningscriteria'!A4) -> Zie hoofdstuk 5.4 'kwalitatieve gunningscriteria' van het aanbestedingsdocument. | C4: <MOTIVATIE> | F4: <MOTIVATIE>
A5: =_xlfn.SINGLE('kwalitatieve gunningscriteria'!A5) -> 2. Opleiding | C5: SCORE | F5: SCORE
A6: =_xlfn.SINGLE('kwalitatieve gunningscriteria'!A6) -> Zie hoofdstuk 5.4 'kwalitatieve gunningscriteria' van het aanbestedingsdocument. | C6: <MOTIVATIE> | F6: <MOTIVATIE>
A7: =_xlfn.SINGLE('kwalitatieve gunningscriteria'!A7) -> 3. Toekomstvisie | C7: SCORE | F7: SCORE
A8: =_xlfn.SINGLE('kwalitatieve gunningscriteria'!A8) -> Zie hoofdstuk 5.4 'kwalitatieve gunningscriteria' van het aanbestedingsdocument. | C8: <MOTIVATIE> | F8: <MOTIVATIE>
A9: ='kwalitatieve gunningscriteria'!A9 -> 4. Support | C9: SCORE | F9: SCORE
A10: ='kwalitatieve gunningscriteria'!A10 -> Zie hoofdstuk 5.4 'kwalitatieve gunningscriteria' van het aanbestedingsdocument. | C10: <MOTIVATIE> | F10: <MOTIVATIE>
A11: ='kwalitatieve gunningscriteria'!A11 -> 5. Partnership | C11: SCORE | F11: SCORE
A12: ='kwalitatieve gunningscriteria'!A12 -> Zie hoofdstuk 5.4 'kwalitatieve gunningscriteria' van het aanbestedingsdocument. | C12: <MOTIVATIE> | F12: <MOTIVATIE>
A15: ='Demonstratie casuïstieken'!A1 -> Demonstratie casuïstieken
A16: ='Demonstratie casuïstieken'!A4:A4 -> Casus 1 integratie applicatie | C16: SCORE | F16: SCORE
C17: <MOTIVATIE> | F17: <MOTIVATIE>
A18: ='Demonstratie casuïstieken'!A5:A5 -> Casus 2 gestapelde rollen en rechten | C18: SCORE | F18: SCORE
C19: <MOTIVATIE> | F19: <MOTIVATIE>
A20: ='Demonstratie casuïstieken'!A6:A6 -> Casus 3 PTA workflows | C20: SCORE | F20: SCORE
C21: <MOTIVATIE> | F21: <MOTIVATIE>
A22: ='Demonstratie casuïstieken'!A7 -> Casus 4 stuurinformatie en dashboards | C22: SCORE | F22: SCORE
C23: <MOTIVATIE> | F23: <MOTIVATIE>
A24: ='Demonstratie casuïstieken'!A8:A8 -> Casus 5 ELO | C24: SCORE | F24: SCORE
C25: <MOTIVATIE> | F25: <MOTIVATIE>

Sheet Beoordelaar 2
A1: Beoordelaar 2: <<>> | C1: ='Beoordelaar 1'!C1 -> Inschrijver 1 | F1: ='Beoordelaar 1'!F1 -> Inschrijver 2
A2: Open vragen | C2: Score: | F2: Score:
A3: =_xlfn.SINGLE('kwalitatieve gunningscriteria'!A3) -> 1. Implementatie | C3: SCORE | F3: SCORE
A4: =_xlfn.SINGLE('kwalitatieve gunningscriteria'!A4) -> Zie hoofdstuk 5.4 'kwalitatieve gunningscriteria' van het aanbestedingsdocument. | C4: <MOTIVATIE> | F4: <MOTIVATIE>
A5: =_xlfn.SINGLE('kwalitatieve gunningscriteria'!A5) -> 2. Opleiding | C5: SCORE | F5: SCORE
A6: =_xlfn.SINGLE('kwalitatieve gunningscriteria'!A6) -> Zie hoofdstuk 5.4 'kwalitatieve gunningscriteria' van het aanbestedingsdocument. | C6: <MOTIVATIE> | F6: <MOTIVATIE>
A7: =_xlfn.SINGLE('kwalitatieve gunningscriteria'!A7) -> 3. Toekomstvisie | C7: SCORE | F7: SCORE
A8: =_xlfn.SINGLE('kwalitatieve gunningscriteria'!A8) -> Zie hoofdstuk 5.4 'kwalitatieve gunningscriteria' van het aanbestedingsdocument. | C8: <MOTIVATIE> | F8: <MOTIVATIE>
A9: ='kwalitatieve gunningscriteria'!A9 -> 4. Support | C9: SCORE | F9: SCORE
A10: ='kwalitatieve gunningscriteria'!A10 -> Zie hoofdstuk 5.4 'kwalitatieve gunningscriteria' van het aanbestedingsdocument. | C10: <MOTIVATIE> | F10: <MOTIVATIE>
A11: ='kwalitatieve gunningscriteria'!A11 -> 5. Partnership | C11: SCORE | F11: SCORE
A12: ='kwalitatieve gunningscriteria'!A12 -> Zie hoofdstuk 5.4 'kwalitatieve gunningscriteria' van het aanbestedingsdocument. | C12: <MOTIVATIE> | F12: <MOTIVATIE>
A15: ='Demonstratie casuïstieken'!A1 -> Demonstratie casuïstieken
A16: ='Demonstratie casuïstieken'!A4:A4 -> Casus 1 integratie applicatie | C16: SCORE | F16: SCORE
C17: <MOTIVATIE> | F17: <MOTIVATIE>
A18: ='Demonstratie casuïstieken'!A5:A5 -> Casus 2 gestapelde rollen en rechten | C18: SCORE | F18: SCORE
C19: <MOTIVATIE> | F19: <MOTIVATIE>
A20: ='Demonstratie casuïstieken'!A6:A6 -> Casus 3 PTA workflows | C20: SCORE | F20: SCORE
C21: <MOTIVATIE> | F21: <MOTIVATIE>
A22: ='Demonstratie casuïstieken'!A7 -> Casus 4 stuurinformatie en dashboards | C22: SCORE | F22: SCORE
C23: <MOTIVATIE> | F23: <MOTIVATIE>
A24: ='Demonstratie casuïstieken'!A8:A8 -> Casus 5 ELO | C24: SCORE | F24: SCORE
C25: <MOTIVATIE> | F25: <MOTIVATIE>

Sheet Beoordelaar 3
A1: Beoordelaar 3: <<>> | C1: ='Beoordelaar 1'!C1 -> Inschrijver 1 | F1: ='Beoordelaar 1'!F1 -> Inschrijver 2
A2: Open vragen | C2: Score: | F2: Score:
A3: =_xlfn.SINGLE('kwalitatieve gunningscriteria'!A3) -> 1. Implementatie | C3: SCORE | F3: SCORE
A4: =_xlfn.SINGLE('kwalitatieve gunningscriteria'!A4) -> Zie hoofdstuk 5.4 'kwalitatieve gunningscriteria' van het aanbestedingsdocument. | C4: <MOTIVATIE> | F4: <MOTIVATIE>
A5: =_xlfn.SINGLE('kwalitatieve gunningscriteria'!A5) -> 2. Opleiding | C5: SCORE | F5: SCORE
A6: =_xlfn.SINGLE('kwalitatieve gunningscriteria'!A6) -> Zie hoofdstuk 5.4 'kwalitatieve gunningscriteria' van het aanbestedingsdocument. | C6: <MOTIVATIE> | F6: <MOTIVATIE>
A7: =_xlfn.SINGLE('kwalitatieve gunningscriteria'!A7) -> 3. Toekomstvisie | C7: SCORE | F7: SCORE
A8: =_xlfn.SINGLE('kwalitatieve gunningscriteria'!A8) -> Zie hoofdstuk 5.4 'kwalitatieve gunningscriteria' van het aanbestedingsdocument. | C8: <MOTIVATIE> | F8: <MOTIVATIE>
A9: ='kwalitatieve gunningscriteria'!A9 -> 4. Support | C9: SCORE | F9: SCORE
A10: ='kwalitatieve gunningscriteria'!A10 -> Zie hoofdstuk 5.4 'kwalitatieve gunningscriteria' van het aanbestedingsdocument. | C10: <MOTIVATIE> | F10: <MOTIVATIE>
A11: ='kwalitatieve gunningscriteria'!A11 -> 5. Partnership | C11: SCORE | F11: SCORE
A12: ='kwalitatieve gunningscriteria'!A12 -> Zie hoofdstuk 5.4 'kwalitatieve gunningscriteria' van het aanbestedingsdocument. | C12: <MOTIVATIE> | F12: <MOTIVATIE>
A15: ='Demonstratie casuïstieken'!A1 -> Demonstratie casuïstieken
A16: ='Demonstratie casuïstieken'!A4:A4 -> Casus 1 integratie applicatie | C16: SCORE | F16: SCORE
C17: <MOTIVATIE> | F17: <MOTIVATIE>
A18: ='Demonstratie casuïstieken'!A5:A5 -> Casus 2 gestapelde rollen en rechten | C18: SCORE | F18: SCORE
C19: <MOTIVATIE> | F19: <MOTIVATIE>
A20: ='Demonstratie casuïstieken'!A6:A6 -> Casus 3 PTA workflows | C20: SCORE | F20: SCORE
C21: <MOTIVATIE> | F21: <MOTIVATIE>
A22: ='Demonstratie casuïstieken'!A7 -> Casus 4 stuurinformatie en dashboards | C22: SCORE | F22: SCORE
C23: <MOTIVATIE> | F23: <MOTIVATIE>
A24: ='Demonstratie casuïstieken'!A8:A8 -> Casus 5 ELO | C24: SCORE | F24: SCORE
C25: <MOTIVATIE> | F25: <MOTIVATIE>

Sheet Consensus
A1: Totaalwaardes
A2: ='kwalitatieve gunningscriteria'!A1 -> Kwalitatieve gunningscriteria | D2: ='Beoordelaar 1'!C1 -> Inschrijver 1 | E2: MOTIVATIE CONSENSUS | G2: ='Beoordelaar 1'!F1 -> Inschrijver 2 | H2: MOTIVATIE CONSENSUS
A3: ='kwalitatieve gunningscriteria'!A3 -> 1. Implementatie | B3: Beoordelaar 1 | D3: ='Beoordelaar 1'!C3 -> SCORE | E3: <<motivatie CONSENSUS>> | G3: ='Beoordelaar 1'!F3 -> SCORE | H3: <<motivatie CONSENSUS>>
B4: Beoordelaar 2 | D4: ='Beoordelaar 2'!C3 -> SCORE | G4: ='Beoordelaar 2'!F3 -> SCORE
B5: Beoordelaar 3 | D5: ='Beoordelaar 3'!C3 -> SCORE | G5: ='Beoordelaar 3'!F3 -> SCORE
A6: Consensus | D6: SCORE: | G6: SCORE:
D7: =IF(D6="Uitstekend","€ 117.000",IF(D6="Goed","€ 99.450",IF(D6="Voldoende","€ 46.800",IF(D6="Matig","- € 1.000",IF(D6="Onvoldoende","KO"," "))))) | G7: =IF(G6="Uitstekend","€ 117.000",IF(G6="Goed","€ 99.450",IF(G6="Voldoende","€ 46.800",IF(G6="Matig","- € 1.000",IF(G6="Onvoldoende","KO"," ")))))
A8: ='kwalitatieve gunningscriteria'!A5 -> 2. Opleiding | B8: Beoordelaar 1 | D8: ='Beoordelaar 1'!C5 -> SCORE | E8: <<motivatie CONSENSUS>> | G8: ='Beoordelaar 1'!F5 -> SCORE | H8: <<motivatie CONSENSUS>>
B9: Beoordelaar 2 | D9: ='Beoordelaar 2'!C5 -> SCORE | G9: ='Beoordelaar 2'!F5 -> SCORE
B10: Beoordelaar 3 | D10: ='Beoordelaar 3'!C5 -> SCORE | G10: ='Beoordelaar 3'!F5 -> SCORE
A11: Consensus | D11: SCORE: | G11: SCORE:
D12: =IF(D11="Uitstekend","€ 72.000",IF(D11="Goed","€ 61.200",IF(D11="Voldoende","€ 28.800",IF(D11="Matig","- € 1.000",IF(D11="Onvoldoende","KO"," "))))) | G12: =IF(G11="Uitstekend","€ 72.000",IF(G11="Goed","€ 61.200",IF(G11="Voldoende","€ 28.800",IF(G11="Matig","- € 1.000",IF(G11="Onvoldoende","KO"," ")))))
A13: ='kwalitatieve gunningscriteria'!A7 -> 3. Toekomstvisie | B13: Beoordelaar 1 | D13: ='Beoordelaar 1'!C7 -> SCORE | E13: <<motivatie CONSENSUS>> | G13: ='Beoordelaar 1'!F7 -> SCORE | H13: <<motivatie CONSENSUS>>
B14: Beoordelaar 2 | D14: ='Beoordelaar 2'!C7 -> SCORE | G14: ='Beoordelaar 2'!F7 -> SCORE
B15: Beoordelaar 3 | D15: ='Beoordelaar 3'!C7 -> SCORE | G15: ='Beoordelaar 3'!F7 -> SCORE
A16: Consensus | D16: SCORE: | G16: SCORE:
D17: =IF(D16="Uitstekend","€ 72.000",IF(D16="Goed","€ 61.200",IF(D16="Voldoende","€ 28.800",IF(D16="Matig","- € 1.000",IF(D16="Onvoldoende","-€ 72.000"," "))))) | G17: =IF(G16="Uitstekend","€ 72.000",IF(G16="Goed","€ 61.200",IF(G16="Voldoende","€ 28.800",IF(G16="Matig","- € 1.000",IF(G16="Onvoldoende","-€ 72.000"," ")))))
A18: ='kwalitatieve gunningscriteria'!A9 -> 4. Support | B18: Beoordelaar 1 | D18: ='Beoordelaar 1'!C9 -> SCORE | E18: <<motivatie CONSENSUS>> | G18: ='Beoordelaar 1'!F9 -> SCORE | H18: <<motivatie CONSENSUS>>
B19: Beoordelaar 2 | D19: ='Beoordelaar 2'!C9 -> SCORE | G19: ='Beoordelaar 2'!F9 -> SCORE
B20: Beoordelaar 3 | D20: ='Beoordelaar 3'!C9 -> SCORE | G20: ='Beoordelaar 3'!F9 -> SCORE
A21: Consensus | D21: SCORE: | G21: SCORE:
D22: =IF(D21="Uitstekend","€ 81.000",IF(D21="Goed","€ 68.850",IF(D21="Voldoende","€ 32.400",IF(D21="Matig","- € 1.000",IF(D21="Onvoldoende","KO"," "))))) | G22: =IF(G21="Uitstekend","€ 81.000",IF(G21="Goed","€ 68.850",IF(G21="Voldoende","€ 32.400",IF(G21="Matig","- € 1.000",IF(G21="Onvoldoende","KO"," ")))))
A23: ='kwalitatieve gunningscriteria'!A11 -> 5. Partnership | B23: Beoordelaar 1 | D23: ='Beoordelaar 1'!C11 -> SCORE | E23: <<motivatie CONSENSUS>> | G23: ='Beoordelaar 1'!F11 -> SCORE | H23: <<motivatie CONSENSUS>>
B24: Beoordelaar 2 | D24: ='Beoordelaar 2'!C11 -> SCORE | G24: ='Beoordelaar 2'!F11 -> SCORE
B25: Beoordelaar 3 | D25: ='Beoordelaar 3'!C11 -> SCORE | G25: ='Beoordelaar 3'!F11 -> SCORE
A26: Consensus | D26: SCORE: | G26: SCORE:
D27: =IF(D26="Uitstekend","€ 108.000",IF(D26="Goed","€ 91.800",IF(D26="Voldoende","€ 43.200",IF(D26="Matig","- € 1.000",IF(D26="Onvoldoende","KO"," "))))) | G27: =IF(G26="Uitstekend","€ 108.000",IF(G26="Goed","€ 91.800",IF(G26="Voldoende","€ 43.200",IF(G26="Matig","- € 1.000",IF(G26="Onvoldoende","KO"," ")))))
D28: indien er door een inschrijver driemaal of meer een negatieve waarde gescoord wordt zal dit leiden tot een gemotiveerde uitsluiting.
A29: Totaal behaalde waarde: | D29: =D17+D12+D7+D27+D22 -> #VALUE! | G29: =G17+G12+G7+G27+G22 -> #VALUE!
A31: ='Demonstratie casuïstieken'!A1 -> Demonstratie casuïstieken | D31: =D2 -> Inschrijver 1 | E31: =E2 -> MOTIVATIE CONSENSUS | G31: =G2 -> Inschrijver 2 | H31: =H2 -> MOTIVATIE CONSENSUS
A32: ='Demonstratie casuïstieken'!A4:A4 -> Casus 1 integratie applicatie | B32: Beoordelaar 1 | D32: ='Beoordelaar 1'!C16 -> SCORE | E32: <<motivatie CONSENSUS>> | G32: ='Beoordelaar 1'!F16 -> SCORE | H32: <<motivatie CONSENSUS>>
B33: Beoordelaar 2 | D33: ='Beoordelaar 2'!C16 -> SCORE | G33: ='Beoordelaar 2'!F16 -> SCORE
B34: Beoordelaar 3 | D34: ='Beoordelaar 3'!C16 -> SCORE | G34: ='Beoordelaar 3'!F16 -> SCORE
A35: Consensus | D35: SCORE: | G35: SCORE:
D36: =IF(D35="Uitstekend","€ 210.000",IF(D35="Goed","€ 178.500",IF(D35="Voldoende","€ 84.000",IF(D35="Matig","- € 1.000",IF(D35="Onvoldoende","-€ 210.000"," "))))) | G36: =IF(G35="Uitstekend","€ 210.000",IF(G35="Goed","€ 178.500",IF(G35="Voldoende","€ 84.000",IF(G35="Matig","- € 1.000",IF(G35="Onvoldoende","-€ 210.000"," ")))))
A37: ='Demonstratie casuïstieken'!A5:A5 -> Casus 2 gestapelde rollen en rechten | B37: Beoordelaar 1 | D37: ='Beoordelaar 1'!C18 -> SCORE | E37: <<motivatie CONSENSUS>> | G37: ='Beoordelaar 1'!F18 -> SCORE | H37: <<motivatie CONSENSUS>>
B38: Beoordelaar 2 | D38: ='Beoordelaar 2'!C18 -> SCORE | G38: ='Beoordelaar 2'!F18 -> SCORE
B39: Beoordelaar 3 | D39: ='Beoordelaar 3'!C18 -> SCORE | G39: ='Beoordelaar 3'!F18 -> SCORE
A40: Consensus | D40: SCORE: | G40: SCORE:
D41: =IF(D40="Uitstekend","€ 210.000",IF(D40="Goed","€ 178.500",IF(D40="Voldoende","€ 84.000",IF(D40="Matig","- € 1.000",IF(D40="Onvoldoende","-€ 210.000"," "))))) | G41: =IF(G40="Uitstekend","€ 210.000",IF(G40="Goed","€ 178.500",IF(G40="Voldoende","€ 84.000",IF(G40="Matig","- € 1.000",IF(G40="Onvoldoende","-€ 210.000"," ")))))
A42: ='Demonstratie casuïstieken'!A6:A6 -> Casus 3 PTA workflows | B42: Beoordelaar 1 | D42: ='Beoordelaar 1'!C20 -> SCORE | E42: <<motivatie CONSENSUS>> | G42: ='Beoordelaar 1'!F20 -> SCORE | H42: <<motivatie CONSENSUS>>
B43: Beoordelaar 2 | D43: ='Beoordelaar 2'!C20 -> SCORE | G43: ='Beoordelaar 2'!F20 -> SCORE
B44: Beoordelaar 3 | D44: ='Beoordelaar 3'!C20 -> SCORE | G44: ='Beoordelaar 3'!F20 -> SCORE
A45: Consensus | D45: SCORE: | G45: SCORE:
D46: =IF(D45="Uitstekend","€ 210.000",IF(D45="Goed","€ 178.500",IF(D45="Voldoende","€ 84.000",IF(D45="Matig","- € 1.000",IF(D45="Onvoldoende","-€ 210.000"," "))))) | G46: =IF(G45="Uitstekend","€ 210.000",IF(G45="Goed","€ 178.500",IF(G45="Voldoende","€ 84.000",IF(G45="Matig","- € 1.000",IF(G45="Onvoldoende","-€ 210.000"," ")))))
A47: ='Demonstratie casuïstieken'!A7:A7 -> Casus 4 stuurinformatie en dashboards | B47: Beoordelaar 1 | D47: ='Beoordelaar 1'!C22 -> SCORE | E47: <<motivatie CONSENSUS>> | G47: ='Beoordelaar 1'!F22 -> SCORE | H47: <<motivatie CONSENSUS>>
B48: Beoordelaar 2 | D48: ='Beoordelaar 2'!C22 -> SCORE | G48: ='Beoordelaar 2'!F22 -> SCORE
B49: Beoordelaar 3 | D49: ='Beoordelaar 3'!C22 -> SCORE | G49: ='Beoordelaar 3'!F22 -> SCORE
A50: Consensus | D50: SCORE: | G50: SCORE:
D51: =IF(D50="Uitstekend","€ 210.000",IF(D50="Goed","€ 178.500",IF(D50="Voldoende","€ 84.000",IF(D50="Matig","- € 1.000",IF(D50="Onvoldoende","-€ 210.000"," "))))) | G51: =IF(G50="Uitstekend","€ 210.000",IF(G50="Goed","€ 178.500",IF(G50="Voldoende","€ 84.000",IF(G50="Matig","- € 1.000",IF(G50="Onvoldoende","-€ 210.000"," ")))))
A52: ='Demonstratie casuïstieken'!A8:A8 -> Casus 5 ELO | B52: Beoordelaar 1 | D52: ='Beoordelaar 1'!C24 -> SCORE | E52: <<motivatie CONSENSUS>> | G52: ='Beoordelaar 1'!F24 -> SCORE | H52: <<motivatie CONSENSUS>>
B53: Beoordelaar 2 | D53: ='Beoordelaar 2'!C24 -> SCORE | G53: ='Beoordelaar 2'!F24 -> SCORE
B54: Beoordelaar 3 | D54: ='Beoordelaar 3'!C24 -> SCORE | G54: ='Beoordelaar 3'!F24 -> SCORE
A55: Consensus | D55: SCORE: | G55: SCORE:
D56: =IF(D55="Uitstekend","€ 210.000",IF(D55="Goed","€ 178.500",IF(D55="Voldoende","€ 84.000",IF(D55="Matig","- € 1.000",IF(D55="Onvoldoende","-€ 210.000"," "))))) | G56: =IF(G55="Uitstekend","€ 210.000",IF(G55="Goed","€ 178.500",IF(G55="Voldoende","€ 84.000",IF(G55="Matig","- € 1.000",IF(G55="Onvoldoende","-€ 210.000"," ")))))
D57: indien er door een inschrijver driemaal of meer een negatieve waarde gescoord wordt zal dit leiden tot een gemotiveerde uitsluiting.
A58: Totaal behaalde waarde: | D58: =D36+D41+D46+D51+D56 -> #VALUE! | G58: =G36+G41+G46+G51+G56 -> #VALUE!
