Workbook
Name Materiaalsoorten: Productdemonstratie!#REF!
Name SCORE: Productdemonstratie!#REF!
Name STALENBOEK: Productdemonstratie!#REF!

Sheet Productdemonstratie
A1: 7.3 Productdemonstratie
A2: Aanbestedende dienst zal conform een nader te bepalen planning een productdemonstratie organiseren op haar locatie (Purmerend). Tijdens deze productdemonstratie zal de kwaliteit van diverse uitgevraagde producten conform objectieve criteria worden getoetst, getest en beoordeeld
A3: 1. Beoordelingscriteria Zit-sta bureau - Item 1 | B3: Beter | C3: Vergelijkbaar | D3: Minder
A4: 1. Stabiliteit op alle hoogtes | B4: 750 | C4: 0 | D4: -3000 | E4: Uitmuntend | F4: Voldoende | G4: Onvoldoende | H4: SCORE
A5: 2. Mate van geluid bij verstellen hoogte | B5: 750 | C5: 0 | D5: -3000
A6: 3. Constructie onderstel, afwerking | B6: 750 | C6: 0 | D6: -3000
A7: 4. Uitstraling/ vormgeving | B7: 750 | C7: 0 | D7: -750 | F7: maximaal 2 maal negatief
A8: 5. Gemak schoonmaken | B8: 750 | C8: 0 | D8: -750 | E8: Uitmuntend | F8: Goed | G8: Voldoende | H8: SCORE
A9: 6. Kwaliteit/ gebruiksvriendelijkheid van de slinger | B9: 750 | C9: 0 | D9: -3000
A10: 2. Beoordelingscriteria Zit-sta bureau - Item 3 | B10: Beter | C10: Vergelijkbaar | D10: Minder
A11: 1. Stabiliteit op alle hoogtes | B11: 750 | C11: 0 | D11: -3000
A12: 2. Mate van geluid bij verstellen hoogte | B12: 750 | C12: 0 | D12: -3000
A13: 3. Constructie onderstel, afwerking | B13: 750 | C13: 0 | D13: -3000 | F13: maximaal 2 maal negatief
A14: 4. Uitstraling/ vormgeving | B14: 750 | C14: 0 | D14: -750
A15: 5. Gemak schoonmaken | B15: 750 | C15: 0 | D15: -750
A16: 6. Kwaliteit/ gebruiksvriendelijkheid van elektrisch meganisme | B16: 750 | C16: 0 | D16: -3000
A17: 3. Beoordelingscriteria bureaustoel gestoffeerd - item 4 | B17: Beter | C17: Vergelijkbaar | D17: Minder
A18: 1. Zitcomfort | B18: 750 | C18: 0 | D18: -3000
A19: 2. Mate van instelbaarheid armliggers | B19: 750 | C19: 0 | D19: -750
A20: 3. Rugleuning en zitting | B20: 1250 | C20: 0 | D20: -1250 | F20: maximaal 2 maal negatief
A21: 4. Constructie inclusief bevestiging tussen frame en zitting | B21: 750 | C21: 0 | D21: 3000
A22: 5. Uitstraling/ vormgeving | B22: 750 | C22: 0 | D22: -750
A23: 6. Gemak schoonmaken | B23: 750 | C23: 0 | D23: 750
A24: 4. Beoordelingscriteria jaloeziekast - item 6 | B24: Beter | C24: Vergelijkbaar | D24: Minder | E24: SCORE
A25: 1.Mate geluid sluiten deuren | B25: 750 | C25: 0 | D25: -3000
A26: 2. Mate van instelbaarheid legborden | B26: 750 | C26: 0 | D26: -750
A27: 3. Kwaliteit slot | B27: 750 | C27: 0 | D27: -750 | F27: maximaal 2 maal negatief
A28: 4. Constructie / stabiliteit frame en deuren | B28: 750 | C28: 0 | D28: -3000
A29: 5. Uitstraling/ vormgeving | B29: 750 | C29: 0 | D29: -750
A30: 6. Gemak schoonmaken | B30: 750 | C30: 0 | D30: -750
A31: 5. Beoordelingscriteria - Studenten tafel - item 7 | B31: Beter | C31: Vergelijkbaar | D31: Minder | E31: SCORE
A32: 1. Stabiliteit | B32: 750 | C32: 0 | D32: -3000
A33: 2. Constructie tussen frame en blad | B33: 750 | C33: 0 | D33: -750
A34: 3. Uitstraling/ vormgeving | B34: 750 | C34: 0 | D34: -750 | F34: maximaal 2 maal negatief
A35: 4. Gemak schoonmaken | B35: 750 | C35: 0 | D35: -750
A36: 5. Mate veiligheid (scherpe randen en hoeken) | B36: 750 | C36: 0 | D36: -3000
A37: 6. Beoordelingscriteria - Studenten stoel houten kuip, 4 poots aluminium – item 8 | B37: Beter | C37: Vergelijkbaar | D37: Minder | E37: SCORE
A38: 1. Stabiliteit | B38: 750 | C38: 0 | D38: -3000
A39: 2. Constructie tussen frame en zitting | B39: 750 | C39: 0 | D39: -750
A40: 3. Uitstraling/ vormgeving | B40: 750 | C40: 0 | D40: -750 | F40: maximaal 2 maal negatief
...

Sheet Beoordelaar 1
A1: Beoordelaar 1: | C1: Inschrijver 1 | E1: Inschrijver 2 | G1: Inschrijver 3
A2: =Productdemonstratie!A1:A1 -> 7.3 Productdemonstratie | C2: Score: | E2: Score: | G2: Score:
A3: =Productdemonstratie!A3 -> 1. Beoordelingscriteria Zit-sta bureau - Item 1
A4: =Productdemonstratie!A4:A4 -> 1. Stabiliteit op alle hoogtes | C4: SCORE | E4: SCORE | G4: SCORE
C5: <MOTIVATIE> | E5: <MOTIVATIE> | G5: <MOTIVATIE>
A6: =Productdemonstratie!A5:A5 -> 2. Mate van geluid bij verstellen hoogte | C6: SCORE | E6: SCORE | G6: SCORE
C7: <MOTIVATIE> | E7: <MOTIVATIE> | G7: <MOTIVATIE>
A8: =Productdemonstratie!A6:A6 -> 3. Constructie onderstel, afwerking | C8: SCORE | E8: SCORE | G8: SCORE
C9: <MOTIVATIE> | E9: <MOTIVATIE> | G9: <MOTIVATIE>
A10: =Productdemonstratie!A7:A7 -> 4. Uitstraling/ vormgeving | C10: SCORE | E10: SCORE | G10: SCORE
C11: <MOTIVATIE> | E11: <MOTIVATIE> | G11: <MOTIVATIE>
A12: =Productdemonstratie!A8:A8 -> 5. Gemak schoonmaken | C12: SCORE | E12: SCORE | G12: SCORE
C13: <MOTIVATIE> | E13: <MOTIVATIE> | G13: <MOTIVATIE>
A14: =Productdemonstratie!A9 -> 6. Kwaliteit/ gebruiksvriendelijkheid van de slinger | C14: SCORE | E14: SCORE | G14: SCORE
C15: <MOTIVATIE> | E15: <MOTIVATIE> | G15: <MOTIVATIE>
A16: =+Productdemonstratie!A10 -> 2. Beoordelingscriteria Zit-sta bureau - Item 3
A17: =Productdemonstratie!A11 -> 1. Stabiliteit op alle hoogtes | C17: SCORE | E17: SCORE | G17: SCORE
C18: <MOTIVATIE> | E18: <MOTIVATIE> | G18: <MOTIVATIE>
A19: =Productdemonstratie!A12 -> 2. Mate van geluid bij verstellen hoogte | C19: SCORE | E19: SCORE | G19: SCORE
C20: <MOTIVATIE> | E20: <MOTIVATIE> | G20: <MOTIVATIE>
A21: =Productdemonstratie!A13 -> 3. Constructie onderstel, afwerking | C21: SCORE | E21: SCORE | G21: SCORE
C22: <MOTIVATIE> | E22: <MOTIVATIE> | G22: <MOTIVATIE>
A23: =Productdemonstratie!A14 -> 4. Uitstraling/ vormgeving | C23: SCORE | E23: SCORE | G23: SCORE
C24: <MOTIVATIE> | E24: <MOTIVATIE> | G24: <MOTIVATIE>
A25: =Productdemonstratie!A15 -> 5. Gemak schoonmaken | C25: SCORE | E25: SCORE | G25: SCORE
C26: <MOTIVATIE> | E26: <MOTIVATIE> | G26: <MOTIVATIE>
A27: =Productdemonstratie!A16 -> 6. Kwaliteit/ gebruiksvriendelijkheid van elektrisch meganisme | C27: SCORE | E27: SCORE | G27: SCORE
C28: <MOTIVATIE> | E28: <MOTIVATIE> | G28: <MOTIVATIE>
A29: =Productdemonstratie!A17 -> 3. Beoordelingscriteria bureaustoel gestoffeerd - item 4
A30: =Productdemonstratie!A18 -> 1. Zitcomfort | C30: SCORE | E30: SCORE | G30: SCORE
C31: <MOTIVATIE> | E31: <MOTIVATIE> | G31: <MOTIVATIE>
A32: =Productdemonstratie!A19 -> 2. Mate van instelbaarheid armliggers | C32: SCORE | E32: SCORE | G32: SCORE
C33: <MOTIVATIE> | E33: <MOTIVATIE> | G33: <MOTIVATIE>
A34: =Productdemonstratie!A20 -> 3. Rugleuning en zitting | C34: SCORE | E34: SCORE | G34: SCORE
C35: <MOTIVATIE> | E35: <MOTIVATIE> | G35: <MOTIVATIE>
A36: =Productdemonstratie!A21 -> 4. Constructie inclusief bevestiging tussen frame en zitting | C36: SCORE | E36: SCORE | G36: SCORE
C37: <MOTIVATIE> | E37: <MOTIVATIE> | G37: <MOTIVATIE>
A38: =Productdemonstratie!A22 -> 5. Uitstraling/ vormgeving | C38: SCORE | E38: SCORE | G38: SCORE
C39: <MOTIVATIE> | E39: <MOTIVATIE> | G39: <MOTIVATIE>
A40: =Productdemonstratie!A23 -> 6. Gemak schoonmaken | C40: SCORE | E40: SCORE | G40: SCORE
...

Sheet Beoordelaar 2
A1: Beoordelaar 2: | C1: ='Beoordelaar 1'!C1 -> Inschrijver 1 | E1: ='Beoordelaar 1'!E1 -> Inschrijver 2 | G1: ='Beoordelaar 1'!G1 -> Inschrijver 3
A2: =Productdemonstratie!A1:A1 -> 7.3 Productdemonstratie | C2: Score: | E2: Score: | G2: Score:
A3: =Productdemonstratie!A3 -> 1. Beoordelingscriteria Zit-sta bureau - Item 1
A4: =Productdemonstratie!A4:A4 -> 1. Stabiliteit op alle hoogtes | C4: SCORE | E4: SCORE | G4: SCORE
C5: <MOTIVATIE> | E5: <MOTIVATIE> | G5: <MOTIVATIE>
A6: =Productdemonstratie!A5:A5 -> 2. Mate van geluid bij verstellen hoogte | C6: SCORE | E6: SCORE | G6: SCORE
C7: <MOTIVATIE> | E7: <MOTIVATIE> | G7: <MOTIVATIE>
A8: =Productdemonstratie!A6:A6 -> 3. Constructie onderstel, afwerking | C8: SCORE | E8: SCORE | G8: SCORE
C9: <MOTIVATIE> | E9: <MOTIVATIE> | G9: <MOTIVATIE>
A10: =Productdemonstratie!A7:A7 -> 4. Uitstraling/ vormgeving | C10: SCORE | E10: SCORE | G10: SCORE
C11: <MOTIVATIE> | E11: <MOTIVATIE> | G11: <MOTIVATIE>
A12: =Productdemonstratie!A8:A8 -> 5. Gemak schoonmaken | C12: SCORE | E12: SCORE | G12: SCORE
C13: <MOTIVATIE> | E13: <MOTIVATIE> | G13: <MOTIVATIE>
A14: =Productdemonstratie!A9 -> 6. Kwaliteit/ gebruiksvriendelijkheid van de slinger | C14: SCORE | E14: SCORE | G14: SCORE
C15: <MOTIVATIE> | E15: <MOTIVATIE> | G15: <MOTIVATIE>
A16: =+Productdemonstratie!A10 -> 2. Beoordelingscriteria Zit-sta bureau - Item 3
A17: =Productdemonstratie!A11 -> 1. Stabiliteit op alle hoogtes | C17: SCORE | E17: SCORE | G17: SCORE
C18: <MOTIVATIE> | E18: <MOTIVATIE> | G18: <MOTIVATIE>
A19: =Productdemonstratie!A12 -> 2. Mate van geluid bij verstellen hoogte | C19: SCORE | E19: SCORE | G19: SCORE
C20: <MOTIVATIE> | E20: <MOTIVATIE> | G20: <MOTIVATIE>
A21: =Productdemonstratie!A13 -> 3. Constructie onderstel, afwerking | C21: SCORE | E21: SCORE | G21: SCORE
C22: <MOTIVATIE> | E22: <MOTIVATIE> | G22: <MOTIVATIE>
A23: =Productdemonstratie!A14 -> 4. Uitstraling/ vormgeving | C23: SCORE | E23: SCORE | G23: SCORE
C24: <MOTIVATIE> | E24: <MOTIVATIE> | G24: <MOTIVATIE>
A25: =Productdemonstratie!A15 -> 5. Gemak schoonmaken | C25: SCORE | E25: SCORE | G25: SCORE
C26: <MOTIVATIE> | E26: <MOTIVATIE> | G26: <MOTIVATIE>
A27: =Productdemonstratie!A16 -> 6. Kwaliteit/ gebruiksvriendelijkheid van elektrisch meganisme | C27: SCORE | E27: SCORE | G27: SCORE
C28: <MOTIVATIE> | E28: <MOTIVATIE> | G28: <MOTIVATIE>
A29: =Productdemonstratie!A17 -> 3. Beoordelingscriteria bureaustoel gestoffeerd - item 4
A30: =Productdemonstratie!A18 -> 1. Zitcomfort | C30: SCORE | E30: SCORE | G30: SCORE
C31: <MOTIVATIE> | E31: <MOTIVATIE> | G31: <MOTIVATIE>
A32: =Productdemonstratie!A19 -> 2. Mate van instelbaarheid armliggers | C32: SCORE | E32: SCORE | G32: SCORE
C33: <MOTIVATIE> | E33: <MOTIVATIE> | G33: <MOTIVATIE>
A34: =Productdemonstratie!A20 -> 3. Rugleuning en zitting | C34: SCORE | E34: SCORE | G34: SCORE
C35: <MOTIVATIE> | E35: <MOTIVATIE> | G35: <MOTIVATIE>
A36: =Productdemonstratie!A21 -> 4. Constructie inclusief bevestiging tussen frame en zitting | C36: SCORE | E36: SCORE | G36: SCORE
C37: <MOTIVATIE> | E37: <MOTIVATIE> | G37: <MOTIVATIE>
A38: =Productdemonstratie!A22 -> 5. Uitstraling/ vormgeving | C38: SCORE | E38: SCORE | G38: SCORE
C39: <MOTIVATIE> | E39: <MOTIVATIE> | G39: <MOTIVATIE>
A40: =Productdemonstratie!A23 -> 6. Gemak schoonmaken | C40: SCORE | E40: SCORE | G40: SCORE
...

Sheet Beoordelaar 3
A1: Beoordelaar 3: | C1: ='Beoordelaar 1'!C1 -> Inschrijver 1 | E1: ='Beoordelaar 1'!E1 -> Inschrijver 2 | G1: ='Beoordelaar 1'!G1 -> Inschrijver 3
A2: =Productdemonstratie!A1:A1 -> 7.3 Productdemonstratie | C2: Score: | E2: Score: | G2: Score:
A3: =Productdemonstratie!A3 -> 1. Beoordelingscriteria Zit-sta bureau - Item 1
A4: =Productdemonstratie!A4:A4 -> 1. Stabiliteit op alle hoogtes | C4: SCORE | E4: SCORE | G4: SCORE
C5: <MOTIVATIE> | E5: <MOTIVATIE> | G5: <MOTIVATIE>
A6: =Productdemonstratie!A5:A5 -> 2. Mate van geluid bij verstellen hoogte | C6: SCORE | E6: SCORE | G6: SCORE
C7: <MOTIVATIE> | E7: <MOTIVATIE> | G7: <MOTIVATIE>
A8: =Productdemonstratie!A6:A6 -> 3. Constructie onderstel, afwerking | C8: SCORE | E8: SCORE | G8: SCORE
C9: <MOTIVATIE> | E9: <MOTIVATIE> | G9: <MOTIVATIE>
A10: =Productdemonstratie!A7:A7 -> 4. Uitstraling/ vormgeving | C10: SCORE | E10: SCORE | G10: SCORE
C11: <MOTIVATIE> | E11: <MOTIVATIE> | G11: <MOTIVATIE>
A12: =Productdemonstratie!A8:A8 -> 5. Gemak schoonmaken | C12: SCORE | E12: SCORE | G12: SCORE
C13: <MOTIVATIE> | E13: <MOTIVATIE> | G13: <MOTIVATIE>
A14: =Productdemonstratie!A9 -> 6. Kwaliteit/ gebruiksvriendelijkheid van de slinger | C14: SCORE | E14: SCORE | G14: SCORE
C15: <MOTIVATIE> | E15: <MOTIVATIE> | G15: <MOTIVATIE>
A16: =+Productdemonstratie!A10 -> 2. Beoordelingscriteria Zit-sta bureau - Item 3
A17: =Productdemonstratie!A11 -> 1. Stabiliteit op alle hoogtes | C17: SCORE | E17: SCORE | G17: SCORE
C18: <MOTIVATIE> | E18: <MOTIVATIE> | G18: <MOTIVATIE>
A19: =Productdemonstratie!A12 -> 2. Mate van geluid bij verstellen hoogte | C19: SCORE | E19: SCORE | G19: SCORE
C20: <MOTIVATIE> | E20: <MOTIVATIE> | G20: <MOTIVATIE>
A21: =Productdemonstratie!A13 -> 3. Constructie onderstel, afwerking | C21: SCORE | E21: SCORE | G21: SCORE
C22: <MOTIVATIE> | E22: <MOTIVATIE> | G22: <MOTIVATIE>
A23: =Productdemonstratie!A14 -> 4. Uitstraling/ vormgeving | C23: SCORE | E23: SCORE | G23: SCORE
C24: <MOTIVATIE> | E24: <MOTIVATIE> | G24: <MOTIVATIE>
A25: =Productdemonstratie!A15 -> 5. Gemak schoonmaken | C25: SCORE | E25: SCORE | G25: SCORE
C26: <MOTIVATIE> | E26: <MOTIVATIE> | G26: <MOTIVATIE>
A27: =Productdemonstratie!A16 -> 6. Kwaliteit/ gebruiksvriendelijkheid van elektrisch meganisme | C27: SCORE | E27: SCORE | G27: SCORE
C28: <MOTIVATIE> | E28: <MOTIVATIE> | G28: <MOTIVATIE>
A29: =Productdemonstratie!A17 -> 3. Beoordelingscriteria bureaustoel gestoffeerd - item 4
A30: =Productdemonstratie!A18 -> 1. Zitcomfort | C30: SCORE | E30: SCORE | G30: SCORE
C31: <MOTIVATIE> | E31: <MOTIVATIE> | G31: <MOTIVATIE>
A32: =Productdemonstratie!A19 -> 2. Mate van instelbaarheid armliggers | C32: SCORE | E32: SCORE | G32: SCORE
C33: <MOTIVATIE> | E33: <MOTIVATIE> | G33: <MOTIVATIE>
A34: =Productdemonstratie!A20 -> 3. Rugleuning en zitting | C34: SCORE | E34: SCORE | G34: SCORE
C35: <MOTIVATIE> | E35: <MOTIVATIE> | G35: <MOTIVATIE>
A36: =Productdemonstratie!A21 -> 4. Constructie inclusief bevestiging tussen frame en zitting | C36: SCORE | E36: SCORE | G36: SCORE
C37: <MOTIVATIE> | E37: <MOTIVATIE> | G37: <MOTIVATIE>
A38: =Productdemonstratie!A22 -> 5. Uitstraling/ vormgeving | C38: SCORE | E38: SCORE | G38: SCORE
C39: <MOTIVATIE> | E39: <MOTIVATIE> | G39: <MOTIVATIE>
A40: =Productdemonstratie!A23 -> 6. Gemak schoonmaken | C40: SCORE | E40: SCORE | G40: SCORE
...

Sheet Beoordelaar 4
A1: Beoordelaar 4: | C1: ='Beoordelaar 1'!C1 -> Inschrijver 1 | E1: ='Beoordelaar 1'!E1 -> Inschrijver 2 | G1: ='Beoordelaar 1'!G1 -> Inschrijver 3
A2: =Productdemonstratie!A1:A1 -> 7.3 Productdemonstratie | C2: Score: | E2: Score: | G2: Score:
A3: =Productdemonstratie!A3 -> 1. Beoordelingscriteria Zit-sta bureau - Item 1
A4: =Productdemonstratie!A4:A4 -> 1. Stabiliteit op alle hoogtes | C4: SCORE | E4: SCORE | G4: SCORE
C5: <MOTIVATIE> | E5: <MOTIVATIE> | G5: <MOTIVATIE>
A6: =Productdemonstratie!A5:A5 -> 2. Mate van geluid bij verstellen hoogte | C6: SCORE | E6: SCORE | G6: SCORE
C7: <MOTIVATIE> | E7: <MOTIVATIE> | G7: <MOTIVATIE>
A8: =Productdemonstratie!A6:A6 -> 3. Constructie onderstel, afwerking | C8: SCORE | E8: SCORE | G8: SCORE
C9: <MOTIVATIE> | E9: <MOTIVATIE> | G9: <MOTIVATIE>
A10: =Productdemonstratie!A7:A7 -> 4. Uitstraling/ vormgeving | C10: SCORE | E10: SCORE | G10: SCORE
C11: <MOTIVATIE> | E11: <MOTIVATIE> | G11: <MOTIVATIE>
A12: =Productdemonstratie!A8:A8 -> 5. Gemak schoonmaken | C12: SCORE | E12: SCORE | G12: SCORE
C13: <MOTIVATIE> | E13: <MOTIVATIE> | G13: <MOTIVATIE>
A14: =Productdemonstratie!A9 -> 6. Kwaliteit/ gebruiksvriendelijkheid van de slinger | C14: SCORE | E14: SCORE | G14: SCORE
C15: <MOTIVATIE> | E15: <MOTIVATIE> | G15: <MOTIVATIE>
A16: =+Productdemonstratie!A10 -> 2. Beoordelingscriteria Zit-sta bureau - Item 3
A17: =Productdemonstratie!A11 -> 1. Stabiliteit op alle hoogtes | C17: SCORE | E17: SCORE | G17: SCORE
C18: <MOTIVATIE> | E18: <MOTIVATIE> | G18: <MOTIVATIE>
A19: =Productdemonstratie!A12 -> 2. Mate van geluid bij verstellen hoogte | C19: SCORE | E19: SCORE | G19: SCORE
C20: <MOTIVATIE> | E20: <MOTIVATIE> | G20: <MOTIVATIE>
A21: =Productdemonstratie!A13 -> 3. Constructie onderstel, afwerking | C21: SCORE | E21: SCORE | G21: SCORE
C22: <MOTIVATIE> | E22: <MOTIVATIE> | G22: <MOTIVATIE>
A23: =Productdemonstratie!A14 -> 4. Uitstraling/ vormgeving | C23: SCORE | E23: SCORE | G23: SCORE
C24: <MOTIVATIE> | E24: <MOTIVATIE> | G24: <MOTIVATIE>
A25: =Productdemonstratie!A15 -> 5. Gemak schoonmaken | C25: SCORE | E25: SCORE | G25: SCORE
C26: <MOTIVATIE> | E26: <MOTIVATIE> | G26: <MOTIVATIE>
A27: =Productdemonstratie!A16 -> 6. Kwaliteit/ gebruiksvriendelijkheid van elektrisch meganisme | C27: SCORE | E27: SCORE | G27: SCORE
C28: <MOTIVATIE> | E28: <MOTIVATIE> | G28: <MOTIVATIE>
A29: =Productdemonstratie!A17 -> 3. Beoordelingscriteria bureaustoel gestoffeerd - item 4
A30: =Productdemonstratie!A18 -> 1. Zitcomfort | C30: SCORE | E30: SCORE | G30: SCORE
C31: <MOTIVATIE> | E31: <MOTIVATIE> | G31: <MOTIVATIE>
A32: =Productdemonstratie!A19 -> 2. Mate van instelbaarheid armliggers | C32: SCORE | E32: SCORE | G32: SCORE
C33: <MOTIVATIE> | E33: <MOTIVATIE> | G33: <MOTIVATIE>
A34: =Productdemonstratie!A20 -> 3. Rugleuning en zitting | C34: SCORE | E34: SCORE | G34: SCORE
C35: <MOTIVATIE> | E35: <MOTIVATIE> | G35: <MOTIVATIE>
A36: =Productdemonstratie!A21 -> 4. Constructie inclusief bevestiging tussen frame en zitting | C36: SCORE | E36: SCORE | G36: SCORE
C37: <MOTIVATIE> | E37: <MOTIVATIE> | G37: <MOTIVATIE>
A38: =Productdemonstratie!A22 -> 5. Uitstraling/ vormgeving | C38: SCORE | E38: SCORE | G38: SCORE
C39: <MOTIVATIE> | E39: <MOTIVATIE> | G39: <MOTIVATIE>
A40: =Productdemonstratie!A23 -> 6. Gemak schoonmaken | C40: SCORE | E40: SCORE | G40: SCORE
...

Sheet Beoordelaar 5
A1: Beoordelaar 5: | C1: ='Beoordelaar 1'!C1 -> Inschrijver 1 | E1: ='Beoordelaar 1'!E1 -> Inschrijver 2 | G1: ='Beoordelaar 1'!G1 -> Inschrijver 3
A2: =Productdemonstratie!A1:A1 -> 7.3 Productdemonstratie | C2: Score: | E2: Score: | G2: Score:
A3: =Productdemonstratie!A3 -> 1. Beoordelingscriteria Zit-sta bureau - Item 1
A4: =Productdemonstratie!A4:A4 -> 1. Stabiliteit op alle hoogtes | C4: SCORE | E4: SCORE | G4: SCORE
C5: <MOTIVATIE> | E5: <MOTIVATIE> | G5: <MOTIVATIE>
A6: =Productdemonstratie!A5:A5 -> 2. Mate van geluid bij verstellen hoogte | C6: SCORE | E6: SCORE | G6: SCORE
C7: <MOTIVATIE> | E7: <MOTIVATIE> | G7: <MOTIVATIE>
A8: =Productdemonstratie!A6:A6 -> 3. Constructie onderstel, afwerking | C8: SCORE | E8: SCORE | G8: SCORE
C9: <MOTIVATIE> | E9: <MOTIVATIE> | G9: <MOTIVATIE>
A10: =Productdemonstratie!A7:A7 -> 4. Uitstraling/ vormgeving | C10: SCORE | E10: SCORE | G10: SCORE
C11: <MOTIVATIE> | E11: <MOTIVATIE> | G11: <MOTIVATIE>
A12: =Productdemonstratie!A8:A8 -> 5. Gemak schoonmaken | C12: SCORE | E12: SCORE | G12: SCORE
C13: <MOTIVATIE> | E13: <MOTIVATIE> | G13: <MOTIVATIE>
A14: =Productdemonstratie!A9 -> 6. Kwaliteit/ gebruiksvriendelijkheid van de slinger | C14: SCORE | E14: SCORE | G14: SCORE
C15: <MOTIVATIE> | E15: <MOTIVATIE> | G15: <MOTIVATIE>
A16: =+Productdemonstratie!A10 -> 2. Beoordelingscriteria Zit-sta bureau - Item 3
A17: =Productdemonstratie!A11 -> 1. Stabiliteit op alle hoogtes | C17: SCORE | E17: SCORE | G17: SCORE
C18: <MOTIVATIE> | E18: <MOTIVATIE> | G18: <MOTIVATIE>
A19: =Productdemonstratie!A12 -> 2. Mate van geluid bij verstellen hoogte | C19: SCORE | E19: SCORE | G19: SCORE
C20: <MOTIVATIE> | E20: <MOTIVATIE> | G20: <MOTIVATIE>
A21: =Productdemonstratie!A13 -> 3. Constructie onderstel, afwerking | C21: SCORE | E21: SCORE | G21: SCORE
C22: <MOTIVATIE> | E22: <MOTIVATIE> | G22: <MOTIVATIE>
A23: =Productdemonstratie!A14 -> 4. Uitstraling/ vormgeving | C23: SCORE | E23: SCORE | G23: SCORE
C24: <MOTIVATIE> | E24: <MOTIVATIE> | G24: <MOTIVATIE>
A25: =Productdemonstratie!A15 -> 5. Gemak schoonmaken | C25: SCORE | E25: SCORE | G25: SCORE
C26: <MOTIVATIE> | E26: <MOTIVATIE> | G26: <MOTIVATIE>
A27: =Productdemonstratie!A16 -> 6. Kwaliteit/ gebruiksvriendelijkheid van elektrisch meganisme | C27: SCORE | E27: SCORE | G27: SCORE
C28: <MOTIVATIE> | E28: <MOTIVATIE> | G28: <MOTIVATIE>
A29: =Productdemonstratie!A17 -> 3. Beoordelingscriteria bureaustoel gestoffeerd - item 4
A30: =Productdemonstratie!A18 -> 1. Zitcomfort | C30: SCORE | E30: SCORE | G30: SCORE
C31: <MOTIVATIE> | E31: <MOTIVATIE> | G31: <MOTIVATIE>
A32: =Productdemonstratie!A19 -> 2. Mate van instelbaarheid armliggers | C32: SCORE | E32: SCORE | G32: SCORE
C33: <MOTIVATIE> | E33: <MOTIVATIE> | G33: <MOTIVATIE>
A34: =Productdemonstratie!A20 -> 3. Rugleuning en zitting | C34: SCORE | E34: SCORE | G34: SCORE
C35: <MOTIVATIE> | E35: <MOTIVATIE> | G35: <MOTIVATIE>
A36: =Productdemonstratie!A21 -> 4. Constructie inclusief bevestiging tussen frame en zitting | C36: SCORE | E36: SCORE | G36: SCORE
C37: <MOTIVATIE> | E37: <MOTIVATIE> | G37: <MOTIVATIE>
A38: =Productdemonstratie!A22 -> 5. Uitstraling/ vormgeving | C38: SCORE | E38: SCORE | G38: SCORE
C39: <MOTIVATIE> | E39: <MOTIVATIE> | G39: <MOTIVATIE>
A40: =Productdemonstratie!A23 -> 6. Gemak schoonmaken | C40: SCORE | E40: SCORE | G40: SCORE
...

Sheet Beoordelaar 6
A1: Beoordelaar 6: | C1: ='Beoordelaar 1'!C1 -> Inschrijver 1 | E1: ='Beoordelaar 1'!E1 -> Inschrijver 2 | G1: ='Beoordelaar 1'!G1 -> Inschrijver 3
A2: =Productdemonstratie!A1:A1 -> 7.3 Productdemonstratie | C2: Score: | E2: Score: | G2: Score:
A3: =Productdemonstratie!A3 -> 1. Beoordelingscriteria Zit-sta bureau - Item 1
A4: =Productdemonstratie!A4:A4 -> 1. Stabiliteit op alle hoogtes | C4: SCORE | E4: SCORE | G4: SCORE
C5: <MOTIVATIE> | E5: <MOTIVATIE> | G5: <MOTIVATIE>
A6: =Productdemonstratie!A5:A5 -> 2. Mate van geluid bij verstellen hoogte | C6: SCORE | E6: SCORE | G6: SCORE
C7: <MOTIVATIE> | E7: <MOTIVATIE> | G7: <MOTIVATIE>
A8: =Productdemonstratie!A6:A6 -> 3. Constructie onderstel, afwerking | C8: SCORE | E8: SCORE | G8: SCORE
C9: <MOTIVATIE> | E9: <MOTIVATIE> | G9: <MOTIVATIE>
A10: =Productdemonstratie!A7:A7 -> 4. Uitstraling/ vormgeving | C10: SCORE | E10: SCORE | G10: SCORE
C11: <MOTIVATIE> | E11: <MOTIVATIE> | G11: <MOTIVATIE>
A12: =Productdemonstratie!A8:A8 -> 5. Gemak schoonmaken | C12: SCORE | E12: SCORE | G12: SCORE
C13: <MOTIVATIE> | E13: <MOTIVATIE> | G13: <MOTIVATIE>
A14: =Productdemonstratie!A9 -> 6. Kwaliteit/ gebruiksvriendelijkheid van de slinger | C14: SCORE | E14: SCORE | G14: SCORE
C15: <MOTIVATIE> | E15: <MOTIVATIE> | G15: <MOTIVATIE>
A16: =+Productdemonstratie!A10 -> 2. Beoordelingscriteria Zit-sta bureau - Item 3
A17: =Productdemonstratie!A11 -> 1. Stabiliteit op alle hoogtes | C17: SCORE | E17: SCORE | G17: SCORE
C18: <MOTIVATIE> | E18: <MOTIVATIE> | G18: <MOTIVATIE>
A19: =Productdemonstratie!A12 -> 2. Mate van geluid bij verstellen hoogte | C19: SCORE | E19: SCORE | G19: SCORE
C20: <MOTIVATIE> | E20: <MOTIVATIE> | G20: <MOTIVATIE>
A21: =Productdemonstratie!A13 -> 3. Constructie onderstel, afwerking | C21: SCORE | E21: SCORE | G21: SCORE
C22: <MOTIVATIE> | E22: <MOTIVATIE> | G22: <MOTIVATIE>
A23: =Productdemonstratie!A14 -> 4. Uitstraling/ vormgeving | C23: SCORE | E23: SCORE | G23: SCORE
C24: <MOTIVATIE> | E24: <MOTIVATIE> | G24: <MOTIVATIE>
A25: =Productdemonstratie!A15 -> 5. Gemak schoonmaken | C25: SCORE | E25: SCORE | G25: SCORE
C26: <MOTIVATIE> | E26: <MOTIVATIE> | G26: <MOTIVATIE>
A27: =Productdemonstratie!A16 -> 6. Kwaliteit/ gebruiksvriendelijkheid van elektrisch meganisme | C27: SCORE | E27: SCORE | G27: SCORE
C28: <MOTIVATIE> | E28: <MOTIVATIE> | G28: <MOTIVATIE>
A29: =Productdemonstratie!A17 -> 3. Beoordelingscriteria bureaustoel gestoffeerd - item 4
A30: =Productdemonstratie!A18 -> 1. Zitcomfort | C30: SCORE | E30: SCORE | G30: SCORE
C31: <MOTIVATIE> | E31: <MOTIVATIE> | G31: <MOTIVATIE>
A32: =Productdemonstratie!A19 -> 2. Mate van instelbaarheid armliggers | C32: SCORE | E32: SCORE | G32: SCORE
C33: <MOTIVATIE> | E33: <MOTIVATIE> | G33: <MOTIVATIE>
A34: =Productdemonstratie!A20 -> 3. Rugleuning en zitting | C34: SCORE | E34: SCORE | G34: SCORE
C35: <MOTIVATIE> | E35: <MOTIVATIE> | G35: <MOTIVATIE>
A36: =Productdemonstratie!A21 -> 4. Constructie inclusief bevestiging tussen frame en zitting | C36: SCORE | E36: SCORE | G36: SCORE
C37: <MOTIVATIE> | E37: <MOTIVATIE> | G37: <MOTIVATIE>
A38: =Productdemonstratie!A22 -> 5. Uitstraling/ vormgeving | C38: SCORE | E38: SCORE | G38: SCORE
C39: <MOTIVATIE> | E39: <MOTIVATIE> | G39: <MOTIVATIE>
A40: =Productdemonstratie!A23 -> 6. Gemak schoonmaken | C40: SCORE | E40: SCORE | G40: SCORE
...

Sheet Beoordelaar 7
A1: Beoordelaar 7: | C1: ='Beoordelaar 1'!C1 -> Inschrijver 1 | E1: ='Beoordelaar 1'!E1 -> Inschrijver 2 | G1: ='Beoordelaar 1'!G1 -> Inschrijver 3
A2: =Productdemonstratie!A1:A1 -> 7.3 Productdemonstratie | C2: Score: | E2: Score: | G2: Score:
A3: =Productdemonstratie!A3 -> 1. Beoordelingscriteria Zit-sta bureau - Item 1
A4: =Productdemonstratie!A4:A4 -> 1. Stabiliteit op alle hoogtes | C4: SCORE | E4: SCORE | G4: SCORE
C5: <MOTIVATIE> | E5: <MOTIVATIE> | G5: <MOTIVATIE>
A6: =Productdemonstratie!A5:A5 -> 2. Mate van geluid bij verstellen hoogte | C6: SCORE | E6: SCORE | G6: SCORE
C7: <MOTIVATIE> | E7: <MOTIVATIE> | G7: <MOTIVATIE>
A8: =Productdemonstratie!A6:A6 -> 3. Constructie onderstel, afwerking | C8: SCORE | E8: SCORE | G8: SCORE
C9: <MOTIVATIE> | E9: <MOTIVATIE> | G9: <MOTIVATIE>
A10: =Productdemonstratie!A7:A7 -> 4. Uitstraling/ vormgeving | C10: SCORE | E10: SCORE | G10: SCORE
C11: <MOTIVATIE> | E11: <MOTIVATIE> | G11: <MOTIVATIE>
A12: =Productdemonstratie!A8:A8 -> 5. Gemak schoonmaken | C12: SCORE | E12: SCORE | G12: SCORE
C13: <MOTIVATIE> | E13: <MOTIVATIE> | G13: <MOTIVATIE>
A14: =Productdemonstratie!A9 -> 6. Kwaliteit/ gebruiksvriendelijkheid van de slinger | C14: SCORE | E14: SCORE | G14: SCORE
C15: <MOTIVATIE> | E15: <MOTIVATIE> | G15: <MOTIVATIE>
A16: =+Productdemonstratie!A10 -> 2. Beoordelingscriteria Zit-sta bureau - Item 3
A17: =Productdemonstratie!A11 -> 1. Stabiliteit op alle hoogtes | C17: SCORE | E17: SCORE | G17: SCORE
C18: <MOTIVATIE> | E18: <MOTIVATIE> | G18: <MOTIVATIE>
A19: =Productdemonstratie!A12 -> 2. Mate van geluid bij verstellen hoogte | C19: SCORE | E19: SCORE | G19: SCORE
C20: <MOTIVATIE> | E20: <MOTIVATIE> | G20: <MOTIVATIE>
A21: =Productdemonstratie!A13 -> 3. Constructie onderstel, afwerking | C21: SCORE | E21: SCORE | G21: SCORE
C22: <MOTIVATIE> | E22: <MOTIVATIE> | G22: <MOTIVATIE>
A23: =Productdemonstratie!A14 -> 4. Uitstraling/ vormgeving | C23: SCORE | E23: SCORE | G23: SCORE
C24: <MOTIVATIE> | E24: <MOTIVATIE> | G24: <MOTIVATIE>
A25: =Productdemonstratie!A15 -> 5. Gemak schoonmaken | C25: SCORE | E25: SCORE | G25: SCORE
C26: <MOTIVATIE> | E26: <MOTIVATIE> | G26: <MOTIVATIE>
A27: =Productdemonstratie!A16 -> 6. Kwaliteit/ gebruiksvriendelijkheid van elektrisch meganisme | C27: SCORE | E27: SCORE | G27: SCORE
C28: <MOTIVATIE> | E28: <MOTIVATIE> | G28: <MOTIVATIE>
A29: =Productdemonstratie!A17 -> 3. Beoordelingscriteria bureaustoel gestoffeerd - item 4
A30: =Productdemonstratie!A18 -> 1. Zitcomfort | C30: SCORE | E30: SCORE | G30: SCORE
C31: <MOTIVATIE> | E31: <MOTIVATIE> | G31: <MOTIVATIE>
A32: =Productdemonstratie!A19 -> 2. Mate van instelbaarheid armliggers | C32: SCORE | E32: SCORE | G32: SCORE
C33: <MOTIVATIE> | E33: <MOTIVATIE> | G33: <MOTIVATIE>
A34: =Productdemonstratie!A20 -> 3. Rugleuning en zitting | C34: SCORE | E34: SCORE | G34: SCORE
C35: <MOTIVATIE> | E35: <MOTIVATIE> | G35: <MOTIVATIE>
A36: =Productdemonstratie!A21 -> 4. Constructie inclusief bevestiging tussen frame en zitting | C36: SCORE | E36: SCORE | G36: SCORE
C37: <MOTIVATIE> | E37: <MOTIVATIE> | G37: <MOTIVATIE>
A38: =Productdemonstratie!A22 -> 5. Uitstraling/ vormgeving | C38: SCORE | E38: SCORE | G38: SCORE
C39: <MOTIVATIE> | E39: <MOTIVATIE> | G39: <MOTIVATIE>
A40: =Productdemonstratie!A23 -> 6. Gemak schoonmaken | C40: SCORE | E40: SCORE | G40: SCORE
...

Sheet Consensus
A1: Totaalwaardes | D1: ='Beoordelaar 1'!C1 -> Inschrijver 1 | G1: ='Beoordelaar 1'!E1 -> Inschrijver 2 | J1: ='Beoordelaar 1'!G1 -> Inschrijver 3
A2: Totaalwaardes | D2: SCORE | E2: Motivatie consensus: | G2: SCORE | H2: Motivatie consensus: | J2: SCORE | K2: Motivatie consensus:
A3: =Productdemonstratie!A3 -> 1. Beoordelingscriteria Zit-sta bureau - Item 1
A4: =Productdemonstratie!A4:A4 -> 1. Stabiliteit op alle hoogtes | B4: ='Beoordelaar 1'!A1 -> Beoordelaar 1: | D4: ='Beoordelaar 1'!C4 -> SCORE | E4: <MOTIVATIE> | G4: ='Beoordelaar 1'!E4 -> SCORE | H4: <MOTIVATIE> | J4: ='Beoordelaar 1'!G4 -> SCORE | K4: <MOTIVATIE>
B5: ='Beoordelaar 2'!A1 -> Beoordelaar 2: | D5: ='Beoordelaar 2'!C4 -> SCORE | G5: ='Beoordelaar 2'!E4 -> SCORE | J5: ='Beoordelaar 2'!G4 -> SCORE
B6: ='Beoordelaar 3'!A1 -> Beoordelaar 3: | D6: ='Beoordelaar 3'!C4 -> SCORE | G6: ='Beoordelaar 3'!E4 -> SCORE | J6: ='Beoordelaar 3'!G4 -> SCORE
B7: ='Beoordelaar 4'!A1 -> Beoordelaar 4: | D7: ='Beoordelaar 4'!C4 -> SCORE | G7: ='Beoordelaar 4'!E4 -> SCORE | J7: ='Beoordelaar 4'!G4 -> SCORE
B8: ='Beoordelaar 5'!A1 -> Beoordelaar 5: | D8: ='Beoordelaar 5'!C4 -> SCORE | G8: ='Beoordelaar 5'!E4 -> SCORE | J8: ='Beoordelaar 5'!G4 -> SCORE
B9: ='Beoordelaar 6'!A1 -> Beoordelaar 6: | D9: ='Beoordelaar 6'!C4 -> SCORE | G9: ='Beoordelaar 6'!E4 -> SCORE | J9: ='Beoordelaar 6'!G4 -> SCORE
B10: ='Beoordelaar 7'!A1 -> Beoordelaar 7: | D10: ='Beoordelaar 7'!C4 -> SCORE | G10: ='Beoordelaar 7'!E4 -> SCORE | J10: ='Beoordelaar 7'!G4 -> SCORE
A11: Consensus | D11: SCORE | G11: SCORE | J11: SCORE
D12: =IF(D11="beter","€ 750",IF(D11="vergelijkbaar","€ 0",IF(D11="minder","-€ 3.000"," "))) | G12: =IF(G11="beter","€ 750",IF(G11="vergelijkbaar","€ 0",IF(G11="minder","-€ 3.000"," "))) | J12: =IF(J11="beter","€ 750",IF(J11="vergelijkbaar","€ 0",IF(J11="minder","-€ 3.000"," ")))
A13: =Productdemonstratie!A5:A5 -> 2. Mate van geluid bij verstellen hoogte | B13: ='Beoordelaar 1'!$A$1 -> Beoordelaar 1: | D13: ='Beoordelaar 1'!C6 -> SCORE | E13: <MOTIVATIE> | G13: ='Beoordelaar 1'!E6 -> SCORE | H13: <MOTIVATIE> | J13: ='Beoordelaar 1'!G6 -> SCORE | K13: <MOTIVATIE>
B14: ='Beoordelaar 2'!$A$1 -> Beoordelaar 2: | D14: ='Beoordelaar 2'!C6 -> SCORE | G14: ='Beoordelaar 2'!E6 -> SCORE | J14: ='Beoordelaar 2'!G6 -> SCORE
B15: ='Beoordelaar 3'!$A$1 -> Beoordelaar 3: | D15: ='Beoordelaar 3'!C6 -> SCORE | G15: ='Beoordelaar 3'!E6 -> SCORE | J15: ='Beoordelaar 3'!G6 -> SCORE
B16: ='Beoordelaar 4'!$A$1 -> Beoordelaar 4: | D16: ='Beoordelaar 4'!C6 -> SCORE | G16: ='Beoordelaar 4'!E6 -> SCORE | J16: ='Beoordelaar 4'!G6 -> SCORE
B17: ='Beoordelaar 5'!$A$1 -> Beoordelaar 5: | D17: ='Beoordelaar 5'!C6 -> SCORE | G17: ='Beoordelaar 5'!E6 -> SCORE | J17: ='Beoordelaar 5'!G6 -> SCORE
B18: ='Beoordelaar 6'!$A$1 -> Beoordelaar 6: | D18: ='Beoordelaar 6'!C6 -> SCORE | G18: ='Beoordelaar 6'!E6 -> SCORE | J18: ='Beoordelaar 6'!G6 -> SCORE
B19: ='Beoordelaar 7'!$A$1 -> Beoordelaar 7: | D19: ='Beoordelaar 7'!C6 -> SCORE | G19: ='Beoordelaar 7'!E6 -> SCORE | J19: ='Beoordelaar 7'!G6 -> SCORE
A20: Consensus | D20: SCORE | G20: SCORE | J20: SCORE
D21: =IF(D20="beter","€ 750",IF(D20="vergelijkbaar","€ 0",IF(D20="minder","-€ 3.000"," "))) | G21: =IF(G20="beter","€ 750",IF(G20="vergelijkbaar","€ 0",IF(G20="minder","-€ 3.000"," "))) | J21: =IF(J20="beter","€ 750",IF(J20="vergelijkbaar","€ 0",IF(J20="minder","-€ 3.000"," ")))
A22: =Productdemonstratie!A6:A6 -> 3. Constructie onderstel, afwerking | B22: ='Beoordelaar 1'!$A$1 -> Beoordelaar 1: | D22: ='Beoordelaar 1'!C8 -> SCORE | E22: <MOTIVATIE> | G22: ='Beoordelaar 1'!E8 -> SCORE | H22: <MOTIVATIE> | J22: ='Beoordelaar 1'!G8 -> SCORE | K22: <MOTIVATIE>
B23: ='Beoordelaar 2'!$A$1 -> Beoordelaar 2: | D23: ='Beoordelaar 2'!C8 -> SCORE | G23: ='Beoordelaar 2'!E8 -> SCORE | J23: ='Beoordelaar 2'!G8 -> SCORE
B24: ='Beoordelaar 3'!$A$1 -> Beoordelaar 3: | D24: ='Beoordelaar 3'!C8 -> SCORE | G24: ='Beoordelaar 3'!E8 -> SCORE | J24: ='Beoordelaar 3'!G8 -> SCORE
B25: ='Beoordelaar 4'!$A$1 -> Beoordelaar 4: | D25: ='Beoordelaar 4'!C8 -> SCORE | G25: ='Beoordelaar 4'!E8 -> SCORE | J25: ='Beoordelaar 4'!G8 -> SCORE
B26: ='Beoordelaar 5'!$A$1 -> Beoordelaar 5: | D26: ='Beoordelaar 5'!C8 -> SCORE | G26: ='Beoordelaar 5'!E8 -> SCORE | J26: ='Beoordelaar 5'!G8 -> SCORE
B27: ='Beoordelaar 6'!$A$1 -> Beoordelaar 6: | D27: ='Beoordelaar 6'!C8 -> SCORE | G27: ='Beoordelaar 6'!E8 -> SCORE | J27: ='Beoordelaar 6'!G8 -> SCORE
B28: ='Beoordelaar 7'!$A$1 -> Beoordelaar 7: | D28: ='Beoordelaar 7'!C8 -> SCORE | G28: ='Beoordelaar 7'!E8 -> SCORE | J28: ='Beoordelaar 7'!G8 -> SCORE
A29: Consensus | D29: SCORE | G29: SCORE | J29: SCORE
D30: =IF(D29="beter","€ 750",IF(D29="vergelijkbaar","€ 0",IF(D29="minder","-€ 3.000"," "))) | G30: =IF(G29="beter","€ 750",IF(G29="vergelijkbaar","€ 0",IF(G29="minder","-€ 3.000"," "))) | J30: =IF(J29="beter","€ 750",IF(J29="vergelijkbaar","€ 0",IF(J29="minder","-€ 3.000"," ")))
A31: =Productdemonstratie!A7:A7 -> 4. Uitstraling/ vormgeving | B31: ='Beoordelaar 1'!$A$1 -> Beoordelaar 1: | D31: ='Beoordelaar 1'!C10 -> SCORE | E31: <MOTIVATIE> | G31: ='Beoordelaar 1'!E10 -> SCORE | H31: <MOTIVATIE> | J31: ='Beoordelaar 1'!G10 -> SCORE | K31: <MOTIVATIE>
B32: ='Beoordelaar 2'!$A$1 -> Beoordelaar 2: | D32: ='Beoordelaar 2'!C10 -> SCORE | G32: ='Beoordelaar 2'!E10 -> SCORE | J32: ='Beoordelaar 2'!G10 -> SCORE
B33: ='Beoordelaar 3'!$A$1 -> Beoordelaar 3: | D33: ='Beoordelaar 3'!C10 -> SCORE | G33: ='Beoordelaar 3'!E10 -> SCORE | J33: ='Beoordelaar 3'!G10 -> SCORE
B34: ='Beoordelaar 4'!$A$1 -> Beoordelaar 4: | D34: ='Beoordelaar 4'!C10 -> SCORE | G34: ='Beoordelaar 4'!E10 -> SCORE | J34: ='Beoordelaar 4'!G10 -> SCORE
B35: ='Beoordelaar 5'!$A$1 -> Beoordelaar 5: | D35: ='Beoordelaar 5'!C10 -> SCORE | G35: ='Beoordelaar 5'!E10 -> SCORE | J35: ='Beoordelaar 5'!G10 -> SCORE
B36: ='Beoordelaar 6'!$A$1 -> Beoordelaar 6: | D36: ='Beoordelaar 6'!C10 -> SCORE | G36: ='Beoordelaar 6'!E10 -> SCORE | J36: ='Beoordelaar 6'!G10 -> SCORE
B37: ='Beoordelaar 7'!$A$1 -> Beoordelaar 7: | D37: ='Beoordelaar 7'!C10 -> SCORE | G37: ='Beoordelaar 7'!E10 -> SCORE | J37: ='Beoordelaar 7'!G10 -> SCORE
A38: Consensus | D38: SCORE | G38: SCORE | J38: SCORE
D39: =IF(D38="beter","€ 750",IF(D38="vergelijkbaar","€ 0",IF(D38="minder","-€ 750"," "))) | G39: =IF(G38="beter","€ 750",IF(G38="vergelijkbaar","€ 0",IF(G38="minder","-€ 750"," "))) | J39: =IF(J38="beter","€ 750",IF(J38="vergelijkbaar","€ 0",IF(J38="minder","-€ 750"," ")))
A40: =Productdemonstratie!A8:A8 -> 5. Gemak schoonmaken | B40: ='Beoordelaar 1'!$A$1 -> Beoordelaar 1: | D40: ='Beoordelaar 1'!C12 -> SCORE | E40: <MOTIVATIE> | G40: ='Beoordelaar 1'!E12 -> SCORE | H40: <MOTIVATIE> | J40: ='Beoordelaar 1'!G12 -> SCORE | K40: <MOTIVATIE>
...

Sheet Eindscores
A1: Totaalwaarder criterium kwaliteit
A2: Onderdeel | C2: ='Beoordelaar 1'!C1 -> Inschrijver 1 | E2: ='Beoordelaar 1'!E1 -> Inschrijver 2 | G2: ='Beoordelaar 1'!G1 -> Inschrijver 3
A3: 7.1.A BEANTWOORDING OPEN VRAGEN | C3: 0 | E3: 0 | G3: 0
A4: OPEN VRAAG 7.4 DISTRIBUTIE (WAREHOUSING) | C4: 0 | E4: 0 | G4: 0
A5: 7.2 PRODUCTDEMONSTRATIE | C5: =Consensus!D582 -> #VALUE! | E5: =Consensus!G582 -> #VALUE! | G5: =Consensus!J582 -> #VALUE!
A6: Totaal behaalde waarde criterium kwaliteit: | C6: =C4+C3+C5 -> #VALUE! | E6: =E4+E3+E5 -> #VALUE! | G6: =G4+G3+G5 -> #VALUE!
A8: Totaal behaalde waarde criterium prijs: | C8: 0 | E8: 0 | G8: 0
A10: Eindscore (kwaliteit/prijs): | C10: =C8-C6 -> #VALUE! | E10: =E8-E6 -> #VALUE! | G10: =G8-G6 -> #VALUE!
