Workbook
Name Materiaalsoorten: Productdemonstratie!#REF!
Name SCORE: Productdemonstratie!#REF!
Name STALENBOEK: Productdemonstratie!#REF!

Sheet Productdemonstratie
A1: 7.3 Productdemonstratie
A2: Aanbestedende dienst zal conform een nader te bepalen planning een productdemonstratie organiseren op haar locatie (Purmerend). Tijdens deze productdemonstratie zal de kwaliteit van diverse uitgevraagde producten conform objectieve criteria worden getoetst, getest en beoordeeld
A3: 1. Beoordelingscriteria Zit-sta bureau - Item 1 | B3: Beter | C3: Vergelijkbaar | D3: Minder
A4: 1. Stabiliteit op alle hoogtes | B4: 750 | C4: 0 | D4: -3000 | E4: Uitmuntend | F4: Voldoende | G4: Onvoldoende | H4: SCORE
A5: 2. Mate van geluid bij verstellen hoogte | B5: 750 | C5: 0 | D5: -3000
A6: 3. Constructie onderstel, afwerking | B6: 750 | C6: 0 | D6: -3000
A7: 4. Uitstraling/ vormgeving | B7: 750 | C7: 0 | D7: -750 | F7: maximaal 2 maal negatief
A8: 5. Gemak schoonmaken | B8: 750 | C8: 0 | D8: -750 | E8: Uitmuntend | F8: Goed | G8: Voldoende | H8: SCORE
A9: 6. Kwaliteit/ gebruiksvriendelijkheid van de slinger | B9: 750 | C9: 0 | D9: -3000
A10: 2. Beoordelingscriteria Zit-sta bureau - Item 3 | B10: Beter | C10: Vergelijkbaar | D10: Minder
A11: 1. Stabiliteit op alle hoogtes | B11: 750 | C11: 0 | D11: -3000
A12: 2. Mate van geluid bij verstellen hoogte | B12: 750 | C12: 0 | D12: -3000
A13: 3. Constructie onderstel, afwerking | B13: 750 | C13: 0 | D13: -3000 | F13: maximaal 2 maal negatief
A14: 4. Uitstraling/ vormgeving | B14: 750 | C14: 0 | D14: -750
A15: 5. Gemak schoonmaken | B15: 750 | C15: 0 | D15: -750
A16: 6. Kwaliteit/ gebruiksvriendelijkheid van elektrisch meganisme | B16: 750 | C16: 0 | D16: -3000
A17: 3. Beoordelingscriteria bureaustoel gestoffeerd - item 4 | B17: Beter | C17: Vergelijkbaar | D17: Minder
A18: 1. Zitcomfort | B18: 750 | C18: 0 | D18: -3000
A19: 2. Mate van instelbaarheid armliggers | B19: 750 | C19: 0 | D19: -750
A20: 3. Rugleuning en zitting | B20: 1250 | C20: 0 | D20: -1250 | F20: maximaal 2 maal negatief
A21: 4. Constructie inclusief bevestiging tussen frame en zitting | B21: 750 | C21: 0 | D21: 3000
A22: 5. Uitstraling/ vormgeving | B22: 750 | C22: 0 | D22: -750
A23: 6. Gemak schoonmaken | B23: 750 | C23: 0 | D23: 750
A24: 4. Beoordelingscriteria jaloeziekast - item 6 | B24: Beter | C24: Vergelijkbaar | D24: Minder | E24: SCORE
A25: 1.Mate geluid sluiten deuren | B25: 750 | C25: 0 | D25: -3000
A26: 2. Mate van instelbaarheid legborden | B26: 750 | C26: 0 | D26: -750
A27: 3. Kwaliteit slot | B27: 750 | C27: 0 | D27: -750 | F27: maximaal 2 maal negatief
A28: 4. Constructie / stabiliteit frame en deuren | B28: 750 | C28: 0 | D28: -3000
A29: 5. Uitstraling/ vormgeving | B29: 750 | C29: 0 | D29: -750
A30: 6. Gemak schoonmaken | B30: 750 | C30: 0 | D30: -750
A31: 5. Beoordelingscriteria - Studenten tafel - item 7 | B31: Beter | C31: Vergelijkbaar | D31: Minder | E31: SCORE
A32: 1. Stabiliteit | B32: 750 | C32: 0 | D32: -3000
A33: 2. Constructie tussen frame en blad | B33: 750 | C33: 0 | D33: -750
A34: 3. Uitstraling/ vormgeving | B34: 750 | C34: 0 | D34: -750 | F34: maximaal 2 maal negatief
A35: 4. Gemak schoonmaken | B35: 750 | C35: 0 | D35: -750
A36: 5. Mate veiligheid (scherpe randen en hoeken) | B36: 750 | C36: 0 | D36: -3000
A37: 6. Beoordelingscriteria - Studenten stoel houten kuip, 4 poots aluminium – item 8 | B37: Beter | C37: Vergelijkbaar | D37: Minder | E37: SCORE
A38: 1. Stabiliteit | B38: 750 | C38: 0 | D38: -3000
A39: 2. Constructie tussen frame en zitting | B39: 750 | C39: 0 | D39: -750
A40: 3. Uitstraling/ vormgeving | B40: 750 | C40: 0 | D40: -750 | F40: maximaal 2 maal negatief
A41: 4. Gemak schoonmaken | B41: 750 | C41: 0 | D41: -750
A42: 5. Mate veiligheid (scherpe randen en hoeken) | B42: 750 | C42: 0 | D42: -3000
A43: 6. Mate van stapelbaarheid | B43: 750 | C43: 0 | D43: -750
A44: 7. Beoordelingscriteria vergadertafel - item 12 | B44: Beter | C44: Vergelijkbaar | D44: Minder
A45: 1. Stabiliteit | B45: 750 | C45: 0 | D45: -2500
A46: 2. Constructie tussen frame en blad | B46: 750 | C46: 0 | D46: -750
A47: 3. Uitstraling/ vormgeving | B47: 750 | C47: 0 | D47: -2500 | F47: maximaal 2 maal negatief
A48: 4. Gemak schoonmaken | B48: 750 | C48: 0 | D48: -750
A49: 5. Dikte blad | B49: 750 | C49: 0 | D49: -750
A50: 6. Mate veiligheid (scherpe randen en hoeken) | B50: 750 | C50: 0 | D50: -750
A51: 8. Beoordelingscriteria vergaderstoel stoffen zitting, aluminium(slede)frame - item 15 | B51: Beter | C51: Vergelijkbaar | D51: Minder
A52: 1. Zitcomfort | B52: 750 | C52: 0 | D52: -3000
A53: 2. Mate van comfort armliggers | B53: 750 | C53: 0 | D53: -750
A54: 3. Rugleuning en zitting | B54: 750 | C54: 0 | D54: -750 | F54: maximaal 2 maal negatief
A55: 4. Constructie inclusief bevestiging tussen frame en zitting | B55: 750 | C55: 0 | D55: -750
A56: 5. Uitstraling/ vormgeving | B56: 750 | C56: 0 | D56: -750
A57: 6. Gemak schoonmaken | B57: 750 | C57: 0 | D57: -750
A58: 9. Beoordelingscriteria kantinetafel - item 16 | B58: Beter | C58: Vergelijkbaar | D58: Minder
A59: 1. Stabiliteit | B59: 750 | C59: 0 | D59: -2500
A60: 2. Constructie tussen frame en blad | B60: 750 | C60: 0 | D60: -750
A61: 3. Uitstraling/ vormgeving | B61: 750 | C61: 0 | D61: -2500 | F61: maximaal 2 maal negatief
A62: 4. Gemak schoonmaken | B62: 750 | C62: 0 | D62: -750
A63: 5. Dikte blad | B63: 750 | C63: 0 | D63: -750
A64: 6. Mate veiligheid (scherpe randen en hoeken) | B64: 750 | C64: 0 | D64: -3000
A65: 10. Beoordelingscriteria Kantine stoel houten zitting, aluminium frame - Item 17 | B65: Beter | C65: Vergelijkbaar | D65: Minder
A66: 1. Zitcomfort | B66: 750 | C66: 0 | D66: -2500
A67: 2. Stapelbaarheid | B67: 750 | C67: 0 | D67: -5000
A68: 3. Stabiliteit bij het zitten | B68: 750 | C68: 0 | D68: -3000
A69: 4. Constructie inclusief bevestiging tussen frame en zitting | B69: 750 | C69: 0 | D69: -750 | F69: maximaal 2 maal negatief
A70: 5. Uitstraling/ vormgeving | B70: 750 | C70: 0 | D70: -750
A71: 6. Gemak schoonmaken | B71: 750 | C71: 0 | D71: -750
A72: 7. Mate van leerling-proof | B72: 750 | C72: 0 | D72: -5000
A73: 8. Mate van koppelbaarheid | B73: 750 | C73: 0 | D73: -750

Sheet Beoordelaar 1
A1: Beoordelaar 1: | C1: Inschrijver 1 | E1: Inschrijver 2 | G1: Inschrijver 3
A2: =Productdemonstratie!A1:A1 -> 7.3 Productdemonstratie | C2: Score: | E2: Score: | G2: Score:
A3: =Productdemonstratie!A3 -> 1. Beoordelingscriteria Zit-sta bureau - Item 1
A4: =Productdemonstratie!A4:A4 -> 1. Stabiliteit op alle hoogtes | C4: SCORE | E4: SCORE | G4: SCORE
C5: <MOTIVATIE> | E5: <MOTIVATIE> | G5: <MOTIVATIE>
A6: =Productdemonstratie!A5:A5 -> 2. Mate van geluid bij verstellen hoogte | C6: SCORE | E6: SCORE | G6: SCORE
C7: <MOTIVATIE> | E7: <MOTIVATIE> | G7: <MOTIVATIE>
A8: =Productdemonstratie!A6:A6 -> 3. Constructie onderstel, afwerking | C8: SCORE | E8: SCORE | G8: SCORE
C9: <MOTIVATIE> | E9: <MOTIVATIE> | G9: <MOTIVATIE>
A10: =Productdemonstratie!A7:A7 -> 4. Uitstraling/ vormgeving | C10: SCORE | E10: SCORE | G10: SCORE
C11: <MOTIVATIE> | E11: <MOTIVATIE> | G11: <MOTIVATIE>
A12: =Productdemonstratie!A8:A8 -> 5. Gemak schoonmaken | C12: SCORE | E12: SCORE | G12: SCORE
C13: <MOTIVATIE> | E13: <MOTIVATIE> | G13: <MOTIVATIE>
A14: =Productdemonstratie!A9 -> 6. Kwaliteit/ gebruiksvriendelijkheid van de slinger | C14: SCORE | E14: SCORE | G14: SCORE
C15: <MOTIVATIE> | E15: <MOTIVATIE> | G15: <MOTIVATIE>
A16: =+Productdemonstratie!A10 -> 2. Beoordelingscriteria Zit-sta bureau - Item 3
A17: =Productdemonstratie!A11 -> 1. Stabiliteit op alle hoogtes | C17: SCORE | E17: SCORE | G17: SCORE
C18: <MOTIVATIE> | E18: <MOTIVATIE> | G18: <MOTIVATIE>
A19: =Productdemonstratie!A12 -> 2. Mate van geluid bij verstellen hoogte | C19: SCORE | E19: SCORE | G19: SCORE
C20: <MOTIVATIE> | E20: <MOTIVATIE> | G20: <MOTIVATIE>
A21: =Productdemonstratie!A13 -> 3. Constructie onderstel, afwerking | C21: SCORE | E21: SCORE | G21: SCORE
C22: <MOTIVATIE> | E22: <MOTIVATIE> | G22: <MOTIVATIE>
A23: =Productdemonstratie!A14 -> 4. Uitstraling/ vormgeving | C23: SCORE | E23: SCORE | G23: SCORE
C24: <MOTIVATIE> | E24: <MOTIVATIE> | G24: <MOTIVATIE>
A25: =Productdemonstratie!A15 -> 5. Gemak schoonmaken | C25: SCORE | E25: SCORE | G25: SCORE
C26: <MOTIVATIE> | E26: <MOTIVATIE> | G26: <MOTIVATIE>
A27: =Productdemonstratie!A16 -> 6. Kwaliteit/ gebruiksvriendelijkheid van elektrisch meganisme | C27: SCORE | E27: SCORE | G27: SCORE
C28: <MOTIVATIE> | E28: <MOTIVATIE> | G28: <MOTIVATIE>
A29: =Productdemonstratie!A17 -> 3. Beoordelingscriteria bureaustoel gestoffeerd - item 4
A30: =Productdemonstratie!A18 -> 1. Zitcomfort | C30: SCORE | E30: SCORE | G30: SCORE
C31: <MOTIVATIE> | E31: <MOTIVATIE> | G31: <MOTIVATIE>
A32: =Productdemonstratie!A19 -> 2. Mate van instelbaarheid armliggers | C32: SCORE | E32: SCORE | G32: SCORE
C33: <MOTIVATIE> | E33: <MOTIVATIE> | G33: <MOTIVATIE>
A34: =Productdemonstratie!A20 -> 3. Rugleuning en zitting | C34: SCORE | E34: SCORE | G34: SCORE
C35: <MOTIVATIE> | E35: <MOTIVATIE> | G35: <MOTIVATIE>
A36: =Productdemonstratie!A21 -> 4. Constructie inclusief bevestiging tussen frame en zitting | C36: SCORE | E36: SCORE | G36: SCORE
C37: <MOTIVATIE> | E37: <MOTIVATIE> | G37: <MOTIVATIE>
A38: =Productdemonstratie!A22 -> 5. Uitstraling/ vormgeving | C38: SCORE | E38: SCORE | G38: SCORE
C39: <MOTIVATIE> | E39: <MOTIVATIE> | G39: <MOTIVATIE>
A40: =Productdemonstratie!A23 -> 6. Gemak schoonmaken | C40: SCORE | E40: SCORE | G40: SCORE
C41: <MOTIVATIE> | E41: <MOTIVATIE> | G41: <MOTIVATIE>
A42: =Productdemonstratie!A24 -> 4. Beoordelingscriteria jaloeziekast - item 6
A43: =Productdemonstratie!A25 -> 1.Mate geluid sluiten deuren | C43: SCORE | E43: SCORE | G43: SCORE
C44: <MOTIVATIE> | E44: <MOTIVATIE> | G44: <MOTIVATIE>
A45: =Productdemonstratie!A26 -> 2. Mate van instelbaarheid legborden | C45: SCORE | E45: SCORE | G45: SCORE
C46: <MOTIVATIE> | E46: <MOTIVATIE> | G46: <MOTIVATIE>
A47: =Productdemonstratie!A27 -> 3. Kwaliteit slot | C47: SCORE | E47: SCORE | G47: SCORE
C48: <MOTIVATIE> | E48: <MOTIVATIE> | G48: <MOTIVATIE>
A49: =Productdemonstratie!A28 -> 4. Constructie / stabiliteit frame en deuren | C49: SCORE | E49: SCORE | G49: SCORE
C50: <MOTIVATIE> | E50: <MOTIVATIE> | G50: <MOTIVATIE>
A51: =Productdemonstratie!A29 -> 5. Uitstraling/ vormgeving | C51: SCORE | E51: SCORE | G51: SCORE
C52: <MOTIVATIE> | E52: <MOTIVATIE> | G52: <MOTIVATIE>
A53: =Productdemonstratie!A30 -> 6. Gemak schoonmaken | C53: SCORE | E53: SCORE | G53: SCORE
C54: <MOTIVATIE> | E54: <MOTIVATIE> | G54: <MOTIVATIE>
A55: =Productdemonstratie!A31 -> 5. Beoordelingscriteria - Studenten tafel - item 7
A56: =Productdemonstratie!A32 -> 1. Stabiliteit | C56: SCORE | E56: SCORE | G56: SCORE
C57: <MOTIVATIE> | E57: <MOTIVATIE> | G57: <MOTIVATIE>
A58: =Productdemonstratie!A33 -> 2. Constructie tussen frame en blad | C58: SCORE | E58: SCORE | G58: SCORE
C59: <MOTIVATIE> | E59: <MOTIVATIE> | G59: <MOTIVATIE>
A60: =Productdemonstratie!A34 -> 3. Uitstraling/ vormgeving | C60: SCORE | E60: SCORE | G60: SCORE
C61: <MOTIVATIE> | E61: <MOTIVATIE> | G61: <MOTIVATIE>
A62: =Productdemonstratie!A35 -> 4. Gemak schoonmaken | C62: SCORE | E62: SCORE | G62: SCORE
C63: <MOTIVATIE> | E63: <MOTIVATIE> | G63: <MOTIVATIE>
A64: =Productdemonstratie!A36 -> 5. Mate veiligheid (scherpe randen en hoeken) | C64: SCORE | E64: SCORE | G64: SCORE
C65: <MOTIVATIE> | E65: <MOTIVATIE> | G65: <MOTIVATIE>
A66: =Productdemonstratie!A37 -> 6. Beoordelingscriteria - Studenten stoel houten kuip, 4 poots aluminium – item 8
A67: =Productdemonstratie!A38 -> 1. Stabiliteit | C67: SCORE | E67: SCORE | G67: SCORE
C68: <MOTIVATIE> | E68: <MOTIVATIE> | G68: <MOTIVATIE>
A69: =Productdemonstratie!A39 -> 2. Constructie tussen frame en zitting | C69: SCORE | E69: SCORE | G69: SCORE
C70: <MOTIVATIE> | E70: <MOTIVATIE> | G70: <MOTIVATIE>
A71: =Productdemonstratie!A40 -> 3. Uitstraling/ vormgeving | C71: SCORE | E71: SCORE | G71: SCORE
C72: <MOTIVATIE> | E72: <MOTIVATIE> | G72: <MOTIVATIE>
A73: =Productdemonstratie!A41 -> 4. Gemak schoonmaken | C73: SCORE | E73: SCORE | G73: SCORE
C74: <MOTIVATIE> | E74: <MOTIVATIE> | G74: <MOTIVATIE>
A75: =Productdemonstratie!A42 -> 5. Mate veiligheid (scherpe randen en hoeken) | C75: SCORE | E75: SCORE | G75: SCORE
C76: <MOTIVATIE> | E76: <MOTIVATIE> | G76: <MOTIVATIE>
A77: =Productdemonstratie!A43 -> 6. Mate van stapelbaarheid | C77: SCORE | E77: SCORE | G77: SCORE
C78: <MOTIVATIE> | E78: <MOTIVATIE> | G78: <MOTIVATIE>
A79: =Productdemonstratie!A44 -> 7. Beoordelingscriteria vergadertafel - item 12
A80: =Productdemonstratie!A45 -> 1. Stabiliteit | C80: SCORE | E80: SCORE | G80: SCORE
C81: <MOTIVATIE> | E81: <MOTIVATIE> | G81: <MOTIVATIE>
A82: =Productdemonstratie!A46 -> 2. Constructie tussen frame en blad | C82: SCORE | E82: SCORE | G82: SCORE
C83: <MOTIVATIE> | E83: <MOTIVATIE> | G83: <MOTIVATIE>
A84: =Productdemonstratie!A47 -> 3. Uitstraling/ vormgeving | C84: SCORE | E84: SCORE | G84: SCORE
C85: <MOTIVATIE> | E85: <MOTIVATIE> | G85: <MOTIVATIE>
A86: =Productdemonstratie!A48 -> 4. Gemak schoonmaken | C86: SCORE | E86: SCORE | G86: SCORE
C87: <MOTIVATIE> | E87: <MOTIVATIE> | G87: <MOTIVATIE>
A88: =Productdemonstratie!A49 -> 5. Dikte blad | C88: SCORE | E88: SCORE | G88: SCORE
C89: <MOTIVATIE> | E89: <MOTIVATIE> | G89: <MOTIVATIE>
A90: =Productdemonstratie!A50 -> 6. Mate veiligheid (scherpe randen en hoeken) | C90: SCORE | E90: SCORE | G90: SCORE
C91: <MOTIVATIE> | E91: <MOTIVATIE> | G91: <MOTIVATIE>
A92: =Productdemonstratie!A51 -> 8. Beoordelingscriteria vergaderstoel stoffen zitting, aluminium(slede)frame - item 15
A93: =Productdemonstratie!A52 -> 1. Zitcomfort | C93: SCORE | E93: SCORE | G93: SCORE
C94: <MOTIVATIE> | E94: <MOTIVATIE> | G94: <MOTIVATIE>
A95: =Productdemonstratie!A53 -> 2. Mate van comfort armliggers | C95: SCORE | E95: SCORE | G95: SCORE
C96: <MOTIVATIE> | E96: <MOTIVATIE> | G96: <MOTIVATIE>
A97: =Productdemonstratie!A54 -> 3. Rugleuning en zitting | C97: SCORE | E97: SCORE | G97: SCORE
C98: <MOTIVATIE> | E98: <MOTIVATIE> | G98: <MOTIVATIE>
A99: =Productdemonstratie!A55 -> 4. Constructie inclusief bevestiging tussen frame en zitting | C99: SCORE | E99: SCORE | G99: SCORE
C100: <MOTIVATIE> | E100: <MOTIVATIE> | G100: <MOTIVATIE>
...

Sheet Beoordelaar 2
A1: Beoordelaar 2: | C1: ='Beoordelaar 1'!C1 -> Inschrijver 1 | E1: ='Beoordelaar 1'!E1 -> Inschrijver 2 | G1: ='Beoordelaar 1'!G1 -> Inschrijver 3
A2: =Productdemonstratie!A1:A1 -> 7.3 Productdemonstratie | C2: Score: | E2: Score: | G2: Score:
A3: =Productdemonstratie!A3 -> 1. Beoordelingscriteria Zit-sta bureau - Item 1
A4: =Productdemonstratie!A4:A4 -> 1. Stabiliteit op alle hoogtes | C4: SCORE | E4: SCORE | G4: SCORE
C5: <MOTIVATIE> | E5: <MOTIVATIE> | G5: <MOTIVATIE>
A6: =Productdemonstratie!A5:A5 -> 2. Mate van geluid bij verstellen hoogte | C6: SCORE | E6: SCORE | G6: SCORE
C7: <MOTIVATIE> | E7: <MOTIVATIE> | G7: <MOTIVATIE>
A8: =Productdemonstratie!A6:A6 -> 3. Constructie onderstel, afwerking | C8: SCORE | E8: SCORE | G8: SCORE
C9: <MOTIVATIE> | E9: <MOTIVATIE> | G9: <MOTIVATIE>
A10: =Productdemonstratie!A7:A7 -> 4. Uitstraling/ vormgeving | C10: SCORE | E10: SCORE | G10: SCORE
C11: <MOTIVATIE> | E11: <MOTIVATIE> | G11: <MOTIVATIE>
A12: =Productdemonstratie!A8:A8 -> 5. Gemak schoonmaken | C12: SCORE | E12: SCORE | G12: SCORE
C13: <MOTIVATIE> | E13: <MOTIVATIE> | G13: <MOTIVATIE>
A14: =Productdemonstratie!A9 -> 6. Kwaliteit/ gebruiksvriendelijkheid van de slinger | C14: SCORE | E14: SCORE | G14: SCORE
C15: <MOTIVATIE> | E15: <MOTIVATIE> | G15: <MOTIVATIE>
A16: =+Productdemonstratie!A10 -> 2. Beoordelingscriteria Zit-sta bureau - Item 3
A17: =Productdemonstratie!A11 -> 1. Stabiliteit op alle hoogtes | C17: SCORE | E17: SCORE | G17: SCORE
C18: <MOTIVATIE> | E18: <MOTIVATIE> | G18: <MOTIVATIE>
A19: =Productdemonstratie!A12 -> 2. Mate van geluid bij verstellen hoogte | C19: SCORE | E19: SCORE | G19: SCORE
C20: <MOTIVATIE> | E20: <MOTIVATIE> | G20: <MOTIVATIE>
A21: =Productdemonstratie!A13 -> 3. Constructie onderstel, afwerking | C21: SCORE | E21: SCORE | G21: SCORE
C22: <MOTIVATIE> | E22: <MOTIVATIE> | G22: <MOTIVATIE>
A23: =Productdemonstratie!A14 -> 4. Uitstraling/ vormgeving | C23: SCORE | E23: SCORE | G23: SCORE
C24: <MOTIVATIE> | E24: <MOTIVATIE> | G24: <MOTIVATIE>
A25: =Productdemonstratie!A15 -> 5. Gemak schoonmaken | C25: SCORE | E25: SCORE | G25: SCORE
C26: <MOTIVATIE> | E26: <MOTIVATIE> | G26: <MOTIVATIE>
A27: =Productdemonstratie!A16 -> 6. Kwaliteit/ gebruiksvriendelijkheid van elektrisch meganisme | C27: SCORE | E27: SCORE | G27: SCORE
C28: <MOTIVATIE> | E28: <MOTIVATIE> | G28: <MOTIVATIE>
A29: =Productdemonstratie!A17 -> 3. Beoordelingscriteria bureaustoel gestoffeerd - item 4
A30: =Productdemonstratie!A18 -> 1. Zitcomfort | C30: SCORE | E30: SCORE | G30: SCORE
C31: <MOTIVATIE> | E31: <MOTIVATIE> | G31: <MOTIVATIE>
A32: =Productdemonstratie!A19 -> 2. Mate van instelbaarheid armliggers | C32: SCORE | E32: SCORE | G32: SCORE
C33: <MOTIVATIE> | E33: <MOTIVATIE> | G33: <MOTIVATIE>
A34: =Productdemonstratie!A20 -> 3. Rugleuning en zitting | C34: SCORE | E34: SCORE | G34: SCORE
C35: <MOTIVATIE> | E35: <MOTIVATIE> | G35: <MOTIVATIE>
A36: =Productdemonstratie!A21 -> 4. Constructie inclusief bevestiging tussen frame en zitting | C36: SCORE | E36: SCORE | G36: SCORE
C37: <MOTIVATIE> | E37: <MOTIVATIE> | G37: <MOTIVATIE>
A38: =Productdemonstratie!A22 -> 5. Uitstraling/ vormgeving | C38: SCORE | E38: SCORE | G38: SCORE
C39: <MOTIVATIE> | E39: <MOTIVATIE> | G39: <MOTIVATIE>
A40: =Productdemonstratie!A23 -> 6. Gemak schoonmaken | C40: SCORE | E40: SCORE | G40: SCORE
C41: <MOTIVATIE> | E41: <MOTIVATIE> | G41: <MOTIVATIE>
A42: =Productdemonstratie!A24 -> 4. Beoordelingscriteria jaloeziekast - item 6
A43: =Productdemonstratie!A25 -> 1.Mate geluid sluiten deuren | C43: SCORE | E43: SCORE | G43: SCORE
C44: <MOTIVATIE> | E44: <MOTIVATIE> | G44: <MOTIVATIE>
A45: =Productdemonstratie!A26 -> 2. Mate van instelbaarheid legborden | C45: SCORE | E45: SCORE | G45: SCORE
C46: <MOTIVATIE> | E46: <MOTIVATIE> | G46: <MOTIVATIE>
A47: =Productdemonstratie!A27 -> 3. Kwaliteit slot | C47: SCORE | E47: SCORE | G47: SCORE
C48: <MOTIVATIE> | E48: <MOTIVATIE> | G48: <MOTIVATIE>
A49: =Productdemonstratie!A28 -> 4. Constructie / stabiliteit frame en deuren | C49: SCORE | E49: SCORE | G49: SCORE
C50: <MOTIVATIE> | E50: <MOTIVATIE> | G50: <MOTIVATIE>
A51: =Productdemonstratie!A29 -> 5. Uitstraling/ vormgeving | C51: SCORE | E51: SCORE | G51: SCORE
C52: <MOTIVATIE> | E52: <MOTIVATIE> | G52: <MOTIVATIE>
A53: =Productdemonstratie!A30 -> 6. Gemak schoonmaken | C53: SCORE | E53: SCORE | G53: SCORE
C54: <MOTIVATIE> | E54: <MOTIVATIE> | G54: <MOTIVATIE>
A55: =Productdemonstratie!A31 -> 5. Beoordelingscriteria - Studenten tafel - item 7
A56: =Productdemonstratie!A32 -> 1. Stabiliteit | C56: SCORE | E56: SCORE | G56: SCORE
C57: <MOTIVATIE> | E57: <MOTIVATIE> | G57: <MOTIVATIE>
A58: =Productdemonstratie!A33 -> 2. Constructie tussen frame en blad | C58: SCORE | E58: SCORE | G58: SCORE
C59: <MOTIVATIE> | E59: <MOTIVATIE> | G59: <MOTIVATIE>
A60: =Productdemonstratie!A34 -> 3. Uitstraling/ vormgeving | C60: SCORE | E60: SCORE | G60: SCORE
C61: <MOTIVATIE> | E61: <MOTIVATIE> | G61: <MOTIVATIE>
A62: =Productdemonstratie!A35 -> 4. Gemak schoonmaken | C62: SCORE | E62: SCORE | G62: SCORE
C63: <MOTIVATIE> | E63: <MOTIVATIE> | G63: <MOTIVATIE>
A64: =Productdemonstratie!A36 -> 5. Mate veiligheid (scherpe randen en hoeken) | C64: SCORE | E64: SCORE | G64: SCORE
C65: <MOTIVATIE> | E65: <MOTIVATIE> | G65: <MOTIVATIE>
A66: =Productdemonstratie!A37 -> 6. Beoordelingscriteria - Studenten stoel houten kuip, 4 poots aluminium – item 8
A67: =Productdemonstratie!A38 -> 1. Stabiliteit | C67: SCORE | E67: SCORE | G67: SCORE
C68: <MOTIVATIE> | E68: <MOTIVATIE> | G68: <MOTIVATIE>
A69: =Productdemonstratie!A39 -> 2. Constructie tussen frame en zitting | C69: SCORE | E69: SCORE | G69: SCORE
C70: <MOTIVATIE> | E70: <MOTIVATIE> | G70: <MOTIVATIE>
A71: =Productdemonstratie!A40 -> 3. Uitstraling/ vormgeving | C71: SCORE | E71: SCORE | G71: SCORE
C72: <MOTIVATIE> | E72: <MOTIVATIE> | G72: <MOTIVATIE>
A73: =Productdemonstratie!A41 -> 4. Gemak schoonmaken | C73: SCORE | E73: SCORE | G73: SCORE
C74: <MOTIVATIE> | E74: <MOTIVATIE> | G74: <MOTIVATIE>
A75: =Productdemonstratie!A42 -> 5. Mate veiligheid (scherpe randen en hoeken) | C75: SCORE | E75: SCORE | G75: SCORE
C76: <MOTIVATIE> | E76: <MOTIVATIE> | G76: <MOTIVATIE>
A77: =Productdemonstratie!A43 -> 6. Mate van stapelbaarheid | C77: SCORE | E77: SCORE | G77: SCORE
C78: <MOTIVATIE> | E78: <MOTIVATIE> | G78: <MOTIVATIE>
A79: =Productdemonstratie!A44 -> 7. Beoordelingscriteria vergadertafel - item 12
A80: =Productdemonstratie!A45 -> 1. Stabiliteit | C80: SCORE | E80: SCORE | G80: SCORE
C81: <MOTIVATIE> | E81: <MOTIVATIE> | G81: <MOTIVATIE>
A82: =Productdemonstratie!A46 -> 2. Constructie tussen frame en blad | C82: SCORE | E82: SCORE | G82: SCORE
C83: <MOTIVATIE> | E83: <MOTIVATIE> | G83: <MOTIVATIE>
A84: =Productdemonstratie!A47 -> 3. Uitstraling/ vormgeving | C84: SCORE | E84: SCORE | G84: SCORE
C85: <MOTIVATIE> | E85: <MOTIVATIE> | G85: <MOTIVATIE>
A86: =Productdemonstratie!A48 -> 4. Gemak schoonmaken | C86: SCORE | E86: SCORE | G86: SCORE
C87: <MOTIVATIE> | E87: <MOTIVATIE> | G87: <MOTIVATIE>
A88: =Productdemonstratie!A49 -> 5. Dikte blad | C88: SCORE | E88: SCORE | G88: SCORE
C89: <MOTIVATIE> | E89: <MOTIVATIE> | G89: <MOTIVATIE>
A90: =Productdemonstratie!A50 -> 6. Mate veiligheid (scherpe randen en hoeken) | C90: SCORE | E90: SCORE | G90: SCORE
C91: <MOTIVATIE> | E91: <MOTIVATIE> | G91: <MOTIVATIE>
A92: =Productdemonstratie!A51 -> 8. Beoordelingscriteria vergaderstoel stoffen zitting, aluminium(slede)frame - item 15
A93: =Productdemonstratie!A52 -> 1. Zitcomfort | C93: SCORE | E93: SCORE | G93: SCORE
C94: <MOTIVATIE> | E94: <MOTIVATIE> | G94: <MOTIVATIE>
A95: =Productdemonstratie!A53 -> 2. Mate van comfort armliggers | C95: SCORE | E95: SCORE | G95: SCORE
C96: <MOTIVATIE> | E96: <MOTIVATIE> | G96: <MOTIVATIE>
A97: =Productdemonstratie!A54 -> 3. Rugleuning en zitting | C97: SCORE | E97: SCORE | G97: SCORE
C98: <MOTIVATIE> | E98: <MOTIVATIE> | G98: <MOTIVATIE>
A99: =Productdemonstratie!A55 -> 4. Constructie inclusief bevestiging tussen frame en zitting | C99: SCORE | E99: SCORE | G99: SCORE
C100: <MOTIVATIE> | E100: <MOTIVATIE> | G100: <MOTIVATIE>
...

Sheet Beoordelaar 3
A1: Beoordelaar 3: | C1: ='Beoordelaar 1'!C1 -> Inschrijver 1 | E1: ='Beoordelaar 1'!E1 -> Inschrijver 2 | G1: ='Beoordelaar 1'!G1 -> Inschrijver 3
A2: =Productdemonstratie!A1:A1 -> 7.3 Productdemonstratie | C2: Score: | E2: Score: | G2: Score:
A3: =Productdemonstratie!A3 -> 1. Beoordelingscriteria Zit-sta bureau - Item 1
A4: =Productdemonstratie!A4:A4 -> 1. Stabiliteit op alle hoogtes | C4: SCORE | E4: SCORE | G4: SCORE
C5: <MOTIVATIE> | E5: <MOTIVATIE> | G5: <MOTIVATIE>
A6: =Productdemonstratie!A5:A5 -> 2. Mate van geluid bij verstellen hoogte | C6: SCORE | E6: SCORE | G6: SCORE
C7: <MOTIVATIE> | E7: <MOTIVATIE> | G7: <MOTIVATIE>
A8: =Productdemonstratie!A6:A6 -> 3. Constructie onderstel, afwerking | C8: SCORE | E8: SCORE | G8: SCORE
C9: <MOTIVATIE> | E9: <MOTIVATIE> | G9: <MOTIVATIE>
A10: =Productdemonstratie!A7:A7 -> 4. Uitstraling/ vormgeving | C10: SCORE | E10: SCORE | G10: SCORE
C11: <MOTIVATIE> | E11: <MOTIVATIE> | G11: <MOTIVATIE>
A12: =Productdemonstratie!A8:A8 -> 5. Gemak schoonmaken | C12: SCORE | E12: SCORE | G12: SCORE
C13: <MOTIVATIE> | E13: <MOTIVATIE> | G13: <MOTIVATIE>
A14: =Productdemonstratie!A9 -> 6. Kwaliteit/ gebruiksvriendelijkheid van de slinger | C14: SCORE | E14: SCORE | G14: SCORE
C15: <MOTIVATIE> | E15: <MOTIVATIE> | G15: <MOTIVATIE>
A16: =+Productdemonstratie!A10 -> 2. Beoordelingscriteria Zit-sta bureau - Item 3
A17: =Productdemonstratie!A11 -> 1. Stabiliteit op alle hoogtes | C17: SCORE | E17: SCORE | G17: SCORE
C18: <MOTIVATIE> | E18: <MOTIVATIE> | G18: <MOTIVATIE>
A19: =Productdemonstratie!A12 -> 2. Mate van geluid bij verstellen hoogte | C19: SCORE | E19: SCORE | G19: SCORE
C20: <MOTIVATIE> | E20: <MOTIVATIE> | G20: <MOTIVATIE>
A21: =Productdemonstratie!A13 -> 3. Constructie onderstel, afwerking | C21: SCORE | E21: SCORE | G21: SCORE
C22: <MOTIVATIE> | E22: <MOTIVATIE> | G22: <MOTIVATIE>
A23: =Productdemonstratie!A14 -> 4. Uitstraling/ vormgeving | C23: SCORE | E23: SCORE | G23: SCORE
C24: <MOTIVATIE> | E24: <MOTIVATIE> | G24: <MOTIVATIE>
A25: =Productdemonstratie!A15 -> 5. Gemak schoonmaken | C25: SCORE | E25: SCORE | G25: SCORE
C26: <MOTIVATIE> | E26: <MOTIVATIE> | G26: <MOTIVATIE>
A27: =Productdemonstratie!A16 -> 6. Kwaliteit/ gebruiksvriendelijkheid van elektrisch meganisme | C27: SCORE | E27: SCORE | G27: SCORE
C28: <MOTIVATIE> | E28: <MOTIVATIE> | G28: <MOTIVATIE>
A29: =Productdemonstratie!A17 -> 3. Beoordelingscriteria bureaustoel gestoffeerd - item 4
A30: =Productdemonstratie!A18 -> 1. Zitcomfort | C30: SCORE | E30: SCORE | G30: SCORE
C31: <MOTIVATIE> | E31: <MOTIVATIE> | G31: <MOTIVATIE>
A32: =Productdemonstratie!A19 -> 2. Mate van instelbaarheid armliggers | C32: SCORE | E32: SCORE | G32: SCORE
C33: <MOTIVATIE> | E33: <MOTIVATIE> | G33: <MOTIVATIE>
A34: =Productdemonstratie!A20 -> 3. Rugleuning en zitting | C34: SCORE | E34: SCORE | G34: SCORE
C35: <MOTIVATIE> | E35: <MOTIVATIE> | G35: <MOTIVATIE>
A36: =Productdemonstratie!A21 -> 4. Constructie inclusief bevestiging tussen frame en zitting | C36: SCORE | E36: SCORE | G36: SCORE
C37: <MOTIVATIE> | E37: <MOTIVATIE> | G37: <MOTIVATIE>
A38: =Productdemonstratie!A22 -> 5. Uitstraling/ vormgeving | C38: SCORE | E38: SCORE | G38: SCORE
C39: <MOTIVATIE> | E39: <MOTIVATIE> | G39: <MOTIVATIE>
A40: =Productdemonstratie!A23 -> 6. Gemak schoonmaken | C40: SCORE | E40: SCORE | G40: SCORE
C41: <MOTIVATIE> | E41: <MOTIVATIE> | G41: <MOTIVATIE>
A42: =Productdemonstratie!A24 -> 4. Beoordelingscriteria jaloeziekast - item 6
A43: =Productdemonstratie!A25 -> 1.Mate geluid sluiten deuren | C43: SCORE | E43: SCORE | G43: SCORE
C44: <MOTIVATIE> | E44: <MOTIVATIE> | G44: <MOTIVATIE>
A45: =Productdemonstratie!A26 -> 2. Mate van instelbaarheid legborden | C45: SCORE | E45: SCORE | G45: SCORE
C46: <MOTIVATIE> | E46: <MOTIVATIE> | G46: <MOTIVATIE>
A47: =Productdemonstratie!A27 -> 3. Kwaliteit slot | C47: SCORE | E47: SCORE | G47: SCORE
C48: <MOTIVATIE> | E48: <MOTIVATIE> | G48: <MOTIVATIE>
A49: =Productdemonstratie!A28 -> 4. Constructie / stabiliteit frame en deuren | C49: SCORE | E49: SCORE | G49: SCORE
C50: <MOTIVATIE> | E50: <MOTIVATIE> | G50: <MOTIVATIE>
A51: =Productdemonstratie!A29 -> 5. Uitstraling/ vormgeving | C51: SCORE | E51: SCORE | G51: SCORE
C52: <MOTIVATIE> | E52: <MOTIVATIE> | G52: <MOTIVATIE>
A53: =Productdemonstratie!A30 -> 6. Gemak schoonmaken | C53: SCORE | E53: SCORE | G53: SCORE
C54: <MOTIVATIE> | E54: <MOTIVATIE> | G54: <MOTIVATIE>
A55: =Productdemonstratie!A31 -> 5. Beoordelingscriteria - Studenten tafel - item 7
A56: =Productdemonstratie!A32 -> 1. Stabiliteit | C56: SCORE | E56: SCORE | G56: SCORE
C57: <MOTIVATIE> | E57: <MOTIVATIE> | G57: <MOTIVATIE>
A58: =Productdemonstratie!A33 -> 2. Constructie tussen frame en blad | C58: SCORE | E58: SCORE | G58: SCORE
C59: <MOTIVATIE> | E59: <MOTIVATIE> | G59: <MOTIVATIE>
A60: =Productdemonstratie!A34 -> 3. Uitstraling/ vormgeving | C60: SCORE | E60: SCORE | G60: SCORE
C61: <MOTIVATIE> | E61: <MOTIVATIE> | G61: <MOTIVATIE>
A62: =Productdemonstratie!A35 -> 4. Gemak schoonmaken | C62: SCORE | E62: SCORE | G62: SCORE
C63: <MOTIVATIE> | E63: <MOTIVATIE> | G63: <MOTIVATIE>
A64: =Productdemonstratie!A36 -> 5. Mate veiligheid (scherpe randen en hoeken) | C64: SCORE | E64: SCORE | G64: SCORE
C65: <MOTIVATIE> | E65: <MOTIVATIE> | G65: <MOTIVATIE>
A66: =Productdemonstratie!A37 -> 6. Beoordelingscriteria - Studenten stoel houten kuip, 4 poots aluminium – item 8
A67: =Productdemonstratie!A38 -> 1. Stabiliteit | C67: SCORE | E67: SCORE | G67: SCORE
C68: <MOTIVATIE> | E68: <MOTIVATIE> | G68: <MOTIVATIE>
A69: =Productdemonstratie!A39 -> 2. Constructie tussen frame en zitting | C69: SCORE | E69: SCORE | G69: SCORE
C70: <MOTIVATIE> | E70: <MOTIVATIE> | G70: <MOTIVATIE>
A71: =Productdemonstratie!A40 -> 3. Uitstraling/ vormgeving | C71: SCORE | E71: SCORE | G71: SCORE
C72: <MOTIVATIE> | E72: <MOTIVATIE> | G72: <MOTIVATIE>
A73: =Productdemonstratie!A41 -> 4. Gemak schoonmaken | C73: SCORE | E73: SCORE | G73: SCORE
C74: <MOTIVATIE> | E74: <MOTIVATIE> | G74: <MOTIVATIE>
A75: =Productdemonstratie!A42 -> 5. Mate veiligheid (scherpe randen en hoeken) | C75: SCORE | E75: SCORE | G75: SCORE
C76: <MOTIVATIE> | E76: <MOTIVATIE> | G76: <MOTIVATIE>
A77: =Productdemonstratie!A43 -> 6. Mate van stapelbaarheid | C77: SCORE | E77: SCORE | G77: SCORE
C78: <MOTIVATIE> | E78: <MOTIVATIE> | G78: <MOTIVATIE>
A79: =Productdemonstratie!A44 -> 7. Beoordelingscriteria vergadertafel - item 12
A80: =Productdemonstratie!A45 -> 1. Stabiliteit | C80: SCORE | E80: SCORE | G80: SCORE
C81: <MOTIVATIE> | E81: <MOTIVATIE> | G81: <MOTIVATIE>
A82: =Productdemonstratie!A46 -> 2. Constructie tussen frame en blad | C82: SCORE | E82: SCORE | G82: SCORE
C83: <MOTIVATIE> | E83: <MOTIVATIE> | G83: <MOTIVATIE>
A84: =Productdemonstratie!A47 -> 3. Uitstraling/ vormgeving | C84: SCORE | E84: SCORE | G84: SCORE
C85: <MOTIVATIE> | E85: <MOTIVATIE> | G85: <MOTIVATIE>
A86: =Productdemonstratie!A48 -> 4. Gemak schoonmaken | C86: SCORE | E86: SCORE | G86: SCORE
C87: <MOTIVATIE> | E87: <MOTIVATIE> | G87: <MOTIVATIE>
A88: =Productdemonstratie!A49 -> 5. Dikte blad | C88: SCORE | E88: SCORE | G88: SCORE
C89: <MOTIVATIE> | E89: <MOTIVATIE> | G89: <MOTIVATIE>
A90: =Productdemonstratie!A50 -> 6. Mate veiligheid (scherpe randen en hoeken) | C90: SCORE | E90: SCORE | G90: SCORE
C91: <MOTIVATIE> | E91: <MOTIVATIE> | G91: <MOTIVATIE>
A92: =Productdemonstratie!A51 -> 8. Beoordelingscriteria vergaderstoel stoffen zitting, aluminium(slede)frame - item 15
A93: =Productdemonstratie!A52 -> 1. Zitcomfort | C93: SCORE | E93: SCORE | G93: SCORE
C94: <MOTIVATIE> | E94: <MOTIVATIE> | G94: <MOTIVATIE>
A95: =Productdemonstratie!A53 -> 2. Mate van comfort armliggers | C95: SCORE | E95: SCORE | G95: SCORE
C96: <MOTIVATIE> | E96: <MOTIVATIE> | G96: <MOTIVATIE>
A97: =Productdemonstratie!A54 -> 3. Rugleuning en zitting | C97: SCORE | E97: SCORE | G97: SCORE
C98: <MOTIVATIE> | E98: <MOTIVATIE> | G98: <MOTIVATIE>
A99: =Productdemonstratie!A55 -> 4. Constructie inclusief bevestiging tussen frame en zitting | C99: SCORE | E99: SCORE | G99: SCORE
C100: <MOTIVATIE> | E100: <MOTIVATIE> | G100: <MOTIVATIE>
...

Sheet Beoordelaar 4
A1: Beoordelaar 4: | C1: ='Beoordelaar 1'!C1 -> Inschrijver 1 | E1: ='Beoordelaar 1'!E1 -> Inschrijver 2 | G1: ='Beoordelaar 1'!G1 -> Inschrijver 3
A2: =Productdemonstratie!A1:A1 -> 7.3 Productdemonstratie | C2: Score: | E2: Score: | G2: Score:
A3: =Productdemonstratie!A3 -> 1. Beoordelingscriteria Zit-sta bureau - Item 1
A4: =Productdemonstratie!A4:A4 -> 1. Stabiliteit op alle hoogtes | C4: SCORE | E4: SCORE | G4: SCORE
C5: <MOTIVATIE> | E5: <MOTIVATIE> | G5: <MOTIVATIE>
A6: =Productdemonstratie!A5:A5 -> 2. Mate van geluid bij verstellen hoogte | C6: SCORE | E6: SCORE | G6: SCORE
C7: <MOTIVATIE> | E7: <MOTIVATIE> | G7: <MOTIVATIE>
A8: =Productdemonstratie!A6:A6 -> 3. Constructie onderstel, afwerking | C8: SCORE | E8: SCORE | G8: SCORE
C9: <MOTIVATIE> | E9: <MOTIVATIE> | G9: <MOTIVATIE>
A10: =Productdemonstratie!A7:A7 -> 4. Uitstraling/ vormgeving | C10: SCORE | E10: SCORE | G10: SCORE
C11: <MOTIVATIE> | E11: <MOTIVATIE> | G11: <MOTIVATIE>
A12: =Productdemonstratie!A8:A8 -> 5. Gemak schoonmaken | C12: SCORE | E12: SCORE | G12: SCORE
C13: <MOTIVATIE> | E13: <MOTIVATIE> | G13: <MOTIVATIE>
A14: =Productdemonstratie!A9 -> 6. Kwaliteit/ gebruiksvriendelijkheid van de slinger | C14: SCORE | E14: SCORE | G14: SCORE
C15: <MOTIVATIE> | E15: <MOTIVATIE> | G15: <MOTIVATIE>
A16: =+Productdemonstratie!A10 -> 2. Beoordelingscriteria Zit-sta bureau - Item 3
A17: =Productdemonstratie!A11 -> 1. Stabiliteit op alle hoogtes | C17: SCORE | E17: SCORE | G17: SCORE
C18: <MOTIVATIE> | E18: <MOTIVATIE> | G18: <MOTIVATIE>
A19: =Productdemonstratie!A12 -> 2. Mate van geluid bij verstellen hoogte | C19: SCORE | E19: SCORE | G19: SCORE
C20: <MOTIVATIE> | E20: <MOTIVATIE> | G20: <MOTIVATIE>
A21: =Productdemonstratie!A13 -> 3. Constructie onderstel, afwerking | C21: SCORE | E21: SCORE | G21: SCORE
C22: <MOTIVATIE> | E22: <MOTIVATIE> | G22: <MOTIVATIE>
A23: =Productdemonstratie!A14 -> 4. Uitstraling/ vormgeving | C23: SCORE | E23: SCORE | G23: SCORE
C24: <MOTIVATIE> | E24: <MOTIVATIE> | G24: <MOTIVATIE>
A25: =Productdemonstratie!A15 -> 5. Gemak schoonmaken | C25: SCORE | E25: SCORE | G25: SCORE
C26: <MOTIVATIE> | E26: <MOTIVATIE> | G26: <MOTIVATIE>
A27: =Productdemonstratie!A16 -> 6. Kwaliteit/ gebruiksvriendelijkheid van elektrisch meganisme | C27: SCORE | E27: SCORE | G27: SCORE
C28: <MOTIVATIE> | E28: <MOTIVATIE> | G28: <MOTIVATIE>
A29: =Productdemonstratie!A17 -> 3. Beoordelingscriteria bureaustoel gestoffeerd - item 4
A30: =Productdemonstratie!A18 -> 1. Zitcomfort | C30: SCORE | E30: SCORE | G30: SCORE
C31: <MOTIVATIE> | E31: <MOTIVATIE> | G31: <MOTIVATIE>
A32: =Productdemonstratie!A19 -> 2. Mate van instelbaarheid armliggers | C32: SCORE | E32: SCORE | G32: SCORE
C33: <MOTIVATIE> | E33: <MOTIVATIE> | G33: <MOTIVATIE>
A34: =Productdemonstratie!A20 -> 3. Rugleuning en zitting | C34: SCORE | E34: SCORE | G34: SCORE
C35: <MOTIVATIE> | E35: <MOTIVATIE> | G35: <MOTIVATIE>
A36: =Productdemonstratie!A21 -> 4. Constructie inclusief bevestiging tussen frame en zitting | C36: SCORE | E36: SCORE | G36: SCORE
C37: <MOTIVATIE> | E37: <MOTIVATIE> | G37: <MOTIVATIE>
A38: =Productdemonstratie!A22 -> 5. Uitstraling/ vormgeving | C38: SCORE | E38: SCORE | G38: SCORE
C39: <MOTIVATIE> | E39: <MOTIVATIE> | G39: <MOTIVATIE>
A40: =Productdemonstratie!A23 -> 6. Gemak schoonmaken | C40: SCORE | E40: SCORE | G40: SCORE
C41: <MOTIVATIE> | E41: <MOTIVATIE> | G41: <MOTIVATIE>
A42: =Productdemonstratie!A24 -> 4. Beoordelingscriteria jaloeziekast - item 6
A43: =Productdemonstratie!A25 -> 1.Mate geluid sluiten deuren | C43: SCORE | E43: SCORE | G43: SCORE
C44: <MOTIVATIE> | E44: <MOTIVATIE> | G44: <MOTIVATIE>
A45: =Productdemonstratie!A26 -> 2. Mate van instelbaarheid legborden | C45: SCORE | E45: SCORE | G45: SCORE
C46: <MOTIVATIE> | E46: <MOTIVATIE> | G46: <MOTIVATIE>
A47: =Productdemonstratie!A27 -> 3. Kwaliteit slot | C47: SCORE | E47: SCORE | G47: SCORE
C48: <MOTIVATIE> | E48: <MOTIVATIE> | G48: <MOTIVATIE>
A49: =Productdemonstratie!A28 -> 4. Constructie / stabiliteit frame en deuren | C49: SCORE | E49: SCORE | G49: SCORE
C50: <MOTIVATIE> | E50: <MOTIVATIE> | G50: <MOTIVATIE>
A51: =Productdemonstratie!A29 -> 5. Uitstraling/ vormgeving | C51: SCORE | E51: SCORE | G51: SCORE
C52: <MOTIVATIE> | E52: <MOTIVATIE> | G52: <MOTIVATIE>
A53: =Productdemonstratie!A30 -> 6. Gemak schoonmaken | C53: SCORE | E53: SCORE | G53: SCORE
C54: <MOTIVATIE> | E54: <MOTIVATIE> | G54: <MOTIVATIE>
A55: =Productdemonstratie!A31 -> 5. Beoordelingscriteria - Studenten tafel - item 7
A56: =Productdemonstratie!A32 -> 1. Stabiliteit | C56: SCORE | E56: SCORE | G56: SCORE
C57: <MOTIVATIE> | E57: <MOTIVATIE> | G57: <MOTIVATIE>
A58: =Productdemonstratie!A33 -> 2. Constructie tussen frame en blad | C58: SCORE | E58: SCORE | G58: SCORE
C59: <MOTIVATIE> | E59: <MOTIVATIE> | G59: <MOTIVATIE>
A60: =Productdemonstratie!A34 -> 3. Uitstraling/ vormgeving | C60: SCORE | E60: SCORE | G60: SCORE
C61: <MOTIVATIE> | E61: <MOTIVATIE> | G61: <MOTIVATIE>
A62: =Productdemonstratie!A35 -> 4. Gemak schoonmaken | C62: SCORE | E62: SCORE | G62: SCORE
C63: <MOTIVATIE> | E63: <MOTIVATIE> | G63: <MOTIVATIE>
A64: =Productdemonstratie!A36 -> 5. Mate veiligheid (scherpe randen en hoeken) | C64: SCORE | E64: SCORE | G64: SCORE
C65: <MOTIVATIE> | E65: <MOTIVATIE> | G65: <MOTIVATIE>
A66: =Productdemonstratie!A37 -> 6. Beoordelingscriteria - Studenten stoel houten kuip, 4 poots aluminium – item 8
A67: =Productdemonstratie!A38 -> 1. Stabiliteit | C67: SCORE | E67: SCORE | G67: SCORE
C68: <MOTIVATIE> | E68: <MOTIVATIE> | G68: <MOTIVATIE>
A69: =Productdemonstratie!A39 -> 2. Constructie tussen frame en zitting | C69: SCORE | E69: SCORE | G69: SCORE
C70: <MOTIVATIE> | E70: <MOTIVATIE> | G70: <MOTIVATIE>
A71: =Productdemonstratie!A40 -> 3. Uitstraling/ vormgeving | C71: SCORE | E71: SCORE | G71: SCORE
C72: <MOTIVATIE> | E72: <MOTIVATIE> | G72: <MOTIVATIE>
A73: =Productdemonstratie!A41 -> 4. Gemak schoonmaken | C73: SCORE | E73: SCORE | G73: SCORE
C74: <MOTIVATIE> | E74: <MOTIVATIE> | G74: <MOTIVATIE>
A75: =Productdemonstratie!A42 -> 5. Mate veiligheid (scherpe randen en hoeken) | C75: SCORE | E75: SCORE | G75: SCORE
C76: <MOTIVATIE> | E76: <MOTIVATIE> | G76: <MOTIVATIE>
A77: =Productdemonstratie!A43 -> 6. Mate van stapelbaarheid | C77: SCORE | E77: SCORE | G77: SCORE
C78: <MOTIVATIE> | E78: <MOTIVATIE> | G78: <MOTIVATIE>
A79: v
A80: =Productdemonstratie!A45 -> 1. Stabiliteit | C80: SCORE | E80: SCORE | G80: SCORE
C81: <MOTIVATIE> | E81: <MOTIVATIE> | G81: <MOTIVATIE>
A82: =Productdemonstratie!A46 -> 2. Constructie tussen frame en blad | C82: SCORE | E82: SCORE | G82: SCORE
C83: <MOTIVATIE> | E83: <MOTIVATIE> | G83: <MOTIVATIE>
A84: =Productdemonstratie!A47 -> 3. Uitstraling/ vormgeving | C84: SCORE | E84: SCORE | G84: SCORE
C85: <MOTIVATIE> | E85: <MOTIVATIE> | G85: <MOTIVATIE>
A86: =Productdemonstratie!A48 -> 4. Gemak schoonmaken | C86: SCORE | E86: SCORE | G86: SCORE
C87: <MOTIVATIE> | E87: <MOTIVATIE> | G87: <MOTIVATIE>
A88: =Productdemonstratie!A49 -> 5. Dikte blad | C88: SCORE | E88: SCORE | G88: SCORE
C89: <MOTIVATIE> | E89: <MOTIVATIE> | G89: <MOTIVATIE>
A90: =Productdemonstratie!A50 -> 6. Mate veiligheid (scherpe randen en hoeken) | C90: SCORE | E90: SCORE | G90: SCORE
C91: <MOTIVATIE> | E91: <MOTIVATIE> | G91: <MOTIVATIE>
A92: =Productdemonstratie!A51 -> 8. Beoordelingscriteria vergaderstoel stoffen zitting, aluminium(slede)frame - item 15
A93: =Productdemonstratie!A52 -> 1. Zitcomfort | C93: SCORE | E93: SCORE | G93: SCORE
C94: <MOTIVATIE> | E94: <MOTIVATIE> | G94: <MOTIVATIE>
A95: =Productdemonstratie!A53 -> 2. Mate van comfort armliggers | C95: SCORE | E95: SCORE | G95: SCORE
C96: <MOTIVATIE> | E96: <MOTIVATIE> | G96: <MOTIVATIE>
A97: =Productdemonstratie!A54 -> 3. Rugleuning en zitting | C97: SCORE | E97: SCORE | G97: SCORE
C98: <MOTIVATIE> | E98: <MOTIVATIE> | G98: <MOTIVATIE>
A99: =Productdemonstratie!A55 -> 4. Constructie inclusief bevestiging tussen frame en zitting | C99: SCORE | E99: SCORE | G99: SCORE
C100: <MOTIVATIE> | E100: <MOTIVATIE> | G100: <MOTIVATIE>
...

Sheet Beoordelaar 5
A1: Beoordelaar 5: | C1: ='Beoordelaar 1'!C1 -> Inschrijver 1 | E1: ='Beoordelaar 1'!E1 -> Inschrijver 2 | G1: ='Beoordelaar 1'!G1 -> Inschrijver 3
A2: =Productdemonstratie!A1:A1 -> 7.3 Productdemonstratie | C2: Score: | E2: Score: | G2: Score:
A3: =Productdemonstratie!A3 -> 1. Beoordelingscriteria Zit-sta bureau - Item 1
A4: =Productdemonstratie!A4:A4 -> 1. Stabiliteit op alle hoogtes | C4: SCORE | E4: SCORE | G4: SCORE
C5: <MOTIVATIE> | E5: <MOTIVATIE> | G5: <MOTIVATIE>
A6: =Productdemonstratie!A5:A5 -> 2. Mate van geluid bij verstellen hoogte | C6: SCORE | E6: SCORE | G6: SCORE
C7: <MOTIVATIE> | E7: <MOTIVATIE> | G7: <MOTIVATIE>
A8: =Productdemonstratie!A6:A6 -> 3. Constructie onderstel, afwerking | C8: SCORE | E8: SCORE | G8: SCORE
C9: <MOTIVATIE> | E9: <MOTIVATIE> | G9: <MOTIVATIE>
A10: =Productdemonstratie!A7:A7 -> 4. Uitstraling/ vormgeving | C10: SCORE | E10: SCORE | G10: SCORE
C11: <MOTIVATIE> | E11: <MOTIVATIE> | G11: <MOTIVATIE>
A12: =Productdemonstratie!A8:A8 -> 5. Gemak schoonmaken | C12: SCORE | E12: SCORE | G12: SCORE
C13: <MOTIVATIE> | E13: <MOTIVATIE> | G13: <MOTIVATIE>
A14: =Productdemonstratie!A9 -> 6. Kwaliteit/ gebruiksvriendelijkheid van de slinger | C14: SCORE | E14: SCORE | G14: SCORE
C15: <MOTIVATIE> | E15: <MOTIVATIE> | G15: <MOTIVATIE>
A16: =+Productdemonstratie!A10 -> 2. Beoordelingscriteria Zit-sta bureau - Item 3
A17: =Productdemonstratie!A11 -> 1. Stabiliteit op alle hoogtes | C17: SCORE | E17: SCORE | G17: SCORE
C18: <MOTIVATIE> | E18: <MOTIVATIE> | G18: <MOTIVATIE>
A19: =Productdemonstratie!A12 -> 2. Mate van geluid bij verstellen hoogte | C19: SCORE | E19: SCORE | G19: SCORE
C20: <MOTIVATIE> | E20: <MOTIVATIE> | G20: <MOTIVATIE>
A21: =Productdemonstratie!A13 -> 3. Constructie onderstel, afwerking | C21: SCORE | E21: SCORE | G21: SCORE
C22: <MOTIVATIE> | E22: <MOTIVATIE> | G22: <MOTIVATIE>
A23: =Productdemonstratie!A14 -> 4. Uitstraling/ vormgeving | C23: SCORE | E23: SCORE | G23: SCORE
C24: <MOTIVATIE> | E24: <MOTIVATIE> | G24: <MOTIVATIE>
A25: =Productdemonstratie!A15 -> 5. Gemak schoonmaken | C25: SCORE | E25: SCORE | G25: SCORE
C26: <MOTIVATIE> | E26: <MOTIVATIE> | G26: <MOTIVATIE>
A27: =Productdemonstratie!A16 -> 6. Kwaliteit/ gebruiksvriendelijkheid van elektrisch meganisme | C27: SCORE | E27: SCORE | G27: SCORE
C28: <MOTIVATIE> | E28: <MOTIVATIE> | G28: <MOTIVATIE>
A29: =Productdemonstratie!A17 -> 3. Beoordelingscriteria bureaustoel gestoffeerd - item 4
A30: =Productdemonstratie!A18 -> 1. Zitcomfort | C30: SCORE | E30: SCORE | G30: SCORE
C31: <MOTIVATIE> | E31: <MOTIVATIE> | G31: <MOTIVATIE>
A32: =Productdemonstratie!A19 -> 2. Mate van instelbaarheid armliggers | C32: SCORE | E32: SCORE | G32: SCORE
C33: <MOTIVATIE> | E33: <MOTIVATIE> | G33: <MOTIVATIE>
A34: =Productdemonstratie!A20 -> 3. Rugleuning en zitting | C34: SCORE | E34: SCORE | G34: SCORE
C35: <MOTIVATIE> | E35: <MOTIVATIE> | G35: <MOTIVATIE>
A36: =Productdemonstratie!A21 -> 4. Constructie inclusief bevestiging tussen frame en zitting | C36: SCORE | E36: SCORE | G36: SCORE
C37: <MOTIVATIE> | E37: <MOTIVATIE> | G37: <MOTIVATIE>
A38: =Productdemonstratie!A22 -> 5. Uitstraling/ vormgeving | C38: SCORE | E38: SCORE | G38: SCORE
C39: <MOTIVATIE> | E39: <MOTIVATIE> | G39: <MOTIVATIE>
A40: =Productdemonstratie!A23 -> 6. Gemak schoonmaken | C40: SCORE | E40: SCORE | G40: SCORE
C41: <MOTIVATIE> | E41: <MOTIVATIE> | G41: <MOTIVATIE>
A42: =Productdemonstratie!A24 -> 4. Beoordelingscriteria jaloeziekast - item 6
A43: =Productdemonstratie!A25 -> 1.Mate geluid sluiten deuren | C43: SCORE | E43: SCORE | G43: SCORE
C44: <MOTIVATIE> | E44: <MOTIVATIE> | G44: <MOTIVATIE>
A45: =Productdemonstratie!A26 -> 2. Mate van instelbaarheid legborden | C45: SCORE | E45: SCORE | G45: SCORE
C46: <MOTIVATIE> | E46: <MOTIVATIE> | G46: <MOTIVATIE>
A47: =Productdemonstratie!A27 -> 3. Kwaliteit slot | C47: SCORE | E47: SCORE | G47: SCORE
C48: <MOTIVATIE> | E48: <MOTIVATIE> | G48: <MOTIVATIE>
A49: =Productdemonstratie!A28 -> 4. Constructie / stabiliteit frame en deuren | C49: SCORE | E49: SCORE | G49: SCORE
C50: <MOTIVATIE> | E50: <MOTIVATIE> | G50: <MOTIVATIE>
A51: =Productdemonstratie!A29 -> 5. Uitstraling/ vormgeving | C51: SCORE | E51: SCORE | G51: SCORE
C52: <MOTIVATIE> | E52: <MOTIVATIE> | G52: <MOTIVATIE>
A53: =Productdemonstratie!A30 -> 6. Gemak schoonmaken | C53: SCORE | E53: SCORE | G53: SCORE
C54: <MOTIVATIE> | E54: <MOTIVATIE> | G54: <MOTIVATIE>
A55: =Productdemonstratie!A31 -> 5. Beoordelingscriteria - Studenten tafel - item 7
A56: =Productdemonstratie!A32 -> 1. Stabiliteit | C56: SCORE | E56: SCORE | G56: SCORE
C57: <MOTIVATIE> | E57: <MOTIVATIE> | G57: <MOTIVATIE>
A58: =Productdemonstratie!A33 -> 2. Constructie tussen frame en blad | C58: SCORE | E58: SCORE | G58: SCORE
C59: <MOTIVATIE> | E59: <MOTIVATIE> | G59: <MOTIVATIE>
A60: =Productdemonstratie!A34 -> 3. Uitstraling/ vormgeving | C60: SCORE | E60: SCORE | G60: SCORE
C61: <MOTIVATIE> | E61: <MOTIVATIE> | G61: <MOTIVATIE>
A62: =Productdemonstratie!A35 -> 4. Gemak schoonmaken | C62: SCORE | E62: SCORE | G62: SCORE
C63: <MOTIVATIE> | E63: <MOTIVATIE> | G63: <MOTIVATIE>
A64: =Productdemonstratie!A36 -> 5. Mate veiligheid (scherpe randen en hoeken) | C64: SCORE | E64: SCORE | G64: SCORE
C65: <MOTIVATIE> | E65: <MOTIVATIE> | G65: <MOTIVATIE>
A66: =Productdemonstratie!A37 -> 6. Beoordelingscriteria - Studenten stoel houten kuip, 4 poots aluminium – item 8
A67: =Productdemonstratie!A38 -> 1. Stabiliteit | C67: SCORE | E67: SCORE | G67: SCORE
C68: <MOTIVATIE> | E68: <MOTIVATIE> | G68: <MOTIVATIE>
A69: =Productdemonstratie!A39 -> 2. Constructie tussen frame en zitting | C69: SCORE | E69: SCORE | G69: SCORE
C70: <MOTIVATIE> | E70: <MOTIVATIE> | G70: <MOTIVATIE>
A71: =Productdemonstratie!A40 -> 3. Uitstraling/ vormgeving | C71: SCORE | E71: SCORE | G71: SCORE
C72: <MOTIVATIE> | E72: <MOTIVATIE> | G72: <MOTIVATIE>
A73: =Productdemonstratie!A41 -> 4. Gemak schoonmaken | C73: SCORE | E73: SCORE | G73: SCORE
C74: <MOTIVATIE> | E74: <MOTIVATIE> | G74: <MOTIVATIE>
A75: =Productdemonstratie!A42 -> 5. Mate veiligheid (scherpe randen en hoeken) | C75: SCORE | E75: SCORE | G75: SCORE
C76: <MOTIVATIE> | E76: <MOTIVATIE> | G76: <MOTIVATIE>
A77: =Productdemonstratie!A43 -> 6. Mate van stapelbaarheid | C77: SCORE | E77: SCORE | G77: SCORE
C78: <MOTIVATIE> | E78: <MOTIVATIE> | G78: <MOTIVATIE>
A79: =Productdemonstratie!A44 -> 7. Beoordelingscriteria vergadertafel - item 12
A80: =Productdemonstratie!A45 -> 1. Stabiliteit | C80: SCORE | E80: SCORE | G80: SCORE
C81: <MOTIVATIE> | E81: <MOTIVATIE> | G81: <MOTIVATIE>
A82: =Productdemonstratie!A46 -> 2. Constructie tussen frame en blad | C82: SCORE | E82: SCORE | G82: SCORE
C83: <MOTIVATIE> | E83: <MOTIVATIE> | G83: <MOTIVATIE>
A84: =Productdemonstratie!A47 -> 3. Uitstraling/ vormgeving | C84: SCORE | E84: SCORE | G84: SCORE
C85: <MOTIVATIE> | E85: <MOTIVATIE> | G85: <MOTIVATIE>
A86: =Productdemonstratie!A48 -> 4. Gemak schoonmaken | C86: SCORE | E86: SCORE | G86: SCORE
C87: <MOTIVATIE> | E87: <MOTIVATIE> | G87: <MOTIVATIE>
A88: =Productdemonstratie!A49 -> 5. Dikte blad | C88: SCORE | E88: SCORE | G88: SCORE
C89: <MOTIVATIE> | E89: <MOTIVATIE> | G89: <MOTIVATIE>
A90: =Productdemonstratie!A50 -> 6. Mate veiligheid (scherpe randen en hoeken) | C90: SCORE | E90: SCORE | G90: SCORE
C91: <MOTIVATIE> | E91: <MOTIVATIE> | G91: <MOTIVATIE>
A92: =Productdemonstratie!A51 -> 8. Beoordelingscriteria vergaderstoel stoffen zitting, aluminium(slede)frame - item 15
A93: =Productdemonstratie!A52 -> 1. Zitcomfort | C93: SCORE | E93: SCORE | G93: SCORE
C94: <MOTIVATIE> | E94: <MOTIVATIE> | G94: <MOTIVATIE>
A95: =Productdemonstratie!A53 -> 2. Mate van comfort armliggers | C95: SCORE | E95: SCORE | G95: SCORE
C96: <MOTIVATIE> | E96: <MOTIVATIE> | G96: <MOTIVATIE>
A97: =Productdemonstratie!A54 -> 3. Rugleuning en zitting | C97: SCORE | E97: SCORE | G97: SCORE
C98: <MOTIVATIE> | E98: <MOTIVATIE> | G98: <MOTIVATIE>
A99: =Productdemonstratie!A55 -> 4. Constructie inclusief bevestiging tussen frame en zitting | C99: SCORE | E99: SCORE | G99: SCORE
C100: <MOTIVATIE> | E100: <MOTIVATIE> | G100: <MOTIVATIE>
...

Sheet Beoordelaar 6
A1: Beoordelaar 6: | C1: ='Beoordelaar 1'!C1 -> Inschrijver 1 | E1: ='Beoordelaar 1'!E1 -> Inschrijver 2 | G1: ='Beoordelaar 1'!G1 -> Inschrijver 3
A2: =Productdemonstratie!A1:A1 -> 7.3 Productdemonstratie | C2: Score: | E2: Score: | G2: Score:
A3: =Productdemonstratie!A3 -> 1. Beoordelingscriteria Zit-sta bureau - Item 1
A4: =Productdemonstratie!A4:A4 -> 1. Stabiliteit op alle hoogtes | C4: SCORE | E4: SCORE | G4: SCORE
C5: <MOTIVATIE> | E5: <MOTIVATIE> | G5: <MOTIVATIE>
A6: =Productdemonstratie!A5:A5 -> 2. Mate van geluid bij verstellen hoogte | C6: SCORE | E6: SCORE | G6: SCORE
C7: <MOTIVATIE> | E7: <MOTIVATIE> | G7: <MOTIVATIE>
A8: =Productdemonstratie!A6:A6 -> 3. Constructie onderstel, afwerking | C8: SCORE | E8: SCORE | G8: SCORE
C9: <MOTIVATIE> | E9: <MOTIVATIE> | G9: <MOTIVATIE>
A10: =Productdemonstratie!A7:A7 -> 4. Uitstraling/ vormgeving | C10: SCORE | E10: SCORE | G10: SCORE
C11: <MOTIVATIE> | E11: <MOTIVATIE> | G11: <MOTIVATIE>
A12: =Productdemonstratie!A8:A8 -> 5. Gemak schoonmaken | C12: SCORE | E12: SCORE | G12: SCORE
C13: <MOTIVATIE> | E13: <MOTIVATIE> | G13: <MOTIVATIE>
A14: =Productdemonstratie!A9 -> 6. Kwaliteit/ gebruiksvriendelijkheid van de slinger | C14: SCORE | E14: SCORE | G14: SCORE
C15: <MOTIVATIE> | E15: <MOTIVATIE> | G15: <MOTIVATIE>
A16: =+Productdemonstratie!A10 -> 2. Beoordelingscriteria Zit-sta bureau - Item 3
A17: =Productdemonstratie!A11 -> 1. Stabiliteit op alle hoogtes | C17: SCORE | E17: SCORE | G17: SCORE
C18: <MOTIVATIE> | E18: <MOTIVATIE> | G18: <MOTIVATIE>
A19: =Productdemonstratie!A12 -> 2. Mate van geluid bij verstellen hoogte | C19: SCORE | E19: SCORE | G19: SCORE
C20: <MOTIVATIE> | E20: <MOTIVATIE> | G20: <MOTIVATIE>
A21: =Productdemonstratie!A13 -> 3. Constructie onderstel, afwerking | C21: SCORE | E21: SCORE | G21: SCORE
C22: <MOTIVATIE> | E22: <MOTIVATIE> | G22: <MOTIVATIE>
A23: =Productdemonstratie!A14 -> 4. Uitstraling/ vormgeving | C23: SCORE | E23: SCORE | G23: SCORE
C24: <MOTIVATIE> | E24: <MOTIVATIE> | G24: <MOTIVATIE>
A25: =Productdemonstratie!A15 -> 5. Gemak schoonmaken | C25: SCORE | E25: SCORE | G25: SCORE
C26: <MOTIVATIE> | E26: <MOTIVATIE> | G26: <MOTIVATIE>
A27: =Productdemonstratie!A16 -> 6. Kwaliteit/ gebruiksvriendelijkheid van elektrisch meganisme | C27: SCORE | E27: SCORE | G27: SCORE
C28: <MOTIVATIE> | E28: <MOTIVATIE> | G28: <MOTIVATIE>
A29: =Productdemonstratie!A17 -> 3. Beoordelingscriteria bureaustoel gestoffeerd - item 4
A30: =Productdemonstratie!A18 -> 1. Zitcomfort | C30: SCORE | E30: SCORE | G30: SCORE
C31: <MOTIVATIE> | E31: <MOTIVATIE> | G31: <MOTIVATIE>
A32: =Productdemonstratie!A19 -> 2. Mate van instelbaarheid armliggers | C32: SCORE | E32: SCORE | G32: SCORE
C33: <MOTIVATIE> | E33: <MOTIVATIE> | G33: <MOTIVATIE>
A34: =Productdemonstratie!A20 -> 3. Rugleuning en zitting | C34: SCORE | E34: SCORE | G34: SCORE
C35: <MOTIVATIE> | E35: <MOTIVATIE> | G35: <MOTIVATIE>
A36: =Productdemonstratie!A21 -> 4. Constructie inclusief bevestiging tussen frame en zitting | C36: SCORE | E36: SCORE | G36: SCORE
C37: <MOTIVATIE> | E37: <MOTIVATIE> | G37: <MOTIVATIE>
A38: =Productdemonstratie!A22 -> 5. Uitstraling/ vormgeving | C38: SCORE | E38: SCORE | G38: SCORE
C39: <MOTIVATIE> | E39: <MOTIVATIE> | G39: <MOTIVATIE>
A40: =Productdemonstratie!A23 -> 6. Gemak schoonmaken | C40: SCORE | E40: SCORE | G40: SCORE
C41: <MOTIVATIE> | E41: <MOTIVATIE> | G41: <MOTIVATIE>
A42: =Productdemonstratie!A24 -> 4. Beoordelingscriteria jaloeziekast - item 6
A43: =Productdemonstratie!A25 -> 1.Mate geluid sluiten deuren | C43: SCORE | E43: SCORE | G43: SCORE
C44: <MOTIVATIE> | E44: <MOTIVATIE> | G44: <MOTIVATIE>
A45: =Productdemonstratie!A26 -> 2. Mate van instelbaarheid legborden | C45: SCORE | E45: SCORE | G45: SCORE
C46: <MOTIVATIE> | E46: <MOTIVATIE> | G46: <MOTIVATIE>
A47: =Productdemonstratie!A27 -> 3. Kwaliteit slot | C47: SCORE | E47: SCORE | G47: SCORE
C48: <MOTIVATIE> | E48: <MOTIVATIE> | G48: <MOTIVATIE>
A49: =Productdemonstratie!A28 -> 4. Constructie / stabiliteit frame en deuren | C49: SCORE | E49: SCORE | G49: SCORE
C50: <MOTIVATIE> | E50: <MOTIVATIE> | G50: <MOTIVATIE>
A51: =Productdemonstratie!A29 -> 5. Uitstraling/ vormgeving | C51: SCORE | E51: SCORE | G51: SCORE
C52: <MOTIVATIE> | E52: <MOTIVATIE> | G52: <MOTIVATIE>
A53: =Productdemonstratie!A30 -> 6. Gemak schoonmaken | C53: SCORE | E53: SCORE | G53: SCORE
C54: <MOTIVATIE> | E54: <MOTIVATIE> | G54: <MOTIVATIE>
A55: =Productdemonstratie!A31 -> 5. Beoordelingscriteria - Studenten tafel - item 7
A56: =Productdemonstratie!A32 -> 1. Stabiliteit | C56: SCORE | E56: SCORE | G56: SCORE
C57: <MOTIVATIE> | E57: <MOTIVATIE> | G57: <MOTIVATIE>
A58: =Productdemonstratie!A33 -> 2. Constructie tussen frame en blad | C58: SCORE | E58: SCORE | G58: SCORE
C59: <MOTIVATIE> | E59: <MOTIVATIE> | G59: <MOTIVATIE>
A60: =Productdemonstratie!A34 -> 3. Uitstraling/ vormgeving | C60: SCORE | E60: SCORE | G60: SCORE
C61: <MOTIVATIE> | E61: <MOTIVATIE> | G61: <MOTIVATIE>
A62: =Productdemonstratie!A35 -> 4. Gemak schoonmaken | C62: SCORE | E62: SCORE | G62: SCORE
C63: <MOTIVATIE> | E63: <MOTIVATIE> | G63: <MOTIVATIE>
A64: =Productdemonstratie!A36 -> 5. Mate veiligheid (scherpe randen en hoeken) | C64: SCORE | E64: SCORE | G64: SCORE
C65: <MOTIVATIE> | E65: <MOTIVATIE> | G65: <MOTIVATIE>
A66: =Productdemonstratie!A37 -> 6. Beoordelingscriteria - Studenten stoel houten kuip, 4 poots aluminium – item 8
A67: =Productdemonstratie!A38 -> 1. Stabiliteit | C67: SCORE | E67: SCORE | G67: SCORE
C68: <MOTIVATIE> | E68: <MOTIVATIE> | G68: <MOTIVATIE>
A69: =Productdemonstratie!A39 -> 2. Constructie tussen frame en zitting | C69: SCORE | E69: SCORE | G69: SCORE
C70: <MOTIVATIE> | E70: <MOTIVATIE> | G70: <MOTIVATIE>
A71: =Productdemonstratie!A40 -> 3. Uitstraling/ vormgeving | C71: SCORE | E71: SCORE | G71: SCORE
C72: <MOTIVATIE> | E72: <MOTIVATIE> | G72: <MOTIVATIE>
A73: =Productdemonstratie!A41 -> 4. Gemak schoonmaken | C73: SCORE | E73: SCORE | G73: SCORE
C74: <MOTIVATIE> | E74: <MOTIVATIE> | G74: <MOTIVATIE>
A75: =Productdemonstratie!A42 -> 5. Mate veiligheid (scherpe randen en hoeken) | C75: SCORE | E75: SCORE | G75: SCORE
C76: <MOTIVATIE> | E76: <MOTIVATIE> | G76: <MOTIVATIE>
A77: =Productdemonstratie!A43 -> 6. Mate van stapelbaarheid | C77: SCORE | E77: SCORE | G77: SCORE
C78: <MOTIVATIE> | E78: <MOTIVATIE> | G78: <MOTIVATIE>
A79: =Productdemonstratie!A44 -> 7. Beoordelingscriteria vergadertafel - item 12
A80: =Productdemonstratie!A45 -> 1. Stabiliteit | C80: SCORE | E80: SCORE | G80: SCORE
C81: <MOTIVATIE> | E81: <MOTIVATIE> | G81: <MOTIVATIE>
A82: =Productdemonstratie!A46 -> 2. Constructie tussen frame en blad | C82: SCORE | E82: SCORE | G82: SCORE
C83: <MOTIVATIE> | E83: <MOTIVATIE> | G83: <MOTIVATIE>
A84: =Productdemonstratie!A47 -> 3. Uitstraling/ vormgeving | C84: SCORE | E84: SCORE | G84: SCORE
C85: <MOTIVATIE> | E85: <MOTIVATIE> | G85: <MOTIVATIE>
A86: =Productdemonstratie!A48 -> 4. Gemak schoonmaken | C86: SCORE | E86: SCORE | G86: SCORE
C87: <MOTIVATIE> | E87: <MOTIVATIE> | G87: <MOTIVATIE>
A88: =Productdemonstratie!A49 -> 5. Dikte blad | C88: SCORE | E88: SCORE | G88: SCORE
C89: <MOTIVATIE> | E89: <MOTIVATIE> | G89: <MOTIVATIE>
A90: =Productdemonstratie!A50 -> 6. Mate veiligheid (scherpe randen en hoeken) | C90: SCORE | E90: SCORE | G90: SCORE
C91: <MOTIVATIE> | E91: <MOTIVATIE> | G91: <MOTIVATIE>
A92: =Productdemonstratie!A51 -> 8. Beoordelingscriteria vergaderstoel stoffen zitting, aluminium(slede)frame - item 15
A93: =Productdemonstratie!A52 -> 1. Zitcomfort | C93: SCORE | E93: SCORE | G93: SCORE
C94: <MOTIVATIE> | E94: <MOTIVATIE> | G94: <MOTIVATIE>
A95: =Productdemonstratie!A53 -> 2. Mate van comfort armliggers | C95: SCORE | E95: SCORE | G95: SCORE
C96: <MOTIVATIE> | E96: <MOTIVATIE> | G96: <MOTIVATIE>
A97: =Productdemonstratie!A54 -> 3. Rugleuning en zitting | C97: SCORE | E97: SCORE | G97: SCORE
C98: <MOTIVATIE> | E98: <MOTIVATIE> | G98: <MOTIVATIE>
A99: =Productdemonstratie!A55 -> 4. Constructie inclusief bevestiging tussen frame en zitting | C99: SCORE | E99: SCORE | G99: SCORE
C100: <MOTIVATIE> | E100: <MOTIVATIE> | G100: <MOTIVATIE>
...

Sheet Beoordelaar 7
A1: Beoordelaar 7: | C1: ='Beoordelaar 1'!C1 -> Inschrijver 1 | E1: ='Beoordelaar 1'!E1 -> Inschrijver 2 | G1: ='Beoordelaar 1'!G1 -> Inschrijver 3
A2: =Productdemonstratie!A1:A1 -> 7.3 Productdemonstratie | C2: Score: | E2: Score: | G2: Score:
A3: =Productdemonstratie!A3 -> 1. Beoordelingscriteria Zit-sta bureau - Item 1
A4: =Productdemonstratie!A4:A4 -> 1. Stabiliteit op alle hoogtes | C4: SCORE | E4: SCORE | G4: SCORE
C5: <MOTIVATIE> | E5: <MOTIVATIE> | G5: <MOTIVATIE>
A6: =Productdemonstratie!A5:A5 -> 2. Mate van geluid bij verstellen hoogte | C6: SCORE | E6: SCORE | G6: SCORE
C7: <MOTIVATIE> | E7: <MOTIVATIE> | G7: <MOTIVATIE>
A8: =Productdemonstratie!A6:A6 -> 3. Constructie onderstel, afwerking | C8: SCORE | E8: SCORE | G8: SCORE
C9: <MOTIVATIE> | E9: <MOTIVATIE> | G9: <MOTIVATIE>
A10: =Productdemonstratie!A7:A7 -> 4. Uitstraling/ vormgeving | C10: SCORE | E10: SCORE | G10: SCORE
C11: <MOTIVATIE> | E11: <MOTIVATIE> | G11: <MOTIVATIE>
A12: =Productdemonstratie!A8:A8 -> 5. Gemak schoonmaken | C12: SCORE | E12: SCORE | G12: SCORE
C13: <MOTIVATIE> | E13: <MOTIVATIE> | G13: <MOTIVATIE>
A14: =Productdemonstratie!A9 -> 6. Kwaliteit/ gebruiksvriendelijkheid van de slinger | C14: SCORE | E14: SCORE | G14: SCORE
C15: <MOTIVATIE> | E15: <MOTIVATIE> | G15: <MOTIVATIE>
A16: =+Productdemonstratie!A10 -> 2. Beoordelingscriteria Zit-sta bureau - Item 3
A17: =Productdemonstratie!A11 -> 1. Stabiliteit op alle hoogtes | C17: SCORE | E17: SCORE | G17: SCORE
C18: <MOTIVATIE> | E18: <MOTIVATIE> | G18: <MOTIVATIE>
A19: =Productdemonstratie!A12 -> 2. Mate van geluid bij verstellen hoogte | C19: SCORE | E19: SCORE | G19: SCORE
C20: <MOTIVATIE> | E20: <MOTIVATIE> | G20: <MOTIVATIE>
A21: =Productdemonstratie!A13 -> 3. Constructie onderstel, afwerking | C21: SCORE | E21: SCORE | G21: SCORE
C22: <MOTIVATIE> | E22: <MOTIVATIE> | G22: <MOTIVATIE>
A23: =Productdemonstratie!A14 -> 4. Uitstraling/ vormgeving | C23: SCORE | E23: SCORE | G23: SCORE
C24: <MOTIVATIE> | E24: <MOTIVATIE> | G24: <MOTIVATIE>
A25: =Productdemonstratie!A15 -> 5. Gemak schoonmaken | C25: SCORE | E25: SCORE | G25: SCORE
C26: <MOTIVATIE> | E26: <MOTIVATIE> | G26: <MOTIVATIE>
A27: =Productdemonstratie!A16 -> 6. Kwaliteit/ gebruiksvriendelijkheid van elektrisch meganisme | C27: SCORE | E27: SCORE | G27: SCORE
C28: <MOTIVATIE> | E28: <MOTIVATIE> | G28: <MOTIVATIE>
A29: =Productdemonstratie!A17 -> 3. Beoordelingscriteria bureaustoel gestoffeerd - item 4
A30: =Productdemonstratie!A18 -> 1. Zitcomfort | C30: SCORE | E30: SCORE | G30: SCORE
C31: <MOTIVATIE> | E31: <MOTIVATIE> | G31: <MOTIVATIE>
A32: =Productdemonstratie!A19 -> 2. Mate van instelbaarheid armliggers | C32: SCORE | E32: SCORE | G32: SCORE
C33: <MOTIVATIE> | E33: <MOTIVATIE> | G33: <MOTIVATIE>
A34: =Productdemonstratie!A20 -> 3. Rugleuning en zitting | C34: SCORE | E34: SCORE | G34: SCORE
C35: <MOTIVATIE> | E35: <MOTIVATIE> | G35: <MOTIVATIE>
A36: =Productdemonstratie!A21 -> 4. Constructie inclusief bevestiging tussen frame en zitting | C36: SCORE | E36: SCORE | G36: SCORE
C37: <MOTIVATIE> | E37: <MOTIVATIE> | G37: <MOTIVATIE>
A38: =Productdemonstratie!A22 -> 5. Uitstraling/ vormgeving | C38: SCORE | E38: SCORE | G38: SCORE
C39: <MOTIVATIE> | E39: <MOTIVATIE> | G39: <MOTIVATIE>
A40: =Productdemonstratie!A23 -> 6. Gemak schoonmaken | C40: SCORE | E40: SCORE | G40: SCORE
C41: <MOTIVATIE> | E41: <MOTIVATIE> | G41: <MOTIVATIE>
A42: =Productdemonstratie!A24 -> 4. Beoordelingscriteria jaloeziekast - item 6
A43: =Productdemonstratie!A25 -> 1.Mate geluid sluiten deuren | C43: SCORE | E43: SCORE | G43: SCORE
C44: <MOTIVATIE> | E44: <MOTIVATIE> | G44: <MOTIVATIE>
A45: =Productdemonstratie!A26 -> 2. Mate van instelbaarheid legborden | C45: SCORE | E45: SCORE | G45: SCORE
C46: <MOTIVATIE> | E46: <MOTIVATIE> | G46: <MOTIVATIE>
A47: =Productdemonstratie!A27 -> 3. Kwaliteit slot | C47: SCORE | E47: SCORE | G47: SCORE
C48: <MOTIVATIE> | E48: <MOTIVATIE> | G48: <MOTIVATIE>
A49: =Productdemonstratie!A28 -> 4. Constructie / stabiliteit frame en deuren | C49: SCORE | E49: SCORE | G49: SCORE
C50: <MOTIVATIE> | E50: <MOTIVATIE> | G50: <MOTIVATIE>
A51: =Productdemonstratie!A29 -> 5. Uitstraling/ vormgeving | C51: SCORE | E51: SCORE | G51: SCORE
C52: <MOTIVATIE> | E52: <MOTIVATIE> | G52: <MOTIVATIE>
A53: =Productdemonstratie!A30 -> 6. Gemak schoonmaken | C53: SCORE | E53: SCORE | G53: SCORE
C54: <MOTIVATIE> | E54: <MOTIVATIE> | G54: <MOTIVATIE>
A55: =Productdemonstratie!A31 -> 5. Beoordelingscriteria - Studenten tafel - item 7
A56: =Productdemonstratie!A32 -> 1. Stabiliteit | C56: SCORE | E56: SCORE | G56: SCORE
C57: <MOTIVATIE> | E57: <MOTIVATIE> | G57: <MOTIVATIE>
A58: =Productdemonstratie!A33 -> 2. Constructie tussen frame en blad | C58: SCORE | E58: SCORE | G58: SCORE
C59: <MOTIVATIE> | E59: <MOTIVATIE> | G59: <MOTIVATIE>
A60: =Productdemonstratie!A34 -> 3. Uitstraling/ vormgeving | C60: SCORE | E60: SCORE | G60: SCORE
C61: <MOTIVATIE> | E61: <MOTIVATIE> | G61: <MOTIVATIE>
A62: =Productdemonstratie!A35 -> 4. Gemak schoonmaken | C62: SCORE | E62: SCORE | G62: SCORE
C63: <MOTIVATIE> | E63: <MOTIVATIE> | G63: <MOTIVATIE>
A64: =Productdemonstratie!A36 -> 5. Mate veiligheid (scherpe randen en hoeken) | C64: SCORE | E64: SCORE | G64: SCORE
C65: <MOTIVATIE> | E65: <MOTIVATIE> | G65: <MOTIVATIE>
A66: =Productdemonstratie!A37 -> 6. Beoordelingscriteria - Studenten stoel houten kuip, 4 poots aluminium – item 8
A67: =Productdemonstratie!A38 -> 1. Stabiliteit | C67: SCORE | E67: SCORE | G67: SCORE
C68: <MOTIVATIE> | E68: <MOTIVATIE> | G68: <MOTIVATIE>
A69: =Productdemonstratie!A39 -> 2. Constructie tussen frame en zitting | C69: SCORE | E69: SCORE | G69: SCORE
C70: <MOTIVATIE> | E70: <MOTIVATIE> | G70: <MOTIVATIE>
A71: =Productdemonstratie!A40 -> 3. Uitstraling/ vormgeving | C71: SCORE | E71: SCORE | G71: SCORE
C72: <MOTIVATIE> | E72: <MOTIVATIE> | G72: <MOTIVATIE>
A73: =Productdemonstratie!A41 -> 4. Gemak schoonmaken | C73: SCORE | E73: SCORE | G73: SCORE
C74: <MOTIVATIE> | E74: <MOTIVATIE> | G74: <MOTIVATIE>
A75: =Productdemonstratie!A42 -> 5. Mate veiligheid (scherpe randen en hoeken) | C75: SCORE | E75: SCORE | G75: SCORE
C76: <MOTIVATIE> | E76: <MOTIVATIE> | G76: <MOTIVATIE>
A77: =Productdemonstratie!A43 -> 6. Mate van stapelbaarheid | C77: SCORE | E77: SCORE | G77: SCORE
C78: <MOTIVATIE> | E78: <MOTIVATIE> | G78: <MOTIVATIE>
A79: =Productdemonstratie!A44 -> 7. Beoordelingscriteria vergadertafel - item 12
A80: =Productdemonstratie!A45 -> 1. Stabiliteit | C80: SCORE | E80: SCORE | G80: SCORE
C81: <MOTIVATIE> | E81: <MOTIVATIE> | G81: <MOTIVATIE>
A82: =Productdemonstratie!A46 -> 2. Constructie tussen frame en blad | C82: SCORE | E82: SCORE | G82: SCORE
C83: <MOTIVATIE> | E83: <MOTIVATIE> | G83: <MOTIVATIE>
A84: =Productdemonstratie!A47 -> 3. Uitstraling/ vormgeving | C84: SCORE | E84: SCORE | G84: SCORE
C85: <MOTIVATIE> | E85: <MOTIVATIE> | G85: <MOTIVATIE>
A86: =Productdemonstratie!A48 -> 4. Gemak schoonmaken | C86: SCORE | E86: SCORE | G86: SCORE
C87: <MOTIVATIE> | E87: <MOTIVATIE> | G87: <MOTIVATIE>
A88: =Productdemonstratie!A49 -> 5. Dikte blad | C88: SCORE | E88: SCORE | G88: SCORE
C89: <MOTIVATIE> | E89: <MOTIVATIE> | G89: <MOTIVATIE>
A90: =Productdemonstratie!A50 -> 6. Mate veiligheid (scherpe randen en hoeken) | C90: SCORE | E90: SCORE | G90: SCORE
C91: <MOTIVATIE> | E91: <MOTIVATIE> | G91: <MOTIVATIE>
A92: =Productdemonstratie!A51 -> 8. Beoordelingscriteria vergaderstoel stoffen zitting, aluminium(slede)frame - item 15
A93: =Productdemonstratie!A52 -> 1. Zitcomfort | C93: SCORE | E93: SCORE | G93: SCORE
C94: <MOTIVATIE> | E94: <MOTIVATIE> | G94: <MOTIVATIE>
A95: =Productdemonstratie!A53 -> 2. Mate van comfort armliggers | C95: SCORE | E95: SCORE | G95: SCORE
C96: <MOTIVATIE> | E96: <MOTIVATIE> | G96: <MOTIVATIE>
A97: =Productdemonstratie!A54 -> 3. Rugleuning en zitting | C97: SCORE | E97: SCORE | G97: SCORE
C98: <MOTIVATIE> | E98: <MOTIVATIE> | G98: <MOTIVATIE>
A99: =Productdemonstratie!A55 -> 4. Constructie inclusief bevestiging tussen frame en zitting | C99: SCORE | E99: SCORE | G99: SCORE
C100: <MOTIVATIE> | E100: <MOTIVATIE> | G100: <MOTIVATIE>
...

Sheet Consensus
A1: Totaalwaardes | D1: ='Beoordelaar 1'!C1 -> Inschrijver 1 | G1: ='Beoordelaar 1'!E1 -> Inschrijver 2 | J1: ='Beoordelaar 1'!G1 -> Inschrijver 3
A2: Totaalwaardes | D2: SCORE | E2: Motivatie consensus: | G2: SCORE | H2: Motivatie consensus: | J2: SCORE | K2: Motivatie consensus:
A3: =Productdemonstratie!A3 -> 1. Beoordelingscriteria Zit-sta bureau - Item 1
A4: =Productdemonstratie!A4:A4 -> 1. Stabiliteit op alle hoogtes | B4: ='Beoordelaar 1'!A1 -> Beoordelaar 1: | D4: ='Beoordelaar 1'!C4 -> SCORE | E4: <MOTIVATIE> | G4: ='Beoordelaar 1'!E4 -> SCORE | H4: <MOTIVATIE> | J4: ='Beoordelaar 1'!G4 -> SCORE | K4: <MOTIVATIE>
B5: ='Beoordelaar 2'!A1 -> Beoordelaar 2: | D5: ='Beoordelaar 2'!C4 -> SCORE | G5: ='Beoordelaar 2'!E4 -> SCORE | J5: ='Beoordelaar 2'!G4 -> SCORE
B6: ='Beoordelaar 3'!A1 -> Beoordelaar 3: | D6: ='Beoordelaar 3'!C4 -> SCORE | G6: ='Beoordelaar 3'!E4 -> SCORE | J6: ='Beoordelaar 3'!G4 -> SCORE
B7: ='Beoordelaar 4'!A1 -> Beoordelaar 4: | D7: ='Beoordelaar 4'!C4 -> SCORE | G7: ='Beoordelaar 4'!E4 -> SCORE | J7: ='Beoordelaar 4'!G4 -> SCORE
B8: ='Beoordelaar 5'!A1 -> Beoordelaar 5: | D8: ='Beoordelaar 5'!C4 -> SCORE | G8: ='Beoordelaar 5'!E4 -> SCORE | J8: ='Beoordelaar 5'!G4 -> SCORE
B9: ='Beoordelaar 6'!A1 -> Beoordelaar 6: | D9: ='Beoordelaar 6'!C4 -> SCORE | G9: ='Beoordelaar 6'!E4 -> SCORE | J9: ='Beoordelaar 6'!G4 -> SCORE
B10: ='Beoordelaar 7'!A1 -> Beoordelaar 7: | D10: ='Beoordelaar 7'!C4 -> SCORE | G10: ='Beoordelaar 7'!E4 -> SCORE | J10: ='Beoordelaar 7'!G4 -> SCORE
A11: Consensus | D11: SCORE | G11: SCORE | J11: SCORE
D12: =IF(D11="beter","€ 750",IF(D11="vergelijkbaar","€ 0",IF(D11="minder","-€ 3.000"," "))) | G12: =IF(G11="beter","€ 750",IF(G11="vergelijkbaar","€ 0",IF(G11="minder","-€ 3.000"," "))) | J12: =IF(J11="beter","€ 750",IF(J11="vergelijkbaar","€ 0",IF(J11="minder","-€ 3.000"," ")))
A13: =Productdemonstratie!A5:A5 -> 2. Mate van geluid bij verstellen hoogte | B13: ='Beoordelaar 1'!$A$1 -> Beoordelaar 1: | D13: ='Beoordelaar 1'!C6 -> SCORE | E13: <MOTIVATIE> | G13: ='Beoordelaar 1'!E6 -> SCORE | H13: <MOTIVATIE> | J13: ='Beoordelaar 1'!G6 -> SCORE | K13: <MOTIVATIE>
B14: ='Beoordelaar 2'!$A$1 -> Beoordelaar 2: | D14: ='Beoordelaar 2'!C6 -> SCORE | G14: ='Beoordelaar 2'!E6 -> SCORE | J14: ='Beoordelaar 2'!G6 -> SCORE
B15: ='Beoordelaar 3'!$A$1 -> Beoordelaar 3: | D15: ='Beoordelaar 3'!C6 -> SCORE | G15: ='Beoordelaar 3'!E6 -> SCORE | J15: ='Beoordelaar 3'!G6 -> SCORE
B16: ='Beoordelaar 4'!$A$1 -> Beoordelaar 4: | D16: ='Beoordelaar 4'!C6 -> SCORE | G16: ='Beoordelaar 4'!E6 -> SCORE | J16: ='Beoordelaar 4'!G6 -> SCORE
B17: ='Beoordelaar 5'!$A$1 -> Beoordelaar 5: | D17: ='Beoordelaar 5'!C6 -> SCORE | G17: ='Beoordelaar 5'!E6 -> SCORE | J17: ='Beoordelaar 5'!G6 -> SCORE
B18: ='Beoordelaar 6'!$A$1 -> Beoordelaar 6: | D18: ='Beoordelaar 6'!C6 -> SCORE | G18: ='Beoordelaar 6'!E6 -> SCORE | J18: ='Beoordelaar 6'!G6 -> SCORE
B19: ='Beoordelaar 7'!$A$1 -> Beoordelaar 7: | D19: ='Beoordelaar 7'!C6 -> SCORE | G19: ='Beoordelaar 7'!E6 -> SCORE | J19: ='Beoordelaar 7'!G6 -> SCORE
A20: Consensus | D20: SCORE | G20: SCORE | J20: SCORE
D21: =IF(D20="beter","€ 750",IF(D20="vergelijkbaar","€ 0",IF(D20="minder","-€ 3.000"," "))) | G21: =IF(G20="beter","€ 750",IF(G20="vergelijkbaar","€ 0",IF(G20="minder","-€ 3.000"," "))) | J21: =IF(J20="beter","€ 750",IF(J20="vergelijkbaar","€ 0",IF(J20="minder","-€ 3.000"," ")))
A22: =Productdemonstratie!A6:A6 -> 3. Constructie onderstel, afwerking | B22: ='Beoordelaar 1'!$A$1 -> Beoordelaar 1: | D22: ='Beoordelaar 1'!C8 -> SCORE | E22: <MOTIVATIE> | G22: ='Beoordelaar 1'!E8 -> SCORE | H22: <MOTIVATIE> | J22: ='Beoordelaar 1'!G8 -> SCORE | K22: <MOTIVATIE>
B23: ='Beoordelaar 2'!$A$1 -> Beoordelaar 2: | D23: ='Beoordelaar 2'!C8 -> SCORE | G23: ='Beoordelaar 2'!E8 -> SCORE | J23: ='Beoordelaar 2'!G8 -> SCORE
B24: ='Beoordelaar 3'!$A$1 -> Beoordelaar 3: | D24: ='Beoordelaar 3'!C8 -> SCORE | G24: ='Beoordelaar 3'!E8 -> SCORE | J24: ='Beoordelaar 3'!G8 -> SCORE
B25: ='Beoordelaar 4'!$A$1 -> Beoordelaar 4: | D25: ='Beoordelaar 4'!C8 -> SCORE | G25: ='Beoordelaar 4'!E8 -> SCORE | J25: ='Beoordelaar 4'!G8 -> SCORE
B26: ='Beoordelaar 5'!$A$1 -> Beoordelaar 5: | D26: ='Beoordelaar 5'!C8 -> SCORE | G26: ='Beoordelaar 5'!E8 -> SCORE | J26: ='Beoordelaar 5'!G8 -> SCORE
B27: ='Beoordelaar 6'!$A$1 -> Beoordelaar 6: | D27: ='Beoordelaar 6'!C8 -> SCORE | G27: ='Beoordelaar 6'!E8 -> SCORE | J27: ='Beoordelaar 6'!G8 -> SCORE
B28: ='Beoordelaar 7'!$A$1 -> Beoordelaar 7: | D28: ='Beoordelaar 7'!C8 -> SCORE | G28: ='Beoordelaar 7'!E8 -> SCORE | J28: ='Beoordelaar 7'!G8 -> SCORE
A29: Consensus | D29: SCORE | G29: SCORE | J29: SCORE
D30: =IF(D29="beter","€ 750",IF(D29="vergelijkbaar","€ 0",IF(D29="minder","-€ 3.000"," "))) | G30: =IF(G29="beter","€ 750",IF(G29="vergelijkbaar","€ 0",IF(G29="minder","-€ 3.000"," "))) | J30: =IF(J29="beter","€ 750",IF(J29="vergelijkbaar","€ 0",IF(J29="minder","-€ 3.000"," ")))
A31: =Productdemonstratie!A7:A7 -> 4. Uitstraling/ vormgeving | B31: ='Beoordelaar 1'!$A$1 -> Beoordelaar 1: | D31: ='Beoordelaar 1'!C10 -> SCORE | E31: <MOTIVATIE> | G31: ='Beoordelaar 1'!E10 -> SCORE | H31: <MOTIVATIE> | J31: ='Beoordelaar 1'!G10 -> SCORE | K31: <MOTIVATIE>
B32: ='Beoordelaar 2'!$A$1 -> Beoordelaar 2: | D32: ='Beoordelaar 2'!C10 -> SCORE | G32: ='Beoordelaar 2'!E10 -> SCORE | J32: ='Beoordelaar 2'!G10 -> SCORE
B33: ='Beoordelaar 3'!$A$1 -> Beoordelaar 3: | D33: ='Beoordelaar 3'!C10 -> SCORE | G33: ='Beoordelaar 3'!E10 -> SCORE | J33: ='Beoordelaar 3'!G10 -> SCORE
B34: ='Beoordelaar 4'!$A$1 -> Beoordelaar 4: | D34: ='Beoordelaar 4'!C10 -> SCORE | G34: ='Beoordelaar 4'!E10 -> SCORE | J34: ='Beoordelaar 4'!G10 -> SCORE
B35: ='Beoordelaar 5'!$A$1 -> Beoordelaar 5: | D35: ='Beoordelaar 5'!C10 -> SCORE | G35: ='Beoordelaar 5'!E10 -> SCORE | J35: ='Beoordelaar 5'!G10 -> SCORE
B36: ='Beoordelaar 6'!$A$1 -> Beoordelaar 6: | D36: ='Beoordelaar 6'!C10 -> SCORE | G36: ='Beoordelaar 6'!E10 -> SCORE | J36: ='Beoordelaar 6'!G10 -> SCORE
B37: ='Beoordelaar 7'!$A$1 -> Beoordelaar 7: | D37: ='Beoordelaar 7'!C10 -> SCORE | G37: ='Beoordelaar 7'!E10 -> SCORE | J37: ='Beoordelaar 7'!G10 -> SCORE
A38: Consensus | D38: SCORE | G38: SCORE | J38: SCORE
D39: =IF(D38="beter","€ 750",IF(D38="vergelijkbaar","€ 0",IF(D38="minder","-€ 750"," "))) | G39: =IF(G38="beter","€ 750",IF(G38="vergelijkbaar","€ 0",IF(G38="minder","-€ 750"," "))) | J39: =IF(J38="beter","€ 750",IF(J38="vergelijkbaar","€ 0",IF(J38="minder","-€ 750"," ")))
A40: =Productdemonstratie!A8:A8 -> 5. Gemak schoonmaken | B40: ='Beoordelaar 1'!$A$1 -> Beoordelaar 1: | D40: ='Beoordelaar 1'!C12 -> SCORE | E40: <MOTIVATIE> | G40: ='Beoordelaar 1'!E12 -> SCORE | H40: <MOTIVATIE> | J40: ='Beoordelaar 1'!G12 -> SCORE | K40: <MOTIVATIE>
B41: ='Beoordelaar 2'!$A$1 -> Beoordelaar 2: | D41: ='Beoordelaar 2'!C12 -> SCORE | G41: ='Beoordelaar 2'!E12 -> SCORE | J41: ='Beoordelaar 2'!G12 -> SCORE
B42: ='Beoordelaar 3'!$A$1 -> Beoordelaar 3: | D42: ='Beoordelaar 3'!C12 -> SCORE | G42: ='Beoordelaar 3'!E12 -> SCORE | J42: ='Beoordelaar 3'!G12 -> SCORE
B43: ='Beoordelaar 4'!$A$1 -> Beoordelaar 4: | D43: ='Beoordelaar 4'!C12 -> SCORE | G43: ='Beoordelaar 4'!E12 -> SCORE | J43: ='Beoordelaar 4'!G12 -> SCORE
B44: ='Beoordelaar 5'!$A$1 -> Beoordelaar 5: | D44: ='Beoordelaar 5'!C12 -> SCORE | G44: ='Beoordelaar 5'!E12 -> SCORE | J44: ='Beoordelaar 5'!G12 -> SCORE
B45: ='Beoordelaar 6'!$A$1 -> Beoordelaar 6: | D45: ='Beoordelaar 6'!C12 -> SCORE | G45: ='Beoordelaar 6'!E12 -> SCORE | J45: ='Beoordelaar 6'!G12 -> SCORE
B46: ='Beoordelaar 7'!$A$1 -> Beoordelaar 7: | D46: ='Beoordelaar 7'!C12 -> SCORE | G46: ='Beoordelaar 7'!E12 -> SCORE | J46: ='Beoordelaar 7'!G12 -> SCORE
A47: Consensus | D47: SCORE | G47: SCORE | J47: SCORE
D48: =IF(D47="beter","€ 750",IF(D47="vergelijkbaar","€ 0",IF(D47="minder","-€ 750"," "))) | G48: =IF(G47="beter","€ 750",IF(G47="vergelijkbaar","€ 0",IF(G47="minder","-€ 750"," "))) | J48: =IF(J47="beter","€ 750",IF(J47="vergelijkbaar","€ 0",IF(J47="minder","-€ 750"," ")))
A49: =Productdemonstratie!A9:A9 -> 6. Kwaliteit/ gebruiksvriendelijkheid van de slinger | B49: ='Beoordelaar 1'!$A$1 -> Beoordelaar 1: | D49: ='Beoordelaar 1'!C14 -> SCORE | E49: <MOTIVATIE> | G49: ='Beoordelaar 1'!E14 -> SCORE | H49: <MOTIVATIE> | J49: ='Beoordelaar 1'!G14 -> SCORE | K49: <MOTIVATIE>
B50: ='Beoordelaar 2'!$A$1 -> Beoordelaar 2: | D50: ='Beoordelaar 2'!C14 -> SCORE | G50: ='Beoordelaar 2'!E14 -> SCORE | J50: ='Beoordelaar 2'!G14 -> SCORE
B51: ='Beoordelaar 3'!$A$1 -> Beoordelaar 3: | D51: ='Beoordelaar 3'!C14 -> SCORE | G51: ='Beoordelaar 3'!E14 -> SCORE | J51: ='Beoordelaar 3'!G14 -> SCORE
B52: ='Beoordelaar 4'!$A$1 -> Beoordelaar 4: | D52: ='Beoordelaar 4'!C14 -> SCORE | G52: ='Beoordelaar 4'!E14 -> SCORE | J52: ='Beoordelaar 4'!G14 -> SCORE
B53: ='Beoordelaar 5'!$A$1 -> Beoordelaar 5: | D53: ='Beoordelaar 5'!C14 -> SCORE | G53: ='Beoordelaar 5'!E14 -> SCORE | J53: ='Beoordelaar 5'!G14 -> SCORE
B54: ='Beoordelaar 6'!$A$1 -> Beoordelaar 6: | D54: ='Beoordelaar 6'!C14 -> SCORE | G54: ='Beoordelaar 6'!E14 -> SCORE | J54: ='Beoordelaar 6'!G14 -> SCORE
B55: ='Beoordelaar 7'!$A$1 -> Beoordelaar 7: | D55: ='Beoordelaar 7'!C14 -> SCORE | G55: ='Beoordelaar 7'!E14 -> SCORE | J55: ='Beoordelaar 7'!G14 -> SCORE
A56: Consensus | D56: SCORE | G56: SCORE | J56: SCORE
D57: =IF(D56="beter","€ 750",IF(D56="vergelijkbaar","€ 0",IF(D56="minder","-€ 3.000"," "))) | G57: =IF(G56="beter","€ 750",IF(G56="vergelijkbaar","€ 0",IF(G56="minder","-€ 3.000"," "))) | J57: =IF(J56="beter","€ 750",IF(J56="vergelijkbaar","€ 0",IF(J56="minder","-€ 3.000"," ")))
A58: Behaalde waarde: | D58: =D12+D21+D30+D39+D48+D57 -> #VALUE! | G58: =G12+G21+G30+G39+G48+G57 -> #VALUE! | J58: =J12+J21+J30+J39+J48+J57 -> #VALUE!
D59: maximaal 2 maal negatief
A60: =Productdemonstratie!A10 -> 2. Beoordelingscriteria Zit-sta bureau - Item 3
A61: =Productdemonstratie!A11 -> 1. Stabiliteit op alle hoogtes | B61: ='Beoordelaar 1'!$A$1 -> Beoordelaar 1: | D61: ='Beoordelaar 1'!C17 -> SCORE | E61: <MOTIVATIE> | G61: ='Beoordelaar 1'!E17 -> SCORE | H61: <MOTIVATIE> | J61: ='Beoordelaar 1'!G17 -> SCORE | K61: <MOTIVATIE>
B62: ='Beoordelaar 2'!$A$1 -> Beoordelaar 2: | D62: ='Beoordelaar 2'!C17 -> SCORE | G62: ='Beoordelaar 2'!E17 -> SCORE | J62: ='Beoordelaar 2'!G17 -> SCORE
B63: ='Beoordelaar 3'!$A$1 -> Beoordelaar 3: | D63: ='Beoordelaar 3'!C17 -> SCORE | G63: ='Beoordelaar 3'!E17 -> SCORE | J63: ='Beoordelaar 3'!G17 -> SCORE
B64: ='Beoordelaar 4'!$A$1 -> Beoordelaar 4: | D64: ='Beoordelaar 4'!C17 -> SCORE | G64: ='Beoordelaar 4'!E17 -> SCORE | J64: ='Beoordelaar 4'!G17 -> SCORE
B65: ='Beoordelaar 5'!$A$1 -> Beoordelaar 5: | D65: ='Beoordelaar 5'!C17 -> SCORE | G65: ='Beoordelaar 5'!E17 -> SCORE | J65: ='Beoordelaar 5'!G17 -> SCORE
B66: ='Beoordelaar 6'!$A$1 -> Beoordelaar 6: | D66: ='Beoordelaar 6'!C17 -> SCORE | G66: ='Beoordelaar 6'!E17 -> SCORE | J66: ='Beoordelaar 6'!G17 -> SCORE
B67: ='Beoordelaar 7'!$A$1 -> Beoordelaar 7: | D67: ='Beoordelaar 7'!C17 -> SCORE | G67: ='Beoordelaar 7'!E17 -> SCORE | J67: ='Beoordelaar 7'!G17 -> SCORE
A68: Consensus | D68: SCORE | G68: SCORE | J68: SCORE
D69: =IF(D68="beter","€ 750",IF(D68="vergelijkbaar","€ 0",IF(D68="minder","-€ 3.000"," "))) | G69: =IF(G68="beter","€ 750",IF(G68="vergelijkbaar","€ 0",IF(G68="minder","-€ 3.000"," "))) | J69: =IF(J68="beter","€ 750",IF(J68="vergelijkbaar","€ 0",IF(J68="minder","-€ 3.000"," ")))
A70: =Productdemonstratie!A12 -> 2. Mate van geluid bij verstellen hoogte | B70: ='Beoordelaar 1'!$A$1 -> Beoordelaar 1: | D70: ='Beoordelaar 1'!C19 -> SCORE | E70: <MOTIVATIE> | G70: ='Beoordelaar 1'!E19 -> SCORE | H70: <MOTIVATIE> | J70: ='Beoordelaar 1'!G19 -> SCORE | K70: <MOTIVATIE>
B71: ='Beoordelaar 2'!$A$1 -> Beoordelaar 2: | D71: ='Beoordelaar 2'!C19 -> SCORE | G71: ='Beoordelaar 2'!E19 -> SCORE | J71: ='Beoordelaar 2'!G19 -> SCORE
B72: ='Beoordelaar 3'!$A$1 -> Beoordelaar 3: | D72: ='Beoordelaar 3'!C19 -> SCORE | G72: ='Beoordelaar 3'!E19 -> SCORE | J72: ='Beoordelaar 3'!G19 -> SCORE
B73: ='Beoordelaar 4'!$A$1 -> Beoordelaar 4: | D73: ='Beoordelaar 4'!C19 -> SCORE | G73: ='Beoordelaar 4'!E19 -> SCORE | J73: ='Beoordelaar 4'!G19 -> SCORE
B74: ='Beoordelaar 5'!$A$1 -> Beoordelaar 5: | D74: ='Beoordelaar 5'!C19 -> SCORE | G74: ='Beoordelaar 5'!E19 -> SCORE | J74: ='Beoordelaar 5'!G19 -> SCORE
B75: ='Beoordelaar 6'!$A$1 -> Beoordelaar 6: | D75: ='Beoordelaar 6'!C19 -> SCORE | G75: ='Beoordelaar 6'!E19 -> SCORE | J75: ='Beoordelaar 6'!G19 -> SCORE
B76: ='Beoordelaar 7'!$A$1 -> Beoordelaar 7: | D76: ='Beoordelaar 7'!C19 -> SCORE | G76: ='Beoordelaar 7'!E19 -> SCORE | J76: ='Beoordelaar 7'!G19 -> SCORE
A77: Consensus | D77: SCORE | G77: SCORE | J77: SCORE
D78: =IF(D77="beter","€ 750",IF(D77="vergelijkbaar","€ 0",IF(D77="minder","-€ 3.000"," "))) | G78: =IF(G77="beter","€ 750",IF(G77="vergelijkbaar","€ 0",IF(G77="minder","-€ 3.000"," "))) | J78: =IF(J77="beter","€ 750",IF(J77="vergelijkbaar","€ 0",IF(J77="minder","-€ 3.000"," ")))
A79: =Productdemonstratie!A13 -> 3. Constructie onderstel, afwerking | B79: ='Beoordelaar 1'!$A$1 -> Beoordelaar 1: | D79: ='Beoordelaar 1'!C21 -> SCORE | E79: <MOTIVATIE> | G79: ='Beoordelaar 1'!E21 -> SCORE | H79: <MOTIVATIE> | J79: ='Beoordelaar 1'!G21 -> SCORE | K79: <MOTIVATIE>
B80: ='Beoordelaar 2'!$A$1 -> Beoordelaar 2: | D80: ='Beoordelaar 2'!C21 -> SCORE | G80: ='Beoordelaar 2'!E21 -> SCORE | J80: ='Beoordelaar 2'!G21 -> SCORE
B81: ='Beoordelaar 3'!$A$1 -> Beoordelaar 3: | D81: ='Beoordelaar 3'!C21 -> SCORE | G81: ='Beoordelaar 3'!E21 -> SCORE | J81: ='Beoordelaar 3'!G21 -> SCORE
B82: ='Beoordelaar 4'!$A$1 -> Beoordelaar 4: | D82: ='Beoordelaar 4'!C21 -> SCORE | G82: ='Beoordelaar 4'!E21 -> SCORE | J82: ='Beoordelaar 4'!G21 -> SCORE
B83: ='Beoordelaar 5'!$A$1 -> Beoordelaar 5: | D83: ='Beoordelaar 5'!C21 -> SCORE | G83: ='Beoordelaar 5'!E21 -> SCORE | J83: ='Beoordelaar 5'!G21 -> SCORE
B84: ='Beoordelaar 6'!$A$1 -> Beoordelaar 6: | D84: ='Beoordelaar 6'!C21 -> SCORE | G84: ='Beoordelaar 6'!E21 -> SCORE | J84: ='Beoordelaar 6'!G21 -> SCORE
B85: ='Beoordelaar 7'!$A$1 -> Beoordelaar 7: | D85: ='Beoordelaar 7'!C21 -> SCORE | G85: ='Beoordelaar 7'!E21 -> SCORE | J85: ='Beoordelaar 7'!G21 -> SCORE
A86: Consensus | D86: SCORE | G86: SCORE | J86: SCORE
D87: =IF(D86="beter","€ 750",IF(D86="vergelijkbaar","€ 0",IF(D86="minder","-€ 3.000"," "))) | G87: =IF(G86="beter","€ 750",IF(G86="vergelijkbaar","€ 0",IF(G86="minder","-€ 3.000"," "))) | J87: =IF(J86="beter","€ 750",IF(J86="vergelijkbaar","€ 0",IF(J86="minder","-€ 3.000"," ")))
A88: =Productdemonstratie!A14 -> 4. Uitstraling/ vormgeving | B88: ='Beoordelaar 1'!$A$1 -> Beoordelaar 1: | D88: ='Beoordelaar 1'!C23 -> SCORE | E88: <MOTIVATIE> | G88: ='Beoordelaar 1'!E23 -> SCORE | H88: <MOTIVATIE> | J88: ='Beoordelaar 1'!G23 -> SCORE | K88: <MOTIVATIE>
B89: ='Beoordelaar 2'!$A$1 -> Beoordelaar 2: | D89: ='Beoordelaar 2'!C23 -> SCORE | G89: ='Beoordelaar 2'!E23 -> SCORE | J89: ='Beoordelaar 2'!G23 -> SCORE
B90: ='Beoordelaar 3'!$A$1 -> Beoordelaar 3: | D90: ='Beoordelaar 3'!C23 -> SCORE | G90: ='Beoordelaar 3'!E23 -> SCORE | J90: ='Beoordelaar 3'!G23 -> SCORE
B91: ='Beoordelaar 4'!$A$1 -> Beoordelaar 4: | D91: ='Beoordelaar 4'!C23 -> SCORE | G91: ='Beoordelaar 4'!E23 -> SCORE | J91: ='Beoordelaar 4'!G23 -> SCORE
B92: ='Beoordelaar 5'!$A$1 -> Beoordelaar 5: | D92: ='Beoordelaar 5'!C23 -> SCORE | G92: ='Beoordelaar 5'!E23 -> SCORE | J92: ='Beoordelaar 5'!G23 -> SCORE
B93: ='Beoordelaar 6'!$A$1 -> Beoordelaar 6: | D93: ='Beoordelaar 6'!C23 -> SCORE | G93: ='Beoordelaar 6'!E23 -> SCORE | J93: ='Beoordelaar 6'!G23 -> SCORE
B94: ='Beoordelaar 7'!$A$1 -> Beoordelaar 7: | D94: ='Beoordelaar 7'!C23 -> SCORE | G94: ='Beoordelaar 7'!E23 -> SCORE | J94: ='Beoordelaar 7'!G23 -> SCORE
A95: Consensus | D95: SCORE | G95: SCORE | J95: SCORE
D96: =IF(D95="beter","€ 750",IF(D95="vergelijkbaar","€ 0",IF(D95="minder","-€ 750"," "))) | G96: =IF(G95="beter","€ 750",IF(G95="vergelijkbaar","€ 0",IF(G95="minder","-€ 750"," "))) | J96: =IF(J95="beter","€ 750",IF(J95="vergelijkbaar","€ 0",IF(J95="minder","-€ 750"," ")))
A97: =Productdemonstratie!A15 -> 5. Gemak schoonmaken | B97: ='Beoordelaar 1'!$A$1 -> Beoordelaar 1: | D97: ='Beoordelaar 1'!C25 -> SCORE | E97: <MOTIVATIE> | G97: ='Beoordelaar 1'!E25 -> SCORE | H97: <MOTIVATIE> | J97: ='Beoordelaar 1'!G25 -> SCORE | K97: <MOTIVATIE>
B98: ='Beoordelaar 2'!$A$1 -> Beoordelaar 2: | D98: ='Beoordelaar 2'!C25 -> SCORE | G98: ='Beoordelaar 2'!E25 -> SCORE | J98: ='Beoordelaar 2'!G25 -> SCORE
B99: ='Beoordelaar 3'!$A$1 -> Beoordelaar 3: | D99: ='Beoordelaar 3'!C25 -> SCORE | G99: ='Beoordelaar 3'!E25 -> SCORE | J99: ='Beoordelaar 3'!G25 -> SCORE
B100: ='Beoordelaar 4'!$A$1 -> Beoordelaar 4: | D100: ='Beoordelaar 4'!C25 -> SCORE | G100: ='Beoordelaar 4'!E25 -> SCORE | J100: ='Beoordelaar 4'!G25 -> SCORE
...

Sheet Eindscores
A1: Totaalwaarder criterium kwaliteit
A2: Onderdeel | C2: ='Beoordelaar 1'!C1 -> Inschrijver 1 | E2: ='Beoordelaar 1'!E1 -> Inschrijver 2 | G2: ='Beoordelaar 1'!G1 -> Inschrijver 3
A3: 7.1.A BEANTWOORDING OPEN VRAGEN | C3: 0 | E3: 0 | G3: 0
A4: OPEN VRAAG 7.4 DISTRIBUTIE (WAREHOUSING) | C4: 0 | E4: 0 | G4: 0
A5: 7.2 PRODUCTDEMONSTRATIE | C5: =Consensus!D582 -> #VALUE! | E5: =Consensus!G582 -> #VALUE! | G5: =Consensus!J582 -> #VALUE!
A6: Totaal behaalde waarde criterium kwaliteit: | C6: =C4+C3+C5 -> #VALUE! | E6: =E4+E3+E5 -> #VALUE! | G6: =G4+G3+G5 -> #VALUE!
A8: Totaal behaalde waarde criterium prijs: | C8: 0 | E8: 0 | G8: 0
A10: Eindscore (kwaliteit/prijs): | C10: =C8-C6 -> #VALUE! | E10: =E8-E6 -> #VALUE! | G10: =G8-G6 -> #VALUE!
