Workbook
Name C_toeslag: #REF!
Name pauzetoeslag: #REF!
Name rooster: #REF!
Name tarieftoeslag: #REF!
Name verdeling_toeslag: Dienstverdeling!$A$2:$E$24

Sheet Roosterinformatie
A1: ALGEMENE INFORMATIE
A4: Organisatie:Wegschap Tunnel dordtse Kil | F4: Standaard bedrijfstijd: | H4: 36
A5: Onderdeel: | F5: Cycluslengte: | H5: 8 weken
A6: Soort rooster:
A8: Diensten vast Personeel
A9: Afkorting | B9: Omschrijving | D9: Begin | E9: Einde | F9: pauze vergoeding | G9: Onbetaalde pauze | H9: Arbeidsduur | I9: pauze van | J9: tot | K9: pauze van | L9: tot
A10: V1/V2 | B10: Vroege dienst | D10: 0.29166667 | E10: 0.64583333 | G10: 30 min. | H10: 8 | I10: 11,30 uur | J10: 12,00 uur | K10: 12,00 uur | L10: 12.3
A11: L1/L2 | B11: Late dienst | D11: 0.625 | E11: 0.97916667 | F11: zondag 30 min | G11: ma t/m zaterd. 30 min. | H11: 8 | I11: 17.3 | J11: 18 | K11: 18 | L11: 18.3
A12: N1/N2 | B12: Nachtdienst | D12: 0.95833333 | E12: 0.3125 | F12: alle nachten 30 min | G12: ma t/m zond. 30 min. | H12: 8 | I12: 3 | J12: 3.3 | K12: 3.3 | L12: 4
A13: Dza | B13: Dagdienst op zaterdag | D13: 0.41666667 | E13: 0.77083333 | G13: 30 | H13: 8 | I13: 12,30 uur | J13: 13
A14: Dzo | B14: Dagdienst op zondag | D14: 0.45833333 | E14: 0.72916667 | G14: 30 min | H14: 6,00 uur | I14: 13,30 uur | J14: 14,00 uur
A15: KB | B15: kantoor | D15: 0.33333333 | E15: 0.6875 | G15: 30 | H15: 8 | I15: 12.3 | J15: 13
A16: KL | B16: kantoor | D16: 0.29166667 | E16: 0.64583333 | G16: 30 | H16: 8 | I16: 13 | J16: 13.3
A17: DV8 | B17: Dagdienst vroeg | D17: 0.29166667 | E17: 0.64583333 | G17: 30 | H17: 8 | I17: 12,30 uur | J17: 13
A18: DL8 | B18: Dagdienst laat | D18: 0.4375 | E18: 0.79166667 | G18: 30 | H18: 8 | I18: 12,30 uur | J18: 13
A19: DV4 | B19: Dagdienst vroeg | D19: 0.29166667 | E19: 0.44791667 | G19: 0 | H19: 3.75 | I19: geen | J19: geen
A20: DL4 | B20: Dagdienst laat | D20: 0.625 | E20: 0.78125 | G20: 0 | H20: 3.75 | I20: geen | J20: geen
A22: !C! | B22: Wachtdienst | D22: vrijdag 23:00 | E22: zondag 23:00 | H22: 0
A24: Organisatie:Wegschap Tunnel dordtse Kil | F24: Standaard bedrijfstijd: | H24: 36
A25: Onderdeel: | F25: Cycluslengte: | H25: 8 weken
A26: Soort rooster:
A28: Diensten Flexwerkers
A29: Afkorting | B29: Omschrijving | D29: Begin | E29: Einde | F29: pauze vergoeding | G29: Onbetaalde pauze | H29: Arbeidsduur | I29: pauze van | J29: tot | K29: pauze van | L29: tot
A30: V1/V2 | B30: Vroege dienst | D30: 0.29166667 | E30: 0.63541667 | G30: 30 min. | H30: 7.75 | I30: 11,30 uur | J30: 12,00 uur | K30: 12,00 uur | L30: 12.3
A31: L1/L2 | B31: Late dienst | D31: 0.625 | E31: 0.96875 | F31: zondag 30 min | G31: ma t/m zaterd. 30 min. | H31: 7.75 | I31: 17.3 | J31: 18 | K31: 18 | L31: 18.3
A32: N1/N2 | B32: Nachtdienst | D32: 0.95833333 | E32: 0.30208333 | F32: alle nachten 30 min | G32: ma t/m zond. 30 min. | H32: 7.75 | I32: 3 | J32: 3.3 | K32: 3.3 | L32: 4
A33: Dza | B33: Dagdienst op zaterdag | D33: 0.41666667 | E33: 0.76041667 | G33: 30 | H33: 7.75 | I33: 12,30 uur | J33: 13
A34: Dzo | B34: Dagdienst op zondag | D34: 0.45833333 | E34: 0.71875 | G34: 30 min | H34: 5,75 uur | I34: 13,30 uur | J34: 14,00 uur
A35: KB | B35: kantoor
A36: KL | B36: kantoor/vroeg/ laat
A37: DV8 | B37: Dagdienst vroeg | D37: 0.29166667 | E37: 0.63541667 | G37: 30 | H37: 7.75 | I37: 12,30 uur | J37: 13
A38: DL8 | B38: Dagdienst laat | D38: 0.4375 | E38: 0.78125 | G38: 30 | H38: 7.75 | I38: 12,30 uur | J38: 13
A39: DV4 | B39: Dagdienst vroeg | D39: 0.29166667 | E39: 0.44791667 | G39: 0 | H39: 3.75 | I39: geen | J39: geen
A40: DL4 | B40: Dagdienst laat | D40: 0.625 | E40: 0.78125 | G40: 0 | H40: 3.75 | I40: geen | J40: geen
A41: DL4e | B41: Dagdienst laat | D41: 0.625 | E41: 0.78125 | G41: 0 min | H41: 3,75 uur | I41: geen | J41: geen
A42: !C! | B42: Wachtdienst | D42: vrijdag 23:00 | E42: zondag 23:00 | H42: 0

Sheet A3 hor. met datum
A2: rooster per 01-10-2023 | E2: 1 | L2: 2 | S2: 3 | Z2: 4 | AG2: 5 | AN2: 6 | AU2: 7 | BB2: 8
B3: Ma | C3: Di | D3: Wo | E3: Do | F3: Vr | G3: Za | H3: Zo | I3: Ma | J3: Di | K3: Wo | L3: Do | M3: Vr | N3: Za | O3: Zo | P3: Ma | Q3: Di | R3: Wo | S3: Do | T3: Vr | U3: Za | V3: Zo | W3: Ma | X3: Di | Y3: Wo | Z3: Do | AA3: Vr | AB3: Za | AC3: Zo | AD3: Ma | AE3: Di | AF3: Wo | AG3: Do | AH3: Vr | AI3: Za | AJ3: Zo | AK3: Ma | AL3: Di | AM3: Wo | AN3: Do | AO3: Vr | AP3: Za | AQ3: Zo | AR3: Ma | AS3: Di | AT3: Wo | AU3: Do | AV3: Vr | AW3: Za | AX3: Zo | AY3: Ma | AZ3: Di | BA3: Wo | BB3: Do | BC3: Vr | BD3: Za | BE3: Zo
A4: 1 | B4: N1 | C4: N1 | D4: N1 | E4: N1 | I4: L2 | J4: N2 | M4: DV8 | N4: V2 | O4: V1 | R4: V1 | T4: V2 | U4: L2 | V4: L1 | X4: DL4 | Z4: L1 | AA4: L1 | AF4: L1 | AH4: DV4 | AI4: Dza | AK4: L1 | AL4: L1 | AM4: L1 | AP4: N2 | AQ4: N2 | AR4: N2 | AV4: V2 | AW4: V2 | AY4: L2 | AZ4: L2 | BA4: L2 | BD4: V1 | BE4: V1
A5: 2 | D5: K | G5: V2 | H5: V2 | J5: K | N5: L2 | O5: L1 | Q5: K | R5: DL8 | W5: V2 | X5: V2 | Y5: K | AA5: N1 | AD5: L2 | AF5: K | AI5: N1 | AL5: DV8 | AM5: K | AP5: Dza | AR5: V1 | AS5: V1 | AT5: K | AX5: V2 | AY5: DV8 | AZ5: K | BB5: V2 | BC5: V2
A6: 3 | D6: V1 | E6: V1 | G6: V1 | H6: V1 | K6: DV8 | L6: V1 | M6: V1 | P6: V2 | Q6: V2 | R6: V2 | S6: V2 | T6: DV8 | W6: V1 | X6: V1 | Y6: V1 | AB6: V1 | AC6: V1 | AD6: N1 | AE6: N1 | AF6: N1 | AG6: N1 | AK6: V1 | AL6: V1 | AM6: V1 | AP6: V2 | AQ6: V1 | AR6: N1 | AS6: N1 | AT6: N2 | AU6: N2 | AY6: V1 | AZ6: V1 | BA6: V1 | BC6: N2 | BD6: N2 | BE6: N2
A7: 4 | B7: L1 | D7: DL8 | E7: L2 | F7: L2 | I7: V2 | J7: V2 | K7: V2 | L7: N1 | M7: N1 | P7: L1 | Q7: L1 | R7: L1 | U7: L1 | V7: L2 | W7: N2 | X7: N2 | Y7: N2 | AB7: Dza | AD7: V1 | AE7: V1 | AF7: V1 | AI7: V1 | AJ7: V1 | AL7: N1 | AM7: N1 | AN7: N1 | AR7: L2 | AS7: L2 | AT7: L2 | AV7: N1 | AW7: N1 | AX7: N2 | BB7: L2 | BC7: L2 | BD7: L1 | BE7: L1
A8: 5 | B8: L2 | C8: L2 | D8: L2 | E8: N2 | F8: N2 | I8: L1 | J8: L1 | K8: L1 | N8: L1 | O8: L2 | P8: N1 | Q8: N1 | R8: N1 | S8: N1 | W8: L1 | X8: L1 | Y8: L1 | AB8: N1 | AC8: N1 | AD8: N2 | AE8: N2 | AF8: N2 | AG8: N2 | AK8: L2 | AL8: L2 | AM8: L2 | AO8: N2 | AP8: N1 | AQ8: N1 | AU8: L1 | AV8: L1 | AW8: L2 | AX8: L2 | BA8: DL8 | BB8: L1 | BC8: L1
A9: 6 | B9: DL8 | C9: DL8 | E9: L1 | F9: L1 | I9: V1 | J9: V1 | K9: V1 | N9: V1 | O9: V2 | P9: DL8 | Q9: DL8 | S9: L2 | T9: L2 | W9: L2 | X9: L2 | Y9: L2 | AA9: DV8 | AB9: V2 | AC9: V2 | AG9: L1 | AH9: L2 | AI9: L1 | AJ9: L1 | AM9: DV8 | AN9: V1 | AO9: V1 | AR9: V2 | AS9: V2 | AT9: V2 | AU9: V2 | AV9: V1 | AY9: L1 | AZ9: L1 | BA9: L1 | BD9: L2 | BE9: L2
A10: 7 | B10: K | D10: K | E10: DV8 | F10: K | I10: K | J10: DV8 | K10: K | M10: K | P10: K | Q10: K | R10: K | T10: V1 | W10: K | X10: K | Y10: V2 | AA10: K | AD10: K | AE10: K | AF10: L2 | AH10: K | AK10: K | AL10: K | AM10: V2 | AO10: K | AR10: K | AS10: K | AT10: V1 | AV10: K | AY10: K | AZ10: DV8 | BA10: K | BC10: K
A12: 8 | D12: DV4 | E12: DL4 | F12: N1 | J12: DL4 | K12: DL4 | L12: DV4 | M12: DL4 | R12: DV4 | S12: V1 | X12: DV8 | Y12: DV4 | Z12: DL4 | AA12: DL4 | AF12: DV4 | AG12: V2 | AI12: L2 | AJ12: L2 | AL12: DL4 | AM12: DL4 | AN12: DV8 | AP12: V1 | AS12: DL4 | AW12: V1 | AX12: V1 | AZ12: V2 | BC12: DV8
A13: 9 | D13: V2 | G13: N2 | H13: N2 | J13: L2 | K13: L2 | L13: L1 | P13: V1 | Q13: N2 | S13: DL8 | U13: Dza | W13: DV8 | X13: N1 | Z13: V2 | AA13: V2 | AB13: N2 | AC13: N2 | AG13: V1 | AH13: V2 | AK13: N2 | AL13: N2 | AN13: V2 | AO13: V2 | AU13: L2 | AY13: V2 | AZ13: N2 | BB13: N2 | BD13: N1 | BE13: N1
A14: 10 | B14: V1 | F14: V1 | G14: L1 | H14: L1 | L14: DL8 | M14: V2 | S14: DV4 | U14: V1 | V14: V2 | Y14: N1 | Z14: N1 | AA14: N2 | AD14: DV4 | AG14: L2 | AH14: N2 | AJ14: N2 | AK14: N1 | AM14: N2 | AO14: L2 | AT14: DL8 | AU14: DL8 | AV14: N2 | AW14: N2 | AY14: N2 | BB14: DV8 | BC14: V1
A15: 11 | C15: V1 | F15: V2 | G15: L2 | H15: L2 | I15: N1 | K15: N2 | L15: N2 | N15: Dza | P15: N2 | R15: N2 | S15: N2 | T15: N2 | W15: N1 | AB15: L2 | AC15: L1 | AE15: L1 | AH15: DL8 | AI15: V2 | AJ15: V2 | AL15: V2 | AN15: N2 | AO15: N1 | AQ15: V2 | AV15: L2 | AW15: L1 | AX15: L1 | AY15: N1 | BA15: N1 | BB15: N1 | BC15: N1
A16: 12 | B16: K | C16: V2 | E16: K | F16: K | I16: K | J16: K | M16: K | P16: K | Q16: V1 | S16: K | T16: K | W16: K | X16: K | AA16: K | AD16: K | AE16: DV8 | AG16: K | AH16: K | AK16: K | AL16: K | AO16: K | AR16: K | AS16: DV8 | AU16: K | AV16: K | AY16: K | AZ16: K | BC16: K
A17: 13 | B17: N2 | C17: N2 | D17: N2 | G17: N1 | H17: N1 | I17: N2 | L17: L2 | M17: L2 | P17: L2 | Q17: L2 | R17: L2 | U17: N1 | V17: N2 | AD17: L1 | AE17: L2 | AH17: N1 | AI17: N2 | AJ17: N1 | AN17: L2 | AP17: L1 | AQ17: L1 | AR17: L1 | AS17: L1 | AT17: L1 | AZ17: N1 | BA17: N2
A18: 14 | B18: V2 | E18: V2 | F18: DL8 | I18: DV8 | J18: N1 | K18: N1 | M18: N2 | N18: N2 | O18: N2 | S18: L1 | T18: L1 | V18: V1 | W18: DL4 | AA18: L2 | AB18: L1 | AC18: L2 | AD18: DL8 | AF18: DL8 | AH18: V1 | AK18: DV8 | AO18: DL8 | AP18: L2 | AQ18: L2 | AS18: N2 | AT18: N1 | AU18: N1 | AX18: N1 | AZ18: DL4 | BA18: V2 | BB18: V1 | BD18: V2 | BE18: V2
A19: 15 | C19: L1 | D19: L1 | G19: Dza | L19: V2 | M19: L1 | N19: N1 | O19: N1 | T19: N1 | U19: N2 | V19: N1 | Y19: DL8 | Z19: V1 | AA19: V1 | AD19: V2 | AE19: V2 | AF19: V2 | AH19: L1 | AN19: L1 | AO19: L1 | AT19: DV4 | AU19: DV4 | AV19: DV4 | AW19: Dza | BA19: DV4 | BB19: DL4 | BC19: DL4 | BD19: Dza
A31: Standaard diensten | B31: DV4 | C31: DV4 | F31: DV4 | G31: !C! | H31: !C! | I31: DL4 | N31: !C! | O31: !C! | P31: DV4 | Q31: DV4 | T31: DL4 | U31: !C! | V31: !C! | Z31: DV8 | AB31: !C! | AC31: !C! | AE31: DL4 | AG31: DV4 | AI31: !C! | AJ31: !C! | AK31: V2 | AN31: DL4 | AO31: DV4 | AP31: !C! | AQ31: !C! | AR31: DV4 | AU31: V1 | AV31: DL8 | AW31: !C! | AX31: !C! | AY31: DL4 | BD31: !C! | BE31: !C!
A32: Uitzendbureau | U32: V2 | Z32: L2 | AG32: DL8 | AK32: DL4 | AR32: DL8 | BF32: Diensten tempo-team
Z33: N2
A34: Seniorenmaatregel | C34: Dienst begint een half uur later | BF34: Seniorenmaatregel
A36: 2023 | B36: Ma | C36: Di | D36: Wo | E36: Do | F36: Vr | G36: Za | H36: Zo | I36: Ma | J36: Di | K36: Wo | L36: Do | M36: Vr | N36: Za | O36: Zo | P36: Ma | Q36: Di | R36: Wo | S36: Do | T36: Vr | U36: Za | V36: Zo | W36: Ma | X36: Di | Y36: Wo | Z36: Do | AA36: Vr | AB36: Za | AC36: Zo | AD36: Ma | AE36: Di | AF36: Wo | AG36: Do | AH36: Vr | AI36: Za | AJ36: Zo | AK36: Ma | AL36: Di | AM36: Wo | AN36: Do | AO36: Vr | AP36: Za | AQ36: Zo | AR36: Ma | AS36: Di | AT36: Wo | AU36: Do | AV36: Vr | AW36: Za | AX36: Zo | AY36: Ma | AZ36: Di | BA36: Wo | BB36: Do | BC36: Vr | BD36: Za | BE36: Zo | BF36: 2023
V37: 44927 | W37: 44928 | X37: 44929 | Y37: 44930 | Z37: 44931 | AA37: 44932 | AB37: 44933 | AC37: 44934 | AD37: 44935 | AE37: 44936 | AF37: 44937 | AG37: 44938 | AH37: 44939 | AI37: 44940 | AJ37: 44941 | AK37: 44942 | AL37: 44943 | AM37: 44944 | AN37: 44945 | AO37: 44946 | AP37: 44947 | AQ37: 44948 | AR37: 44949 | AS37: 44950 | AT37: 44951 | AU37: 44952 | AV37: 44953 | AW37: 44954 | AX37: 44955 | AY37: 44956 | AZ37: 44957 | BA37: 44958 | BB37: 44959 | BC37: 44960 | BD37: 44961 | BE37: 44962
B38: 44963 | C38: 44964 | D38: 44965 | E38: 44966 | F38: 44967 | G38: 44968 | H38: 44969 | I38: 44970 | J38: 44971 | K38: 44972 | L38: 44973 | M38: 44974 | N38: 44975 | O38: 44976 | P38: 44977 | Q38: 44978 | R38: 44979 | S38: 44980 | T38: 44981 | U38: 44982 | V38: 44983 | W38: 44984 | X38: 44985 | Y38: 44986 | Z38: 44987 | AA38: 44988 | AB38: 44989 | AC38: 44990 | AD38: 44991 | AE38: 44992 | AF38: 44993 | AG38: 44994 | AH38: 44995 | AI38: 44996 | AJ38: 44997 | AK38: 44998 | AL38: 44999 | AM38: 45000 | AN38: 45001 | AO38: 45002 | AP38: 45003 | AQ38: 45004 | AR38: 45005 | AS38: 45006 | AT38: 45007 | AU38: 45008 | AV38: 45009 | AW38: 45010 | AX38: 45011 | AY38: 45012 | AZ38: 45013 | BA38: 45014 | BB38: 45015 | BC38: 45016 | BD38: 45017 | BE38: 45018
B39: 45019 | C39: 45020 | D39: 45021 | E39: 45022 | F39: 45023 | G39: 45024 | H39: 45025 | I39: 45026 | J39: 45027 | K39: 45028 | L39: 45029 | M39: 45030 | N39: 45031 | O39: 45032 | P39: 45033 | Q39: 45034 | R39: 45035 | S39: 45036 | T39: 45037 | U39: 45038 | V39: 45039 | W39: 45040 | X39: 45041 | Y39: 45042 | Z39: 45043 | AA39: 45044 | AB39: 45045 | AC39: 45046 | AD39: 45047 | AE39: 45048 | AF39: 45049 | AG39: 45050 | AH39: 45051 | AI39: 45052 | AJ39: 45053 | AK39: 45054 | AL39: 45055 | AM39: 45056 | AN39: 45057 | AO39: 45058 | AP39: 45059 | AQ39: 45060 | AR39: 45061 | AS39: 45062 | AT39: 45063 | AU39: 45064 | AV39: 45065 | AW39: 45066 | AX39: 45067 | AY39: 45068 | AZ39: 45069 | BA39: 45070 | BB39: 45071 | BC39: 45072 | BD39: 45073 | BE39: 45074
B40: 45075 | C40: 45076 | D40: 45077 | E40: 45078 | F40: 45079 | G40: 45080 | H40: 45081 | I40: 45082 | J40: 45083 | K40: 45084 | L40: 45085 | M40: 45086 | N40: 45087 | O40: 45088 | P40: 45089 | Q40: 45090 | R40: 45091 | S40: 45092 | T40: 45093 | U40: 45094 | V40: 45095 | W40: 45096 | X40: 45097 | Y40: 45098 | Z40: 45099 | AA40: 45100 | AB40: 45101 | AC40: 45102 | AD40: 45103 | AE40: 45104 | AF40: 45105 | AG40: 45106 | AH40: 45107 | AI40: 45108 | AJ40: 45109 | AK40: 45110 | AL40: 45111 | AM40: 45112 | AN40: 45113 | AO40: 45114 | AP40: 45115 | AQ40: 45116 | AR40: 45117 | AS40: 45118 | AT40: 45119 | AU40: 45120 | AV40: 45121 | AW40: 45122 | AX40: 45123 | AY40: 45124 | AZ40: 45125 | BA40: 45126 | BB40: 45127 | BC40: 45128 | BD40: 45129 | BE40: 45130
B41: 45131 | C41: 45132 | D41: 45133 | E41: 45134 | F41: 45135 | G41: 45136 | H41: 45137 | I41: 45138 | J41: 45139 | K41: 45140 | L41: 45141 | M41: 45142 | N41: 45143 | O41: 45144 | P41: 45145 | Q41: 45146 | R41: 45147 | S41: 45148 | T41: 45149 | U41: 45150 | V41: 45151 | W41: 45152 | X41: 45153 | Y41: 45154 | Z41: 45155 | AA41: 45156 | AB41: 45157 | AC41: 45158 | AD41: 45159 | AE41: 45160 | AF41: 45161 | AG41: 45162 | AH41: 45163 | AI41: 45164 | AJ41: 45165 | AK41: 45166 | AL41: 45167 | AM41: 45168 | AN41: 45169 | AO41: 45170 | AP41: 45171 | AQ41: 45172 | AR41: 45173 | AS41: 45174 | AT41: 45175 | AU41: 45176 | AV41: 45177 | AW41: 45178 | AX41: 45179 | AY41: 45180 | AZ41: 45181 | BA41: 45182 | BB41: 45183 | BC41: 45184 | BD41: 45185 | BE41: 45186
B42: 45187 | C42: 45188 | D42: 45189 | E42: 45190 | F42: 45191 | G42: 45192 | H42: 45193 | I42: 45194 | J42: 45195 | K42: 45196 | L42: 45197 | M42: 45198 | N42: 45199 | O42: 45200 | P42: 45201 | Q42: 45202 | R42: 45203 | S42: 45204 | T42: 45205 | U42: 45206 | V42: 45207 | W42: 45208 | X42: 45209 | Y42: 45210 | Z42: 45211 | AA42: 45212 | AB42: 45213 | AC42: 45214 | AD42: 45215 | AE42: 45216 | AF42: 45217 | AG42: 45218 | AH42: 45219 | AI42: 45220 | AJ42: 45221 | AK42: 45222 | AL42: 45223 | AM42: 45224 | AN42: 45225 | AO42: 45226 | AP42: 45227 | AQ42: 45228 | AR42: 45229 | AS42: 45230 | AT42: 45231 | AU42: 45232 | AV42: 45233 | AW42: 45234 | AX42: 45235 | AY42: 45236 | AZ42: 45237 | BA42: 45238 | BB42: 45239 | BC42: 45240 | BD42: 45241 | BE42: 45242
B43: 45243 | C43: 45244 | D43: 45245 | E43: 45246 | F43: 45247 | G43: 45248 | H43: 45249 | I43: 45250 | J43: 45251 | K43: 45252 | L43: 45253 | M43: 45254 | N43: 45255 | O43: 45256 | P43: 45257 | Q43: 45258 | R43: 45259 | S43: 45260 | T43: 45261 | U43: 45262 | V43: 45263 | W43: 45264 | X43: 45265 | Y43: 45266 | Z43: 45267 | AA43: 45268 | AB43: 45269 | AC43: 45270 | AD43: 45271 | AE43: 45272 | AF43: 45273 | AG43: 45274 | AH43: 45275 | AI43: 45276 | AJ43: 45277 | AK43: 45278 | AL43: 45279 | AM43: 45280 | AN43: 45281 | AO43: 45282 | AP43: 45283 | AQ43: 45284 | AR43: 45285 | AS43: 45286 | AT43: 45287 | AU43: 45288 | AV43: 45289 | AW43: 45290 | AX43: 45291
C46: Nieuwjaarsdag | G46: Pasen | K46: Koningsdag | O46: Hemelvaartsdag | S46: Pinksteren | W46: Kerst
P47: K
A49: 2024 | B49: Ma | C49: Di | D49: Wo | E49: Do | F49: Vr | G49: Za | H49: Zo | I49: Ma | J49: Di | K49: Wo | L49: Do | M49: Vr | N49: Za | O49: Zo | P49: Ma | Q49: Di | R49: Wo | S49: Do | T49: Vr | U49: Za | V49: Zo | W49: Ma | X49: Di | Y49: Wo | Z49: Do | AA49: Vr | AB49: Za | AC49: Zo | AD49: Ma | AE49: Di | AF49: Wo | AG49: Do | AH49: Vr | AI49: Za | AJ49: Zo | AK49: Ma | AL49: Di | AM49: Wo | AN49: Do | AO49: Vr | AP49: Za | AQ49: Zo | AR49: Ma | AS49: Di | AT49: Wo | AU49: Do | AV49: Vr | AW49: Za | AX49: Zo | AY49: Ma | AZ49: Di | BA49: Wo | BB49: Do | BC49: Vr | BD49: Za | BE49: Zo | BF49: 2024
AY50: 44927 | AZ50: 44928 | BA50: 44929 | BB50: 44930 | BC50: 44931 | BD50: 44932 | BE50: 44933
B51: 44934 | C51: 44935 | D51: 44936 | E51: 44937 | F51: 44938 | G51: 44939 | H51: 44940 | I51: 44941 | J51: 44942 | K51: 44943 | L51: 44944 | M51: 44945 | N51: 44946 | O51: 44947 | P51: 44948 | Q51: 44949 | R51: 44950 | S51: 44951 | T51: 44952 | U51: 44953 | V51: 44954 | W51: 44955 | X51: 44956 | Y51: 44957 | Z51: 44958 | AA51: 44959 | AB51: 44960 | AC51: 44961 | AD51: 44962 | AE51: 44963 | AF51: 44964 | AG51: 44965 | AH51: 44966 | AI51: 44967 | AJ51: 44968 | AK51: 44969 | AL51: 44970 | AM51: 44971 | AN51: 44972 | AO51: 44973 | AP51: 44974 | AQ51: 44975 | AR51: 44976 | AS51: 44977 | AT51: 44978 | AU51: 44979 | AV51: 44980 | AW51: 44981 | AX51: 44982 | AY51: 44983 | AZ51: 44984 | BA51: 44985 | BB51: 29-feb | BC51: 1-mrt | BD51: 2-mrt | BE51: 3-mrt
B52: 4-mrt | C52: 5-mrt | D52: 6-mrt | E52: 7-mrt | F52: 8-mrt | G52: 9-mrt | H52: 10-mrt | I52: 11-mrt | J52: 12-mrt | K52: 13-mrt | L52: 14-mrt | M52: 15-mrt | N52: 16-mrt | O52: 17-mrt | P52: 18-mrt | Q52: 19-mrt | R52: 20-mrt | S52: 21-mrt | T52: 22-mrt | U52: 23-mrt | V52: 24-mrt | W52: 25-mrt | X52: 26-mrt | Y52: 27-mrt | Z52: 28-mrt | AA52: 29-mrt | AB52: 30-mrt | AC52: 31-mrt | AD52: 45017 | AE52: 45018 | AF52: 45019 | AG52: 45020 | AH52: 45021 | AI52: 45022 | AJ52: 45023 | AK52: 45024 | AL52: 45025 | AM52: 45026 | AN52: 45027 | AO52: 45028 | AP52: 45029 | AQ52: 45030 | AR52: 45031 | AS52: 45032 | AT52: 45033 | AU52: 45034 | AV52: 45035 | AW52: 45036 | AX52: 45037 | AY52: 45038 | AZ52: 45039 | BA52: 45040 | BB52: 45041 | BC52: 45042 | BD52: 45043 | BE52: 45044
B53: 45045 | C53: 45046 | D53: 45047 | E53: 45048 | F53: 45049 | G53: 45050 | H53: 45051 | I53: 45052 | J53: 45053 | K53: 45054 | L53: 45055 | M53: 45056 | N53: 45057 | O53: 45058 | P53: 45059 | Q53: 45060 | R53: 45061 | S53: 45062 | T53: 45063 | U53: 45064 | V53: 45065 | W53: 45066 | X53: 45067 | Y53: 45068 | Z53: 45069 | AA53: 45070 | AB53: 45071 | AC53: 45072 | AD53: 45073 | AE53: 45074 | AF53: 45075 | AG53: 45076 | AH53: 45077 | AI53: 45078 | AJ53: 45079 | AK53: 45080 | AL53: 45081 | AM53: 45082 | AN53: 45083 | AO53: 45084 | AP53: 45085 | AQ53: 45086 | AR53: 45087 | AS53: 45088 | AT53: 45089 | AU53: 45090 | AV53: 45091 | AW53: 45092 | AX53: 45093 | AY53: 45094 | AZ53: 45095 | BA53: 45096 | BB53: 45097 | BC53: 45098 | BD53: 45099 | BE53: 45100
B54: 45101 | C54: 45102 | D54: 45103 | E54: 45104 | F54: 45105 | G54: 45106 | H54: 45107 | I54: 45108 | J54: 45109 | K54: 45110 | L54: 45111 | M54: 45112 | N54: 45113 | O54: 45114 | P54: 45115 | Q54: 45116 | R54: 45117 | S54: 45118 | T54: 45119 | U54: 45120 | V54: 45121 | W54: 45122 | X54: 45123 | Y54: 45124 | Z54: 45125 | AA54: 45126 | AB54: 45127 | AC54: 45128 | AD54: 45129 | AE54: 45130 | AF54: 45131 | AG54: 45132 | AH54: 45133 | AI54: 45134 | AJ54: 45135 | AK54: 45136 | AL54: 45137 | AM54: 45138 | AN54: 45139 | AO54: 45140 | AP54: 45141 | AQ54: 45142 | AR54: 45143 | AS54: 45144 | AT54: 45145 | AU54: 45146 | AV54: 45147 | AW54: 45148 | AX54: 45149 | AY54: 45150 | AZ54: 45151 | BA54: 45152 | BB54: 45153 | BC54: 45154 | BD54: 45155 | BE54: 45156
B55: 45157 | C55: 45158 | D55: 45159 | E55: 45160 | F55: 45161 | G55: 45162 | H55: 45163 | I55: 45164 | J55: 45165 | K55: 45166 | L55: 45167 | M55: 45168 | N55: 45169 | O55: 45170 | P55: 45171 | Q55: 45172 | R55: 45173 | S55: 45174 | T55: 45175 | U55: 45176 | V55: 45177 | W55: 45178 | X55: 45179 | Y55: 45180 | Z55: 45181 | AA55: 45182 | AB55: 45183 | AC55: 45184 | AD55: 45185 | AE55: 45186 | AF55: 45187 | AG55: 45188 | AH55: 45189 | AI55: 45190 | AJ55: 45191 | AK55: 45192 | AL55: 45193 | AM55: 45194 | AN55: 45195 | AO55: 45196 | AP55: 45197 | AQ55: 45198 | AR55: 45199 | AS55: 45200 | AT55: 45201 | AU55: 45202 | AV55: 45203 | AW55: 45204 | AX55: 45205 | AY55: 45206 | AZ55: 45207 | BA55: 45208 | BB55: 45209 | BC55: 45210 | BD55: 45211 | BE55: 45212
B56: 45213 | C56: 45214 | D56: 45215 | E56: 45216 | F56: 45217 | G56: 45218 | H56: 45219 | I56: 45220 | J56: 45221 | K56: 45222 | L56: 45223 | M56: 45224 | N56: 45225 | O56: 45226 | P56: 45227 | Q56: 45228 | R56: 45229 | S56: 45230 | T56: 45231 | U56: 45232 | V56: 45233 | W56: 45234 | X56: 45235 | Y56: 45236 | Z56: 45237 | AA56: 45238 | AB56: 45239 | AC56: 45240 | AD56: 45241 | AE56: 45242 | AF56: 45243 | AG56: 45244 | AH56: 45245 | AI56: 45246 | AJ56: 45247 | AK56: 45248 | AL56: 45249 | AM56: 45250 | AN56: 45251 | AO56: 45252 | AP56: 45253 | AQ56: 45254 | AR56: 45255 | AS56: 45256 | AT56: 45257 | AU56: 45258 | AV56: 45259 | AW56: 45260 | AX56: 45261 | AY56: 45262 | AZ56: 45263 | BA56: 45264 | BB56: 45265 | BC56: 45266 | BD56: 45267 | BE56: 45268
B57: 45269 | C57: 45270 | D57: 45271 | E57: 45272 | F57: 45273 | G57: 45274 | H57: 45275 | I57: 45276 | J57: 45277 | K57: 45278 | L57: 45279 | M57: 45280 | N57: 45281 | O57: 45282 | P57: 45283 | Q57: 45284 | R57: 45285 | S57: 45286 | T57: 45287 | U57: 45288 | V57: 45289 | W57: 45290 | X57: 45291

Sheet Dienstverdeling
B1: Roostertoeslag | C1: Pauze toeslag | D1: C toeslag | E1: Pauze uren | G1: Roostertoeslag RSTR
A2: =#REF! -> #REF! | B2: =SUMIF($A$31:$A$215,$A2,$B$31:$B$215)/8 -> #REF! | C2: =SUMIF($A$31:$A$215,$A2,C$31:C$215)/8 -> #REF! | D2: =(SUMIF($A$31:$A$215,$A2,Q$31:Q$215)*C_toeslag)/8 -> #REF! | E2: =SUMIF($A$31:$A$215,$A2,Y$31:Y$215) -> #REF! | G2: =SUMIF($A$31:$A$215,$A2,B$31:B$215) -> #REF!
A3: =#REF! -> #REF! | B3: =SUMIF($A$31:$A$215,$A3,$B$31:$B$215)/8 -> #REF! | C3: =SUMIF($A$31:$A$215,$A3,C$31:C$215)/8 -> #REF! | D3: =(SUMIF($A$31:$A$215,$A3,Q$31:Q$215)*C_toeslag)/8 -> #REF! | E3: =SUMIF($A$31:$A$215,$A3,Y$31:Y$215) -> #REF! | G3: =SUMIF($A$31:$A$215,$A3,B$31:B$215) -> #REF!
A4: =#REF! -> #REF! | B4: =SUMIF($A$31:$A$215,$A4,$B$31:$B$215)/8 -> #REF! | C4: =SUMIF($A$31:$A$215,$A4,C$31:C$215)/8 -> #REF! | D4: =(SUMIF($A$31:$A$215,$A4,Q$31:Q$215)*C_toeslag)/8 -> #REF! | E4: =SUMIF($A$31:$A$215,$A4,Y$31:Y$215) -> #REF! | G4: =SUMIF($A$31:$A$215,$A4,B$31:B$215) -> #REF!
A5: =#REF! -> #REF! | B5: =SUMIF($A$31:$A$215,$A5,$B$31:$B$215)/8 -> #REF! | C5: =SUMIF($A$31:$A$215,$A5,C$31:C$215)/8 -> #REF! | D5: =(SUMIF($A$31:$A$215,$A5,Q$31:Q$215)*C_toeslag)/8 -> #REF! | E5: =SUMIF($A$31:$A$215,$A5,Y$31:Y$215) -> #REF! | G5: =SUMIF($A$31:$A$215,$A5,B$31:B$215) -> #REF!
A6: =#REF! -> #REF! | B6: =SUMIF($A$31:$A$215,$A6,$B$31:$B$215)/8 -> #REF! | C6: =SUMIF($A$31:$A$215,$A6,C$31:C$215)/8 -> #REF! | D6: =(SUMIF($A$31:$A$215,$A6,Q$31:Q$215)*C_toeslag)/8 -> #REF! | E6: =SUMIF($A$31:$A$215,$A6,Y$31:Y$215) -> #REF! | G6: =SUMIF($A$31:$A$215,$A6,B$31:B$215) -> #REF!
A7: =#REF! -> #REF! | B7: =SUMIF($A$31:$A$215,$A7,$B$31:$B$215)/8 -> #REF! | C7: =SUMIF($A$31:$A$215,$A7,C$31:C$215)/8 -> #REF! | D7: =(SUMIF($A$31:$A$215,$A7,Q$31:Q$215)*C_toeslag)/8 -> #REF! | E7: =SUMIF($A$31:$A$215,$A7,Y$31:Y$215) -> #REF! | G7: =SUMIF($A$31:$A$215,$A7,B$31:B$215) -> #REF!
A8: =#REF! -> #REF! | C8: =SUMIF($A$31:$A$215,$A8,C$31:C$215)/8 -> #REF! | D8: =(SUMIF($A$31:$A$215,$A8,Q$31:Q$215)*C_toeslag)/8 -> #REF! | E8: =SUMIF($A$31:$A$215,$A8,Y$31:Y$215) -> #REF! | G8: =SUMIF($A$31:$A$215,$A8,B$31:B$215) -> #REF!
A9: =#REF! -> #REF! | B9: =SUMIF($A$31:$A$215,$A9,$B$31:$B$215)/8 -> #REF! | C9: =SUMIF($A$31:$A$215,$A9,C$31:C$215)/8 -> #REF! | D9: =(SUMIF($A$31:$A$215,$A9,Q$31:Q$215)*C_toeslag)/8 -> #REF! | E9: =SUMIF($A$31:$A$215,$A9,Y$31:Y$215) -> #REF! | G9: =SUMIF($A$31:$A$215,$A9,B$31:B$215) -> #REF!
A10: =#REF! -> #REF! | B10: =SUMIF($A$31:$A$215,$A10,$B$31:$B$215)/8 -> #REF! | C10: =SUMIF($A$31:$A$215,$A10,C$31:C$215)/8 -> #REF! | D10: =(SUMIF($A$31:$A$215,$A10,Q$31:Q$215)*C_toeslag)/8 -> #REF! | E10: =SUMIF($A$31:$A$215,$A10,Y$31:Y$215) -> #REF! | G10: =SUMIF($A$31:$A$215,$A10,B$31:B$215) -> #REF!
A11: =#REF! -> #REF! | B11: =SUMIF($A$31:$A$215,$A11,$B$31:$B$215)/8 -> #REF! | C11: =SUMIF($A$31:$A$215,$A11,C$31:C$215)/8 -> #REF! | D11: =(SUMIF($A$31:$A$215,$A11,Q$31:Q$215)*C_toeslag)/8 -> #REF! | E11: =SUMIF($A$31:$A$215,$A11,Y$31:Y$215) -> #REF! | G11: =SUMIF($A$31:$A$215,$A11,B$31:B$215) -> #REF!
A12: =#REF! -> #REF! | B12: =SUMIF($A$31:$A$215,$A12,$B$31:$B$215)/8 -> #REF! | C12: =SUMIF($A$31:$A$215,$A12,C$31:C$215)/8 -> #REF! | D12: =(SUMIF($A$31:$A$215,$A12,Q$31:Q$215)*C_toeslag)/8 -> #REF! | E12: =SUMIF($A$31:$A$215,$A12,Y$31:Y$215) -> #REF! | G12: =SUMIF($A$31:$A$215,$A12,B$31:B$215) -> #REF!
A13: =#REF! -> #REF! | B13: =SUMIF($A$31:$A$215,$A13,$B$31:$B$215)/8 -> #REF! | C13: =SUMIF($A$31:$A$215,$A13,C$31:C$215)/8 -> #REF! | D13: =(SUMIF($A$31:$A$215,$A13,Q$31:Q$215)*C_toeslag)/8 -> #REF! | E13: =SUMIF($A$31:$A$215,$A13,Y$31:Y$215) -> #REF! | G13: =SUMIF($A$31:$A$215,$A13,B$31:B$215) -> #REF!
A14: =#REF! -> #REF! | B14: =SUMIF($A$31:$A$215,$A14,$B$31:$B$215)/8 -> #REF! | C14: =SUMIF($A$31:$A$215,$A14,C$31:C$215)/8 -> #REF! | D14: =(SUMIF($A$31:$A$215,$A14,Q$31:Q$215)*C_toeslag)/8 -> #REF! | E14: =SUMIF($A$31:$A$215,$A14,Y$31:Y$215) -> #REF! | G14: =SUMIF($A$31:$A$215,$A14,B$31:B$215) -> #REF!
A15: =#REF! -> #REF! | B15: =SUMIF($A$31:$A$215,$A15,$B$31:$B$215)/8 -> #REF! | C15: =SUMIF($A$31:$A$215,$A15,C$31:C$215)/8 -> #REF! | D15: =(SUMIF($A$31:$A$215,$A15,Q$31:Q$215)*C_toeslag)/8 -> #REF! | E15: =SUMIF($A$31:$A$215,$A15,Y$31:Y$215) -> #REF! | G15: =SUMIF($A$31:$A$215,$A15,B$31:B$215) -> #REF!
A17: =#REF! -> #REF! | B17: =VLOOKUP($A17,'D_Verdeling Flex'!$A$17:$G$24,2,FALSE) -> #REF! | C17: =VLOOKUP($A17,'D_Verdeling Flex'!$A$17:$G$24,3,FALSE) -> #REF! | D17: =VLOOKUP($A17,'D_Verdeling Flex'!$A$17:$G$24,4,FALSE) -> #REF! | E17: =VLOOKUP($A17,'D_Verdeling Flex'!$A$17:$G$24,5,FALSE) -> #REF! | G17: =VLOOKUP($A17,'D_Verdeling Flex'!$A$17:$G$24,7,FALSE) -> #REF!
A18: =#REF! -> #REF! | B18: =VLOOKUP($A18,'D_Verdeling Flex'!$A$17:$G$24,2,FALSE) -> #REF! | C18: =VLOOKUP($A18,'D_Verdeling Flex'!$A$17:$G$24,3,FALSE) -> #REF! | D18: =VLOOKUP($A18,'D_Verdeling Flex'!$A$17:$G$24,4,FALSE) -> #REF! | E18: =VLOOKUP($A18,'D_Verdeling Flex'!$A$17:$G$24,5,FALSE) -> #REF! | G18: =VLOOKUP($A18,'D_Verdeling Flex'!$A$17:$G$24,7,FALSE) -> #REF!
A19: =#REF! -> #REF! | B19: =VLOOKUP($A19,'D_Verdeling Flex'!$A$17:$G$24,2,FALSE) -> #REF! | C19: =VLOOKUP($A19,'D_Verdeling Flex'!$A$17:$G$24,3,FALSE) -> #REF! | D19: =VLOOKUP($A19,'D_Verdeling Flex'!$A$17:$G$24,4,FALSE) -> #REF! | E19: =VLOOKUP($A19,'D_Verdeling Flex'!$A$17:$G$24,5,FALSE) -> #REF! | G19: =VLOOKUP($A19,'D_Verdeling Flex'!$A$17:$G$24,7,FALSE) -> #REF!
A20: =#REF! -> #REF! | B20: =VLOOKUP($A20,'D_Verdeling Flex'!$A$17:$G$24,2,FALSE) -> #REF! | C20: =VLOOKUP($A20,'D_Verdeling Flex'!$A$17:$G$24,3,FALSE) -> #REF! | D20: =VLOOKUP($A20,'D_Verdeling Flex'!$A$17:$G$24,4,FALSE) -> #REF! | E20: =VLOOKUP($A20,'D_Verdeling Flex'!$A$17:$G$24,5,FALSE) -> #REF! | G20: =VLOOKUP($A20,'D_Verdeling Flex'!$A$17:$G$24,7,FALSE) -> #REF!
A21: =#REF! -> #REF! | B21: =VLOOKUP($A21,'D_Verdeling Flex'!$A$17:$G$24,2,FALSE) -> #REF! | C21: =VLOOKUP($A21,'D_Verdeling Flex'!$A$17:$G$24,3,FALSE) -> #REF! | D21: =VLOOKUP($A21,'D_Verdeling Flex'!$A$17:$G$24,4,FALSE) -> #REF! | E21: =VLOOKUP($A21,'D_Verdeling Flex'!$A$17:$G$24,5,FALSE) -> #REF! | G21: =VLOOKUP($A21,'D_Verdeling Flex'!$A$17:$G$24,7,FALSE) -> #REF!
A22: =#REF! -> #REF! | B22: =VLOOKUP($A22,'D_Verdeling Flex'!$A$17:$G$24,2,FALSE) -> #REF! | C22: =VLOOKUP($A22,'D_Verdeling Flex'!$A$17:$G$24,3,FALSE) -> #REF! | D22: =VLOOKUP($A22,'D_Verdeling Flex'!$A$17:$G$24,4,FALSE) -> #REF! | E22: =VLOOKUP($A22,'D_Verdeling Flex'!$A$17:$G$24,5,FALSE) -> #REF! | G22: =VLOOKUP($A22,'D_Verdeling Flex'!$A$17:$G$24,7,FALSE) -> #REF!
A23: =#REF! -> #REF! | B23: =VLOOKUP($A23,'D_Verdeling Flex'!$A$17:$G$24,2,FALSE) -> #REF! | C23: =VLOOKUP($A23,'D_Verdeling Flex'!$A$17:$G$24,3,FALSE) -> #REF! | D23: =VLOOKUP($A23,'D_Verdeling Flex'!$A$17:$G$24,4,FALSE) -> #REF! | E23: =VLOOKUP($A23,'D_Verdeling Flex'!$A$17:$G$24,5,FALSE) -> #REF! | G23: =VLOOKUP($A23,'D_Verdeling Flex'!$A$17:$G$24,7,FALSE) -> #REF!
A24: =#REF! -> #REF! | B24: =VLOOKUP($A24,'D_Verdeling Flex'!$A$17:$G$24,2,FALSE) -> #REF! | C24: =VLOOKUP($A24,'D_Verdeling Flex'!$A$17:$G$24,3,FALSE) -> #REF! | D24: =VLOOKUP($A24,'D_Verdeling Flex'!$A$17:$G$24,4,FALSE) -> #REF! | E24: =VLOOKUP($A24,'D_Verdeling Flex'!$A$17:$G$24,5,FALSE) -> #REF! | G24: =VLOOKUP($A24,'D_Verdeling Flex'!$A$17:$G$24,7,FALSE) -> #REF!
A27: Verdeling van de diensten
A28: Maandag
A29: 6
A30: Groep | D30: V1 | E30: V2 | F30: L1 | G30: L2 | H30: N1 | I30: N2 | J30: DV4 | K30: DL4 | L30: DL4+ | M30: Dza | N30: DV8 | O30: DL8 | P30: K | Q30: !C! | Y30: Pauze uren | Z30: V1 | AA30: V2 | AB30: L1 | AC30: L2 | AD30: N1 | AE30: N2 | AF30: DV4 | AG30: DL4 | AI30: Dza | AJ30: DV8 | AK30: DL8 | AL30: K | AM30: !C!
A31: =A2 -> #REF! | B31: =SUM(Z31:AL31) -> #REF! | C31: =(VLOOKUP(AD$30,pauzetoeslag,$A$29,FALSE)*H31)+(VLOOKUP(AE$30,pauzetoeslag,$A$29,FALSE)*I31) -> #REF! | D31: =COUNTIF(#REF!,Dienstverdeling!D$30)+COUNTIF(#REF!,Dienstverdeling!D$30)+COUNTIF(#REF!,Dienstverdeling!D$30)+COUNTIF(#REF!,Dienstverdeling!D$30)+COUNTIF(#REF!,Dienstverdeling!D$30)+COUNTIF(#REF!,Dienstverdeling!D$30)+COUNTIF(#REF!,Dienstverdeling!D$30)+COUNTIF(#REF!,Dienstverdeling!D$30) -> #REF! | E31: =COUNTIF(#REF!,Dienstverdeling!E$30)+COUNTIF(#REF!,Dienstverdeling!E$30)+COUNTIF(#REF!,Dienstverdeling!E$30)+COUNTIF(#REF!,Dienstverdeling!E$30)+COUNTIF(#REF!,Dienstverdeling!E$30)+COUNTIF(#REF!,Dienstverdeling!E$30)+COUNTIF(#REF!,Dienstverdeling!E$30)+COUNTIF(#REF!,Dienstverdeling!E$30) -> #REF! | F31: =COUNTIF(#REF!,Dienstverdeling!F$30)+COUNTIF(#REF!,Dienstverdeling!F$30)+COUNTIF(#REF!,Dienstverdeling!F$30)+COUNTIF(#REF!,Dienstverdeling!F$30)+COUNTIF(#REF!,Dienstverdeling!F$30)+COUNTIF(#REF!,Dienstverdeling!F$30)+COUNTIF(#REF!,Dienstverdeling!F$30)+COUNTIF(#REF!,Dienstverdeling!F$30) -> #REF! | G31: =COUNTIF(#REF!,Dienstverdeling!G$30)+COUNTIF(#REF!,Dienstverdeling!G$30)+COUNTIF(#REF!,Dienstverdeling!G$30)+COUNTIF(#REF!,Dienstverdeling!G$30)+COUNTIF(#REF!,Dienstverdeling!G$30)+COUNTIF(#REF!,Dienstverdeling!G$30)+COUNTIF(#REF!,Dienstverdeling!G$30)+COUNTIF(#REF!,Dienstverdeling!G$30) -> #REF! | H31: =COUNTIF(#REF!,Dienstverdeling!H$30)+COUNTIF(#REF!,Dienstverdeling!H$30)+COUNTIF(#REF!,Dienstverdeling!H$30)+COUNTIF(#REF!,Dienstverdeling!H$30)+COUNTIF(#REF!,Dienstverdeling!H$30)+COUNTIF(#REF!,Dienstverdeling!H$30)+COUNTIF(#REF!,Dienstverdeling!H$30)+COUNTIF(#REF!,Dienstverdeling!H$30) -> #REF! | I31: =COUNTIF(#REF!,Dienstverdeling!I$30)+COUNTIF(#REF!,Dienstverdeling!I$30)+COUNTIF(#REF!,Dienstverdeling!I$30)+COUNTIF(#REF!,Dienstverdeling!I$30)+COUNTIF(#REF!,Dienstverdeling!I$30)+COUNTIF(#REF!,Dienstverdeling!I$30)+COUNTIF(#REF!,Dienstverdeling!I$30)+COUNTIF(#REF!,Dienstverdeling!I$30) -> #REF! | J31: =COUNTIF(#REF!,Dienstverdeling!J$30)+COUNTIF(#REF!,Dienstverdeling!J$30)+COUNTIF(#REF!,Dienstverdeling!J$30)+COUNTIF(#REF!,Dienstverdeling!J$30)+COUNTIF(#REF!,Dienstverdeling!J$30)+COUNTIF(#REF!,Dienstverdeling!J$30)+COUNTIF(#REF!,Dienstverdeling!J$30)+COUNTIF(#REF!,Dienstverdeling!J$30) -> #REF! | K31: =COUNTIF(#REF!,Dienstverdeling!K$30)+COUNTIF(#REF!,Dienstverdeling!K$30)+COUNTIF(#REF!,Dienstverdeling!K$30)+COUNTIF(#REF!,Dienstverdeling!K$30)+COUNTIF(#REF!,Dienstverdeling!K$30)+COUNTIF(#REF!,Dienstverdeling!K$30)+COUNTIF(#REF!,Dienstverdeling!K$30)+COUNTIF(#REF!,Dienstverdeling!K$30) -> #REF! | ... W31: =COUNTIF(#REF!,Dienstverdeling!W$30)+COUNTIF(#REF!,Dienstverdeling!W$30)+COUNTIF(#REF!,Dienstverdeling!W$30)+COUNTIF(#REF!,Dienstverdeling!W$30)+COUNTIF(#REF!,Dienstverdeling!W$30)+COUNTIF(#REF!,Dienstverdeling!W$30)+COUNTIF(#REF!,Dienstverdeling!W$30)+COUNTIF(#REF!,Dienstverdeling!W$30) -> #REF! | X31: =A29 -> 6 | Y31: =(H31+I31)*0.5 -> #REF! | Z31: =(VLOOKUP(Z$30,tarieftoeslag,$X31,FALSE)*D31) -> #REF! | AA31: =(VLOOKUP(AA$30,tarieftoeslag,$X31,FALSE)*E31) -> #REF! | AB31: =(VLOOKUP(AB$30,tarieftoeslag,$X31,FALSE)*F31) -> #REF! | AC31: =(VLOOKUP(AC$30,tarieftoeslag,$X31,FALSE)*G31) -> #REF! | AD31: =(VLOOKUP(AD$30,tarieftoeslag,$X31,FALSE)*H31) -> #REF! | AE31: =(VLOOKUP(AE$30,tarieftoeslag,$X31,FALSE)*I31) -> #REF! | AF31: =(VLOOKUP(AF$30,tarieftoeslag,$X31,FALSE)*J31) -> #REF! | AG31: =(VLOOKUP(AG$30,tarieftoeslag,$X31,FALSE)*K31) -> #REF! | AI31: =(VLOOKUP(AI$30,tarieftoeslag,$X31,FALSE)*M31) -> #REF! | AJ31: =(VLOOKUP(AJ$30,tarieftoeslag,$X31,FALSE)*N31) -> #REF! | AK31: =(VLOOKUP(AK$30,tarieftoeslag,$X31,FALSE)*O31) -> #REF! | AL31: =(VLOOKUP(AL$30,tarieftoeslag,$X31,FALSE)*P31) -> #REF! | AM31: =(VLOOKUP(AM$30,tarieftoeslag,$X31,FALSE)*Q31) -> #REF! | AN31: =(VLOOKUP(AN$30,tarieftoeslag,$X31,FALSE)*R31) -> #REF! | AO31: =(VLOOKUP(AO$30,tarieftoeslag,$X31,FALSE)*S31) -> #REF! | AP31: =(VLOOKUP(AP$30,tarieftoeslag,$X31,FALSE)*T31) -> #REF! | ... AR31: =(VLOOKUP(AR$30,tarieftoeslag,$X31,FALSE)*V31) -> #REF!
A32: =A3 -> #REF! | B32: =SUM(Z32:AL32) -> #REF! | C32: =(VLOOKUP(AD$30,pauzetoeslag,$A$29,FALSE)*H32)+(VLOOKUP(AE$30,pauzetoeslag,$A$29,FALSE)*I32) -> #REF! | D32: =COUNTIF(#REF!,Dienstverdeling!D$30)+COUNTIF(#REF!,Dienstverdeling!D$30)+COUNTIF(#REF!,Dienstverdeling!D$30)+COUNTIF(#REF!,Dienstverdeling!D$30)+COUNTIF(#REF!,Dienstverdeling!D$30)+COUNTIF(#REF!,Dienstverdeling!D$30)+COUNTIF(#REF!,Dienstverdeling!D$30)+COUNTIF(#REF!,Dienstverdeling!D$30) -> #REF! | E32: =COUNTIF(#REF!,Dienstverdeling!E$30)+COUNTIF(#REF!,Dienstverdeling!E$30)+COUNTIF(#REF!,Dienstverdeling!E$30)+COUNTIF(#REF!,Dienstverdeling!E$30)+COUNTIF(#REF!,Dienstverdeling!E$30)+COUNTIF(#REF!,Dienstverdeling!E$30)+COUNTIF(#REF!,Dienstverdeling!E$30)+COUNTIF(#REF!,Dienstverdeling!E$30) -> #REF! | F32: =COUNTIF(#REF!,Dienstverdeling!F$30)+COUNTIF(#REF!,Dienstverdeling!F$30)+COUNTIF(#REF!,Dienstverdeling!F$30)+COUNTIF(#REF!,Dienstverdeling!F$30)+COUNTIF(#REF!,Dienstverdeling!F$30)+COUNTIF(#REF!,Dienstverdeling!F$30)+COUNTIF(#REF!,Dienstverdeling!F$30)+COUNTIF(#REF!,Dienstverdeling!F$30) -> #REF! | G32: =COUNTIF(#REF!,Dienstverdeling!G$30)+COUNTIF(#REF!,Dienstverdeling!G$30)+COUNTIF(#REF!,Dienstverdeling!G$30)+COUNTIF(#REF!,Dienstverdeling!G$30)+COUNTIF(#REF!,Dienstverdeling!G$30)+COUNTIF(#REF!,Dienstverdeling!G$30)+COUNTIF(#REF!,Dienstverdeling!G$30)+COUNTIF(#REF!,Dienstverdeling!G$30) -> #REF! | H32: =COUNTIF(#REF!,Dienstverdeling!H$30)+COUNTIF(#REF!,Dienstverdeling!H$30)+COUNTIF(#REF!,Dienstverdeling!H$30)+COUNTIF(#REF!,Dienstverdeling!H$30)+COUNTIF(#REF!,Dienstverdeling!H$30)+COUNTIF(#REF!,Dienstverdeling!H$30)+COUNTIF(#REF!,Dienstverdeling!H$30)+COUNTIF(#REF!,Dienstverdeling!H$30) -> #REF! | I32: =COUNTIF(#REF!,Dienstverdeling!I$30)+COUNTIF(#REF!,Dienstverdeling!I$30)+COUNTIF(#REF!,Dienstverdeling!I$30)+COUNTIF(#REF!,Dienstverdeling!I$30)+COUNTIF(#REF!,Dienstverdeling!I$30)+COUNTIF(#REF!,Dienstverdeling!I$30)+COUNTIF(#REF!,Dienstverdeling!I$30)+COUNTIF(#REF!,Dienstverdeling!I$30) -> #REF! | J32: =COUNTIF(#REF!,Dienstverdeling!J$30)+COUNTIF(#REF!,Dienstverdeling!J$30)+COUNTIF(#REF!,Dienstverdeling!J$30)+COUNTIF(#REF!,Dienstverdeling!J$30)+COUNTIF(#REF!,Dienstverdeling!J$30)+COUNTIF(#REF!,Dienstverdeling!J$30)+COUNTIF(#REF!,Dienstverdeling!J$30)+COUNTIF(#REF!,Dienstverdeling!J$30) -> #REF! | K32: =COUNTIF(#REF!,Dienstverdeling!K$30)+COUNTIF(#REF!,Dienstverdeling!K$30)+COUNTIF(#REF!,Dienstverdeling!K$30)+COUNTIF(#REF!,Dienstverdeling!K$30)+COUNTIF(#REF!,Dienstverdeling!K$30)+COUNTIF(#REF!,Dienstverdeling!K$30)+COUNTIF(#REF!,Dienstverdeling!K$30)+COUNTIF(#REF!,Dienstverdeling!K$30) -> #REF! | ... W32: =COUNTIF(#REF!,Dienstverdeling!W$30)+COUNTIF(#REF!,Dienstverdeling!W$30)+COUNTIF(#REF!,Dienstverdeling!W$30)+COUNTIF(#REF!,Dienstverdeling!W$30)+COUNTIF(#REF!,Dienstverdeling!W$30)+COUNTIF(#REF!,Dienstverdeling!W$30)+COUNTIF(#REF!,Dienstverdeling!W$30)+COUNTIF(#REF!,Dienstverdeling!W$30) -> #REF! | X32: =X31 -> 6 | Y32: =(H32+I32)*0.5 -> #REF! | Z32: =(VLOOKUP(Z$30,tarieftoeslag,$X32,FALSE)*D32) -> #REF! | AA32: =(VLOOKUP(AA$30,tarieftoeslag,$X32,FALSE)*E32) -> #REF! | AB32: =(VLOOKUP(AB$30,tarieftoeslag,$X32,FALSE)*F32) -> #REF! | AC32: =(VLOOKUP(AC$30,tarieftoeslag,$X32,FALSE)*G32) -> #REF! | AD32: =(VLOOKUP(AD$30,tarieftoeslag,$X32,FALSE)*H32) -> #REF! | AE32: =(VLOOKUP(AE$30,tarieftoeslag,$X32,FALSE)*I32) -> #REF! | AF32: =(VLOOKUP(AF$30,tarieftoeslag,$X32,FALSE)*J32) -> #REF! | AG32: =(VLOOKUP(AG$30,tarieftoeslag,$X32,FALSE)*K32) -> #REF! | AI32: =(VLOOKUP(AI$30,tarieftoeslag,$X32,FALSE)*M32) -> #REF! | AJ32: =(VLOOKUP(AJ$30,tarieftoeslag,$X32,FALSE)*N32) -> #REF! | AK32: =(VLOOKUP(AK$30,tarieftoeslag,$X32,FALSE)*O32) -> #REF! | AL32: =(VLOOKUP(AL$30,tarieftoeslag,$X32,FALSE)*P32) -> #REF! | AM32: =(VLOOKUP(AM$30,tarieftoeslag,$X32,FALSE)*Q32) -> #REF! | AN32: =(VLOOKUP(AN$30,tarieftoeslag,$X32,FALSE)*R32) -> #REF! | AO32: =(VLOOKUP(AO$30,tarieftoeslag,$X32,FALSE)*S32) -> #REF! | AP32: =(VLOOKUP(AP$30,tarieftoeslag,$X32,FALSE)*T32) -> #REF! | ... AR32: =(VLOOKUP(AR$30,tarieftoeslag,$X32,FALSE)*V32) -> #REF!
A33: =A4 -> #REF! | B33: =SUM(Z33:AL33) -> #REF! | C33: =(VLOOKUP(AD$30,pauzetoeslag,$A$29,FALSE)*H33)+(VLOOKUP(AE$30,pauzetoeslag,$A$29,FALSE)*I33) -> #REF! | D33: =COUNTIF(#REF!,Dienstverdeling!D$30)+COUNTIF(#REF!,Dienstverdeling!D$30)+COUNTIF(#REF!,Dienstverdeling!D$30)+COUNTIF(#REF!,Dienstverdeling!D$30)+COUNTIF(#REF!,Dienstverdeling!D$30)+COUNTIF(#REF!,Dienstverdeling!D$30)+COUNTIF(#REF!,Dienstverdeling!D$30)+COUNTIF(#REF!,Dienstverdeling!D$30) -> #REF! | E33: =COUNTIF(#REF!,Dienstverdeling!E$30)+COUNTIF(#REF!,Dienstverdeling!E$30)+COUNTIF(#REF!,Dienstverdeling!E$30)+COUNTIF(#REF!,Dienstverdeling!E$30)+COUNTIF(#REF!,Dienstverdeling!E$30)+COUNTIF(#REF!,Dienstverdeling!E$30)+COUNTIF(#REF!,Dienstverdeling!E$30)+COUNTIF(#REF!,Dienstverdeling!E$30) -> #REF! | F33: =COUNTIF(#REF!,Dienstverdeling!F$30)+COUNTIF(#REF!,Dienstverdeling!F$30)+COUNTIF(#REF!,Dienstverdeling!F$30)+COUNTIF(#REF!,Dienstverdeling!F$30)+COUNTIF(#REF!,Dienstverdeling!F$30)+COUNTIF(#REF!,Dienstverdeling!F$30)+COUNTIF(#REF!,Dienstverdeling!F$30)+COUNTIF(#REF!,Dienstverdeling!F$30) -> #REF! | G33: =COUNTIF(#REF!,Dienstverdeling!G$30)+COUNTIF(#REF!,Dienstverdeling!G$30)+COUNTIF(#REF!,Dienstverdeling!G$30)+COUNTIF(#REF!,Dienstverdeling!G$30)+COUNTIF(#REF!,Dienstverdeling!G$30)+COUNTIF(#REF!,Dienstverdeling!G$30)+COUNTIF(#REF!,Dienstverdeling!G$30)+COUNTIF(#REF!,Dienstverdeling!G$30) -> #REF! | H33: =COUNTIF(#REF!,Dienstverdeling!H$30)+COUNTIF(#REF!,Dienstverdeling!H$30)+COUNTIF(#REF!,Dienstverdeling!H$30)+COUNTIF(#REF!,Dienstverdeling!H$30)+COUNTIF(#REF!,Dienstverdeling!H$30)+COUNTIF(#REF!,Dienstverdeling!H$30)+COUNTIF(#REF!,Dienstverdeling!H$30)+COUNTIF(#REF!,Dienstverdeling!H$30) -> #REF! | I33: =COUNTIF(#REF!,Dienstverdeling!I$30)+COUNTIF(#REF!,Dienstverdeling!I$30)+COUNTIF(#REF!,Dienstverdeling!I$30)+COUNTIF(#REF!,Dienstverdeling!I$30)+COUNTIF(#REF!,Dienstverdeling!I$30)+COUNTIF(#REF!,Dienstverdeling!I$30)+COUNTIF(#REF!,Dienstverdeling!I$30)+COUNTIF(#REF!,Dienstverdeling!I$30) -> #REF! | J33: =COUNTIF(#REF!,Dienstverdeling!J$30)+COUNTIF(#REF!,Dienstverdeling!J$30)+COUNTIF(#REF!,Dienstverdeling!J$30)+COUNTIF(#REF!,Dienstverdeling!J$30)+COUNTIF(#REF!,Dienstverdeling!J$30)+COUNTIF(#REF!,Dienstverdeling!J$30)+COUNTIF(#REF!,Dienstverdeling!J$30)+COUNTIF(#REF!,Dienstverdeling!J$30) -> #REF! | K33: =COUNTIF(#REF!,Dienstverdeling!K$30)+COUNTIF(#REF!,Dienstverdeling!K$30)+COUNTIF(#REF!,Dienstverdeling!K$30)+COUNTIF(#REF!,Dienstverdeling!K$30)+COUNTIF(#REF!,Dienstverdeling!K$30)+COUNTIF(#REF!,Dienstverdeling!K$30)+COUNTIF(#REF!,Dienstverdeling!K$30)+COUNTIF(#REF!,Dienstverdeling!K$30) -> #REF! | ... W33: =COUNTIF(#REF!,Dienstverdeling!W$30)+COUNTIF(#REF!,Dienstverdeling!W$30)+COUNTIF(#REF!,Dienstverdeling!W$30)+COUNTIF(#REF!,Dienstverdeling!W$30)+COUNTIF(#REF!,Dienstverdeling!W$30)+COUNTIF(#REF!,Dienstverdeling!W$30)+COUNTIF(#REF!,Dienstverdeling!W$30)+COUNTIF(#REF!,Dienstverdeling!W$30) -> #REF! | X33: =X32 -> 6 | Y33: =(H33+I33)*0.5 -> #REF! | Z33: =(VLOOKUP(Z$30,tarieftoeslag,$X33,FALSE)*D33) -> #REF! | AA33: =(VLOOKUP(AA$30,tarieftoeslag,$X33,FALSE)*E33) -> #REF! | AB33: =(VLOOKUP(AB$30,tarieftoeslag,$X33,FALSE)*F33) -> #REF! | AC33: =(VLOOKUP(AC$30,tarieftoeslag,$X33,FALSE)*G33) -> #REF! | AD33: =(VLOOKUP(AD$30,tarieftoeslag,$X33,FALSE)*H33) -> #REF! | AE33: =(VLOOKUP(AE$30,tarieftoeslag,$X33,FALSE)*I33) -> #REF! | AF33: =(VLOOKUP(AF$30,tarieftoeslag,$X33,FALSE)*J33) -> #REF! | AG33: =(VLOOKUP(AG$30,tarieftoeslag,$X33,FALSE)*K33) -> #REF! | AI33: =(VLOOKUP(AI$30,tarieftoeslag,$X33,FALSE)*M33) -> #REF! | AJ33: =(VLOOKUP(AJ$30,tarieftoeslag,$X33,FALSE)*N33) -> #REF! | AK33: =(VLOOKUP(AK$30,tarieftoeslag,$X33,FALSE)*O33) -> #REF! | AL33: =(VLOOKUP(AL$30,tarieftoeslag,$X33,FALSE)*P33) -> #REF! | AM33: =(VLOOKUP(AM$30,tarieftoeslag,$X33,FALSE)*Q33) -> #REF! | AN33: =(VLOOKUP(AN$30,tarieftoeslag,$X33,FALSE)*R33) -> #REF! | AO33: =(VLOOKUP(AO$30,tarieftoeslag,$X33,FALSE)*S33) -> #REF! | AP33: =(VLOOKUP(AP$30,tarieftoeslag,$X33,FALSE)*T33) -> #REF! | ... AR33: =(VLOOKUP(AR$30,tarieftoeslag,$X33,FALSE)*V33) -> #REF!
A34: =A5 -> #REF! | B34: =SUM(Z34:AL34) -> #REF! | C34: =(VLOOKUP(AD$30,pauzetoeslag,$A$29,FALSE)*H34)+(VLOOKUP(AE$30,pauzetoeslag,$A$29,FALSE)*I34) -> #REF! | D34: =COUNTIF(#REF!,Dienstverdeling!D$30)+COUNTIF(#REF!,Dienstverdeling!D$30)+COUNTIF(#REF!,Dienstverdeling!D$30)+COUNTIF(#REF!,Dienstverdeling!D$30)+COUNTIF(#REF!,Dienstverdeling!D$30)+COUNTIF(#REF!,Dienstverdeling!D$30)+COUNTIF(#REF!,Dienstverdeling!D$30)+COUNTIF(#REF!,Dienstverdeling!D$30) -> #REF! | E34: =COUNTIF(#REF!,Dienstverdeling!E$30)+COUNTIF(#REF!,Dienstverdeling!E$30)+COUNTIF(#REF!,Dienstverdeling!E$30)+COUNTIF(#REF!,Dienstverdeling!E$30)+COUNTIF(#REF!,Dienstverdeling!E$30)+COUNTIF(#REF!,Dienstverdeling!E$30)+COUNTIF(#REF!,Dienstverdeling!E$30)+COUNTIF(#REF!,Dienstverdeling!E$30) -> #REF! | F34: =COUNTIF(#REF!,Dienstverdeling!F$30)+COUNTIF(#REF!,Dienstverdeling!F$30)+COUNTIF(#REF!,Dienstverdeling!F$30)+COUNTIF(#REF!,Dienstverdeling!F$30)+COUNTIF(#REF!,Dienstverdeling!F$30)+COUNTIF(#REF!,Dienstverdeling!F$30)+COUNTIF(#REF!,Dienstverdeling!F$30)+COUNTIF(#REF!,Dienstverdeling!F$30) -> #REF! | G34: =COUNTIF(#REF!,Dienstverdeling!G$30)+COUNTIF(#REF!,Dienstverdeling!G$30)+COUNTIF(#REF!,Dienstverdeling!G$30)+COUNTIF(#REF!,Dienstverdeling!G$30)+COUNTIF(#REF!,Dienstverdeling!G$30)+COUNTIF(#REF!,Dienstverdeling!G$30)+COUNTIF(#REF!,Dienstverdeling!G$30)+COUNTIF(#REF!,Dienstverdeling!G$30) -> #REF! | H34: =COUNTIF(#REF!,Dienstverdeling!H$30)+COUNTIF(#REF!,Dienstverdeling!H$30)+COUNTIF(#REF!,Dienstverdeling!H$30)+COUNTIF(#REF!,Dienstverdeling!H$30)+COUNTIF(#REF!,Dienstverdeling!H$30)+COUNTIF(#REF!,Dienstverdeling!H$30)+COUNTIF(#REF!,Dienstverdeling!H$30)+COUNTIF(#REF!,Dienstverdeling!H$30) -> #REF! | I34: =COUNTIF(#REF!,Dienstverdeling!I$30)+COUNTIF(#REF!,Dienstverdeling!I$30)+COUNTIF(#REF!,Dienstverdeling!I$30)+COUNTIF(#REF!,Dienstverdeling!I$30)+COUNTIF(#REF!,Dienstverdeling!I$30)+COUNTIF(#REF!,Dienstverdeling!I$30)+COUNTIF(#REF!,Dienstverdeling!I$30)+COUNTIF(#REF!,Dienstverdeling!I$30) -> #REF! | J34: =COUNTIF(#REF!,Dienstverdeling!J$30)+COUNTIF(#REF!,Dienstverdeling!J$30)+COUNTIF(#REF!,Dienstverdeling!J$30)+COUNTIF(#REF!,Dienstverdeling!J$30)+COUNTIF(#REF!,Dienstverdeling!J$30)+COUNTIF(#REF!,Dienstverdeling!J$30)+COUNTIF(#REF!,Dienstverdeling!J$30)+COUNTIF(#REF!,Dienstverdeling!J$30) -> #REF! | K34: =COUNTIF(#REF!,Dienstverdeling!K$30)+COUNTIF(#REF!,Dienstverdeling!K$30)+COUNTIF(#REF!,Dienstverdeling!K$30)+COUNTIF(#REF!,Dienstverdeling!K$30)+COUNTIF(#REF!,Dienstverdeling!K$30)+COUNTIF(#REF!,Dienstverdeling!K$30)+COUNTIF(#REF!,Dienstverdeling!K$30)+COUNTIF(#REF!,Dienstverdeling!K$30) -> #REF! | ... W34: =COUNTIF(#REF!,Dienstverdeling!W$30)+COUNTIF(#REF!,Dienstverdeling!W$30)+COUNTIF(#REF!,Dienstverdeling!W$30)+COUNTIF(#REF!,Dienstverdeling!W$30)+COUNTIF(#REF!,Dienstverdeling!W$30)+COUNTIF(#REF!,Dienstverdeling!W$30)+COUNTIF(#REF!,Dienstverdeling!W$30)+COUNTIF(#REF!,Dienstverdeling!W$30) -> #REF! | X34: =X33 -> 6 | Y34: =(H34+I34)*0.5 -> #REF! | Z34: =(VLOOKUP(Z$30,tarieftoeslag,$X34,FALSE)*D34) -> #REF! | AA34: =(VLOOKUP(AA$30,tarieftoeslag,$X34,FALSE)*E34) -> #REF! | AB34: =(VLOOKUP(AB$30,tarieftoeslag,$X34,FALSE)*F34) -> #REF! | AC34: =(VLOOKUP(AC$30,tarieftoeslag,$X34,FALSE)*G34) -> #REF! | AD34: =(VLOOKUP(AD$30,tarieftoeslag,$X34,FALSE)*H34) -> #REF! | AE34: =(VLOOKUP(AE$30,tarieftoeslag,$X34,FALSE)*I34) -> #REF! | AF34: =(VLOOKUP(AF$30,tarieftoeslag,$X34,FALSE)*J34) -> #REF! | AG34: =(VLOOKUP(AG$30,tarieftoeslag,$X34,FALSE)*K34) -> #REF! | AI34: =(VLOOKUP(AI$30,tarieftoeslag,$X34,FALSE)*M34) -> #REF! | AJ34: =(VLOOKUP(AJ$30,tarieftoeslag,$X34,FALSE)*N34) -> #REF! | AK34: =(VLOOKUP(AK$30,tarieftoeslag,$X34,FALSE)*O34) -> #REF! | AL34: =(VLOOKUP(AL$30,tarieftoeslag,$X34,FALSE)*P34) -> #REF! | AM34: =(VLOOKUP(AM$30,tarieftoeslag,$X34,FALSE)*Q34) -> #REF! | AN34: =(VLOOKUP(AN$30,tarieftoeslag,$X34,FALSE)*R34) -> #REF! | AO34: =(VLOOKUP(AO$30,tarieftoeslag,$X34,FALSE)*S34) -> #REF! | AP34: =(VLOOKUP(AP$30,tarieftoeslag,$X34,FALSE)*T34) -> #REF! | ... AR34: =(VLOOKUP(AR$30,tarieftoeslag,$X34,FALSE)*V34) -> #REF!
A35: =A6 -> #REF! | B35: =SUM(Z35:AL35) -> #REF! | C35: =(VLOOKUP(AD$30,pauzetoeslag,$A$29,FALSE)*H35)+(VLOOKUP(AE$30,pauzetoeslag,$A$29,FALSE)*I35) -> #REF! | D35: =COUNTIF(#REF!,Dienstverdeling!D$30)+COUNTIF(#REF!,Dienstverdeling!D$30)+COUNTIF(#REF!,Dienstverdeling!D$30)+COUNTIF(#REF!,Dienstverdeling!D$30)+COUNTIF(#REF!,Dienstverdeling!D$30)+COUNTIF(#REF!,Dienstverdeling!D$30)+COUNTIF(#REF!,Dienstverdeling!D$30)+COUNTIF(#REF!,Dienstverdeling!D$30) -> #REF! | E35: =COUNTIF(#REF!,Dienstverdeling!E$30)+COUNTIF(#REF!,Dienstverdeling!E$30)+COUNTIF(#REF!,Dienstverdeling!E$30)+COUNTIF(#REF!,Dienstverdeling!E$30)+COUNTIF(#REF!,Dienstverdeling!E$30)+COUNTIF(#REF!,Dienstverdeling!E$30)+COUNTIF(#REF!,Dienstverdeling!E$30)+COUNTIF(#REF!,Dienstverdeling!E$30) -> #REF! | F35: =COUNTIF(#REF!,Dienstverdeling!F$30)+COUNTIF(#REF!,Dienstverdeling!F$30)+COUNTIF(#REF!,Dienstverdeling!F$30)+COUNTIF(#REF!,Dienstverdeling!F$30)+COUNTIF(#REF!,Dienstverdeling!F$30)+COUNTIF(#REF!,Dienstverdeling!F$30)+COUNTIF(#REF!,Dienstverdeling!F$30)+COUNTIF(#REF!,Dienstverdeling!F$30) -> #REF! | G35: =COUNTIF(#REF!,Dienstverdeling!G$30)+COUNTIF(#REF!,Dienstverdeling!G$30)+COUNTIF(#REF!,Dienstverdeling!G$30)+COUNTIF(#REF!,Dienstverdeling!G$30)+COUNTIF(#REF!,Dienstverdeling!G$30)+COUNTIF(#REF!,Dienstverdeling!G$30)+COUNTIF(#REF!,Dienstverdeling!G$30)+COUNTIF(#REF!,Dienstverdeling!G$30) -> #REF! | H35: =COUNTIF(#REF!,Dienstverdeling!H$30)+COUNTIF(#REF!,Dienstverdeling!H$30)+COUNTIF(#REF!,Dienstverdeling!H$30)+COUNTIF(#REF!,Dienstverdeling!H$30)+COUNTIF(#REF!,Dienstverdeling!H$30)+COUNTIF(#REF!,Dienstverdeling!H$30)+COUNTIF(#REF!,Dienstverdeling!H$30)+COUNTIF(#REF!,Dienstverdeling!H$30) -> #REF! | I35: =COUNTIF(#REF!,Dienstverdeling!I$30)+COUNTIF(#REF!,Dienstverdeling!I$30)+COUNTIF(#REF!,Dienstverdeling!I$30)+COUNTIF(#REF!,Dienstverdeling!I$30)+COUNTIF(#REF!,Dienstverdeling!I$30)+COUNTIF(#REF!,Dienstverdeling!I$30)+COUNTIF(#REF!,Dienstverdeling!I$30)+COUNTIF(#REF!,Dienstverdeling!I$30) -> #REF! | J35: =COUNTIF(#REF!,Dienstverdeling!J$30)+COUNTIF(#REF!,Dienstverdeling!J$30)+COUNTIF(#REF!,Dienstverdeling!J$30)+COUNTIF(#REF!,Dienstverdeling!J$30)+COUNTIF(#REF!,Dienstverdeling!J$30)+COUNTIF(#REF!,Dienstverdeling!J$30)+COUNTIF(#REF!,Dienstverdeling!J$30)+COUNTIF(#REF!,Dienstverdeling!J$30) -> #REF! | K35: =COUNTIF(#REF!,Dienstverdeling!K$30)+COUNTIF(#REF!,Dienstverdeling!K$30)+COUNTIF(#REF!,Dienstverdeling!K$30)+COUNTIF(#REF!,Dienstverdeling!K$30)+COUNTIF(#REF!,Dienstverdeling!K$30)+COUNTIF(#REF!,Dienstverdeling!K$30)+COUNTIF(#REF!,Dienstverdeling!K$30)+COUNTIF(#REF!,Dienstverdeling!K$30) -> #REF! | ... W35: =COUNTIF(#REF!,Dienstverdeling!W$30)+COUNTIF(#REF!,Dienstverdeling!W$30)+COUNTIF(#REF!,Dienstverdeling!W$30)+COUNTIF(#REF!,Dienstverdeling!W$30)+COUNTIF(#REF!,Dienstverdeling!W$30)+COUNTIF(#REF!,Dienstverdeling!W$30)+COUNTIF(#REF!,Dienstverdeling!W$30)+COUNTIF(#REF!,Dienstverdeling!W$30) -> #REF! | X35: =X34 -> 6 | Y35: =(H35+I35)*0.5 -> #REF! | Z35: =(VLOOKUP(Z$30,tarieftoeslag,$X35,FALSE)*D35) -> #REF! | AA35: =(VLOOKUP(AA$30,tarieftoeslag,$X35,FALSE)*E35) -> #REF! | AB35: =(VLOOKUP(AB$30,tarieftoeslag,$X35,FALSE)*F35) -> #REF! | AC35: =(VLOOKUP(AC$30,tarieftoeslag,$X35,FALSE)*G35) -> #REF! | AD35: =(VLOOKUP(AD$30,tarieftoeslag,$X35,FALSE)*H35) -> #REF! | AE35: =(VLOOKUP(AE$30,tarieftoeslag,$X35,FALSE)*I35) -> #REF! | AF35: =(VLOOKUP(AF$30,tarieftoeslag,$X35,FALSE)*J35) -> #REF! | AG35: =(VLOOKUP(AG$30,tarieftoeslag,$X35,FALSE)*K35) -> #REF! | AI35: =(VLOOKUP(AI$30,tarieftoeslag,$X35,FALSE)*M35) -> #REF! | AJ35: =(VLOOKUP(AJ$30,tarieftoeslag,$X35,FALSE)*N35) -> #REF! | AK35: =(VLOOKUP(AK$30,tarieftoeslag,$X35,FALSE)*O35) -> #REF! | AL35: =(VLOOKUP(AL$30,tarieftoeslag,$X35,FALSE)*P35) -> #REF! | AM35: =(VLOOKUP(AM$30,tarieftoeslag,$X35,FALSE)*Q35) -> #REF! | AN35: =(VLOOKUP(AN$30,tarieftoeslag,$X35,FALSE)*R35) -> #REF! | AO35: =(VLOOKUP(AO$30,tarieftoeslag,$X35,FALSE)*S35) -> #REF! | AP35: =(VLOOKUP(AP$30,tarieftoeslag,$X35,FALSE)*T35) -> #REF! | ... AR35: =(VLOOKUP(AR$30,tarieftoeslag,$X35,FALSE)*V35) -> #REF!
A36: =A7 -> #REF! | B36: =SUM(Z36:AL36) -> #REF! | C36: =(VLOOKUP(AD$30,pauzetoeslag,$A$29,FALSE)*H36)+(VLOOKUP(AE$30,pauzetoeslag,$A$29,FALSE)*I36) -> #REF! | D36: =COUNTIF(#REF!,Dienstverdeling!D$30)+COUNTIF(#REF!,Dienstverdeling!D$30)+COUNTIF(#REF!,Dienstverdeling!D$30)+COUNTIF(#REF!,Dienstverdeling!D$30)+COUNTIF(#REF!,Dienstverdeling!D$30)+COUNTIF(#REF!,Dienstverdeling!D$30)+COUNTIF(#REF!,Dienstverdeling!D$30)+COUNTIF(#REF!,Dienstverdeling!D$30) -> #REF! | E36: =COUNTIF(#REF!,Dienstverdeling!E$30)+COUNTIF(#REF!,Dienstverdeling!E$30)+COUNTIF(#REF!,Dienstverdeling!E$30)+COUNTIF(#REF!,Dienstverdeling!E$30)+COUNTIF(#REF!,Dienstverdeling!E$30)+COUNTIF(#REF!,Dienstverdeling!E$30)+COUNTIF(#REF!,Dienstverdeling!E$30)+COUNTIF(#REF!,Dienstverdeling!E$30) -> #REF! | F36: =COUNTIF(#REF!,Dienstverdeling!F$30)+COUNTIF(#REF!,Dienstverdeling!F$30)+COUNTIF(#REF!,Dienstverdeling!F$30)+COUNTIF(#REF!,Dienstverdeling!F$30)+COUNTIF(#REF!,Dienstverdeling!F$30)+COUNTIF(#REF!,Dienstverdeling!F$30)+COUNTIF(#REF!,Dienstverdeling!F$30)+COUNTIF(#REF!,Dienstverdeling!F$30) -> #REF! | G36: =COUNTIF(#REF!,Dienstverdeling!G$30)+COUNTIF(#REF!,Dienstverdeling!G$30)+COUNTIF(#REF!,Dienstverdeling!G$30)+COUNTIF(#REF!,Dienstverdeling!G$30)+COUNTIF(#REF!,Dienstverdeling!G$30)+COUNTIF(#REF!,Dienstverdeling!G$30)+COUNTIF(#REF!,Dienstverdeling!G$30)+COUNTIF(#REF!,Dienstverdeling!G$30) -> #REF! | H36: =COUNTIF(#REF!,Dienstverdeling!H$30)+COUNTIF(#REF!,Dienstverdeling!H$30)+COUNTIF(#REF!,Dienstverdeling!H$30)+COUNTIF(#REF!,Dienstverdeling!H$30)+COUNTIF(#REF!,Dienstverdeling!H$30)+COUNTIF(#REF!,Dienstverdeling!H$30)+COUNTIF(#REF!,Dienstverdeling!H$30)+COUNTIF(#REF!,Dienstverdeling!H$30) -> #REF! | I36: =COUNTIF(#REF!,Dienstverdeling!I$30)+COUNTIF(#REF!,Dienstverdeling!I$30)+COUNTIF(#REF!,Dienstverdeling!I$30)+COUNTIF(#REF!,Dienstverdeling!I$30)+COUNTIF(#REF!,Dienstverdeling!I$30)+COUNTIF(#REF!,Dienstverdeling!I$30)+COUNTIF(#REF!,Dienstverdeling!I$30)+COUNTIF(#REF!,Dienstverdeling!I$30) -> #REF! | J36: =COUNTIF(#REF!,Dienstverdeling!J$30)+COUNTIF(#REF!,Dienstverdeling!J$30)+COUNTIF(#REF!,Dienstverdeling!J$30)+COUNTIF(#REF!,Dienstverdeling!J$30)+COUNTIF(#REF!,Dienstverdeling!J$30)+COUNTIF(#REF!,Dienstverdeling!J$30)+COUNTIF(#REF!,Dienstverdeling!J$30)+COUNTIF(#REF!,Dienstverdeling!J$30) -> #REF! | K36: =COUNTIF(#REF!,Dienstverdeling!K$30)+COUNTIF(#REF!,Dienstverdeling!K$30)+COUNTIF(#REF!,Dienstverdeling!K$30)+COUNTIF(#REF!,Dienstverdeling!K$30)+COUNTIF(#REF!,Dienstverdeling!K$30)+COUNTIF(#REF!,Dienstverdeling!K$30)+COUNTIF(#REF!,Dienstverdeling!K$30)+COUNTIF(#REF!,Dienstverdeling!K$30) -> #REF! | ... W36: =COUNTIF(#REF!,Dienstverdeling!W$30)+COUNTIF(#REF!,Dienstverdeling!W$30)+COUNTIF(#REF!,Dienstverdeling!W$30)+COUNTIF(#REF!,Dienstverdeling!W$30)+COUNTIF(#REF!,Dienstverdeling!W$30)+COUNTIF(#REF!,Dienstverdeling!W$30)+COUNTIF(#REF!,Dienstverdeling!W$30)+COUNTIF(#REF!,Dienstverdeling!W$30) -> #REF! | X36: =X35 -> 6 | Y36: =(H36+I36)*0.5 -> #REF! | Z36: =(VLOOKUP(Z$30,tarieftoeslag,$X36,FALSE)*D36) -> #REF! | AA36: =(VLOOKUP(AA$30,tarieftoeslag,$X36,FALSE)*E36) -> #REF! | AB36: =(VLOOKUP(AB$30,tarieftoeslag,$X36,FALSE)*F36) -> #REF! | AC36: =(VLOOKUP(AC$30,tarieftoeslag,$X36,FALSE)*G36) -> #REF! | AD36: =(VLOOKUP(AD$30,tarieftoeslag,$X36,FALSE)*H36) -> #REF! | AE36: =(VLOOKUP(AE$30,tarieftoeslag,$X36,FALSE)*I36) -> #REF! | AF36: =(VLOOKUP(AF$30,tarieftoeslag,$X36,FALSE)*J36) -> #REF! | AG36: =(VLOOKUP(AG$30,tarieftoeslag,$X36,FALSE)*K36) -> #REF! | AI36: =(VLOOKUP(AI$30,tarieftoeslag,$X36,FALSE)*M36) -> #REF! | AJ36: =(VLOOKUP(AJ$30,tarieftoeslag,$X36,FALSE)*N36) -> #REF! | AK36: =(VLOOKUP(AK$30,tarieftoeslag,$X36,FALSE)*O36) -> #REF! | AL36: =(VLOOKUP(AL$30,tarieftoeslag,$X36,FALSE)*P36) -> #REF! | AM36: =(VLOOKUP(AM$30,tarieftoeslag,$X36,FALSE)*Q36) -> #REF! | AN36: =(VLOOKUP(AN$30,tarieftoeslag,$X36,FALSE)*R36) -> #REF! | AO36: =(VLOOKUP(AO$30,tarieftoeslag,$X36,FALSE)*S36) -> #REF! | AP36: =(VLOOKUP(AP$30,tarieftoeslag,$X36,FALSE)*T36) -> #REF! | ... AR36: =(VLOOKUP(AR$30,tarieftoeslag,$X36,FALSE)*V36) -> #REF!
A37: =A8 -> #REF! | B37: =SUM(Z37:AL37) -> #REF! | C37: =(VLOOKUP(AD$30,pauzetoeslag,$A$29,FALSE)*H37)+(VLOOKUP(AE$30,pauzetoeslag,$A$29,FALSE)*I37) -> #REF! | D37: =COUNTIF(#REF!,Dienstverdeling!D$30)+COUNTIF(#REF!,Dienstverdeling!D$30)+COUNTIF(#REF!,Dienstverdeling!D$30)+COUNTIF(#REF!,Dienstverdeling!D$30)+COUNTIF(#REF!,Dienstverdeling!D$30)+COUNTIF(#REF!,Dienstverdeling!D$30)+COUNTIF(#REF!,Dienstverdeling!D$30)+COUNTIF(#REF!,Dienstverdeling!D$30) -> #REF! | E37: =COUNTIF(#REF!,Dienstverdeling!E$30)+COUNTIF(#REF!,Dienstverdeling!E$30)+COUNTIF(#REF!,Dienstverdeling!E$30)+COUNTIF(#REF!,Dienstverdeling!E$30)+COUNTIF(#REF!,Dienstverdeling!E$30)+COUNTIF(#REF!,Dienstverdeling!E$30)+COUNTIF(#REF!,Dienstverdeling!E$30)+COUNTIF(#REF!,Dienstverdeling!E$30) -> #REF! | F37: =COUNTIF(#REF!,Dienstverdeling!F$30)+COUNTIF(#REF!,Dienstverdeling!F$30)+COUNTIF(#REF!,Dienstverdeling!F$30)+COUNTIF(#REF!,Dienstverdeling!F$30)+COUNTIF(#REF!,Dienstverdeling!F$30)+COUNTIF(#REF!,Dienstverdeling!F$30)+COUNTIF(#REF!,Dienstverdeling!F$30)+COUNTIF(#REF!,Dienstverdeling!F$30) -> #REF! | G37: =COUNTIF(#REF!,Dienstverdeling!G$30)+COUNTIF(#REF!,Dienstverdeling!G$30)+COUNTIF(#REF!,Dienstverdeling!G$30)+COUNTIF(#REF!,Dienstverdeling!G$30)+COUNTIF(#REF!,Dienstverdeling!G$30)+COUNTIF(#REF!,Dienstverdeling!G$30)+COUNTIF(#REF!,Dienstverdeling!G$30)+COUNTIF(#REF!,Dienstverdeling!G$30) -> #REF! | H37: =COUNTIF(#REF!,Dienstverdeling!H$30)+COUNTIF(#REF!,Dienstverdeling!H$30)+COUNTIF(#REF!,Dienstverdeling!H$30)+COUNTIF(#REF!,Dienstverdeling!H$30)+COUNTIF(#REF!,Dienstverdeling!H$30)+COUNTIF(#REF!,Dienstverdeling!H$30)+COUNTIF(#REF!,Dienstverdeling!H$30)+COUNTIF(#REF!,Dienstverdeling!H$30) -> #REF! | I37: =COUNTIF(#REF!,Dienstverdeling!I$30)+COUNTIF(#REF!,Dienstverdeling!I$30)+COUNTIF(#REF!,Dienstverdeling!I$30)+COUNTIF(#REF!,Dienstverdeling!I$30)+COUNTIF(#REF!,Dienstverdeling!I$30)+COUNTIF(#REF!,Dienstverdeling!I$30)+COUNTIF(#REF!,Dienstverdeling!I$30)+COUNTIF(#REF!,Dienstverdeling!I$30) -> #REF! | J37: =COUNTIF(#REF!,Dienstverdeling!J$30)+COUNTIF(#REF!,Dienstverdeling!J$30)+COUNTIF(#REF!,Dienstverdeling!J$30)+COUNTIF(#REF!,Dienstverdeling!J$30)+COUNTIF(#REF!,Dienstverdeling!J$30)+COUNTIF(#REF!,Dienstverdeling!J$30)+COUNTIF(#REF!,Dienstverdeling!J$30)+COUNTIF(#REF!,Dienstverdeling!J$30) -> #REF! | K37: =COUNTIF(#REF!,Dienstverdeling!K$30)+COUNTIF(#REF!,Dienstverdeling!K$30)+COUNTIF(#REF!,Dienstverdeling!K$30)+COUNTIF(#REF!,Dienstverdeling!K$30)+COUNTIF(#REF!,Dienstverdeling!K$30)+COUNTIF(#REF!,Dienstverdeling!K$30)+COUNTIF(#REF!,Dienstverdeling!K$30)+COUNTIF(#REF!,Dienstverdeling!K$30) -> #REF! | ... W37: =COUNTIF(#REF!,Dienstverdeling!W$30)+COUNTIF(#REF!,Dienstverdeling!W$30)+COUNTIF(#REF!,Dienstverdeling!W$30)+COUNTIF(#REF!,Dienstverdeling!W$30)+COUNTIF(#REF!,Dienstverdeling!W$30)+COUNTIF(#REF!,Dienstverdeling!W$30)+COUNTIF(#REF!,Dienstverdeling!W$30)+COUNTIF(#REF!,Dienstverdeling!W$30) -> #REF! | X37: =X36 -> 6 | Y37: =(H37+I37)*0.5 -> #REF! | Z37: =(VLOOKUP(Z$30,tarieftoeslag,$X37,FALSE)*D37) -> #REF! | AA37: =(VLOOKUP(AA$30,tarieftoeslag,$X37,FALSE)*E37) -> #REF! | AB37: =(VLOOKUP(AB$30,tarieftoeslag,$X37,FALSE)*F37) -> #REF! | AC37: =(VLOOKUP(AC$30,tarieftoeslag,$X37,FALSE)*G37) -> #REF! | AD37: =(VLOOKUP(AD$30,tarieftoeslag,$X37,FALSE)*H37) -> #REF! | AE37: =(VLOOKUP(AE$30,tarieftoeslag,$X37,FALSE)*I37) -> #REF! | AF37: =(VLOOKUP(AF$30,tarieftoeslag,$X37,FALSE)*J37) -> #REF! | AG37: =(VLOOKUP(AG$30,tarieftoeslag,$X37,FALSE)*K37) -> #REF! | AI37: =(VLOOKUP(AI$30,tarieftoeslag,$X37,FALSE)*M37) -> #REF! | AJ37: =(VLOOKUP(AJ$30,tarieftoeslag,$X37,FALSE)*N37) -> #REF! | AK37: =(VLOOKUP(AK$30,tarieftoeslag,$X37,FALSE)*O37) -> #REF! | AL37: =(VLOOKUP(AL$30,tarieftoeslag,$X37,FALSE)*P37) -> #REF! | AM37: =(VLOOKUP(AM$30,tarieftoeslag,$X37,FALSE)*Q37) -> #REF! | AN37: =(VLOOKUP(AN$30,tarieftoeslag,$X37,FALSE)*R37) -> #REF! | AO37: =(VLOOKUP(AO$30,tarieftoeslag,$X37,FALSE)*S37) -> #REF! | AP37: =(VLOOKUP(AP$30,tarieftoeslag,$X37,FALSE)*T37) -> #REF! | ... AR37: =(VLOOKUP(AR$30,tarieftoeslag,$X37,FALSE)*V37) -> #REF!
A38: =A9 -> #REF! | B38: =SUM(Z38:AL38) -> #REF! | C38: =(VLOOKUP(AD$30,pauzetoeslag,$A$29,FALSE)*H38)+(VLOOKUP(AE$30,pauzetoeslag,$A$29,FALSE)*I38) -> #REF! | D38: =COUNTIF(#REF!,Dienstverdeling!D$30)+COUNTIF(#REF!,Dienstverdeling!D$30)+COUNTIF(#REF!,Dienstverdeling!D$30)+COUNTIF(#REF!,Dienstverdeling!D$30)+COUNTIF(#REF!,Dienstverdeling!D$30)+COUNTIF(#REF!,Dienstverdeling!D$30)+COUNTIF(#REF!,Dienstverdeling!D$30)+COUNTIF(#REF!,Dienstverdeling!D$30) -> #REF! | E38: =COUNTIF(#REF!,Dienstverdeling!E$30)+COUNTIF(#REF!,Dienstverdeling!E$30)+COUNTIF(#REF!,Dienstverdeling!E$30)+COUNTIF(#REF!,Dienstverdeling!E$30)+COUNTIF(#REF!,Dienstverdeling!E$30)+COUNTIF(#REF!,Dienstverdeling!E$30)+COUNTIF(#REF!,Dienstverdeling!E$30)+COUNTIF(#REF!,Dienstverdeling!E$30) -> #REF! | F38: =COUNTIF(#REF!,Dienstverdeling!F$30)+COUNTIF(#REF!,Dienstverdeling!F$30)+COUNTIF(#REF!,Dienstverdeling!F$30)+COUNTIF(#REF!,Dienstverdeling!F$30)+COUNTIF(#REF!,Dienstverdeling!F$30)+COUNTIF(#REF!,Dienstverdeling!F$30)+COUNTIF(#REF!,Dienstverdeling!F$30)+COUNTIF(#REF!,Dienstverdeling!F$30) -> #REF! | G38: =COUNTIF(#REF!,Dienstverdeling!G$30)+COUNTIF(#REF!,Dienstverdeling!G$30)+COUNTIF(#REF!,Dienstverdeling!G$30)+COUNTIF(#REF!,Dienstverdeling!G$30)+COUNTIF(#REF!,Dienstverdeling!G$30)+COUNTIF(#REF!,Dienstverdeling!G$30)+COUNTIF(#REF!,Dienstverdeling!G$30)+COUNTIF(#REF!,Dienstverdeling!G$30) -> #REF! | H38: =COUNTIF(#REF!,Dienstverdeling!H$30)+COUNTIF(#REF!,Dienstverdeling!H$30)+COUNTIF(#REF!,Dienstverdeling!H$30)+COUNTIF(#REF!,Dienstverdeling!H$30)+COUNTIF(#REF!,Dienstverdeling!H$30)+COUNTIF(#REF!,Dienstverdeling!H$30)+COUNTIF(#REF!,Dienstverdeling!H$30)+COUNTIF(#REF!,Dienstverdeling!H$30) -> #REF! | I38: =COUNTIF(#REF!,Dienstverdeling!I$30)+COUNTIF(#REF!,Dienstverdeling!I$30)+COUNTIF(#REF!,Dienstverdeling!I$30)+COUNTIF(#REF!,Dienstverdeling!I$30)+COUNTIF(#REF!,Dienstverdeling!I$30)+COUNTIF(#REF!,Dienstverdeling!I$30)+COUNTIF(#REF!,Dienstverdeling!I$30)+COUNTIF(#REF!,Dienstverdeling!I$30) -> #REF! | J38: =COUNTIF(#REF!,Dienstverdeling!J$30)+COUNTIF(#REF!,Dienstverdeling!J$30)+COUNTIF(#REF!,Dienstverdeling!J$30)+COUNTIF(#REF!,Dienstverdeling!J$30)+COUNTIF(#REF!,Dienstverdeling!J$30)+COUNTIF(#REF!,Dienstverdeling!J$30)+COUNTIF(#REF!,Dienstverdeling!J$30)+COUNTIF(#REF!,Dienstverdeling!J$30) -> #REF! | K38: =COUNTIF(#REF!,Dienstverdeling!K$30)+COUNTIF(#REF!,Dienstverdeling!K$30)+COUNTIF(#REF!,Dienstverdeling!K$30)+COUNTIF(#REF!,Dienstverdeling!K$30)+COUNTIF(#REF!,Dienstverdeling!K$30)+COUNTIF(#REF!,Dienstverdeling!K$30)+COUNTIF(#REF!,Dienstverdeling!K$30)+COUNTIF(#REF!,Dienstverdeling!K$30) -> #REF! | ... W38: =COUNTIF(#REF!,Dienstverdeling!W$30)+COUNTIF(#REF!,Dienstverdeling!W$30)+COUNTIF(#REF!,Dienstverdeling!W$30)+COUNTIF(#REF!,Dienstverdeling!W$30)+COUNTIF(#REF!,Dienstverdeling!W$30)+COUNTIF(#REF!,Dienstverdeling!W$30)+COUNTIF(#REF!,Dienstverdeling!W$30)+COUNTIF(#REF!,Dienstverdeling!W$30) -> #REF! | X38: =X37 -> 6 | Y38: =(H38+I38)*0.5 -> #REF! | Z38: =(VLOOKUP(Z$30,tarieftoeslag,$X38,FALSE)*D38) -> #REF! | AA38: =(VLOOKUP(AA$30,tarieftoeslag,$X38,FALSE)*E38) -> #REF! | AB38: =(VLOOKUP(AB$30,tarieftoeslag,$X38,FALSE)*F38) -> #REF! | AC38: =(VLOOKUP(AC$30,tarieftoeslag,$X38,FALSE)*G38) -> #REF! | AD38: =(VLOOKUP(AD$30,tarieftoeslag,$X38,FALSE)*H38) -> #REF! | AE38: =(VLOOKUP(AE$30,tarieftoeslag,$X38,FALSE)*I38) -> #REF! | AF38: =(VLOOKUP(AF$30,tarieftoeslag,$X38,FALSE)*J38) -> #REF! | AG38: =(VLOOKUP(AG$30,tarieftoeslag,$X38,FALSE)*K38) -> #REF! | AI38: =(VLOOKUP(AI$30,tarieftoeslag,$X38,FALSE)*M38) -> #REF! | AJ38: =(VLOOKUP(AJ$30,tarieftoeslag,$X38,FALSE)*N38) -> #REF! | AK38: =(VLOOKUP(AK$30,tarieftoeslag,$X38,FALSE)*O38) -> #REF! | AL38: =(VLOOKUP(AL$30,tarieftoeslag,$X38,FALSE)*P38) -> #REF! | AM38: =(VLOOKUP(AM$30,tarieftoeslag,$X38,FALSE)*Q38) -> #REF! | AN38: =(VLOOKUP(AN$30,tarieftoeslag,$X38,FALSE)*R38) -> #REF! | AO38: =(VLOOKUP(AO$30,tarieftoeslag,$X38,FALSE)*S38) -> #REF! | AP38: =(VLOOKUP(AP$30,tarieftoeslag,$X38,FALSE)*T38) -> #REF! | ... AR38: =(VLOOKUP(AR$30,tarieftoeslag,$X38,FALSE)*V38) -> #REF!
A39: =A10 -> #REF! | B39: =SUM(Z39:AL39) -> #REF! | C39: =(VLOOKUP(AD$30,pauzetoeslag,$A$29,FALSE)*H39)+(VLOOKUP(AE$30,pauzetoeslag,$A$29,FALSE)*I39) -> #REF! | D39: =COUNTIF(#REF!,Dienstverdeling!D$30)+COUNTIF(#REF!,Dienstverdeling!D$30)+COUNTIF(#REF!,Dienstverdeling!D$30)+COUNTIF(#REF!,Dienstverdeling!D$30)+COUNTIF(#REF!,Dienstverdeling!D$30)+COUNTIF(#REF!,Dienstverdeling!D$30)+COUNTIF(#REF!,Dienstverdeling!D$30)+COUNTIF(#REF!,Dienstverdeling!D$30) -> #REF! | E39: =COUNTIF(#REF!,Dienstverdeling!E$30)+COUNTIF(#REF!,Dienstverdeling!E$30)+COUNTIF(#REF!,Dienstverdeling!E$30)+COUNTIF(#REF!,Dienstverdeling!E$30)+COUNTIF(#REF!,Dienstverdeling!E$30)+COUNTIF(#REF!,Dienstverdeling!E$30)+COUNTIF(#REF!,Dienstverdeling!E$30)+COUNTIF(#REF!,Dienstverdeling!E$30) -> #REF! | F39: =COUNTIF(#REF!,Dienstverdeling!F$30)+COUNTIF(#REF!,Dienstverdeling!F$30)+COUNTIF(#REF!,Dienstverdeling!F$30)+COUNTIF(#REF!,Dienstverdeling!F$30)+COUNTIF(#REF!,Dienstverdeling!F$30)+COUNTIF(#REF!,Dienstverdeling!F$30)+COUNTIF(#REF!,Dienstverdeling!F$30)+COUNTIF(#REF!,Dienstverdeling!F$30) -> #REF! | G39: =COUNTIF(#REF!,Dienstverdeling!G$30)+COUNTIF(#REF!,Dienstverdeling!G$30)+COUNTIF(#REF!,Dienstverdeling!G$30)+COUNTIF(#REF!,Dienstverdeling!G$30)+COUNTIF(#REF!,Dienstverdeling!G$30)+COUNTIF(#REF!,Dienstverdeling!G$30)+COUNTIF(#REF!,Dienstverdeling!G$30)+COUNTIF(#REF!,Dienstverdeling!G$30) -> #REF! | H39: =COUNTIF(#REF!,Dienstverdeling!H$30)+COUNTIF(#REF!,Dienstverdeling!H$30)+COUNTIF(#REF!,Dienstverdeling!H$30)+COUNTIF(#REF!,Dienstverdeling!H$30)+COUNTIF(#REF!,Dienstverdeling!H$30)+COUNTIF(#REF!,Dienstverdeling!H$30)+COUNTIF(#REF!,Dienstverdeling!H$30)+COUNTIF(#REF!,Dienstverdeling!H$30) -> #REF! | I39: =COUNTIF(#REF!,Dienstverdeling!I$30)+COUNTIF(#REF!,Dienstverdeling!I$30)+COUNTIF(#REF!,Dienstverdeling!I$30)+COUNTIF(#REF!,Dienstverdeling!I$30)+COUNTIF(#REF!,Dienstverdeling!I$30)+COUNTIF(#REF!,Dienstverdeling!I$30)+COUNTIF(#REF!,Dienstverdeling!I$30)+COUNTIF(#REF!,Dienstverdeling!I$30) -> #REF! | J39: =COUNTIF(#REF!,Dienstverdeling!J$30)+COUNTIF(#REF!,Dienstverdeling!J$30)+COUNTIF(#REF!,Dienstverdeling!J$30)+COUNTIF(#REF!,Dienstverdeling!J$30)+COUNTIF(#REF!,Dienstverdeling!J$30)+COUNTIF(#REF!,Dienstverdeling!J$30)+COUNTIF(#REF!,Dienstverdeling!J$30)+COUNTIF(#REF!,Dienstverdeling!J$30) -> #REF! | K39: =COUNTIF(#REF!,Dienstverdeling!K$30)+COUNTIF(#REF!,Dienstverdeling!K$30)+COUNTIF(#REF!,Dienstverdeling!K$30)+COUNTIF(#REF!,Dienstverdeling!K$30)+COUNTIF(#REF!,Dienstverdeling!K$30)+COUNTIF(#REF!,Dienstverdeling!K$30)+COUNTIF(#REF!,Dienstverdeling!K$30)+COUNTIF(#REF!,Dienstverdeling!K$30) -> #REF! | ... W39: =COUNTIF(#REF!,Dienstverdeling!W$30)+COUNTIF(#REF!,Dienstverdeling!W$30)+COUNTIF(#REF!,Dienstverdeling!W$30)+COUNTIF(#REF!,Dienstverdeling!W$30)+COUNTIF(#REF!,Dienstverdeling!W$30)+COUNTIF(#REF!,Dienstverdeling!W$30)+COUNTIF(#REF!,Dienstverdeling!W$30)+COUNTIF(#REF!,Dienstverdeling!W$30) -> #REF! | X39: =X38 -> 6 | Y39: =(H39+I39)*0.5 -> #REF! | Z39: =(VLOOKUP(Z$30,tarieftoeslag,$X39,FALSE)*D39) -> #REF! | AA39: =(VLOOKUP(AA$30,tarieftoeslag,$X39,FALSE)*E39) -> #REF! | AB39: =(VLOOKUP(AB$30,tarieftoeslag,$X39,FALSE)*F39) -> #REF! | AC39: =(VLOOKUP(AC$30,tarieftoeslag,$X39,FALSE)*G39) -> #REF! | AD39: =(VLOOKUP(AD$30,tarieftoeslag,$X39,FALSE)*H39) -> #REF! | AE39: =(VLOOKUP(AE$30,tarieftoeslag,$X39,FALSE)*I39) -> #REF! | AF39: =(VLOOKUP(AF$30,tarieftoeslag,$X39,FALSE)*J39) -> #REF! | AG39: =(VLOOKUP(AG$30,tarieftoeslag,$X39,FALSE)*K39) -> #REF! | AI39: =(VLOOKUP(AI$30,tarieftoeslag,$X39,FALSE)*M39) -> #REF! | AJ39: =(VLOOKUP(AJ$30,tarieftoeslag,$X39,FALSE)*N39) -> #REF! | AK39: =(VLOOKUP(AK$30,tarieftoeslag,$X39,FALSE)*O39) -> #REF! | AL39: =(VLOOKUP(AL$30,tarieftoeslag,$X39,FALSE)*P39) -> #REF! | AM39: =(VLOOKUP(AM$30,tarieftoeslag,$X39,FALSE)*Q39) -> #REF! | AN39: =(VLOOKUP(AN$30,tarieftoeslag,$X39,FALSE)*R39) -> #REF! | AO39: =(VLOOKUP(AO$30,tarieftoeslag,$X39,FALSE)*S39) -> #REF! | AP39: =(VLOOKUP(AP$30,tarieftoeslag,$X39,FALSE)*T39) -> #REF! | ... AR39: =(VLOOKUP(AR$30,tarieftoeslag,$X39,FALSE)*V39) -> #REF!
A40: =A11 -> #REF! | B40: =SUM(Z40:AL40) -> #REF! | C40: =(VLOOKUP(AD$30,pauzetoeslag,$A$29,FALSE)*H40)+(VLOOKUP(AE$30,pauzetoeslag,$A$29,FALSE)*I40) -> #REF! | D40: =COUNTIF(#REF!,Dienstverdeling!D$30)+COUNTIF(#REF!,Dienstverdeling!D$30)+COUNTIF(#REF!,Dienstverdeling!D$30)+COUNTIF(#REF!,Dienstverdeling!D$30)+COUNTIF(#REF!,Dienstverdeling!D$30)+COUNTIF(#REF!,Dienstverdeling!D$30)+COUNTIF(#REF!,Dienstverdeling!D$30)+COUNTIF(#REF!,Dienstverdeling!D$30) -> #REF! | E40: =COUNTIF(#REF!,Dienstverdeling!E$30)+COUNTIF(#REF!,Dienstverdeling!E$30)+COUNTIF(#REF!,Dienstverdeling!E$30)+COUNTIF(#REF!,Dienstverdeling!E$30)+COUNTIF(#REF!,Dienstverdeling!E$30)+COUNTIF(#REF!,Dienstverdeling!E$30)+COUNTIF(#REF!,Dienstverdeling!E$30)+COUNTIF(#REF!,Dienstverdeling!E$30) -> #REF! | F40: =COUNTIF(#REF!,Dienstverdeling!F$30)+COUNTIF(#REF!,Dienstverdeling!F$30)+COUNTIF(#REF!,Dienstverdeling!F$30)+COUNTIF(#REF!,Dienstverdeling!F$30)+COUNTIF(#REF!,Dienstverdeling!F$30)+COUNTIF(#REF!,Dienstverdeling!F$30)+COUNTIF(#REF!,Dienstverdeling!F$30)+COUNTIF(#REF!,Dienstverdeling!F$30) -> #REF! | G40: =COUNTIF(#REF!,Dienstverdeling!G$30)+COUNTIF(#REF!,Dienstverdeling!G$30)+COUNTIF(#REF!,Dienstverdeling!G$30)+COUNTIF(#REF!,Dienstverdeling!G$30)+COUNTIF(#REF!,Dienstverdeling!G$30)+COUNTIF(#REF!,Dienstverdeling!G$30)+COUNTIF(#REF!,Dienstverdeling!G$30)+COUNTIF(#REF!,Dienstverdeling!G$30) -> #REF! | H40: =COUNTIF(#REF!,Dienstverdeling!H$30)+COUNTIF(#REF!,Dienstverdeling!H$30)+COUNTIF(#REF!,Dienstverdeling!H$30)+COUNTIF(#REF!,Dienstverdeling!H$30)+COUNTIF(#REF!,Dienstverdeling!H$30)+COUNTIF(#REF!,Dienstverdeling!H$30)+COUNTIF(#REF!,Dienstverdeling!H$30)+COUNTIF(#REF!,Dienstverdeling!H$30) -> #REF! | I40: =COUNTIF(#REF!,Dienstverdeling!I$30)+COUNTIF(#REF!,Dienstverdeling!I$30)+COUNTIF(#REF!,Dienstverdeling!I$30)+COUNTIF(#REF!,Dienstverdeling!I$30)+COUNTIF(#REF!,Dienstverdeling!I$30)+COUNTIF(#REF!,Dienstverdeling!I$30)+COUNTIF(#REF!,Dienstverdeling!I$30)+COUNTIF(#REF!,Dienstverdeling!I$30) -> #REF! | J40: =COUNTIF(#REF!,Dienstverdeling!J$30)+COUNTIF(#REF!,Dienstverdeling!J$30)+COUNTIF(#REF!,Dienstverdeling!J$30)+COUNTIF(#REF!,Dienstverdeling!J$30)+COUNTIF(#REF!,Dienstverdeling!J$30)+COUNTIF(#REF!,Dienstverdeling!J$30)+COUNTIF(#REF!,Dienstverdeling!J$30)+COUNTIF(#REF!,Dienstverdeling!J$30) -> #REF! | K40: =COUNTIF(#REF!,Dienstverdeling!K$30)+COUNTIF(#REF!,Dienstverdeling!K$30)+COUNTIF(#REF!,Dienstverdeling!K$30)+COUNTIF(#REF!,Dienstverdeling!K$30)+COUNTIF(#REF!,Dienstverdeling!K$30)+COUNTIF(#REF!,Dienstverdeling!K$30)+COUNTIF(#REF!,Dienstverdeling!K$30)+COUNTIF(#REF!,Dienstverdeling!K$30) -> #REF! | ... W40: =COUNTIF(#REF!,Dienstverdeling!W$30)+COUNTIF(#REF!,Dienstverdeling!W$30)+COUNTIF(#REF!,Dienstverdeling!W$30)+COUNTIF(#REF!,Dienstverdeling!W$30)+COUNTIF(#REF!,Dienstverdeling!W$30)+COUNTIF(#REF!,Dienstverdeling!W$30)+COUNTIF(#REF!,Dienstverdeling!W$30)+COUNTIF(#REF!,Dienstverdeling!W$30) -> #REF! | X40: =X39 -> 6 | Y40: =(H40+I40)*0.5 -> #REF! | Z40: =(VLOOKUP(Z$30,tarieftoeslag,$X40,FALSE)*D40) -> #REF! | AA40: =(VLOOKUP(AA$30,tarieftoeslag,$X40,FALSE)*E40) -> #REF! | AB40: =(VLOOKUP(AB$30,tarieftoeslag,$X40,FALSE)*F40) -> #REF! | AC40: =(VLOOKUP(AC$30,tarieftoeslag,$X40,FALSE)*G40) -> #REF! | AD40: =(VLOOKUP(AD$30,tarieftoeslag,$X40,FALSE)*H40) -> #REF! | AE40: =(VLOOKUP(AE$30,tarieftoeslag,$X40,FALSE)*I40) -> #REF! | AF40: =(VLOOKUP(AF$30,tarieftoeslag,$X40,FALSE)*J40) -> #REF! | AG40: =(VLOOKUP(AG$30,tarieftoeslag,$X40,FALSE)*K40) -> #REF! | AI40: =(VLOOKUP(AI$30,tarieftoeslag,$X40,FALSE)*M40) -> #REF! | AJ40: =(VLOOKUP(AJ$30,tarieftoeslag,$X40,FALSE)*N40) -> #REF! | AK40: =(VLOOKUP(AK$30,tarieftoeslag,$X40,FALSE)*O40) -> #REF! | AL40: =(VLOOKUP(AL$30,tarieftoeslag,$X40,FALSE)*P40) -> #REF! | AM40: =(VLOOKUP(AM$30,tarieftoeslag,$X40,FALSE)*Q40) -> #REF! | AN40: =(VLOOKUP(AN$30,tarieftoeslag,$X40,FALSE)*R40) -> #REF! | AO40: =(VLOOKUP(AO$30,tarieftoeslag,$X40,FALSE)*S40) -> #REF! | AP40: =(VLOOKUP(AP$30,tarieftoeslag,$X40,FALSE)*T40) -> #REF! | ... AR40: =(VLOOKUP(AR$30,tarieftoeslag,$X40,FALSE)*V40) -> #REF!
A41: =A12 -> #REF! | B41: =SUM(Z41:AL41) -> #REF! | C41: =(VLOOKUP(AD$30,pauzetoeslag,$A$29,FALSE)*H41)+(VLOOKUP(AE$30,pauzetoeslag,$A$29,FALSE)*I41) -> #REF! | D41: =COUNTIF(#REF!,Dienstverdeling!D$30)+COUNTIF(#REF!,Dienstverdeling!D$30)+COUNTIF(#REF!,Dienstverdeling!D$30)+COUNTIF(#REF!,Dienstverdeling!D$30)+COUNTIF(#REF!,Dienstverdeling!D$30)+COUNTIF(#REF!,Dienstverdeling!D$30)+COUNTIF(#REF!,Dienstverdeling!D$30)+COUNTIF(#REF!,Dienstverdeling!D$30) -> #REF! | E41: =COUNTIF(#REF!,Dienstverdeling!E$30)+COUNTIF(#REF!,Dienstverdeling!E$30)+COUNTIF(#REF!,Dienstverdeling!E$30)+COUNTIF(#REF!,Dienstverdeling!E$30)+COUNTIF(#REF!,Dienstverdeling!E$30)+COUNTIF(#REF!,Dienstverdeling!E$30)+COUNTIF(#REF!,Dienstverdeling!E$30)+COUNTIF(#REF!,Dienstverdeling!E$30) -> #REF! | F41: =COUNTIF(#REF!,Dienstverdeling!F$30)+COUNTIF(#REF!,Dienstverdeling!F$30)+COUNTIF(#REF!,Dienstverdeling!F$30)+COUNTIF(#REF!,Dienstverdeling!F$30)+COUNTIF(#REF!,Dienstverdeling!F$30)+COUNTIF(#REF!,Dienstverdeling!F$30)+COUNTIF(#REF!,Dienstverdeling!F$30)+COUNTIF(#REF!,Dienstverdeling!F$30) -> #REF! | G41: =COUNTIF(#REF!,Dienstverdeling!G$30)+COUNTIF(#REF!,Dienstverdeling!G$30)+COUNTIF(#REF!,Dienstverdeling!G$30)+COUNTIF(#REF!,Dienstverdeling!G$30)+COUNTIF(#REF!,Dienstverdeling!G$30)+COUNTIF(#REF!,Dienstverdeling!G$30)+COUNTIF(#REF!,Dienstverdeling!G$30)+COUNTIF(#REF!,Dienstverdeling!G$30) -> #REF! | H41: =COUNTIF(#REF!,Dienstverdeling!H$30)+COUNTIF(#REF!,Dienstverdeling!H$30)+COUNTIF(#REF!,Dienstverdeling!H$30)+COUNTIF(#REF!,Dienstverdeling!H$30)+COUNTIF(#REF!,Dienstverdeling!H$30)+COUNTIF(#REF!,Dienstverdeling!H$30)+COUNTIF(#REF!,Dienstverdeling!H$30)+COUNTIF(#REF!,Dienstverdeling!H$30) -> #REF! | I41: =COUNTIF(#REF!,Dienstverdeling!I$30)+COUNTIF(#REF!,Dienstverdeling!I$30)+COUNTIF(#REF!,Dienstverdeling!I$30)+COUNTIF(#REF!,Dienstverdeling!I$30)+COUNTIF(#REF!,Dienstverdeling!I$30)+COUNTIF(#REF!,Dienstverdeling!I$30)+COUNTIF(#REF!,Dienstverdeling!I$30)+COUNTIF(#REF!,Dienstverdeling!I$30) -> #REF! | J41: =COUNTIF(#REF!,Dienstverdeling!J$30)+COUNTIF(#REF!,Dienstverdeling!J$30)+COUNTIF(#REF!,Dienstverdeling!J$30)+COUNTIF(#REF!,Dienstverdeling!J$30)+COUNTIF(#REF!,Dienstverdeling!J$30)+COUNTIF(#REF!,Dienstverdeling!J$30)+COUNTIF(#REF!,Dienstverdeling!J$30)+COUNTIF(#REF!,Dienstverdeling!J$30) -> #REF! | K41: =COUNTIF(#REF!,Dienstverdeling!K$30)+COUNTIF(#REF!,Dienstverdeling!K$30)+COUNTIF(#REF!,Dienstverdeling!K$30)+COUNTIF(#REF!,Dienstverdeling!K$30)+COUNTIF(#REF!,Dienstverdeling!K$30)+COUNTIF(#REF!,Dienstverdeling!K$30)+COUNTIF(#REF!,Dienstverdeling!K$30)+COUNTIF(#REF!,Dienstverdeling!K$30) -> #REF! | ... W41: =COUNTIF(#REF!,Dienstverdeling!W$30)+COUNTIF(#REF!,Dienstverdeling!W$30)+COUNTIF(#REF!,Dienstverdeling!W$30)+COUNTIF(#REF!,Dienstverdeling!W$30)+COUNTIF(#REF!,Dienstverdeling!W$30)+COUNTIF(#REF!,Dienstverdeling!W$30)+COUNTIF(#REF!,Dienstverdeling!W$30)+COUNTIF(#REF!,Dienstverdeling!W$30) -> #REF! | X41: =X40 -> 6 | Y41: =(H41+I41)*0.5 -> #REF! | Z41: =(VLOOKUP(Z$30,tarieftoeslag,$X41,FALSE)*D41) -> #REF! | AA41: =(VLOOKUP(AA$30,tarieftoeslag,$X41,FALSE)*E41) -> #REF! | AB41: =(VLOOKUP(AB$30,tarieftoeslag,$X41,FALSE)*F41) -> #REF! | AC41: =(VLOOKUP(AC$30,tarieftoeslag,$X41,FALSE)*G41) -> #REF! | AD41: =(VLOOKUP(AD$30,tarieftoeslag,$X41,FALSE)*H41) -> #REF! | AE41: =(VLOOKUP(AE$30,tarieftoeslag,$X41,FALSE)*I41) -> #REF! | AF41: =(VLOOKUP(AF$30,tarieftoeslag,$X41,FALSE)*J41) -> #REF! | AG41: =(VLOOKUP(AG$30,tarieftoeslag,$X41,FALSE)*K41) -> #REF! | AI41: =(VLOOKUP(AI$30,tarieftoeslag,$X41,FALSE)*M41) -> #REF! | AJ41: =(VLOOKUP(AJ$30,tarieftoeslag,$X41,FALSE)*N41) -> #REF! | AK41: =(VLOOKUP(AK$30,tarieftoeslag,$X41,FALSE)*O41) -> #REF! | AL41: =(VLOOKUP(AL$30,tarieftoeslag,$X41,FALSE)*P41) -> #REF! | AM41: =(VLOOKUP(AM$30,tarieftoeslag,$X41,FALSE)*Q41) -> #REF! | AN41: =(VLOOKUP(AN$30,tarieftoeslag,$X41,FALSE)*R41) -> #REF! | AO41: =(VLOOKUP(AO$30,tarieftoeslag,$X41,FALSE)*S41) -> #REF! | AP41: =(VLOOKUP(AP$30,tarieftoeslag,$X41,FALSE)*T41) -> #REF! | ... AR41: =(VLOOKUP(AR$30,tarieftoeslag,$X41,FALSE)*V41) -> #REF!
A42: =A13 -> #REF! | B42: =SUM(Z42:AL42) -> #REF! | C42: =(VLOOKUP(AD$30,pauzetoeslag,$A$29,FALSE)*H42)+(VLOOKUP(AE$30,pauzetoeslag,$A$29,FALSE)*I42) -> #REF! | D42: =COUNTIF(#REF!,Dienstverdeling!D$30)+COUNTIF(#REF!,Dienstverdeling!D$30)+COUNTIF(#REF!,Dienstverdeling!D$30)+COUNTIF(#REF!,Dienstverdeling!D$30)+COUNTIF(#REF!,Dienstverdeling!D$30)+COUNTIF(#REF!,Dienstverdeling!D$30)+COUNTIF(#REF!,Dienstverdeling!D$30)+COUNTIF(#REF!,Dienstverdeling!D$30) -> #REF! | E42: =COUNTIF(#REF!,Dienstverdeling!E$30)+COUNTIF(#REF!,Dienstverdeling!E$30)+COUNTIF(#REF!,Dienstverdeling!E$30)+COUNTIF(#REF!,Dienstverdeling!E$30)+COUNTIF(#REF!,Dienstverdeling!E$30)+COUNTIF(#REF!,Dienstverdeling!E$30)+COUNTIF(#REF!,Dienstverdeling!E$30)+COUNTIF(#REF!,Dienstverdeling!E$30) -> #REF! | F42: =COUNTIF(#REF!,Dienstverdeling!F$30)+COUNTIF(#REF!,Dienstverdeling!F$30)+COUNTIF(#REF!,Dienstverdeling!F$30)+COUNTIF(#REF!,Dienstverdeling!F$30)+COUNTIF(#REF!,Dienstverdeling!F$30)+COUNTIF(#REF!,Dienstverdeling!F$30)+COUNTIF(#REF!,Dienstverdeling!F$30)+COUNTIF(#REF!,Dienstverdeling!F$30) -> #REF! | G42: =COUNTIF(#REF!,Dienstverdeling!G$30)+COUNTIF(#REF!,Dienstverdeling!G$30)+COUNTIF(#REF!,Dienstverdeling!G$30)+COUNTIF(#REF!,Dienstverdeling!G$30)+COUNTIF(#REF!,Dienstverdeling!G$30)+COUNTIF(#REF!,Dienstverdeling!G$30)+COUNTIF(#REF!,Dienstverdeling!G$30)+COUNTIF(#REF!,Dienstverdeling!G$30) -> #REF! | H42: =COUNTIF(#REF!,Dienstverdeling!H$30)+COUNTIF(#REF!,Dienstverdeling!H$30)+COUNTIF(#REF!,Dienstverdeling!H$30)+COUNTIF(#REF!,Dienstverdeling!H$30)+COUNTIF(#REF!,Dienstverdeling!H$30)+COUNTIF(#REF!,Dienstverdeling!H$30)+COUNTIF(#REF!,Dienstverdeling!H$30)+COUNTIF(#REF!,Dienstverdeling!H$30) -> #REF! | I42: =COUNTIF(#REF!,Dienstverdeling!I$30)+COUNTIF(#REF!,Dienstverdeling!I$30)+COUNTIF(#REF!,Dienstverdeling!I$30)+COUNTIF(#REF!,Dienstverdeling!I$30)+COUNTIF(#REF!,Dienstverdeling!I$30)+COUNTIF(#REF!,Dienstverdeling!I$30)+COUNTIF(#REF!,Dienstverdeling!I$30)+COUNTIF(#REF!,Dienstverdeling!I$30) -> #REF! | J42: =COUNTIF(#REF!,Dienstverdeling!J$30)+COUNTIF(#REF!,Dienstverdeling!J$30)+COUNTIF(#REF!,Dienstverdeling!J$30)+COUNTIF(#REF!,Dienstverdeling!J$30)+COUNTIF(#REF!,Dienstverdeling!J$30)+COUNTIF(#REF!,Dienstverdeling!J$30)+COUNTIF(#REF!,Dienstverdeling!J$30)+COUNTIF(#REF!,Dienstverdeling!J$30) -> #REF! | K42: =COUNTIF(#REF!,Dienstverdeling!K$30)+COUNTIF(#REF!,Dienstverdeling!K$30)+COUNTIF(#REF!,Dienstverdeling!K$30)+COUNTIF(#REF!,Dienstverdeling!K$30)+COUNTIF(#REF!,Dienstverdeling!K$30)+COUNTIF(#REF!,Dienstverdeling!K$30)+COUNTIF(#REF!,Dienstverdeling!K$30)+COUNTIF(#REF!,Dienstverdeling!K$30) -> #REF! | ... W42: =COUNTIF(#REF!,Dienstverdeling!W$30)+COUNTIF(#REF!,Dienstverdeling!W$30)+COUNTIF(#REF!,Dienstverdeling!W$30)+COUNTIF(#REF!,Dienstverdeling!W$30)+COUNTIF(#REF!,Dienstverdeling!W$30)+COUNTIF(#REF!,Dienstverdeling!W$30)+COUNTIF(#REF!,Dienstverdeling!W$30)+COUNTIF(#REF!,Dienstverdeling!W$30) -> #REF! | X42: =X41 -> 6 | Y42: =(H42+I42)*0.5 -> #REF! | Z42: =(VLOOKUP(Z$30,tarieftoeslag,$X42,FALSE)*D42) -> #REF! | AA42: =(VLOOKUP(AA$30,tarieftoeslag,$X42,FALSE)*E42) -> #REF! | AB42: =(VLOOKUP(AB$30,tarieftoeslag,$X42,FALSE)*F42) -> #REF! | AC42: =(VLOOKUP(AC$30,tarieftoeslag,$X42,FALSE)*G42) -> #REF! | AD42: =(VLOOKUP(AD$30,tarieftoeslag,$X42,FALSE)*H42) -> #REF! | AE42: =(VLOOKUP(AE$30,tarieftoeslag,$X42,FALSE)*I42) -> #REF! | AF42: =(VLOOKUP(AF$30,tarieftoeslag,$X42,FALSE)*J42) -> #REF! | AG42: =(VLOOKUP(AG$30,tarieftoeslag,$X42,FALSE)*K42) -> #REF! | AI42: =(VLOOKUP(AI$30,tarieftoeslag,$X42,FALSE)*M42) -> #REF! | AJ42: =(VLOOKUP(AJ$30,tarieftoeslag,$X42,FALSE)*N42) -> #REF! | AK42: =(VLOOKUP(AK$30,tarieftoeslag,$X42,FALSE)*O42) -> #REF! | AL42: =(VLOOKUP(AL$30,tarieftoeslag,$X42,FALSE)*P42) -> #REF! | AM42: =(VLOOKUP(AM$30,tarieftoeslag,$X42,FALSE)*Q42) -> #REF! | AN42: =(VLOOKUP(AN$30,tarieftoeslag,$X42,FALSE)*R42) -> #REF! | AO42: =(VLOOKUP(AO$30,tarieftoeslag,$X42,FALSE)*S42) -> #REF! | AP42: =(VLOOKUP(AP$30,tarieftoeslag,$X42,FALSE)*T42) -> #REF! | ... AR42: =(VLOOKUP(AR$30,tarieftoeslag,$X42,FALSE)*V42) -> #REF!
A43: =A14 -> #REF! | B43: =SUM(Z43:AL43) -> #REF! | C43: =(VLOOKUP(AD$30,pauzetoeslag,$A$29,FALSE)*H43)+(VLOOKUP(AE$30,pauzetoeslag,$A$29,FALSE)*I43) -> #REF! | D43: =COUNTIF(#REF!,Dienstverdeling!D$30)+COUNTIF(#REF!,Dienstverdeling!D$30)+COUNTIF(#REF!,Dienstverdeling!D$30)+COUNTIF(#REF!,Dienstverdeling!D$30)+COUNTIF(#REF!,Dienstverdeling!D$30)+COUNTIF(#REF!,Dienstverdeling!D$30)+COUNTIF(#REF!,Dienstverdeling!D$30)+COUNTIF(#REF!,Dienstverdeling!D$30) -> #REF! | E43: =COUNTIF(#REF!,Dienstverdeling!E$30)+COUNTIF(#REF!,Dienstverdeling!E$30)+COUNTIF(#REF!,Dienstverdeling!E$30)+COUNTIF(#REF!,Dienstverdeling!E$30)+COUNTIF(#REF!,Dienstverdeling!E$30)+COUNTIF(#REF!,Dienstverdeling!E$30)+COUNTIF(#REF!,Dienstverdeling!E$30)+COUNTIF(#REF!,Dienstverdeling!E$30) -> #REF! | F43: =COUNTIF(#REF!,Dienstverdeling!F$30)+COUNTIF(#REF!,Dienstverdeling!F$30)+COUNTIF(#REF!,Dienstverdeling!F$30)+COUNTIF(#REF!,Dienstverdeling!F$30)+COUNTIF(#REF!,Dienstverdeling!F$30)+COUNTIF(#REF!,Dienstverdeling!F$30)+COUNTIF(#REF!,Dienstverdeling!F$30)+COUNTIF(#REF!,Dienstverdeling!F$30) -> #REF! | G43: =COUNTIF(#REF!,Dienstverdeling!G$30)+COUNTIF(#REF!,Dienstverdeling!G$30)+COUNTIF(#REF!,Dienstverdeling!G$30)+COUNTIF(#REF!,Dienstverdeling!G$30)+COUNTIF(#REF!,Dienstverdeling!G$30)+COUNTIF(#REF!,Dienstverdeling!G$30)+COUNTIF(#REF!,Dienstverdeling!G$30)+COUNTIF(#REF!,Dienstverdeling!G$30) -> #REF! | H43: =COUNTIF(#REF!,Dienstverdeling!H$30)+COUNTIF(#REF!,Dienstverdeling!H$30)+COUNTIF(#REF!,Dienstverdeling!H$30)+COUNTIF(#REF!,Dienstverdeling!H$30)+COUNTIF(#REF!,Dienstverdeling!H$30)+COUNTIF(#REF!,Dienstverdeling!H$30)+COUNTIF(#REF!,Dienstverdeling!H$30)+COUNTIF(#REF!,Dienstverdeling!H$30) -> #REF! | I43: =COUNTIF(#REF!,Dienstverdeling!I$30)+COUNTIF(#REF!,Dienstverdeling!I$30)+COUNTIF(#REF!,Dienstverdeling!I$30)+COUNTIF(#REF!,Dienstverdeling!I$30)+COUNTIF(#REF!,Dienstverdeling!I$30)+COUNTIF(#REF!,Dienstverdeling!I$30)+COUNTIF(#REF!,Dienstverdeling!I$30)+COUNTIF(#REF!,Dienstverdeling!I$30) -> #REF! | J43: =COUNTIF(#REF!,Dienstverdeling!J$30)+COUNTIF(#REF!,Dienstverdeling!J$30)+COUNTIF(#REF!,Dienstverdeling!J$30)+COUNTIF(#REF!,Dienstverdeling!J$30)+COUNTIF(#REF!,Dienstverdeling!J$30)+COUNTIF(#REF!,Dienstverdeling!J$30)+COUNTIF(#REF!,Dienstverdeling!J$30)+COUNTIF(#REF!,Dienstverdeling!J$30) -> #REF! | K43: =COUNTIF(#REF!,Dienstverdeling!K$30)+COUNTIF(#REF!,Dienstverdeling!K$30)+COUNTIF(#REF!,Dienstverdeling!K$30)+COUNTIF(#REF!,Dienstverdeling!K$30)+COUNTIF(#REF!,Dienstverdeling!K$30)+COUNTIF(#REF!,Dienstverdeling!K$30)+COUNTIF(#REF!,Dienstverdeling!K$30)+COUNTIF(#REF!,Dienstverdeling!K$30) -> #REF! | ... W43: =COUNTIF(#REF!,Dienstverdeling!W$30)+COUNTIF(#REF!,Dienstverdeling!W$30)+COUNTIF(#REF!,Dienstverdeling!W$30)+COUNTIF(#REF!,Dienstverdeling!W$30)+COUNTIF(#REF!,Dienstverdeling!W$30)+COUNTIF(#REF!,Dienstverdeling!W$30)+COUNTIF(#REF!,Dienstverdeling!W$30)+COUNTIF(#REF!,Dienstverdeling!W$30) -> #REF! | X43: =X42 -> 6 | Y43: =(H43+I43)*0.5 -> #REF! | Z43: =(VLOOKUP(Z$30,tarieftoeslag,$X43,FALSE)*D43) -> #REF! | AA43: =(VLOOKUP(AA$30,tarieftoeslag,$X43,FALSE)*E43) -> #REF! | AB43: =(VLOOKUP(AB$30,tarieftoeslag,$X43,FALSE)*F43) -> #REF! | AC43: =(VLOOKUP(AC$30,tarieftoeslag,$X43,FALSE)*G43) -> #REF! | AD43: =(VLOOKUP(AD$30,tarieftoeslag,$X43,FALSE)*H43) -> #REF! | AE43: =(VLOOKUP(AE$30,tarieftoeslag,$X43,FALSE)*I43) -> #REF! | AF43: =(VLOOKUP(AF$30,tarieftoeslag,$X43,FALSE)*J43) -> #REF! | AG43: =(VLOOKUP(AG$30,tarieftoeslag,$X43,FALSE)*K43) -> #REF! | AI43: =(VLOOKUP(AI$30,tarieftoeslag,$X43,FALSE)*M43) -> #REF! | AJ43: =(VLOOKUP(AJ$30,tarieftoeslag,$X43,FALSE)*N43) -> #REF! | AK43: =(VLOOKUP(AK$30,tarieftoeslag,$X43,FALSE)*O43) -> #REF! | AL43: =(VLOOKUP(AL$30,tarieftoeslag,$X43,FALSE)*P43) -> #REF! | AM43: =(VLOOKUP(AM$30,tarieftoeslag,$X43,FALSE)*Q43) -> #REF! | AN43: =(VLOOKUP(AN$30,tarieftoeslag,$X43,FALSE)*R43) -> #REF! | AO43: =(VLOOKUP(AO$30,tarieftoeslag,$X43,FALSE)*S43) -> #REF! | AP43: =(VLOOKUP(AP$30,tarieftoeslag,$X43,FALSE)*T43) -> #REF! | ... AR43: =(VLOOKUP(AR$30,tarieftoeslag,$X43,FALSE)*V43) -> #REF!
... A45: =A16 -> 0 | B45: =SUM(Z45:AL45) -> #REF! | C45: =(VLOOKUP(AD$30,pauzetoeslag,$A$29,FALSE)*H45)+(VLOOKUP(AE$30,pauzetoeslag,$A$29,FALSE)*I45) -> #REF! | D45: =COUNTIF(#REF!,Dienstverdeling!D$30)+COUNTIF(#REF!,Dienstverdeling!D$30)+COUNTIF(#REF!,Dienstverdeling!D$30)+COUNTIF(#REF!,Dienstverdeling!D$30)+COUNTIF(#REF!,Dienstverdeling!D$30)+COUNTIF(#REF!,Dienstverdeling!D$30)+COUNTIF(#REF!,Dienstverdeling!D$30)+COUNTIF(#REF!,Dienstverdeling!D$30) -> #REF! | E45: =COUNTIF(#REF!,Dienstverdeling!E$30)+COUNTIF(#REF!,Dienstverdeling!E$30)+COUNTIF(#REF!,Dienstverdeling!E$30)+COUNTIF(#REF!,Dienstverdeling!E$30)+COUNTIF(#REF!,Dienstverdeling!E$30)+COUNTIF(#REF!,Dienstverdeling!E$30)+COUNTIF(#REF!,Dienstverdeling!E$30)+COUNTIF(#REF!,Dienstverdeling!E$30) -> #REF! | F45: =COUNTIF(#REF!,Dienstverdeling!F$30)+COUNTIF(#REF!,Dienstverdeling!F$30)+COUNTIF(#REF!,Dienstverdeling!F$30)+COUNTIF(#REF!,Dienstverdeling!F$30)+COUNTIF(#REF!,Dienstverdeling!F$30)+COUNTIF(#REF!,Dienstverdeling!F$30)+COUNTIF(#REF!,Dienstverdeling!F$30)+COUNTIF(#REF!,Dienstverdeling!F$30) -> #REF! | G45: =COUNTIF(#REF!,Dienstverdeling!G$30)+COUNTIF(#REF!,Dienstverdeling!G$30)+COUNTIF(#REF!,Dienstverdeling!G$30)+COUNTIF(#REF!,Dienstverdeling!G$30)+COUNTIF(#REF!,Dienstverdeling!G$30)+COUNTIF(#REF!,Dienstverdeling!G$30)+COUNTIF(#REF!,Dienstverdeling!G$30)+COUNTIF(#REF!,Dienstverdeling!G$30) -> #REF! | H45: =COUNTIF(#REF!,Dienstverdeling!H$30)+COUNTIF(#REF!,Dienstverdeling!H$30)+COUNTIF(#REF!,Dienstverdeling!H$30)+COUNTIF(#REF!,Dienstverdeling!H$30)+COUNTIF(#REF!,Dienstverdeling!H$30)+COUNTIF(#REF!,Dienstverdeling!H$30)+COUNTIF(#REF!,Dienstverdeling!H$30)+COUNTIF(#REF!,Dienstverdeling!H$30) -> #REF! | I45: =COUNTIF(#REF!,Dienstverdeling!I$30)+COUNTIF(#REF!,Dienstverdeling!I$30)+COUNTIF(#REF!,Dienstverdeling!I$30)+COUNTIF(#REF!,Dienstverdeling!I$30)+COUNTIF(#REF!,Dienstverdeling!I$30)+COUNTIF(#REF!,Dienstverdeling!I$30)+COUNTIF(#REF!,Dienstverdeling!I$30)+COUNTIF(#REF!,Dienstverdeling!I$30) -> #REF! | J45: =COUNTIF(#REF!,Dienstverdeling!J$30)+COUNTIF(#REF!,Dienstverdeling!J$30)+COUNTIF(#REF!,Dienstverdeling!J$30)+COUNTIF(#REF!,Dienstverdeling!J$30)+COUNTIF(#REF!,Dienstverdeling!J$30)+COUNTIF(#REF!,Dienstverdeling!J$30)+COUNTIF(#REF!,Dienstverdeling!J$30)+COUNTIF(#REF!,Dienstverdeling!J$30) -> #REF! | K45: =COUNTIF(#REF!,Dienstverdeling!K$30)+COUNTIF(#REF!,Dienstverdeling!K$30)+COUNTIF(#REF!,Dienstverdeling!K$30)+COUNTIF(#REF!,Dienstverdeling!K$30)+COUNTIF(#REF!,Dienstverdeling!K$30)+COUNTIF(#REF!,Dienstverdeling!K$30)+COUNTIF(#REF!,Dienstverdeling!K$30)+COUNTIF(#REF!,Dienstverdeling!K$30) -> #REF! | ... W45: =COUNTIF(#REF!,Dienstverdeling!W$30)+COUNTIF(#REF!,Dienstverdeling!W$30)+COUNTIF(#REF!,Dienstverdeling!W$30)+COUNTIF(#REF!,Dienstverdeling!W$30)+COUNTIF(#REF!,Dienstverdeling!W$30)+COUNTIF(#REF!,Dienstverdeling!W$30)+COUNTIF(#REF!,Dienstverdeling!W$30)+COUNTIF(#REF!,Dienstverdeling!W$30) -> #REF! | X45: =X44 -> 6 | Y45: =(H45+I45)*0.5 -> #REF! | Z45: =(VLOOKUP(Z$30,tarieftoeslag,$X45,FALSE)*D45) -> #REF! | AA45: =(VLOOKUP(AA$30,tarieftoeslag,$X45,FALSE)*E45) -> #REF! | AB45: =(VLOOKUP(AB$30,tarieftoeslag,$X45,FALSE)*F45) -> #REF! | AC45: =(VLOOKUP(AC$30,tarieftoeslag,$X45,FALSE)*G45) -> #REF! | AD45: =(VLOOKUP(AD$30,tarieftoeslag,$X45,FALSE)*H45) -> #REF! | AE45: =(VLOOKUP(AE$30,tarieftoeslag,$X45,FALSE)*I45) -> #REF! | AF45: =(VLOOKUP(AF$30,tarieftoeslag,$X45,FALSE)*J45) -> #REF! | AG45: =(VLOOKUP(AG$30,tarieftoeslag,$X45,FALSE)*K45) -> #REF! | AI45: =(VLOOKUP(AI$30,tarieftoeslag,$X45,FALSE)*M45) -> #REF! | AJ45: =(VLOOKUP(AJ$30,tarieftoeslag,$X45,FALSE)*N45) -> #REF! | AK45: =(VLOOKUP(AK$30,tarieftoeslag,$X45,FALSE)*O45) -> #REF! | AL45: =(VLOOKUP(AL$30,tarieftoeslag,$X45,FALSE)*P45) -> #REF! | AM45: =(VLOOKUP(AM$30,tarieftoeslag,$X45,FALSE)*Q45) -> #REF! | AN45: =(VLOOKUP(AN$30,tarieftoeslag,$X45,FALSE)*R45) -> #REF! | AO45: =(VLOOKUP(AO$30,tarieftoeslag,$X45,FALSE)*S45) -> #REF! | AP45: =(VLOOKUP(AP$30,tarieftoeslag,$X45,FALSE)*T45) -> #REF! | ... AR45: =(VLOOKUP(AR$30,tarieftoeslag,$X45,FALSE)*V45) -> #REF!
AM46: =(VLOOKUP(AM$30,tarieftoeslag,$X46,FALSE)*Q46) -> #REF! | AN46: =(VLOOKUP(AN$30,tarieftoeslag,$X46,FALSE)*R46) -> #REF! | AO46: =(VLOOKUP(AO$30,tarieftoeslag,$X46,FALSE)*S46) -> #REF! | AP46: =(VLOOKUP(AP$30,tarieftoeslag,$X46,FALSE)*T46) -> #REF! | AQ46: =(VLOOKUP(AQ$30,tarieftoeslag,$X46,FALSE)*U46) -> #REF! | AR46: =(VLOOKUP(AR$30,tarieftoeslag,$X46,FALSE)*V46) -> #REF!
AM47: =(VLOOKUP(AM$30,tarieftoeslag,$X47,FALSE)*Q47) -> #REF! | AN47: =(VLOOKUP(AN$30,tarieftoeslag,$X47,FALSE)*R47) -> #REF! | AO47: =(VLOOKUP(AO$30,tarieftoeslag,$X47,FALSE)*S47) -> #REF! | AP47: =(VLOOKUP(AP$30,tarieftoeslag,$X47,FALSE)*T47) -> #REF! | AQ47: =(VLOOKUP(AQ$30,tarieftoeslag,$X47,FALSE)*U47) -> #REF! | AR47: =(VLOOKUP(AR$30,tarieftoeslag,$X47,FALSE)*V47) -> #REF!
AM48: =(VLOOKUP(AM$30,tarieftoeslag,$X48,FALSE)*Q48) -> #REF! | AN48: =(VLOOKUP(AN$30,tarieftoeslag,$X48,FALSE)*R48) -> #REF! | AO48: =(VLOOKUP(AO$30,tarieftoeslag,$X48,FALSE)*S48) -> #REF! | AP48: =(VLOOKUP(AP$30,tarieftoeslag,$X48,FALSE)*T48) -> #REF! | AQ48: =(VLOOKUP(AQ$30,tarieftoeslag,$X48,FALSE)*U48) -> #REF! | AR48: =(VLOOKUP(AR$30,tarieftoeslag,$X48,FALSE)*V48) -> #REF!
AM49: =(VLOOKUP(AM$30,tarieftoeslag,$X49,FALSE)*Q49) -> #REF! | AN49: =(VLOOKUP(AN$30,tarieftoeslag,$X49,FALSE)*R49) -> #REF! | AO49: =(VLOOKUP(AO$30,tarieftoeslag,$X49,FALSE)*S49) -> #REF! | AP49: =(VLOOKUP(AP$30,tarieftoeslag,$X49,FALSE)*T49) -> #REF! | AQ49: =(VLOOKUP(AQ$30,tarieftoeslag,$X49,FALSE)*U49) -> #REF! | AR49: =(VLOOKUP(AR$30,tarieftoeslag,$X49,FALSE)*V49) -> #REF!
AM50: =(VLOOKUP(AM$30,tarieftoeslag,$X50,FALSE)*Q50) -> #REF! | AN50: =(VLOOKUP(AN$30,tarieftoeslag,$X50,FALSE)*R50) -> #REF! | AO50: =(VLOOKUP(AO$30,tarieftoeslag,$X50,FALSE)*S50) -> #REF! | AP50: =(VLOOKUP(AP$30,tarieftoeslag,$X50,FALSE)*T50) -> #REF! | AQ50: =(VLOOKUP(AQ$30,tarieftoeslag,$X50,FALSE)*U50) -> #REF! | AR50: =(VLOOKUP(AR$30,tarieftoeslag,$X50,FALSE)*V50) -> #REF!
AM51: =(VLOOKUP(AM$30,tarieftoeslag,$X51,FALSE)*Q51) -> #REF! | AN51: =(VLOOKUP(AN$30,tarieftoeslag,$X51,FALSE)*R51) -> #REF! | AO51: =(VLOOKUP(AO$30,tarieftoeslag,$X51,FALSE)*S51) -> #REF! | AP51: =(VLOOKUP(AP$30,tarieftoeslag,$X51,FALSE)*T51) -> #REF! | AQ51: =(VLOOKUP(AQ$30,tarieftoeslag,$X51,FALSE)*U51) -> #REF! | AR51: =(VLOOKUP(AR$30,tarieftoeslag,$X51,FALSE)*V51) -> #REF!
AM52: =(VLOOKUP(AM$30,tarieftoeslag,$X52,FALSE)*Q52) -> #REF! | AN52: =(VLOOKUP(AN$30,tarieftoeslag,$X52,FALSE)*R52) -> #REF! | AO52: =(VLOOKUP(AO$30,tarieftoeslag,$X52,FALSE)*S52) -> #REF! | AP52: =(VLOOKUP(AP$30,tarieftoeslag,$X52,FALSE)*T52) -> #REF! | AQ52: =(VLOOKUP(AQ$30,tarieftoeslag,$X52,FALSE)*U52) -> #REF! | AR52: =(VLOOKUP(AR$30,tarieftoeslag,$X52,FALSE)*V52) -> #REF!
A55: Dinsdag
A56: 7
A57: Groep | D57: =D$30 -> V1 | E57: =E$30 -> V2 | F57: =F$30 -> L1 | G57: =G$30 -> L2 | H57: =H$30 -> N1 | I57: =I$30 -> N2 | J57: =J$30 -> DV4 | K57: =K$30 -> DL4 | ... W57: =W$30 -> 0 | Z57: =Z$30 -> V1 | AA57: =AA$30 -> V2 | AB57: =AB$30 -> L1 | AC57: =AC$30 -> L2 | AD57: =AD$30 -> N1 | AE57: =AE$30 -> N2 | AF57: =AF$30 -> DV4 | AG57: =AG$30 -> DL4 | AI57: =AI$30 -> Dza | AJ57: =AJ$30 -> DV8 | AK57: =AK$30 -> DL8 | AL57: =AL$30 -> K | AM57: =AM$30 -> !C! | AN57: =AN$30 -> 0 | AO57: =AO$30 -> 0 | AP57: =AP$30 -> 0 | ... AR57: =AR$30 -> 0
A58: =A31 -> #REF! | B58: =SUM(Z58:AL58) -> #REF! | C58: =(VLOOKUP(AD$30,pauzetoeslag,$A$29,FALSE)*H58)+(VLOOKUP(AE$30,pauzetoeslag,$A$29,FALSE)*I58) -> #REF! | D58: =COUNTIF(#REF!,Dienstverdeling!D$30)+COUNTIF(#REF!,Dienstverdeling!D$30)+COUNTIF(#REF!,Dienstverdeling!D$30)+COUNTIF(#REF!,Dienstverdeling!D$30)+COUNTIF(#REF!,Dienstverdeling!D$30)+COUNTIF(#REF!,Dienstverdeling!D$30)+COUNTIF(#REF!,Dienstverdeling!D$30)+COUNTIF(#REF!,Dienstverdeling!D$30) -> #REF! | E58: =COUNTIF(#REF!,Dienstverdeling!E$30)+COUNTIF(#REF!,Dienstverdeling!E$30)+COUNTIF(#REF!,Dienstverdeling!E$30)+COUNTIF(#REF!,Dienstverdeling!E$30)+COUNTIF(#REF!,Dienstverdeling!E$30)+COUNTIF(#REF!,Dienstverdeling!E$30)+COUNTIF(#REF!,Dienstverdeling!E$30)+COUNTIF(#REF!,Dienstverdeling!E$30) -> #REF! | F58: =COUNTIF(#REF!,Dienstverdeling!F$30)+COUNTIF(#REF!,Dienstverdeling!F$30)+COUNTIF(#REF!,Dienstverdeling!F$30)+COUNTIF(#REF!,Dienstverdeling!F$30)+COUNTIF(#REF!,Dienstverdeling!F$30)+COUNTIF(#REF!,Dienstverdeling!F$30)+COUNTIF(#REF!,Dienstverdeling!F$30)+COUNTIF(#REF!,Dienstverdeling!F$30) -> #REF! | G58: =COUNTIF(#REF!,Dienstverdeling!G$30)+COUNTIF(#REF!,Dienstverdeling!G$30)+COUNTIF(#REF!,Dienstverdeling!G$30)+COUNTIF(#REF!,Dienstverdeling!G$30)+COUNTIF(#REF!,Dienstverdeling!G$30)+COUNTIF(#REF!,Dienstverdeling!G$30)+COUNTIF(#REF!,Dienstverdeling!G$30)+COUNTIF(#REF!,Dienstverdeling!G$30) -> #REF! | H58: =COUNTIF(#REF!,Dienstverdeling!H$30)+COUNTIF(#REF!,Dienstverdeling!H$30)+COUNTIF(#REF!,Dienstverdeling!H$30)+COUNTIF(#REF!,Dienstverdeling!H$30)+COUNTIF(#REF!,Dienstverdeling!H$30)+COUNTIF(#REF!,Dienstverdeling!H$30)+COUNTIF(#REF!,Dienstverdeling!H$30)+COUNTIF(#REF!,Dienstverdeling!H$30) -> #REF! | I58: =COUNTIF(#REF!,Dienstverdeling!I$30)+COUNTIF(#REF!,Dienstverdeling!I$30)+COUNTIF(#REF!,Dienstverdeling!I$30)+COUNTIF(#REF!,Dienstverdeling!I$30)+COUNTIF(#REF!,Dienstverdeling!I$30)+COUNTIF(#REF!,Dienstverdeling!I$30)+COUNTIF(#REF!,Dienstverdeling!I$30)+COUNTIF(#REF!,Dienstverdeling!I$30) -> #REF! | J58: =COUNTIF(#REF!,Dienstverdeling!J$30)+COUNTIF(#REF!,Dienstverdeling!J$30)+COUNTIF(#REF!,Dienstverdeling!J$30)+COUNTIF(#REF!,Dienstverdeling!J$30)+COUNTIF(#REF!,Dienstverdeling!J$30)+COUNTIF(#REF!,Dienstverdeling!J$30)+COUNTIF(#REF!,Dienstverdeling!J$30)+COUNTIF(#REF!,Dienstverdeling!J$30) -> #REF! | K58: =COUNTIF(#REF!,Dienstverdeling!K$30)+COUNTIF(#REF!,Dienstverdeling!K$30)+COUNTIF(#REF!,Dienstverdeling!K$30)+COUNTIF(#REF!,Dienstverdeling!K$30)+COUNTIF(#REF!,Dienstverdeling!K$30)+COUNTIF(#REF!,Dienstverdeling!K$30)+COUNTIF(#REF!,Dienstverdeling!K$30)+COUNTIF(#REF!,Dienstverdeling!K$30) -> #REF! | ... W58: =COUNTIF(#REF!,Dienstverdeling!W$30)+COUNTIF(#REF!,Dienstverdeling!W$30)+COUNTIF(#REF!,Dienstverdeling!W$30)+COUNTIF(#REF!,Dienstverdeling!W$30)+COUNTIF(#REF!,Dienstverdeling!W$30)+COUNTIF(#REF!,Dienstverdeling!W$30)+COUNTIF(#REF!,Dienstverdeling!W$30)+COUNTIF(#REF!,Dienstverdeling!W$30) -> #REF! | X58: =A56 -> 7 | Y58: =(H58+I58)*0.5 -> #REF! | Z58: =(VLOOKUP(Z$30,tarieftoeslag,$X58,FALSE)*D58) -> #REF! | AA58: =(VLOOKUP(AA$30,tarieftoeslag,$X58,FALSE)*E58) -> #REF! | AB58: =(VLOOKUP(AB$30,tarieftoeslag,$X58,FALSE)*F58) -> #REF! | AC58: =(VLOOKUP(AC$30,tarieftoeslag,$X58,FALSE)*G58) -> #REF! | AD58: =(VLOOKUP(AD$30,tarieftoeslag,$X58,FALSE)*H58) -> #REF! | AE58: =(VLOOKUP(AE$30,tarieftoeslag,$X58,FALSE)*I58) -> #REF! | AF58: =(VLOOKUP(AF$30,tarieftoeslag,$X58,FALSE)*J58) -> #REF! | AG58: =(VLOOKUP(AG$30,tarieftoeslag,$X58,FALSE)*K58) -> #REF! | AI58: =(VLOOKUP(AI$30,tarieftoeslag,$X58,FALSE)*M58) -> #REF! | AJ58: =(VLOOKUP(AJ$30,tarieftoeslag,$X58,FALSE)*N58) -> #REF! | AK58: =(VLOOKUP(AK$30,tarieftoeslag,$X58,FALSE)*O58) -> #REF! | AL58: =(VLOOKUP(AL$30,tarieftoeslag,$X58,FALSE)*P58) -> #REF! | AM58: =(VLOOKUP(AM$30,tarieftoeslag,$X58,FALSE)*Q58) -> #REF! | AN58: =(VLOOKUP(AN$30,tarieftoeslag,$X58,FALSE)*R58) -> #REF! | AO58: =(VLOOKUP(AO$30,tarieftoeslag,$X58,FALSE)*S58) -> #REF! | AP58: =(VLOOKUP(AP$30,tarieftoeslag,$X58,FALSE)*T58) -> #REF! | ... AR58: =(VLOOKUP(AR$30,tarieftoeslag,$X58,FALSE)*V58) -> #REF!
A59: =A32 -> #REF! | B59: =SUM(Z59:AL59) -> #REF! | C59: =(VLOOKUP(AD$30,pauzetoeslag,$A$29,FALSE)*H59)+(VLOOKUP(AE$30,pauzetoeslag,$A$29,FALSE)*I59) -> #REF! | D59: =COUNTIF(#REF!,Dienstverdeling!D$30)+COUNTIF(#REF!,Dienstverdeling!D$30)+COUNTIF(#REF!,Dienstverdeling!D$30)+COUNTIF(#REF!,Dienstverdeling!D$30)+COUNTIF(#REF!,Dienstverdeling!D$30)+COUNTIF(#REF!,Dienstverdeling!D$30)+COUNTIF(#REF!,Dienstverdeling!D$30)+COUNTIF(#REF!,Dienstverdeling!D$30) -> #REF! | E59: =COUNTIF(#REF!,Dienstverdeling!E$30)+COUNTIF(#REF!,Dienstverdeling!E$30)+COUNTIF(#REF!,Dienstverdeling!E$30)+COUNTIF(#REF!,Dienstverdeling!E$30)+COUNTIF(#REF!,Dienstverdeling!E$30)+COUNTIF(#REF!,Dienstverdeling!E$30)+COUNTIF(#REF!,Dienstverdeling!E$30)+COUNTIF(#REF!,Dienstverdeling!E$30) -> #REF! | F59: =COUNTIF(#REF!,Dienstverdeling!F$30)+COUNTIF(#REF!,Dienstverdeling!F$30)+COUNTIF(#REF!,Dienstverdeling!F$30)+COUNTIF(#REF!,Dienstverdeling!F$30)+COUNTIF(#REF!,Dienstverdeling!F$30)+COUNTIF(#REF!,Dienstverdeling!F$30)+COUNTIF(#REF!,Dienstverdeling!F$30)+COUNTIF(#REF!,Dienstverdeling!F$30) -> #REF! | G59: =COUNTIF(#REF!,Dienstverdeling!G$30)+COUNTIF(#REF!,Dienstverdeling!G$30)+COUNTIF(#REF!,Dienstverdeling!G$30)+COUNTIF(#REF!,Dienstverdeling!G$30)+COUNTIF(#REF!,Dienstverdeling!G$30)+COUNTIF(#REF!,Dienstverdeling!G$30)+COUNTIF(#REF!,Dienstverdeling!G$30)+COUNTIF(#REF!,Dienstverdeling!G$30) -> #REF! | H59: =COUNTIF(#REF!,Dienstverdeling!H$30)+COUNTIF(#REF!,Dienstverdeling!H$30)+COUNTIF(#REF!,Dienstverdeling!H$30)+COUNTIF(#REF!,Dienstverdeling!H$30)+COUNTIF(#REF!,Dienstverdeling!H$30)+COUNTIF(#REF!,Dienstverdeling!H$30)+COUNTIF(#REF!,Dienstverdeling!H$30)+COUNTIF(#REF!,Dienstverdeling!H$30) -> #REF! | I59: =COUNTIF(#REF!,Dienstverdeling!I$30)+COUNTIF(#REF!,Dienstverdeling!I$30)+COUNTIF(#REF!,Dienstverdeling!I$30)+COUNTIF(#REF!,Dienstverdeling!I$30)+COUNTIF(#REF!,Dienstverdeling!I$30)+COUNTIF(#REF!,Dienstverdeling!I$30)+COUNTIF(#REF!,Dienstverdeling!I$30)+COUNTIF(#REF!,Dienstverdeling!I$30) -> #REF! | J59: =COUNTIF(#REF!,Dienstverdeling!J$30)+COUNTIF(#REF!,Dienstverdeling!J$30)+COUNTIF(#REF!,Dienstverdeling!J$30)+COUNTIF(#REF!,Dienstverdeling!J$30)+COUNTIF(#REF!,Dienstverdeling!J$30)+COUNTIF(#REF!,Dienstverdeling!J$30)+COUNTIF(#REF!,Dienstverdeling!J$30)+COUNTIF(#REF!,Dienstverdeling!J$30) -> #REF! | K59: =COUNTIF(#REF!,Dienstverdeling!K$30)+COUNTIF(#REF!,Dienstverdeling!K$30)+COUNTIF(#REF!,Dienstverdeling!K$30)+COUNTIF(#REF!,Dienstverdeling!K$30)+COUNTIF(#REF!,Dienstverdeling!K$30)+COUNTIF(#REF!,Dienstverdeling!K$30)+COUNTIF(#REF!,Dienstverdeling!K$30)+COUNTIF(#REF!,Dienstverdeling!K$30) -> #REF! | ... W59: =COUNTIF(#REF!,Dienstverdeling!W$30)+COUNTIF(#REF!,Dienstverdeling!W$30)+COUNTIF(#REF!,Dienstverdeling!W$30)+COUNTIF(#REF!,Dienstverdeling!W$30)+COUNTIF(#REF!,Dienstverdeling!W$30)+COUNTIF(#REF!,Dienstverdeling!W$30)+COUNTIF(#REF!,Dienstverdeling!W$30)+COUNTIF(#REF!,Dienstverdeling!W$30) -> #REF! | X59: =X58 -> 7 | Y59: =(H59+I59)*0.5 -> #REF! | Z59: =(VLOOKUP(Z$30,tarieftoeslag,$X59,FALSE)*D59) -> #REF! | AA59: =(VLOOKUP(AA$30,tarieftoeslag,$X59,FALSE)*E59) -> #REF! | AB59: =(VLOOKUP(AB$30,tarieftoeslag,$X59,FALSE)*F59) -> #REF! | AC59: =(VLOOKUP(AC$30,tarieftoeslag,$X59,FALSE)*G59) -> #REF! | AD59: =(VLOOKUP(AD$30,tarieftoeslag,$X59,FALSE)*H59) -> #REF! | AE59: =(VLOOKUP(AE$30,tarieftoeslag,$X59,FALSE)*I59) -> #REF! | AF59: =(VLOOKUP(AF$30,tarieftoeslag,$X59,FALSE)*J59) -> #REF! | AG59: =(VLOOKUP(AG$30,tarieftoeslag,$X59,FALSE)*K59) -> #REF! | AI59: =(VLOOKUP(AI$30,tarieftoeslag,$X59,FALSE)*M59) -> #REF! | AJ59: =(VLOOKUP(AJ$30,tarieftoeslag,$X59,FALSE)*N59) -> #REF! | AK59: =(VLOOKUP(AK$30,tarieftoeslag,$X59,FALSE)*O59) -> #REF! | AL59: =(VLOOKUP(AL$30,tarieftoeslag,$X59,FALSE)*P59) -> #REF! | AM59: =(VLOOKUP(AM$30,tarieftoeslag,$X59,FALSE)*Q59) -> #REF! | AN59: =(VLOOKUP(AN$30,tarieftoeslag,$X59,FALSE)*R59) -> #REF! | AO59: =(VLOOKUP(AO$30,tarieftoeslag,$X59,FALSE)*S59) -> #REF! | AP59: =(VLOOKUP(AP$30,tarieftoeslag,$X59,FALSE)*T59) -> #REF! | ... AR59: =(VLOOKUP(AR$30,tarieftoeslag,$X59,FALSE)*V59) -> #REF!
A60: =A33 -> #REF! | B60: =SUM(Z60:AL60) -> #REF! | C60: =(VLOOKUP(AD$30,pauzetoeslag,$A$29,FALSE)*H60)+(VLOOKUP(AE$30,pauzetoeslag,$A$29,FALSE)*I60) -> #REF! | D60: =COUNTIF(#REF!,Dienstverdeling!D$30)+COUNTIF(#REF!,Dienstverdeling!D$30)+COUNTIF(#REF!,Dienstverdeling!D$30)+COUNTIF(#REF!,Dienstverdeling!D$30)+COUNTIF(#REF!,Dienstverdeling!D$30)+COUNTIF(#REF!,Dienstverdeling!D$30)+COUNTIF(#REF!,Dienstverdeling!D$30)+COUNTIF(#REF!,Dienstverdeling!D$30) -> #REF! | E60: =COUNTIF(#REF!,Dienstverdeling!E$30)+COUNTIF(#REF!,Dienstverdeling!E$30)+COUNTIF(#REF!,Dienstverdeling!E$30)+COUNTIF(#REF!,Dienstverdeling!E$30)+COUNTIF(#REF!,Dienstverdeling!E$30)+COUNTIF(#REF!,Dienstverdeling!E$30)+COUNTIF(#REF!,Dienstverdeling!E$30)+COUNTIF(#REF!,Dienstverdeling!E$30) -> #REF! | F60: =COUNTIF(#REF!,Dienstverdeling!F$30)+COUNTIF(#REF!,Dienstverdeling!F$30)+COUNTIF(#REF!,Dienstverdeling!F$30)+COUNTIF(#REF!,Dienstverdeling!F$30)+COUNTIF(#REF!,Dienstverdeling!F$30)+COUNTIF(#REF!,Dienstverdeling!F$30)+COUNTIF(#REF!,Dienstverdeling!F$30)+COUNTIF(#REF!,Dienstverdeling!F$30) -> #REF! | G60: =COUNTIF(#REF!,Dienstverdeling!G$30)+COUNTIF(#REF!,Dienstverdeling!G$30)+COUNTIF(#REF!,Dienstverdeling!G$30)+COUNTIF(#REF!,Dienstverdeling!G$30)+COUNTIF(#REF!,Dienstverdeling!G$30)+COUNTIF(#REF!,Dienstverdeling!G$30)+COUNTIF(#REF!,Dienstverdeling!G$30)+COUNTIF(#REF!,Dienstverdeling!G$30) -> #REF! | H60: =COUNTIF(#REF!,Dienstverdeling!H$30)+COUNTIF(#REF!,Dienstverdeling!H$30)+COUNTIF(#REF!,Dienstverdeling!H$30)+COUNTIF(#REF!,Dienstverdeling!H$30)+COUNTIF(#REF!,Dienstverdeling!H$30)+COUNTIF(#REF!,Dienstverdeling!H$30)+COUNTIF(#REF!,Dienstverdeling!H$30)+COUNTIF(#REF!,Dienstverdeling!H$30) -> #REF! | I60: =COUNTIF(#REF!,Dienstverdeling!I$30)+COUNTIF(#REF!,Dienstverdeling!I$30)+COUNTIF(#REF!,Dienstverdeling!I$30)+COUNTIF(#REF!,Dienstverdeling!I$30)+COUNTIF(#REF!,Dienstverdeling!I$30)+COUNTIF(#REF!,Dienstverdeling!I$30)+COUNTIF(#REF!,Dienstverdeling!I$30)+COUNTIF(#REF!,Dienstverdeling!I$30) -> #REF! | J60: =COUNTIF(#REF!,Dienstverdeling!J$30)+COUNTIF(#REF!,Dienstverdeling!J$30)+COUNTIF(#REF!,Dienstverdeling!J$30)+COUNTIF(#REF!,Dienstverdeling!J$30)+COUNTIF(#REF!,Dienstverdeling!J$30)+COUNTIF(#REF!,Dienstverdeling!J$30)+COUNTIF(#REF!,Dienstverdeling!J$30)+COUNTIF(#REF!,Dienstverdeling!J$30) -> #REF! | K60: =COUNTIF(#REF!,Dienstverdeling!K$30)+COUNTIF(#REF!,Dienstverdeling!K$30)+COUNTIF(#REF!,Dienstverdeling!K$30)+COUNTIF(#REF!,Dienstverdeling!K$30)+COUNTIF(#REF!,Dienstverdeling!K$30)+COUNTIF(#REF!,Dienstverdeling!K$30)+COUNTIF(#REF!,Dienstverdeling!K$30)+COUNTIF(#REF!,Dienstverdeling!K$30) -> #REF! | ... W60: =COUNTIF(#REF!,Dienstverdeling!W$30)+COUNTIF(#REF!,Dienstverdeling!W$30)+COUNTIF(#REF!,Dienstverdeling!W$30)+COUNTIF(#REF!,Dienstverdeling!W$30)+COUNTIF(#REF!,Dienstverdeling!W$30)+COUNTIF(#REF!,Dienstverdeling!W$30)+COUNTIF(#REF!,Dienstverdeling!W$30)+COUNTIF(#REF!,Dienstverdeling!W$30) -> #REF! | X60: =X59 -> 7 | Y60: =(H60+I60)*0.5 -> #REF! | Z60: =(VLOOKUP(Z$30,tarieftoeslag,$X60,FALSE)*D60) -> #REF! | AA60: =(VLOOKUP(AA$30,tarieftoeslag,$X60,FALSE)*E60) -> #REF! | AB60: =(VLOOKUP(AB$30,tarieftoeslag,$X60,FALSE)*F60) -> #REF! | AC60: =(VLOOKUP(AC$30,tarieftoeslag,$X60,FALSE)*G60) -> #REF! | AD60: =(VLOOKUP(AD$30,tarieftoeslag,$X60,FALSE)*H60) -> #REF! | AE60: =(VLOOKUP(AE$30,tarieftoeslag,$X60,FALSE)*I60) -> #REF! | AF60: =(VLOOKUP(AF$30,tarieftoeslag,$X60,FALSE)*J60) -> #REF! | AG60: =(VLOOKUP(AG$30,tarieftoeslag,$X60,FALSE)*K60) -> #REF! | AI60: =(VLOOKUP(AI$30,tarieftoeslag,$X60,FALSE)*M60) -> #REF! | AJ60: =(VLOOKUP(AJ$30,tarieftoeslag,$X60,FALSE)*N60) -> #REF! | AK60: =(VLOOKUP(AK$30,tarieftoeslag,$X60,FALSE)*O60) -> #REF! | AL60: =(VLOOKUP(AL$30,tarieftoeslag,$X60,FALSE)*P60) -> #REF! | AM60: =(VLOOKUP(AM$30,tarieftoeslag,$X60,FALSE)*Q60) -> #REF! | AN60: =(VLOOKUP(AN$30,tarieftoeslag,$X60,FALSE)*R60) -> #REF! | AO60: =(VLOOKUP(AO$30,tarieftoeslag,$X60,FALSE)*S60) -> #REF! | AP60: =(VLOOKUP(AP$30,tarieftoeslag,$X60,FALSE)*T60) -> #REF! | ... AR60: =(VLOOKUP(AR$30,tarieftoeslag,$X60,FALSE)*V60) -> #REF!
A61: =A34 -> #REF! | B61: =SUM(Z61:AL61) -> #REF! | C61: =(VLOOKUP(AD$30,pauzetoeslag,$A$29,FALSE)*H61)+(VLOOKUP(AE$30,pauzetoeslag,$A$29,FALSE)*I61) -> #REF! | D61: =COUNTIF(#REF!,Dienstverdeling!D$30)+COUNTIF(#REF!,Dienstverdeling!D$30)+COUNTIF(#REF!,Dienstverdeling!D$30)+COUNTIF(#REF!,Dienstverdeling!D$30)+COUNTIF(#REF!,Dienstverdeling!D$30)+COUNTIF(#REF!,Dienstverdeling!D$30)+COUNTIF(#REF!,Dienstverdeling!D$30)+COUNTIF(#REF!,Dienstverdeling!D$30) -> #REF! | E61: =COUNTIF(#REF!,Dienstverdeling!E$30)+COUNTIF(#REF!,Dienstverdeling!E$30)+COUNTIF(#REF!,Dienstverdeling!E$30)+COUNTIF(#REF!,Dienstverdeling!E$30)+COUNTIF(#REF!,Dienstverdeling!E$30)+COUNTIF(#REF!,Dienstverdeling!E$30)+COUNTIF(#REF!,Dienstverdeling!E$30)+COUNTIF(#REF!,Dienstverdeling!E$30) -> #REF! | F61: =COUNTIF(#REF!,Dienstverdeling!F$30)+COUNTIF(#REF!,Dienstverdeling!F$30)+COUNTIF(#REF!,Dienstverdeling!F$30)+COUNTIF(#REF!,Dienstverdeling!F$30)+COUNTIF(#REF!,Dienstverdeling!F$30)+COUNTIF(#REF!,Dienstverdeling!F$30)+COUNTIF(#REF!,Dienstverdeling!F$30)+COUNTIF(#REF!,Dienstverdeling!F$30) -> #REF! | G61: =COUNTIF(#REF!,Dienstverdeling!G$30)+COUNTIF(#REF!,Dienstverdeling!G$30)+COUNTIF(#REF!,Dienstverdeling!G$30)+COUNTIF(#REF!,Dienstverdeling!G$30)+COUNTIF(#REF!,Dienstverdeling!G$30)+COUNTIF(#REF!,Dienstverdeling!G$30)+COUNTIF(#REF!,Dienstverdeling!G$30)+COUNTIF(#REF!,Dienstverdeling!G$30) -> #REF! | H61: =COUNTIF(#REF!,Dienstverdeling!H$30)+COUNTIF(#REF!,Dienstverdeling!H$30)+COUNTIF(#REF!,Dienstverdeling!H$30)+COUNTIF(#REF!,Dienstverdeling!H$30)+COUNTIF(#REF!,Dienstverdeling!H$30)+COUNTIF(#REF!,Dienstverdeling!H$30)+COUNTIF(#REF!,Dienstverdeling!H$30)+COUNTIF(#REF!,Dienstverdeling!H$30) -> #REF! | I61: =COUNTIF(#REF!,Dienstverdeling!I$30)+COUNTIF(#REF!,Dienstverdeling!I$30)+COUNTIF(#REF!,Dienstverdeling!I$30)+COUNTIF(#REF!,Dienstverdeling!I$30)+COUNTIF(#REF!,Dienstverdeling!I$30)+COUNTIF(#REF!,Dienstverdeling!I$30)+COUNTIF(#REF!,Dienstverdeling!I$30)+COUNTIF(#REF!,Dienstverdeling!I$30) -> #REF! | J61: =COUNTIF(#REF!,Dienstverdeling!J$30)+COUNTIF(#REF!,Dienstverdeling!J$30)+COUNTIF(#REF!,Dienstverdeling!J$30)+COUNTIF(#REF!,Dienstverdeling!J$30)+COUNTIF(#REF!,Dienstverdeling!J$30)+COUNTIF(#REF!,Dienstverdeling!J$30)+COUNTIF(#REF!,Dienstverdeling!J$30)+COUNTIF(#REF!,Dienstverdeling!J$30) -> #REF! | K61: =COUNTIF(#REF!,Dienstverdeling!K$30)+COUNTIF(#REF!,Dienstverdeling!K$30)+COUNTIF(#REF!,Dienstverdeling!K$30)+COUNTIF(#REF!,Dienstverdeling!K$30)+COUNTIF(#REF!,Dienstverdeling!K$30)+COUNTIF(#REF!,Dienstverdeling!K$30)+COUNTIF(#REF!,Dienstverdeling!K$30)+COUNTIF(#REF!,Dienstverdeling!K$30) -> #REF! | ... W61: =COUNTIF(#REF!,Dienstverdeling!W$30)+COUNTIF(#REF!,Dienstverdeling!W$30)+COUNTIF(#REF!,Dienstverdeling!W$30)+COUNTIF(#REF!,Dienstverdeling!W$30)+COUNTIF(#REF!,Dienstverdeling!W$30)+COUNTIF(#REF!,Dienstverdeling!W$30)+COUNTIF(#REF!,Dienstverdeling!W$30)+COUNTIF(#REF!,Dienstverdeling!W$30) -> #REF! | X61: =X60 -> 7 | Y61: =(H61+I61)*0.5 -> #REF! | Z61: =(VLOOKUP(Z$30,tarieftoeslag,$X61,FALSE)*D61) -> #REF! | AA61: =(VLOOKUP(AA$30,tarieftoeslag,$X61,FALSE)*E61) -> #REF! | AB61: =(VLOOKUP(AB$30,tarieftoeslag,$X61,FALSE)*F61) -> #REF! | AC61: =(VLOOKUP(AC$30,tarieftoeslag,$X61,FALSE)*G61) -> #REF! | AD61: =(VLOOKUP(AD$30,tarieftoeslag,$X61,FALSE)*H61) -> #REF! | AE61: =(VLOOKUP(AE$30,tarieftoeslag,$X61,FALSE)*I61) -> #REF! | AF61: =(VLOOKUP(AF$30,tarieftoeslag,$X61,FALSE)*J61) -> #REF! | AG61: =(VLOOKUP(AG$30,tarieftoeslag,$X61,FALSE)*K61) -> #REF! | AI61: =(VLOOKUP(AI$30,tarieftoeslag,$X61,FALSE)*M61) -> #REF! | AJ61: =(VLOOKUP(AJ$30,tarieftoeslag,$X61,FALSE)*N61) -> #REF! | AK61: =(VLOOKUP(AK$30,tarieftoeslag,$X61,FALSE)*O61) -> #REF! | AL61: =(VLOOKUP(AL$30,tarieftoeslag,$X61,FALSE)*P61) -> #REF! | AM61: =(VLOOKUP(AM$30,tarieftoeslag,$X61,FALSE)*Q61) -> #REF! | AN61: =(VLOOKUP(AN$30,tarieftoeslag,$X61,FALSE)*R61) -> #REF! | AO61: =(VLOOKUP(AO$30,tarieftoeslag,$X61,FALSE)*S61) -> #REF! | AP61: =(VLOOKUP(AP$30,tarieftoeslag,$X61,FALSE)*T61) -> #REF! | ... AR61: =(VLOOKUP(AR$30,tarieftoeslag,$X61,FALSE)*V61) -> #REF!
A62: =A35 -> #REF! | B62: =SUM(Z62:AL62) -> #REF! | C62: =(VLOOKUP(AD$30,pauzetoeslag,$A$29,FALSE)*H62)+(VLOOKUP(AE$30,pauzetoeslag,$A$29,FALSE)*I62) -> #REF! | D62: =COUNTIF(#REF!,Dienstverdeling!D$30)+COUNTIF(#REF!,Dienstverdeling!D$30)+COUNTIF(#REF!,Dienstverdeling!D$30)+COUNTIF(#REF!,Dienstverdeling!D$30)+COUNTIF(#REF!,Dienstverdeling!D$30)+COUNTIF(#REF!,Dienstverdeling!D$30)+COUNTIF(#REF!,Dienstverdeling!D$30)+COUNTIF(#REF!,Dienstverdeling!D$30) -> #REF! | E62: =COUNTIF(#REF!,Dienstverdeling!E$30)+COUNTIF(#REF!,Dienstverdeling!E$30)+COUNTIF(#REF!,Dienstverdeling!E$30)+COUNTIF(#REF!,Dienstverdeling!E$30)+COUNTIF(#REF!,Dienstverdeling!E$30)+COUNTIF(#REF!,Dienstverdeling!E$30)+COUNTIF(#REF!,Dienstverdeling!E$30)+COUNTIF(#REF!,Dienstverdeling!E$30) -> #REF! | F62: =COUNTIF(#REF!,Dienstverdeling!F$30)+COUNTIF(#REF!,Dienstverdeling!F$30)+COUNTIF(#REF!,Dienstverdeling!F$30)+COUNTIF(#REF!,Dienstverdeling!F$30)+COUNTIF(#REF!,Dienstverdeling!F$30)+COUNTIF(#REF!,Dienstverdeling!F$30)+COUNTIF(#REF!,Dienstverdeling!F$30)+COUNTIF(#REF!,Dienstverdeling!F$30) -> #REF! | G62: =COUNTIF(#REF!,Dienstverdeling!G$30)+COUNTIF(#REF!,Dienstverdeling!G$30)+COUNTIF(#REF!,Dienstverdeling!G$30)+COUNTIF(#REF!,Dienstverdeling!G$30)+COUNTIF(#REF!,Dienstverdeling!G$30)+COUNTIF(#REF!,Dienstverdeling!G$30)+COUNTIF(#REF!,Dienstverdeling!G$30)+COUNTIF(#REF!,Dienstverdeling!G$30) -> #REF! | H62: =COUNTIF(#REF!,Dienstverdeling!H$30)+COUNTIF(#REF!,Dienstverdeling!H$30)+COUNTIF(#REF!,Dienstverdeling!H$30)+COUNTIF(#REF!,Dienstverdeling!H$30)+COUNTIF(#REF!,Dienstverdeling!H$30)+COUNTIF(#REF!,Dienstverdeling!H$30)+COUNTIF(#REF!,Dienstverdeling!H$30)+COUNTIF(#REF!,Dienstverdeling!H$30) -> #REF! | I62: =COUNTIF(#REF!,Dienstverdeling!I$30)+COUNTIF(#REF!,Dienstverdeling!I$30)+COUNTIF(#REF!,Dienstverdeling!I$30)+COUNTIF(#REF!,Dienstverdeling!I$30)+COUNTIF(#REF!,Dienstverdeling!I$30)+COUNTIF(#REF!,Dienstverdeling!I$30)+COUNTIF(#REF!,Dienstverdeling!I$30)+COUNTIF(#REF!,Dienstverdeling!I$30) -> #REF! | J62: =COUNTIF(#REF!,Dienstverdeling!J$30)+COUNTIF(#REF!,Dienstverdeling!J$30)+COUNTIF(#REF!,Dienstverdeling!J$30)+COUNTIF(#REF!,Dienstverdeling!J$30)+COUNTIF(#REF!,Dienstverdeling!J$30)+COUNTIF(#REF!,Dienstverdeling!J$30)+COUNTIF(#REF!,Dienstverdeling!J$30)+COUNTIF(#REF!,Dienstverdeling!J$30) -> #REF! | K62: =COUNTIF(#REF!,Dienstverdeling!K$30)+COUNTIF(#REF!,Dienstverdeling!K$30)+COUNTIF(#REF!,Dienstverdeling!K$30)+COUNTIF(#REF!,Dienstverdeling!K$30)+COUNTIF(#REF!,Dienstverdeling!K$30)+COUNTIF(#REF!,Dienstverdeling!K$30)+COUNTIF(#REF!,Dienstverdeling!K$30)+COUNTIF(#REF!,Dienstverdeling!K$30) -> #REF! | ... W62: =COUNTIF(#REF!,Dienstverdeling!W$30)+COUNTIF(#REF!,Dienstverdeling!W$30)+COUNTIF(#REF!,Dienstverdeling!W$30)+COUNTIF(#REF!,Dienstverdeling!W$30)+COUNTIF(#REF!,Dienstverdeling!W$30)+COUNTIF(#REF!,Dienstverdeling!W$30)+COUNTIF(#REF!,Dienstverdeling!W$30)+COUNTIF(#REF!,Dienstverdeling!W$30) -> #REF! | X62: =X61 -> 7 | Y62: =(H62+I62)*0.5 -> #REF! | Z62: =(VLOOKUP(Z$30,tarieftoeslag,$X62,FALSE)*D62) -> #REF! | AA62: =(VLOOKUP(AA$30,tarieftoeslag,$X62,FALSE)*E62) -> #REF! | AB62: =(VLOOKUP(AB$30,tarieftoeslag,$X62,FALSE)*F62) -> #REF! | AC62: =(VLOOKUP(AC$30,tarieftoeslag,$X62,FALSE)*G62) -> #REF! | AD62: =(VLOOKUP(AD$30,tarieftoeslag,$X62,FALSE)*H62) -> #REF! | AE62: =(VLOOKUP(AE$30,tarieftoeslag,$X62,FALSE)*I62) -> #REF! | AF62: =(VLOOKUP(AF$30,tarieftoeslag,$X62,FALSE)*J62) -> #REF! | AG62: =(VLOOKUP(AG$30,tarieftoeslag,$X62,FALSE)*K62) -> #REF! | AI62: =(VLOOKUP(AI$30,tarieftoeslag,$X62,FALSE)*M62) -> #REF! | AJ62: =(VLOOKUP(AJ$30,tarieftoeslag,$X62,FALSE)*N62) -> #REF! | AK62: =(VLOOKUP(AK$30,tarieftoeslag,$X62,FALSE)*O62) -> #REF! | AL62: =(VLOOKUP(AL$30,tarieftoeslag,$X62,FALSE)*P62) -> #REF! | AM62: =(VLOOKUP(AM$30,tarieftoeslag,$X62,FALSE)*Q62) -> #REF! | AN62: =(VLOOKUP(AN$30,tarieftoeslag,$X62,FALSE)*R62) -> #REF! | AO62: =(VLOOKUP(AO$30,tarieftoeslag,$X62,FALSE)*S62) -> #REF! | AP62: =(VLOOKUP(AP$30,tarieftoeslag,$X62,FALSE)*T62) -> #REF! | ... AR62: =(VLOOKUP(AR$30,tarieftoeslag,$X62,FALSE)*V62) -> #REF!
A63: =A36 -> #REF! | B63: =SUM(Z63:AL63) -> #REF! | C63: =(VLOOKUP(AD$30,pauzetoeslag,$A$29,FALSE)*H63)+(VLOOKUP(AE$30,pauzetoeslag,$A$29,FALSE)*I63) -> #REF! | D63: =COUNTIF(#REF!,Dienstverdeling!D$30)+COUNTIF(#REF!,Dienstverdeling!D$30)+COUNTIF(#REF!,Dienstverdeling!D$30)+COUNTIF(#REF!,Dienstverdeling!D$30)+COUNTIF(#REF!,Dienstverdeling!D$30)+COUNTIF(#REF!,Dienstverdeling!D$30)+COUNTIF(#REF!,Dienstverdeling!D$30)+COUNTIF(#REF!,Dienstverdeling!D$30) -> #REF! | E63: =COUNTIF(#REF!,Dienstverdeling!E$30)+COUNTIF(#REF!,Dienstverdeling!E$30)+COUNTIF(#REF!,Dienstverdeling!E$30)+COUNTIF(#REF!,Dienstverdeling!E$30)+COUNTIF(#REF!,Dienstverdeling!E$30)+COUNTIF(#REF!,Dienstverdeling!E$30)+COUNTIF(#REF!,Dienstverdeling!E$30)+COUNTIF(#REF!,Dienstverdeling!E$30) -> #REF! | F63: =COUNTIF(#REF!,Dienstverdeling!F$30)+COUNTIF(#REF!,Dienstverdeling!F$30)+COUNTIF(#REF!,Dienstverdeling!F$30)+COUNTIF(#REF!,Dienstverdeling!F$30)+COUNTIF(#REF!,Dienstverdeling!F$30)+COUNTIF(#REF!,Dienstverdeling!F$30)+COUNTIF(#REF!,Dienstverdeling!F$30)+COUNTIF(#REF!,Dienstverdeling!F$30) -> #REF! | G63: =COUNTIF(#REF!,Dienstverdeling!G$30)+COUNTIF(#REF!,Dienstverdeling!G$30)+COUNTIF(#REF!,Dienstverdeling!G$30)+COUNTIF(#REF!,Dienstverdeling!G$30)+COUNTIF(#REF!,Dienstverdeling!G$30)+COUNTIF(#REF!,Dienstverdeling!G$30)+COUNTIF(#REF!,Dienstverdeling!G$30)+COUNTIF(#REF!,Dienstverdeling!G$30) -> #REF! | H63: =COUNTIF(#REF!,Dienstverdeling!H$30)+COUNTIF(#REF!,Dienstverdeling!H$30)+COUNTIF(#REF!,Dienstverdeling!H$30)+COUNTIF(#REF!,Dienstverdeling!H$30)+COUNTIF(#REF!,Dienstverdeling!H$30)+COUNTIF(#REF!,Dienstverdeling!H$30)+COUNTIF(#REF!,Dienstverdeling!H$30)+COUNTIF(#REF!,Dienstverdeling!H$30) -> #REF! | I63: =COUNTIF(#REF!,Dienstverdeling!I$30)+COUNTIF(#REF!,Dienstverdeling!I$30)+COUNTIF(#REF!,Dienstverdeling!I$30)+COUNTIF(#REF!,Dienstverdeling!I$30)+COUNTIF(#REF!,Dienstverdeling!I$30)+COUNTIF(#REF!,Dienstverdeling!I$30)+COUNTIF(#REF!,Dienstverdeling!I$30)+COUNTIF(#REF!,Dienstverdeling!I$30) -> #REF! | J63: =COUNTIF(#REF!,Dienstverdeling!J$30)+COUNTIF(#REF!,Dienstverdeling!J$30)+COUNTIF(#REF!,Dienstverdeling!J$30)+COUNTIF(#REF!,Dienstverdeling!J$30)+COUNTIF(#REF!,Dienstverdeling!J$30)+COUNTIF(#REF!,Dienstverdeling!J$30)+COUNTIF(#REF!,Dienstverdeling!J$30)+COUNTIF(#REF!,Dienstverdeling!J$30) -> #REF! | K63: =COUNTIF(#REF!,Dienstverdeling!K$30)+COUNTIF(#REF!,Dienstverdeling!K$30)+COUNTIF(#REF!,Dienstverdeling!K$30)+COUNTIF(#REF!,Dienstverdeling!K$30)+COUNTIF(#REF!,Dienstverdeling!K$30)+COUNTIF(#REF!,Dienstverdeling!K$30)+COUNTIF(#REF!,Dienstverdeling!K$30)+COUNTIF(#REF!,Dienstverdeling!K$30) -> #REF! | ... W63: =COUNTIF(#REF!,Dienstverdeling!W$30)+COUNTIF(#REF!,Dienstverdeling!W$30)+COUNTIF(#REF!,Dienstverdeling!W$30)+COUNTIF(#REF!,Dienstverdeling!W$30)+COUNTIF(#REF!,Dienstverdeling!W$30)+COUNTIF(#REF!,Dienstverdeling!W$30)+COUNTIF(#REF!,Dienstverdeling!W$30)+COUNTIF(#REF!,Dienstverdeling!W$30) -> #REF! | X63: =X62 -> 7 | Y63: =(H63+I63)*0.5 -> #REF! | Z63: =(VLOOKUP(Z$30,tarieftoeslag,$X63,FALSE)*D63) -> #REF! | AA63: =(VLOOKUP(AA$30,tarieftoeslag,$X63,FALSE)*E63) -> #REF! | AB63: =(VLOOKUP(AB$30,tarieftoeslag,$X63,FALSE)*F63) -> #REF! | AC63: =(VLOOKUP(AC$30,tarieftoeslag,$X63,FALSE)*G63) -> #REF! | AD63: =(VLOOKUP(AD$30,tarieftoeslag,$X63,FALSE)*H63) -> #REF! | AE63: =(VLOOKUP(AE$30,tarieftoeslag,$X63,FALSE)*I63) -> #REF! | AF63: =(VLOOKUP(AF$30,tarieftoeslag,$X63,FALSE)*J63) -> #REF! | AG63: =(VLOOKUP(AG$30,tarieftoeslag,$X63,FALSE)*K63) -> #REF! | AI63: =(VLOOKUP(AI$30,tarieftoeslag,$X63,FALSE)*M63) -> #REF! | AJ63: =(VLOOKUP(AJ$30,tarieftoeslag,$X63,FALSE)*N63) -> #REF! | AK63: =(VLOOKUP(AK$30,tarieftoeslag,$X63,FALSE)*O63) -> #REF! | AL63: =(VLOOKUP(AL$30,tarieftoeslag,$X63,FALSE)*P63) -> #REF! | AM63: =(VLOOKUP(AM$30,tarieftoeslag,$X63,FALSE)*Q63) -> #REF! | AN63: =(VLOOKUP(AN$30,tarieftoeslag,$X63,FALSE)*R63) -> #REF! | AO63: =(VLOOKUP(AO$30,tarieftoeslag,$X63,FALSE)*S63) -> #REF! | AP63: =(VLOOKUP(AP$30,tarieftoeslag,$X63,FALSE)*T63) -> #REF! | ... AR63: =(VLOOKUP(AR$30,tarieftoeslag,$X63,FALSE)*V63) -> #REF!
A64: =A37 -> #REF! | B64: =SUM(Z64:AL64) -> #REF! | C64: =(VLOOKUP(AD$30,pauzetoeslag,$A$29,FALSE)*H64)+(VLOOKUP(AE$30,pauzetoeslag,$A$29,FALSE)*I64) -> #REF! | D64: =COUNTIF(#REF!,Dienstverdeling!D$30)+COUNTIF(#REF!,Dienstverdeling!D$30)+COUNTIF(#REF!,Dienstverdeling!D$30)+COUNTIF(#REF!,Dienstverdeling!D$30)+COUNTIF(#REF!,Dienstverdeling!D$30)+COUNTIF(#REF!,Dienstverdeling!D$30)+COUNTIF(#REF!,Dienstverdeling!D$30)+COUNTIF(#REF!,Dienstverdeling!D$30) -> #REF! | E64: =COUNTIF(#REF!,Dienstverdeling!E$30)+COUNTIF(#REF!,Dienstverdeling!E$30)+COUNTIF(#REF!,Dienstverdeling!E$30)+COUNTIF(#REF!,Dienstverdeling!E$30)+COUNTIF(#REF!,Dienstverdeling!E$30)+COUNTIF(#REF!,Dienstverdeling!E$30)+COUNTIF(#REF!,Dienstverdeling!E$30)+COUNTIF(#REF!,Dienstverdeling!E$30) -> #REF! | F64: =COUNTIF(#REF!,Dienstverdeling!F$30)+COUNTIF(#REF!,Dienstverdeling!F$30)+COUNTIF(#REF!,Dienstverdeling!F$30)+COUNTIF(#REF!,Dienstverdeling!F$30)+COUNTIF(#REF!,Dienstverdeling!F$30)+COUNTIF(#REF!,Dienstverdeling!F$30)+COUNTIF(#REF!,Dienstverdeling!F$30)+COUNTIF(#REF!,Dienstverdeling!F$30) -> #REF! | G64: =COUNTIF(#REF!,Dienstverdeling!G$30)+COUNTIF(#REF!,Dienstverdeling!G$30)+COUNTIF(#REF!,Dienstverdeling!G$30)+COUNTIF(#REF!,Dienstverdeling!G$30)+COUNTIF(#REF!,Dienstverdeling!G$30)+COUNTIF(#REF!,Dienstverdeling!G$30)+COUNTIF(#REF!,Dienstverdeling!G$30)+COUNTIF(#REF!,Dienstverdeling!G$30) -> #REF! | H64: =COUNTIF(#REF!,Dienstverdeling!H$30)+COUNTIF(#REF!,Dienstverdeling!H$30)+COUNTIF(#REF!,Dienstverdeling!H$30)+COUNTIF(#REF!,Dienstverdeling!H$30)+COUNTIF(#REF!,Dienstverdeling!H$30)+COUNTIF(#REF!,Dienstverdeling!H$30)+COUNTIF(#REF!,Dienstverdeling!H$30)+COUNTIF(#REF!,Dienstverdeling!H$30) -> #REF! | I64: =COUNTIF(#REF!,Dienstverdeling!I$30)+COUNTIF(#REF!,Dienstverdeling!I$30)+COUNTIF(#REF!,Dienstverdeling!I$30)+COUNTIF(#REF!,Dienstverdeling!I$30)+COUNTIF(#REF!,Dienstverdeling!I$30)+COUNTIF(#REF!,Dienstverdeling!I$30)+COUNTIF(#REF!,Dienstverdeling!I$30)+COUNTIF(#REF!,Dienstverdeling!I$30) -> #REF! | J64: =COUNTIF(#REF!,Dienstverdeling!J$30)+COUNTIF(#REF!,Dienstverdeling!J$30)+COUNTIF(#REF!,Dienstverdeling!J$30)+COUNTIF(#REF!,Dienstverdeling!J$30)+COUNTIF(#REF!,Dienstverdeling!J$30)+COUNTIF(#REF!,Dienstverdeling!J$30)+COUNTIF(#REF!,Dienstverdeling!J$30)+COUNTIF(#REF!,Dienstverdeling!J$30) -> #REF! | K64: =COUNTIF(#REF!,Dienstverdeling!K$30)+COUNTIF(#REF!,Dienstverdeling!K$30)+COUNTIF(#REF!,Dienstverdeling!K$30)+COUNTIF(#REF!,Dienstverdeling!K$30)+COUNTIF(#REF!,Dienstverdeling!K$30)+COUNTIF(#REF!,Dienstverdeling!K$30)+COUNTIF(#REF!,Dienstverdeling!K$30)+COUNTIF(#REF!,Dienstverdeling!K$30) -> #REF! | ... W64: =COUNTIF(#REF!,Dienstverdeling!W$30)+COUNTIF(#REF!,Dienstverdeling!W$30)+COUNTIF(#REF!,Dienstverdeling!W$30)+COUNTIF(#REF!,Dienstverdeling!W$30)+COUNTIF(#REF!,Dienstverdeling!W$30)+COUNTIF(#REF!,Dienstverdeling!W$30)+COUNTIF(#REF!,Dienstverdeling!W$30)+COUNTIF(#REF!,Dienstverdeling!W$30) -> #REF! | X64: =X63 -> 7 | Y64: =(H64+I64)*0.5 -> #REF! | Z64: =(VLOOKUP(Z$30,tarieftoeslag,$X64,FALSE)*D64) -> #REF! | AA64: =(VLOOKUP(AA$30,tarieftoeslag,$X64,FALSE)*E64) -> #REF! | AB64: =(VLOOKUP(AB$30,tarieftoeslag,$X64,FALSE)*F64) -> #REF! | AC64: =(VLOOKUP(AC$30,tarieftoeslag,$X64,FALSE)*G64) -> #REF! | AD64: =(VLOOKUP(AD$30,tarieftoeslag,$X64,FALSE)*H64) -> #REF! | AE64: =(VLOOKUP(AE$30,tarieftoeslag,$X64,FALSE)*I64) -> #REF! | AF64: =(VLOOKUP(AF$30,tarieftoeslag,$X64,FALSE)*J64) -> #REF! | AG64: =(VLOOKUP(AG$30,tarieftoeslag,$X64,FALSE)*K64) -> #REF! | AI64: =(VLOOKUP(AI$30,tarieftoeslag,$X64,FALSE)*M64) -> #REF! | AJ64: =(VLOOKUP(AJ$30,tarieftoeslag,$X64,FALSE)*N64) -> #REF! | AK64: =(VLOOKUP(AK$30,tarieftoeslag,$X64,FALSE)*O64) -> #REF! | AL64: =(VLOOKUP(AL$30,tarieftoeslag,$X64,FALSE)*P64) -> #REF! | AM64: =(VLOOKUP(AM$30,tarieftoeslag,$X64,FALSE)*Q64) -> #REF! | AN64: =(VLOOKUP(AN$30,tarieftoeslag,$X64,FALSE)*R64) -> #REF! | AO64: =(VLOOKUP(AO$30,tarieftoeslag,$X64,FALSE)*S64) -> #REF! | AP64: =(VLOOKUP(AP$30,tarieftoeslag,$X64,FALSE)*T64) -> #REF! | ... AR64: =(VLOOKUP(AR$30,tarieftoeslag,$X64,FALSE)*V64) -> #REF!
A65: =A38 -> #REF! | B65: =SUM(Z65:AL65) -> #REF! | C65: =(VLOOKUP(AD$30,pauzetoeslag,$A$29,FALSE)*H65)+(VLOOKUP(AE$30,pauzetoeslag,$A$29,FALSE)*I65) -> #REF! | D65: =COUNTIF(#REF!,Dienstverdeling!D$30)+COUNTIF(#REF!,Dienstverdeling!D$30)+COUNTIF(#REF!,Dienstverdeling!D$30)+COUNTIF(#REF!,Dienstverdeling!D$30)+COUNTIF(#REF!,Dienstverdeling!D$30)+COUNTIF(#REF!,Dienstverdeling!D$30)+COUNTIF(#REF!,Dienstverdeling!D$30)+COUNTIF(#REF!,Dienstverdeling!D$30) -> #REF! | E65: =COUNTIF(#REF!,Dienstverdeling!E$30)+COUNTIF(#REF!,Dienstverdeling!E$30)+COUNTIF(#REF!,Dienstverdeling!E$30)+COUNTIF(#REF!,Dienstverdeling!E$30)+COUNTIF(#REF!,Dienstverdeling!E$30)+COUNTIF(#REF!,Dienstverdeling!E$30)+COUNTIF(#REF!,Dienstverdeling!E$30)+COUNTIF(#REF!,Dienstverdeling!E$30) -> #REF! | F65: =COUNTIF(#REF!,Dienstverdeling!F$30)+COUNTIF(#REF!,Dienstverdeling!F$30)+COUNTIF(#REF!,Dienstverdeling!F$30)+COUNTIF(#REF!,Dienstverdeling!F$30)+COUNTIF(#REF!,Dienstverdeling!F$30)+COUNTIF(#REF!,Dienstverdeling!F$30)+COUNTIF(#REF!,Dienstverdeling!F$30)+COUNTIF(#REF!,Dienstverdeling!F$30) -> #REF! | G65: =COUNTIF(#REF!,Dienstverdeling!G$30)+COUNTIF(#REF!,Dienstverdeling!G$30)+COUNTIF(#REF!,Dienstverdeling!G$30)+COUNTIF(#REF!,Dienstverdeling!G$30)+COUNTIF(#REF!,Dienstverdeling!G$30)+COUNTIF(#REF!,Dienstverdeling!G$30)+COUNTIF(#REF!,Dienstverdeling!G$30)+COUNTIF(#REF!,Dienstverdeling!G$30) -> #REF! | H65: =COUNTIF(#REF!,Dienstverdeling!H$30)+COUNTIF(#REF!,Dienstverdeling!H$30)+COUNTIF(#REF!,Dienstverdeling!H$30)+COUNTIF(#REF!,Dienstverdeling!H$30)+COUNTIF(#REF!,Dienstverdeling!H$30)+COUNTIF(#REF!,Dienstverdeling!H$30)+COUNTIF(#REF!,Dienstverdeling!H$30)+COUNTIF(#REF!,Dienstverdeling!H$30) -> #REF! | I65: =COUNTIF(#REF!,Dienstverdeling!I$30)+COUNTIF(#REF!,Dienstverdeling!I$30)+COUNTIF(#REF!,Dienstverdeling!I$30)+COUNTIF(#REF!,Dienstverdeling!I$30)+COUNTIF(#REF!,Dienstverdeling!I$30)+COUNTIF(#REF!,Dienstverdeling!I$30)+COUNTIF(#REF!,Dienstverdeling!I$30)+COUNTIF(#REF!,Dienstverdeling!I$30) -> #REF! | J65: =COUNTIF(#REF!,Dienstverdeling!J$30)+COUNTIF(#REF!,Dienstverdeling!J$30)+COUNTIF(#REF!,Dienstverdeling!J$30)+COUNTIF(#REF!,Dienstverdeling!J$30)+COUNTIF(#REF!,Dienstverdeling!J$30)+COUNTIF(#REF!,Dienstverdeling!J$30)+COUNTIF(#REF!,Dienstverdeling!J$30)+COUNTIF(#REF!,Dienstverdeling!J$30) -> #REF! | K65: =COUNTIF(#REF!,Dienstverdeling!K$30)+COUNTIF(#REF!,Dienstverdeling!K$30)+COUNTIF(#REF!,Dienstverdeling!K$30)+COUNTIF(#REF!,Dienstverdeling!K$30)+COUNTIF(#REF!,Dienstverdeling!K$30)+COUNTIF(#REF!,Dienstverdeling!K$30)+COUNTIF(#REF!,Dienstverdeling!K$30)+COUNTIF(#REF!,Dienstverdeling!K$30) -> #REF! | ... W65: =COUNTIF(#REF!,Dienstverdeling!W$30)+COUNTIF(#REF!,Dienstverdeling!W$30)+COUNTIF(#REF!,Dienstverdeling!W$30)+COUNTIF(#REF!,Dienstverdeling!W$30)+COUNTIF(#REF!,Dienstverdeling!W$30)+COUNTIF(#REF!,Dienstverdeling!W$30)+COUNTIF(#REF!,Dienstverdeling!W$30)+COUNTIF(#REF!,Dienstverdeling!W$30) -> #REF! | X65: =X64 -> 7 | Y65: =(H65+I65)*0.5 -> #REF! | Z65: =(VLOOKUP(Z$30,tarieftoeslag,$X65,FALSE)*D65) -> #REF! | AA65: =(VLOOKUP(AA$30,tarieftoeslag,$X65,FALSE)*E65) -> #REF! | AB65: =(VLOOKUP(AB$30,tarieftoeslag,$X65,FALSE)*F65) -> #REF! | AC65: =(VLOOKUP(AC$30,tarieftoeslag,$X65,FALSE)*G65) -> #REF! | AD65: =(VLOOKUP(AD$30,tarieftoeslag,$X65,FALSE)*H65) -> #REF! | AE65: =(VLOOKUP(AE$30,tarieftoeslag,$X65,FALSE)*I65) -> #REF! | AF65: =(VLOOKUP(AF$30,tarieftoeslag,$X65,FALSE)*J65) -> #REF! | AG65: =(VLOOKUP(AG$30,tarieftoeslag,$X65,FALSE)*K65) -> #REF! | AI65: =(VLOOKUP(AI$30,tarieftoeslag,$X65,FALSE)*M65) -> #REF! | AJ65: =(VLOOKUP(AJ$30,tarieftoeslag,$X65,FALSE)*N65) -> #REF! | AK65: =(VLOOKUP(AK$30,tarieftoeslag,$X65,FALSE)*O65) -> #REF! | AL65: =(VLOOKUP(AL$30,tarieftoeslag,$X65,FALSE)*P65) -> #REF! | AM65: =(VLOOKUP(AM$30,tarieftoeslag,$X65,FALSE)*Q65) -> #REF! | AN65: =(VLOOKUP(AN$30,tarieftoeslag,$X65,FALSE)*R65) -> #REF! | AO65: =(VLOOKUP(AO$30,tarieftoeslag,$X65,FALSE)*S65) -> #REF! | AP65: =(VLOOKUP(AP$30,tarieftoeslag,$X65,FALSE)*T65) -> #REF! | ... AR65: =(VLOOKUP(AR$30,tarieftoeslag,$X65,FALSE)*V65) -> #REF!
A66: =A39 -> #REF! | B66: =SUM(Z66:AL66) -> #REF! | C66: =(VLOOKUP(AD$30,pauzetoeslag,$A$29,FALSE)*H66)+(VLOOKUP(AE$30,pauzetoeslag,$A$29,FALSE)*I66) -> #REF! | D66: =COUNTIF(#REF!,Dienstverdeling!D$30)+COUNTIF(#REF!,Dienstverdeling!D$30)+COUNTIF(#REF!,Dienstverdeling!D$30)+COUNTIF(#REF!,Dienstverdeling!D$30)+COUNTIF(#REF!,Dienstverdeling!D$30)+COUNTIF(#REF!,Dienstverdeling!D$30)+COUNTIF(#REF!,Dienstverdeling!D$30)+COUNTIF(#REF!,Dienstverdeling!D$30) -> #REF! | E66: =COUNTIF(#REF!,Dienstverdeling!E$30)+COUNTIF(#REF!,Dienstverdeling!E$30)+COUNTIF(#REF!,Dienstverdeling!E$30)+COUNTIF(#REF!,Dienstverdeling!E$30)+COUNTIF(#REF!,Dienstverdeling!E$30)+COUNTIF(#REF!,Dienstverdeling!E$30)+COUNTIF(#REF!,Dienstverdeling!E$30)+COUNTIF(#REF!,Dienstverdeling!E$30) -> #REF! | F66: =COUNTIF(#REF!,Dienstverdeling!F$30)+COUNTIF(#REF!,Dienstverdeling!F$30)+COUNTIF(#REF!,Dienstverdeling!F$30)+COUNTIF(#REF!,Dienstverdeling!F$30)+COUNTIF(#REF!,Dienstverdeling!F$30)+COUNTIF(#REF!,Dienstverdeling!F$30)+COUNTIF(#REF!,Dienstverdeling!F$30)+COUNTIF(#REF!,Dienstverdeling!F$30) -> #REF! | G66: =COUNTIF(#REF!,Dienstverdeling!G$30)+COUNTIF(#REF!,Dienstverdeling!G$30)+COUNTIF(#REF!,Dienstverdeling!G$30)+COUNTIF(#REF!,Dienstverdeling!G$30)+COUNTIF(#REF!,Dienstverdeling!G$30)+COUNTIF(#REF!,Dienstverdeling!G$30)+COUNTIF(#REF!,Dienstverdeling!G$30)+COUNTIF(#REF!,Dienstverdeling!G$30) -> #REF! | H66: =COUNTIF(#REF!,Dienstverdeling!H$30)+COUNTIF(#REF!,Dienstverdeling!H$30)+COUNTIF(#REF!,Dienstverdeling!H$30)+COUNTIF(#REF!,Dienstverdeling!H$30)+COUNTIF(#REF!,Dienstverdeling!H$30)+COUNTIF(#REF!,Dienstverdeling!H$30)+COUNTIF(#REF!,Dienstverdeling!H$30)+COUNTIF(#REF!,Dienstverdeling!H$30) -> #REF! | I66: =COUNTIF(#REF!,Dienstverdeling!I$30)+COUNTIF(#REF!,Dienstverdeling!I$30)+COUNTIF(#REF!,Dienstverdeling!I$30)+COUNTIF(#REF!,Dienstverdeling!I$30)+COUNTIF(#REF!,Dienstverdeling!I$30)+COUNTIF(#REF!,Dienstverdeling!I$30)+COUNTIF(#REF!,Dienstverdeling!I$30)+COUNTIF(#REF!,Dienstverdeling!I$30) -> #REF! | J66: =COUNTIF(#REF!,Dienstverdeling!J$30)+COUNTIF(#REF!,Dienstverdeling!J$30)+COUNTIF(#REF!,Dienstverdeling!J$30)+COUNTIF(#REF!,Dienstverdeling!J$30)+COUNTIF(#REF!,Dienstverdeling!J$30)+COUNTIF(#REF!,Dienstverdeling!J$30)+COUNTIF(#REF!,Dienstverdeling!J$30)+COUNTIF(#REF!,Dienstverdeling!J$30) -> #REF! | K66: =COUNTIF(#REF!,Dienstverdeling!K$30)+COUNTIF(#REF!,Dienstverdeling!K$30)+COUNTIF(#REF!,Dienstverdeling!K$30)+COUNTIF(#REF!,Dienstverdeling!K$30)+COUNTIF(#REF!,Dienstverdeling!K$30)+COUNTIF(#REF!,Dienstverdeling!K$30)+COUNTIF(#REF!,Dienstverdeling!K$30)+COUNTIF(#REF!,Dienstverdeling!K$30) -> #REF! | ... W66: =COUNTIF(#REF!,Dienstverdeling!W$30)+COUNTIF(#REF!,Dienstverdeling!W$30)+COUNTIF(#REF!,Dienstverdeling!W$30)+COUNTIF(#REF!,Dienstverdeling!W$30)+COUNTIF(#REF!,Dienstverdeling!W$30)+COUNTIF(#REF!,Dienstverdeling!W$30)+COUNTIF(#REF!,Dienstverdeling!W$30)+COUNTIF(#REF!,Dienstverdeling!W$30) -> #REF! | X66: =X65 -> 7 | Y66: =(H66+I66)*0.5 -> #REF! | Z66: =(VLOOKUP(Z$30,tarieftoeslag,$X66,FALSE)*D66) -> #REF! | AA66: =(VLOOKUP(AA$30,tarieftoeslag,$X66,FALSE)*E66) -> #REF! | AB66: =(VLOOKUP(AB$30,tarieftoeslag,$X66,FALSE)*F66) -> #REF! | AC66: =(VLOOKUP(AC$30,tarieftoeslag,$X66,FALSE)*G66) -> #REF! | AD66: =(VLOOKUP(AD$30,tarieftoeslag,$X66,FALSE)*H66) -> #REF! | AE66: =(VLOOKUP(AE$30,tarieftoeslag,$X66,FALSE)*I66) -> #REF! | AF66: =(VLOOKUP(AF$30,tarieftoeslag,$X66,FALSE)*J66) -> #REF! | AG66: =(VLOOKUP(AG$30,tarieftoeslag,$X66,FALSE)*K66) -> #REF! | AI66: =(VLOOKUP(AI$30,tarieftoeslag,$X66,FALSE)*M66) -> #REF! | AJ66: =(VLOOKUP(AJ$30,tarieftoeslag,$X66,FALSE)*N66) -> #REF! | AK66: =(VLOOKUP(AK$30,tarieftoeslag,$X66,FALSE)*O66) -> #REF! | AL66: =(VLOOKUP(AL$30,tarieftoeslag,$X66,FALSE)*P66) -> #REF! | AM66: =(VLOOKUP(AM$30,tarieftoeslag,$X66,FALSE)*Q66) -> #REF! | AN66: =(VLOOKUP(AN$30,tarieftoeslag,$X66,FALSE)*R66) -> #REF! | AO66: =(VLOOKUP(AO$30,tarieftoeslag,$X66,FALSE)*S66) -> #REF! | AP66: =(VLOOKUP(AP$30,tarieftoeslag,$X66,FALSE)*T66) -> #REF! | ... AR66: =(VLOOKUP(AR$30,tarieftoeslag,$X66,FALSE)*V66) -> #REF!
A67: =A40 -> #REF! | B67: =SUM(Z67:AL67) -> #REF! | C67: =(VLOOKUP(AD$30,pauzetoeslag,$A$29,FALSE)*H67)+(VLOOKUP(AE$30,pauzetoeslag,$A$29,FALSE)*I67) -> #REF! | D67: =COUNTIF(#REF!,Dienstverdeling!D$30)+COUNTIF(#REF!,Dienstverdeling!D$30)+COUNTIF(#REF!,Dienstverdeling!D$30)+COUNTIF(#REF!,Dienstverdeling!D$30)+COUNTIF(#REF!,Dienstverdeling!D$30)+COUNTIF(#REF!,Dienstverdeling!D$30)+COUNTIF(#REF!,Dienstverdeling!D$30)+COUNTIF(#REF!,Dienstverdeling!D$30) -> #REF! | E67: =COUNTIF(#REF!,Dienstverdeling!E$30)+COUNTIF(#REF!,Dienstverdeling!E$30)+COUNTIF(#REF!,Dienstverdeling!E$30)+COUNTIF(#REF!,Dienstverdeling!E$30)+COUNTIF(#REF!,Dienstverdeling!E$30)+COUNTIF(#REF!,Dienstverdeling!E$30)+COUNTIF(#REF!,Dienstverdeling!E$30)+COUNTIF(#REF!,Dienstverdeling!E$30) -> #REF! | F67: =COUNTIF(#REF!,Dienstverdeling!F$30)+COUNTIF(#REF!,Dienstverdeling!F$30)+COUNTIF(#REF!,Dienstverdeling!F$30)+COUNTIF(#REF!,Dienstverdeling!F$30)+COUNTIF(#REF!,Dienstverdeling!F$30)+COUNTIF(#REF!,Dienstverdeling!F$30)+COUNTIF(#REF!,Dienstverdeling!F$30)+COUNTIF(#REF!,Dienstverdeling!F$30) -> #REF! | G67: =COUNTIF(#REF!,Dienstverdeling!G$30)+COUNTIF(#REF!,Dienstverdeling!G$30)+COUNTIF(#REF!,Dienstverdeling!G$30)+COUNTIF(#REF!,Dienstverdeling!G$30)+COUNTIF(#REF!,Dienstverdeling!G$30)+COUNTIF(#REF!,Dienstverdeling!G$30)+COUNTIF(#REF!,Dienstverdeling!G$30)+COUNTIF(#REF!,Dienstverdeling!G$30) -> #REF! | H67: =COUNTIF(#REF!,Dienstverdeling!H$30)+COUNTIF(#REF!,Dienstverdeling!H$30)+COUNTIF(#REF!,Dienstverdeling!H$30)+COUNTIF(#REF!,Dienstverdeling!H$30)+COUNTIF(#REF!,Dienstverdeling!H$30)+COUNTIF(#REF!,Dienstverdeling!H$30)+COUNTIF(#REF!,Dienstverdeling!H$30)+COUNTIF(#REF!,Dienstverdeling!H$30) -> #REF! | I67: =COUNTIF(#REF!,Dienstverdeling!I$30)+COUNTIF(#REF!,Dienstverdeling!I$30)+COUNTIF(#REF!,Dienstverdeling!I$30)+COUNTIF(#REF!,Dienstverdeling!I$30)+COUNTIF(#REF!,Dienstverdeling!I$30)+COUNTIF(#REF!,Dienstverdeling!I$30)+COUNTIF(#REF!,Dienstverdeling!I$30)+COUNTIF(#REF!,Dienstverdeling!I$30) -> #REF! | J67: =COUNTIF(#REF!,Dienstverdeling!J$30)+COUNTIF(#REF!,Dienstverdeling!J$30)+COUNTIF(#REF!,Dienstverdeling!J$30)+COUNTIF(#REF!,Dienstverdeling!J$30)+COUNTIF(#REF!,Dienstverdeling!J$30)+COUNTIF(#REF!,Dienstverdeling!J$30)+COUNTIF(#REF!,Dienstverdeling!J$30)+COUNTIF(#REF!,Dienstverdeling!J$30) -> #REF! | K67: =COUNTIF(#REF!,Dienstverdeling!K$30)+COUNTIF(#REF!,Dienstverdeling!K$30)+COUNTIF(#REF!,Dienstverdeling!K$30)+COUNTIF(#REF!,Dienstverdeling!K$30)+COUNTIF(#REF!,Dienstverdeling!K$30)+COUNTIF(#REF!,Dienstverdeling!K$30)+COUNTIF(#REF!,Dienstverdeling!K$30)+COUNTIF(#REF!,Dienstverdeling!K$30) -> #REF! | ... W67: =COUNTIF(#REF!,Dienstverdeling!W$30)+COUNTIF(#REF!,Dienstverdeling!W$30)+COUNTIF(#REF!,Dienstverdeling!W$30)+COUNTIF(#REF!,Dienstverdeling!W$30)+COUNTIF(#REF!,Dienstverdeling!W$30)+COUNTIF(#REF!,Dienstverdeling!W$30)+COUNTIF(#REF!,Dienstverdeling!W$30)+COUNTIF(#REF!,Dienstverdeling!W$30) -> #REF! | X67: =X66 -> 7 | Y67: =(H67+I67)*0.5 -> #REF! | Z67: =(VLOOKUP(Z$30,tarieftoeslag,$X67,FALSE)*D67) -> #REF! | AA67: =(VLOOKUP(AA$30,tarieftoeslag,$X67,FALSE)*E67) -> #REF! | AB67: =(VLOOKUP(AB$30,tarieftoeslag,$X67,FALSE)*F67) -> #REF! | AC67: =(VLOOKUP(AC$30,tarieftoeslag,$X67,FALSE)*G67) -> #REF! | AD67: =(VLOOKUP(AD$30,tarieftoeslag,$X67,FALSE)*H67) -> #REF! | AE67: =(VLOOKUP(AE$30,tarieftoeslag,$X67,FALSE)*I67) -> #REF! | AF67: =(VLOOKUP(AF$30,tarieftoeslag,$X67,FALSE)*J67) -> #REF! | AG67: =(VLOOKUP(AG$30,tarieftoeslag,$X67,FALSE)*K67) -> #REF! | AI67: =(VLOOKUP(AI$30,tarieftoeslag,$X67,FALSE)*M67) -> #REF! | AJ67: =(VLOOKUP(AJ$30,tarieftoeslag,$X67,FALSE)*N67) -> #REF! | AK67: =(VLOOKUP(AK$30,tarieftoeslag,$X67,FALSE)*O67) -> #REF! | AL67: =(VLOOKUP(AL$30,tarieftoeslag,$X67,FALSE)*P67) -> #REF! | AM67: =(VLOOKUP(AM$30,tarieftoeslag,$X67,FALSE)*Q67) -> #REF! | AN67: =(VLOOKUP(AN$30,tarieftoeslag,$X67,FALSE)*R67) -> #REF! | AO67: =(VLOOKUP(AO$30,tarieftoeslag,$X67,FALSE)*S67) -> #REF! | AP67: =(VLOOKUP(AP$30,tarieftoeslag,$X67,FALSE)*T67) -> #REF! | ... AR67: =(VLOOKUP(AR$30,tarieftoeslag,$X67,FALSE)*V67) -> #REF!
A68: =A41 -> #REF! | B68: =SUM(Z68:AL68) -> #REF! | C68: =(VLOOKUP(AD$30,pauzetoeslag,$A$29,FALSE)*H68)+(VLOOKUP(AE$30,pauzetoeslag,$A$29,FALSE)*I68) -> #REF! | D68: =COUNTIF(#REF!,Dienstverdeling!D$30)+COUNTIF(#REF!,Dienstverdeling!D$30)+COUNTIF(#REF!,Dienstverdeling!D$30)+COUNTIF(#REF!,Dienstverdeling!D$30)+COUNTIF(#REF!,Dienstverdeling!D$30)+COUNTIF(#REF!,Dienstverdeling!D$30)+COUNTIF(#REF!,Dienstverdeling!D$30)+COUNTIF(#REF!,Dienstverdeling!D$30) -> #REF! | E68: =COUNTIF(#REF!,Dienstverdeling!E$30)+COUNTIF(#REF!,Dienstverdeling!E$30)+COUNTIF(#REF!,Dienstverdeling!E$30)+COUNTIF(#REF!,Dienstverdeling!E$30)+COUNTIF(#REF!,Dienstverdeling!E$30)+COUNTIF(#REF!,Dienstverdeling!E$30)+COUNTIF(#REF!,Dienstverdeling!E$30)+COUNTIF(#REF!,Dienstverdeling!E$30) -> #REF! | F68: =COUNTIF(#REF!,Dienstverdeling!F$30)+COUNTIF(#REF!,Dienstverdeling!F$30)+COUNTIF(#REF!,Dienstverdeling!F$30)+COUNTIF(#REF!,Dienstverdeling!F$30)+COUNTIF(#REF!,Dienstverdeling!F$30)+COUNTIF(#REF!,Dienstverdeling!F$30)+COUNTIF(#REF!,Dienstverdeling!F$30)+COUNTIF(#REF!,Dienstverdeling!F$30) -> #REF! | G68: =COUNTIF(#REF!,Dienstverdeling!G$30)+COUNTIF(#REF!,Dienstverdeling!G$30)+COUNTIF(#REF!,Dienstverdeling!G$30)+COUNTIF(#REF!,Dienstverdeling!G$30)+COUNTIF(#REF!,Dienstverdeling!G$30)+COUNTIF(#REF!,Dienstverdeling!G$30)+COUNTIF(#REF!,Dienstverdeling!G$30)+COUNTIF(#REF!,Dienstverdeling!G$30) -> #REF! | H68: =COUNTIF(#REF!,Dienstverdeling!H$30)+COUNTIF(#REF!,Dienstverdeling!H$30)+COUNTIF(#REF!,Dienstverdeling!H$30)+COUNTIF(#REF!,Dienstverdeling!H$30)+COUNTIF(#REF!,Dienstverdeling!H$30)+COUNTIF(#REF!,Dienstverdeling!H$30)+COUNTIF(#REF!,Dienstverdeling!H$30)+COUNTIF(#REF!,Dienstverdeling!H$30) -> #REF! | I68: =COUNTIF(#REF!,Dienstverdeling!I$30)+COUNTIF(#REF!,Dienstverdeling!I$30)+COUNTIF(#REF!,Dienstverdeling!I$30)+COUNTIF(#REF!,Dienstverdeling!I$30)+COUNTIF(#REF!,Dienstverdeling!I$30)+COUNTIF(#REF!,Dienstverdeling!I$30)+COUNTIF(#REF!,Dienstverdeling!I$30)+COUNTIF(#REF!,Dienstverdeling!I$30) -> #REF! | J68: =COUNTIF(#REF!,Dienstverdeling!J$30)+COUNTIF(#REF!,Dienstverdeling!J$30)+COUNTIF(#REF!,Dienstverdeling!J$30)+COUNTIF(#REF!,Dienstverdeling!J$30)+COUNTIF(#REF!,Dienstverdeling!J$30)+COUNTIF(#REF!,Dienstverdeling!J$30)+COUNTIF(#REF!,Dienstverdeling!J$30)+COUNTIF(#REF!,Dienstverdeling!J$30) -> #REF! | K68: =COUNTIF(#REF!,Dienstverdeling!K$30)+COUNTIF(#REF!,Dienstverdeling!K$30)+COUNTIF(#REF!,Dienstverdeling!K$30)+COUNTIF(#REF!,Dienstverdeling!K$30)+COUNTIF(#REF!,Dienstverdeling!K$30)+COUNTIF(#REF!,Dienstverdeling!K$30)+COUNTIF(#REF!,Dienstverdeling!K$30)+COUNTIF(#REF!,Dienstverdeling!K$30) -> #REF! | ... W68: =COUNTIF(#REF!,Dienstverdeling!W$30)+COUNTIF(#REF!,Dienstverdeling!W$30)+COUNTIF(#REF!,Dienstverdeling!W$30)+COUNTIF(#REF!,Dienstverdeling!W$30)+COUNTIF(#REF!,Dienstverdeling!W$30)+COUNTIF(#REF!,Dienstverdeling!W$30)+COUNTIF(#REF!,Dienstverdeling!W$30)+COUNTIF(#REF!,Dienstverdeling!W$30) -> #REF! | X68: =X67 -> 7 | Y68: =(H68+I68)*0.5 -> #REF! | Z68: =(VLOOKUP(Z$30,tarieftoeslag,$X68,FALSE)*D68) -> #REF! | AA68: =(VLOOKUP(AA$30,tarieftoeslag,$X68,FALSE)*E68) -> #REF! | AB68: =(VLOOKUP(AB$30,tarieftoeslag,$X68,FALSE)*F68) -> #REF! | AC68: =(VLOOKUP(AC$30,tarieftoeslag,$X68,FALSE)*G68) -> #REF! | AD68: =(VLOOKUP(AD$30,tarieftoeslag,$X68,FALSE)*H68) -> #REF! | AE68: =(VLOOKUP(AE$30,tarieftoeslag,$X68,FALSE)*I68) -> #REF! | AF68: =(VLOOKUP(AF$30,tarieftoeslag,$X68,FALSE)*J68) -> #REF! | AG68: =(VLOOKUP(AG$30,tarieftoeslag,$X68,FALSE)*K68) -> #REF! | AI68: =(VLOOKUP(AI$30,tarieftoeslag,$X68,FALSE)*M68) -> #REF! | AJ68: =(VLOOKUP(AJ$30,tarieftoeslag,$X68,FALSE)*N68) -> #REF! | AK68: =(VLOOKUP(AK$30,tarieftoeslag,$X68,FALSE)*O68) -> #REF! | AL68: =(VLOOKUP(AL$30,tarieftoeslag,$X68,FALSE)*P68) -> #REF! | AM68: =(VLOOKUP(AM$30,tarieftoeslag,$X68,FALSE)*Q68) -> #REF! | AN68: =(VLOOKUP(AN$30,tarieftoeslag,$X68,FALSE)*R68) -> #REF! | AO68: =(VLOOKUP(AO$30,tarieftoeslag,$X68,FALSE)*S68) -> #REF! | AP68: =(VLOOKUP(AP$30,tarieftoeslag,$X68,FALSE)*T68) -> #REF! | ... AR68: =(VLOOKUP(AR$30,tarieftoeslag,$X68,FALSE)*V68) -> #REF!
A69: =A42 -> #REF! | B69: =SUM(Z69:AL69) -> #REF! | C69: =(VLOOKUP(AD$30,pauzetoeslag,$A$29,FALSE)*H69)+(VLOOKUP(AE$30,pauzetoeslag,$A$29,FALSE)*I69) -> #REF! | D69: =COUNTIF(#REF!,Dienstverdeling!D$30)+COUNTIF(#REF!,Dienstverdeling!D$30)+COUNTIF(#REF!,Dienstverdeling!D$30)+COUNTIF(#REF!,Dienstverdeling!D$30)+COUNTIF(#REF!,Dienstverdeling!D$30)+COUNTIF(#REF!,Dienstverdeling!D$30)+COUNTIF(#REF!,Dienstverdeling!D$30)+COUNTIF(#REF!,Dienstverdeling!D$30) -> #REF! | E69: =COUNTIF(#REF!,Dienstverdeling!E$30)+COUNTIF(#REF!,Dienstverdeling!E$30)+COUNTIF(#REF!,Dienstverdeling!E$30)+COUNTIF(#REF!,Dienstverdeling!E$30)+COUNTIF(#REF!,Dienstverdeling!E$30)+COUNTIF(#REF!,Dienstverdeling!E$30)+COUNTIF(#REF!,Dienstverdeling!E$30)+COUNTIF(#REF!,Dienstverdeling!E$30) -> #REF! | F69: =COUNTIF(#REF!,Dienstverdeling!F$30)+COUNTIF(#REF!,Dienstverdeling!F$30)+COUNTIF(#REF!,Dienstverdeling!F$30)+COUNTIF(#REF!,Dienstverdeling!F$30)+COUNTIF(#REF!,Dienstverdeling!F$30)+COUNTIF(#REF!,Dienstverdeling!F$30)+COUNTIF(#REF!,Dienstverdeling!F$30)+COUNTIF(#REF!,Dienstverdeling!F$30) -> #REF! | G69: =COUNTIF(#REF!,Dienstverdeling!G$30)+COUNTIF(#REF!,Dienstverdeling!G$30)+COUNTIF(#REF!,Dienstverdeling!G$30)+COUNTIF(#REF!,Dienstverdeling!G$30)+COUNTIF(#REF!,Dienstverdeling!G$30)+COUNTIF(#REF!,Dienstverdeling!G$30)+COUNTIF(#REF!,Dienstverdeling!G$30)+COUNTIF(#REF!,Dienstverdeling!G$30) -> #REF! | H69: =COUNTIF(#REF!,Dienstverdeling!H$30)+COUNTIF(#REF!,Dienstverdeling!H$30)+COUNTIF(#REF!,Dienstverdeling!H$30)+COUNTIF(#REF!,Dienstverdeling!H$30)+COUNTIF(#REF!,Dienstverdeling!H$30)+COUNTIF(#REF!,Dienstverdeling!H$30)+COUNTIF(#REF!,Dienstverdeling!H$30)+COUNTIF(#REF!,Dienstverdeling!H$30) -> #REF! | I69: =COUNTIF(#REF!,Dienstverdeling!I$30)+COUNTIF(#REF!,Dienstverdeling!I$30)+COUNTIF(#REF!,Dienstverdeling!I$30)+COUNTIF(#REF!,Dienstverdeling!I$30)+COUNTIF(#REF!,Dienstverdeling!I$30)+COUNTIF(#REF!,Dienstverdeling!I$30)+COUNTIF(#REF!,Dienstverdeling!I$30)+COUNTIF(#REF!,Dienstverdeling!I$30) -> #REF! | J69: =COUNTIF(#REF!,Dienstverdeling!J$30)+COUNTIF(#REF!,Dienstverdeling!J$30)+COUNTIF(#REF!,Dienstverdeling!J$30)+COUNTIF(#REF!,Dienstverdeling!J$30)+COUNTIF(#REF!,Dienstverdeling!J$30)+COUNTIF(#REF!,Dienstverdeling!J$30)+COUNTIF(#REF!,Dienstverdeling!J$30)+COUNTIF(#REF!,Dienstverdeling!J$30) -> #REF! | K69: =COUNTIF(#REF!,Dienstverdeling!K$30)+COUNTIF(#REF!,Dienstverdeling!K$30)+COUNTIF(#REF!,Dienstverdeling!K$30)+COUNTIF(#REF!,Dienstverdeling!K$30)+COUNTIF(#REF!,Dienstverdeling!K$30)+COUNTIF(#REF!,Dienstverdeling!K$30)+COUNTIF(#REF!,Dienstverdeling!K$30)+COUNTIF(#REF!,Dienstverdeling!K$30) -> #REF! | ... W69: =COUNTIF(#REF!,Dienstverdeling!W$30)+COUNTIF(#REF!,Dienstverdeling!W$30)+COUNTIF(#REF!,Dienstverdeling!W$30)+COUNTIF(#REF!,Dienstverdeling!W$30)+COUNTIF(#REF!,Dienstverdeling!W$30)+COUNTIF(#REF!,Dienstverdeling!W$30)+COUNTIF(#REF!,Dienstverdeling!W$30)+COUNTIF(#REF!,Dienstverdeling!W$30) -> #REF! | X69: =X68 -> 7 | Y69: =(H69+I69)*0.5 -> #REF! | Z69: =(VLOOKUP(Z$30,tarieftoeslag,$X69,FALSE)*D69) -> #REF! | AA69: =(VLOOKUP(AA$30,tarieftoeslag,$X69,FALSE)*E69) -> #REF! | AB69: =(VLOOKUP(AB$30,tarieftoeslag,$X69,FALSE)*F69) -> #REF! | AC69: =(VLOOKUP(AC$30,tarieftoeslag,$X69,FALSE)*G69) -> #REF! | AD69: =(VLOOKUP(AD$30,tarieftoeslag,$X69,FALSE)*H69) -> #REF! | AE69: =(VLOOKUP(AE$30,tarieftoeslag,$X69,FALSE)*I69) -> #REF! | AF69: =(VLOOKUP(AF$30,tarieftoeslag,$X69,FALSE)*J69) -> #REF! | AG69: =(VLOOKUP(AG$30,tarieftoeslag,$X69,FALSE)*K69) -> #REF! | AI69: =(VLOOKUP(AI$30,tarieftoeslag,$X69,FALSE)*M69) -> #REF! | AJ69: =(VLOOKUP(AJ$30,tarieftoeslag,$X69,FALSE)*N69) -> #REF! | AK69: =(VLOOKUP(AK$30,tarieftoeslag,$X69,FALSE)*O69) -> #REF! | AL69: =(VLOOKUP(AL$30,tarieftoeslag,$X69,FALSE)*P69) -> #REF! | AM69: =(VLOOKUP(AM$30,tarieftoeslag,$X69,FALSE)*Q69) -> #REF! | AN69: =(VLOOKUP(AN$30,tarieftoeslag,$X69,FALSE)*R69) -> #REF! | AO69: =(VLOOKUP(AO$30,tarieftoeslag,$X69,FALSE)*S69) -> #REF! | AP69: =(VLOOKUP(AP$30,tarieftoeslag,$X69,FALSE)*T69) -> #REF! | ... AR69: =(VLOOKUP(AR$30,tarieftoeslag,$X69,FALSE)*V69) -> #REF!
A70: =A43 -> #REF! | B70: =SUM(Z70:AL70) -> #REF! | C70: =(VLOOKUP(AD$30,pauzetoeslag,$A$29,FALSE)*H70)+(VLOOKUP(AE$30,pauzetoeslag,$A$29,FALSE)*I70) -> #REF! | D70: =COUNTIF(#REF!,Dienstverdeling!D$30)+COUNTIF(#REF!,Dienstverdeling!D$30)+COUNTIF(#REF!,Dienstverdeling!D$30)+COUNTIF(#REF!,Dienstverdeling!D$30)+COUNTIF(#REF!,Dienstverdeling!D$30)+COUNTIF(#REF!,Dienstverdeling!D$30)+COUNTIF(#REF!,Dienstverdeling!D$30)+COUNTIF(#REF!,Dienstverdeling!D$30) -> #REF! | E70: =COUNTIF(#REF!,Dienstverdeling!E$30)+COUNTIF(#REF!,Dienstverdeling!E$30)+COUNTIF(#REF!,Dienstverdeling!E$30)+COUNTIF(#REF!,Dienstverdeling!E$30)+COUNTIF(#REF!,Dienstverdeling!E$30)+COUNTIF(#REF!,Dienstverdeling!E$30)+COUNTIF(#REF!,Dienstverdeling!E$30)+COUNTIF(#REF!,Dienstverdeling!E$30) -> #REF! | F70: =COUNTIF(#REF!,Dienstverdeling!F$30)+COUNTIF(#REF!,Dienstverdeling!F$30)+COUNTIF(#REF!,Dienstverdeling!F$30)+COUNTIF(#REF!,Dienstverdeling!F$30)+COUNTIF(#REF!,Dienstverdeling!F$30)+COUNTIF(#REF!,Dienstverdeling!F$30)+COUNTIF(#REF!,Dienstverdeling!F$30)+COUNTIF(#REF!,Dienstverdeling!F$30) -> #REF! | G70: =COUNTIF(#REF!,Dienstverdeling!G$30)+COUNTIF(#REF!,Dienstverdeling!G$30)+COUNTIF(#REF!,Dienstverdeling!G$30)+COUNTIF(#REF!,Dienstverdeling!G$30)+COUNTIF(#REF!,Dienstverdeling!G$30)+COUNTIF(#REF!,Dienstverdeling!G$30)+COUNTIF(#REF!,Dienstverdeling!G$30)+COUNTIF(#REF!,Dienstverdeling!G$30) -> #REF! | H70: =COUNTIF(#REF!,Dienstverdeling!H$30)+COUNTIF(#REF!,Dienstverdeling!H$30)+COUNTIF(#REF!,Dienstverdeling!H$30)+COUNTIF(#REF!,Dienstverdeling!H$30)+COUNTIF(#REF!,Dienstverdeling!H$30)+COUNTIF(#REF!,Dienstverdeling!H$30)+COUNTIF(#REF!,Dienstverdeling!H$30)+COUNTIF(#REF!,Dienstverdeling!H$30) -> #REF! | I70: =COUNTIF(#REF!,Dienstverdeling!I$30)+COUNTIF(#REF!,Dienstverdeling!I$30)+COUNTIF(#REF!,Dienstverdeling!I$30)+COUNTIF(#REF!,Dienstverdeling!I$30)+COUNTIF(#REF!,Dienstverdeling!I$30)+COUNTIF(#REF!,Dienstverdeling!I$30)+COUNTIF(#REF!,Dienstverdeling!I$30)+COUNTIF(#REF!,Dienstverdeling!I$30) -> #REF! | J70: =COUNTIF(#REF!,Dienstverdeling!J$30)+COUNTIF(#REF!,Dienstverdeling!J$30)+COUNTIF(#REF!,Dienstverdeling!J$30)+COUNTIF(#REF!,Dienstverdeling!J$30)+COUNTIF(#REF!,Dienstverdeling!J$30)+COUNTIF(#REF!,Dienstverdeling!J$30)+COUNTIF(#REF!,Dienstverdeling!J$30)+COUNTIF(#REF!,Dienstverdeling!J$30) -> #REF! | K70: =COUNTIF(#REF!,Dienstverdeling!K$30)+COUNTIF(#REF!,Dienstverdeling!K$30)+COUNTIF(#REF!,Dienstverdeling!K$30)+COUNTIF(#REF!,Dienstverdeling!K$30)+COUNTIF(#REF!,Dienstverdeling!K$30)+COUNTIF(#REF!,Dienstverdeling!K$30)+COUNTIF(#REF!,Dienstverdeling!K$30)+COUNTIF(#REF!,Dienstverdeling!K$30) -> #REF! | ... W70: =COUNTIF(#REF!,Dienstverdeling!W$30)+COUNTIF(#REF!,Dienstverdeling!W$30)+COUNTIF(#REF!,Dienstverdeling!W$30)+COUNTIF(#REF!,Dienstverdeling!W$30)+COUNTIF(#REF!,Dienstverdeling!W$30)+COUNTIF(#REF!,Dienstverdeling!W$30)+COUNTIF(#REF!,Dienstverdeling!W$30)+COUNTIF(#REF!,Dienstverdeling!W$30) -> #REF! | X70: =X69 -> 7 | Y70: =(H70+I70)*0.5 -> #REF! | Z70: =(VLOOKUP(Z$30,tarieftoeslag,$X70,FALSE)*D70) -> #REF! | AA70: =(VLOOKUP(AA$30,tarieftoeslag,$X70,FALSE)*E70) -> #REF! | AB70: =(VLOOKUP(AB$30,tarieftoeslag,$X70,FALSE)*F70) -> #REF! | AC70: =(VLOOKUP(AC$30,tarieftoeslag,$X70,FALSE)*G70) -> #REF! | AD70: =(VLOOKUP(AD$30,tarieftoeslag,$X70,FALSE)*H70) -> #REF! | AE70: =(VLOOKUP(AE$30,tarieftoeslag,$X70,FALSE)*I70) -> #REF! | AF70: =(VLOOKUP(AF$30,tarieftoeslag,$X70,FALSE)*J70) -> #REF! | AG70: =(VLOOKUP(AG$30,tarieftoeslag,$X70,FALSE)*K70) -> #REF! | AI70: =(VLOOKUP(AI$30,tarieftoeslag,$X70,FALSE)*M70) -> #REF! | AJ70: =(VLOOKUP(AJ$30,tarieftoeslag,$X70,FALSE)*N70) -> #REF! | AK70: =(VLOOKUP(AK$30,tarieftoeslag,$X70,FALSE)*O70) -> #REF! | AL70: =(VLOOKUP(AL$30,tarieftoeslag,$X70,FALSE)*P70) -> #REF! | AM70: =(VLOOKUP(AM$30,tarieftoeslag,$X70,FALSE)*Q70) -> #REF! | AN70: =(VLOOKUP(AN$30,tarieftoeslag,$X70,FALSE)*R70) -> #REF! | AO70: =(VLOOKUP(AO$30,tarieftoeslag,$X70,FALSE)*S70) -> #REF! | AP70: =(VLOOKUP(AP$30,tarieftoeslag,$X70,FALSE)*T70) -> #REF! | ... AR70: =(VLOOKUP(AR$30,tarieftoeslag,$X70,FALSE)*V70) -> #REF!
A71: =A44 -> #REF! | B71: =SUM(Z71:AL71) -> #REF! | C71: =(VLOOKUP(AD$30,pauzetoeslag,$A$29,FALSE)*H71)+(VLOOKUP(AE$30,pauzetoeslag,$A$29,FALSE)*I71) -> #REF! | D71: =COUNTIF(#REF!,Dienstverdeling!D$30)+COUNTIF(#REF!,Dienstverdeling!D$30)+COUNTIF(#REF!,Dienstverdeling!D$30)+COUNTIF(#REF!,Dienstverdeling!D$30)+COUNTIF(#REF!,Dienstverdeling!D$30)+COUNTIF(#REF!,Dienstverdeling!D$30)+COUNTIF(#REF!,Dienstverdeling!D$30)+COUNTIF(#REF!,Dienstverdeling!D$30) -> #REF! | E71: =COUNTIF(#REF!,Dienstverdeling!E$30)+COUNTIF(#REF!,Dienstverdeling!E$30)+COUNTIF(#REF!,Dienstverdeling!E$30)+COUNTIF(#REF!,Dienstverdeling!E$30)+COUNTIF(#REF!,Dienstverdeling!E$30)+COUNTIF(#REF!,Dienstverdeling!E$30)+COUNTIF(#REF!,Dienstverdeling!E$30)+COUNTIF(#REF!,Dienstverdeling!E$30) -> #REF! | F71: =COUNTIF(#REF!,Dienstverdeling!F$30)+COUNTIF(#REF!,Dienstverdeling!F$30)+COUNTIF(#REF!,Dienstverdeling!F$30)+COUNTIF(#REF!,Dienstverdeling!F$30)+COUNTIF(#REF!,Dienstverdeling!F$30)+COUNTIF(#REF!,Dienstverdeling!F$30)+COUNTIF(#REF!,Dienstverdeling!F$30)+COUNTIF(#REF!,Dienstverdeling!F$30) -> #REF! | G71: =COUNTIF(#REF!,Dienstverdeling!G$30)+COUNTIF(#REF!,Dienstverdeling!G$30)+COUNTIF(#REF!,Dienstverdeling!G$30)+COUNTIF(#REF!,Dienstverdeling!G$30)+COUNTIF(#REF!,Dienstverdeling!G$30)+COUNTIF(#REF!,Dienstverdeling!G$30)+COUNTIF(#REF!,Dienstverdeling!G$30)+COUNTIF(#REF!,Dienstverdeling!G$30) -> #REF! | H71: =COUNTIF(#REF!,Dienstverdeling!H$30)+COUNTIF(#REF!,Dienstverdeling!H$30)+COUNTIF(#REF!,Dienstverdeling!H$30)+COUNTIF(#REF!,Dienstverdeling!H$30)+COUNTIF(#REF!,Dienstverdeling!H$30)+COUNTIF(#REF!,Dienstverdeling!H$30)+COUNTIF(#REF!,Dienstverdeling!H$30)+COUNTIF(#REF!,Dienstverdeling!H$30) -> #REF! | I71: =COUNTIF(#REF!,Dienstverdeling!I$30)+COUNTIF(#REF!,Dienstverdeling!I$30)+COUNTIF(#REF!,Dienstverdeling!I$30)+COUNTIF(#REF!,Dienstverdeling!I$30)+COUNTIF(#REF!,Dienstverdeling!I$30)+COUNTIF(#REF!,Dienstverdeling!I$30)+COUNTIF(#REF!,Dienstverdeling!I$30)+COUNTIF(#REF!,Dienstverdeling!I$30) -> #REF! | J71: =COUNTIF(#REF!,Dienstverdeling!J$30)+COUNTIF(#REF!,Dienstverdeling!J$30)+COUNTIF(#REF!,Dienstverdeling!J$30)+COUNTIF(#REF!,Dienstverdeling!J$30)+COUNTIF(#REF!,Dienstverdeling!J$30)+COUNTIF(#REF!,Dienstverdeling!J$30)+COUNTIF(#REF!,Dienstverdeling!J$30)+COUNTIF(#REF!,Dienstverdeling!J$30) -> #REF! | K71: =COUNTIF(#REF!,Dienstverdeling!K$30)+COUNTIF(#REF!,Dienstverdeling!K$30)+COUNTIF(#REF!,Dienstverdeling!K$30)+COUNTIF(#REF!,Dienstverdeling!K$30)+COUNTIF(#REF!,Dienstverdeling!K$30)+COUNTIF(#REF!,Dienstverdeling!K$30)+COUNTIF(#REF!,Dienstverdeling!K$30)+COUNTIF(#REF!,Dienstverdeling!K$30) -> #REF! | ... W71: =COUNTIF(#REF!,Dienstverdeling!W$30)+COUNTIF(#REF!,Dienstverdeling!W$30)+COUNTIF(#REF!,Dienstverdeling!W$30)+COUNTIF(#REF!,Dienstverdeling!W$30)+COUNTIF(#REF!,Dienstverdeling!W$30)+COUNTIF(#REF!,Dienstverdeling!W$30)+COUNTIF(#REF!,Dienstverdeling!W$30)+COUNTIF(#REF!,Dienstverdeling!W$30) -> #REF! | X71: =X70 -> 7 | Y71: =(H71+I71)*0.5 -> #REF! | Z71: =(VLOOKUP(Z$30,tarieftoeslag,$X71,FALSE)*D71) -> #REF! | AA71: =(VLOOKUP(AA$30,tarieftoeslag,$X71,FALSE)*E71) -> #REF! | AB71: =(VLOOKUP(AB$30,tarieftoeslag,$X71,FALSE)*F71) -> #REF! | AC71: =(VLOOKUP(AC$30,tarieftoeslag,$X71,FALSE)*G71) -> #REF! | AD71: =(VLOOKUP(AD$30,tarieftoeslag,$X71,FALSE)*H71) -> #REF! | AE71: =(VLOOKUP(AE$30,tarieftoeslag,$X71,FALSE)*I71) -> #REF! | AF71: =(VLOOKUP(AF$30,tarieftoeslag,$X71,FALSE)*J71) -> #REF! | AG71: =(VLOOKUP(AG$30,tarieftoeslag,$X71,FALSE)*K71) -> #REF! | AI71: =(VLOOKUP(AI$30,tarieftoeslag,$X71,FALSE)*M71) -> #REF! | AJ71: =(VLOOKUP(AJ$30,tarieftoeslag,$X71,FALSE)*N71) -> #REF! | AK71: =(VLOOKUP(AK$30,tarieftoeslag,$X71,FALSE)*O71) -> #REF! | AL71: =(VLOOKUP(AL$30,tarieftoeslag,$X71,FALSE)*P71) -> #REF!
A72: =A45 -> 0 | B72: =SUM(Z72:AL72) -> #REF! | C72: =(VLOOKUP(AD$30,pauzetoeslag,$A$29,FALSE)*H72)+(VLOOKUP(AE$30,pauzetoeslag,$A$29,FALSE)*I72) -> #REF! | D72: =COUNTIF(#REF!,Dienstverdeling!D$30)+COUNTIF(#REF!,Dienstverdeling!D$30)+COUNTIF(#REF!,Dienstverdeling!D$30)+COUNTIF(#REF!,Dienstverdeling!D$30)+COUNTIF(#REF!,Dienstverdeling!D$30)+COUNTIF(#REF!,Dienstverdeling!D$30)+COUNTIF(#REF!,Dienstverdeling!D$30)+COUNTIF(#REF!,Dienstverdeling!D$30) -> #REF! | E72: =COUNTIF(#REF!,Dienstverdeling!E$30)+COUNTIF(#REF!,Dienstverdeling!E$30)+COUNTIF(#REF!,Dienstverdeling!E$30)+COUNTIF(#REF!,Dienstverdeling!E$30)+COUNTIF(#REF!,Dienstverdeling!E$30)+COUNTIF(#REF!,Dienstverdeling!E$30)+COUNTIF(#REF!,Dienstverdeling!E$30)+COUNTIF(#REF!,Dienstverdeling!E$30) -> #REF! | F72: =COUNTIF(#REF!,Dienstverdeling!F$30)+COUNTIF(#REF!,Dienstverdeling!F$30)+COUNTIF(#REF!,Dienstverdeling!F$30)+COUNTIF(#REF!,Dienstverdeling!F$30)+COUNTIF(#REF!,Dienstverdeling!F$30)+COUNTIF(#REF!,Dienstverdeling!F$30)+COUNTIF(#REF!,Dienstverdeling!F$30)+COUNTIF(#REF!,Dienstverdeling!F$30) -> #REF! | G72: =COUNTIF(#REF!,Dienstverdeling!G$30)+COUNTIF(#REF!,Dienstverdeling!G$30)+COUNTIF(#REF!,Dienstverdeling!G$30)+COUNTIF(#REF!,Dienstverdeling!G$30)+COUNTIF(#REF!,Dienstverdeling!G$30)+COUNTIF(#REF!,Dienstverdeling!G$30)+COUNTIF(#REF!,Dienstverdeling!G$30)+COUNTIF(#REF!,Dienstverdeling!G$30) -> #REF! | H72: =COUNTIF(#REF!,Dienstverdeling!H$30)+COUNTIF(#REF!,Dienstverdeling!H$30)+COUNTIF(#REF!,Dienstverdeling!H$30)+COUNTIF(#REF!,Dienstverdeling!H$30)+COUNTIF(#REF!,Dienstverdeling!H$30)+COUNTIF(#REF!,Dienstverdeling!H$30)+COUNTIF(#REF!,Dienstverdeling!H$30)+COUNTIF(#REF!,Dienstverdeling!H$30) -> #REF! | I72: =COUNTIF(#REF!,Dienstverdeling!I$30)+COUNTIF(#REF!,Dienstverdeling!I$30)+COUNTIF(#REF!,Dienstverdeling!I$30)+COUNTIF(#REF!,Dienstverdeling!I$30)+COUNTIF(#REF!,Dienstverdeling!I$30)+COUNTIF(#REF!,Dienstverdeling!I$30)+COUNTIF(#REF!,Dienstverdeling!I$30)+COUNTIF(#REF!,Dienstverdeling!I$30) -> #REF! | J72: =COUNTIF(#REF!,Dienstverdeling!J$30)+COUNTIF(#REF!,Dienstverdeling!J$30)+COUNTIF(#REF!,Dienstverdeling!J$30)+COUNTIF(#REF!,Dienstverdeling!J$30)+COUNTIF(#REF!,Dienstverdeling!J$30)+COUNTIF(#REF!,Dienstverdeling!J$30)+COUNTIF(#REF!,Dienstverdeling!J$30)+COUNTIF(#REF!,Dienstverdeling!J$30) -> #REF! | K72: =COUNTIF(#REF!,Dienstverdeling!K$30)+COUNTIF(#REF!,Dienstverdeling!K$30)+COUNTIF(#REF!,Dienstverdeling!K$30)+COUNTIF(#REF!,Dienstverdeling!K$30)+COUNTIF(#REF!,Dienstverdeling!K$30)+COUNTIF(#REF!,Dienstverdeling!K$30)+COUNTIF(#REF!,Dienstverdeling!K$30)+COUNTIF(#REF!,Dienstverdeling!K$30) -> #REF! | ... W72: =COUNTIF(#REF!,Dienstverdeling!W$30)+COUNTIF(#REF!,Dienstverdeling!W$30)+COUNTIF(#REF!,Dienstverdeling!W$30)+COUNTIF(#REF!,Dienstverdeling!W$30)+COUNTIF(#REF!,Dienstverdeling!W$30)+COUNTIF(#REF!,Dienstverdeling!W$30)+COUNTIF(#REF!,Dienstverdeling!W$30)+COUNTIF(#REF!,Dienstverdeling!W$30) -> #REF! | X72: =X71 -> 7 | Y72: =(H72+I72)*0.5 -> #REF! | Z72: =(VLOOKUP(Z$30,tarieftoeslag,$X72,FALSE)*D72) -> #REF! | AA72: =(VLOOKUP(AA$30,tarieftoeslag,$X72,FALSE)*E72) -> #REF! | AB72: =(VLOOKUP(AB$30,tarieftoeslag,$X72,FALSE)*F72) -> #REF! | AC72: =(VLOOKUP(AC$30,tarieftoeslag,$X72,FALSE)*G72) -> #REF! | AD72: =(VLOOKUP(AD$30,tarieftoeslag,$X72,FALSE)*H72) -> #REF! | AE72: =(VLOOKUP(AE$30,tarieftoeslag,$X72,FALSE)*I72) -> #REF! | AF72: =(VLOOKUP(AF$30,tarieftoeslag,$X72,FALSE)*J72) -> #REF! | AG72: =(VLOOKUP(AG$30,tarieftoeslag,$X72,FALSE)*K72) -> #REF! | AI72: =(VLOOKUP(AI$30,tarieftoeslag,$X72,FALSE)*M72) -> #REF! | AJ72: =(VLOOKUP(AJ$30,tarieftoeslag,$X72,FALSE)*N72) -> #REF! | AK72: =(VLOOKUP(AK$30,tarieftoeslag,$X72,FALSE)*O72) -> #REF! | AL72: =(VLOOKUP(AL$30,tarieftoeslag,$X72,FALSE)*P72) -> #REF! | AM72: =(VLOOKUP(AM$30,tarieftoeslag,$X72,FALSE)*Q72) -> #REF! | AN72: =(VLOOKUP(AN$30,tarieftoeslag,$X72,FALSE)*R72) -> #REF! | AO72: =(VLOOKUP(AO$30,tarieftoeslag,$X72,FALSE)*S72) -> #REF! | AP72: =(VLOOKUP(AP$30,tarieftoeslag,$X72,FALSE)*T72) -> #REF! | ... AR72: =(VLOOKUP(AR$30,tarieftoeslag,$X72,FALSE)*V72) -> #REF!
A73: =A46 -> 0 | B73: =SUM(Z73:AL73) -> #REF! | C73: =(VLOOKUP(AD$30,pauzetoeslag,$A$29,FALSE)*H73)+(VLOOKUP(AE$30,pauzetoeslag,$A$29,FALSE)*I73) -> #REF! | D73: =COUNTIF(#REF!,Dienstverdeling!D$30)+COUNTIF(#REF!,Dienstverdeling!D$30)+COUNTIF(#REF!,Dienstverdeling!D$30)+COUNTIF(#REF!,Dienstverdeling!D$30)+COUNTIF(#REF!,Dienstverdeling!D$30)+COUNTIF(#REF!,Dienstverdeling!D$30)+COUNTIF(#REF!,Dienstverdeling!D$30)+COUNTIF(#REF!,Dienstverdeling!D$30) -> #REF! | E73: =COUNTIF(#REF!,Dienstverdeling!E$30)+COUNTIF(#REF!,Dienstverdeling!E$30)+COUNTIF(#REF!,Dienstverdeling!E$30)+COUNTIF(#REF!,Dienstverdeling!E$30)+COUNTIF(#REF!,Dienstverdeling!E$30)+COUNTIF(#REF!,Dienstverdeling!E$30)+COUNTIF(#REF!,Dienstverdeling!E$30)+COUNTIF(#REF!,Dienstverdeling!E$30) -> #REF! | F73: =COUNTIF(#REF!,Dienstverdeling!F$30)+COUNTIF(#REF!,Dienstverdeling!F$30)+COUNTIF(#REF!,Dienstverdeling!F$30)+COUNTIF(#REF!,Dienstverdeling!F$30)+COUNTIF(#REF!,Dienstverdeling!F$30)+COUNTIF(#REF!,Dienstverdeling!F$30)+COUNTIF(#REF!,Dienstverdeling!F$30)+COUNTIF(#REF!,Dienstverdeling!F$30) -> #REF! | G73: =COUNTIF(#REF!,Dienstverdeling!G$30)+COUNTIF(#REF!,Dienstverdeling!G$30)+COUNTIF(#REF!,Dienstverdeling!G$30)+COUNTIF(#REF!,Dienstverdeling!G$30)+COUNTIF(#REF!,Dienstverdeling!G$30)+COUNTIF(#REF!,Dienstverdeling!G$30)+COUNTIF(#REF!,Dienstverdeling!G$30)+COUNTIF(#REF!,Dienstverdeling!G$30) -> #REF! | H73: =COUNTIF(#REF!,Dienstverdeling!H$30)+COUNTIF(#REF!,Dienstverdeling!H$30)+COUNTIF(#REF!,Dienstverdeling!H$30)+COUNTIF(#REF!,Dienstverdeling!H$30)+COUNTIF(#REF!,Dienstverdeling!H$30)+COUNTIF(#REF!,Dienstverdeling!H$30)+COUNTIF(#REF!,Dienstverdeling!H$30)+COUNTIF(#REF!,Dienstverdeling!H$30) -> #REF! | I73: =COUNTIF(#REF!,Dienstverdeling!I$30)+COUNTIF(#REF!,Dienstverdeling!I$30)+COUNTIF(#REF!,Dienstverdeling!I$30)+COUNTIF(#REF!,Dienstverdeling!I$30)+COUNTIF(#REF!,Dienstverdeling!I$30)+COUNTIF(#REF!,Dienstverdeling!I$30)+COUNTIF(#REF!,Dienstverdeling!I$30)+COUNTIF(#REF!,Dienstverdeling!I$30) -> #REF! | J73: =COUNTIF(#REF!,Dienstverdeling!J$30)+COUNTIF(#REF!,Dienstverdeling!J$30)+COUNTIF(#REF!,Dienstverdeling!J$30)+COUNTIF(#REF!,Dienstverdeling!J$30)+COUNTIF(#REF!,Dienstverdeling!J$30)+COUNTIF(#REF!,Dienstverdeling!J$30)+COUNTIF(#REF!,Dienstverdeling!J$30)+COUNTIF(#REF!,Dienstverdeling!J$30) -> #REF! | K73: =COUNTIF(#REF!,Dienstverdeling!K$30)+COUNTIF(#REF!,Dienstverdeling!K$30)+COUNTIF(#REF!,Dienstverdeling!K$30)+COUNTIF(#REF!,Dienstverdeling!K$30)+COUNTIF(#REF!,Dienstverdeling!K$30)+COUNTIF(#REF!,Dienstverdeling!K$30)+COUNTIF(#REF!,Dienstverdeling!K$30)+COUNTIF(#REF!,Dienstverdeling!K$30) -> #REF! | ... W73: =COUNTIF(#REF!,Dienstverdeling!W$30)+COUNTIF(#REF!,Dienstverdeling!W$30)+COUNTIF(#REF!,Dienstverdeling!W$30)+COUNTIF(#REF!,Dienstverdeling!W$30)+COUNTIF(#REF!,Dienstverdeling!W$30)+COUNTIF(#REF!,Dienstverdeling!W$30)+COUNTIF(#REF!,Dienstverdeling!W$30)+COUNTIF(#REF!,Dienstverdeling!W$30) -> #REF! | X73: =X72 -> 7 | Y73: =(H73+I73)*0.5 -> #REF! | Z73: =(VLOOKUP(Z$30,tarieftoeslag,$X73,FALSE)*D73) -> #REF! | AA73: =(VLOOKUP(AA$30,tarieftoeslag,$X73,FALSE)*E73) -> #REF! | AB73: =(VLOOKUP(AB$30,tarieftoeslag,$X73,FALSE)*F73) -> #REF! | AC73: =(VLOOKUP(AC$30,tarieftoeslag,$X73,FALSE)*G73) -> #REF! | AD73: =(VLOOKUP(AD$30,tarieftoeslag,$X73,FALSE)*H73) -> #REF! | AE73: =(VLOOKUP(AE$30,tarieftoeslag,$X73,FALSE)*I73) -> #REF! | AF73: =(VLOOKUP(AF$30,tarieftoeslag,$X73,FALSE)*J73) -> #REF! | AG73: =(VLOOKUP(AG$30,tarieftoeslag,$X73,FALSE)*K73) -> #REF! | AI73: =(VLOOKUP(AI$30,tarieftoeslag,$X73,FALSE)*M73) -> #REF! | AJ73: =(VLOOKUP(AJ$30,tarieftoeslag,$X73,FALSE)*N73) -> #REF! | AK73: =(VLOOKUP(AK$30,tarieftoeslag,$X73,FALSE)*O73) -> #REF! | AL73: =(VLOOKUP(AL$30,tarieftoeslag,$X73,FALSE)*P73) -> #REF! | AM73: =(VLOOKUP(AM$30,tarieftoeslag,$X73,FALSE)*Q73) -> #REF! | AN73: =(VLOOKUP(AN$30,tarieftoeslag,$X73,FALSE)*R73) -> #REF! | AO73: =(VLOOKUP(AO$30,tarieftoeslag,$X73,FALSE)*S73) -> #REF! | AP73: =(VLOOKUP(AP$30,tarieftoeslag,$X73,FALSE)*T73) -> #REF! | ... AR73: =(VLOOKUP(AR$30,tarieftoeslag,$X73,FALSE)*V73) -> #REF!
A74: =A47 -> 0 | B74: =SUM(Z74:AL74) -> #REF! | C74: =(VLOOKUP(AD$30,pauzetoeslag,$A$29,FALSE)*H74)+(VLOOKUP(AE$30,pauzetoeslag,$A$29,FALSE)*I74) -> #REF! | D74: =COUNTIF(#REF!,Dienstverdeling!D$30)+COUNTIF(#REF!,Dienstverdeling!D$30)+COUNTIF(#REF!,Dienstverdeling!D$30)+COUNTIF(#REF!,Dienstverdeling!D$30)+COUNTIF(#REF!,Dienstverdeling!D$30)+COUNTIF(#REF!,Dienstverdeling!D$30)+COUNTIF(#REF!,Dienstverdeling!D$30)+COUNTIF(#REF!,Dienstverdeling!D$30) -> #REF! | E74: =COUNTIF(#REF!,Dienstverdeling!E$30)+COUNTIF(#REF!,Dienstverdeling!E$30)+COUNTIF(#REF!,Dienstverdeling!E$30)+COUNTIF(#REF!,Dienstverdeling!E$30)+COUNTIF(#REF!,Dienstverdeling!E$30)+COUNTIF(#REF!,Dienstverdeling!E$30)+COUNTIF(#REF!,Dienstverdeling!E$30)+COUNTIF(#REF!,Dienstverdeling!E$30) -> #REF! | F74: =COUNTIF(#REF!,Dienstverdeling!F$30)+COUNTIF(#REF!,Dienstverdeling!F$30)+COUNTIF(#REF!,Dienstverdeling!F$30)+COUNTIF(#REF!,Dienstverdeling!F$30)+COUNTIF(#REF!,Dienstverdeling!F$30)+COUNTIF(#REF!,Dienstverdeling!F$30)+COUNTIF(#REF!,Dienstverdeling!F$30)+COUNTIF(#REF!,Dienstverdeling!F$30) -> #REF! | G74: =COUNTIF(#REF!,Dienstverdeling!G$30)+COUNTIF(#REF!,Dienstverdeling!G$30)+COUNTIF(#REF!,Dienstverdeling!G$30)+COUNTIF(#REF!,Dienstverdeling!G$30)+COUNTIF(#REF!,Dienstverdeling!G$30)+COUNTIF(#REF!,Dienstverdeling!G$30)+COUNTIF(#REF!,Dienstverdeling!G$30)+COUNTIF(#REF!,Dienstverdeling!G$30) -> #REF! | H74: =COUNTIF(#REF!,Dienstverdeling!H$30)+COUNTIF(#REF!,Dienstverdeling!H$30)+COUNTIF(#REF!,Dienstverdeling!H$30)+COUNTIF(#REF!,Dienstverdeling!H$30)+COUNTIF(#REF!,Dienstverdeling!H$30)+COUNTIF(#REF!,Dienstverdeling!H$30)+COUNTIF(#REF!,Dienstverdeling!H$30)+COUNTIF(#REF!,Dienstverdeling!H$30) -> #REF! | I74: =COUNTIF(#REF!,Dienstverdeling!I$30)+COUNTIF(#REF!,Dienstverdeling!I$30)+COUNTIF(#REF!,Dienstverdeling!I$30)+COUNTIF(#REF!,Dienstverdeling!I$30)+COUNTIF(#REF!,Dienstverdeling!I$30)+COUNTIF(#REF!,Dienstverdeling!I$30)+COUNTIF(#REF!,Dienstverdeling!I$30)+COUNTIF(#REF!,Dienstverdeling!I$30) -> #REF! | J74: =COUNTIF(#REF!,Dienstverdeling!J$30)+COUNTIF(#REF!,Dienstverdeling!J$30)+COUNTIF(#REF!,Dienstverdeling!J$30)+COUNTIF(#REF!,Dienstverdeling!J$30)+COUNTIF(#REF!,Dienstverdeling!J$30)+COUNTIF(#REF!,Dienstverdeling!J$30)+COUNTIF(#REF!,Dienstverdeling!J$30)+COUNTIF(#REF!,Dienstverdeling!J$30) -> #REF! | K74: =COUNTIF(#REF!,Dienstverdeling!K$30)+COUNTIF(#REF!,Dienstverdeling!K$30)+COUNTIF(#REF!,Dienstverdeling!K$30)+COUNTIF(#REF!,Dienstverdeling!K$30)+COUNTIF(#REF!,Dienstverdeling!K$30)+COUNTIF(#REF!,Dienstverdeling!K$30)+COUNTIF(#REF!,Dienstverdeling!K$30)+COUNTIF(#REF!,Dienstverdeling!K$30) -> #REF! | ... W74: =COUNTIF(#REF!,Dienstverdeling!W$30)+COUNTIF(#REF!,Dienstverdeling!W$30)+COUNTIF(#REF!,Dienstverdeling!W$30)+COUNTIF(#REF!,Dienstverdeling!W$30)+COUNTIF(#REF!,Dienstverdeling!W$30)+COUNTIF(#REF!,Dienstverdeling!W$30)+COUNTIF(#REF!,Dienstverdeling!W$30)+COUNTIF(#REF!,Dienstverdeling!W$30) -> #REF! | X74: =X73 -> 7 | Y74: =(H74+I74)*0.5 -> #REF! | Z74: =(VLOOKUP(Z$30,tarieftoeslag,$X74,FALSE)*D74) -> #REF! | AA74: =(VLOOKUP(AA$30,tarieftoeslag,$X74,FALSE)*E74) -> #REF! | AB74: =(VLOOKUP(AB$30,tarieftoeslag,$X74,FALSE)*F74) -> #REF! | AC74: =(VLOOKUP(AC$30,tarieftoeslag,$X74,FALSE)*G74) -> #REF! | AD74: =(VLOOKUP(AD$30,tarieftoeslag,$X74,FALSE)*H74) -> #REF! | AE74: =(VLOOKUP(AE$30,tarieftoeslag,$X74,FALSE)*I74) -> #REF! | AF74: =(VLOOKUP(AF$30,tarieftoeslag,$X74,FALSE)*J74) -> #REF! | AG74: =(VLOOKUP(AG$30,tarieftoeslag,$X74,FALSE)*K74) -> #REF! | AI74: =(VLOOKUP(AI$30,tarieftoeslag,$X74,FALSE)*M74) -> #REF! | AJ74: =(VLOOKUP(AJ$30,tarieftoeslag,$X74,FALSE)*N74) -> #REF! | AK74: =(VLOOKUP(AK$30,tarieftoeslag,$X74,FALSE)*O74) -> #REF! | AL74: =(VLOOKUP(AL$30,tarieftoeslag,$X74,FALSE)*P74) -> #REF! | AM74: =(VLOOKUP(AM$30,tarieftoeslag,$X74,FALSE)*Q74) -> #REF! | AN74: =(VLOOKUP(AN$30,tarieftoeslag,$X74,FALSE)*R74) -> #REF! | AO74: =(VLOOKUP(AO$30,tarieftoeslag,$X74,FALSE)*S74) -> #REF! | AP74: =(VLOOKUP(AP$30,tarieftoeslag,$X74,FALSE)*T74) -> #REF! | ... AR74: =(VLOOKUP(AR$30,tarieftoeslag,$X74,FALSE)*V74) -> #REF!
A75: =A48 -> 0 | B75: =SUM(Z75:AL75) -> #REF! | C75: =(VLOOKUP(AD$30,pauzetoeslag,$A$29,FALSE)*H75)+(VLOOKUP(AE$30,pauzetoeslag,$A$29,FALSE)*I75) -> #REF! | D75: =COUNTIF(#REF!,Dienstverdeling!D$30)+COUNTIF(#REF!,Dienstverdeling!D$30)+COUNTIF(#REF!,Dienstverdeling!D$30)+COUNTIF(#REF!,Dienstverdeling!D$30)+COUNTIF(#REF!,Dienstverdeling!D$30)+COUNTIF(#REF!,Dienstverdeling!D$30)+COUNTIF(#REF!,Dienstverdeling!D$30)+COUNTIF(#REF!,Dienstverdeling!D$30) -> #REF! | E75: =COUNTIF(#REF!,Dienstverdeling!E$30)+COUNTIF(#REF!,Dienstverdeling!E$30)+COUNTIF(#REF!,Dienstverdeling!E$30)+COUNTIF(#REF!,Dienstverdeling!E$30)+COUNTIF(#REF!,Dienstverdeling!E$30)+COUNTIF(#REF!,Dienstverdeling!E$30)+COUNTIF(#REF!,Dienstverdeling!E$30)+COUNTIF(#REF!,Dienstverdeling!E$30) -> #REF! | F75: =COUNTIF(#REF!,Dienstverdeling!F$30)+COUNTIF(#REF!,Dienstverdeling!F$30)+COUNTIF(#REF!,Dienstverdeling!F$30)+COUNTIF(#REF!,Dienstverdeling!F$30)+COUNTIF(#REF!,Dienstverdeling!F$30)+COUNTIF(#REF!,Dienstverdeling!F$30)+COUNTIF(#REF!,Dienstverdeling!F$30)+COUNTIF(#REF!,Dienstverdeling!F$30) -> #REF! | G75: =COUNTIF(#REF!,Dienstverdeling!G$30)+COUNTIF(#REF!,Dienstverdeling!G$30)+COUNTIF(#REF!,Dienstverdeling!G$30)+COUNTIF(#REF!,Dienstverdeling!G$30)+COUNTIF(#REF!,Dienstverdeling!G$30)+COUNTIF(#REF!,Dienstverdeling!G$30)+COUNTIF(#REF!,Dienstverdeling!G$30)+COUNTIF(#REF!,Dienstverdeling!G$30) -> #REF! | H75: =COUNTIF(#REF!,Dienstverdeling!H$30)+COUNTIF(#REF!,Dienstverdeling!H$30)+COUNTIF(#REF!,Dienstverdeling!H$30)+COUNTIF(#REF!,Dienstverdeling!H$30)+COUNTIF(#REF!,Dienstverdeling!H$30)+COUNTIF(#REF!,Dienstverdeling!H$30)+COUNTIF(#REF!,Dienstverdeling!H$30)+COUNTIF(#REF!,Dienstverdeling!H$30) -> #REF! | I75: =COUNTIF(#REF!,Dienstverdeling!I$30)+COUNTIF(#REF!,Dienstverdeling!I$30)+COUNTIF(#REF!,Dienstverdeling!I$30)+COUNTIF(#REF!,Dienstverdeling!I$30)+COUNTIF(#REF!,Dienstverdeling!I$30)+COUNTIF(#REF!,Dienstverdeling!I$30)+COUNTIF(#REF!,Dienstverdeling!I$30)+COUNTIF(#REF!,Dienstverdeling!I$30) -> #REF! | J75: =COUNTIF(#REF!,Dienstverdeling!J$30)+COUNTIF(#REF!,Dienstverdeling!J$30)+COUNTIF(#REF!,Dienstverdeling!J$30)+COUNTIF(#REF!,Dienstverdeling!J$30)+COUNTIF(#REF!,Dienstverdeling!J$30)+COUNTIF(#REF!,Dienstverdeling!J$30)+COUNTIF(#REF!,Dienstverdeling!J$30)+COUNTIF(#REF!,Dienstverdeling!J$30) -> #REF! | K75: =COUNTIF(#REF!,Dienstverdeling!K$30)+COUNTIF(#REF!,Dienstverdeling!K$30)+COUNTIF(#REF!,Dienstverdeling!K$30)+COUNTIF(#REF!,Dienstverdeling!K$30)+COUNTIF(#REF!,Dienstverdeling!K$30)+COUNTIF(#REF!,Dienstverdeling!K$30)+COUNTIF(#REF!,Dienstverdeling!K$30)+COUNTIF(#REF!,Dienstverdeling!K$30) -> #REF! | ... W75: =COUNTIF(#REF!,Dienstverdeling!W$30)+COUNTIF(#REF!,Dienstverdeling!W$30)+COUNTIF(#REF!,Dienstverdeling!W$30)+COUNTIF(#REF!,Dienstverdeling!W$30)+COUNTIF(#REF!,Dienstverdeling!W$30)+COUNTIF(#REF!,Dienstverdeling!W$30)+COUNTIF(#REF!,Dienstverdeling!W$30)+COUNTIF(#REF!,Dienstverdeling!W$30) -> #REF! | X75: =X74 -> 7 | Y75: =(H75+I75)*0.5 -> #REF! | Z75: =(VLOOKUP(Z$30,tarieftoeslag,$X75,FALSE)*D75) -> #REF! | AA75: =(VLOOKUP(AA$30,tarieftoeslag,$X75,FALSE)*E75) -> #REF! | AB75: =(VLOOKUP(AB$30,tarieftoeslag,$X75,FALSE)*F75) -> #REF! | AC75: =(VLOOKUP(AC$30,tarieftoeslag,$X75,FALSE)*G75) -> #REF! | AD75: =(VLOOKUP(AD$30,tarieftoeslag,$X75,FALSE)*H75) -> #REF! | AE75: =(VLOOKUP(AE$30,tarieftoeslag,$X75,FALSE)*I75) -> #REF! | AF75: =(VLOOKUP(AF$30,tarieftoeslag,$X75,FALSE)*J75) -> #REF! | AG75: =(VLOOKUP(AG$30,tarieftoeslag,$X75,FALSE)*K75) -> #REF! | AI75: =(VLOOKUP(AI$30,tarieftoeslag,$X75,FALSE)*M75) -> #REF! | AJ75: =(VLOOKUP(AJ$30,tarieftoeslag,$X75,FALSE)*N75) -> #REF! | AK75: =(VLOOKUP(AK$30,tarieftoeslag,$X75,FALSE)*O75) -> #REF! | AL75: =(VLOOKUP(AL$30,tarieftoeslag,$X75,FALSE)*P75) -> #REF! | AM75: =(VLOOKUP(AM$30,tarieftoeslag,$X75,FALSE)*Q75) -> #REF! | AN75: =(VLOOKUP(AN$30,tarieftoeslag,$X75,FALSE)*R75) -> #REF! | AO75: =(VLOOKUP(AO$30,tarieftoeslag,$X75,FALSE)*S75) -> #REF! | AP75: =(VLOOKUP(AP$30,tarieftoeslag,$X75,FALSE)*T75) -> #REF! | ... AR75: =(VLOOKUP(AR$30,tarieftoeslag,$X75,FALSE)*V75) -> #REF!
A76: =A49 -> 0 | B76: =SUM(Z76:AL76) -> #REF! | C76: =(VLOOKUP(AD$30,pauzetoeslag,$A$29,FALSE)*H76)+(VLOOKUP(AE$30,pauzetoeslag,$A$29,FALSE)*I76) -> #REF! | D76: =COUNTIF(#REF!,Dienstverdeling!D$30)+COUNTIF(#REF!,Dienstverdeling!D$30)+COUNTIF(#REF!,Dienstverdeling!D$30)+COUNTIF(#REF!,Dienstverdeling!D$30)+COUNTIF(#REF!,Dienstverdeling!D$30)+COUNTIF(#REF!,Dienstverdeling!D$30)+COUNTIF(#REF!,Dienstverdeling!D$30)+COUNTIF(#REF!,Dienstverdeling!D$30) -> #REF! | E76: =COUNTIF(#REF!,Dienstverdeling!E$30)+COUNTIF(#REF!,Dienstverdeling!E$30)+COUNTIF(#REF!,Dienstverdeling!E$30)+COUNTIF(#REF!,Dienstverdeling!E$30)+COUNTIF(#REF!,Dienstverdeling!E$30)+COUNTIF(#REF!,Dienstverdeling!E$30)+COUNTIF(#REF!,Dienstverdeling!E$30)+COUNTIF(#REF!,Dienstverdeling!E$30) -> #REF! | F76: =COUNTIF(#REF!,Dienstverdeling!F$30)+COUNTIF(#REF!,Dienstverdeling!F$30)+COUNTIF(#REF!,Dienstverdeling!F$30)+COUNTIF(#REF!,Dienstverdeling!F$30)+COUNTIF(#REF!,Dienstverdeling!F$30)+COUNTIF(#REF!,Dienstverdeling!F$30)+COUNTIF(#REF!,Dienstverdeling!F$30)+COUNTIF(#REF!,Dienstverdeling!F$30) -> #REF! | G76: =COUNTIF(#REF!,Dienstverdeling!G$30)+COUNTIF(#REF!,Dienstverdeling!G$30)+COUNTIF(#REF!,Dienstverdeling!G$30)+COUNTIF(#REF!,Dienstverdeling!G$30)+COUNTIF(#REF!,Dienstverdeling!G$30)+COUNTIF(#REF!,Dienstverdeling!G$30)+COUNTIF(#REF!,Dienstverdeling!G$30)+COUNTIF(#REF!,Dienstverdeling!G$30) -> #REF! | H76: =COUNTIF(#REF!,Dienstverdeling!H$30)+COUNTIF(#REF!,Dienstverdeling!H$30)+COUNTIF(#REF!,Dienstverdeling!H$30)+COUNTIF(#REF!,Dienstverdeling!H$30)+COUNTIF(#REF!,Dienstverdeling!H$30)+COUNTIF(#REF!,Dienstverdeling!H$30)+COUNTIF(#REF!,Dienstverdeling!H$30)+COUNTIF(#REF!,Dienstverdeling!H$30) -> #REF! | I76: =COUNTIF(#REF!,Dienstverdeling!I$30)+COUNTIF(#REF!,Dienstverdeling!I$30)+COUNTIF(#REF!,Dienstverdeling!I$30)+COUNTIF(#REF!,Dienstverdeling!I$30)+COUNTIF(#REF!,Dienstverdeling!I$30)+COUNTIF(#REF!,Dienstverdeling!I$30)+COUNTIF(#REF!,Dienstverdeling!I$30)+COUNTIF(#REF!,Dienstverdeling!I$30) -> #REF! | J76: =COUNTIF(#REF!,Dienstverdeling!J$30)+COUNTIF(#REF!,Dienstverdeling!J$30)+COUNTIF(#REF!,Dienstverdeling!J$30)+COUNTIF(#REF!,Dienstverdeling!J$30)+COUNTIF(#REF!,Dienstverdeling!J$30)+COUNTIF(#REF!,Dienstverdeling!J$30)+COUNTIF(#REF!,Dienstverdeling!J$30)+COUNTIF(#REF!,Dienstverdeling!J$30) -> #REF! | K76: =COUNTIF(#REF!,Dienstverdeling!K$30)+COUNTIF(#REF!,Dienstverdeling!K$30)+COUNTIF(#REF!,Dienstverdeling!K$30)+COUNTIF(#REF!,Dienstverdeling!K$30)+COUNTIF(#REF!,Dienstverdeling!K$30)+COUNTIF(#REF!,Dienstverdeling!K$30)+COUNTIF(#REF!,Dienstverdeling!K$30)+COUNTIF(#REF!,Dienstverdeling!K$30) -> #REF! | ... W76: =COUNTIF(#REF!,Dienstverdeling!W$30)+COUNTIF(#REF!,Dienstverdeling!W$30)+COUNTIF(#REF!,Dienstverdeling!W$30)+COUNTIF(#REF!,Dienstverdeling!W$30)+COUNTIF(#REF!,Dienstverdeling!W$30)+COUNTIF(#REF!,Dienstverdeling!W$30)+COUNTIF(#REF!,Dienstverdeling!W$30)+COUNTIF(#REF!,Dienstverdeling!W$30) -> #REF! | X76: =X75 -> 7 | Y76: =(H76+I76)*0.5 -> #REF! | Z76: =(VLOOKUP(Z$30,tarieftoeslag,$X76,FALSE)*D76) -> #REF! | AA76: =(VLOOKUP(AA$30,tarieftoeslag,$X76,FALSE)*E76) -> #REF! | AB76: =(VLOOKUP(AB$30,tarieftoeslag,$X76,FALSE)*F76) -> #REF! | AC76: =(VLOOKUP(AC$30,tarieftoeslag,$X76,FALSE)*G76) -> #REF! | AD76: =(VLOOKUP(AD$30,tarieftoeslag,$X76,FALSE)*H76) -> #REF! | AE76: =(VLOOKUP(AE$30,tarieftoeslag,$X76,FALSE)*I76) -> #REF! | AF76: =(VLOOKUP(AF$30,tarieftoeslag,$X76,FALSE)*J76) -> #REF! | AG76: =(VLOOKUP(AG$30,tarieftoeslag,$X76,FALSE)*K76) -> #REF! | AI76: =(VLOOKUP(AI$30,tarieftoeslag,$X76,FALSE)*M76) -> #REF! | AJ76: =(VLOOKUP(AJ$30,tarieftoeslag,$X76,FALSE)*N76) -> #REF! | AK76: =(VLOOKUP(AK$30,tarieftoeslag,$X76,FALSE)*O76) -> #REF! | AL76: =(VLOOKUP(AL$30,tarieftoeslag,$X76,FALSE)*P76) -> #REF! | AM76: =(VLOOKUP(AM$30,tarieftoeslag,$X76,FALSE)*Q76) -> #REF! | AN76: =(VLOOKUP(AN$30,tarieftoeslag,$X76,FALSE)*R76) -> #REF! | AO76: =(VLOOKUP(AO$30,tarieftoeslag,$X76,FALSE)*S76) -> #REF! | AP76: =(VLOOKUP(AP$30,tarieftoeslag,$X76,FALSE)*T76) -> #REF! | ... AR76: =(VLOOKUP(AR$30,tarieftoeslag,$X76,FALSE)*V76) -> #REF!
A77: =A50 -> 0 | B77: =SUM(Z77:AL77) -> #REF! | C77: =(VLOOKUP(AD$30,pauzetoeslag,$A$29,FALSE)*H77)+(VLOOKUP(AE$30,pauzetoeslag,$A$29,FALSE)*I77) -> #REF! | D77: =COUNTIF(#REF!,Dienstverdeling!D$30)+COUNTIF(#REF!,Dienstverdeling!D$30)+COUNTIF(#REF!,Dienstverdeling!D$30)+COUNTIF(#REF!,Dienstverdeling!D$30)+COUNTIF(#REF!,Dienstverdeling!D$30)+COUNTIF(#REF!,Dienstverdeling!D$30)+COUNTIF(#REF!,Dienstverdeling!D$30)+COUNTIF(#REF!,Dienstverdeling!D$30) -> #REF! | E77: =COUNTIF(#REF!,Dienstverdeling!E$30)+COUNTIF(#REF!,Dienstverdeling!E$30)+COUNTIF(#REF!,Dienstverdeling!E$30)+COUNTIF(#REF!,Dienstverdeling!E$30)+COUNTIF(#REF!,Dienstverdeling!E$30)+COUNTIF(#REF!,Dienstverdeling!E$30)+COUNTIF(#REF!,Dienstverdeling!E$30)+COUNTIF(#REF!,Dienstverdeling!E$30) -> #REF! | F77: =COUNTIF(#REF!,Dienstverdeling!F$30)+COUNTIF(#REF!,Dienstverdeling!F$30)+COUNTIF(#REF!,Dienstverdeling!F$30)+COUNTIF(#REF!,Dienstverdeling!F$30)+COUNTIF(#REF!,Dienstverdeling!F$30)+COUNTIF(#REF!,Dienstverdeling!F$30)+COUNTIF(#REF!,Dienstverdeling!F$30)+COUNTIF(#REF!,Dienstverdeling!F$30) -> #REF! | G77: =COUNTIF(#REF!,Dienstverdeling!G$30)+COUNTIF(#REF!,Dienstverdeling!G$30)+COUNTIF(#REF!,Dienstverdeling!G$30)+COUNTIF(#REF!,Dienstverdeling!G$30)+COUNTIF(#REF!,Dienstverdeling!G$30)+COUNTIF(#REF!,Dienstverdeling!G$30)+COUNTIF(#REF!,Dienstverdeling!G$30)+COUNTIF(#REF!,Dienstverdeling!G$30) -> #REF! | H77: =COUNTIF(#REF!,Dienstverdeling!H$30)+COUNTIF(#REF!,Dienstverdeling!H$30)+COUNTIF(#REF!,Dienstverdeling!H$30)+COUNTIF(#REF!,Dienstverdeling!H$30)+COUNTIF(#REF!,Dienstverdeling!H$30)+COUNTIF(#REF!,Dienstverdeling!H$30)+COUNTIF(#REF!,Dienstverdeling!H$30)+COUNTIF(#REF!,Dienstverdeling!H$30) -> #REF! | I77: =COUNTIF(#REF!,Dienstverdeling!I$30)+COUNTIF(#REF!,Dienstverdeling!I$30)+COUNTIF(#REF!,Dienstverdeling!I$30)+COUNTIF(#REF!,Dienstverdeling!I$30)+COUNTIF(#REF!,Dienstverdeling!I$30)+COUNTIF(#REF!,Dienstverdeling!I$30)+COUNTIF(#REF!,Dienstverdeling!I$30)+COUNTIF(#REF!,Dienstverdeling!I$30) -> #REF! | J77: =COUNTIF(#REF!,Dienstverdeling!J$30)+COUNTIF(#REF!,Dienstverdeling!J$30)+COUNTIF(#REF!,Dienstverdeling!J$30)+COUNTIF(#REF!,Dienstverdeling!J$30)+COUNTIF(#REF!,Dienstverdeling!J$30)+COUNTIF(#REF!,Dienstverdeling!J$30)+COUNTIF(#REF!,Dienstverdeling!J$30)+COUNTIF(#REF!,Dienstverdeling!J$30) -> #REF! | K77: =COUNTIF(#REF!,Dienstverdeling!K$30)+COUNTIF(#REF!,Dienstverdeling!K$30)+COUNTIF(#REF!,Dienstverdeling!K$30)+COUNTIF(#REF!,Dienstverdeling!K$30)+COUNTIF(#REF!,Dienstverdeling!K$30)+COUNTIF(#REF!,Dienstverdeling!K$30)+COUNTIF(#REF!,Dienstverdeling!K$30)+COUNTIF(#REF!,Dienstverdeling!K$30) -> #REF! | ... W77: =COUNTIF(#REF!,Dienstverdeling!W$30)+COUNTIF(#REF!,Dienstverdeling!W$30)+COUNTIF(#REF!,Dienstverdeling!W$30)+COUNTIF(#REF!,Dienstverdeling!W$30)+COUNTIF(#REF!,Dienstverdeling!W$30)+COUNTIF(#REF!,Dienstverdeling!W$30)+COUNTIF(#REF!,Dienstverdeling!W$30)+COUNTIF(#REF!,Dienstverdeling!W$30) -> #REF! | X77: =X76 -> 7 | Y77: =(H77+I77)*0.5 -> #REF! | Z77: =(VLOOKUP(Z$30,tarieftoeslag,$X77,FALSE)*D77) -> #REF! | AA77: =(VLOOKUP(AA$30,tarieftoeslag,$X77,FALSE)*E77) -> #REF! | AB77: =(VLOOKUP(AB$30,tarieftoeslag,$X77,FALSE)*F77) -> #REF! | AC77: =(VLOOKUP(AC$30,tarieftoeslag,$X77,FALSE)*G77) -> #REF! | AD77: =(VLOOKUP(AD$30,tarieftoeslag,$X77,FALSE)*H77) -> #REF! | AE77: =(VLOOKUP(AE$30,tarieftoeslag,$X77,FALSE)*I77) -> #REF! | AF77: =(VLOOKUP(AF$30,tarieftoeslag,$X77,FALSE)*J77) -> #REF! | AG77: =(VLOOKUP(AG$30,tarieftoeslag,$X77,FALSE)*K77) -> #REF! | AI77: =(VLOOKUP(AI$30,tarieftoeslag,$X77,FALSE)*M77) -> #REF! | AJ77: =(VLOOKUP(AJ$30,tarieftoeslag,$X77,FALSE)*N77) -> #REF! | AK77: =(VLOOKUP(AK$30,tarieftoeslag,$X77,FALSE)*O77) -> #REF! | AL77: =(VLOOKUP(AL$30,tarieftoeslag,$X77,FALSE)*P77) -> #REF! | AM77: =(VLOOKUP(AM$30,tarieftoeslag,$X77,FALSE)*Q77) -> #REF! | AN77: =(VLOOKUP(AN$30,tarieftoeslag,$X77,FALSE)*R77) -> #REF! | AO77: =(VLOOKUP(AO$30,tarieftoeslag,$X77,FALSE)*S77) -> #REF! | AP77: =(VLOOKUP(AP$30,tarieftoeslag,$X77,FALSE)*T77) -> #REF! | ... AR77: =(VLOOKUP(AR$30,tarieftoeslag,$X77,FALSE)*V77) -> #REF!
A78: =A51 -> 0 | B78: =SUM(Z78:AL78) -> #REF! | C78: =(VLOOKUP(AD$30,pauzetoeslag,$A$29,FALSE)*H78)+(VLOOKUP(AE$30,pauzetoeslag,$A$29,FALSE)*I78) -> #REF! | D78: =COUNTIF(#REF!,Dienstverdeling!D$30)+COUNTIF(#REF!,Dienstverdeling!D$30)+COUNTIF(#REF!,Dienstverdeling!D$30)+COUNTIF(#REF!,Dienstverdeling!D$30)+COUNTIF(#REF!,Dienstverdeling!D$30)+COUNTIF(#REF!,Dienstverdeling!D$30)+COUNTIF(#REF!,Dienstverdeling!D$30)+COUNTIF(#REF!,Dienstverdeling!D$30) -> #REF! | E78: =COUNTIF(#REF!,Dienstverdeling!E$30)+COUNTIF(#REF!,Dienstverdeling!E$30)+COUNTIF(#REF!,Dienstverdeling!E$30)+COUNTIF(#REF!,Dienstverdeling!E$30)+COUNTIF(#REF!,Dienstverdeling!E$30)+COUNTIF(#REF!,Dienstverdeling!E$30)+COUNTIF(#REF!,Dienstverdeling!E$30)+COUNTIF(#REF!,Dienstverdeling!E$30) -> #REF! | F78: =COUNTIF(#REF!,Dienstverdeling!F$30)+COUNTIF(#REF!,Dienstverdeling!F$30)+COUNTIF(#REF!,Dienstverdeling!F$30)+COUNTIF(#REF!,Dienstverdeling!F$30)+COUNTIF(#REF!,Dienstverdeling!F$30)+COUNTIF(#REF!,Dienstverdeling!F$30)+COUNTIF(#REF!,Dienstverdeling!F$30)+COUNTIF(#REF!,Dienstverdeling!F$30) -> #REF! | G78: =COUNTIF(#REF!,Dienstverdeling!G$30)+COUNTIF(#REF!,Dienstverdeling!G$30)+COUNTIF(#REF!,Dienstverdeling!G$30)+COUNTIF(#REF!,Dienstverdeling!G$30)+COUNTIF(#REF!,Dienstverdeling!G$30)+COUNTIF(#REF!,Dienstverdeling!G$30)+COUNTIF(#REF!,Dienstverdeling!G$30)+COUNTIF(#REF!,Dienstverdeling!G$30) -> #REF! | H78: =COUNTIF(#REF!,Dienstverdeling!H$30)+COUNTIF(#REF!,Dienstverdeling!H$30)+COUNTIF(#REF!,Dienstverdeling!H$30)+COUNTIF(#REF!,Dienstverdeling!H$30)+COUNTIF(#REF!,Dienstverdeling!H$30)+COUNTIF(#REF!,Dienstverdeling!H$30)+COUNTIF(#REF!,Dienstverdeling!H$30)+COUNTIF(#REF!,Dienstverdeling!H$30) -> #REF! | I78: =COUNTIF(#REF!,Dienstverdeling!I$30)+COUNTIF(#REF!,Dienstverdeling!I$30)+COUNTIF(#REF!,Dienstverdeling!I$30)+COUNTIF(#REF!,Dienstverdeling!I$30)+COUNTIF(#REF!,Dienstverdeling!I$30)+COUNTIF(#REF!,Dienstverdeling!I$30)+COUNTIF(#REF!,Dienstverdeling!I$30)+COUNTIF(#REF!,Dienstverdeling!I$30) -> #REF! | J78: =COUNTIF(#REF!,Dienstverdeling!J$30)+COUNTIF(#REF!,Dienstverdeling!J$30)+COUNTIF(#REF!,Dienstverdeling!J$30)+COUNTIF(#REF!,Dienstverdeling!J$30)+COUNTIF(#REF!,Dienstverdeling!J$30)+COUNTIF(#REF!,Dienstverdeling!J$30)+COUNTIF(#REF!,Dienstverdeling!J$30)+COUNTIF(#REF!,Dienstverdeling!J$30) -> #REF! | K78: =COUNTIF(#REF!,Dienstverdeling!K$30)+COUNTIF(#REF!,Dienstverdeling!K$30)+COUNTIF(#REF!,Dienstverdeling!K$30)+COUNTIF(#REF!,Dienstverdeling!K$30)+COUNTIF(#REF!,Dienstverdeling!K$30)+COUNTIF(#REF!,Dienstverdeling!K$30)+COUNTIF(#REF!,Dienstverdeling!K$30)+COUNTIF(#REF!,Dienstverdeling!K$30) -> #REF! | ... W78: =COUNTIF(#REF!,Dienstverdeling!W$30)+COUNTIF(#REF!,Dienstverdeling!W$30)+COUNTIF(#REF!,Dienstverdeling!W$30)+COUNTIF(#REF!,Dienstverdeling!W$30)+COUNTIF(#REF!,Dienstverdeling!W$30)+COUNTIF(#REF!,Dienstverdeling!W$30)+COUNTIF(#REF!,Dienstverdeling!W$30)+COUNTIF(#REF!,Dienstverdeling!W$30) -> #REF! | X78: =X77 -> 7 | Y78: =(H78+I78)*0.5 -> #REF! | Z78: =(VLOOKUP(Z$30,tarieftoeslag,$X78,FALSE)*D78) -> #REF! | AA78: =(VLOOKUP(AA$30,tarieftoeslag,$X78,FALSE)*E78) -> #REF! | AB78: =(VLOOKUP(AB$30,tarieftoeslag,$X78,FALSE)*F78) -> #REF! | AC78: =(VLOOKUP(AC$30,tarieftoeslag,$X78,FALSE)*G78) -> #REF! | AD78: =(VLOOKUP(AD$30,tarieftoeslag,$X78,FALSE)*H78) -> #REF! | AE78: =(VLOOKUP(AE$30,tarieftoeslag,$X78,FALSE)*I78) -> #REF! | AF78: =(VLOOKUP(AF$30,tarieftoeslag,$X78,FALSE)*J78) -> #REF! | AG78: =(VLOOKUP(AG$30,tarieftoeslag,$X78,FALSE)*K78) -> #REF! | AI78: =(VLOOKUP(AI$30,tarieftoeslag,$X78,FALSE)*M78) -> #REF! | AJ78: =(VLOOKUP(AJ$30,tarieftoeslag,$X78,FALSE)*N78) -> #REF! | AK78: =(VLOOKUP(AK$30,tarieftoeslag,$X78,FALSE)*O78) -> #REF! | AL78: =(VLOOKUP(AL$30,tarieftoeslag,$X78,FALSE)*P78) -> #REF! | AM78: =(VLOOKUP(AM$30,tarieftoeslag,$X78,FALSE)*Q78) -> #REF! | AN78: =(VLOOKUP(AN$30,tarieftoeslag,$X78,FALSE)*R78) -> #REF! | AO78: =(VLOOKUP(AO$30,tarieftoeslag,$X78,FALSE)*S78) -> #REF! | AP78: =(VLOOKUP(AP$30,tarieftoeslag,$X78,FALSE)*T78) -> #REF! | ... AR78: =(VLOOKUP(AR$30,tarieftoeslag,$X78,FALSE)*V78) -> #REF!
A79: =A52 -> 0 | B79: =SUM(Z79:AL79) -> #REF! | C79: =(VLOOKUP(AD$30,pauzetoeslag,$A$29,FALSE)*H79)+(VLOOKUP(AE$30,pauzetoeslag,$A$29,FALSE)*I79) -> #REF! | D79: =COUNTIF(#REF!,Dienstverdeling!D$30)+COUNTIF(#REF!,Dienstverdeling!D$30)+COUNTIF(#REF!,Dienstverdeling!D$30)+COUNTIF(#REF!,Dienstverdeling!D$30)+COUNTIF(#REF!,Dienstverdeling!D$30)+COUNTIF(#REF!,Dienstverdeling!D$30)+COUNTIF(#REF!,Dienstverdeling!D$30)+COUNTIF(#REF!,Dienstverdeling!D$30) -> #REF! | E79: =COUNTIF(#REF!,Dienstverdeling!E$30)+COUNTIF(#REF!,Dienstverdeling!E$30)+COUNTIF(#REF!,Dienstverdeling!E$30)+COUNTIF(#REF!,Dienstverdeling!E$30)+COUNTIF(#REF!,Dienstverdeling!E$30)+COUNTIF(#REF!,Dienstverdeling!E$30)+COUNTIF(#REF!,Dienstverdeling!E$30)+COUNTIF(#REF!,Dienstverdeling!E$30) -> #REF! | F79: =COUNTIF(#REF!,Dienstverdeling!F$30)+COUNTIF(#REF!,Dienstverdeling!F$30)+COUNTIF(#REF!,Dienstverdeling!F$30)+COUNTIF(#REF!,Dienstverdeling!F$30)+COUNTIF(#REF!,Dienstverdeling!F$30)+COUNTIF(#REF!,Dienstverdeling!F$30)+COUNTIF(#REF!,Dienstverdeling!F$30)+COUNTIF(#REF!,Dienstverdeling!F$30) -> #REF! | G79: =COUNTIF(#REF!,Dienstverdeling!G$30)+COUNTIF(#REF!,Dienstverdeling!G$30)+COUNTIF(#REF!,Dienstverdeling!G$30)+COUNTIF(#REF!,Dienstverdeling!G$30)+COUNTIF(#REF!,Dienstverdeling!G$30)+COUNTIF(#REF!,Dienstverdeling!G$30)+COUNTIF(#REF!,Dienstverdeling!G$30)+COUNTIF(#REF!,Dienstverdeling!G$30) -> #REF! | H79: =COUNTIF(#REF!,Dienstverdeling!H$30)+COUNTIF(#REF!,Dienstverdeling!H$30)+COUNTIF(#REF!,Dienstverdeling!H$30)+COUNTIF(#REF!,Dienstverdeling!H$30)+COUNTIF(#REF!,Dienstverdeling!H$30)+COUNTIF(#REF!,Dienstverdeling!H$30)+COUNTIF(#REF!,Dienstverdeling!H$30)+COUNTIF(#REF!,Dienstverdeling!H$30) -> #REF! | I79: =COUNTIF(#REF!,Dienstverdeling!I$30)+COUNTIF(#REF!,Dienstverdeling!I$30)+COUNTIF(#REF!,Dienstverdeling!I$30)+COUNTIF(#REF!,Dienstverdeling!I$30)+COUNTIF(#REF!,Dienstverdeling!I$30)+COUNTIF(#REF!,Dienstverdeling!I$30)+COUNTIF(#REF!,Dienstverdeling!I$30)+COUNTIF(#REF!,Dienstverdeling!I$30) -> #REF! | J79: =COUNTIF(#REF!,Dienstverdeling!J$30)+COUNTIF(#REF!,Dienstverdeling!J$30)+COUNTIF(#REF!,Dienstverdeling!J$30)+COUNTIF(#REF!,Dienstverdeling!J$30)+COUNTIF(#REF!,Dienstverdeling!J$30)+COUNTIF(#REF!,Dienstverdeling!J$30)+COUNTIF(#REF!,Dienstverdeling!J$30)+COUNTIF(#REF!,Dienstverdeling!J$30) -> #REF! | K79: =COUNTIF(#REF!,Dienstverdeling!K$30)+COUNTIF(#REF!,Dienstverdeling!K$30)+COUNTIF(#REF!,Dienstverdeling!K$30)+COUNTIF(#REF!,Dienstverdeling!K$30)+COUNTIF(#REF!,Dienstverdeling!K$30)+COUNTIF(#REF!,Dienstverdeling!K$30)+COUNTIF(#REF!,Dienstverdeling!K$30)+COUNTIF(#REF!,Dienstverdeling!K$30) -> #REF! | ... W79: =COUNTIF(#REF!,Dienstverdeling!W$30)+COUNTIF(#REF!,Dienstverdeling!W$30)+COUNTIF(#REF!,Dienstverdeling!W$30)+COUNTIF(#REF!,Dienstverdeling!W$30)+COUNTIF(#REF!,Dienstverdeling!W$30)+COUNTIF(#REF!,Dienstverdeling!W$30)+COUNTIF(#REF!,Dienstverdeling!W$30)+COUNTIF(#REF!,Dienstverdeling!W$30) -> #REF! | X79: =X78 -> 7 | Y79: =(H79+I79)*0.5 -> #REF! | Z79: =(VLOOKUP(Z$30,tarieftoeslag,$X79,FALSE)*D79) -> #REF! | AA79: =(VLOOKUP(AA$30,tarieftoeslag,$X79,FALSE)*E79) -> #REF! | AB79: =(VLOOKUP(AB$30,tarieftoeslag,$X79,FALSE)*F79) -> #REF! | AC79: =(VLOOKUP(AC$30,tarieftoeslag,$X79,FALSE)*G79) -> #REF! | AD79: =(VLOOKUP(AD$30,tarieftoeslag,$X79,FALSE)*H79) -> #REF! | AE79: =(VLOOKUP(AE$30,tarieftoeslag,$X79,FALSE)*I79) -> #REF! | AF79: =(VLOOKUP(AF$30,tarieftoeslag,$X79,FALSE)*J79) -> #REF! | AG79: =(VLOOKUP(AG$30,tarieftoeslag,$X79,FALSE)*K79) -> #REF! | AI79: =(VLOOKUP(AI$30,tarieftoeslag,$X79,FALSE)*M79) -> #REF! | AJ79: =(VLOOKUP(AJ$30,tarieftoeslag,$X79,FALSE)*N79) -> #REF! | AK79: =(VLOOKUP(AK$30,tarieftoeslag,$X79,FALSE)*O79) -> #REF! | AL79: =(VLOOKUP(AL$30,tarieftoeslag,$X79,FALSE)*P79) -> #REF! | AM79: =(VLOOKUP(AM$30,tarieftoeslag,$X79,FALSE)*Q79) -> #REF! | AN79: =(VLOOKUP(AN$30,tarieftoeslag,$X79,FALSE)*R79) -> #REF! | AO79: =(VLOOKUP(AO$30,tarieftoeslag,$X79,FALSE)*S79) -> #REF! | AP79: =(VLOOKUP(AP$30,tarieftoeslag,$X79,FALSE)*T79) -> #REF! | ... AR79: =(VLOOKUP(AR$30,tarieftoeslag,$X79,FALSE)*V79) -> #REF!
A80: =A53 -> 0 | B80: =SUM(Z80:AL80) -> #REF! | C80: =(VLOOKUP(AD$30,pauzetoeslag,$A$29,FALSE)*H80)+(VLOOKUP(AE$30,pauzetoeslag,$A$29,FALSE)*I80) -> #REF! | D80: =COUNTIF(#REF!,Dienstverdeling!D$30)+COUNTIF(#REF!,Dienstverdeling!D$30)+COUNTIF(#REF!,Dienstverdeling!D$30)+COUNTIF(#REF!,Dienstverdeling!D$30)+COUNTIF(#REF!,Dienstverdeling!D$30)+COUNTIF(#REF!,Dienstverdeling!D$30)+COUNTIF(#REF!,Dienstverdeling!D$30)+COUNTIF(#REF!,Dienstverdeling!D$30) -> #REF! | E80: =COUNTIF(#REF!,Dienstverdeling!E$30)+COUNTIF(#REF!,Dienstverdeling!E$30)+COUNTIF(#REF!,Dienstverdeling!E$30)+COUNTIF(#REF!,Dienstverdeling!E$30)+COUNTIF(#REF!,Dienstverdeling!E$30)+COUNTIF(#REF!,Dienstverdeling!E$30)+COUNTIF(#REF!,Dienstverdeling!E$30)+COUNTIF(#REF!,Dienstverdeling!E$30) -> #REF! | F80: =COUNTIF(#REF!,Dienstverdeling!F$30)+COUNTIF(#REF!,Dienstverdeling!F$30)+COUNTIF(#REF!,Dienstverdeling!F$30)+COUNTIF(#REF!,Dienstverdeling!F$30)+COUNTIF(#REF!,Dienstverdeling!F$30)+COUNTIF(#REF!,Dienstverdeling!F$30)+COUNTIF(#REF!,Dienstverdeling!F$30)+COUNTIF(#REF!,Dienstverdeling!F$30) -> #REF! | G80: =COUNTIF(#REF!,Dienstverdeling!G$30)+COUNTIF(#REF!,Dienstverdeling!G$30)+COUNTIF(#REF!,Dienstverdeling!G$30)+COUNTIF(#REF!,Dienstverdeling!G$30)+COUNTIF(#REF!,Dienstverdeling!G$30)+COUNTIF(#REF!,Dienstverdeling!G$30)+COUNTIF(#REF!,Dienstverdeling!G$30)+COUNTIF(#REF!,Dienstverdeling!G$30) -> #REF! | H80: =COUNTIF(#REF!,Dienstverdeling!H$30)+COUNTIF(#REF!,Dienstverdeling!H$30)+COUNTIF(#REF!,Dienstverdeling!H$30)+COUNTIF(#REF!,Dienstverdeling!H$30)+COUNTIF(#REF!,Dienstverdeling!H$30)+COUNTIF(#REF!,Dienstverdeling!H$30)+COUNTIF(#REF!,Dienstverdeling!H$30)+COUNTIF(#REF!,Dienstverdeling!H$30) -> #REF! | I80: =COUNTIF(#REF!,Dienstverdeling!I$30)+COUNTIF(#REF!,Dienstverdeling!I$30)+COUNTIF(#REF!,Dienstverdeling!I$30)+COUNTIF(#REF!,Dienstverdeling!I$30)+COUNTIF(#REF!,Dienstverdeling!I$30)+COUNTIF(#REF!,Dienstverdeling!I$30)+COUNTIF(#REF!,Dienstverdeling!I$30)+COUNTIF(#REF!,Dienstverdeling!I$30) -> #REF! | J80: =COUNTIF(#REF!,Dienstverdeling!J$30)+COUNTIF(#REF!,Dienstverdeling!J$30)+COUNTIF(#REF!,Dienstverdeling!J$30)+COUNTIF(#REF!,Dienstverdeling!J$30)+COUNTIF(#REF!,Dienstverdeling!J$30)+COUNTIF(#REF!,Dienstverdeling!J$30)+COUNTIF(#REF!,Dienstverdeling!J$30)+COUNTIF(#REF!,Dienstverdeling!J$30) -> #REF! | K80: =COUNTIF(#REF!,Dienstverdeling!K$30)+COUNTIF(#REF!,Dienstverdeling!K$30)+COUNTIF(#REF!,Dienstverdeling!K$30)+COUNTIF(#REF!,Dienstverdeling!K$30)+COUNTIF(#REF!,Dienstverdeling!K$30)+COUNTIF(#REF!,Dienstverdeling!K$30)+COUNTIF(#REF!,Dienstverdeling!K$30)+COUNTIF(#REF!,Dienstverdeling!K$30) -> #REF! | ... W80: =COUNTIF(#REF!,Dienstverdeling!W$30)+COUNTIF(#REF!,Dienstverdeling!W$30)+COUNTIF(#REF!,Dienstverdeling!W$30)+COUNTIF(#REF!,Dienstverdeling!W$30)+COUNTIF(#REF!,Dienstverdeling!W$30)+COUNTIF(#REF!,Dienstverdeling!W$30)+COUNTIF(#REF!,Dienstverdeling!W$30)+COUNTIF(#REF!,Dienstverdeling!W$30) -> #REF! | X80: =X79 -> 7 | Y80: =(H80+I80)*0.5 -> #REF! | Z80: =(VLOOKUP(Z$30,tarieftoeslag,$X80,FALSE)*D80) -> #REF! | AA80: =(VLOOKUP(AA$30,tarieftoeslag,$X80,FALSE)*E80) -> #REF! | AB80: =(VLOOKUP(AB$30,tarieftoeslag,$X80,FALSE)*F80) -> #REF! | AC80: =(VLOOKUP(AC$30,tarieftoeslag,$X80,FALSE)*G80) -> #REF! | AD80: =(VLOOKUP(AD$30,tarieftoeslag,$X80,FALSE)*H80) -> #REF! | AE80: =(VLOOKUP(AE$30,tarieftoeslag,$X80,FALSE)*I80) -> #REF! | AF80: =(VLOOKUP(AF$30,tarieftoeslag,$X80,FALSE)*J80) -> #REF! | AG80: =(VLOOKUP(AG$30,tarieftoeslag,$X80,FALSE)*K80) -> #REF! | AI80: =(VLOOKUP(AI$30,tarieftoeslag,$X80,FALSE)*M80) -> #REF! | AJ80: =(VLOOKUP(AJ$30,tarieftoeslag,$X80,FALSE)*N80) -> #REF! | AK80: =(VLOOKUP(AK$30,tarieftoeslag,$X80,FALSE)*O80) -> #REF! | AL80: =(VLOOKUP(AL$30,tarieftoeslag,$X80,FALSE)*P80) -> #REF!
A82: Woensdag
A83: 8
A84: Groep | D84: =D$30 -> V1 | E84: =E$30 -> V2 | F84: =F$30 -> L1 | G84: =G$30 -> L2 | H84: =H$30 -> N1 | I84: =I$30 -> N2 | J84: =J$30 -> DV4 | K84: =K$30 -> DL4 | ... W84: =W$30 -> 0 | Z84: =Z$30 -> V1 | AA84: =AA$30 -> V2 | AB84: =AB$30 -> L1 | AC84: =AC$30 -> L2 | AD84: =AD$30 -> N1 | AE84: =AE$30 -> N2 | AF84: =AF$30 -> DV4 | AG84: =AG$30 -> DL4 | AI84: =AI$30 -> Dza | AJ84: =AJ$30 -> DV8 | AK84: =AK$30 -> DL8 | AL84: =AL$30 -> K | AM84: =AM$30 -> !C! | AN84: =AN$30 -> 0 | AO84: =AO$30 -> 0 | AP84: =AP$30 -> 0 | ... AR84: =AR$30 -> 0
A85: =A58 -> #REF! | B85: =SUM(Z85:AL85) -> #REF! | C85: =(VLOOKUP(AD$30,pauzetoeslag,$A$29,FALSE)*H85)+(VLOOKUP(AE$30,pauzetoeslag,$A$29,FALSE)*I85) -> #REF! | D85: =COUNTIF(#REF!,Dienstverdeling!D$30)+COUNTIF(#REF!,Dienstverdeling!D$30)+COUNTIF(#REF!,Dienstverdeling!D$30)+COUNTIF(#REF!,Dienstverdeling!D$30)+COUNTIF(#REF!,Dienstverdeling!D$30)+COUNTIF(#REF!,Dienstverdeling!D$30)+COUNTIF(#REF!,Dienstverdeling!D$30)+COUNTIF(#REF!,Dienstverdeling!D$30) -> #REF! | E85: =COUNTIF(#REF!,Dienstverdeling!E$30)+COUNTIF(#REF!,Dienstverdeling!E$30)+COUNTIF(#REF!,Dienstverdeling!E$30)+COUNTIF(#REF!,Dienstverdeling!E$30)+COUNTIF(#REF!,Dienstverdeling!E$30)+COUNTIF(#REF!,Dienstverdeling!E$30)+COUNTIF(#REF!,Dienstverdeling!E$30)+COUNTIF(#REF!,Dienstverdeling!E$30) -> #REF! | F85: =COUNTIF(#REF!,Dienstverdeling!F$30)+COUNTIF(#REF!,Dienstverdeling!F$30)+COUNTIF(#REF!,Dienstverdeling!F$30)+COUNTIF(#REF!,Dienstverdeling!F$30)+COUNTIF(#REF!,Dienstverdeling!F$30)+COUNTIF(#REF!,Dienstverdeling!F$30)+COUNTIF(#REF!,Dienstverdeling!F$30)+COUNTIF(#REF!,Dienstverdeling!F$30) -> #REF! | G85: =COUNTIF(#REF!,Dienstverdeling!G$30)+COUNTIF(#REF!,Dienstverdeling!G$30)+COUNTIF(#REF!,Dienstverdeling!G$30)+COUNTIF(#REF!,Dienstverdeling!G$30)+COUNTIF(#REF!,Dienstverdeling!G$30)+COUNTIF(#REF!,Dienstverdeling!G$30)+COUNTIF(#REF!,Dienstverdeling!G$30)+COUNTIF(#REF!,Dienstverdeling!G$30) -> #REF! | H85: =COUNTIF(#REF!,Dienstverdeling!H$30)+COUNTIF(#REF!,Dienstverdeling!H$30)+COUNTIF(#REF!,Dienstverdeling!H$30)+COUNTIF(#REF!,Dienstverdeling!H$30)+COUNTIF(#REF!,Dienstverdeling!H$30)+COUNTIF(#REF!,Dienstverdeling!H$30)+COUNTIF(#REF!,Dienstverdeling!H$30)+COUNTIF(#REF!,Dienstverdeling!H$30) -> #REF! | I85: =COUNTIF(#REF!,Dienstverdeling!I$30)+COUNTIF(#REF!,Dienstverdeling!I$30)+COUNTIF(#REF!,Dienstverdeling!I$30)+COUNTIF(#REF!,Dienstverdeling!I$30)+COUNTIF(#REF!,Dienstverdeling!I$30)+COUNTIF(#REF!,Dienstverdeling!I$30)+COUNTIF(#REF!,Dienstverdeling!I$30)+COUNTIF(#REF!,Dienstverdeling!I$30) -> #REF! | J85: =COUNTIF(#REF!,Dienstverdeling!J$30)+COUNTIF(#REF!,Dienstverdeling!J$30)+COUNTIF(#REF!,Dienstverdeling!J$30)+COUNTIF(#REF!,Dienstverdeling!J$30)+COUNTIF(#REF!,Dienstverdeling!J$30)+COUNTIF(#REF!,Dienstverdeling!J$30)+COUNTIF(#REF!,Dienstverdeling!J$30)+COUNTIF(#REF!,Dienstverdeling!J$30) -> #REF! | K85: =COUNTIF(#REF!,Dienstverdeling!K$30)+COUNTIF(#REF!,Dienstverdeling!K$30)+COUNTIF(#REF!,Dienstverdeling!K$30)+COUNTIF(#REF!,Dienstverdeling!K$30)+COUNTIF(#REF!,Dienstverdeling!K$30)+COUNTIF(#REF!,Dienstverdeling!K$30)+COUNTIF(#REF!,Dienstverdeling!K$30)+COUNTIF(#REF!,Dienstverdeling!K$30) -> #REF! | ... W85: =COUNTIF(#REF!,Dienstverdeling!W$30)+COUNTIF(#REF!,Dienstverdeling!W$30)+COUNTIF(#REF!,Dienstverdeling!W$30)+COUNTIF(#REF!,Dienstverdeling!W$30)+COUNTIF(#REF!,Dienstverdeling!W$30)+COUNTIF(#REF!,Dienstverdeling!W$30)+COUNTIF(#REF!,Dienstverdeling!W$30)+COUNTIF(#REF!,Dienstverdeling!W$30) -> #REF! | X85: =A83 -> 8 | Y85: =(H85+I85)*0.5 -> #REF! | Z85: =(VLOOKUP(Z$30,tarieftoeslag,$X85,FALSE)*D85) -> #REF! | AA85: =(VLOOKUP(AA$30,tarieftoeslag,$X85,FALSE)*E85) -> #REF! | AB85: =(VLOOKUP(AB$30,tarieftoeslag,$X85,FALSE)*F85) -> #REF! | AC85: =(VLOOKUP(AC$30,tarieftoeslag,$X85,FALSE)*G85) -> #REF! | AD85: =(VLOOKUP(AD$30,tarieftoeslag,$X85,FALSE)*H85) -> #REF! | AE85: =(VLOOKUP(AE$30,tarieftoeslag,$X85,FALSE)*I85) -> #REF! | AF85: =(VLOOKUP(AF$30,tarieftoeslag,$X85,FALSE)*J85) -> #REF! | AG85: =(VLOOKUP(AG$30,tarieftoeslag,$X85,FALSE)*K85) -> #REF! | AI85: =(VLOOKUP(AI$30,tarieftoeslag,$X85,FALSE)*M85) -> #REF! | AJ85: =(VLOOKUP(AJ$30,tarieftoeslag,$X85,FALSE)*N85) -> #REF! | AK85: =(VLOOKUP(AK$30,tarieftoeslag,$X85,FALSE)*O85) -> #REF! | AL85: =(VLOOKUP(AL$30,tarieftoeslag,$X85,FALSE)*P85) -> #REF! | AM85: =(VLOOKUP(AM$30,tarieftoeslag,$X85,FALSE)*Q85) -> #REF! | AN85: =(VLOOKUP(AN$30,tarieftoeslag,$X85,FALSE)*R85) -> #REF! | AO85: =(VLOOKUP(AO$30,tarieftoeslag,$X85,FALSE)*S85) -> #REF! | AP85: =(VLOOKUP(AP$30,tarieftoeslag,$X85,FALSE)*T85) -> #REF! | ... AR85: =(VLOOKUP(AR$30,tarieftoeslag,$X85,FALSE)*V85) -> #REF!
A86: =A59 -> #REF! | B86: =SUM(Z86:AL86) -> #REF! | C86: =(VLOOKUP(AD$30,pauzetoeslag,$A$29,FALSE)*H86)+(VLOOKUP(AE$30,pauzetoeslag,$A$29,FALSE)*I86) -> #REF! | D86: =COUNTIF(#REF!,Dienstverdeling!D$30)+COUNTIF(#REF!,Dienstverdeling!D$30)+COUNTIF(#REF!,Dienstverdeling!D$30)+COUNTIF(#REF!,Dienstverdeling!D$30)+COUNTIF(#REF!,Dienstverdeling!D$30)+COUNTIF(#REF!,Dienstverdeling!D$30)+COUNTIF(#REF!,Dienstverdeling!D$30)+COUNTIF(#REF!,Dienstverdeling!D$30) -> #REF! | E86: =COUNTIF(#REF!,Dienstverdeling!E$30)+COUNTIF(#REF!,Dienstverdeling!E$30)+COUNTIF(#REF!,Dienstverdeling!E$30)+COUNTIF(#REF!,Dienstverdeling!E$30)+COUNTIF(#REF!,Dienstverdeling!E$30)+COUNTIF(#REF!,Dienstverdeling!E$30)+COUNTIF(#REF!,Dienstverdeling!E$30)+COUNTIF(#REF!,Dienstverdeling!E$30) -> #REF! | F86: =COUNTIF(#REF!,Dienstverdeling!F$30)+COUNTIF(#REF!,Dienstverdeling!F$30)+COUNTIF(#REF!,Dienstverdeling!F$30)+COUNTIF(#REF!,Dienstverdeling!F$30)+COUNTIF(#REF!,Dienstverdeling!F$30)+COUNTIF(#REF!,Dienstverdeling!F$30)+COUNTIF(#REF!,Dienstverdeling!F$30)+COUNTIF(#REF!,Dienstverdeling!F$30) -> #REF! | G86: =COUNTIF(#REF!,Dienstverdeling!G$30)+COUNTIF(#REF!,Dienstverdeling!G$30)+COUNTIF(#REF!,Dienstverdeling!G$30)+COUNTIF(#REF!,Dienstverdeling!G$30)+COUNTIF(#REF!,Dienstverdeling!G$30)+COUNTIF(#REF!,Dienstverdeling!G$30)+COUNTIF(#REF!,Dienstverdeling!G$30)+COUNTIF(#REF!,Dienstverdeling!G$30) -> #REF! | H86: =COUNTIF(#REF!,Dienstverdeling!H$30)+COUNTIF(#REF!,Dienstverdeling!H$30)+COUNTIF(#REF!,Dienstverdeling!H$30)+COUNTIF(#REF!,Dienstverdeling!H$30)+COUNTIF(#REF!,Dienstverdeling!H$30)+COUNTIF(#REF!,Dienstverdeling!H$30)+COUNTIF(#REF!,Dienstverdeling!H$30)+COUNTIF(#REF!,Dienstverdeling!H$30) -> #REF! | I86: =COUNTIF(#REF!,Dienstverdeling!I$30)+COUNTIF(#REF!,Dienstverdeling!I$30)+COUNTIF(#REF!,Dienstverdeling!I$30)+COUNTIF(#REF!,Dienstverdeling!I$30)+COUNTIF(#REF!,Dienstverdeling!I$30)+COUNTIF(#REF!,Dienstverdeling!I$30)+COUNTIF(#REF!,Dienstverdeling!I$30)+COUNTIF(#REF!,Dienstverdeling!I$30) -> #REF! | J86: =COUNTIF(#REF!,Dienstverdeling!J$30)+COUNTIF(#REF!,Dienstverdeling!J$30)+COUNTIF(#REF!,Dienstverdeling!J$30)+COUNTIF(#REF!,Dienstverdeling!J$30)+COUNTIF(#REF!,Dienstverdeling!J$30)+COUNTIF(#REF!,Dienstverdeling!J$30)+COUNTIF(#REF!,Dienstverdeling!J$30)+COUNTIF(#REF!,Dienstverdeling!J$30) -> #REF! | K86: =COUNTIF(#REF!,Dienstverdeling!K$30)+COUNTIF(#REF!,Dienstverdeling!K$30)+COUNTIF(#REF!,Dienstverdeling!K$30)+COUNTIF(#REF!,Dienstverdeling!K$30)+COUNTIF(#REF!,Dienstverdeling!K$30)+COUNTIF(#REF!,Dienstverdeling!K$30)+COUNTIF(#REF!,Dienstverdeling!K$30)+COUNTIF(#REF!,Dienstverdeling!K$30) -> #REF! | ... W86: =COUNTIF(#REF!,Dienstverdeling!W$30)+COUNTIF(#REF!,Dienstverdeling!W$30)+COUNTIF(#REF!,Dienstverdeling!W$30)+COUNTIF(#REF!,Dienstverdeling!W$30)+COUNTIF(#REF!,Dienstverdeling!W$30)+COUNTIF(#REF!,Dienstverdeling!W$30)+COUNTIF(#REF!,Dienstverdeling!W$30)+COUNTIF(#REF!,Dienstverdeling!W$30) -> #REF! | X86: =X85 -> 8 | Y86: =(H86+I86)*0.5 -> #REF! | Z86: =(VLOOKUP(Z$30,tarieftoeslag,$X86,FALSE)*D86) -> #REF! | AA86: =(VLOOKUP(AA$30,tarieftoeslag,$X86,FALSE)*E86) -> #REF! | AB86: =(VLOOKUP(AB$30,tarieftoeslag,$X86,FALSE)*F86) -> #REF! | AC86: =(VLOOKUP(AC$30,tarieftoeslag,$X86,FALSE)*G86) -> #REF! | AD86: =(VLOOKUP(AD$30,tarieftoeslag,$X86,FALSE)*H86) -> #REF! | AE86: =(VLOOKUP(AE$30,tarieftoeslag,$X86,FALSE)*I86) -> #REF! | AF86: =(VLOOKUP(AF$30,tarieftoeslag,$X86,FALSE)*J86) -> #REF! | AG86: =(VLOOKUP(AG$30,tarieftoeslag,$X86,FALSE)*K86) -> #REF! | AI86: =(VLOOKUP(AI$30,tarieftoeslag,$X86,FALSE)*M86) -> #REF! | AJ86: =(VLOOKUP(AJ$30,tarieftoeslag,$X86,FALSE)*N86) -> #REF! | AK86: =(VLOOKUP(AK$30,tarieftoeslag,$X86,FALSE)*O86) -> #REF! | AL86: =(VLOOKUP(AL$30,tarieftoeslag,$X86,FALSE)*P86) -> #REF! | AM86: =(VLOOKUP(AM$30,tarieftoeslag,$X86,FALSE)*Q86) -> #REF! | AN86: =(VLOOKUP(AN$30,tarieftoeslag,$X86,FALSE)*R86) -> #REF! | AO86: =(VLOOKUP(AO$30,tarieftoeslag,$X86,FALSE)*S86) -> #REF! | AP86: =(VLOOKUP(AP$30,tarieftoeslag,$X86,FALSE)*T86) -> #REF! | ... AR86: =(VLOOKUP(AR$30,tarieftoeslag,$X86,FALSE)*V86) -> #REF!
A87: =A60 -> #REF! | B87: =SUM(Z87:AL87) -> #REF! | C87: =(VLOOKUP(AD$30,pauzetoeslag,$A$29,FALSE)*H87)+(VLOOKUP(AE$30,pauzetoeslag,$A$29,FALSE)*I87) -> #REF! | D87: =COUNTIF(#REF!,Dienstverdeling!D$30)+COUNTIF(#REF!,Dienstverdeling!D$30)+COUNTIF(#REF!,Dienstverdeling!D$30)+COUNTIF(#REF!,Dienstverdeling!D$30)+COUNTIF(#REF!,Dienstverdeling!D$30)+COUNTIF(#REF!,Dienstverdeling!D$30)+COUNTIF(#REF!,Dienstverdeling!D$30)+COUNTIF(#REF!,Dienstverdeling!D$30) -> #REF! | E87: =COUNTIF(#REF!,Dienstverdeling!E$30)+COUNTIF(#REF!,Dienstverdeling!E$30)+COUNTIF(#REF!,Dienstverdeling!E$30)+COUNTIF(#REF!,Dienstverdeling!E$30)+COUNTIF(#REF!,Dienstverdeling!E$30)+COUNTIF(#REF!,Dienstverdeling!E$30)+COUNTIF(#REF!,Dienstverdeling!E$30)+COUNTIF(#REF!,Dienstverdeling!E$30) -> #REF! | F87: =COUNTIF(#REF!,Dienstverdeling!F$30)+COUNTIF(#REF!,Dienstverdeling!F$30)+COUNTIF(#REF!,Dienstverdeling!F$30)+COUNTIF(#REF!,Dienstverdeling!F$30)+COUNTIF(#REF!,Dienstverdeling!F$30)+COUNTIF(#REF!,Dienstverdeling!F$30)+COUNTIF(#REF!,Dienstverdeling!F$30)+COUNTIF(#REF!,Dienstverdeling!F$30) -> #REF! | G87: =COUNTIF(#REF!,Dienstverdeling!G$30)+COUNTIF(#REF!,Dienstverdeling!G$30)+COUNTIF(#REF!,Dienstverdeling!G$30)+COUNTIF(#REF!,Dienstverdeling!G$30)+COUNTIF(#REF!,Dienstverdeling!G$30)+COUNTIF(#REF!,Dienstverdeling!G$30)+COUNTIF(#REF!,Dienstverdeling!G$30)+COUNTIF(#REF!,Dienstverdeling!G$30) -> #REF! | H87: =COUNTIF(#REF!,Dienstverdeling!H$30)+COUNTIF(#REF!,Dienstverdeling!H$30)+COUNTIF(#REF!,Dienstverdeling!H$30)+COUNTIF(#REF!,Dienstverdeling!H$30)+COUNTIF(#REF!,Dienstverdeling!H$30)+COUNTIF(#REF!,Dienstverdeling!H$30)+COUNTIF(#REF!,Dienstverdeling!H$30)+COUNTIF(#REF!,Dienstverdeling!H$30) -> #REF! | I87: =COUNTIF(#REF!,Dienstverdeling!I$30)+COUNTIF(#REF!,Dienstverdeling!I$30)+COUNTIF(#REF!,Dienstverdeling!I$30)+COUNTIF(#REF!,Dienstverdeling!I$30)+COUNTIF(#REF!,Dienstverdeling!I$30)+COUNTIF(#REF!,Dienstverdeling!I$30)+COUNTIF(#REF!,Dienstverdeling!I$30)+COUNTIF(#REF!,Dienstverdeling!I$30) -> #REF! | J87: =COUNTIF(#REF!,Dienstverdeling!J$30)+COUNTIF(#REF!,Dienstverdeling!J$30)+COUNTIF(#REF!,Dienstverdeling!J$30)+COUNTIF(#REF!,Dienstverdeling!J$30)+COUNTIF(#REF!,Dienstverdeling!J$30)+COUNTIF(#REF!,Dienstverdeling!J$30)+COUNTIF(#REF!,Dienstverdeling!J$30)+COUNTIF(#REF!,Dienstverdeling!J$30) -> #REF! | K87: =COUNTIF(#REF!,Dienstverdeling!K$30)+COUNTIF(#REF!,Dienstverdeling!K$30)+COUNTIF(#REF!,Dienstverdeling!K$30)+COUNTIF(#REF!,Dienstverdeling!K$30)+COUNTIF(#REF!,Dienstverdeling!K$30)+COUNTIF(#REF!,Dienstverdeling!K$30)+COUNTIF(#REF!,Dienstverdeling!K$30)+COUNTIF(#REF!,Dienstverdeling!K$30) -> #REF! | ... W87: =COUNTIF(#REF!,Dienstverdeling!W$30)+COUNTIF(#REF!,Dienstverdeling!W$30)+COUNTIF(#REF!,Dienstverdeling!W$30)+COUNTIF(#REF!,Dienstverdeling!W$30)+COUNTIF(#REF!,Dienstverdeling!W$30)+COUNTIF(#REF!,Dienstverdeling!W$30)+COUNTIF(#REF!,Dienstverdeling!W$30)+COUNTIF(#REF!,Dienstverdeling!W$30) -> #REF! | X87: =X86 -> 8 | Y87: =(H87+I87)*0.5 -> #REF! | Z87: =(VLOOKUP(Z$30,tarieftoeslag,$X87,FALSE)*D87) -> #REF! | AA87: =(VLOOKUP(AA$30,tarieftoeslag,$X87,FALSE)*E87) -> #REF! | AB87: =(VLOOKUP(AB$30,tarieftoeslag,$X87,FALSE)*F87) -> #REF! | AC87: =(VLOOKUP(AC$30,tarieftoeslag,$X87,FALSE)*G87) -> #REF! | AD87: =(VLOOKUP(AD$30,tarieftoeslag,$X87,FALSE)*H87) -> #REF! | AE87: =(VLOOKUP(AE$30,tarieftoeslag,$X87,FALSE)*I87) -> #REF! | AF87: =(VLOOKUP(AF$30,tarieftoeslag,$X87,FALSE)*J87) -> #REF! | AG87: =(VLOOKUP(AG$30,tarieftoeslag,$X87,FALSE)*K87) -> #REF! | AI87: =(VLOOKUP(AI$30,tarieftoeslag,$X87,FALSE)*M87) -> #REF! | AJ87: =(VLOOKUP(AJ$30,tarieftoeslag,$X87,FALSE)*N87) -> #REF! | AK87: =(VLOOKUP(AK$30,tarieftoeslag,$X87,FALSE)*O87) -> #REF! | AL87: =(VLOOKUP(AL$30,tarieftoeslag,$X87,FALSE)*P87) -> #REF! | AM87: =(VLOOKUP(AM$30,tarieftoeslag,$X87,FALSE)*Q87) -> #REF! | AN87: =(VLOOKUP(AN$30,tarieftoeslag,$X87,FALSE)*R87) -> #REF! | AO87: =(VLOOKUP(AO$30,tarieftoeslag,$X87,FALSE)*S87) -> #REF! | AP87: =(VLOOKUP(AP$30,tarieftoeslag,$X87,FALSE)*T87) -> #REF! | ... AR87: =(VLOOKUP(AR$30,tarieftoeslag,$X87,FALSE)*V87) -> #REF!
A88: =A61 -> #REF! | B88: =SUM(Z88:AL88) -> #REF! | C88: =(VLOOKUP(AD$30,pauzetoeslag,$A$29,FALSE)*H88)+(VLOOKUP(AE$30,pauzetoeslag,$A$29,FALSE)*I88) -> #REF! | D88: =COUNTIF(#REF!,Dienstverdeling!D$30)+COUNTIF(#REF!,Dienstverdeling!D$30)+COUNTIF(#REF!,Dienstverdeling!D$30)+COUNTIF(#REF!,Dienstverdeling!D$30)+COUNTIF(#REF!,Dienstverdeling!D$30)+COUNTIF(#REF!,Dienstverdeling!D$30)+COUNTIF(#REF!,Dienstverdeling!D$30)+COUNTIF(#REF!,Dienstverdeling!D$30) -> #REF! | E88: =COUNTIF(#REF!,Dienstverdeling!E$30)+COUNTIF(#REF!,Dienstverdeling!E$30)+COUNTIF(#REF!,Dienstverdeling!E$30)+COUNTIF(#REF!,Dienstverdeling!E$30)+COUNTIF(#REF!,Dienstverdeling!E$30)+COUNTIF(#REF!,Dienstverdeling!E$30)+COUNTIF(#REF!,Dienstverdeling!E$30)+COUNTIF(#REF!,Dienstverdeling!E$30) -> #REF! | F88: =COUNTIF(#REF!,Dienstverdeling!F$30)+COUNTIF(#REF!,Dienstverdeling!F$30)+COUNTIF(#REF!,Dienstverdeling!F$30)+COUNTIF(#REF!,Dienstverdeling!F$30)+COUNTIF(#REF!,Dienstverdeling!F$30)+COUNTIF(#REF!,Dienstverdeling!F$30)+COUNTIF(#REF!,Dienstverdeling!F$30)+COUNTIF(#REF!,Dienstverdeling!F$30) -> #REF! | G88: =COUNTIF(#REF!,Dienstverdeling!G$30)+COUNTIF(#REF!,Dienstverdeling!G$30)+COUNTIF(#REF!,Dienstverdeling!G$30)+COUNTIF(#REF!,Dienstverdeling!G$30)+COUNTIF(#REF!,Dienstverdeling!G$30)+COUNTIF(#REF!,Dienstverdeling!G$30)+COUNTIF(#REF!,Dienstverdeling!G$30)+COUNTIF(#REF!,Dienstverdeling!G$30) -> #REF! | H88: =COUNTIF(#REF!,Dienstverdeling!H$30)+COUNTIF(#REF!,Dienstverdeling!H$30)+COUNTIF(#REF!,Dienstverdeling!H$30)+COUNTIF(#REF!,Dienstverdeling!H$30)+COUNTIF(#REF!,Dienstverdeling!H$30)+COUNTIF(#REF!,Dienstverdeling!H$30)+COUNTIF(#REF!,Dienstverdeling!H$30)+COUNTIF(#REF!,Dienstverdeling!H$30) -> #REF! | I88: =COUNTIF(#REF!,Dienstverdeling!I$30)+COUNTIF(#REF!,Dienstverdeling!I$30)+COUNTIF(#REF!,Dienstverdeling!I$30)+COUNTIF(#REF!,Dienstverdeling!I$30)+COUNTIF(#REF!,Dienstverdeling!I$30)+COUNTIF(#REF!,Dienstverdeling!I$30)+COUNTIF(#REF!,Dienstverdeling!I$30)+COUNTIF(#REF!,Dienstverdeling!I$30) -> #REF! | J88: =COUNTIF(#REF!,Dienstverdeling!J$30)+COUNTIF(#REF!,Dienstverdeling!J$30)+COUNTIF(#REF!,Dienstverdeling!J$30)+COUNTIF(#REF!,Dienstverdeling!J$30)+COUNTIF(#REF!,Dienstverdeling!J$30)+COUNTIF(#REF!,Dienstverdeling!J$30)+COUNTIF(#REF!,Dienstverdeling!J$30)+COUNTIF(#REF!,Dienstverdeling!J$30) -> #REF! | K88: =COUNTIF(#REF!,Dienstverdeling!K$30)+COUNTIF(#REF!,Dienstverdeling!K$30)+COUNTIF(#REF!,Dienstverdeling!K$30)+COUNTIF(#REF!,Dienstverdeling!K$30)+COUNTIF(#REF!,Dienstverdeling!K$30)+COUNTIF(#REF!,Dienstverdeling!K$30)+COUNTIF(#REF!,Dienstverdeling!K$30)+COUNTIF(#REF!,Dienstverdeling!K$30) -> #REF! | ... W88: =COUNTIF(#REF!,Dienstverdeling!W$30)+COUNTIF(#REF!,Dienstverdeling!W$30)+COUNTIF(#REF!,Dienstverdeling!W$30)+COUNTIF(#REF!,Dienstverdeling!W$30)+COUNTIF(#REF!,Dienstverdeling!W$30)+COUNTIF(#REF!,Dienstverdeling!W$30)+COUNTIF(#REF!,Dienstverdeling!W$30)+COUNTIF(#REF!,Dienstverdeling!W$30) -> #REF! | X88: =X87 -> 8 | Y88: =(H88+I88)*0.5 -> #REF! | Z88: =(VLOOKUP(Z$30,tarieftoeslag,$X88,FALSE)*D88) -> #REF! | AA88: =(VLOOKUP(AA$30,tarieftoeslag,$X88,FALSE)*E88) -> #REF! | AB88: =(VLOOKUP(AB$30,tarieftoeslag,$X88,FALSE)*F88) -> #REF! | AC88: =(VLOOKUP(AC$30,tarieftoeslag,$X88,FALSE)*G88) -> #REF! | AD88: =(VLOOKUP(AD$30,tarieftoeslag,$X88,FALSE)*H88) -> #REF! | AE88: =(VLOOKUP(AE$30,tarieftoeslag,$X88,FALSE)*I88) -> #REF! | AF88: =(VLOOKUP(AF$30,tarieftoeslag,$X88,FALSE)*J88) -> #REF! | AG88: =(VLOOKUP(AG$30,tarieftoeslag,$X88,FALSE)*K88) -> #REF! | AI88: =(VLOOKUP(AI$30,tarieftoeslag,$X88,FALSE)*M88) -> #REF! | AJ88: =(VLOOKUP(AJ$30,tarieftoeslag,$X88,FALSE)*N88) -> #REF! | AK88: =(VLOOKUP(AK$30,tarieftoeslag,$X88,FALSE)*O88) -> #REF! | AL88: =(VLOOKUP(AL$30,tarieftoeslag,$X88,FALSE)*P88) -> #REF! | AM88: =(VLOOKUP(AM$30,tarieftoeslag,$X88,FALSE)*Q88) -> #REF! | AN88: =(VLOOKUP(AN$30,tarieftoeslag,$X88,FALSE)*R88) -> #REF! | AO88: =(VLOOKUP(AO$30,tarieftoeslag,$X88,FALSE)*S88) -> #REF! | AP88: =(VLOOKUP(AP$30,tarieftoeslag,$X88,FALSE)*T88) -> #REF! | ... AR88: =(VLOOKUP(AR$30,tarieftoeslag,$X88,FALSE)*V88) -> #REF!
