Workbook

Sheet Toelichting
A1: Toelichting Rekenblad (Stappenplan)
A2: De prijzen worden exclusief BTW uitgevraagd in twee verschillende tabbladen. Opdrachtnemer wordt beoordeeld op de totaalprijs van de twee prijzenbladen waarin (fictieve) reizen zijn uitgezet.
A3: De reizen zijn onderverdeeld in reizen tot en met zestig personen (Blad 1), waarbij maximaal één bus kan worden ingezet en
A4: reizen vanaf eenenzestig personen (Blad 2), waarbij maximaal twee bussen kunnen worden ingezet.
A5: Het aantal personen en het aantal retour kilometers zijn al ingevuld. Opdrachtnemer dient zelf het in aantal in te zetten uren in te vullen.
A6: Opdrachtnemer bepaalt zelf of de bus tussen vertrek en terugkomst op de bestemmingslocatie blijft, of weer retour gaat en of al dan niet het uurtarief in rekening wordt gebracht.
A7: Opdrachtnemer vult uitsluitend de geel gearceerde velden in.
A9: Tabel 1 Blad 1
A10: Opdrachtnemer vult in Tabel 1 in Blad 1 per Bustype het volgende in:
A11: Het Minimumtarief (kolom D) per bustype; cel D3 tot en met cel D10
A12: Prijs per uur (kolom E) per bustype; cel E 3 tot en met cel E10
A13: Prijs per KM (kolom F) per bustype; cel F3 tot en met cel F10
... A54: Tabel 4 vormt de Totaalprijs exclusief BTW waarop Opdrachtnemer wordt beoordeeld.

Sheet Blad1
A1: TABEL 1
A2: Bustype | B2: Max. aantal personen | D2: Minimumtarief | E2: Prijs per uur | F2: Prijs per KM
A3: 1 | B3: Bustarief type 1 (1 t/m 8 pers) | D3: 0 | E3: 0 | F3: 0
A4: 2 | B4: Bustarief type 2 (9 t/m 23 pers) | D4: 0 | E4: 0 | F4: 0
A5: 3 | B5: Bustarief type 3 (24 t/m 50 pers) | D5: 0 | E5: 0 | F5: 0
A6: 4 | B6: Bustarief type 4 (51 t/m 54 pers) | D6: 0 | E6: 0 | F6: 0
A7: 5 | B7: Bustarief type 5 (55 t/m 58 pers) | D7: 0 | E7: 0 | F7: 0
A8: 6 | B8: Bustarief type 6 (59 t/m 62 pers) | D8: 0 | E8: 0 | F8: 0
A9: 7 | B9: Bustarief type 7 (63 t/m 75 pers) | D9: 0 | E9: 0 | F9: 0
A10: 8 | B10: Bustarief type 8 (76 t/m 90 pers) | D10: 0 | E10: 0 | F10: 0
A13: TABEL 2
A14: Reizen t/m 60 personen
A15: Vertreklocatie | B15: Bestemmingslocatie | C15: Periode | D15: Aantal te vervoeren personen | E15: Vertrektijd school | F15: Aankomst (terug op school) | G15: Aantal km | H15: Retour Aantal km | I15: Bus moet hele dag blijven | J15: Bustype | K15: Minimumtarief | L15: Inzet uren | M15: € Per uur | N15: € Per KM | O15: Totaal € uren | P15: Totaal € KM | Q15: Totaal € per rit excl. BTW
A16: Emmen | B16: Den Haag | C16: Januari | D16: 50 | E16: 0.32291667 | F16: 0.78125 | G16: 227 | H16: =SUM(G16*2) -> 454 | I16: Ja | K16: =IFERROR(VLOOKUP($J16,$A$3:$F$10,4,FALSE),"0") -> 0 | M16: =IFERROR(VLOOKUP($J16,$A$3:$F$10,5,FALSE),"0") -> 0 | N16: =IFERROR(VLOOKUP($J16,$A$3:$F$10,6,FALSE),"0") -> 0 | O16: =SUM(L16*M16) -> 0 | P16: =SUM(G16*N16) -> 0 | Q16: =IF((O16+P16)<K16,K16,O16+P16) -> 0
A17: Meppel | B17: Arnhem | C17: Januari | D17: 60 | E17: 08.30 | F17: 0.66666667 | G17: 93 | H17: =SUM(G17*2) -> 186 | I17: Nee | K17: =IFERROR(VLOOKUP($J17,$A$3:$F$10,4,FALSE),"0") -> 0 | M17: =IFERROR(VLOOKUP($J17,$A$3:$F$10,5,FALSE),"0") -> 0 | N17: =IFERROR(VLOOKUP($J17,$A$3:$F$10,6,FALSE),"0") -> 0 | O17: =SUM(L17*M17) -> 0 | P17: =SUM(G17*N17) -> 0 | Q17: =IF((O17+P17)<K17,K17,O17+P17) -> 0
A18: Meppel | B18: Nijeveen | C18: Januari | D18: 25 | E18: 10.00 | F18: 15.00 | G18: 5 | H18: =SUM(G18*2) -> 10 | I18: Nee | K18: =IFERROR(VLOOKUP($J18,$A$3:$F$10,4,FALSE),"0") -> 0 | M18: =IFERROR(VLOOKUP($J18,$A$3:$F$10,5,FALSE),"0") -> 0 | N18: =IFERROR(VLOOKUP($J18,$A$3:$F$10,6,FALSE),"0") -> 0 | O18: =SUM(L18*M18) -> 0 | P18: =SUM(G18*N18) -> 0 | Q18: =IF((O18+P18)<K18,K18,O18+P18) -> 0
A19: Meppel | B19: Nijeveen | C19: Januari | D19: 25 | E19: 10.00 | F19: 15.00 | G19: 5 | H19: =SUM(G19*2) -> 10 | I19: Nee | K19: =IFERROR(VLOOKUP($J19,$A$3:$F$10,4,FALSE),"0") -> 0 | M19: =IFERROR(VLOOKUP($J19,$A$3:$F$10,5,FALSE),"0") -> 0 | N19: =IFERROR(VLOOKUP($J19,$A$3:$F$10,6,FALSE),"0") -> 0 | O19: =SUM(L19*M19) -> 0 | P19: =SUM(G19*N19) -> 0 | Q19: =IF((O19+P19)<K19,K19,O19+P19) -> 0
A20: Meppel | B20: Nijeveen | C20: Januari | D20: 25 | E20: 10.00 | F20: 15.00 | G20: 5 | H20: =SUM(G20*2) -> 10 | I20: Nee | K20: =IFERROR(VLOOKUP($J20,$A$3:$F$10,4,FALSE),"0") -> 0 | M20: =IFERROR(VLOOKUP($J20,$A$3:$F$10,5,FALSE),"0") -> 0 | N20: =IFERROR(VLOOKUP($J20,$A$3:$F$10,6,FALSE),"0") -> 0 | O20: =SUM(L20*M20) -> 0 | P20: =SUM(G20*N20) -> 0 | Q20: =IF((O20+P20)<K20,K20,O20+P20) -> 0
A21: Emmen | B21: Emden | C21: Februari | D21: 40 | E21: 0.32291667 | F21: 0.72916667 | G21: 220 | H21: =SUM(G21*2) -> 440 | I21: Nee | K21: =IFERROR(VLOOKUP($J21,$A$3:$F$10,4,FALSE),"0") -> 0 | M21: =IFERROR(VLOOKUP($J21,$A$3:$F$10,5,FALSE),"0") -> 0 | N21: =IFERROR(VLOOKUP($J21,$A$3:$F$10,6,FALSE),"0") -> 0 | O21: =SUM(L21*M21) -> 0 | P21: =SUM(G21*N21) -> 0 | Q21: =IF((O21+P21)<K21,K21,O21+P21) -> 0
A22: Wolvega | B22: Meppel | C22: Februari | D22: 20 | E22: 0.375 | F22: 15.00 | G22: 29 | H22: =SUM(G22*2) -> 58 | I22: Nee | K22: =IFERROR(VLOOKUP($J22,$A$3:$F$10,4,FALSE),"0") -> 0 | M22: =IFERROR(VLOOKUP($J22,$A$3:$F$10,5,FALSE),"0") -> 0 | N22: =IFERROR(VLOOKUP($J22,$A$3:$F$10,6,FALSE),"0") -> 0 | O22: =SUM(L22*M22) -> 0 | P22: =SUM(G22*N22) -> 0 | Q22: =IF((O22+P22)<K22,K22,O22+P22) -> 0
A23: Wolvega | B23: Meppel | C23: Februari | D23: 15 | E23: 0.375 | F23: 15.00 | G23: 29 | H23: =SUM(G23*2) -> 58 | I23: Nee | K23: =IFERROR(VLOOKUP($J23,$A$3:$F$10,4,FALSE),"0") -> 0 | M23: =IFERROR(VLOOKUP($J23,$A$3:$F$10,5,FALSE),"0") -> 0 | N23: =IFERROR(VLOOKUP($J23,$A$3:$F$10,6,FALSE),"0") -> 0 | O23: =SUM(L23*M23) -> 0 | P23: =SUM(G23*N23) -> 0 | Q23: =IF((O23+P23)<K23,K23,O23+P23) -> 0
A24: Meppel | B24: Assen | C24: Februari | D24: 50 | E24: 08.30 | F24: 0.625 | G24: 51 | H24: =SUM(G24*2) -> 102 | I24: Nee | K24: =IFERROR(VLOOKUP($J24,$A$3:$F$10,4,FALSE),"0") -> 0 | M24: =IFERROR(VLOOKUP($J24,$A$3:$F$10,5,FALSE),"0") -> 0 | N24: =IFERROR(VLOOKUP($J24,$A$3:$F$10,6,FALSE),"0") -> 0 | O24: =SUM(L24*M24) -> 0 | P24: =SUM(G24*N24) -> 0 | Q24: =IF((O24+P24)<K24,K24,O24+P24) -> 0
A25: Emmen | B25: Groningen | C25: Maart | D25: 35 | E25: 0.54166667 | F25: 0.72916667 | G25: 120 | H25: =SUM(G25*2) -> 240 | I25: Nee | K25: =IFERROR(VLOOKUP($J25,$A$3:$F$10,4,FALSE),"0") -> 0 | M25: =IFERROR(VLOOKUP($J25,$A$3:$F$10,5,FALSE),"0") -> 0 | N25: =IFERROR(VLOOKUP($J25,$A$3:$F$10,6,FALSE),"0") -> 0 | O25: =SUM(L25*M25) -> 0 | P25: =SUM(G25*N25) -> 0 | Q25: =IF((O25+P25)<K25,K25,O25+P25) -> 0
A26: Emmen | B26: Veendam | C26: Maart | D26: 20 | E26: 0.35416667 | F26: 0.54166667 | G26: 100 | H26: =SUM(G26*2) -> 200 | I26: Nee | K26: =IFERROR(VLOOKUP($J26,$A$3:$F$10,4,FALSE),"0") -> 0 | M26: =IFERROR(VLOOKUP($J26,$A$3:$F$10,5,FALSE),"0") -> 0 | N26: =IFERROR(VLOOKUP($J26,$A$3:$F$10,6,FALSE),"0") -> 0 | O26: =SUM(L26*M26) -> 0 | P26: =SUM(G26*N26) -> 0 | Q26: =IF((O26+P26)<K26,K26,O26+P26) -> 0
A27: Wolvega | B27: Drachten | C27: Maart | D27: 30 | E27: 0.375 | F27: 15.00 | G27: 34 | H27: =SUM(G27*2) -> 68 | I27: Nee | K27: =IFERROR(VLOOKUP($J27,$A$3:$F$10,4,FALSE),"0") -> 0 | M27: =IFERROR(VLOOKUP($J27,$A$3:$F$10,5,FALSE),"0") -> 0 | N27: =IFERROR(VLOOKUP($J27,$A$3:$F$10,6,FALSE),"0") -> 0 | O27: =SUM(L27*M27) -> 0 | P27: =SUM(G27*N27) -> 0 | Q27: =IF((O27+P27)<K27,K27,O27+P27) -> 0
A28: Wolvega | B28: Havelte | C28: Maart | D28: 15 | E28: 0.375 | F28: 15.00 | G28: 25 | H28: =SUM(G28*2) -> 50 | I28: Nee | K28: =IFERROR(VLOOKUP($J28,$A$3:$F$10,4,FALSE),"0") -> 0 | M28: =IFERROR(VLOOKUP($J28,$A$3:$F$10,5,FALSE),"0") -> 0 | N28: =IFERROR(VLOOKUP($J28,$A$3:$F$10,6,FALSE),"0") -> 0 | O28: =SUM(L28*M28) -> 0 | P28: =SUM(G28*N28) -> 0 | Q28: =IF((O28+P28)<K28,K28,O28+P28) -> 0
A29: Wolvega | B29: Heerenveen | C29: Maart | D29: 20 | E29: 0.375 | F29: 15.00 | G29: 18 | H29: =SUM(G29*2) -> 36 | I29: Nee | K29: =IFERROR(VLOOKUP($J29,$A$3:$F$10,4,FALSE),"0") -> 0 | M29: =IFERROR(VLOOKUP($J29,$A$3:$F$10,5,FALSE),"0") -> 0 | N29: =IFERROR(VLOOKUP($J29,$A$3:$F$10,6,FALSE),"0") -> 0 | O29: =SUM(L29*M29) -> 0 | P29: =SUM(G29*N29) -> 0 | Q29: =IF((O29+P29)<K29,K29,O29+P29) -> 0
A30: Meppel | B30: Veenhuizen | C30: April | D30: 35 | E30: 0.3125 | F30: 0.77083333 | G30: 125 | H30: =SUM(G30*2) -> 250 | I30: Nee | K30: =IFERROR(VLOOKUP($J30,$A$3:$F$10,4,FALSE),"0") -> 0 | M30: =IFERROR(VLOOKUP($J30,$A$3:$F$10,5,FALSE),"0") -> 0 | N30: =IFERROR(VLOOKUP($J30,$A$3:$F$10,6,FALSE),"0") -> 0 | O30: =SUM(L30*M30) -> 0 | P30: =SUM(G30*N30) -> 0 | Q30: =IF((O30+P30)<K30,K30,O30+P30) -> 0
A31: Emmen | B31: Amsterdam | C31: April | D31: 30 | E31: 0.33333333 | F31: 0.75 | G31: 370 | H31: =SUM(G31*2) -> 740 | I31: Nee | K31: =IFERROR(VLOOKUP($J31,$A$3:$F$10,4,FALSE),"0") -> 0 | M31: =IFERROR(VLOOKUP($J31,$A$3:$F$10,5,FALSE),"0") -> 0 | N31: =IFERROR(VLOOKUP($J31,$A$3:$F$10,6,FALSE),"0") -> 0 | O31: =SUM(L31*M31) -> 0 | P31: =SUM(G31*N31) -> 0 | Q31: =IF((O31+P31)<K31,K31,O31+P31) -> 0
A32: Emmen | B32: Veenhuizen | C32: April | D32: 47 | E32: 0.34375 | F32: 0.73958333 | G32: 120 | H32: =SUM(G32*2) -> 240 | I32: Nee | K32: =IFERROR(VLOOKUP($J32,$A$3:$F$10,4,FALSE),"0") -> 0 | M32: =IFERROR(VLOOKUP($J32,$A$3:$F$10,5,FALSE),"0") -> 0 | N32: =IFERROR(VLOOKUP($J32,$A$3:$F$10,6,FALSE),"0") -> 0 | O32: =SUM(L32*M32) -> 0 | P32: =SUM(G32*N32) -> 0 | Q32: =IF((O32+P32)<K32,K32,O32+P32) -> 0
A33: Emmen | B33: Soest | C33: April | D33: 32 | E33: 0.35416667 | F33: 0.71875 | G33: 320 | H33: =SUM(G33*2) -> 640 | I33: Ja | K33: =IFERROR(VLOOKUP($J33,$A$3:$F$10,4,FALSE),"0") -> 0 | M33: =IFERROR(VLOOKUP($J33,$A$3:$F$10,5,FALSE),"0") -> 0 | N33: =IFERROR(VLOOKUP($J33,$A$3:$F$10,6,FALSE),"0") -> 0 | O33: =SUM(L33*M33) -> 0 | P33: =SUM(G33*N33) -> 0 | Q33: =IF((O33+P33)<K33,K33,O33+P33) -> 0
A34: Emmen | B34: Veenhuizen | C34: April | D34: 20 | E34: 0.34375 | F34: 0.73958333 | G34: 120 | H34: =SUM(G34*2) -> 240 | I34: Nee | K34: =IFERROR(VLOOKUP($J34,$A$3:$F$10,4,FALSE),"0") -> 0 | M34: =IFERROR(VLOOKUP($J34,$A$3:$F$10,5,FALSE),"0") -> 0 | N34: =IFERROR(VLOOKUP($J34,$A$3:$F$10,6,FALSE),"0") -> 0 | O34: =SUM(L34*M34) -> 0 | P34: =SUM(G34*N34) -> 0 | Q34: =IF((O34+P34)<K34,K34,O34+P34) -> 0
A35: Emmen | B35: Arnhem | C35: Mei | D35: 28 | E35: 0.30208333 | F35: 0.72916667 | G35: 280 | H35: =SUM(G35*2) -> 560 | I35: Nee | K35: =IFERROR(VLOOKUP($J35,$A$3:$F$10,4,FALSE),"0") -> 0 | M35: =IFERROR(VLOOKUP($J35,$A$3:$F$10,5,FALSE),"0") -> 0 | N35: =IFERROR(VLOOKUP($J35,$A$3:$F$10,6,FALSE),"0") -> 0 | O35: =SUM(L35*M35) -> 0 | P35: =SUM(G35*N35) -> 0 | Q35: =IF((O35+P35)<K35,K35,O35+P35) -> 0
A36: Emmen | B36: Biddinghuizen | C36: Mei | D36: 60 | E36: 0.375 | F36: 0.73958333 | G36: 260 | H36: =SUM(G36*2) -> 520 | I36: Nee | K36: =IFERROR(VLOOKUP($J36,$A$3:$F$10,4,FALSE),"0") -> 0 | M36: =IFERROR(VLOOKUP($J36,$A$3:$F$10,5,FALSE),"0") -> 0 | N36: =IFERROR(VLOOKUP($J36,$A$3:$F$10,6,FALSE),"0") -> 0 | O36: =SUM(L36*M36) -> 0 | P36: =SUM(G36*N36) -> 0 | Q36: =IF((O36+P36)<K36,K36,O36+P36) -> 0
A37: Emmen | B37: Biddinghuizen | C37: Mei | D37: 59 | E37: 0.33333333 | F37: 0.73958333 | G37: 260 | H37: =SUM(G37*2) -> 520 | I37: Nee | K37: =IFERROR(VLOOKUP($J37,$A$3:$F$10,4,FALSE),"0") -> 0 | M37: =IFERROR(VLOOKUP($J37,$A$3:$F$10,5,FALSE),"0") -> 0 | N37: =IFERROR(VLOOKUP($J37,$A$3:$F$10,6,FALSE),"0") -> 0 | O37: =SUM(L37*M37) -> 0 | P37: =SUM(G37*N37) -> 0 | Q37: =IF((O37+P37)<K37,K37,O37+P37) -> 0
A38: Emmen | B38: Amsterdam | C38: Juni | D38: 40 | E38: 0.33333333 | F38: 0.72916667 | G38: 370 | H38: =SUM(G38*2) -> 740 | I38: Ja | K38: =IFERROR(VLOOKUP($J38,$A$3:$F$10,4,FALSE),"0") -> 0 | M38: =IFERROR(VLOOKUP($J38,$A$3:$F$10,5,FALSE),"0") -> 0 | N38: =IFERROR(VLOOKUP($J38,$A$3:$F$10,6,FALSE),"0") -> 0 | O38: =SUM(L38*M38) -> 0 | P38: =SUM(G38*N38) -> 0 | Q38: =IF((O38+P38)<K38,K38,O38+P38) -> 0
A39: Emmen | B39: Den Haag | C39: Juni | D39: 34 | E39: 0.28125 | F39: 0.88541667 | G39: 520 | H39: =SUM(G39*2) -> 1040 | I39: Ja | K39: =IFERROR(VLOOKUP($J39,$A$3:$F$10,4,FALSE),"0") -> 0 | M39: =IFERROR(VLOOKUP($J39,$A$3:$F$10,5,FALSE),"0") -> 0 | N39: =IFERROR(VLOOKUP($J39,$A$3:$F$10,6,FALSE),"0") -> 0 | O39: =SUM(L39*M39) -> 0 | P39: =SUM(G39*N39) -> 0 | Q39: =IF((O39+P39)<K39,K39,O39+P39) -> 0
A40: Emmen | B40: Den Haag | C40: Juni | D40: 40 | E40: 0.30208333 | F40: 0.86458333 | G40: 520 | H40: =SUM(G40*2) -> 1040 | I40: Ja | K40: =IFERROR(VLOOKUP($J40,$A$3:$F$10,4,FALSE),"0") -> 0 | M40: =IFERROR(VLOOKUP($J40,$A$3:$F$10,5,FALSE),"0") -> 0 | N40: =IFERROR(VLOOKUP($J40,$A$3:$F$10,6,FALSE),"0") -> 0 | O40: =SUM(L40*M40) -> 0 | P40: =SUM(G40*N40) -> 0 | Q40: =IF((O40+P40)<K40,K40,O40+P40) -> 0
A41: Wolvega | B41: Winsum | C41: Juni | D41: 30 | E41: 0.375 | F41: 17.00 | G41: 87 | H41: =SUM(G41*2) -> 174 | I41: Nee | K41: =IFERROR(VLOOKUP($J41,$A$3:$F$10,4,FALSE),"0") -> 0 | M41: =IFERROR(VLOOKUP($J41,$A$3:$F$10,5,FALSE),"0") -> 0 | N41: =IFERROR(VLOOKUP($J41,$A$3:$F$10,6,FALSE),"0") -> 0 | O41: =SUM(L41*M41) -> 0 | P41: =SUM(G41*N41) -> 0 | Q41: =IF((O41+P41)<K41,K41,O41+P41) -> 0
A42: Meppel | B42: Punthorst | C42: Juni | D42: 22 | E42: 0.35416667 | F42: 0.55208333 | G42: 30 | H42: =SUM(G42*2) -> 60 | I42: Nee | K42: =IFERROR(VLOOKUP($J42,$A$3:$F$10,4,FALSE),"0") -> 0 | M42: =IFERROR(VLOOKUP($J42,$A$3:$F$10,5,FALSE),"0") -> 0 | N42: =IFERROR(VLOOKUP($J42,$A$3:$F$10,6,FALSE),"0") -> 0 | O42: =SUM(L42*M42) -> 0 | P42: =SUM(G42*N42) -> 0 | Q42: =IF((O42+P42)<K42,K42,O42+P42) -> 0
A43: Wolvega | B43: Joure | C43: Juni | D43: 21 | E43: 12.00 | F43: 15.00 | G43: 24 | H43: =SUM(G43*2) -> 48 | I43: Nee | K43: =IFERROR(VLOOKUP($J43,$A$3:$F$10,4,FALSE),"0") -> 0 | M43: =IFERROR(VLOOKUP($J43,$A$3:$F$10,5,FALSE),"0") -> 0 | N43: =IFERROR(VLOOKUP($J43,$A$3:$F$10,6,FALSE),"0") -> 0 | O43: =SUM(L43*M43) -> 0 | P43: =SUM(H43*N43) -> 0 | Q43: =IF((O43+P43)<K43,K43,O43+P43) -> 0
A44: Meppel | B44: Balkbrug | C44: September | D44: 30 | E44: 0.375 | F44: 15.00 | G44: 22 | H44: =SUM(G44*2) -> 44 | I44: Nee | K44: =IFERROR(VLOOKUP($J44,$A$3:$F$10,4,FALSE),"0") -> 0 | M44: =IFERROR(VLOOKUP($J44,$A$3:$F$10,5,FALSE),"0") -> 0 | N44: =IFERROR(VLOOKUP($J44,$A$3:$F$10,6,FALSE),"0") -> 0 | O44: =SUM(L44*M44) -> 0 | P44: =SUM(G44*N44) -> 0 | Q44: =IF((O44+P44)<K44,K44,O44+P44) -> 0
A45: Meppel | B45: Balkbrug | C45: September | D45: 30 | E45: 0.375 | F45: 15.00 | G45: 22 | H45: =SUM(G45*2) -> 44 | I45: Nee | K45: =IFERROR(VLOOKUP($J45,$A$3:$F$10,4,FALSE),"0") -> 0 | M45: =IFERROR(VLOOKUP($J45,$A$3:$F$10,5,FALSE),"0") -> 0 | N45: =IFERROR(VLOOKUP($J45,$A$3:$F$10,6,FALSE),"0") -> 0 | O45: =SUM(L45*M45) -> 0 | P45: =SUM(G45*N45) -> 0 | Q45: =IF((O45+P45)<K45,K45,O45+P45) -> 0
A46: Meppel | B46: Balkbrug | C46: September | D46: 30 | E46: 0.375 | F46: 15.00 | G46: 22 | H46: =SUM(G46*2) -> 44 | I46: Nee | K46: =IFERROR(VLOOKUP($J46,$A$3:$F$10,4,FALSE),"0") -> 0 | M46: =IFERROR(VLOOKUP($J46,$A$3:$F$10,5,FALSE),"0") -> 0 | N46: =IFERROR(VLOOKUP($J46,$A$3:$F$10,6,FALSE),"0") -> 0 | O46: =SUM(L46*M46) -> 0 | P46: =SUM(G46*N46) -> 0 | Q46: =IF((O46+P46)<K46,K46,O46+P46) -> 0
A47: Emmen | B47: Den Haag | C47: September | D47: 50 | E47: 0.29166667 | F47: 0.75 | G47: 227 | H47: =SUM(G47*2) -> 454 | I47: Ja | K47: =IFERROR(VLOOKUP($J47,$A$3:$F$10,4,FALSE),"0") -> 0 | M47: =IFERROR(VLOOKUP($J47,$A$3:$F$10,5,FALSE),"0") -> 0 | N47: =IFERROR(VLOOKUP($J47,$A$3:$F$10,6,FALSE),"0") -> 0 | O47: =SUM(L47*M47) -> 0 | P47: =SUM(G47*N47) -> 0 | Q47: =IF((O47+P47)<K47,K47,O47+P47) -> 0
A48: Emmen | B48: Den Haag | C48: September | D48: 50 | E48: 0.29166667 | F48: 0.75 | G48: 227 | H48: =SUM(G48*2) -> 454 | I48: Ja | K48: =IFERROR(VLOOKUP($J48,$A$3:$F$10,4,FALSE),"0") -> 0 | M48: =IFERROR(VLOOKUP($J48,$A$3:$F$10,5,FALSE),"0") -> 0 | N48: =IFERROR(VLOOKUP($J48,$A$3:$F$10,6,FALSE),"0") -> 0 | O48: =SUM(L48*M48) -> 0 | P48: =SUM(G48*N48) -> 0 | Q48: =IF((O48+P48)<K48,K48,O48+P48) -> 0
A49: Emmen | B49: Dedemsvaart | C49: September | D49: 35 | E49: 0.33333333 | F49: 0.625 | G49: 42 | H49: =SUM(G49*2) -> 84 | I49: Nee | K49: =IFERROR(VLOOKUP($J49,$A$3:$F$10,4,FALSE),"0") -> 0 | M49: =IFERROR(VLOOKUP($J49,$A$3:$F$10,5,FALSE),"0") -> 0 | N49: =IFERROR(VLOOKUP($J49,$A$3:$F$10,6,FALSE),"0") -> 0 | O49: =SUM(L49*M49) -> 0 | P49: =SUM(G49*N49) -> 0 | Q49: =IF((O49+P49)<K49,K49,O49+P49) -> 0
A50: Emmen | B50: Veenhuizen | C50: September | D50: 47 | E50: 0.39583333 | F50: 0.6875 | G50: 60 | H50: =SUM(G50*2) -> 120 | I50: Nee | K50: =IFERROR(VLOOKUP($J50,$A$3:$F$10,4,FALSE),"0") -> 0 | M50: =IFERROR(VLOOKUP($J50,$A$3:$F$10,5,FALSE),"0") -> 0 | N50: =IFERROR(VLOOKUP($J50,$A$3:$F$10,6,FALSE),"0") -> 0 | O50: =SUM(L50*M50) -> 0 | P50: =SUM(G50*N50) -> 0 | Q50: =IF((O50+P50)<K50,K50,O50+P50) -> 0
A51: Emmen | B51: Zwolle | C51: September | D51: 28 | E51: 0.3125 | F51: 0.88541667 | G51: 150 | H51: =SUM(G51*2) -> 300 | I51: Nee | K51: =IFERROR(VLOOKUP($J51,$A$3:$F$10,4,FALSE),"0") -> 0 | M51: =IFERROR(VLOOKUP($J51,$A$3:$F$10,5,FALSE),"0") -> 0 | N51: =IFERROR(VLOOKUP($J51,$A$3:$F$10,6,FALSE),"0") -> 0 | O51: =SUM(L51*M51) -> 0 | P51: =SUM(G51*N51) -> 0 | Q51: =IF((O51+P51)<K51,K51,O51+P51) -> 0
A52: Emmen | B52: Nieuw Amsterdam | C52: September | D52: 35 | E52: 0.52083333 | F52: 0.64583333 | G52: 40 | H52: =SUM(G52*2) -> 80 | I52: Nee | K52: =IFERROR(VLOOKUP($J52,$A$3:$F$10,4,FALSE),"0") -> 0 | M52: =IFERROR(VLOOKUP($J52,$A$3:$F$10,5,FALSE),"0") -> 0 | N52: =IFERROR(VLOOKUP($J52,$A$3:$F$10,6,FALSE),"0") -> 0 | O52: =SUM(L52*M52) -> 0 | P52: =SUM(G52*N52) -> 0 | Q52: =IF((O52+P52)<K52,K52,O52+P52) -> 0
A53: Emmen | B53: Den Haag | C53: Oktober | D53: 45 | E53: 8.00 | F53: 0.79166667 | G53: 227 | H53: =SUM(G53*2) -> 454 | I53: Ja | K53: =IFERROR(VLOOKUP($J53,$A$3:$F$10,4,FALSE),"0") -> 0 | M53: =IFERROR(VLOOKUP($J53,$A$3:$F$10,5,FALSE),"0") -> 0 | N53: =IFERROR(VLOOKUP($J53,$A$3:$F$10,6,FALSE),"0") -> 0 | O53: =SUM(L53*M53) -> 0 | P53: =SUM(G53*N53) -> 0 | Q53: =IF((O53+P53)<K53,K53,O53+P53) -> 0
A54: Emmen | B54: Laar | C54: Oktober | D54: 40 | E54: 8.00 | F54: 0.625 | G54: 29 | H54: =SUM(G54*2) -> 58 | I54: Nee | K54: =IFERROR(VLOOKUP($J54,$A$3:$F$10,4,FALSE),"0") -> 0 | M54: =IFERROR(VLOOKUP($J54,$A$3:$F$10,5,FALSE),"0") -> 0 | N54: =IFERROR(VLOOKUP($J54,$A$3:$F$10,6,FALSE),"0") -> 0 | O54: =SUM(L54*M54) -> 0 | P54: =SUM(G54*N54) -> 0 | Q54: =IF((O54+P54)<K54,K54,O54+P54) -> 0
A55: Emmen | B55: Nieuweroord | C55: Oktober | D55: 55 | E55: 0.375 | F55: 0.66666667 | G55: 30 | H55: =SUM(G55*2) -> 60 | I55: Nee | K55: =IFERROR(VLOOKUP($J55,$A$3:$F$10,4,FALSE),"0") -> 0 | M55: =IFERROR(VLOOKUP($J55,$A$3:$F$10,5,FALSE),"0") -> 0 | N55: =IFERROR(VLOOKUP($J55,$A$3:$F$10,6,FALSE),"0") -> 0 | O55: =SUM(L55*M55) -> 0 | P55: =SUM(G55*N55) -> 0 | Q55: =IF((O55+P55)<K55,K55,O55+P55) -> 0
A56: Emmen | B56: Zwolle | C56: Oktober | D56: 50 | E56: 0.32291667 | F56: 0.60416667 | G56: 150 | H56: =SUM(G56*2) -> 300 | I56: Nee | K56: =IFERROR(VLOOKUP($J56,$A$3:$F$10,4,FALSE),"0") -> 0 | M56: =IFERROR(VLOOKUP($J56,$A$3:$F$10,5,FALSE),"0") -> 0 | N56: =IFERROR(VLOOKUP($J56,$A$3:$F$10,6,FALSE),"0") -> 0 | O56: =SUM(L56*M56) -> 0 | P56: =SUM(G56*N56) -> 0 | Q56: =IF((O56+P56)<K56,K56,O56+P56) -> 0
A57: Emmen | B57: Nortmoor | C57: Oktober | D57: 50 | E57: 0.32291667 | F57: 0.69791667 | G57: 200 | H57: =SUM(G57*2) -> 400 | I57: Ja | K57: =IFERROR(VLOOKUP($J57,$A$3:$F$10,4,FALSE),"0") -> 0 | M57: =IFERROR(VLOOKUP($J57,$A$3:$F$10,5,FALSE),"0") -> 0 | N57: =IFERROR(VLOOKUP($J57,$A$3:$F$10,6,FALSE),"0") -> 0 | O57: =SUM(L57*M57) -> 0 | P57: =SUM(G57*N57) -> 0 | Q57: =IF((O57+P57)<K57,K57,O57+P57) -> 0
A58: Emmen | B58: Groningen | C58: Oktober | D58: 50 | E58: 0.30208333 | F58: 0.58333333 | G58: 120 | H58: =SUM(G58*2) -> 240 | I58: Nee | K58: =IFERROR(VLOOKUP($J58,$A$3:$F$10,4,FALSE),"0") -> 0 | M58: =IFERROR(VLOOKUP($J58,$A$3:$F$10,5,FALSE),"0") -> 0 | N58: =IFERROR(VLOOKUP($J58,$A$3:$F$10,6,FALSE),"0") -> 0 | O58: =SUM(L58*M58) -> 0 | P58: =SUM(G58*N58) -> 0 | Q58: =IF((O58+P58)<K58,K58,O58+P58) -> 0
A59: Meppel | B59: Leeuwarden | C59: November | D59: 55 | E59: 0.375 | F59: 0.70833333 | G59: 71 | H59: =SUM(G59*2) -> 142 | I59: Nee | K59: =IFERROR(VLOOKUP($J59,$A$3:$F$10,4,FALSE),"0") -> 0 | M59: =IFERROR(VLOOKUP($J59,$A$3:$F$10,5,FALSE),"0") -> 0 | N59: =IFERROR(VLOOKUP($J59,$A$3:$F$10,6,FALSE),"0") -> 0 | O59: =SUM(L59*M59) -> 0 | P59: =SUM(G59*N59) -> 0 | Q59: =IF((O59+P59)<K59,K59,O59+P59) -> 0
A60: Emmen | B60: Rotterdam | C60: November | D60: 58 | E60: 0.39583333 | F60: 0.041666667 | G60: 500 | H60: =SUM(G60*2) -> 1000 | I60: Nee | K60: =IFERROR(VLOOKUP($J60,$A$3:$F$10,4,FALSE),"0") -> 0 | M60: =IFERROR(VLOOKUP($J60,$A$3:$F$10,5,FALSE),"0") -> 0 | N60: =IFERROR(VLOOKUP($J60,$A$3:$F$10,6,FALSE),"0") -> 0 | O60: =SUM(L60*M60) -> 0 | P60: =SUM(G60*N60) -> 0 | Q60: =IF((O60+P60)<K60,K60,O60+P60) -> 0
A61: Emmen | B61: Kaatsheuvel | C61: December | D61: 50 | E61: 0.33333333 | F61: 0.79166667 | G61: 233 | H61: =SUM(G61*2) -> 466 | I61: Ja | K61: =IFERROR(VLOOKUP($J61,$A$3:$F$10,4,FALSE),"0") -> 0 | M61: =IFERROR(VLOOKUP($J61,$A$3:$F$10,5,FALSE),"0") -> 0 | N61: =IFERROR(VLOOKUP($J61,$A$3:$F$10,6,FALSE),"0") -> 0 | O61: =SUM(L61*M61) -> 0 | P61: =SUM(G61*N61) -> 0 | Q61: =IF((O61+P61)<K61,K61,O61+P61) -> 0
A62: Emmen | B62: Essen | C62: December | D62: 60 | E62: 0.29166667 | F62: 0.78125 | G62: 380 | H62: =SUM(G62*2) -> 760 | I62: Ja | K62: =IFERROR(VLOOKUP($J62,$A$3:$F$10,4,FALSE),"0") -> 0 | M62: =IFERROR(VLOOKUP($J62,$A$3:$F$10,5,FALSE),"0") -> 0 | N62: =IFERROR(VLOOKUP($J62,$A$3:$F$10,6,FALSE),"0") -> 0 | O62: =SUM(L62*M62) -> 0 | P62: =SUM(G62*N62) -> 0 | Q62: =IF((O62+P62)<K62,K62,O62+P62) -> 0
A63: Emmen | B63: Oberhausen | C63: December | D63: 53 | E63: 0.33333333 | F63: 0.8125 | G63: 400 | H63: =SUM(G63*2) -> 800 | I63: Ja | K63: =IFERROR(VLOOKUP($J63,$A$3:$F$10,4,FALSE),"0") -> 0 | M63: =IFERROR(VLOOKUP($J63,$A$3:$F$10,5,FALSE),"0") -> 0 | N63: =IFERROR(VLOOKUP($J63,$A$3:$F$10,6,FALSE),"0") -> 0 | O63: =SUM(L63*M63) -> 0 | P63: =SUM(G63*N63) -> 0 | Q63: =IF((O63+P63)<K63,K63,O63+P63) -> 0
A64: Emmen | B64: Amsterdam | C64: December | D64: 50 | E64: 0.33333333 | F64: 0.79166667 | G64: 280 | H64: =SUM(G64*2) -> 560 | I64: Nee | K64: =IFERROR(VLOOKUP($J64,$A$3:$F$10,4,FALSE),"0") -> 0 | M64: =IFERROR(VLOOKUP($J64,$A$3:$F$10,5,FALSE),"0") -> 0 | N64: =IFERROR(VLOOKUP($J64,$A$3:$F$10,6,FALSE),"0") -> 0 | O64: =SUM(L64*M64) -> 0 | P64: =SUM(G64*N64) -> 0 | Q64: =IF((O64+P64)<K64,K64,O64+P64) -> 0
N65: Totaal per rit excl. BTW | Q65: =SUM(Q16:Q64) -> 0

Sheet Blad2
A1: TABEL 1
A2: Bustype | B2: Maximaal aantal personen | D2: Minimumtarief | E2: Prijs per uur | F2: Prijs per KM
A3: 1 | B3: Bustarief type 1 (1 t/m 8 pers) | D3: =(Blad1!D3) -> 0 | E3: =(Blad1!E3) -> 0 | F3: =(Blad1!F3) -> 0
A4: 2 | B4: Bustarief type 2 (9 t/m 23 pers) | D4: =(Blad1!D4) -> 0 | E4: =(Blad1!E4) -> 0 | F4: =(Blad1!F4) -> 0
A5: 3 | B5: Bustarief type 3 (24 t/m 50 pers) | D5: =(Blad1!D5) -> 0 | E5: =(Blad1!E5) -> 0 | F5: =(Blad1!F5) -> 0
A6: 4 | B6: Bustarief type 4 (51 t/m 54 pers) | D6: =(Blad1!D6) -> 0 | E6: =(Blad1!E6) -> 0 | F6: =(Blad1!F6) -> 0
A7: 5 | B7: Bustarief type 5 (55 t/m 58 pers) | D7: =(Blad1!D7) -> 0 | E7: =(Blad1!E7) -> 0 | F7: =(Blad1!F7) -> 0
A8: 6 | B8: Bustarief type 6 (59 t/m 62 pers) | D8: =(Blad1!D8) -> 0 | E8: =(Blad1!E8) -> 0 | F8: =(Blad1!F8) -> 0
A9: 7 | B9: Bustarief type 7 (63 t/m 75 pers) | D9: =(Blad1!D9) -> 0 | E9: =(Blad1!E9) -> 0 | F9: =(Blad1!F9) -> 0
A10: 8 | B10: Bustarief type 8 (76 t/m 90 pers) | D10: =(Blad1!D10) -> 0 | E10: =(Blad1!E10) -> 0 | F10: =(Blad1!F10) -> 0
A13: TABEL 3
A14: Reizen vanaf 61 personen
A15: Vertreklocatie | B15: Bestemmingslocatie | C15: Periode | D15: Aantal te vervoeren personen | E15: Vertrektijd school | F15: Aankomst terug op school | G15: Aantal km | H15: Retour Aantal km | I15: Bus moet hele dag blijven | J15: Bustype | K15: Minimumtarief | L15: Inzet uren | M15: € Per uur | N15: € Per km | O15: Totaal € uren | P15: Totaal € KM | Q15: Totaal € bus 1 | R15: Bustype | S15: Minimumtarief | T15: Inzet uren | U15: € Per uur | V15: € Per KM | W15: Totaal € uren | X15: Totaal € KM | Y15: Totaal bus 2 | Z15: Totaal bus 1 & 2
A16: Emmen | B16: s Hertogenbosch | C16: Januari | D16: 85 | E16: 0.33333333 | F16: 0.79166667 | G16: 205 | H16: 410 | I16: Ja | K16: =IFERROR(VLOOKUP($J16,$A$3:$F$10,4,FALSE),"0") -> 0 | M16: =IFERROR(VLOOKUP($J16,$A$3:$F$10,5,FALSE),"0") -> 0 | N16: =IFERROR(VLOOKUP($J16,$A$3:$F$10,6,FALSE),"0") -> 0 | O16: =SUM(L16*M16) -> 0 | P16: =SUM(N16*H16) -> 0 | Q16: =IF((O16+P16)<K16,K16,O16+P16) -> 0 | S16: =IFERROR(VLOOKUP($R16,$A$3:$F$10,4,FALSE),"0") -> 0 | U16: =IFERROR(VLOOKUP($R16,$A$3:$F$10,5,FALSE),"0") -> 0 | V16: =IFERROR(VLOOKUP($R16,$A$3:$F$10,6,FALSE),"0") -> 0 | W16: =SUM(T16*U16) -> 0 | X16: =SUM(V16*H16) -> 0 | Y16: =IF((W16+X16)<S16,S16,W16+X16) -> 0 | Z16: =SUM(Q16+Y16) -> 0
A17: Emmen | B17: Den Haag | C17: April | D17: 96 | E17: 0.29166667 | F17: 0.83333333 | G17: 225 | H17: 450 | I17: Ja | K17: =IFERROR(VLOOKUP($J17,$A$3:$F$10,4,FALSE),"0") -> 0 | M17: =IFERROR(VLOOKUP($J17,$A$3:$F$10,5,FALSE),"0") -> 0 | N17: =IFERROR(VLOOKUP($J17,$A$3:$F$10,6,FALSE),"0") -> 0 | O17: =SUM(L17*M17) -> 0 | P17: =SUM(N17*H17) -> 0 | Q17: =IF((O17+P17)<K17,K17,O17+P17) -> 0 | S17: =IFERROR(VLOOKUP($R17,$A$3:$F$10,4,FALSE),"0") -> 0 | U17: =IFERROR(VLOOKUP($R17,$A$3:$F$10,5,FALSE),"0") -> 0 | V17: =IFERROR(VLOOKUP($R17,$A$3:$F$10,6,FALSE),"0") -> 0 | W17: =SUM(T17*U17) -> 0 | X17: =SUM(V17*H17) -> 0 | Y17: =IF((W17+X17)<S17,S17,W17+X17) -> 0 | Z17: =SUM(Q17+Y17) -> 0
A18: Meppel | B18: Bottrop | C18: Mei | D18: 100 | E18: 0.40625 | F18: 0.86458333 | G18: 215 | H18: 430 | I18: Ja | K18: =IFERROR(VLOOKUP($J18,$A$3:$F$10,4,FALSE),"0") -> 0 | M18: =IFERROR(VLOOKUP($J18,$A$3:$F$10,5,FALSE),"0") -> 0 | N18: =IFERROR(VLOOKUP($J18,$A$3:$F$10,6,FALSE),"0") -> 0 | O18: =SUM(L18*M18) -> 0 | P18: =SUM(N18*H18) -> 0 | Q18: =IF((O18+P18)<K18,K18,O18+P18) -> 0 | S18: =IFERROR(VLOOKUP($R18,$A$3:$F$10,4,FALSE),"0") -> 0 | U18: =IFERROR(VLOOKUP($R18,$A$3:$F$10,5,FALSE),"0") -> 0 | V18: =IFERROR(VLOOKUP($R18,$A$3:$F$10,6,FALSE),"0") -> 0 | W18: =SUM(T18*U18) -> 0 | X18: =SUM(V18*H18) -> 0 | Y18: =IF((W18+X18)<S18,S18,W18+X18) -> 0 | Z18: =SUM(Q18+Y18) -> 0
A19: Emmen | B19: Biddinghuizen | C19: Juni | D19: 109 | E19: 0.35416667 | F19: 0.73958333 | G19: 130 | H19: 260 | I19: Nee | K19: =IFERROR(VLOOKUP($J19,$A$3:$F$10,4,FALSE),"0") -> 0 | M19: =IFERROR(VLOOKUP($J19,$A$3:$F$10,5,FALSE),"0") -> 0 | N19: =IFERROR(VLOOKUP($J19,$A$3:$F$10,6,FALSE),"0") -> 0 | O19: =SUM(L19*M19) -> 0 | P19: =SUM(N19*H19) -> 0 | Q19: =IF((O19+P19)<K19,K19,O19+P19) -> 0 | S19: =IFERROR(VLOOKUP($R19,$A$3:$F$10,4,FALSE),"0") -> 0 | U19: =IFERROR(VLOOKUP($R19,$A$3:$F$10,5,FALSE),"0") -> 0 | V19: =IFERROR(VLOOKUP($R19,$A$3:$F$10,6,FALSE),"0") -> 0 | W19: =SUM(T19*U19) -> 0 | X19: =SUM(V19*H19) -> 0 | Y19: =IF((W19+X19)<S19,S19,W19+X19) -> 0 | Z19: =SUM(Q19+Y19) -> 0
A20: Emmen | B20: Nijmegen | C20: Juni | D20: 80 | E20: 0.34375 | F20: 0.875 | G20: 175 | H20: 350 | I20: Ja | K20: =IFERROR(VLOOKUP($J20,$A$3:$F$10,4,FALSE),"0") -> 0 | M20: =IFERROR(VLOOKUP($J20,$A$3:$F$10,5,FALSE),"0") -> 0 | N20: =IFERROR(VLOOKUP($J20,$A$3:$F$10,6,FALSE),"0") -> 0 | O20: =SUM(L20*M20) -> 0 | P20: =SUM(N20*H20) -> 0 | Q20: =IF((O20+P20)<K20,K20,O20+P20) -> 0 | S20: =IFERROR(VLOOKUP($R20,$A$3:$F$10,4,FALSE),"0") -> 0 | U20: =IFERROR(VLOOKUP($R20,$A$3:$F$10,5,FALSE),"0") -> 0 | V20: =IFERROR(VLOOKUP($R20,$A$3:$F$10,6,FALSE),"0") -> 0 | W20: =SUM(T20*U20) -> 0 | X20: =SUM(V20*H20) -> 0 | Y20: =IF((W20+X20)<S20,S20,W20+X20) -> 0 | Z20: =SUM(Q20+Y20) -> 0
A21: Emmen | B21: Amsterdam | C21: Juni | D21: 140 | E21: 0.36458333 | F21: 0.90625 | G21: 175 | H21: 350 | I21: Nee | K21: =IFERROR(VLOOKUP($J21,$A$3:$F$10,4,FALSE),"0") -> 0 | M21: =IFERROR(VLOOKUP($J21,$A$3:$F$10,5,FALSE),"0") -> 0 | N21: =IFERROR(VLOOKUP($J21,$A$3:$F$10,6,FALSE),"0") -> 0 | O21: =SUM(L21*M21) -> 0 | P21: =SUM(N21*H21) -> 0 | Q21: =IF((O21+P21)<K21,K21,O21+P21) -> 0 | S21: =IFERROR(VLOOKUP($R21,$A$3:$F$10,4,FALSE),"0") -> 0 | U21: =IFERROR(VLOOKUP($R21,$A$3:$F$10,5,FALSE),"0") -> 0 | V21: =IFERROR(VLOOKUP($R21,$A$3:$F$10,6,FALSE),"0") -> 0 | W21: =SUM(T21*U21) -> 0 | X21: =SUM(V21*H21) -> 0 | Y21: =IF((W21+X21)<S21,S21,W21+X21) -> 0 | Z21: =SUM(Q21+Y21) -> 0
A22: Meppel | B22: Munster | C22: December | D22: 87 | E22: 0.375 | F22: 0.78125 | G22: 150 | H22: 300 | I22: Ja | K22: =IFERROR(VLOOKUP($J22,$A$3:$F$10,4,FALSE),"0") -> 0 | M22: =IFERROR(VLOOKUP($J22,$A$3:$F$10,5,FALSE),"0") -> 0 | N22: =IFERROR(VLOOKUP($J22,$A$3:$F$10,6,FALSE),"0") -> 0 | O22: =SUM(L22*M22) -> 0 | P22: =SUM(N22*H22) -> 0 | Q22: =IF((O22+P22)<K22,K22,O22+P22) -> 0 | S22: =IFERROR(VLOOKUP($R22,$A$3:$F$10,4,FALSE),"0") -> 0 | U22: =IFERROR(VLOOKUP($R22,$A$3:$F$10,5,FALSE),"0") -> 0 | V22: =IFERROR(VLOOKUP($R22,$A$3:$F$10,6,FALSE),"0") -> 0 | W22: =SUM(T22*U22) -> 0 | X22: =SUM(V22*H22) -> 0 | Y22: =IF((W22+X22)<S22,S22,W22+X22) -> 0 | Z22: =SUM(Q22+Y22) -> 0
A23: Emmen | B23: Essen | C23: December | D23: 83 | E23: 0.33333333 | F23: 0.8125 | G23: 200 | H23: 400 | I23: Ja | K23: =IFERROR(VLOOKUP($J23,$A$3:$F$10,4,FALSE),"0") -> 0 | M23: =IFERROR(VLOOKUP($J23,$A$3:$F$10,5,FALSE),"0") -> 0 | N23: =IFERROR(VLOOKUP($J23,$A$3:$F$10,6,FALSE),"0") -> 0 | O23: =SUM(L23*M23) -> 0 | P23: =SUM(N23*H23) -> 0 | Q23: =IF((O23+P23)<K23,K23,O23+P23) -> 0 | S23: =IFERROR(VLOOKUP($R23,$A$3:$F$10,4,FALSE),"0") -> 0 | U23: =IFERROR(VLOOKUP($R23,$A$3:$F$10,5,FALSE),"0") -> 0 | V23: =IFERROR(VLOOKUP($R23,$A$3:$F$10,6,FALSE),"0") -> 0 | W23: =SUM(T23*U23) -> 0 | X23: =SUM(V23*H23) -> 0 | Y23: =IF((W23+X23)<S23,S23,W23+X23) -> 0 | Z23: =SUM(Q23+Y23) -> 0
A24: Emmen | B24: Essen | C24: December | D24: 83 | E24: 0.33333333 | F24: 0.8125 | G24: 200 | H24: 400 | I24: Ja | K24: =IFERROR(VLOOKUP($J24,$A$3:$F$10,4,FALSE),"0") -> 0 | M24: =IFERROR(VLOOKUP($J24,$A$3:$F$10,5,FALSE),"0") -> 0 | N24: =IFERROR(VLOOKUP($J24,$A$3:$F$10,6,FALSE),"0") -> 0 | O24: =SUM(L24*M24) -> 0 | P24: =SUM(N24*H24) -> 0 | Q24: =IF((O24+P24)<K24,K24,O24+P24) -> 0 | S24: =IFERROR(VLOOKUP($R24,$A$3:$F$10,4,FALSE),"0") -> 0 | U24: =IFERROR(VLOOKUP($R24,$A$3:$F$10,5,FALSE),"0") -> 0 | V24: =IFERROR(VLOOKUP($R24,$A$3:$F$10,6,FALSE),"0") -> 0 | W24: =SUM(T24*U24) -> 0 | X24: =SUM(V24*H24) -> 0 | Y24: =IF((W24+X24)<S24,S24,W24+X24) -> 0 | Z24: =SUM(Q24+Y24) -> 0
A25: Emmen | B25: Den Haag | C25: December | D25: 70 | E25: 0.33333333 | F25: 0.77083333 | G25: 227 | H25: 454 | I25: Ja | K25: =IFERROR(VLOOKUP($J25,$A$3:$F$10,4,FALSE),"0") -> 0 | M25: =IFERROR(VLOOKUP($J25,$A$3:$F$10,5,FALSE),"0") -> 0 | N25: =IFERROR(VLOOKUP($J25,$A$3:$F$10,6,FALSE),"0") -> 0 | O25: =SUM(L25*M25) -> 0 | P25: =SUM(N25*H25) -> 0 | Q25: =IF((O25+P25)<K25,K25,O25+P25) -> 0 | S25: =IFERROR(VLOOKUP($R25,$A$3:$F$10,4,FALSE),"0") -> 0 | U25: =IFERROR(VLOOKUP($R25,$A$3:$F$10,5,FALSE),"0") -> 0 | V25: =IFERROR(VLOOKUP($R25,$A$3:$F$10,6,FALSE),"0") -> 0 | W25: =SUM(T25*U25) -> 0 | X25: =SUM(V25*H25) -> 0 | Y25: =IF((W25+X25)<S25,S25,W25+X25) -> 0 | Z25: =SUM(Q25+Y25) -> 0
A26: Emmen | B26: Marne La Vallee | C26: December | D26: 75 | E26: 0.041666667 | F26: 04:30 (+1) | G26: 750 | H26: 1300 | I26: Ja | K26: =IFERROR(VLOOKUP($J26,$A$3:$F$10,4,FALSE),"0") -> 0 | M26: =IFERROR(VLOOKUP($J26,$A$3:$F$10,5,FALSE),"0") -> 0 | N26: =IFERROR(VLOOKUP($J26,$A$3:$F$10,6,FALSE),"0") -> 0 | O26: =SUM(L26*M26) -> 0 | P26: =SUM(N26*H26) -> 0 | Q26: =IF((O26+P26)<K26,K26,O26+P26) -> 0 | S26: =IFERROR(VLOOKUP($R26,$A$3:$F$10,4,FALSE),"0") -> 0 | U26: =IFERROR(VLOOKUP($R26,$A$3:$F$10,5,FALSE),"0") -> 0 | V26: =IFERROR(VLOOKUP($R26,$A$3:$F$10,6,FALSE),"0") -> 0 | W26: =SUM(T26*U26) -> 0 | X26: =SUM(V26*H26) -> 0 | Y26: =IF((W26+X26)<S26,S26,W26+X26) -> 0 | Z26: =SUM(Q26+Y26) -> 0
X27: Totaal per rit excl. BTW | Z27: =SUM(Z16:Z26) -> 0
A30: TABEL 4
A31: Reizen t/m 60 personen | D31: =(Blad1!Q65) -> 0
A32: Reizen vanaf 61 personen | D32: =Blad2!Z27 -> 0
A33: Totaal | D33: =SUM(D31:D32) -> 0
