Workbook

Sheet Voorwoord
A1: Perceel 2
A2: retail calculatie 5b
D3: De aantallen zijn gebaseerd op 12 maanden afname.
A5: Tabbladen | B5: AGF | D5: alle artikelen behorend bij het voorbeeld assortiment.
B6: Dkw | D6: alle artikelen behorend bij het voorbeeld assortiment.
B7: Koeling zuivel | D7: alle artikelen behorend bij het voorbeeld assortiment.
B8: Non food | D8: alle artikelen behorend bij het voorbeeld assortiment.
B9: Bakker | D9: alle artikelen behorend bij het voorbeeld assortiment.
B10: Slagerij | D10: alle artikelen behorend bij het voorbeeld assortiment.
B11: Vis | D11: alle artikelen behorend bij het voorbeeld assortiment.
B12: Diepvries | D12: alle artikelen behorend bij het voorbeeld assortiment.
B13: Dranken | D13: alle artikelen behorend bij het voorbeeld assortiment.
B15: bijkomende kosten | D15: Alle bijkomende kosten die nodig zijn om het assortiment op een juiste wijze geleverd te krijgen, incl. diverse ondersteunende activiteiten vanuit de opdrachtnemer
B17: totalisatie | D17: alle kosten bij elkaar ten behoeven van het gunningcriterium Prijs
D19: U dient de aangegeven eenheid en gewicht om te rekenen indien u afwijkende verpakkingen/eenheden van een artikel aanbiedt
D20: U dient de dagprijs te hanteren van datum 5 januari 2024
A22: Voor het overige zie het Programma van Eisen en de Overeenkomst.

Sheet AGF
A1: Blauwe cellen in te vullen door de Inschrijver, betreft alleen A merk artikelen
A2: Hoofd art.groep | B2: Artikelomschrijving | C2: Verpakking | D2: Inhoud | E2: EENH | F2: Aantal totaal 2022 | H2: Uw artikelgroep | I2: Uw artikelnummer | J2: Uw artikelomschrijving | K2: uw levereenheid | L2: uw FabMerk | M2: Uw omrekenfactor tbv afname vergelijk | N2: Netto prijs, conform prijslijst incl. btw | O2: Uw netto prijs incl. btw
A3: Agf | B3: Basilicum | C3: BK | D3: 15 | E3: GR | F3: 1500 | M3: 1 | N3: 0 | O3: =SUM(F3)*(M3*N3) -> 0
A4: Agf | B4: Mesclune Slagewassen | C4: ZAK | D4: 125 | E4: GR | F4: 225 | M4: 1 | N4: 0 | O4: =SUM(F4)*(M4*N4) -> 0
A5: Agf | B5: Asperge Groen | C5: ZAK | D5: 350 | E5: GR | F5: 50 | M5: 1 | N5: 0 | O5: =SUM(F5)*(M5*N5) -> 0
A6: Agf | B6: Appel Elstar Groot | C6: ZAK | D6: 1.5 | E6: KG | F6: 270 | M6: 1 | N6: 0 | O6: =SUM(F6)*(M6*N6) -> 0
A7: Agf | B7: Aardbei Groot | C7: BK | D7: 400 | E7: GR | F7: 60 | M7: 1 | N7: 0 | O7: =SUM(F7)*(M7*N7) -> 0
A8: Agf | B8: Courgette Groen | C8: ST | D8: 1 | E8: ST | F8: 284 | M8: 1 | N8: 0 | O8: =SUM(F8)*(M8*N8) -> 0
A9: Agf | B9: Peterselie | C9: BK | D9: 15 | E9: GR | F9: 1500 | M9: 1 | N9: 0 | O9: =SUM(F9)*(M9*N9) -> 0
A10: Agf | B10: Slamix Voorjaar | C10: ZAK | D10: 300 | E10: GR | F10: 75 | M10: 1 | N10: 0 | O10: =SUM(F10)*(M10*N10) -> 0
A11: Agf | B11: Asperge Tips Groen | C11: ZAK | D11: 100 | E11: GR | F11: 70 | M11: 1 | N11: 0 | O11: =SUM(F11)*(M11*N11) -> 0
A12: Agf | B12: Spinazie Gewassen 400 Gr | C12: ZAK | D12: 400 | E12: GR | F12: 53 | M12: 1 | N12: 0 | O12: =SUM(F12)*(M12*N12) -> 0
A13: Agf | B13: Bieslook | C13: BOS | D13: 25 | E13: GR | F13: 250 | M13: 1 | N13: 0 | O13: =SUM(F13)*(M13*N13) -> 0
A14: Agf | B14: Haricots Verts Schoon | C14: ZAK | D14: 350 | E14: GR | F14: 100 | M14: 1 | N14: 0 | O14: =SUM(F14)*(M14*N14) -> 0
... A18: Agf | B18: Rucola | C18: BK | D18: 150 | E18: GR | F18: 110 | M18: 1 | N18: 0 | O18: =SUM(F18)*(M18*N18) -> 0
A19: Agf | B19: Avocado(Ready To Eat) | D19: 1 | E19: ST | F19: 93 | M19: 1 | N19: 0 | O19: =SUM(F19)*(M19*N19) -> 0
A20: Agf | B20: Champignons Wit Fijn 250 G | C20: BK | D20: 400 | E20: GR | F20: 35 | M20: 1 | N20: 0 | O20: =SUM(F20)*(M20*N20) -> 0
A21: Agf | B21: Bami Groenten 150 Gr | C21: PK | D21: 250 | E21: GR | F21: 54 | M21: 1 | N21: 0 | O21: =SUM(F21)*(M21*N21) -> 0
A22: Agf | B22: Rucola Gewassen | C22: ZAK | D22: 150 | E22: GR | F22: 44 | M22: 1 | N22: 0 | O22: =SUM(F22)*(M22*N22) -> 0
A23: Agf | B23: Snow Pea Peuktjes | C23: ZAK | D23: 250 | E23: GR | F23: 10 | M23: 1 | N23: 0 | O23: =SUM(F23)*(M23*N23) -> 0
A24: Agf | B24: Framboos | C24: BK | D24: 225 | E24: GR | F24: 30 | M24: 1 | N24: 0 | O24: =SUM(F24)*(M24*N24) -> 0
A25: Agf | B25: Knolselderij | C25: ST | D25: 1 | E25: ST | F25: 70 | M25: 1 | N25: 0 | O25: =SUM(F25)*(M25*N25) -> 0
A26: Agf | B26: Bosui | C26: BOS | D26: 1 | E26: ST | F26: 104 | M26: 1 | N26: 0 | O26: =SUM(F26)*(M26*N26) -> 0
A27: Agf | B27: Sinaasappel Pers (90) | C27: ZAK | D27: 2 | E27: KG | F27: 88.485 | M27: 1 | N27: 0 | O27: =SUM(F27)*(M27*N27) -> 0
A28: Agf | B28: Sla Krop | C28: ST | D28: 250 | E28: GR | F28: 83 | M28: 1 | N28: 0 | O28: =SUM(F28)*(M28*N28) -> 0
A29: Agf | B29: Bio Broccoli onbewerkt | C29: ST | D29: 500 | E29: GR | F29: 50 | M29: 1 | N29: 0 | O29: =SUM(F29)*(M29*N29) -> 0
A30: Agf | B30: Bio Cherry tomaten onbewerkt | C30: DS | D30: 250 | E30: GR | F30: 50 | M30: 1 | N30: 0 | O30: =SUM(F30)*(M30*N30) -> 0
A31: Agf | B31: Bio Citroenen | C31: ST | D31: 1 | E31: st | F31: 50 | M31: 1 | N31: 0 | O31: =SUM(F31)*(M31*N31) -> 0
... A36: Agf | B36: Biologische bak aardappelen sv | C36: PAK | D36: 450 | E36: GR | F36: 50 | M36: 1 | N36: 0 | O36: =SUM(F36)*(M36*N36) -> 0
B38: AAN DE OPGEGEVEN AANTALLEN ZIJN GEEN RECHTEN TE ONTLENEN | O38: =SUM(O3:O37) -> 0
B39: U dient de dagprijs te hanteren van datum 5 januari 2024

Sheet DKW
A1: Blauwe cellen in te vullen door de Inschrijver, betreft alleen A merk artikelen
A2: Hoofd art.groep | B2: Artikelomschrijving | C2: Verpakking | D2: Inhoud | E2: EENH | F2: Aantal totaal 2022 | H2: Uw artikelgroep | I2: Uw artikelnummer | J2: Uw artikelomschrijving | K2: uw verpakkings-eenheid | L2: uw levereenheid | M2: uw FabMerk | N2: Uw omrekenfactor tbv afname vergelijk | O2: Netto prijs, conform prijslijst incl. btw | P2: Uw netto prijs incl. btw
A3: Conserven | B3: Tomaten Puree | C3: BL | D3: 140 | E3: GR | F3: 30 | N3: 1 | O3: 0 | P3: =SUM(F3)*(N3*O3) -> 0
A4: Conserven | B4: Maiskorrels Klein | C4: BL | D4: 300 | E4: GR | F4: 47 | N4: 1 | O4: 0 | P4: =SUM(F4)*(N4*O4) -> 0
A5: Conserven | B5: Artisjokharten 8/10 Spanje | C5: BL | D5: 390 | E5: GR | F5: 14 | N5: 1 | O5: 0 | P5: =SUM(F5)*(N5*O5) -> 0
A6: Conserven | B6: Tomaten Gepeld | C6: BL | D6: 400 | E6: GR | F6: 16 | N6: 1 | O6: 0 | P6: =SUM(F6)*(N6*O6) -> 0
A7: Conserven | B7: Fruitvulling Kersen | C7: BL | D7: 430 | E7: GR | F7: 4 | N7: 1 | O7: 0 | P7: =SUM(F7)*(N7*O7) -> 0
A8: Conserven | B8: Ananas | C8: BL | D8: 227 | E8: GR | F8: 5 | N8: 1 | O8: 0 | P8: =SUM(F8)*(N8*O8) -> 0
A9: Conserven | B9: Pizzasaus | C9: BL | D9: 400 | E9: GR | F9: 5 | N9: 1 | O9: 0 | P9: =SUM(F9)*(N9*O9) -> 0
A10: Conserven | B10: Gezeefde Tomaten | C10: PK | D10: 500 | E10: ML | F10: 5 | N10: 1 | O10: 0 | P10: =SUM(F10)*(N10*O10) -> 0
A11: Conserven | B11: Kersen Zonder Pit | C11: POT | D11: 65 | E11: GR | F11: 1 | N11: 1 | O11: 0 | P11: =SUM(F11)*(N11*O11) -> 0
A12: Delicatessen speciaal | B12: Zeezout Fijn Strooibus | C12: BS | D12: 500 | E12: GR | F12: 135 | N12: 1 | O12: 0 | P12: =SUM(F12)*(N12*O12) -> 0
A13: Delicatessen speciaal | B13: Strooier Peper Wit Gemalen 44Gr | C13: POT | D13: 44 | E13: GR | F13: 5 | N13: 1 | O13: 0 | P13: =SUM(F13)*(N13*O13) -> 0
A14: Delicatessen speciaal | B14: Witte Wijnazijn | C14: FL. | D14: 250 | E14: ML | F14: 45 | N14: 1 | O14: 0 | P14: =SUM(F14)*(N14*O14) -> 0
... A283: DKW - Food | B283: Zoete aardappel b bio (4 mnd) | C283: POT | D283: 125 | E283: GR | F283: 25 | N283: 1 | O283: 0 | P283: =SUM(F283)*(N283*O283) -> 0
B290: AAN DE OPGEGEVEN AANTALLEN ZIJN GEEN RECHTEN TE ONTLENEN | P290: =SUM(P3:P289) -> 0
B291: U dient de dagprijs te hanteren van datum 5 januari 2024

Sheet Koeling zuivel
A1: Blauwe cellen in te vullen door de Inschrijver, betreft alleen A merk artikelen
A2: Hoofd art.groep | B2: Artikelomschrijving | C2: Verpakking | D2: Inhoud | E2: EENH | F2: Aantal totaal 2022 | H2: Uw artikelgroep | I2: Uw artikelnummer | J2: Uw artikelomschrijving | K2: uw verpakkings-eenheid | L2: uw levereenheid | M2: uw FabMerk | N2: Uw omrekenfactor tbv afname vergelijk | O2: Netto prijs, conform prijslijst incl. btw | P2: Uw netto prijs incl. btw
A3: Koeling / zuivel / conv | B3: EIEREN BRUIN L SCHARREL 53-63 GR | C3: DS | D3: 10 | E3: ST | F3: 93 | N3: 1 | O3: 0 | P3: =SUM(F3)*(N3*O3) -> 0
A4: Koeling / zuivel / conv | B4: SLAGROOM ZONDER SUIKER 35% | C4: FL. | D4: 250 | E4: GR | F4: 254 | N4: 1 | O4: 0 | P4: =SUM(F4)*(N4*O4) -> 0
A5: Koeling / zuivel / conv | B5: SLAGROOM SPUITBUS | C5: FL. | D5: 25 | E5: GR | F5: 126 | N5: 1 | O5: 0 | P5: =SUM(F5)*(N5*O5) -> 0
A6: Koeling / zuivel / conv | B6: KAAS JONG BEL.GESN. 9 PLAKKEN A 33GR | C6: PK | D6: 9 | E6: ST | F6: 72 | N6: 1 | O6: 0 | P6: =SUM(F6)*(N6*O6) -> 0
A7: Koeling / zuivel / conv | B7: KOOKROOM 20% | C7: FL. | D7: 250 | E7: ML | F7: 130 | N7: 1 | O7: 0 | P7: =SUM(F7)*(N7*O7) -> 0
A8: Koeling / zuivel / conv | B8: KAAS JONG BELEGEN 250GR | C8: ST | D8: 435 | E8: GR | F8: 86 | N8: 1 | O8: 0 | P8: =SUM(F8)*(N8*O8) -> 0
A9: Koeling / zuivel / conv | B9: MOZZARELLA | C9: ZAK | D9: 200 | E9: GR | F9: 75 | N9: 1 | O9: 0 | P9: =SUM(F9)*(N9*O9) -> 0
A10: Koeling / zuivel / conv | B10: MELK HALFVOLLE CAMPINA | C10: PK | D10: 1 | E10: L | F10: 59 | N10: 1 | O10: 0 | P10: =SUM(F10)*(N10*O10) -> 0
A11: Koeling / zuivel / conv | B11: MASCARPONE | C11: BK | D11: 250 | E11: GR | F11: 15 | N11: 1 | O11: 0 | P11: =SUM(F11)*(N11*O11) -> 0
A12: Koeling / zuivel / conv | B12: KAAS BELEGEN GESN. 9 PLAKKEN A 33GR | C12: PK | D12: 9 | E12: ST | F12: 4 | N12: 1 | O12: 0 | P12: =SUM(F12)*(N12*O12) -> 0
A13: Koeling / zuivel / conv | B13: CREME FRAICHE | C13: POT | D13: 200 | E13: GR | F13: 15 | N13: 1 | O13: 0 | P13: =SUM(F13)*(N13*O13) -> 0
A14: Koeling / zuivel / conv | B14: KAAS GERASPT 45+ | C14: ZAK | D14: 200 | E14: GR | F14: 29 | N14: 1 | O14: 0 | P14: =SUM(F14)*(N14*O14) -> 0
... A142: Koelverse producten | B142: Zure haring | C142: EM | D142: 450 | E142: gram | F142: 25 | N142: 1 | O142: 0 | P142: =SUM(F142)*(N142*O142) -> 0
B144: AAN DE OPGEGEVEN AANTALLEN ZIJN GEEN RECHTEN TE ONTLENEN | P144: =SUM(P3:P143) -> 0
B145: U dient de dagprijs te hanteren van datum 5 januari 2024

Sheet Non food
A1: Blauwe cellen in te vullen door de Inschrijver, betreft alleen A merk artikelen
A2: Hoofd art.groep | B2: Artikelomschrijving | C2: Verpakking | D2: Inhoud | E2: EENH | F2: Aantal totaal 2022 | H2: Uw artikelgroep | I2: Uw artikelnummer | J2: Uw artikelomschrijving | K2: uw verpakkings-eenheid | L2: uw levereenheid | M2: uw FabMerk | N2: Uw omrekenfactor tbv afname vergelijk | O2: Netto prijs, conform prijslijst incl. btw | P2: Uw netto prijs incl. btw
A3: Bedrijfsbenodigheden | B3: snijplank 1/2gn-325x265mm naturel | D3: 1 | E3: ST | F3: 10 | N3: 1 | O3: 0 | P3: =SUM(F3)*(N3*O3) -> 0
A4: Bedrijfsbenodigheden | B4: bakpan 28cm 5-lagen anti-aanb.*select cs | D4: 1 | E4: ST | F4: 7 | N4: 1 | O4: 0 | P4: =SUM(F4)*(N4*O4) -> 0
A5: Bedrijfsbenodigheden | B5: gn bak kunstst.1/3 325x176 2.5l 65 mm | D5: 1 | E5: ST | F5: 20 | N5: 1 | O5: 0 | P5: =SUM(F5)*(N5*O5) -> 0
A6: Bedrijfsbenodigheden | B6: gn-bak rvs 1/2-20mm 325x265mm *select cs | D6: 1 | E6: ST | F6: 12 | N6: 1 | O6: 0 | P6: =SUM(F6)*(N6*O6) -> 0
A7: Bedrijfsbenodigheden | B7: voedseldoos transparant gn2/3 15cm 13,5l | D7: 1 | E7: ST | F7: 2 | N7: 1 | O7: 0 | P7: =SUM(F7)*(N7*O7) -> 0
A8: Bedrijfsbenodigheden | B8: tourneermesje | C8: SK | D8: 3 | E8: ST | F8: 3 | N8: 1 | O8: 0 | P8: =SUM(F8)*(N8*O8) -> 0
A9: Bedrijfsbenodigheden | B9: maatbeker kunststof 2 l | D9: 1 | E9: ST | F9: 7 | N9: 1 | O9: 0 | P9: =SUM(F9)*(N9*O9) -> 0
A10: Bedrijfsbenodigheden | B10: dunschiller econome *select cs* | C10: SK | D10: 3 | E10: ST | F10: 3 | N10: 1 | O10: 0 | P10: =SUM(F10)*(N10*O10) -> 0
A11: Bedrijfsbenodigheden | B11: pannenlikker 24cm kunststof | D11: 1 | E11: ST | F11: 15 | N11: 1 | O11: 0 | P11: =SUM(F11)*(N11*O11) -> 0
A12: Bedrijfsbenodigheden | B12: spuitje 12 15mm rvs kartel/naadloos | D12: 1 | E12: ST | F12: 9 | N12: 1 | O12: 0 | P12: =SUM(F12)*(N12*O12) -> 0
A13: Bedrijfsbenodigheden | B13: roerstaafje ps zwart 16,5 cm | C13: DS | D13: 200 | E13: ST | F13: 3 | N13: 1 | O13: 0 | P13: =SUM(F13)*(N13*O13) -> 0
A14: Bedrijfsbenodigheden | B14: knijpflacon 35cl helder | D14: 1 | E14: ST | F14: 6 | N14: 1 | O14: 0 | P14: =SUM(F14)*(N14*O14) -> 0
A15: Bedrijfsbenodigheden | B15: sateprikker bamboe ø 2,5 mm / 18 cm | C15: KF | D15: 2000 | E15: ST | F15: 1 | N15: 1 | O15: 0 | P15: =SUM(F15)*(N15*O15) -> 0
A16: Bedrijfsbenodigheden | B16: cocktailprikker hout 6,5 cm | C16: KF | D16: 5000 | E16: ST | F16: 1 | N16: 1 | O16: 0 | P16: =SUM(F16)*(N16*O16) -> 0
A17: Bedrijfsbenodigheden | B17: dunschiller aluminium | D17: 1 | E17: ST | F17: 1 | N17: 1 | O17: 0 | P17: =SUM(F17)*(N17*O17) -> 0
A18: Glas/ porcelein | B18: theepot 6-kops-1,2l mat crème | D18: 1 | E18: ST | F18: 1 | N18: 1 | O18: 0 | P18: =SUM(F18)*(N18*O18) -> 0
A19: Glas/ porcelein | B19: theeglas 29cl tribeca | D19: 2 | E19: ST | F19: 2 | N19: 1 | O19: 0 | P19: =SUM(F19)*(N19*O19) -> 0
A20: Huishoudwaren | B20: vloer stofwisdoek 62x18cm op rol 50st | C20: DS | D20: 300 | E20: ST | F20: 2 | N20: 1 | O20: 0 | P20: =SUM(F20)*(N20*O20) -> 0
A21: Huishoudwaren | B21: afwasborstel s haccp wit 255x28mm | D21: 1 | E21: ST | F21: 24 | N21: 1 | O21: 0 | P21: =SUM(F21)*(N21*O21) -> 0
A22: Huishoudwaren | B22: afvalzak type c 12l wit | C22: ROL | D22: 20 | E22: ST | F22: 20 | N22: 1 | O22: 0 | P22: =SUM(F22)*(N22*O22) -> 0
A23: Huishoudwaren | B23: waxinelicht 6u | C23: ZAK | D23: 150 | E23: ST | F23: 1 | N23: 1 | O23: 0 | P23: =SUM(F23)*(N23*O23) -> 0
A24: Huishoudwaren | B24: aansteker navulbaar | D24: 1 | E24: ST | F24: 4 | N24: 1 | O24: 0 | P24: =SUM(F24)*(N24*O24) -> 0
A25: Huishoudwaren | B25: waxinelicht 8u | C25: ZAK | D25: 100 | E25: ST | F25: 1 | N25: 1 | O25: 0 | P25: =SUM(F25)*(N25*O25) -> 0
A26: Huishoudwaren | B26: afwasborstel s haccp blauw 255x28mm | D26: 1 | E26: ST | F26: 1 | N26: 1 | O26: 0 | P26: =SUM(F26)*(N26*O26) -> 0
A27: Kantoorbenodigdheden | B27: viltstift edding 3000 rond 1.5-3mm zwart | C27: PK | D27: 4 | E27: ST | F27: 3 | N27: 1 | O27: 0 | P27: =SUM(F27)*(N27*O27) -> 0
A28: Overige food | B28: sun vaatwastabletten all-in-1 | C28: DS | D28: 200 | E28: ST | F28: 2 | N28: 1 | O28: 0 | P28: =SUM(F28)*(N28*O28) -> 0
A29: Overige food | B29: andy allesreiniger vertrouwd 1l | C29: KF | D29: 3 | E29: FL | F29: 2 | N29: 1 | O29: 0 | P29: =SUM(F29)*(N29*O29) -> 0
A30: Overige food | B30: ajax allesreiniger limoen optimal 7 | C30: FL. | D30: 1250 | E30: ML | F30: 5 | N30: 1 | O30: 0 | P30: =SUM(F30)*(N30*O30) -> 0
A31: Overige food | B31: ammonia 1l | C31: KF | D31: 6 | E31: FL | F31: 1 | N31: 1 | O31: 0 | P31: =SUM(F31)*(N31*O31) -> 0
A32: Overige food | B32: onthardingszout broxo 6/15 | C32: ZAK | D32: 10 | E32: KG | F32: 1 | N32: 1 | O32: 0 | P32: =SUM(F32)*(N32*O32) -> 0
A33: Papier, servies | B33: handschoen soft nitrile pv zwart m | C33: DS | D33: 100 | E33: ST | F33: 20 | N33: 1 | O33: 0 | P33: =SUM(F33)*(N33*O33) -> 0
A34: Papier, servies | B34: papieren bord 23cm | C34: PK | D34: 100 | E34: ST | F34: 16 | N34: 1 | O34: 0 | P34: =SUM(F34)*(N34*O34) -> 0
A35: Papier, servies | B35: bakpapier select 41gr 30cmx50m | C35: DS | D35: 1 | E35: ROL | F35: 23 | N35: 1 | O35: 0 | P35: =SUM(F35)*(N35*O35) -> 0
A36: Papier, servies | B36: keukenrol tissue 2lg wit-2rol *select* | C36: KF | D36: 10 | E36: PK | F36: 9 | N36: 1 | O36: 0 | P36: =SUM(F36)*(N36*O36) -> 0
A37: Papier, servies | B37: koffiebeker karton wit 150cc | C37: KF | D37: 100 | E37: ST | F37: 25 | N37: 1 | O37: 0 | P37: =SUM(F37)*(N37*O37) -> 0
A38: Papier, servies | B38: papieren bord 18cm | C38: PK | D38: 100 | E38: ST | F38: 10 | N38: 1 | O38: 0 | P38: =SUM(F38)*(N38*O38) -> 0
A39: Papier, servies | B39: drinkrietje riet ø6-8mm / 14cm | C39: DS | D39: 50 | E39: ST | F39: 12 | N39: 1 | O39: 0 | P39: =SUM(F39)*(N39*O39) -> 0
A40: Papier, servies | B40: tafelrol damastpapier 1lgs 100m wit | D40: 1 | E40: ST | F40: 2 | N40: 1 | O40: 0 | P40: =SUM(F40)*(N40*O40) -> 0
A41: Papier, servies | B41: vershoudfolie geperf. 500/45x45cm *selec | C41: DS | D41: 1 | E41: ROL | F41: 2 | N41: 1 | O41: 0 | P41: =SUM(F41)*(N41*O41) -> 0
A42: Papier, servies | B42: servet dunilin 40x40cm wit | C42: PK | D42: 45 | E42: ST | F42: 4 | N42: 1 | O42: 0 | P42: =SUM(F42)*(N42*O42) -> 0
A43: Papier, servies | B43: afvalzakken met fixeerband 35l-10 stuks | C43: KF | D43: 3 | E43: PK | F43: 3 | N43: 1 | O43: 0 | P43: =SUM(F43)*(N43*O43) -> 0
A44: Papier, servies | B44: afvalzakken met trekband 30l-12 stuks | C44: KF | D44: 3 | E44: PK | F44: 4 | N44: 1 | O44: 0 | P44: =SUM(F44)*(N44*O44) -> 0
A45: Papier, servies | B45: beker karton scotty 180cc | C45: ROL | D45: 100 | E45: ST | F45: 7 | N45: 1 | O45: 0 | P45: =SUM(F45)*(N45*O45) -> 0
A46: Papier, servies | B46: vuilniszak blauw 180l 95x125cm | C46: ROL | D46: 10 | E46: ST | F46: 3 | N46: 1 | O46: 0 | P46: =SUM(F46)*(N46*O46) -> 0
A47: Papier, servies | B47: servet tissue 3lgs 24cm 1/4v wit | C47: PK | D47: 250 | E47: ST | F47: 1 | N47: 1 | O47: 0 | P47: =SUM(F47)*(N47*O47) -> 0
A48: Persoonlijke verzorging | B48: soapy handzeep hygiene met pomp | C48: KF | D48: 3 | E48: ST | F48: 7 | N48: 1 | O48: 0 | P48: =SUM(F48)*(N48*O48) -> 0
A49: Schoonmaakartikelen, geen zeep | B49: schoonmaakdoek keuken geel | C49: KF | D49: 25 | E49: ST | F49: 10 | N49: 1 | O49: 0 | P49: =SUM(F49)*(N49*O49) -> 0
A50: Schoonmaakartikelen, geen zeep | B50: afwasborstel zacht met schraaprand | C50: KF | D50: 4 | E50: ST | F50: 5 | N50: 1 | O50: 0 | P50: =SUM(F50)*(N50*O50) -> 0
A51: Schoonmaakartikelen, geen zeep | B51: desinfection wipes cmt 14x14cm | C51: BS | D51: 200 | E51: ST | F51: 2 | N51: 1 | O51: 0 | P51: =SUM(F51)*(N51*O51) -> 0
A52: Schoonmaakartikelen, geen zeep | B52: schuurspons klein krachtig schurend | C52: KF | D52: 20 | E52: ST | F52: 3 | N52: 1 | O52: 0 | P52: =SUM(F52)*(N52*O52) -> 0
... A54: Textiel | B54: theedoek rood/blauw 65x65cm | C54: PK | D54: 6 | E54: ST | F54: 10 | N54: 1 | O54: 0 | P54: =SUM(F54)*(N54*O54) -> 0
A55: NON FOOD | B55: Afwasmiddel ClearYellow ECO K5 | C55: FLC | D55: 1 | E55: L | F55: 25
A56: NON FOOD | B56: Afwasmiddel eco | C56: FLS | D56: 500 | E56: ML | F56: 25
A57: NON FOOD | B57: Allesreiniger Eco | C57: FLS | D57: 1 | E57: L | F57: 25
A58: NON FOOD | B58: Eco Allesreiniger Green Lemon | C58: FLS | D58: 1 | E58: L | F58: 25
A59: NON FOOD | B59: Handdoek 2 lgs zacht Multifold | C59: PAK | D59: 150 | E59: ST | F59: 25
A60: NON FOOD | B60: Keukenreiniger Suma Totaal D2- | C60: FLC | D60: 1 | E60: L | F60: 25
A61: NON FOOD | B61: Ruitenreiniger | C61: FLS | D61: 500 | E61: ML | F61: 25
A62: NON FOOD | B62: Schuimzeep extra mild | C62: FLS | D62: 1 | E62: L | F62: 25
A63: NON FOOD | B63: Schuimzeep Mild | C63: FLS | D63: 1 | E63: L | F63: 25
A64: NON FOOD | B64: Servetten white lunch | C64: PAK | D64: 500 | E64: ST | F64: 25
A65: NON FOOD | B65: Sprint 200 Pur-Eco SD 1,4L W2 | C65: FLC | D65: 1.4 | E65: L | F65: 25
A66: NON FOOD | B66: Suma Total Conc.D2.4 | C66: ZAK | D66: 1.5 | E66: L | F66: 25
... A71: NON FOOD | B71: Wiping paper centerf.M2 275m. | C71: ROL | D71: 1 | E71: ROL | F71: 25
B73: AAN DE OPGEGEVEN AANTALLEN ZIJN GEEN RECHTEN TE ONTLENEN | P73: =SUM(P3:P72) -> 0
B74: U dient de dagprijs te hanteren van datum 5 januari 2024

Sheet Bakker
A1: Blauwe cellen in te vullen door de Inschrijver, betreft alleen A merk artikelen
A2: Hoofd art.groep | B2: Artikelomschrijving | C2: Verpakking | D2: Inhoud | E2: EENH | F2: Aantal totaal 2022 | H2: Uw artikelgroep | I2: Uw artikelnummer | J2: Uw artikelomschrijving | K2: uw verpakkings-eenheid | L2: uw levereenheid | M2: uw FabMerk | N2: Uw omrekenfactor tbv afname vergelijk | O2: Netto prijs, conform prijslijst incl. btw | P2: Uw netto prijs incl. btw
A3: Brood / zoetwaren | B3: PIJNBOOMPITTEN | C3: BK | D3: 80 | E3: GR | F3: 14 | N3: 1 | O3: 0 | P3: =SUM(F3)*(N3*O3) -> 0
A4: Brood / zoetwaren | B4: SUPER PARTY MINI BAGS | C4: ZAK | D4: 480 | E4: GR | F4: 60 | N4: 1 | O4: 0 | P4: =SUM(F4)*(N4*O4) -> 0
A5: Brood / zoetwaren | B5: MARS SINGLE 18G | C5: DS | D5: 17 | E5: ST | F5: 6 | N5: 1 | O5: 0 | P5: =SUM(F5)*(N5*O5) -> 0
A6: Brood / zoetwaren | B6: SNICKERS SINGLE 18G | C6: DS | D6: 17 | E6: ST | F6: 5 | N6: 1 | O6: 0 | P6: =SUM(F6)*(N6*O6) -> 0
A7: Brood / zoetwaren | B7: TWIX 20GR | C7: DS | D7: 15 | E7: ST | F7: 6 | N7: 1 | O7: 0 | P7: =SUM(F7)*(N7*O7) -> 0
A8: Brood / zoetwaren | B8: STROOPWAFELS 12 STUKS | C8: PAK | D8: 378 | E8: GR | F8: 4 | N8: 1 | O8: 0 | P8: =SUM(F8)*(N8*O8) -> 0
A9: Brood / zoetwaren | B9: ONTBIJTKOEK 12 ST | C9: ZK | D9: 345 | E9: GR | F9: 2 | N9: 1 | O9: 0 | P9: =SUM(F9)*(N9*O9) -> 0
A10: Brood / zoetwaren | B10: MELKCHOCOLADE | C10: RP | D10: 100 | E10: GR | F10: 15 | N10: 1 | O10: 0 | P10: =SUM(F10)*(N10*O10) -> 0
A11: Brood / zoetwaren | B11: BASTOGNE 260GR | C11: PAK | D11: 22 | E11: PK | F11: 3 | N11: 1 | O11: 0 | P11: =SUM(F11)*(N11*O11) -> 0
A12: Brood / zoetwaren | B12: LIGA EVERGREEN KRENTEN 225GR | C12: DS | D12: 6 | E12: ST | F12: 4 | N12: 1 | O12: 0 | P12: =SUM(F12)*(N12*O12) -> 0
A13: Brood / zoetwaren | B13: KRENTEN | C13: ZAK | D13: 250 | E13: GR | F13: 2 | N13: 1 | O13: 0 | P13: =SUM(F13)*(N13*O13) -> 0
A14: Brood / zoetwaren | B14: BESCHUIT NATUREL MONO CA10GR | C14: PK | D14: 13 | E14: ST | F14: 4 | N14: 1 | O14: 0 | P14: =SUM(F14)*(N14*O14) -> 0
... A22: Patisserie | B22: CUPCAKE CHOCOLATE 8X40GR | C22: DS | D22: 8 | E22: ST | F22: 1 | N22: 1 | O22: 0 | P22: =SUM(F22)*(N22*O22) -> 0
B24: AAN DE OPGEGEVEN AANTALLEN ZIJN GEEN RECHTEN TE ONTLENEN | P24: =SUM(P3:P23) -> 0
B25: U dient de dagprijs te hanteren van datum 5 januari 2024

Sheet Slager
A1: Blauwe cellen in te vullen door de Inschrijver, betreft alleen A merk artikelen
A2: Hoofd art.groep | B2: Artikelomschrijving | C2: Verpakking | D2: Inhoud | E2: EENH | F2: Aantal totaal 2022 | H2: Uw artikelgroep | I2: Uw artikelnummer | J2: Uw artikelomschrijving | K2: uw verpakkings-eenheid | L2: uw levereenheid | M2: uw FabMerk | N2: Uw omrekenfactor tbv afname vergelijk | O2: Netto prijs, conform prijslijst incl. btw | P2: Uw netto prijs incl. btw
A3: Poelier | B3: KIP DIJENVLEES VERPAKT | D3: 390 | E3: GR | F3: 300 | N3: 1 | O3: 0 | P3: =SUM(F3)*(N3*O3) -> 0
A4: Poelier | B4: KALKOENFILET | D4: 150 | E4: GR | F4: 14 | N4: 1 | O4: 0 | P4: =SUM(F4)*(N4*O4) -> 0
A5: Poelier | B5: KIPPENPOTEN | D5: 600 | E5: GR | F5: 40 | N5: 1 | O5: 0 | P5: =SUM(F5)*(N5*O5) -> 0
A6: Poelier | B6: KIPBLOKJES | C6: ZAK | D6: 600 | E6: GR | F6: 5 | N6: 1 | O6: 0 | P6: =SUM(F6)*(N6*O6) -> 0
A7: Poelier | B7: KIPFILET GEROOKT | D7: 150 | E7: GR | F7: 9 | N7: 1 | O7: 0 | P7: =SUM(F7)*(N7*O7) -> 0
A8: Poelier | B8: KIP | D8: 1.3 | E8: KG | F8: 15 | N8: 1 | O8: 0 | P8: =SUM(F8)*(N8*O8) -> 0
A9: Poelier | B9: EEND TAM | D9: 280 | E9: GR | F9: 13 | N9: 1 | O9: 0 | P9: =SUM(F9)*(N9*O9) -> 0
A10: Poelier | B10: HERT BIEFSTUK | D10: 250 | E10: GR | F10: 2 | N10: 1 | O10: 0 | P10: =SUM(F10)*(N10*O10) -> 0
A11: Poelier | B11: KIP SHOARMA DIJVLEES | D11: 400 | E11: GR | F11: 5 | N11: 1 | O11: 0 | P11: =SUM(F11)*(N11*O11) -> 0
A12: Poelier | B12: WILDZWIJNFILET | D12: 240 | E12: GR | F12: 2 | N12: 1 | O12: 0 | P12: =SUM(F12)*(N12*O12) -> 0
A13: Poelier | B13: KIPDRUMSTICKS | D13: 600 | E13: GR | F13: 12.204 | N13: 1 | O13: 0 | P13: =SUM(F13)*(N13*O13) -> 0
A14: Poelier | B14: YAKITORI MALAISIA 30 GR KIPSPIES SATEH | C14: BAK | D14: 115 | E14: GR | F14: 6 | N14: 1 | O14: 0 | P14: =SUM(F14)*(N14*O14) -> 0
A15: Poelier | B15: KIP SCHNITZEL | D15: 250 | E15: GR | F15: 8 | N15: 1 | O15: 0 | P15: =SUM(F15)*(N15*O15) -> 0
A16: Poelier | B16: KIP KEBAB | D16: 400 | E16: GR | F16: 18 | N16: 1 | O16: 0 | P16: =SUM(F16)*(N16*O16) -> 0
A17: Slagerij | B17: RUNDERBIEFSTUKPUNTJES | D17: 300 | E17: GR | F17: 81 | N17: 1 | O17: 0 | P17: =SUM(F17)*(N17*O17) -> 0
A18: Slagerij | B18: ACHTERHAM | D18: 150 | E18: GR | F18: 83 | N18: 1 | O18: 0 | P18: =SUM(F18)*(N18*O18) -> 0
A19: Slagerij | B19: JULIENNE SPEKREEPJES | C19: ZAK | D19: 300 | E19: GR | F19: 62 | N19: 1 | O19: 0 | P19: =SUM(F19)*(N19*O19) -> 0
A20: Slagerij | B20: RUNDERGEHAKT | C20: BAK | D20: 500 | E20: GR | F20: 58 | N20: 1 | O20: 0 | P20: =SUM(F20)*(N20*O20) -> 0
A21: Slagerij | B21: RUNDER KOGELBIEFSTUK | D21: 260 | E21: GR | F21: 15 | N21: 1 | O21: 0 | P21: =SUM(F21)*(N21*O21) -> 0
A22: Slagerij | B22: SPEKSTAAFJES | C22: BAK | D22: 250 | E22: GR | F22: 15 | N22: 1 | O22: 0 | P22: =SUM(F22)*(N22*O22) -> 0
A23: Slagerij | B23: BEENHAM GESN. CA.6 PLAK | C23: PK | D23: 100 | E23: GR | F23: 14 | N23: 1 | O23: 0 | P23: =SUM(F23)*(N23*O23) -> 0
A24: Slagerij | B24: ACHTERHAM HALFROND GESNEDEN | C24: PK | D24: 150 | E24: GR | F24: 52 | N24: 1 | O24: 0 | P24: =SUM(F24)*(N24*O24) -> 0
A25: Slagerij | B25: ONTBIJTSPEK ROND | C25: PK | D25: 150 | E25: GR | F25: 10 | N25: 1 | O25: 0 | P25: =SUM(F25)*(N25*O25) -> 0
A26: Slagerij | B26: COBURGER RAUWE HAM GESN. | C26: PK | D26: 70 | E26: GR | F26: 7 | N26: 1 | O26: 0 | P26: =SUM(F26)*(N26*O26) -> 0
A27: Slagerij | B27: SALAMI GESNEDEN | C27: PK | D27: 150 | E27: GR | F27: 27 | N27: 1 | O27: 0 | P27: =SUM(F27)*(N27*O27) -> 0
A28: Slagerij | B28: RUNDERSCHENKEL GEZAAGD 3 ST | D28: 270 | E28: GR | F28: 7 | N28: 1 | O28: 0 | P28: =SUM(F28)*(N28*O28) -> 0
A29: Slagerij | B29: ROOKWORST RUND SLAGERS | D29: 285 | E29: GR | F29: 5 | N29: 1 | O29: 0 | P29: =SUM(F29)*(N29*O29) -> 0
A30: Slagerij | B30: KATENSPEK | D30: 150 | E30: GR | F30: 5 | N30: 1 | O30: 0 | P30: =SUM(F30)*(N30*O30) -> 0
A31: Slagerij | B31: RUNDERGEHAKT 500 GRAM | D31: 500 | E31: GR | F31: 5 | N31: 1 | O31: 0 | P31: =SUM(F31)*(N31*O31) -> 0
A32: Slagerij | B32: SCHOUDERHAM GESNEDEN | C32: PK | D32: 150 | E32: GR | F32: 5 | N32: 1 | O32: 0 | P32: =SUM(F32)*(N32*O32) -> 0
A33: Slagerij | B33: VARKENS SPARE RIB | D33: 720 | E33: GR | F33: 5 | N33: 1 | O33: 0 | P33: =SUM(F33)*(N33*O33) -> 0
A34: Slagerij | B34: BACON GESNEDEN | C34: PK | D34: 150 | E34: GR | F34: 10 | N34: 1 | O34: 0 | P34: =SUM(F34)*(N34*O34) -> 0
A35: Slagerij | B35: GEHAKTBALLEN DS 12 X 30 GR | C35: BAK | D35: 12 | E35: ST | F35: 15 | N35: 1 | O35: 0 | P35: =SUM(F35)*(N35*O35) -> 0
A36: Slagerij | B36: SERRANOHAM GESNEDEN 500GR RV | C36: PK | D36: 500 | E36: GR | F36: 2 | N36: 1 | O36: 0 | P36: =SUM(F36)*(N36*O36) -> 0
A37: Slagerij | B37: DRENTSE DROGE WORST CA. 100GR | D37: 1 | E37: ST | F37: 6 | N37: 1 | O37: 0 | P37: =SUM(F37)*(N37*O37) -> 0
A38: Slagerij | B38: FILET AMERICAIN | C38: BAK | D38: 150 | E38: GR | F38: 1 | N38: 1 | O38: 0 | P38: =SUM(F38)*(N38*O38) -> 0
A39: Slagerij | B39: HOH GEHAKT 500 GRAM | D39: 500 | E39: GR | F39: 0.501 | N39: 1 | O39: 0 | P39: =SUM(F39)*(N39*O39) -> 0
B41: AAN DE OPGEGEVEN AANTALLEN ZIJN GEEN RECHTEN TE ONTLENEN | N41: Totaal assortiment | P41: =SUM(P3:P40) -> 0
B42: U dient de dagprijs te hanteren van datum 5 januari 2024

Sheet Vis
A1: Blauwe cellen in te vullen door de Inschrijver, betreft alleen A merk artikelen
A2: Hoofd art.groep | B2: Artikelomschrijving | C2: Verpakking | D2: Inhoud | E2: EENH | F2: Aantal totaal 2022 | H2: Uw artikelgroep | I2: Uw artikelnummer | J2: Uw artikelomschrijving | K2: uw verpakkings-eenheid | L2: uw levereenheid | M2: uw FabMerk | N2: Uw omrekenfactor tbv afname vergelijk | O2: Netto prijs, conform prijslijst incl. btw | P2: Uw netto prijs incl. btw
A3: Vis | B3: zalm gerookt longsliced | C3: BK | D3: 100 | E3: GR | F3: 100 | N3: 1 | O3: 0 | P3: =SUM(F3)*(N3*O3) -> 0
A4: Vis | B4: zalmfilet geportioneerd | D4: 225 | E4: GR | F4: 42 | N4: 1 | O4: 0 | P4: =SUM(F4)*(N4*O4) -> 0
A5: Vis | B5: makreel groot 500/600 gr | D5: 165 | E5: GR | F5: 15 | N5: 1 | O5: 0 | P5: =SUM(F5)*(N5*O5) -> 0
A6: Vis | B6: kabeljauw heel met kop | D6: 250 | E6: GR | F6: 15 | N6: 1 | O6: 0 | P6: =SUM(F6)*(N6*O6) -> 0
A7: Vis | B7: forelfilet gerookt | C7: BK | D7: 125 | E7: GR | F7: 10 | N7: 1 | O7: 0 | P7: =SUM(F7)*(N7*O7) -> 0
A8: Vis | B8: Cocktail garnalen | C8: PAK | D8: 100 | E8: GR | F8: 25 | N8: 1 | O8: 0 | P8: =SUM(F8)*(N8*O8) -> 0
A9: Vis | B9: Gebackenes Schollenfilet | C9: ST | D9: 90 | E9: GR | F9: 25 | N9: 1 | O9: 0 | P9: =SUM(F9)*(N9*O9) -> 0
A10: Vis | B10: Haring Hnw z.staart p.st. vac | C10: ST | D10: 80 | E10: GR | F10: 25 | N10: 1 | O10: 0 | P10: =SUM(F10)*(N10*O10) -> 0
A11: Vis | B11: Haring in het zuur 400 gr | C11: EM | D11: 400 | E11: GR | F11: 25 | N11: 1 | O11: 0 | P11: =SUM(F11)*(N11*O11) -> 0
A12: Vis | B12: Heekloin gebakken 110/130gr | C12: ST | D12: 110/130 | E12: GR | F12: 25 | N12: 1 | O12: 0 | P12: =SUM(F12)*(N12*O12) -> 0
A13: Vis | B13: Heekloins gebakken 75/90gr Ver | C13: ST | D13: 75/90 | E13: GR | F13: 25 | N13: 1 | O13: 0 | P13: =SUM(F13)*(N13*O13) -> 0
A14: Vis | B14: Holl. Nieuwe 10 st MSC | C14: ST | D14: 10 | E14: ST | F14: 25 | N14: 1 | O14: 0 | P14: =SUM(F14)*(N14*O14) -> 0
A15: Vis | B15: Kabeljauwfilet MSC 300gr | C15: ST | D15: 300 | E15: GR | F15: 25 | N15: 1 | O15: 0 | P15: =SUM(F15)*(N15*O15) -> 0
A16: Vis | B16: Kibbeling MSC 500gr 1/3G | C16: BAK | D16: 500 | E16: GR | F16: 25 | N16: 1 | O16: 0 | P16: =SUM(F16)*(N16*O16) -> 0
A17: Vis | B17: Koolvis gebakken 110/130gr | C17: ST | D17: 110/130 | E17: GR | F17: 25 | N17: 1 | O17: 0 | P17: =SUM(F17)*(N17*O17) -> 0
A18: Vis | B18: Lekkerbek gebak. MSC 110/130gr | C18: ST | D18: 110/130 | E18: GR | F18: 25 | N18: 1 | O18: 0 | P18: =SUM(F18)*(N18*O18) -> 0
A19: Vis | B19: Mosselvlees MSC 150gr | C19: ST | D19: 150 | E19: GR | F19: 25 | N19: 1 | O19: 0 | P19: =SUM(F19)*(N19*O19) -> 0
A20: Vis | B20: Rolmops 400 gr | C20: EM | D20: 400 | E20: GR | F20: 25 | N20: 1 | O20: 0 | P20: =SUM(F20)*(N20*O20) -> 0
A21: Vis | B21: Roze garnalen msc | C21: PAK | D21: 150 | E21: GR | F21: 25 | N21: 1 | O21: 0 | P21: =SUM(F21)*(N21*O21) -> 0
A22: Vis | B22: Scholfilet MSC 300gr | C22: ST | D22: 300 | E22: GR | F22: 25 | N22: 1 | O22: 0 | P22: =SUM(F22)*(N22*O22) -> 0
A23: Vis | B23: Seehechtfilet im Teigmantel | C23: ST | D23: 110/130 | E23: GR | F23: 25 | N23: 1 | O23: 0 | P23: =SUM(F23)*(N23*O23) -> 0
A24: Vis | B24: Tongscharfilet vers 80/100gr | C24: ST | D24: 1 | E24: ST | F24: 25 | N24: 1 | O24: 0 | P24: =SUM(F24)*(N24*O24) -> 0
A25: Vis | B25: Visschnitzel gebak. 75/90gr Ve | C25: ST | D25: 75/90 | E25: GR | F25: 25 | N25: 1 | O25: 0 | P25: =SUM(F25)*(N25*O25) -> 0
A26: Vis | B26: Visstick gebak. na- 75/90gr Ve | C26: ST | D26: 75/90 | E26: GR | F26: 25 | N26: 1 | O26: 0 | P26: =SUM(F26)*(N26*O26) -> 0
A27: Vis | B27: Wokgarnalen knoflook | C27: PAK | D27: 200 | E27: GR | F27: 25 | N27: 1 | O27: 0 | P27: =SUM(F27)*(N27*O27) -> 0
B30: AAN DE OPGEGEVEN AANTALLEN ZIJN GEEN RECHTEN TE ONTLENEN | N30: Totaal assortiment | P30: =SUM(P3:P29) -> 0
B31: U dient de dagprijs te hanteren van datum 5 januari 2024

Sheet Diepvries
A1: Blauwe cellen in te vullen door de Inschrijver, betreft alleen A merk artikelen
A2: Hoofd art.groep | B2: Artikelomschrijving | C2: Verpakking | D2: Inhoud | E2: EENH | F2: Aantal totaal 2022 | H2: Uw artikelgroep | I2: Uw artikelnummer | J2: Uw artikelomschrijving | K2: uw verpakkings-eenheid | L2: uw levereenheid | M2: uw FabMerk | N2: Uw omrekenfactor tbv afname vergelijk | O2: Netto prijs, conform prijslijst incl. btw | P2: Uw netto prijs incl. btw
A3: Diepvries | B3: Frikandel 75Gr | C3: DS | D3: 20 | E3: ST | F3: 35 | N3: 1 | O3: 0 | P3: =SUM(F3)*(N3*O3) -> 0
A4: Diepvries | B4: Kaassouffle Mini 25Gr | C4: DS | D4: 12 | E4: ST | F4: 14 | N4: 1 | O4: 0 | P4: =SUM(F4)*(N4*O4) -> 0
A5: Diepvries | B5: Bitterballen Rundvl. 25% 25Gr | C5: DS | D5: 12 | E5: ST | F5: 9 | N5: 1 | O5: 0 | P5: =SUM(F5)*(N5*O5) -> 0
A6: Diepvries | B6: Desem Vloerbrood Wit 250Gr | D6: 1 | E6: ST | F6: 12 | N6: 1 | O6: 0 | P6: =SUM(F6)*(N6*O6) -> 0
A7: Diepvries | B7: Roomijs Vanille | C7: BK | D7: 900 | E7: ML | F7: 3 | N7: 1 | O7: 0 | P7: =SUM(F7)*(N7*O7) -> 0
A8: Diepvries | B8: Cornetto Ijs 90 Ml | C8: DS | D8: 8 | E8: ST | F8: 3 | N8: 1 | O8: 0 | P8: =SUM(F8)*(N8*O8) -> 0
A9: Diepvries | B9: Waterijs Raket 660Ml | C9: DS | D9: 12 | E9: ST | F9: 3 | N9: 1 | O9: 0 | P9: =SUM(F9)*(N9*O9) -> 0
A10: Diepvries | B10: Kroket 12X75Gr | C10: DS | D10: 12 | E10: ST | F10: 2 | N10: 1 | O10: 0 | P10: =SUM(F10)*(N10*O10) -> 0
A11: Diepvries | B11: Pita Grieks 10X50Gr | C11: ZAK | D11: 10 | E11: ST | F11: 5 | N11: 1 | O11: 0 | P11: =SUM(F11)*(N11*O11) -> 0
A12: Diepvries | B12: Croissant 90Gr Roomboter | C12: ZAK | D12: 4 | E12: ST | F12: 2 | N12: 1 | O12: 0 | P12: =SUM(F12)*(N12*O12) -> 0
A13: Diepvries | B13: Spinazie | C13: DS | D13: 750 | E13: GR | F13: 1 | N13: 1 | O13: 0 | P13: =SUM(F13)*(N13*O13) -> 0
A14: Diepvries | B14: Frites Vlaams | C14: ZAK | D14: 750 | E14: GR | F14: 1 | N14: 1 | O14: 0 | P14: =SUM(F14)*(N14*O14) -> 0
A15: Diepvries koffie/conv/limo | B15: Koffie Medium Roast Cafitesse Dv | C15: PK | D15: 125 | E15: CL | F15: 13 | N15: 1 | O15: 0 | P15: =SUM(F15)*(N15*O15) -> 0
A16: Diepvries | B16: 3 chocolates roomijs | C16: CUP | D16: 900 | E16: ML | F16: 50 | N16: 1 | O16: 0 | P16: =SUM(F16)*(N16*O16) -> 0
A17: Diepvries | B17: Bami speciaal | C17: ZAK | D17: 475 | E17: GR | F17: 50 | N17: 1 | O17: 0 | P17: =SUM(F17)*(N17*O17) -> 0
A18: Diepvries | B18: Biologisch Roomijs Vanille | C18: BAK | D18: 900 | E18: ML | F18: 50 | N18: 1 | O18: 0 | P18: =SUM(F18)*(N18*O18) -> 0
... A59: Diepvries | B59: Zalm salade ASC | C59: BAK | D59: 50 | E59: GR | F59: 50 | N59: 1 | O59: 0 | P59: =SUM(F59)*(N59*O59) -> 0
B61: AAN DE OPGEGEVEN AANTALLEN ZIJN GEEN RECHTEN TE ONTLENEN | P61: =SUM(P3:P60) -> 0
B62: U dient de dagprijs te hanteren van datum 5 januari 2024

Sheet Dranken
A1: Blauwe cellen in te vullen door de Inschrijver, betreft alleen A merk artikelen
A2: Hoofd art.groep | B2: Artikelomschrijving | C2: Verpakking | D2: Inhoud | E2: EENH | F2: Aantal totaal 2022 | H2: Uw artikelgroep | I2: Uw artikelnummer | J2: Uw artikelomschrijving | K2: uw verpakkings-eenheid | L2: uw levereenheid | M2: uw FabMerk | N2: Uw omrekenfactor tbv afname vergelijk | O2: Netto prijs, conform prijslijst incl. btw | P2: Uw netto prijs incl. btw
A3: Aperitief wijnen | B3: AMARETTO | C3: FL. | D3: 70 | E3: CL | F3: 4 | N3: 1 | O3: 0 | P3: =SUM(F3)*(N3*O3) -> 0
A4: Aperitief wijnen | B4: MONIN PECHE | C4: FL. | D4: 70 | E4: CL | F4: 4 | N4: 1 | O4: 0 | P4: =SUM(F4)*(N4*O4) -> 0
A5: Bier | B5: HEINEKEN 0.0% 30CL | C5: KRT | D5: 24 | E5: FL. | F5: 9 | N5: 1 | O5: 0 | P5: =SUM(F5)*(N5*O5) -> 0
A6: Bier | B6: GROLSCH 30CL | C6: KRT | D6: 24 | E6: FL. | F6: 7 | N6: 1 | O6: 0 | P6: =SUM(F6)*(N6*O6) -> 0
A7: Bier | B7: AMSTEL RADLER 30CL | C7: KRT | D7: 24 | E7: FL. | F7: 7 | N7: 1 | O7: 0 | P7: =SUM(F7)*(N7*O7) -> 0
A8: Frisdrank | B8: COCA COLA ZERO 0,25CL | C8: TR | D8: 8 | E8: FL. | F8: 8 | N8: 1 | O8: 0 | P8: =SUM(F8)*(N8*O8) -> 0
A9: Frisdrank | B9: COCA COLA REGULAR 0,250CL PET | C9: TR | D9: 8 | E9: FL. | F9: 9 | N9: 1 | O9: 0 | P9: =SUM(F9)*(N9*O9) -> 0
A10: Frisdrank | B10: APPELSIENTJE | C10: FL. | D10: 1 | E10: LT | F10: 6 | N10: 1 | O10: 0 | P10: =SUM(F10)*(N10*O10) -> 0
A11: Frisdrank | B11: SPA BLAUW 6X0,5CL | C11: TR | D11: 6 | E11: FL. | F11: 8 | N11: 1 | O11: 0 | P11: =SUM(F11)*(N11*O11) -> 0
A12: Frisdrank | B12: CHAUDFONTAINE STILL 0,5L PET | C12: FL. | D12: 50 | E12: CL | F12: 9 | N12: 1 | O12: 0 | P12: =SUM(F12)*(N12*O12) -> 0
A13: Frisdrank | B13: FANTA ORANGE REGULAR 8X0,25CL | C13: TR | D13: 8 | E13: FL. | F13: 8 | N13: 1 | O13: 0 | P13: =SUM(F13)*(N13*O13) -> 0
A14: Frisdrank | B14: ICE TEA SPARKLING 6X0,33 | C14: TR | D14: 6 | E14: FL. | F14: 5 | N14: 1 | O14: 0 | P14: =SUM(F14)*(N14*O14) -> 0
... A23: Wijnen | B23: GRÜNER VELTLINER ZEISEN | C23: FL. | D23: 75 | E23: CL | F23: 24 | N23: 1 | O23: 0 | P23: =SUM(F23)*(N23*O23) -> 0
B25: AAN DE OPGEGEVEN AANTALLEN ZIJN GEEN RECHTEN TE ONTLENEN | P25: =SUM(P3:P24) -> 0
B26: U dient de dagprijs te hanteren van datum 5 januari 2024

Sheet Kosten logistiek
B1: bestellingen moeten herkenbaar per afdeling aangeleverd worden | G1: kosten per drop in te vullen door inschrijver
A2: Locatie | B2: Waar afleveren (afleverpunten) | C2: adres | D2: nr | E2: plaats | F2: Aantal aflevermomenten per week (fictief) | G2: Aantal drops per jaar (52 weken) | H2: weekenden za en zo | I2: kosten per keer onafhankelijk van het aantal levermomenten per week | J2: totaal logistiek per locatie | K2: opmerkingen
F3: 7 | G3: 260 | H3: 104 | I3: per keer | K3: Uw netto prijs incl. btw
A4: Kazerne Enschede Centrum | B4: begane grond | C4: Spaansland 20 | E4: Enschede | F4: 7 | G4: 260 | H4: 104 | I4: 0 | J4: =I4*(G4+H4) -> 0
A5: Kazerne Enschede Noord | B5: begane grond | C5: Lijsterstraat 15 | E5: Enschede | F5: 7 | G5: 260 | H5: 104 | I5: 0 | J5: =I5*(G5+H5) -> 0
A6: Kazerne Hengelo Centrum | B6: begane grond | C6: Lansinkesweg 59 | E6: Hengelo | F6: 7 | G6: 260 | H6: 104 | I6: 0 | J6: =I6*(G6+H6) -> 0
A7: Kazerne Almelo Centrum | B7: begane grond | C7: Henri Dunantstraat 11 | E7: Almelo | F7: 7 | G7: 260 | H7: 104 | I7: 0 | J7: =I7*(G7+H7) -> 0
G8: Totaal kosten logistiek | J8: =SUM(J4:J7) -> 0

Sheet bijkomende kosten
A1: Bijkomende kosten | B1: Inschrijver dient de blauw gearceerde cellen in te vullen
A5: Overige kosten die Inschrijver wenst door te belasten | B5: opmerkingen | C5: aantal | E5: per jaar
E6: 0
E7: 0
E8: 0
E9: 0
E10: 0
C12: totaal bijkomende kosten incl. btw | E12: =SUM(E3:E11) -> 0

Sheet Totalisatie
A1: Calculatieblad 5b | B1: Inschrijver dient de blauw gearceerde cellen in te vullen
A3: Totaalblad
A4: Voorbeeld assortiment | B4: bedragen incl. btw
A5: AGF | B5: =AGF!O38 -> 0
A6: Dkw | B6: =DKW!P290 -> 0
A7: Koeling zuivel | B7: ='Koeling zuivel'!P144 -> 0
A8: Non food | B8: ='Non food'!P73 -> 0
A9: Bakker | B9: =Bakker!P24 -> 0
A10: Slagerij | B10: =Slager!P41 -> 0
A11: Vis | B11: =Vis!P30 -> 0
A12: Diepvries | B12: =Diepvries!P61 -> 0
A13: Dranken | B13: =Dranken!P25 -> 0
A14: Kosten logistiek | B14: ='Kosten logistiek'!J8 -> 0
A15: Bijkomende kosten | B15: ='bijkomende kosten'!E12 -> 0
A16: Totaalbedrag voor gunning | B16: =SUM(B5:B15) -> 0 | C16: Weging: 25 punten
A19: Naam Inschrijver
A20: Naam ondertekenaar
A21: Handtekening
A22: Datum
