Workbook

Sheet Perceel 1 - Brokerdiensten
A1: Perceel 1 | B1: Brokerdiensten | E1: BU-202404-Rogplus
A3: Naam inschrijver | C3: Vul hier uw bedrijfsnaam in
C5: Opslag per uur | D5: minimaal | E5: maximaal | F5: Score
A6: Opslag 1 | B6: eerste 500 uur | D6: =Instellingen!B2 -> 2.5 | E6: =Instellingen!C2 -> 6 | F6: =IFERROR(IF(C6<D6,0,(IF(C6>E6,"ONGELDIG",(100*Instellingen!$B$14)-(C6-D6)/(E6-D6)*((100*Instellingen!$B$14)-1))))*Instellingen!D2,"uitsluiting") -> 0
A7: Opslag 2 | B7: 501e uur en verder | D7: =Instellingen!B3 -> 0.8 | E7: =Instellingen!C3 -> 3 | F7: =IFERROR(IF(C7<D7,0,(IF(C7>E7,"ONGELDIG",(100*Instellingen!$B$14)-(C7-D7)/(E7-D7)*((100*Instellingen!$B$14)-1))))*Instellingen!D3,"uitsluiting") -> 0
E8: totale score | F8: =SUM(F6:F7) -> 0

Sheet Perceel 2 - Uitzenddiensten
A1: Perceel 2 | B1: Uitzenddiensten | E1: BU-202404-Rogplus
A3: Naam inschrijver | C3: Vul hier uw bedrijfsnaam in
A5: Fase | C5: Omrekenfactor per fase | D5: minimaal | E5: maximaal | F5: score
A6: =Instellingen!A7 -> Fase A1 | D6: =Instellingen!B7 -> 1.85 | E6: =Instellingen!C7 -> 3 | F6: =IFERROR(IF(C6<D6,0,(IF(C6>E6,"ONGELDIG",(100*Instellingen!$B$15)-(C6-D6)/(E6-D6)*((100*Instellingen!$B$15)-1))))*Instellingen!D7,"uitsluiting") -> 0
A7: =Instellingen!A8 -> Fase A2 | D7: =Instellingen!B8 -> 1.85 | E7: =Instellingen!C8 -> 3 | F7: =IFERROR(IF(C7<D7,0,(IF(C7>E7,"ONGELDIG",(100*Instellingen!$B$14)-(C7-D7)/(E7-D7)*((100*Instellingen!$B$14)-1))))*Instellingen!D8,"uitsluiting") -> 0
A8: =Instellingen!A9 -> Fase B | D8: =Instellingen!B9 -> 1.85 | E8: =Instellingen!C9 -> 3 | F8: =IFERROR(IF(C8<D8,0,(IF(C8>E8,"ONGELDIG",(100*Instellingen!$B$14)-(C8-D8)/(E8-D8)*((100*Instellingen!$B$14)-1))))*Instellingen!D9,"uitsluiting") -> 0
A9: =Instellingen!A10 -> Fase C | D9: =Instellingen!B10 -> 1.85 | E9: =Instellingen!C10 -> 3 | F9: =IFERROR(IF(C9<D9,0,(IF(C9>E9,"ONGELDIG",(100*Instellingen!$B$14)-(C9-D9)/(E9-D9)*((100*Instellingen!$B$14)-1))))*Instellingen!D10,"uitsluiting") -> 0
E10: totale score | F10: =SUM(F6:F9) -> 0

Sheet Instellingen
A1: Perceel 1 | B1: minimaal | C1: maximaal | D1: aandeel
A2: uur 1-500 | B2: 2.5 | C2: 6 | D2: 0.5
A3: uur 501+ | B3: 0.8 | C3: 3 | D3: =1-D2 -> 0.5
A6: Perceel 2 | B6: min ORF | C6: Max ORF | D6: aandeel
A7: Fase A1 | B7: 1.85 | C7: 3 | D7: 0.05
A8: Fase A2 | B8: 1.85 | C8: 3 | D8: 0.25
A9: Fase B | B9: 1.85 | C9: 3 | D9: 0.4
A10: Fase C | B10: 1.85 | C10: 3 | D10: =1-SUM(D7:D9) -> 0.3
A13: Aandeel | B13: prijs | C13: kwaliteit
A14: p1 | B14: 0.2 | C14: =1-B14 -> 0.8
A15: P2 | B15: 0.2 | C15: =1-B15 -> 0.8
