Workbook

Sheet Instructieblad
A1: Bijlage Calculatiebestand
A3: Uitleg bij het invullen van het calculatiebestand
A5: Alle kosten dienen te worden opgegeven exclusief BTW.
A6: De door inschrijver aangeboden tarieven zijn ‘all-in’, dat wil zeggen dat er dient te worden uitgegaan van een integraal calculatie-uurtarief voor de schoonmaak en glasbewassing waarin alle kosten, waaronder de kosten voor direct toezicht, administratieve werkzaamheden, suppletiekosten, investeringskosten, vervoerskosten, (duurzame) machines en overige additionele kosten zijn inbegrepen.
A7: Eenmalige bonussen of vergoedingen, worden niet in de beoordeling meegenomen.
A8: Er is een drempel- en plafondbedrag ingesteld voor de kosten voor schoonmaak (met uitzondering van de regiewerkzaamheden) en glasbewassing . Het drempelbedrag voor de jaarprijs voor schoonmaak en glasbewaasing is € 42.500,- en het plafondbedrag is €53.000,- (beiden) exclusief BTW.
A9: Tabblad TOTALEN | B9: De kosten voor het schoonmaakonderhoud en glasbewassing worden in dit tabblad gesplitst per onderdeel en locatie. Deze kosten vormen samen de totale jaarprijs schoonmaak en glasbewassing exclusief BTW. Op dit tabblad hoeft de inschrijver niks in te vullen, de totalen worden automatisch berekend.
A10: Tabblad "KANTOOR SWVZHW" EN "OPDC" | B10: In de tabbladen "kantoor SWVZHW" en "OPDC" zijn de ruimtestaten van beide locaties opgenomen. In kolom F worden de vierkante meters weergegeven van de ruimten die in onderhoud zijn bij de inschrijver. Kolom J geeft het werkprogramma weer welke in de betreffende ruimte van toepassing is. Kolom K geeft aan in welke frequentie de ruimte dient te worden schoongemaakt. De totale kosten voor de schoonmaak wordt berekend door de vermenigvuldiging van de gecalculeerde productie-uren op jaarbasis (kolom N) met het opgegeven uurtarief (kolom M). De prestatienorm dient te zijn gebaseerd op het reguliere onderhoud zoals beschreven in het werkprogramma en periodieke werkzaamheden. De beurtprijs voor topcoaten/recoaten van linoleumvloeren (bij OPDC) wordt als apart onderdeel uitgevraagd in kolom Q & R en telt niet mee in de beoordeling van de jaarprijs voor de totale schoonmaak. Inschrijver dient kolom L & M in te vullen in deze tabbladen.
A11: GLASSTAAT | B11: In tabblad "Glasstaat" dient de inschrijver de m2-prijs voor de glasbewassing in te vullen in de geel gearceerde kolom E. De prijs per m2 wordt vermenigvuldigd met het aantal m2 en de frequentie per jaar.
A12: REGIE | B12: In tabblad "Regie" dient de inschrijver in de kolommen B en C de prijs in te vullen voor de gevraagde werkzaamheden als beschreven in kolom A. Kolom D telt de totalen per onderdeel samen. De inschrijver met de laagste prijs per onderdeel ontvangt de maximale punten (kolom E) voor dit onderdeel. De inschrijver met de meeste punten voor alle onderdelen ontvangt het volledige aantal punten voor regiewerkzaamheden (4). De andere inschrijvers krijgen punten toegekend in de verhouding van hun aantal punten ten opzichte van het aantal punten van de inschrijver die de meeste punten op alle onderdelen in totaal heeft gescoord.

Sheet Totalen
A1: Locatie | B1: Adres | C1: M2 | D1: Kosten schoonmaak | E1: Kosten glasbewassing
A2: Kantoor SWVZHW | B2: Johanna Westerdijkplein 1, Den Haag | C2: ='Kantoor SWVZHW'!F35 -> 830.11 | D2: ='Kantoor SWVZHW'!O35 -> #DIV/0! | E2: =Glasstaat!G6 -> 0
A3: OPDC ZHW | B3: Gouwestraat 13, Den Haag | C3: =OPDC!F97 -> 1589.24 | D3: =OPDC!O97 -> #DIV/0! | E3: =Glasstaat!G11 -> 0
B4: Totaal: | C4: =SUM(C2:C3) -> 2419.35 | D4: =SUM(D2:D3) -> #DIV/0! | E4: =E2+E3 -> 0
A6: Totaalkosten Schoonmaak en glasbewassing: | C6: =D4+E4 -> #DIV/0!

Sheet Kantoor SWVZHW
A1: Locatie | B1: Adres | C1: Verdieping | D1: Ruimtenummer | E1: Ruimte omschrijving | F1: Oppervlakte m² | G1: Niet in onderhoud | H1: Vloerafwerking | I1: VSR-code | J1: Werkprogramma | K1: Frequentie | L1: Prestatienorm | M1: Uurtarief | N1: Uren per jaar | O1: Kosten per jaar | P1: Kosten m2/jaar | Q1: Opmerkingen
A2: Kantoor SWVZHW | B2: Johanna Westerdijkplein 1, Den Haag | C2: 1e | D2: 0.01 | E2: Backoffice | F2: 33.52 | H2: Marmoleum | I2: Bureaukamers | J2: Bureaukamers | K2: 138 | N2: =(F2/L2)*K2 -> #DIV/0! | O2: =N2*M2 -> #DIV/0! | P2: =O2/F2 -> #DIV/0!
A3: Kantoor SWVZHW | B3: Johanna Westerdijkplein 1, Den Haag | C3: 1e | D3: 0.02 | E3: Belcel | F3: 1.83 | H3: Tapijt | I3: Verkeersruimten | J3: Verkeersruimten | K3: 138 | N3: =(F3/L3)*K3 -> #DIV/0! | O3: =N3*M3 -> #DIV/0! | P3: =O3/F3 -> #DIV/0!
A4: Kantoor SWVZHW | B4: Johanna Westerdijkplein 1, Den Haag | C4: 1e | D4: 0.03 | E4: Belcel | F4: 1.83 | H4: Tapijt | I4: Verkeersruimten | J4: Verkeersruimten | K4: 138 | N4: =(F4/L4)*K4 -> #DIV/0! | O4: =N4*M4 -> #DIV/0! | P4: =O4/F4 -> #DIV/0!
A5: Kantoor SWVZHW | B5: Johanna Westerdijkplein 1, Den Haag | C5: 1e | D5: 0.04 | E5: Belcel | F5: 1.83 | H5: Tapijt | I5: Verkeersruimten | J5: Verkeersruimten | K5: 138 | N5: =(F5/L5)*K5 -> #DIV/0! | O5: =N5*M5 -> #DIV/0! | P5: =O5/F5 -> #DIV/0!
A6: Kantoor SWVZHW | B6: Johanna Westerdijkplein 1, Den Haag | C6: 1e | D6: 0.05A | E6: Hal/Gang | F6: 58 | H6: Tapijt | I6: Verkeersruimten | J6: Verkeersruimten | K6: 138 | N6: =(F6/L6)*K6 -> #DIV/0! | O6: =N6*M6 -> #DIV/0! | P6: =O6/F6 -> #DIV/0!
A7: Kantoor SWVZHW | B7: Johanna Westerdijkplein 1, Den Haag | C7: 1e | D7: 0.05B | E7: Hal/Gang | F7: 58 | H7: Tapijt | I7: Verkeersruimten | J7: Verkeersruimten | K7: 138 | N7: =(F7/L7)*K7 -> #DIV/0! | O7: =N7*M7 -> #DIV/0! | P7: =O7/F7 -> #DIV/0!
A8: Kantoor SWVZHW | B8: Johanna Westerdijkplein 1, Den Haag | C8: 1e | D8: 0.05C | E8: Hal/Gang | F8: 58 | H8: Tapijt | I8: Verkeersruimten | J8: Verkeersruimten | K8: 138 | N8: =(F8/L8)*K8 -> #DIV/0! | O8: =N8*M8 -> #DIV/0! | P8: =O8/F8 -> #DIV/0!
A9: Kantoor SWVZHW | B9: Johanna Westerdijkplein 1, Den Haag | C9: 1e | D9: 0.06 | E9: Kantine | F9: 69.02 | H9: Marmoleum | I9: Keuken | J9: Keuken | K9: 138 | N9: =(F9/L9)*K9 -> #DIV/0! | O9: =N9*M9 -> #DIV/0! | P9: =O9/F9 -> #DIV/0!
A10: Kantoor SWVZHW | B10: Johanna Westerdijkplein 1, Den Haag | C10: 1e | D10: 0.07 | E10: Kantoor | F10: 21.73 | H10: Tapijt | I10: Bureaukamers | J10: Bureaukamers | K10: 138 | N10: =(F10/L10)*K10 -> #DIV/0! | O10: =N10*M10 -> #DIV/0! | P10: =O10/F10 -> #DIV/0!
A11: Kantoor SWVZHW | B11: Johanna Westerdijkplein 1, Den Haag | C11: 1e | D11: 0.08 | E11: Kantoor | F11: 21.73 | H11: Tapijt | I11: Bureaukamers | J11: Bureaukamers | K11: 138 | N11: =(F11/L11)*K11 -> #DIV/0! | O11: =N11*M11 -> #DIV/0! | P11: =O11/F11 -> #DIV/0!
A12: Kantoor SWVZHW | B12: Johanna Westerdijkplein 1, Den Haag | C12: 1e | D12: 0.09 | E12: Kantoor | F12: 21.73 | H12: Tapijt | I12: Bureaukamers | J12: Bureaukamers | K12: 138 | N12: =(F12/L12)*K12 -> #DIV/0! | O12: =N12*M12 -> #DIV/0! | P12: =O12/F12 -> #DIV/0!
A13: Kantoor SWVZHW | B13: Johanna Westerdijkplein 1, Den Haag | C13: 1e | D13: 0.10 | E13: Kantoor | F13: 24.84 | H13: Tapijt | I13: Bureaukamers | J13: Bureaukamers | K13: 138 | N13: =(F13/L13)*K13 -> #DIV/0! | O13: =N13*M13 -> #DIV/0! | P13: =O13/F13 -> #DIV/0!
... A33: Kantoor SWVZHW | B33: Johanna Westerdijkplein 1, Den Haag | C33: 1e | D33: 0.29 | E33: Vergaderruimte | F33: 70.5 | H33: Tapijt | I33: Bureaukamers | J33: Bureaukamers | K33: 138 | N33: =(F33/L33)*K33 -> #DIV/0! | O33: =N33*M33 -> #DIV/0! | P33: =O33/F33 -> #DIV/0!
A34: Kantoor SWVZHW | B34: Johanna Westerdijkplein 1, Den Haag | C34: 1e | E34: Werkkast | G34: 4.02 | H34: Tapijt | I34: Berging
A35: Kantoor SWVZHW | B35: Johanna Westerdijkplein 1, Den Haag | E35: Totalen: | F35: =SUM(F2:F33) -> 830.11 | N35: =SUM(N2:N33) -> #DIV/0! | O35: =SUM(O2:O33) -> #DIV/0!

Sheet OPDC
A1: Locatie | B1: Adres | C1: Verdieping | D1: Ruimtenummer | E1: Ruimte omschrijving | F1: Oppervlakte m² | G1: Niet in onderhoud | H1: Vloerafwerking | I1: VSR-code | J1: Werkprogramma | K1: Frequentie | L1: Prestatienorm | M1: Uurtarief | N1: Uren per jaar | O1: Kosten per jaar | P1: Kosten m2/jaar | Q1: Beurtprijs topcoat | R1: Beurtprijs recoat | S1: Opmerkingen
A2: OPDC ZHW | B2: Gouwestraat 13, Den Haag | C2: Kelder | D2: -1 | E2: Kelder | G2: 27.83 | H2: Beton
A3: OPDC ZHW | B3: Gouwestraat 13, Den Haag | C3: Begane grond | D3: 0.01 | E3: Ingang | F3: 4.2 | H3: Tapijt | I3: Verkeersruimten | J3: Verkeersruimte | K3: 205 | N3: =(F3/L3)*K3 -> #DIV/0! | O3: =N3*M3 -> #DIV/0! | P3: =O3/F3 -> #DIV/0!
A4: OPDC ZHW | B4: Gouwestraat 13, Den Haag | C4: Begane grond | D4: 0.02 | E4: Hal ingang | F4: 72.14 | H4: Tegels | I4: Verkeersruimten | J4: Verkeersruimte | K4: 205 | N4: =(F4/L4)*K4 -> #DIV/0! | O4: =N4*M4 -> #DIV/0! | P4: =O4/F4 -> #DIV/0!
A5: OPDC ZHW | B5: Gouwestraat 13, Den Haag | C5: Begane grond | D5: 0.02A | E5: Sanitair | F5: 1.12 | H5: Gietvloer | I5: Sanitair | J5: Sanitair | K5: 205 | N5: =(F5/L5)*K5 -> #DIV/0! | O5: =N5*M5 -> #DIV/0! | P5: =O5/F5 -> #DIV/0!
A6: OPDC ZHW | B6: Gouwestraat 13, Den Haag | C6: Begane grond | D6: 0.02B | E6: Werkkast | G6: 2.1 | H6: Gietvloer
A7: OPDC ZHW | B7: Gouwestraat 13, Den Haag | C7: Begane grond | D7: 0.02C | E7: Sanitair | F7: 1.12 | H7: Gietvloer | I7: Sanitair | J7: Sanitair | K7: 205 | N7: =(F7/L7)*K7 -> #DIV/0! | O7: =N7*M7 -> #DIV/0! | P7: =O7/F7 -> #DIV/0!
A8: OPDC ZHW | B8: Gouwestraat 13, Den Haag | C8: Begane grond | D8: 0.02D | E8: Sanitair | F8: 1.12 | H8: Gietvloer | I8: Sanitair | J8: Sanitair | K8: 205 | N8: =(F8/L8)*K8 -> #DIV/0! | O8: =N8*M8 -> #DIV/0! | P8: =O8/F8 -> #DIV/0!
A9: OPDC ZHW | B9: Gouwestraat 13, Den Haag | C9: Begane grond | D9: 0.03 | E9: Kantoor administratie | F9: 9.2 | H9: Linoleum | I9: Bureaukamers | J9: Bureaukamers | K9: 164 | N9: =(F9/L9)*K9 -> #DIV/0! | O9: =N9*M9 -> #DIV/0! | P9: =O9/F9 -> #DIV/0!
A10: OPDC ZHW | B10: Gouwestraat 13, Den Haag | C10: Begane grond | D10: 0.04 | E10: Kantoor directie | F10: 9.2 | H10: Linoleum | I10: Bureaukamers | J10: Bureaukamers | K10: 164 | N10: =(F10/L10)*K10 -> #DIV/0! | O10: =N10*M10 -> #DIV/0! | P10: =O10/F10 -> #DIV/0!
A11: OPDC ZHW | B11: Gouwestraat 13, Den Haag | C11: Begane grond | D11: 0.05 | E11: Gang | F11: 12.95 | H11: Tegels | I11: Verkeersruimten | J11: Verkeersruimte | K11: 205 | N11: =(F11/L11)*K11 -> #DIV/0! | O11: =N11*M11 -> #DIV/0! | P11: =O11/F11 -> #DIV/0!
A12: OPDC ZHW | B12: Gouwestraat 13, Den Haag | C12: Begane grond | D12: 0.06 | E12: Concierge | F12: 11.95 | H12: Linoleum | I12: Bureaukamers | J12: Bureaukamers | K12: 164 | N12: =(F12/L12)*K12 -> #DIV/0! | O12: =N12*M12 -> #DIV/0! | P12: =O12/F12 -> #DIV/0!
A13: OPDC ZHW | B13: Gouwestraat 13, Den Haag | C13: Begane grond | D13: 0.07 | E13: Leslokaal | F13: 29.64 | H13: Tapijt | I13: Groepslokalen | J13: Groepslokalen | K13: 205 | N13: =(F13/L13)*K13 -> #DIV/0! | O13: =N13*M13 -> #DIV/0! | P13: =O13/F13 -> #DIV/0!
A14: OPDC ZHW | B14: Gouwestraat 13, Den Haag | C14: Begane grond | D14: 0.08 | E14: Leslokaal | F14: 49.1 | H14: Linoleum | I14: Groepslokalen | J14: Groepslokalen | K14: 205 | N14: =(F14/L14)*K14 -> #DIV/0! | O14: =N14*M14 -> #DIV/0! | P14: =O14/F14 -> #DIV/0!
A15: OPDC ZHW | B15: Gouwestraat 13, Den Haag | C15: Begane grond | D15: 0.09 | E15: Leslokaal | F15: 19.1 | H15: Linoleum | I15: Groepslokalen | J15: Groepslokalen | K15: 205 | N15: =(F15/L15)*K15 -> #DIV/0! | O15: =N15*M15 -> #DIV/0! | P15: =O15/F15 -> #DIV/0!
A16: OPDC ZHW | B16: Gouwestraat 13, Den Haag | C16: Begane grond | D16: 0.20A | E16: Trappenhuis | F16: 10.24 | H16: Linoleum | I16: Verkeersruimten | J16: Verkeersruimte | K16: 205 | N16: =(F16/L16)*K16 -> #DIV/0! | O16: =N16*M16 -> #DIV/0! | P16: =O16/F16 -> #DIV/0!
A17: OPDC ZHW | B17: Gouwestraat 13, Den Haag | C17: Begane grond | D17: 0.22 | E17: Gang kantine | F17: 24.1 | H17: Tapijt | I17: Verkeersruimten | J17: Verkeersruimte | K17: 205 | N17: =(F17/L17)*K17 -> #DIV/0! | O17: =N17*M17 -> #DIV/0! | P17: =O17/F17 -> #DIV/0!
A18: OPDC ZHW | B18: Gouwestraat 13, Den Haag | C18: Begane grond | D18: 0.22A | E18: Gang kantine | F18: 20.6 | H18: Tegels | I18: Verkeersruimten | J18: Verkeersruimte | K18: 205 | N18: =(F18/L18)*K18 -> #DIV/0! | O18: =N18*M18 -> #DIV/0! | P18: =O18/F18 -> #DIV/0!
... A28: OPDC ZHW | B28: Gouwestraat 13, Den Haag | C28: Begane grond | D28: 0.25 | E28: Keuken | F28: 26.09 | H28: Gietvloer | I28: Keuken | J28: Keuken | K28: 205 | N28: =(F28/L28)*K28 -> #DIV/0! | O28: =N28*M28 -> #DIV/0! | P28: =O28/F28 -> #DIV/0!
A29: OPDC ZHW | B29: Gouwestraat 13, Den Haag | C29: Begane grond | D29: 0.25A | E29: Magazijn | G29: 4.1 | H29: Gietvloer
A30: OPDC ZHW | B30: Gouwestraat 13, Den Haag | C30: Begane grond | D30: 0.26 | E30: (kook) leslokaal | F30: 39.2 | H30: Gietvloer | I30: Groepslokalen | J30: Groepslokalen | K30: 205 | N30: =(F30/L30)*K30 -> #DIV/0! | O30: =N30*M30 -> #DIV/0! | P30: =O30/F30 -> #DIV/0!
A31: OPDC ZHW | B31: Gouwestraat 13, Den Haag | C31: Begane grond | D31: 0.27 | E31: Magazijn | G31: 2.8 | H31: Gietvloer
A32: OPDC ZHW | B32: Gouwestraat 13, Den Haag | C32: Begane grond | D32: 0.28 | E32: Magazijn | G32: 2.8 | H32: Gietvloer
A33: OPDC ZHW | B33: Gouwestraat 13, Den Haag | C33: Begane grond | D33: 0.28A | E33: Kantoor | F33: 8 | H33: Tegels | I33: Bureaukamers | J33: Bureaukamers | K33: 164 | N33: =(F33/L33)*K33 -> #DIV/0! | O33: =N33*M33 -> #DIV/0! | P33: =O33/F33 -> #DIV/0!
A34: OPDC ZHW | B34: Gouwestraat 13, Den Haag | C34: Begane grond | D34: 0.29 | E34: Magazijn | G34: 5.93 | H34: Gietvloer | I34: Sanitair | J34: Sanitair
A35: OPDC ZHW | B35: Gouwestraat 13, Den Haag | C35: Begane grond | D35: 0.30 | E35: Sanitair | F35: 1.66 | H35: Gietvloer | I35: Sanitair | J35: Sanitair | K35: 205 | N35: =(F35/L35)*K35 -> #DIV/0! | O35: =N35*M35 -> #DIV/0! | P35: =O35/F35 -> #DIV/0!
A36: OPDC ZHW | B36: Gouwestraat 13, Den Haag | C36: Begane grond | D36: 0.31 | E36: Sanitair | F36: 1.66 | H36: Gietvloer | I36: Sanitair | J36: Sanitair | K36: 205 | N36: =(F36/L36)*K36 -> #DIV/0! | O36: =N36*M36 -> #DIV/0! | P36: =O36/F36 -> #DIV/0!
A37: OPDC ZHW | B37: Gouwestraat 13, Den Haag | C37: Begane grond | D37: 0.32 | E37: Wasruimte | F37: 19 | H37: Gietvloer | I37: Verkeersruimten | J37: Verkeersruimte | K37: 205 | N37: =(F37/L37)*K37 -> #DIV/0! | O37: =N37*M37 -> #DIV/0! | P37: =O37/F37 -> #DIV/0!
A38: OPDC ZHW | B38: Gouwestraat 13, Den Haag | C38: Begane grond | D38: 0.33 | E38: Gang | F38: 6.2 | H38: Gietvloer | I38: Verkeersruimten | J38: Verkeersruimte | K38: 205 | N38: =(F38/L38)*K38 -> #DIV/0! | O38: =N38*M38 -> #DIV/0! | P38: =O38/F38 -> #DIV/0!
A39: OPDC ZHW | B39: Gouwestraat 13, Den Haag | C39: Begane grond | D39: 0.34 | E39: Technieklokaal | F39: 75.2 | H39: Industrievloer | I39: Groepslokalen | J39: Groepslokalen | K39: 205 | N39: =(F39/L39)*K39 -> #DIV/0! | O39: =N39*M39 -> #DIV/0! | P39: =O39/F39 -> #DIV/0!
A40: OPDC ZHW | B40: Gouwestraat 13, Den Haag | C40: Begane grond | D40: 0.35 | E40: Kantoor gymmeester | F40: 5.1 | H40: Linoleum | I40: Bureaukamers | J40: Bureaukamers | K40: 164 | N40: =(F40/L40)*K40 -> #DIV/0! | O40: =N40*M40 -> #DIV/0! | P40: =O40/F40 -> #DIV/0!
A41: OPDC ZHW | B41: Gouwestraat 13, Den Haag | C41: Begane grond | D41: 0.36 | E41: Kantoor gymmeester | F41: 4.1 | H41: Linoleum | I41: Bureaukamers | J41: Bureaukamers | K41: 164 | N41: =(F41/L41)*K41 -> #DIV/0! | O41: =N41*M41 -> #DIV/0! | P41: =O41/F41 -> #DIV/0!
A42: OPDC ZHW | B42: Gouwestraat 13, Den Haag | C42: Begane grond | D42: 0.37 | E42: Gymzaal | F42: 143.4 | H42: Kurklinoleum/Gietvloer | I42: Gymzaal | J42: Gymzaal | K42: 205 | N42: =(F42/L42)*K42 -> #DIV/0! | O42: =N42*M42 -> #DIV/0! | P42: =O42/F42 -> #DIV/0!
A43: OPDC ZHW | B43: Gouwestraat 13, Den Haag | C43: Begane grond | D43: 0.38 | E43: Toestelruimte | F43: 6.1 | H43: Kurklinoleum/Gietvloer | I43: Gymzaal | J43: Gymzaal | K43: 205 | N43: =(F43/L43)*K43 -> #DIV/0! | O43: =N43*M43 -> #DIV/0! | P43: =O43/F43 -> #DIV/0!
A44: OPDC ZHW | B44: Gouwestraat 13, Den Haag | C44: Begane grond | D44: 0.39 | E44: Hal gymzaal | F44: 8.7 | H44: Gietvloer | I44: Verkeersruimten | J44: Verkeersruimte | K44: 205 | N44: =(F44/L44)*K44 -> #DIV/0! | O44: =N44*M44 -> #DIV/0! | P44: =O44/F44 -> #DIV/0!
A45: OPDC ZHW | B45: Gouwestraat 13, Den Haag | C45: Begane grond | D45: 0.40 | E45: Sanitair | F45: 1.8 | H45: Gietvloer | I45: Sanitair | J45: Sanitair | K45: 205 | N45: =(F45/L45)*K45 -> #DIV/0! | O45: =N45*M45 -> #DIV/0! | P45: =O45/F45 -> #DIV/0!
A46: OPDC ZHW | B46: Gouwestraat 13, Den Haag | C46: Begane grond | D46: 0.41 | E46: Sanitair | F46: 1.8 | H46: Gietvloer | I46: Sanitair | J46: Sanitair | K46: 205 | N46: =(F46/L46)*K46 -> #DIV/0! | O46: =N46*M46 -> #DIV/0! | P46: =O46/F46 -> #DIV/0!
... A49: OPDC ZHW | B49: Gouwestraat 13, Den Haag | C49: Begane grond | D49: 0.44 | E49: Doucheruimte | F49: 1.1 | H49: Gietvloer | I49: Sanitair | J49: Sanitair | K49: 205 | N49: =(F49/L49)*K49 -> #DIV/0! | O49: =N49*M49 -> #DIV/0! | P49: =O49/F49 -> #DIV/0!
A50: OPDC ZHW | B50: Gouwestraat 13, Den Haag | C50: Portocabins? | E50: Kantoor | F50: 6.16 | H50: Vinyl | I50: Bureaukamers | J50: Bureaukamers | K50: 164 | N50: =(F50/L50)*K50 -> #DIV/0! | O50: =N50*M50 -> #DIV/0! | P50: =O50/F50 -> #DIV/0!
A51: OPDC ZHW | B51: Gouwestraat 13, Den Haag | C51: Portocabins? | E51: Kantoor | F51: 6.16 | H51: Vinyl | I51: Bureaukamers | J51: Bureaukamers | K51: 164 | N51: =(F51/L51)*K51 -> #DIV/0! | O51: =N51*M51 -> #DIV/0! | P51: =O51/F51 -> #DIV/0!
A52: OPDC ZHW | B52: Gouwestraat 13, Den Haag | C52: 1e | D52: 1.02 | E52: Zorgkantoor | F52: 41.03 | H52: Linoleum | I52: Bureaukamers | J52: Bureaukamers | K52: 164 | N52: =(F52/L52)*K52 -> #DIV/0! | O52: =N52*M52 -> #DIV/0! | P52: =O52/F52 -> #DIV/0!
A53: OPDC ZHW | B53: Gouwestraat 13, Den Haag | C53: 1e | D53: 1.03 | E53: Werkkast | G53: 2.1 | H53: Gietvloer
A54: OPDC ZHW | B54: Gouwestraat 13, Den Haag | C54: 1e | D54: 1.04 | E54: Sanitair | F54: 1.12 | H54: Gietvloer | I54: Sanitair | J54: Sanitair | K54: 205 | N54: =(F54/L54)*K54 -> #DIV/0! | O54: =N54*M54 -> #DIV/0! | P54: =O54/F54 -> #DIV/0!
A55: OPDC ZHW | B55: Gouwestraat 13, Den Haag | C55: 1e | D55: 1.05 | E55: Gang | F55: 27.6 | H55: Tegels | I55: Verkeersruimten | J55: Verkeersruimte | K55: 205 | N55: =(F55/L55)*K55 -> #DIV/0! | O55: =N55*M55 -> #DIV/0! | P55: =O55/F55 -> #DIV/0!
A56: OPDC ZHW | B56: Gouwestraat 13, Den Haag | C56: 1e | D56: 1.06 | E56: Kantoor | F56: 8.3 | H56: Linoleum | I56: Bureaukamers | J56: Bureaukamers | K56: 164 | N56: =(F56/L56)*K56 -> #DIV/0! | O56: =N56*M56 -> #DIV/0! | P56: =O56/F56 -> #DIV/0!
A57: OPDC ZHW | B57: Gouwestraat 13, Den Haag | C57: 1e | D57: 1.07 | E57: Kantoor | F57: 5.8 | H57: Linoleum | I57: Bureaukamers | J57: Bureaukamers | K57: 164 | N57: =(F57/L57)*K57 -> #DIV/0! | O57: =N57*M57 -> #DIV/0! | P57: =O57/F57 -> #DIV/0!
A58: OPDC ZHW | B58: Gouwestraat 13, Den Haag | C58: 1e | D58: 1.08 | E58: Gang | F58: 14.23 | H58: Tegels | I58: Verkeersruimten | J58: Verkeersruimte | K58: 205 | N58: =(F58/L58)*K58 -> #DIV/0! | O58: =N58*M58 -> #DIV/0! | P58: =O58/F58 -> #DIV/0!
A59: OPDC ZHW | B59: Gouwestraat 13, Den Haag | C59: 1e | D59: 1.09 | E59: Leslokaal | F59: 44.9 | H59: Linoleum | I59: Groepslokalen | J59: Groepslokalen | K59: 205 | N59: =(F59/L59)*K59 -> #DIV/0! | O59: =N59*M59 -> #DIV/0! | P59: =O59/F59 -> #DIV/0!
A60: OPDC ZHW | B60: Gouwestraat 13, Den Haag | C60: 1e | D60: 1.10 | E60: Leslokaal | F60: 42 | H60: Linoleum | I60: Groepslokalen | J60: Groepslokalen | K60: 205 | N60: =(F60/L60)*K60 -> #DIV/0! | O60: =N60*M60 -> #DIV/0! | P60: =O60/F60 -> #DIV/0!
A61: OPDC ZHW | B61: Gouwestraat 13, Den Haag | C61: 1e | D61: 1.11 | E61: Kantoor | F61: 5.2 | H61: Linoleum | I61: Bureaukamers | J61: Bureaukamers | K61: 164 | N61: =(F61/L61)*K61 -> #DIV/0! | O61: =N61*M61 -> #DIV/0! | P61: =O61/F61 -> #DIV/0!
A62: OPDC ZHW | B62: Gouwestraat 13, Den Haag | C62: 1e | D62: 1.12 | E62: Sanitair | F62: 1.12 | H62: Gietvloer | I62: Sanitair | J62: Sanitair | K62: 205 | N62: =(F62/L62)*K62 -> #DIV/0! | O62: =N62*M62 -> #DIV/0! | P62: =O62/F62 -> #DIV/0!
A63: OPDC ZHW | B63: Gouwestraat 13, Den Haag | C63: 1e | D63: 1.12A | E63: Sanitair | F63: 1.12 | H63: Gietvloer | I63: Sanitair | J63: Sanitair | K63: 205 | N63: =(F63/L63)*K63 -> #DIV/0! | O63: =N63*M63 -> #DIV/0! | P63: =O63/F63 -> #DIV/0!
A64: OPDC ZHW | B64: Gouwestraat 13, Den Haag | C64: 1e | D64: 1.13 | E64: Trappenhuis | F64: 10.1 | H64: Linoleum | I64: Verkeersruimten | J64: Verkeersruimte | K64: 205 | N64: =(F64/L64)*K64 -> #DIV/0! | O64: =N64*M64 -> #DIV/0! | P64: =O64/F64 -> #DIV/0!
A65: OPDC ZHW | B65: Gouwestraat 13, Den Haag | C65: 1e | D65: 1.14 | E65: Theater | F65: 119.78 | H65: Linoleum | I65: Groepslokalen | J65: Groepslokalen | K65: 205 | N65: =(F65/L65)*K65 -> #DIV/0! | O65: =N65*M65 -> #DIV/0! | P65: =O65/F65 -> #DIV/0!
... A69: OPDC ZHW | B69: Gouwestraat 13, Den Haag | C69: 1e | D69: 1.17 | E69: Trappenhuis | F69: 10.34 | H69: Linoleum | I69: Verkeersruimten | J69: Verkeersruimte | K69: 205 | N69: =(F69/L69)*K69 -> #DIV/0! | O69: =N69*M69 -> #DIV/0! | P69: =O69/F69 -> #DIV/0!
A70: OPDC ZHW | B70: Gouwestraat 13, Den Haag | C70: 1e | D70: 1.18 | E70: Ketelhuis | G70: 8.1 | H70: Beton
A71: OPDC ZHW | B71: Gouwestraat 13, Den Haag | C71: 1e | D71: 1.19 | E71: Sanitair | F71: 1.12 | H71: Gietvloer | I71: Sanitair | J71: Sanitair | K71: 205 | N71: =(F71/L71)*K71 -> #DIV/0! | O71: =N71*M71 -> #DIV/0! | P71: =O71/F71 -> #DIV/0!
A72: OPDC ZHW | B72: Gouwestraat 13, Den Haag | C72: 1e | D72: 1.20 | E72: Werkkast | G72: 2.1 | H72: Gietvloer
A73: OPDC ZHW | B73: Gouwestraat 13, Den Haag | C73: 1e | D73: 1.21 | E73: Kantoor | F73: 5.2 | H73: Tegels | I73: Bureaukamers | J73: Bureaukamers | K73: 164 | N73: =(F73/L73)*K73 -> #DIV/0! | O73: =N73*M73 -> #DIV/0! | P73: =O73/F73 -> #DIV/0!
A74: OPDC ZHW | B74: Gouwestraat 13, Den Haag | C74: 1e | D74: 1.22 | E74: Kantoor | F74: 5.22 | H74: Tegels | I74: Bureaukamers | J74: Bureaukamers | K74: 164 | N74: =(F74/L74)*K74 -> #DIV/0! | O74: =N74*M74 -> #DIV/0! | P74: =O74/F74 -> #DIV/0!
A75: OPDC ZHW | B75: Gouwestraat 13, Den Haag | C75: 1e | D75: 1.23 | E75: Gang | F75: 18.6 | H75: Tegels | I75: Verkeersruimten | J75: Verkeersruimte | K75: 205 | N75: =(F75/L75)*K75 -> #DIV/0! | O75: =N75*M75 -> #DIV/0! | P75: =O75/F75 -> #DIV/0!
A76: OPDC ZHW | B76: Gouwestraat 13, Den Haag | C76: 1e | D76: 1.24 | E76: Leslokaal | F76: 50.86 | H76: Linoleum | I76: Groepslokalen | J76: Groepslokalen | K76: 205 | N76: =(F76/L76)*K76 -> #DIV/0! | O76: =N76*M76 -> #DIV/0! | P76: =O76/F76 -> #DIV/0!
A77: OPDC ZHW | B77: Gouwestraat 13, Den Haag | C77: 1e | D77: 1.25 | E77: Leslokaal | F77: 50.86 | H77: Linoleum | I77: Groepslokalen | J77: Groepslokalen | K77: 205 | N77: =(F77/L77)*K77 -> #DIV/0! | O77: =N77*M77 -> #DIV/0! | P77: =O77/F77 -> #DIV/0!
A78: OPDC ZHW | B78: Gouwestraat 13, Den Haag | C78: 1e | D78: 1.26 | E78: Leslokaal | F78: 50.86 | H78: Linoleum | I78: Groepslokalen | J78: Groepslokalen | K78: 205 | N78: =(F78/L78)*K78 -> #DIV/0! | O78: =N78*M78 -> #DIV/0! | P78: =O78/F78 -> #DIV/0!
A79: OPDC ZHW | B79: Gouwestraat 13, Den Haag | C79: 1e | D79: 1.27 | E79: Leslokaal | F79: 50.86 | H79: Linoleum | I79: Groepslokalen | J79: Groepslokalen | K79: 205 | N79: =(F79/L79)*K79 -> #DIV/0! | O79: =N79*M79 -> #DIV/0! | P79: =O79/F79 -> #DIV/0!
A80: OPDC ZHW | B80: Gouwestraat 13, Den Haag | C80: 1e | D80: 1.28 | E80: Sanitair | F80: 1.12 | H80: Gietvloer | I80: Sanitair | J80: Sanitair | K80: 205 | N80: =(F80/L80)*K80 -> #DIV/0! | O80: =N80*M80 -> #DIV/0! | P80: =O80/F80 -> #DIV/0!
A81: OPDC ZHW | B81: Gouwestraat 13, Den Haag | C81: 1e | D81: 1.29 | E81: Sanitair | F81: 1.12 | H81: Gietvloer | I81: Sanitair | J81: Sanitair | K81: 205 | N81: =(F81/L81)*K81 -> #DIV/0! | O81: =N81*M81 -> #DIV/0! | P81: =O81/F81 -> #DIV/0!
A82: OPDC ZHW | B82: Gouwestraat 13, Den Haag | C82: 1e | D82: 1.30 | E82: Sanitair | F82: 1.12 | H82: Gietvloer | I82: Sanitair | J82: Sanitair | K82: 205 | N82: =(F82/L82)*K82 -> #DIV/0! | O82: =N82*M82 -> #DIV/0! | P82: =O82/F82 -> #DIV/0!
A83: OPDC ZHW | B83: Gouwestraat 13, Den Haag | C83: 1e | D83: 1.31 | E83: Sanitair | F83: 1.12 | H83: Gietvloer | I83: Sanitair | J83: Sanitair | K83: 205 | N83: =(F83/L83)*K83 -> #DIV/0! | O83: =N83*M83 -> #DIV/0! | P83: =O83/F83 -> #DIV/0!
A84: OPDC ZHW | B84: Gouwestraat 13, Den Haag | C84: 1e | D84: 1.32 | E84: Sanitair | F84: 1.12 | H84: Gietvloer | I84: Sanitair | J84: Sanitair | K84: 205 | N84: =(F84/L84)*K84 -> #DIV/0! | O84: =N84*M84 -> #DIV/0! | P84: =O84/F84 -> #DIV/0!
... A94: OPDC ZHW | B94: Gouwestraat 13, Den Haag | C94: 2e | D94: 2.06 | E94: Sanitair | F94: 1.12 | H94: Gietvloer | I94: Sanitair | J94: Sanitair | K94: 205 | N94: =(F94/L94)*K94 -> #DIV/0! | O94: =N94*M94 -> #DIV/0! | P94: =O94/F94 -> #DIV/0!
A95: OPDC ZHW | B95: Gouwestraat 13, Den Haag | C95: 2e | D95: 2.07 | E95: Werkkast | G95: 1.12 | H95: Gietvloer
A96: OPDC ZHW | B96: Gouwestraat 13, Den Haag | C96: 2e | D96: 2.08 | E96: Sanitair | F96: 1.12 | H96: Gietvloer | I96: Sanitair | J96: Sanitair | K96: 205 | N96: =(F96/L96)*K96 -> #DIV/0! | O96: =N96*M96 -> #DIV/0! | P96: =O96/F96 -> #DIV/0!
A97: OPDC ZHW | B97: Gouwestraat 13, Den Haag | E97: Totalen: | F97: =SUM(F2:F96) -> 1589.24 | N97: =SUM(N3:N96) -> #DIV/0! | O97: =SUM(O3:O96) -> #DIV/0!

Sheet Glasstaat
A1: Glasstaat gevelglas en separatieglas
C2: Te bewassen m2 oppervlakte | D2: Frequentie per jaar | E2: m2 prijs | F2: Beurtprijs (kolom C x kolom E) | G2: Totaalprijs glasreiniging (kolom D x kolom F)
A3: 1 | B3: Kantoor SWVZHW
B4: Gevelglas Binnenzijde | C4: 301.77 | D4: 3 | F4: =C4*E4 -> 0 | G4: =D4*F4 -> 0
B5: Separatieglas Dubbelzijdig | C5: 376.1 | D5: 3 | F5: =C5*E5 -> 0 | G5: =D5*F5 -> 0
B6: Subtotaal | C6: =SUM(C4:C5) -> 677.87 | F6: =F4+F5 -> 0 | G6: =G4+G5 -> 0
A7: 2 | B7: OPDC ZHW
B8: Gevelglas Buitenzijde | C8: 274.88 | D8: 3 | F8: =C8*E8 -> 0 | G8: =D8*F8 -> 0
B9: Gevelglas Binnenzijde | C9: 274.88 | D9: 3 | F9: =C9*E9 -> 0 | G9: =D9*F9 -> 0
B10: Separatieglas Dubbelzijdig | C10: 188 | D10: 3 | F10: =C10*E10 -> 0 | G10: =D10*F10 -> 0
B11: Subtotaal | C11: =SUM(C8:C10) -> 737.76 | F11: =SUM(F8:F10) -> 0 | G11: =SUM(G8:G10) -> 0

Sheet Regie
A1: Tapijt reinigen (incl in- en uitruimen) | B1: Tot 100 m2 | C1: Vanaf 100 m2 | D1: Totaal | E1: Maximaal aantal te behalen punten
A2: Prijs per m2 sproeiextractie | D2: =B2+C2+B3+C3+B4+C4 -> 0 | E2: 4
A3: Prijs per m2 impregneren/ vuilwerende methode
A5: Linoleum/ harde vloeren reinigen (incl. in en uitruimen) | B5: tot 100 m2 | C5: 100 m2 - 1000 m2
A6: prijs per m2 stofwissen | D6: =B6+C6+B7+C7+B8+C8+B9+C9+B10+C10+B11+C11+B12+C12 -> 0 | E6: 8
A7: Prijs per m2 moppen
A8: Prijs per m2 sprayen
A9: Prijs per m2 boenen
A10: Prijs per m2 schrobzuigen
A11: Prijs per m2 topcoat
A12: Prijs per m2 recoat
A14: Tegelvloer reinigen (incl. in en uitruimen) | B14: tot 100 m2 | C14: 100 m2 - 500 m2
A15: Prijs per m2 stofzuigen | D15: =B15+C15+B16+C16+B17+C17 -> 0 | E15: 2
A16: Prijs per m2 moppen
A17: Prijs per m2 schrobzuigen
A19: Sportvloer reinigen | B19: Tot 200 m2 | C19: Vanaf 200 m2
A20: Prijs per m2 stofwissen | D20: =B20+C20+B21+C21+B22+C22 -> 0 | E20: 2
A21: Prijs per m2 moppen
A22: Prijs per m2 schrobzuigen
A24: Reinigen van vitrage (inclusief afhalen en ophangen) | B24: per M2
A25: Prijs per m2 jalozieën/lamellen (verticaal en horizontaal) | D25: =B25 -> 0 | E25: 4
A26: Extra schoonmaak sanitair | B26: tot 100 m2 | C26: vanaf 100 m2
A27: Prijs per M2 naloopronde | D27: =B27+C27 -> 0 | E27: 6
A28: Reiniging schoolmeubilair | B28: Prijs per stuk
A29: Reinigen stoelen (stoffen bekleding) | D29: =B29+B30+B31+B32 -> 0 | E29: 4
A30: Reinigen stoelen (hout en kunststof)
A31: Reinigen tafeltjes
A32: Reinigen banken (o.a. hout, kunststof)
A34: Graffiti verwijderen | B34: tot 10 m2 | C34: vanaf 10 m2
A35: Prijs per m2 graffiti verwijderen | D35: =B35+C35 -> 0 | E35: 2
A36: Bouwschoonmaak | B36: Prijs per m2
A37: tot 250 m2 | D37: =B37+B38+B39 -> 0 | E37: 4
A38: tot 1000 m2
A39: vanaf 1000 m²
A41: Inzet schoonmaakkracht dag 06:00-21:30 uur | B41: Kosten per uur
A42: Uurtarief | D42: =B42 -> 0 | E42: 6
A43: Inzet schoonmaakkracht avond 21:30-00:00 uur | B43: Kosten per uur
A44: Uurtarief | D44: =B44 -> 0 | E44: 4
A45: Inzet schoonmaakkracht weekend | B45: Kosten per uur
A46: Uurtarief | D46: =B46 -> 0 | E46: 2
A47: Totaal | E47: =SUM(E2+E6+E15+E20+E25+E27+E29+E35+E37+E42+E44+E46) -> 48
