Workbook

Sheet 0 Leeswijzer
A1: BIJLAGE 5 - Tab 0 Leeswijzer
A3: Tariefstelling 2024 | B3: DJI-DGV Versie Nota van Inlichtingen 2
B4: Kenmerk IUC DJI/INEA/NA/2024-1
A5: Tab | B5: Toelichting | C5: Tabblad toevoegen aan Inschrijving?
A6: 1 Uurloon | B6: Zie o.a. ook eis 10.2, hoofdstuk 10, Programma van Eisen (bijlage A) Inschrijver vindt in tabblad 1 de actuele bruto Uurlonen, gebaseerd op de cao Rijk (hoofdstuk 6.3) salarissen per schaal en periodiek. Het Uurloon voor Uitzendkrachten wordt bepaald door het bruto maandsalaris te delen door 156. In de tabbladen 0 en 1 vult Inschrijver niets in. Inschrijver dient in de overige tabbladen van deze Tariefstelling de geel gemarkeerde velden in te vullen. | C6: Ja (tabblad 1)
A7: 1 t/m 2d Opbouw Uurtarief | B7: Zie o.a. ook eis 10.20, hoofdstuk 10, Programma van Eisen (bijlage A) Deelnemer betaalt een Uurtarief aan Opdrachtnemer voor elk (door een Uitzendkracht gewerkt) uur dat op basis van het bepaalde in de Aanbestedingsstukken in rekening wordt gebracht bij Deelnemer. Het Uurtarief is het resultaat van het Uurloon (d.w.z. bruto uurloon bij Deelnemer uit tabblad 1 Tariefstelling, bijlage 5) vermenigvuldigd met de van toepassing zijnde Omrekenfactor. De Omrekenfactor is het resultaat van de loonsomfactor vermenigvuldigd met de bureaumarge. Dus: Uurtarief = Uurloon * Omrekenfactor Omrekenfactor = loonsomfactor * bureaumarge In deze Tariefstelling vult Inschrijver onder andere percentages van componenten van de loonsomfactor en bureaumarge in die hij offreert. Daaruit volgt ook welke Omrekenfactor Inschrijver offreert. Het Uurtarief is afhankelijk van de van toepassing zijnde loonsomfactor en bureaumarge en dus Omrekenfactor. In de Tariefstelling wordt het volgende uitgevraagd: - Loonsomfactor en bureaumarge en dus Omrekenfactor voor Uitzenden en/of Detacheren in fase A/ 1,2; - Loonsomfactor en bureaumarge en dus Omrekenfactor voor Detacheren in fase B en C/ 3,4; - Loonsomfactor en bureaumarge en dus Omrekenfactor voor Uitzenden en/of Detacheren voor AOW-gerechtigden in fase A/ 1,2; - Loonsomfactor en bureaumarge en dus Omrekenfactor voor Detacheren voor AOW-gerechtigden in fase B en C/ 3,4. De loonsomfactoren, bureaumarges en Omrekenfactoren worden elk uitgedrukt in een getal met maximaal vier decimalen achter de komma, waar van toepassing rekenkundig afgerond op deze vier decimalen. De loonsomfactoren, bureaumarges en Omrekenfactoren zijn altijd hoger dan 1,0000. | C7: n.v.t.
A8: 2a t/m 2d Loonsomfactor | B8: Zie o.a. ook eis 10.21, hoofdstuk 10, Programma van Eisen (bijlage A) Inschrijver vult in tabblad 2a t/m 2d van dezeTariefstelling (bijlage 5) de volgende loonsomfactoren in, op basis van het prijspeil van 2024: - Tabblad 2a: Loonsomfactor voor Uitzenden en/of Detacheren in fase A/ 1,2; - Tabblad 2b: Loonsomfactor voor Detacheren in fase B en C/ 3,4. - Tabblad 2c: Loonsomfactor voor Uitzenden en/of Detacheren voor AOW-gerechtigden in fase A/ 1,2; - Tabblad 2d Loonsomfactor voor Detacheren voor AOW-gerechtigden in fase B en C/ 3,4 Inschrijver vult hiertoe de geel gemarkeerde velden van de bovengenoemde tabbladen 2a t/m 2d in conform het bepaalde in hoofdstuk 10 van het Programma van Eisen en dit format Tariefstelling (bijlage 5). Inschrijver mag de wit gemarkeerde velden niet wijzigen. Inschrijver dient zich bij de Inschrijving bij het invullen van de loonsomfactor te baseren op inhuur voor functies in risicopremiegroep 1. Desgewenst verdisconteert Inschrijver voor de zo goed als uitgesloten kans dat er een keer sprake kan zijn van inhuur voor functies in risicopremiegroep 2, een kostenopslag in blok 5 van de loonsomfactor en/of in de bureaumarge. Zie voor meer informatie over de scope van de bovengenoemde loonsomfactoren paragraaf 1.8.1 van het Beschrijvend Document. | C8: Ja (tab 2a t/m 2d)
A9: 2a t/m 2d Loonsomfactor, opbouw | B9: Zie o.a. ook eis 10.22, hoofdstuk 10, Programma van Eisen (bijlage A) De loonsomfactor bestaat uit diverse kostprijsvariabelen, die bij elkaar opgeteld resulteren in de geoffreerde kostprijs van Opdrachtnemer. Elke loonsomfactor in de tabbladen 2a t/m 2d van de Tariefstelling (bijlage 5) bestaat uit zes blokken, waarover de looncomponenten zijn verdeeld: Blok 1: Basis (Uurloon, conform het toepasselijke bruto uurloon van Deelnemer); Blok 2: Reserveringen; Blok 3: Vakantiegeld; Blok 4: Werkgeverslasten, waaronder pensioenafdracht, sociale verzekeringspremies, cao-gerelateerde premies en werkhervattingskaspremies; Blok 5: Administratieve verplichtingen; Blok 6: Eindejaarsuitkering. Op hoofdlijnen betreft het de volgende kostprijsvariabelen: - De basis De ‘basis’ bestaat uit het Uurloon, waarmee het bruto uurloon conform de arbeidsvoorwaarden van Deelnemer wordt bedoeld. Het Uurloon in de ‘basis’ is altijd 100,0000% in dit kostenmodel. Dit percentage is daarom door Aanbestedende dienst al ingevuld in de Loonkostenfactoren in de tabbladen 2a t/m 2d in de Tariefstelling (bijlage 5), in een wit, beveiligd veld in kolom D. Inschrijver mag dit percentage niet aanpassen. Zie ook de instructies en toelichtingen in deze Tariefstelling (bijlage 5) en hoofdstuk 5 van het Beschrijvend Document. - Bedrijfsspecifieke kostprijsvariabelen Bedrijfsspecifieke kostprijsvariabelen zijn in meer of mindere mate beïnvloedbaar of bepaalbaar door Opdrachtnemer. Deze kostprijsvariabelen kunnen per Opdrachtnemer en zelfs per specifieke loonsomfactor/raamovereenkomst van een Opdrachtnemer in hoogte verschillend zijn. Voorbeelden van bedrijfsspecifieke kostprijsvariabelen zijn de pensioenpremie, de werkhervattingskas premies WGA en ZW-Flex, de reservering voor de transitievergoeding, eventuele leegloopkosten, in-housekosten en de reservering voor ziektekosten tijdens dienstverband. Het kan ook reserveringen betreffen voor wettelijke verplichtingen of verplichte afdrachten waarvoor geen uniforme procentuele premie is vastgesteld, en/ of alleen een (rekenkundig) minimum/maximum of kader. Denk aan de Wet arbeid en zorg (Wazo) en de Wet invoering extra geboorteverlof (Wieg). Opdrachtnemer bepaalt dan zelf of hij hiervoor een reservering in de kostprijs wil opnemen en zo ja, hoe hoog deze is. Slechts een aantal van de bedrijfsspecifieke kostprijsvariabelen mag onder strikte voorwaarden gedurende de looptijd van de Raamovereenkomst, inclusief eventuele verlenging(en) daarvan, worden aangepast. Zie voor meer informatie hierover eis 10.23, 10.24, 10.25,10.27 en de instructies en toelichtingen in deze Tariefstelling (bijlage 5). Inschrijver dient de bedrijfsspecifieke kostprijsvariabelen in de daartoe bestemde gele velden in de loonsomfactoren in tabbladen 2a t/m 2d van deze Tariefstelling (bijlage 5) in te vullen. Zie ook de instructies en toelichtingen in de Tariefstelling (bijlage 5) en hoofdstuk 5 van het Beschrijvend Document. | C9: Ja (tab 2a t/m 2d)
B10: - Niet-bedrijfsspecifieke kostprijsvariabelen Niet-bedrijfsspecifieke kostprijsvariabelen zijn cao-gerelateerde verplichte afdrachten aan fondsen en wettelijk vastgestelde sociale verzekeringspremies, die worden uitgedrukt in uniform vastgestelde percentages en in de loonsomfactoren in deze Tariefstelling (bijlage 5) door Aanbestedende dienst zijn gedefinieerd. Opdrachtnemer heeft hier geen invloed op en voor alle Opdrachtnemers zijn de uniform vastgestelde percentages hetzelfde. Uitzondering hierop zijn de wettelijk gedifferentieerde premies, zoals de Aof en Awf. In een dergelijke situatie is wettelijk vastgelegd welke gedifferentieerde premie van toepassing is. Op grond van voldoende onderbouwing door Opdrachtnemer, kan met instemming van categoriemanagement UZKA een nieuwe niet-bedrijfsspecifieke kostprijsvariabele aan de loonsomfactor worden toegevoegd. Voorwaarde hiervoor is in ieder geval dat het een niet-bedrijfsspecifieke kostprijsvariabele betreft zoals bovenstaand is omschreven. De PAWW is een recent voorbeeld van een dergelijke nieuwe premie. Onder dezelfde voorwaarden kunnen ook niet-bedrijfsspecifieke kostprijsvariabelen uit de Loonsomfactor worden verwijderd. De sectorpremie is hiervan een wat ouder voorbeeld. Beide situaties doen zich tot nu toe alleen bij uitzondering voor. Doorgaans wijzigt een aantal niet-bedrijfsspecifieke kostprijsvariabelen per 1 januari van een kalenderjaar. Uiterlijk in de loop van december zijn de meeste premies, verplichte afdrachten en reserveringen definitief vastgesteld. De percentages van niet-bedrijfsspecifieke kostprijsvariabelen worden volledig in lijn met de verplichte aanpassingen zoals hierboven genoemd, gedurende de looptijd van de Raamovereenkomst, inclusief eventuele verlenging(en) daarvan, aangepast. Zie voor meer informatie hierover eis 10.23, 10.24, 10.27 en de instructies en toelichtingen in deze Tariefstelling (bijlage 5). Voorbeelden van niet-bedrijfsspecifieke kostprijsvariabelen zijn de reserveringen voor kort/bijzonder verzuim, vakantie- en feestdagen, de verplichte afdracht voor de Stichting Fonds Uitzendbranche (SFU) en de premies voor het Algemeen Werkloosfonds (Awf), de Zorgverzekeringswet (Zvw), het Arbeidsongeschiktheidsfonds (Aof) en de Private aanvulling werkloosheidswet (sPAWW). De op het moment van publicatie van deze aanbesteding definitief voor het jaar 2024 vastgestelde niet-bedrijfsspecifieke kostprijsvariabelen heeft Aanbestedende dienst in de loonsomfactoren van de Tariefstelling (bijlage 5) al ingevuld in daartoe bestemde witte, beveiligde velden in kolom D. Inschrijver mag deze witte velden niet aanpassen. Inschrijver dient de op het moment van publicatie de voor het jaar 2024 nog niet definitief vastgestelde niet-bedrijfsspecifieke kostprijsvariabelen in de daartoe bestemde gele velden in de Loonsomfactoren in tabbladen 2a t/m 2d van de Tariefstelling (bijlage 5) in te vullen. Zie ook de instructies en toelichtingen in deze Tariefstelling (bijlage 5) en hoofdstuk 5 van het Beschrijvend Document. De niet-bedrijfsspecifieke kostprijsvariabelen heeft Aanbestedende dienst in de Loonsomfactoren in deze Tariefstelling (bijlage 5, v.NvI 2) ingevuld in daartoe bestemde witte, beveiligde velden in kolom D. Inschrijver mag deze witte velden niet aanpassen. Zie ook de instructies en toelichtingen in deze Tariefstelling (bijlage 5) en hoofdstuk 5 van het Beschrijvend Document.
B11: - De eindejaarsuitkering Met ingang van 1 januari 2023 maakt een vaste eindejaarsuitkering deel uit van de inlenersbeloning. Conform de arbeidsvoorwaarden van Deelnemer is momenteel sprake van een eindejaarsuitkering van 8,30%. Zie ook de bijlage S Bri/Bro. Deze eindejaarsuitkering is verwerkt in de loonsomfactoren in tabbladen 2a t/m 2d van deze Tariefstelling (bijlage 5). Daartoe is door Aanbestedende dienst het percentage 8,3000% ingevuld in de loonsomfactoren in de tabbladen 2a t/m 2d in de Tariefstelling (bijlage 5) in een wit, beveiligd veld in kolom D. Zie ook de instructies en toelichtingen in deze Tariefstelling (bijlage 5) en hoofdstuk 10 van het Programma van Eisen (Bijlage A).
A12: 2a t/m 2d Loonsomfactor, voorwaarden voor aanpassing | B12: Zie o.a. ook eis 10.23 en 10.24, hoofdstuk 10, Programma van Eisen (bijlage A) Onder strikte voorwaarden, zowel meer algemeen als ook specifiek, kunnen aanpassingen van een aantal (niet-)bedrijfsspecifieke kostprijsvariabelen in de loonsomfactor (zie ook eis 10.22) gedurende de looptijd van de Raamovereenkomst inclusief eventuele verlengingen worden doorgevoerd. Doorgaans wijzigt een aantal (niet-)bedrijfsspecifieke kostprijsvariabelen per 1 januari van een kalenderjaar. Uiterlijk in de loop van december zijn de meeste premies, verplichte afdrachten en reserveringen definitief vastgesteld. De aanpassing van een aantal bedrijfsspecifieke en niet-bedrijfsspecifieke kostprijsvariabelen is niet optioneel. Opdrachtgever beoogt met de opzet van deze Tariefstelling (bijlage 5) mee te bewegen met de (opgelegde) wijzigingen hierin. Een belangrijke reden hiervoor is dat Inschrijver voor deze kostprijsvariabelen geen risico-opslag in de Tariefstelling hoeft te verdisconteren om op nog niet bekende verhogingen te anticiperen. Opdrachtgever betaalt op haar beurt een zo reëel mogelijke prijs, omdat ook aanpassingen die in lagere kostprijsvariabelen resulteren worden doorgevoerd. Algemene voorwaarden voor wijziging van kostprijsvariabelen die mogen of moeten worden aangepast - Wijziging van een aantal (niet-)bedrijfsspecifieke kostprijsvariabelen is alleen mogelijk op basis van een bij categoriemanagement UZKA in te dienen tijdig, duidelijk onderbouwd en verifieerbaar voorstel. Ten behoeve van deze verificatie kan categoriemanagement UZKA indien zij dat noodzakelijk vindt een onafhankelijke derde raadplegen; - Categoriemanagement UZKA kan ten behoeve van verificatie bewijsmiddelen opvragen, die Opdrachtnemer dient te overleggen. Dit voor zover deze niet al meteen bij het indienen van het wijzigingsvoorstel zoals in het vorige punt genoemd worden gevoegd, wat de voorkeur van categoriemanagement UZKA heeft. Voorbeelden van dergelijke bewijsmiddelen zijn een beschikking van de Belastingdienst (bij geen eigenrisicodragerschap), een verzekeringspolis of andersoortige onderbouwing (bij eigenrisicodragerschap) t.b.v. de vaststelling van de werkhervattingskas premies WGA en ZW-Flex. Het kan ook een onderbouwing van de voorgestelde reservering voor de pensioenafdracht betreffen. Opdrachtnemer mag daarbij irrelevante delen weglakken. Categoriemanagement UZKA kan het voorstel tot aanpassing weigeren als deze onvoldoende is onderbouwd of geen correcte informatie bevat; - Na verificatie door categoriemanagement UZKA wordt de aanpassing in overleg met Deelnemer (met terugwerkende kracht) doorgevoerd; - Gewijzigde percentages van (niet-)bedrijfsspecifieke kostprijsvariabelen worden een-op-een in de loonsomfactor overgenomen. Uitzondering hierop zijn de reserveringen voor vakantie- en feestdagen in de jaren dat Bevrijdingsdag/5 mei wel op een Werkdag valt, maar niet in een lustrumjaar. Net zoals voor medewerkers van Deelnemer is dit voor Uitzendkrachten in die situatie een vrije dag die wordt doorbetaald. Deze doorbetaling wordt in de reservering voor de vakantie- en feestdagen verwerkt. Aanvullende specifieke voorwaarden en bijzonderheden - In de tabblad 0 ‘Leeswijzer’ van de loonsomfactoren in deze Tariefstelling (bijlage 5) staat aanvullende informatie en een aantal instructies; - In de tabbladen 2a t/m 2d staat per onderscheiden kostprijsvariabele in de toelichting in de rechterkolom of het een niet-bedrijfsspecifieke of bedrijfsspecifieke loonsomfactor betreft. Ook worden hier instructies en voorwaarden vermeld die gelden voor de betreffende kostprijsvariabele. Bijvoorbeeld of een (niet-)bedrijfsspecifieke kostprijsvariabele gedurende de looptijd van de Raamovereenkomst, inclusief de verlenging daarvan, mag worden aangepast en zo ja, onder welke voorwaarden dat kan; | C12: Ja (tab 2a t/m 2d)
B13: - Zie ook eis 10.25 voor de werkhervattingskas premies WGA en ZW-Flex; - De reservering voor de transitievergoeding mag gedurende de looptijd van de Raamovereenkomst, inclusief de verlenging daarvan, niet worden aangepast. Uitzondering hierop is aanpassing vanwege een wettelijke wijziging waardoor de hoogte van de uit te keren transitievergoeding wijzigt. Opdrachtgever eist dat Opdrachtnemergever proactief de transitievergoeding aan de Uitzendkracht uitkeert zodra deze hier recht op heeft; - De in blok 5 van de loonsomfactor opgenomen kostprijsvariabelen mogen gedurende de looptijd van de Raamovereenkomst, inclusief de verlenging daarvan, niet worden aangepast; - In blok 5, cel D29, dient Inschrijver in ieder geval – indien hij dat wenst – een reservering voor de ziektekosten tijdens dienstverband op te nemen. Deze reservering is namelijk onderdeel van de berekeningsgrondslag van de eindejaarsuitkering die in blok 6 staat en moet daarom bepaalbaar zijn; - Inschrijver dient in zijn Tariefstelling rekening te houden met de kostprijsvariabelen die niet mogen worden aangepast. Aanbestedende dienst wijst er op dat strategische Inschrijvingen, waarbij bijvoorbeeld de contractuele kaders op een later moment toch nog worden opgerekt, niet zijn toegestaan. Indien Inschrijver toch ervoor kiest met een (te) lage kostprijsvariabele in te schrijven, dan is dit voor zijn eigen rekening en risico. Moment van inwerkingtreding gewijzigde loonsomfactoren (en dus gewijzigde Omrekenfactoren en Uurtarieven) Een wijziging in de loonsomfactor (en dus de Omrekenfactor en het Uurtarief) wordt in beginsel altijd van kracht op de maandag die het dichtst bij de ingangsdatum van de doorgevoerde wijiziging ligt. Indien de administratieve aanpassingen niet tijdig kunnen worden doorgevoerd, is er sprake van wijziging met terugwerkende kracht waaruit doorgaans een separate verrekening volgt. Zie ook eis 10.27. Voor de volledigheid: alle contacten inzake de afstemming van aanpassingen bedoeld in deze eis verlopen via categoriemanagement UZKA en niet via Deelnemer. Pas nadat categoriemanagement UZKA de Deelnemer heeft geadviseerd en geïnformeerd over de overeengekomen Tariefstellingen mag Opdrachtnemer hierover rechtstreeks afstemming hebben met Deelnemer.
A14: 2a t/m 2d Bureaumarge | B14: Zie o.a. ook eis 10.26, hoofdstuk 10, Programma van Eisen (bijlage A) Inschrijver vult in tabblad 2a t/m 2d van de Tariefstelling (bijlage 5) de volgende bureaumarges in: - Tabblad 2a: Bureaumarge voor Uitzenden en/of Detacheren in fase A/ 1,2; - Tabblad 2b: Bureaumarge voor Detacheren in fase B en C/ 3,4: - Tabblad 2c: Bureaumarge voor Uitzenden en/of Detacheren voor AOW-gerechtigden in fase A/ 1,2; - Tabblad 2d Bureaumarge voor Detacheren voor AOW-gerechtigden in fase B en C/ 3,4. Inschrijver vult hiertoe de daarvoor bestemde gele velden in de tabbladen 2a t/m 2d van het format Tariefstelling (bijlage 5) in, met vier decimalen achter de komma. De bureaumarge bestaat doorgaans uit componenten die door Opdrachtnemer beïnvloed kunnen worden in de zin dat Inschrijver hiermee de door hem te behalen winst of verlies kan beïnvloeden. De bureaumarges die Inschrijver in de Tariefstelling invult, mogen niet worden aangepast gedurende de looptijd van de Raamovereenkomst, inclusief eventuele verlengingen van de Raamovereenkomst. Inschrijver dient hier rekening mee te houden in haar Tariefstelling. Aanbestedende dienst wijst er op dat strategische Inschrijvingen, waarbij bijvoorbeeld de contractuele kaders op een later moment toch nog worden opgerekt, niet zijn toegestaan. Indien Inschrijver toch ervoor kiest met een (te) lage Bureaumarge in te schrijven, dan is dit voor zijn eigen rekening en risico. | C14: Ja (tab 2a t/m 2d)
A16: 2a t/m 2d Omrekenfactor | B16: Zie o.a. ook eis 10.20 en 10.29, hoofdstuk 10, Programma van Eisen (bijlage A) In de Tariefstelling (bijlage 5) zijn vier Omrekenfactoren gedefinieerd, die resulteren uit de invulling van de loonsomfactor (zie eis 10.21) en de bureaumarge (eis 10.26) in tabbladen 2a t/m 2d. Dit betreft de volgende vier Omrekenfactoren: - Tabblad 2a: Omrekenfactor voor Uitzenden en/of Detacheren in fase A / 1,2; - Tabblad 2b: Omrekenfactor voor Detacheren in fase B of C / 3,4. - Tabblad 2c*: Omrekenfactor voor Uitzenden en/of Detacheren voor AOW-gerechtigden in fase A/ 1,2; - Tabblad 2d*: Omrekenfactor voor Detacheren voor AOW-gerechtigden in fase B en C/ 3,4. *Graag extra attentie voor het volgende: - Tabblad 2c: De Omrekenfactor voor AOW-gerechtigden in fase A/1,2 in tabblad 2c dient minimaal 19% lager te zijn dan de Omrekenfactor die Inschrijver in tabblad 2a voor Uitzenden en/of Detacheren in fase A / 1,2 heeft aangeboden; - Tabblad 2d: De Omrekenfactor voor AOW-gerechtigden in fase B en C / 3,4 in tabblad 2d dient minimaal 19% lager te zijn dan de Omrekenfactor die Inschrijver in tabblad 2b voor Detacheren in fase B en C / 3,4 heeft aangeboden. Indien het verschil kleiner is dan 19% dan wordt de betreffende Inschrijving terzijde gelegd en uitgesloten van de verdere aanbestedingsprocedure. Zie ook hoofdstuk 10 'Tariefstelling' van het Programma van Eisen, bijlage A. | C16: Ja (tab 2a t/m 2d)
A17: 2a en 2b WGA- en ZW-flex premie | B17: Zie o.a. ook eis 10.25, hoofdstuk 10, Programma van Eisen (bijlage A) Inschrijver vult in tabblad 2a en 2b* van deze Tariefstelling voor elk van de uitgevraagde loonsomfactoren in, uitgaand van het jaar 2024: 1. Voor welke werkhervattingskas premies (WGA- en ZW-Flex deel, sector 52) Inschrijver wel of niet eigenrisicodrager (ERD) is op het moment van Inschrijving; 2. Hoogte werkhervattingskas WGA-premie (sector 52) vóór doorbelasting aan de Uitzendkracht; 3. Percentage van de werkhervattingskas WGA-premie (sector 52) dat aan de Uitzendkracht wordt doorbelast; 4. Welke juridische entiteit van Inschrijver in zijn hoedanigheid van juridisch werkgever de Diensten waar de betreffende Loonsomfactor betrekking op heeft, zal uitvoeren. Inschrijver vult hiertoe de daarvoor bestemde geel gemarkeerde velden van tabblad 2a en 2b* van dit format Tariefstelling in. Bij Inschrijving dient in de loonsomfactoren 2a en 2b voor de vaststelling van de ZW/WGA-premie premiesector 52 'Uitzendbedrijven' conform de Wab leidend te zijn. *Omdat deze premies niet van toepassing zijn voor AOW-gerechtigden, worden deze niet in tabblad 2c en 2d ingevuld. Op verzoek van categoriemanagement UZKA toont Inschrijver/Opdrachtnemer aan dat de bij Inschrijving verstrekte informatie correct is door relevante beschikkingen of andere bewijsmiddelen te overleggen. Categoriemanagement UZKA kan een dergelijk verzoek doen in het kader van beoordeling van de Inschrijving op de aanbesteding of op een later moment. Verder zal bij elke aanpassing van de Loonsomfactor gedurende de looptijd van de Raamovereenkomst inclusief eventuele verlengingen standaard een dergelijke verificatie plaatsvinden. Indien gedurende de looptijd van de Raamovereenkomst, inclusief eventuele verlenging(en) daarvan, zich wijzigingen voordoen omtrent het eigenrisicodragerschap en daarmee gepaard gaande verplichtingen van Opdrachtnemer dan informeert Opdrachtnemer categoriemanagement UZKA hierover. | C17: Ja (tab 2a t/m 2d)
A18: 3 Beoordeling - Gewogen gemiddelde Omrekenfactor | B18: Zie o.a. ook paragraaf 5.4 van het Beschrijvend Document en hoofdstuk 10 van het Programma van Eisen (bijlage A) In tabblad 3 staat in cel D12 de gewogen gemiddelde Omrekenfactor (GGORF) ten behoeve van de beoordeling van het subgunningscriterium 'Prijs'. Deze gewogen gemiddelde Omrekenfactor wordt op basis van waarden in de tabbladen 2a en 2b vastgestelde procentuele verdelingen, wegingen en formules in tabblad 3 bepaald. De Omrekenfactoren worden automatisch overgenomen uit de tabbladen 2a en 2b. De wegingsfactoren en formule in tabblad 3 zijn door categoriemanagement Uitzendkrachten en Arbeidsparticipanten Uitzendkrachten Rijksoverheid en Deelnemer vastgesteld. De Omrekenfactoren van tabblad 2c en 2d voor AOW-gerechtigden tellen niet mee in de gewogen gemiddelde Omrekenfactor. Na invulling van tabblad 2c en 2d van de geel gemarkeerde velden, moeten deze Omrekenfactoren voor AOW-gerechtigden minimaal 19% lager te zijn dan de Omrekenfactoren van respectievelijk tabblad 2a en 2b. Score gunningscriterium Prijs Uit de gewogen gemiddelde Omrekenfactor volgt na toepassing van de formule in tabblad 3 een totaalaantal punten als score op het subgunningscriterium Prijs berekend. Het totaalaantal punten ('de score op het subgunningscriterium Prijs') staat in cel C21 van tabblad 3. De gewogen gemiddelde Omrekenfactor wordt uitsluitend gebruikt voor de beoordeling van de Inschrijving. Inschrijver kan de hoogte van de gewogen gemiddelde Omrekenfactor alleen beïnvloeden door invulling van de loonsomfactoren en de bureaumarges in de tabbladen 2a en 2b van deze Tariefstelling bijlage 5. In de Raamovereenkomst zijn de loonsomfactoren, bureaumarges en omrekenfactoren zoals vermeld in tabbladen 2a t/m 2d van toepassing. Zie voor meer informatie over de beoordeling van het subgunningscriterium Prijs, de formules, vastgestelde bandbreedte en andere voorwaarden paragraaf 5.4 van het Beschrijvend Document en hoofdstuk 10 van het Programma van Eisen (bijlage A). Inschrijver ondertekent tabblad 3 van deze bijlage 5 rechtsgeldig, vult de overige geel gemarkeerde velden in het ondertekeningsblok in en voegt dit tabblad 3 toe als onderdeel van de Inschrijving. Zie ook onderstaand in het blok 'Algemene informatie' | C18: Ja (tab 3)
A20: Algemene informatie | B20: Zie o.a. ook paragraaf 5.4 van het Beschrijvend Document en hoofdstuk 10 van het Programma van Eisen
A21: a. | B21: Inschrijver vult uitsluitend informatie in de geel gemarkeerde invulvelden en de velden die bedoeld zijn voor ondertekening in. Inschrijver mag de overige velden niet wijzigen, tenzij de Aanbestedende dienst anders heeft aangegeven. Wijziging van het format, de lay-out of inhoudelijke aanpassing van overige velden (niet zijnde invulvelden) zonder toestemming van de Aanbestedende dienst kan leiden tot uitsluiting. De tabbladen in deze bijlage zijn met een wachtwoord beveiligd. Het eventueel ontgrendelen van deze tabbladen, op welke manier dan ook, komt voor rekening en risico van Inschrijver.
A22: b. | B22: Inschrijver hanteert voor de prijsstelling de voor het jaar 2024 vastgestelde wettelijke premies, cao-gerelateerde premies en reserveringen, werkhervattingskaspremies (WGA- en ZW-deel) et cetera als uitgangspunt voor zijn Inschrijving.
A23: c. | B23: Inschrijver dient uitsluitend de gele velden in de tabbladen 2a t/m 2d in te vullen, tabblad 3 rechtsgeldig te ondertekenen en als onderdeel van zijn Inschrijving in te dienen. Inschrijver geeft door middel van het invullen van deze tabbladen een gedetailleerd inzicht in de voor de Raamovereenkomst te hanteren Tariefstelling. Inschrijver dient de door hem ingevulde bijlage 5 in zowel in Excel, als – in tabblad 3 rechtsgeldig ondertekend – in PDF (het gehele document, niet alleen tabblad 3). De door Inschrijver ingediende Inschrijving, waarvan de Tariefstelling deel uitmaakt, wordt onderdeel van de Raamovereenkomst.
A24: d. | B24: Aanbestedende dienst wijst Inschrijver op de eisen en overige voorwaarden die van toepassing zijn op de Tariefstelling. De eisen staan in het Programma van Eisen (bijlage A, hoofdstuk 10). Ook wijst Inschrijver op paragraaf 5.4 van het Beschrijvend Document en de toelichtingen en instructies in deze bijlage 5 'Tariefstelling'. In deze bijlage 'Tariefstelling' mag niet worden afgeweken van de eisen zoals weergegeven in het Programma van Eisen en dienen de instructies in de andere relevante Aanbestedingsstukken, zoals ook in deze bijlage, te worden gevolgd.

Sheet 1 cao Rijk bruto Uurloon
A1: BIJLAGE 5 - Tab 1 cao Rijk-salarisschalen en tredes/periodieken
A2: Versie Nota van Inlichtingen 2
A3: Tariefstelling 2024 | B3: DJI-DGV
B4: Kenmerk IUC DJI/INEA/NA/2024-1
A6: Bruto uurlonen cao Rijk m.i.v. 1 januari 2024
A8: cao Rijk-salarisschaal → Trede/periodiek ↓ | B8: 11 | C8: 12
A9: 0 | B9: 23.48 | C9: 27.43
A10: 1 | B10: 25.35 | C10: 28.47
A11: 2 | B11: 26.38 | C11: 29.46
A12: 3 | B12: 27.43 | C12: 30.51
A13: 4 | B13: 28.47 | C13: 31.55
A14: 5 | B14: 29.46 | C14: 32.9
A15: 6 | B15: 30.51 | C15: 34.36
A16: 7 | B16: 31.55 | C16: 35.81
A17: 8 | B17: 32.9 | C17: 37.36
A18: 9 | B18: 34.36 | C18: 38.94
A19: 10 | B19: 35.81 | C19: 40.52

Sheet 2a Fase A
A1: BIJLAGE 5 - Tab 2a Uitzenden (met Uitzendbeding) en/of Detacheren (=zonder Uitzendbeding ) in fase A of fase 1,2 (ABU/NBBU) in cao Rijk-salarisschaal 11 en 12
A3: Tariefstelling 2024 | B3: DJI-DGV | E3: Versie Nota van Inlichtingen 2
B4: Kenmerk IUC DJI/INEA/NA/2024-1
A5: Tarieven exclusief VOG-kosten en exclusief reiskosten woon-werkverkeer
B7: De gele velden betreffen door Inschrijver in te vullen velden | I7: LET OP: ook kolommen rechts bij Whk premies (kolom J/K) en helemaal onderaan invullen.
A8: Loonsomfactor Uitzenden (=met Uitzendbeding) en/of Detacheren (= zonder Uitzendbeding), in fase A of fase 1, 2 (ABU/NBBU) cao Rijk-salarisschaal 11 en 12
A9: Blok | B9: Kostprijsvariabele | D9: Percentage | F9: Grondslag | G9: Bijdrage | H9: Totaal | I9: Toelichting
A10: Blok 1 | B10: Basis (bruto Uurloon o.b.v. inlenersbeloning) | D10: 1 | E10: 100 | F10: basis | G10: 100 | H10: 100 | I10: Niet-bedrijfsspecifieke kostprijsvariabele Deze kostenpost is altijd 100,0000%. De inlenersbeloning is bepalend voor de hoogte van het bruto Uurloon. | J10: In te vullen door Inschrijver:
A11: Blok 2 | B11: reserveringen | C11: vakantiedagen (25 vakantiedagen/231 werkbare dagen in 2024) | D11: 0.108225 | E11: =H10 -> 100 | F11: basis | G11: =D11*E11 -> 10.8225 | I11: Niet-bedrijfsspecifieke kostprijsvariabelen Dit betreft conform de ABU- en NBBU-cao jaarlijks vastgesteld percentages. Deze percentages dienen hier een-op-een te worden overgenomen en zijn daarom al ingevuld. Ingeval van wijziging in de ABU- en/of NBBU-cao geldt ook dat de nieuw vastgestelde percentages een-op-een worden overgenomen. Uitzondering hierop zijn de reserveringen voor vakantie- en feestdagen in de jaren dat Bevrijdingsdag/5 mei wel op een Werkdag valt, maar niet in een lustrumjaar. Net zoals voor de medewerkers van Deelnemer is dit voor Uitzendkrachten in die situatie een vrije dag die wordt doorbetaald. Deze doorbetaling wordt in de reservering voor de vakantie- en feestdagen verwerkt. Deze situatie doet zich in 2024 niet voor, omdat Bevrijdingsdag op een zondag valt. Uitgangspunten: - Voor de reserveringen in dit blok 2 is de berekening zonder bijvoorbeeld opleidings-, ziekte- of leegloopdagen (m.u.v. 'Wab-leegloopdagen vanwege oproep binnen 4 kalenderdagen voor aanvang Werkzaamheden - zie ook het Programma van Eisen, bijlage A) niet toegestaan. Indien gewenst moeten hieraan gerelateerde voorzieningen in blok 5 en/of de Bureaumarge van de Loonsomfactor worden verwerkt; - Conform de inlenersbeloning volgens de ABU of NBBU-cao geldt dat arbeidsduurverkorting - naar keuze van Opdrachtnemer - wordt uitgekeerd in tijd of geld. Het is aan Opdrachtnemer hoe zij dit op een goede wijze en in overeenstemming met de voor haar toepasselijke uitzendcao met haar Uitzendkrachten verrekent; - Met de Wieg, WaZo en dergelijke samenhangende voorzieningen moeten indien gewenst in blok 5 en/of de Bureaumarge van de Loonsomfactor worden verwerkt; - Kort verzuim/bijzonder verlof is bewust niet in de berekeningsgrondslag van het vakantiegeld (blok 3) opgenomen, in overeenstemming met het model kostenopbouw uit de uitzendbranche op dit punt. Dit betreft een vast in de ABU- en NBBU-cao vastgesteld percentage dat los staat van het aantal werkbare dagen. Daarom heeft Aanbestedende dienst ook dit percentage alvast ingevuld.
C12: feestdagen 6 feestdagen/231 werkbare dagen in 2024) | D12: 0.025974 | E12: =H10 -> 100 | F12: basis | G12: =D12*E12 -> 2.5974
C13: kort verzuim/ bijzonder verlof | D13: 0.006 | E13: =H10 -> 100 | F13: basis | G13: =D13*E13 -> 0.6
C14: totaal | D14: =SUM(D11:D13) -> 0.140199 | E14: =H10 -> 100 | F14: basis + wd | G14: =SUM(G11:G13) -> 14.0199 | H14: =H10+G14 -> 114.0199
A15: Blok 3 | B15: vakantiegeld | C15: Vakantiegeld | D15: 0.0833 | E15: =H10+G11+G12 -> 113.4199 | F15: basis + res - kv/bv | G15: =D15*E15 -> 9.4478777 | H15: =H14+G15 -> 123.46778 | I15: Niet-bedrijfsspecifieke kostprijsvariabele Dit betreft een conform de ABU- en NBBU-cao vastgesteld percentage. Dit percentage dient hier een-op-een te worden overgenomen en is daarom al ingevuld. Ingeval van wijziging in de ABU- en/of NBBU-cao geldt ook dat het nieuw vastgestelde percentage een-op-een wordt overgenomen.
A16: Blok 4 | B16: werkgeverslasten (cao) en pensioen | C16: Zw-aanvullend (ZW-A premie t.b.v. aanvulling uitkering UWV in het eerste en tweede ziektejaar, risicopremiegroep 1) | D16: 0 | E16: =H15 -> 123.46778 | F16: basis + res | G16: =D16*E16 -> 0 | I16: Bedrijfsspecifieke kostprijsvariabele, binnen door de toepasselijke uitzendcao ABU en NBBU gestelde kaders en jaarlijks vastgestelde maximale waardes. De maximale hoogte van de ZW-A premie wordt per risicopremiegroep jaarlijks door de ABU en NBBU vastgesteld. Dat betekent voor deze Tariefstelling dat de door Inschrijver ingevulde premie niet hoger mag zijn dan de door de voor 2024 door de ABU en NBBU vastgestelde maximale premie voor risciopremiegroep 1. Op het moment van publicatie van deze aanbesteding zijn de definitieve maximale premies voor het jaar 2024 nog niet bekend. Daarom is de maximale voor risicopremiegroep 1 hier niet vermeld. Op het moment van Inschrijving is deze echter wel bekend. Indien gewenst kan Inschrijver ervoor kiezen het een gedeelte van deze premie door te berekenen aan de Uitzendkracht. In dat geval wordt deze inhouding een-op-een van de hier door Inschrijver in te vullen premie afgetrokken. In 2024 geldt conform de ABU en NBBU-cao de volgende maximale inhouding door Opdrachtnemer op het loon van de Uitzendkracht: risicopremiegroep 1: 0,3000% risicopremiegroep 2: 0,7000%, maar in deze aanbesteding niet van toepassing.
C17: pensioen | D17: 0 | E17: =H15 -> 123.46778 | F17: basis + res | G17: =D17*E17 -> 0 | I17: Bedrijfsspecifieke kostprijsvariabele, binnen door het relevante pensioenfonds (zoals StiPP) vastgestelde kaders en waardes. Het premiepercentage voor pensioen wordt jaarlijks vastgesteld door het pensioenfonds waarbij Opdrachtnemer is aangesloten, zoals het StiPP. Dit geldt ook voor de zogeheten franchise, een nominaal bedrag dat van het gemiddelde pensioengevend uurloon wordt afgetrokken. De hoogte van de franchise is gekoppeld aan het Wml en wordt jaarlijks vastgesteld. Verder wordt er jaarlijks een maximaal pensioengevend uurloon vastgesteld. Deze buiten de invloedssfeer van Opdrachtnemer vastgestelde waardes zijn leidend in de berekening van de in de Loonsomfactor door Inschrijver op te voeren pensioenpremie. Ook de ABU- en NBBU-cao kunnen invloed hebben op de hoogte van de pensioenpremie. Tot slot wordt er rekening gehouden met het gemiddeld pensioengevend uurloon bij de berekening van de pensioenpremie. Indien Opdrachtnemer een aanpassing van de pensioenpremie wenst, maakt hij bij Opdrachtgever op grond van een gedegen onderbouwing aannemelijk en verifieerbaar dat een dergelijke aanpassing noodzakelijk en correct is. Eventueel kan bij geschillen het advies en/of een onderzoek van een onafhankelijke derde worden verlangd. Over de kosten daarvan worden alsdan nadere afspraken gemaakt tussen Opdrachtgever en Opdrachtnemer. Opdrachtgever wil - voor zover uiteraard noodzakelijk en van toepassing - vermijden dat laag wordt ingeschreven en vervolgens de premie aanpassing in een nieuw kalenderjaar (fors) wordt verhoogd om de (te) lage Inschrijving in de aanbesteding te corrigeren.
C18: SFU/sociaal fonds | D18: 0.0015 | E18: =H15 -> 123.46778 | F18: basis + res | G18: =D18*E18 -> 0.18520167 | I18: Op grond van de ABU- en NBBU-cao is de afdracht van dit percentage in fase A verplicht. Het door de SFU in een lopend jaar vastgestelde percentage is leidend bij de vaststelling voor het opvolgende kalenderjaar. Voorbeeld: bij de vaststelling van de tariefstelling voor 2024 in december 2023 geldt het percentage zoals dat in de loop van 2023 door de SFU is vastgesteld. Dit percentage wordt een-op-een in de Loonsomfactor overgenomen. In 2023 is het door de SFU vastgestelde percentage 0,075%. Begin december 2023 werd bekend dat de SFU-reservering voor in kalenderjaar 2024 definitief 0,15% is.
C19: scholing | D19: 0.0102 | E19: =H15 -> 123.46778 | F19: basis + res | G19: =D19*E19 -> 1.2593713 | I19: Niet-bedrijfsspecifieke kostprijsvariabele Op grond van de ABU- en NBBU-cao is de afdracht van dit percentage in fase A verplicht. Het percentage wordt jaarlijks vastgesteld en een-op-een in de Loonsomfactor overgenomen.
C20: totaal | D20: =SUM(D16:D19) -> 0.0117 | E20: =H15 -> 123.46778 | F20: basis + res | G20: =SUM(G16:G19) -> 1.444573 | H20: =H15+G20 -> 124.91235
B21: werkgeverslasten (o.a. sociale verzekeringspremies) | C21: PAWW | D21: 0.0008 | E21: =H15 -> 123.46778 | F21: basis + res | G21: =D21*E21 -> 0.098774222 | I21: Niet-bedrijfsspecifieke kostprijsvariabele Op grond van de ABU- en NBBU-cao is de PAWW van toepassing. De Stichting PAWW (private aanvulling op de WW en WGA) stelt jaarlijks de premie vast. Deze premie wordt een-op-een overgenomen in de Loonsomfactor. Voor 2024 geldt een premie van 0,08%.
C22: Aof inclusief kinderopvang | D22: 0.0804 | E22: =H15 -> 123.46778 | F22: basis + res | G22: =D22*E22 -> 9.9268093 | I22: Niet-bedrijfsspecifieke kostprijsvariabele De Aof inclusief kinderopvang, de Zvw en de Awf betreffen de jaarlijks wettelijk vastgestelde premies, die één-op-één dienen te worden overgenomen in de Loonsomfactor. Daarom zijn deze premies door Aanbestedende dienst al ingevuld. Uitgangspunt is steeds de wettelijke premie die in een bepaald kalenderjaar van toepassing is. Voor de AOF en AWf kan er sprake zijn van een gedifferentieerde premie. Daarbij is echter op grond van het wettelijke kader vast te stellen welke wettelijke premie van toepassing is voor een Opdrachtnemer. Op het moment van publicatie van deze aanbesteding zijn de definitieve wettelijke premies voor het jaar 2024 nog niet bekend. Op het moment van Inschrijving echter wel. Inschrijver dient daarom deze wettelijke premies bij Inschrijving zelf in te vullen.
C23: Zvw (zorgverzekeringswet) | D23: 0.0657 | E23: =H15 -> 123.46778 | F23: basis + res | G23: =D23*E23 -> 8.111833
C24: Awf werkloosheidswet | D24: 0.0764 | E24: =H15 -> 123.46778 | F24: basis + res | G24: =D24*E24 -> 9.4329382
C25: Werkhervattingskas - WGA Dit betreft de van toepassing zijnde premie, waarop het gedeelte dat wordt doorberekend aan de Uitzendkrachten, te weten maximaal 50%, in mindering is gebracht. Zie ook het geel gemarkeerde vak in kolom J/K. | D25: 0 | E25: =H15 -> 123.46778 | F25: basis + res | G25: =D25*E25 -> 0 | I25: Bedrijfsspecifieke kostprijsvariabele Inschrijver dient in de hiernaast opgenomen tabel aan te geven of hij wel of niet een eigenriscodrager (ERD) voor de premie Whk-WGA en de premie ZW-Flex is. Ook dient Inschrijver in hiernaast (in kolom J) voor de WGA-Whk premie in te vullen wat de volledige premie is en welk deel van de premie wordt doorbelast aan de Uitzendkracht. Doorgaans betreft dit in de uitzendbranche de maximaal toegestane 50%. Inschrijver dient de juistheid van de premies, alsmede het percentage dat aan de Uitzendkracht wordt doorbelast, desgewenst na gunning en vervolgens tijdens elke tariefsafstemming aan te tonen aan Opdrachtgever. De Whk premies worden alleen aangepast op basis van een duidelijke en correcte onderbouwing van Opdrachtnemer. Waarbij deze onderbouwing verifieerbaar is door Opdrachtgever of - indien noodzakelijk - door een onafhankelijke derde. Opdrachtgever wil - voor zover uiteraard noodzakelijk en van toepassing - vermijden dat laag wordt ingeschreven en vervolgens de premie aanpassing in een nieuw kalenderjaar fors is om de (te) lage Inschrijving in de aanbesteding te corrigeren. Indien Inschrijver geen eigenrisicodrager voor één of beide Whk premies is, dan zullen de desbetreffende Whk-premies via inzage in de juiste beschikking van de Belastingdienst worden geverifieerd. Daarbij mag niet-relevante informatie worden wegglakt. Tijdens elke tariefsafstemming (of bij uitzondering op een ander gerechtvaardigd moment) kan door Opdrachtgever worden gevraagd - al dan niet door tussenkomst van een onafhankelijke derde - om bewijsstukken te overleggen ten aanzien van de in de Loonsomfactor opgevoerde Whk-premies die op basis van ERD of deelname aan het publieke stelsel (niet-ERD) door Inschrijver zijn bepaald. Ook indien uit de bewijsmiddelen en/of onderbouwing blijkt dat een of beide premies zijn gedaald, wordt het lagere percentage in de Loonsomfactor overgenomen. Er wordt bij de verificatie van deze premies door Opdrachtnemer ook kennis worden genomen van bijvoorbeeld de voor elk opvolgend kalenderjaar gepubliceerde informatie over de gedifferentieerde premies WGA en ZW-Flex en de Premiewijzer van het UWV. | J25: ERD WGA? ja/nee (s.v.p. aangeven wat van toepassing is) Hoogte WGA premie vóór door- belasting aan Uitzendkracht: .,.. % (hier het daadwerkelijke percentage invullen, dus niet bijv. 100%) Percentage van de WGA premie dat aan Uitzendkracht wordt doorbelast: ..%
C26: Werkhervattingskas ZW-Flex (ziektekosten na dienstverband) | D26: 0 | E26: =H15 -> 123.46778 | F26: basis + res | G26: =D26*E26 -> 0 | J26: ERD ZW-Flex? ja/nee (s.v.p. aangeven wat van toepassing is)
C27: Transitievergoeding Het maximum percentage is rekenkundig 2,7800%. Hoger aanbieden dan 2,7800% leidt tot uitsluiting van deze aanbestedingsprocedure. | D27: 0 | E27: =H15 -> 123.46778 | F27: basis + res | G27: =D27*E27 -> 0 | I27: Bedrijfsspecifieke kostprijsvariabele, maar met een uit de wet te herleiden rekenkundig maximum van 2,78000%. Het percentage voor de reservering voor de transitievergoeding waarmee hier is ingeschreven, is vast gedurende de looptijd van de Raamovereenkomst, inclusief eventuele verlenging(en). Uitzondering vormt de omstandigheid dat significante wettelijke wijzigingen in de transitievergoeding gedurende de looptijd van de Raamovereenkomst worden doorgevoerd. Bijvoorbeeld wettelijke wijzigingen in de hoogte van transitievergoeding en/of de berekeningswijze. Deze wijziging dient dan door Inschrijver/ Opdrachtnemer afdoende te worden onderbouwd.
C28: totaal | D28: =SUM(D21:D27) -> 0.2233 | E28: =H15 -> 123.46778 | F28: basis + res | G28: =SUM(G21:G27) -> 27.570355 | H28: =H20+G28 -> 152.48271
A29: Blok 5 | B29: Administratieve verplichtingen | C29: Ziektekosten tijdens dienstverband in deze regel, cel D29, invullen. (gekoppeld aan cel H37 in blok 6 als onderdeel van de berekeningsgrondslag van de eindejaarsuitkering) | D29: 0 | E29: =H28 -> 152.48271 | F29: basis + res + soc.verz. | G29: =D29*E29 -> 0 | I29: Niet-bedrijfsspecifieke kostprijsvariabele(n) Dit veld betreft eventuele overige voorzieningen en reserveringen waar Opdrachtnemer invloed op heeft en die derhalve gedurende de looptijd van de Raamovereenkomst inclusief eventuele verlengingen niet mogen worden aangepast. Inschrijver kan er voor kiezen hier één percentage op te voeren, de percentages in verschillende posten uit te splitsen of bijvoorbeeld de percentages op 0,000% te laten staan en alleen een Bureaumarge voor de overige kosten te hanteren. Posten die in blok 1 tot en met 4 zijn opgevoerd mag Inschrijver echter hier niet nogmaals opnemen. Er mag ook niet met de posten tussen de blokken met de in de Loonsomfactor worden geschoven. Aandachtspunt: de voorziening voor 'ziektekosten tijdens dienstverband' is gekoppeld aan cel H37 in blok 6 als onderdeel van de berekeningsgrondslag van de eindejaarsuitkering. ZORG ER DAAROM VOOR DAT U DEZE PREMIE IN CEL D29 INVULT, EN NIET BIJVOORBEELD OP EEN ANDERE REGEL IN BLOK 5. HET NIET JUIST INVULLEN IS VOOR REKENING EN RISICO VAN INSCHRIJVER.
C30: … | D30: 0 | E30: =H28 -> 152.48271 | F30: basis + res + soc.verz. | G30: =D30*E30 -> 0
C31: … | D31: 0 | E31: =H28 -> 152.48271 | F31: basis + res + soc.verz. | G31: =D31*E31 -> 0
C32: … | D32: 0 | E32: =H28 -> 152.48271 | F32: basis + res + soc.verz. | G32: =D32*E32 -> 0
C33: … | D33: 0 | E33: =H28 -> 152.48271 | F33: basis + res + soc.verz. | G33: =D33*E33 -> 0
C34: … | D34: 0 | E34: =H28 -> 152.48271 | F34: basis + res + soc.verz. | G34: =D34*E34 -> 0
C35: … | D35: 0 | E35: =H28 -> 152.48271 | F35: basis + res + soc.verz. | G35: =D35*E35 -> 0
C36: totaal | D36: =SUM(D29:D35) -> 0 | E36: =H28 -> 152.48271 | F36: basis + res + soc.verz. | G36: =SUM(G29:G35) -> 0 | H36: =H28+G36 -> 152.48271
A37: Blok 6 | B37: Eindejaarsuitkering (EJU) | C37: totaal | D37: 0.083 | E37: =H14*D37 -> 9.4636517 | F37: Vakantiedagen, feestdagen, kort/bijzonder verzuim (cel H14, zie cel E37) + ZW-+PAWW+pensioen+SFU+AOF +Zwv+AWF+WGA+ZW-Flex+ transitievergoeding + ziektekosten tijdens dienstverband cel D29 (zie cel G37 voor uitkomst optelling tweede deel vanaf PAWW t/m Transitievergoeding) | G37: =(SUM(D16:D18)+SUM(D21:D27))*E37 -> 2.1274289 | H37: =(E37+G37)*(100%+D29) -> 11.591081 | I37: Niet-bedrijfsspecifieke kostprijsvariabele De inlenersbeloning is bepalend voor o.a. de hoogte van de eindejaarsuitkering.
C38: totaal Loonsomfactor | F38: basis+res+soc.verz.+ EJU | H38: =H36+H37 -> 164.07379
F39: Loonsomfactor Uitzenden en/of Detacheren in fase A/fase 1,2. (rekenkundig op vier decimalen achter de komma afgerond) | H39: =H38 -> 164.07379 | I39: De Loonsomfactor dient altijd hoger dan 1,0000 te zijn. | J39: =ROUND(H39/100,4) -> 1.6407
B40: De bureaumarge kan gedurende de looptijd van de Raamovereenkomst inclusief verleningen niet worden aangepast. | F40: Bureaumarge Uitzenden en/of Detacheren in fase A/fase 1,2. | H40: 1 | I40: De Bureaumarge dient altijd hoger dan 1,0000 te zijn. Maximaal 4 decimalen achter de komma invullen.
F41: Omrekenfactor Uitzenden en/of Detacheren in fase A/fase 1,2. (rekenkundig op vier decimalen achter de komma afgerond) | H41: =J39*H40 -> 1.6407 | I41: De Omrekenfactor dient altijd hoger dan 1,0000 te zijn. | J41: =ROUND(J39*H40,4) -> 1.6407
B42: De gele velden betreffen door Inschrijver in te vullen velden
...

Sheet 2b Fase B en C
A1: BIJLAGE 5 - Tab 2b Detacheren (=zonder uitzendbeding ) in fase B en C / fase 3 en 4 (ABU/NBBU) in cao Rijk-salarisschaal 11 en 12
A3: Tariefstelling 2024 | B3: DJI-DGV | F3: Versie Nota van Inlichtingen 2
B4: Kenmerk IUC DJI/INEA/NA/2024-1
A5: Tarieven exclusief VOG-kosten en exclusief reiskosten woon-werkverkeer
B7: De gele velden betreffen door Inschrijver in te vullen velden | I7: LET OP: ook kolommen rechts bij Whk premies (kolom J/K) en helemaal onderaan invullen.
A8: Loonsomfactor Detacheren (= zonder Uitzendbeding) in fase B en C / fase 3 en 4 (ABU/NBBU) cao-Rijk salarisschaal 11 en 12
A9: Blok | B9: Kostprijsvariabele | D9: Percentage | F9: Grondslag | G9: Bijdrage | H9: Totaal | I9: Toelichting
A10: Blok 1 | B10: Basis (bruto Uurloon o.b.v. inlenersbeloning) | D10: 1 | E10: 100 | F10: basis | G10: 100 | H10: 100 | I10: Niet-bedrijfsspecifieke kostprijsvariabele Deze kostenpost is altijd 100,0000%. De inlenersbeloning is bepalend voor de hoogte van het bruto Uurloon. | J10: In te vullen door Inschrijver:
A11: Blok 2 | B11: reserveringen | C11: vakantiedagen (25 vakantiedagen/231 werkbare dagen in 2024) | D11: 0.108225 | E11: =H10 -> 100 | F11: basis | G11: =D11*E11 -> 10.8225 | I11: Niet-bedrijfsspecifieke kostprijsvariabelen Dit betreft conform de ABU- en NBBU-cao jaarlijks vastgesteld percentages. Deze percentages dienen hier een-op-een te worden overgenomen en zijn daarom al ingevuld. Ingeval van wijziging in de ABU- en/of NBBU-cao geldt ook dat de nieuw vastgestelde percentages een-op-een worden overgenomen. Uitzondering hierop zijn de reserveringen voor vakantie- en feestdagen in de jaren dat Bevrijdingsdag/5 mei wel op een Werkdag valt, maar niet in een lustrumjaar. Net zoals voor de medewerkers van Deelnemer is dit voor Uitzendkrachten in die situatie een vrije dag die wordt doorbetaald. Deze doorbetaling wordt in de reservering voor de vakantie- en feestdagen verwerkt. Aanvullende uitzondering: voor de rerveringen voor 'vakantiedagen','feestdagen' en 'kort verzuim/bijzonder verlof', mag in fase B/3 en C/4 NIET worden afgeweken van fase A/1,2, hoewel dit conform de ABU-en NBBU-cao theoretisch mogelijk is. Indien Inschrijver extra opslag wenst voor deze reserveringen in fase B en/of C, dan dient dit bij Inschrijving in blok 5 en/of de Bureaumarge van de Loonsomfactor te worden verwerkt. Uitgangspunten: - Voor de reserveringen in dit blok 2 is de berekening zonder bijvoorbeeld opleidings-, ziekte- of leegloopdagen (m.u.v. 'Wab-leegloopdagen vanwege oproep binnen 4 kalenderdagen voor aanvang Werkzaamheden - zie ook het Programma van Eisen, bijlage A) niet toegestaan. Indien gewenst moeten hieraan gerelateerde voorzieningen in blok 5 en/of de Bureaumarge van de Loonsomfactor worden verwerkt; - Conform de inlenersbeloning volgens de ABU of NBBU-cao geldt dat arbeidsduurverkorting - naar keuze van Opdrachtnemer - wordt uitgekeerd in tijd of geld. Het is aan Opdrachtnemer hoe zij dit op een goede wijze en in overeenstemming met de voor haar toepasselijke uitzendcao met haar Uitzendkrachten verrekent; - Met de Wieg, WaZo en dergelijke samenhangende voorzieningen moeten indien gewenst in blok 5 en/of de Bureaumarge van de Loonsomfactor worden verwerkt; - Kort verzuim/bijzonder verlof is bewust niet in de berekeningsgrondslag van het vakantiegeld (blok 3) opgenomen, in overeenstemming met het model kostenopbouw uit de uitzendbranche op dit punt. Dit betreft een vast in de ABU- en NBBU-cao vastgesteld percentage dat los staat van het aantal werkbare dagen. Daarom heeft Aanbestedende dienst ook dit percentage alvast ingevuld.
C12: feestdagen 6 feestdagen/231 werkbare dagen in 2024) | D12: 0.025974 | E12: =H10 -> 100 | F12: basis | G12: =D12*E12 -> 2.5974
C13: kort verzuim/ bijzonder verlof | D13: 0.006 | E13: =H10 -> 100 | F13: basis | G13: =D13*E13 -> 0.6
C14: totaal | D14: =SUM(D11:D13) -> 0.140199 | E14: =H10 -> 100 | F14: basis | G14: =SUM(G11:G13) -> 14.0199 | H14: =H10+G14 -> 114.0199
A15: Blok 3 | B15: vakantiegeld | C15: Vakantiegeld | D15: 0.0833 | E15: =H10+G11+G12 -> 113.4199 | F15: basis + res - kv/bv | G15: =D15*E15 -> 9.4478777 | H15: =H14+G15 -> 123.46778 | I15: Niet-bedrijfsspecifieke kostprijsvariabele Dit betreft een conform de ABU- en NBBU-cao vastgesteld percentage. Dit percentage dient hier een-op-een te worden overgenomen en is daarom al ingevuld. Ingeval van wijziging in de ABU- en/of NBBU-cao geldt ook dat het nieuw vastgestelde percentage een-op-een wordt overgenomen.
A16: Blok 4 | B16: werkgeverslasten (CAO) en pensioen | C16: Zw-aanvullend (ZW-A premie t.b.v. aanvulling uitkering UWV in het eerste en tweede ziektejaar, risicopremiegroep 1) | D16: 0 | E16: =H15 -> 123.46778 | F16: basis + res | G16: =D16*E16 -> 0 | I16: Bedrijfsspecifieke kostprijsvariabele Deze voorziening is voor de inhuurvorm 'Detacheren in fase B of C' op grond van de ABU- en NBBU-cao niet van toepassing. Inschrijver dient hier niets voor in te vullen.
C17: pensioen | D17: 0 | E17: =H15 -> 123.46778 | F17: basis + res | G17: =D17*E17 -> 0 | I17: Bedrijfsspecifieke kostprijsvariabele, binnen door het relevante pensioenfonds (zoals StiPP) vastgestelde kaders en waardes. Het premiepercentage voor pensioen wordt jaarlijks vastgesteld door het pensioenfonds waarbij Opdrachtnemer is aangesloten, zoals het StiPP. Dit geldt ook voor de zogeheten franchise, een nominaal bedrag dat van het gemiddelde pensioengevend uurloon wordt afgetrokken. De hoogte van de franchise is gekoppeld aan het Wml en wordt jaarlijks vastgesteld. Verder wordt er jaarlijks een maximaal pensioengevend uurloon vastgesteld. Deze buiten de invloedssfeer van Opdrachtnemer vastgestelde waardes zijn leidend in de berekening van de in de Loonsomfactor door Inschrijver op te voeren pensioenpremie. Ook de ABU- en NBBU-cao kunnen invloed hebben op de hoogte van de pensioenpremie. Tot slot wordt er rekening gehouden met het gemiddeld pensioengevend uurloon bij de berekening van de pensioenpremie. Indien Opdrachtnemer een aanpassing van de pensioenpremie wenst, maakt hij bij Opdrachtgever op grond van een gedegen onderbouwing aannemelijk en verifieerbaar dat een dergelijke aanpassing noodzakelijk en correct is. Eventueel kan bij geschillen het advies en/of een onderzoek van een onafhankelijke derde worden verlangd. Over de kosten daarvan worden alsdan nadere afspraken gemaakt tussen Opdrachtgever en Opdrachtnemer. Opdrachtgever wil - voor zover uiteraard noodzakelijk en van toepassing - vermijden dat laag wordt ingeschreven en vervolgens de premie aanpassing in een nieuw kalenderjaar (fors) wordt verhoogd om de (te) lage Inschrijving in de aanbesteding te corrigeren.
C18: SFU/sociaal fonds | D18: 0 | E18: =H15 -> 123.46778 | F18: basis + res | G18: =D18*E18 -> 0 | I18: Niet-bedrijfsspecifieke kostprijsvariabele Deze voorziening is voor de inhuurvorm 'Detacheren in fase B of C' op grond van de ABU- en NBBU-cao niet van toepassing. Inschrijver dient hier niets voor in te vullen.
C19: scholing | D19: 0 | E19: =H15 -> 123.46778 | F19: basis + res | G19: =D19*E19 -> 0 | I19: Niet-bedrijfsspecifieke kostprijsvariabele Deze voorziening is voor de inhuurvorm 'Detacheren in fase B of C' op grond van de ABU- en NBBU-cao niet van toepassing. Inschrijver dient hier niets voor in te vullen.
C20: totaal | D20: =SUM(D16:D19) -> 0 | E20: =H15 -> 123.46778 | F20: basis + res | G20: =SUM(G16:G19) -> 0 | H20: =H15+G20 -> 123.46778
B21: werkgeverslasten (o.a. sociale verzekeringspremies) | C21: PAWW | D21: 0.0008 | E21: =H15 -> 123.46778 | F21: basis + res | G21: =D21*E21 -> 0.098774222 | I21: Niet-bedrijfsspecifieke kostprijsvariabele Op grond van de ABU- en NBBU-cao is de PAWW van toepassing. De Stichting PAWW (private aanvulling op de WW en WGA) stelt jaarlijks de premie vast. Deze premie wordt een-op-een overgenomen in de Loonsomfactor. Voor 2024 geldt een premie van 0,08%.
C22: Aof inclusief kinderopvang | D22: 0.0804 | E22: =H15 -> 123.46778 | F22: basis + res | G22: =D22*E22 -> 9.9268093 | I22: Niet-bedrijfsspecifieke kostprijsvariabele De Aof inclusief kinderopvang, de Zvw en de Awf betreffen de jaarlijks wettelijk vastgestelde premies, die één-op-één dienen te worden overgenomen in de Loonsomfactor. Daarom zijn deze premies door Aanbestedende dienst al ingevuld. Uitgangspunt is steeds de wettelijke premie die in een bepaald kalenderjaar van toepassing is. Voor de AOF en AWf kan er sprake zijn van een gedifferentieerde premie. Daarbij is echter op grond van het wettelijke kader vast te stellen welke wettelijke premie van toepassing is voor een Opdrachtnemer. Op het moment van publicatie van deze aanbesteding zijn de definitieve wettelijke premies voor het jaar 2024 nog niet bekend. Op het moment van Inschrijving echter wel. Inschrijver dient daarom deze wettelijke premies bij Inschrijving zelf in te vullen.
C23: Zvw (zorgverzekeringswet) | D23: 0.0657 | E23: =H15 -> 123.46778 | F23: basis + res | G23: =D23*E23 -> 8.111833
C24: Awf werkloosheidswet | D24: 0.0764 | E24: =H15 -> 123.46778 | F24: basis + res | G24: =D24*E24 -> 9.4329382
C25: Werkhervattingskas - WGA Dit betreft de van toepassing zijnde premie, waarop het gedeelte dat wordt doorberekend aan de Uitzendkrachten, te weten maximaal 50%, in mindering is gebracht. Zie ook het geel gemarkeerde vak in kolom J/K. | D25: 0 | E25: =H15 -> 123.46778 | F25: basis + res | G25: =D25*E25 -> 0 | I25: Bedrijfsspecifieke kostprijsvariabele Inschrijver dient in de hiernaast opgenomen tabel aan te geven of hij wel of niet een eigenriscodrager (ERD) voor de premie Whk-WGA en de premie ZW-Flex is. Ook dient Inschrijver in hiernaast (in kolom J) voor de WGA-Whk premie in te vullen wat de volledige premie is en welk deel van de premie wordt doorbelast aan de Uitzendkracht. Doorgaans betreft dit in de uitzendbranche de maximaal toegestane 50%. Inschrijver dient de juistheid van de premies, alsmede het percentage dat aan de Uitzendkracht wordt doorbelast, desgewenst na gunning en vervolgens tijdens elke tariefsafstemming aan te tonen aan Opdrachtgever. De Whk premies worden alleen aangepast op basis van een duidelijke en correcte onderbouwing van Opdrachtnemer. Waarbij deze onderbouwing verifieerbaar is door Opdrachtgever of - indien noodzakelijk - door een onafhankelijke derde. Opdrachtgever wil - voor zover uiteraard noodzakelijk en van toepassing - vermijden dat laag wordt ingeschreven en vervolgens de premie aanpassing in een nieuw kalenderjaar fors is om de (te) lage Inschrijving in de aanbesteding te corrigeren. Indien Inschrijver geen eigenrisicodrager voor één of beide Whk premies is, dan zullen de desbetreffende Whk-premies via inzage in de juiste beschikking van de Belastingdienst worden geverifieerd. Daarbij mag niet-relevante informatie worden wegglakt. Tijdens elke tariefsafstemming (of bij uitzondering op een ander gerechtvaardigd moment) kan door Opdrachtgever worden gevraagd - al dan niet door tussenkomst van een onafhankelijke derde - om bewijsstukken te overleggen ten aanzien van de in de Loonsomfactor opgevoerde Whk-premies die op basis van ERD of deelname aan het publieke stelsel (niet-ERD) door Inschrijver zijn bepaald. Ook indien uit de bewijsmiddelen en/of onderbouwing blijkt dat een of beide premies zijn gedaald, wordt het lagere percentage in de Loonsomfactor overgenomen. Er wordt bij de verificatie van deze premies door Opdrachtnemer ook kennis worden genomen van bijvoorbeeld de voor elk opvolgend kalenderjaar gepubliceerde informatie over de gedifferentieerde premies WGA en ZW-Flex en de Premiewijzer van het UWV. | J25: ERD WGA? ja/nee (s.v.p. aangeven wat van toepassing is) Hoogte WGA premie vóór door- belasting aan Uitzendkracht: .,.. % (hier het daadwerkelijke percentage invullen, dus niet bijv. 100%) Percentage van de WGA premie dat aan Uitzendkracht wordt doorbelast: ...%
C26: Werkhervattingskas ZW-Flex (ziektekosten na dienstverband) | D26: 0 | E26: =H15 -> 123.46778 | F26: basis + res | G26: =D26*E26 -> 0 | J26: ERD ZW-Flex? ja/nee (s.v.p. aangeven wat van toepassing is)
C27: Transitievergoeding Het maximum percentage is rekenkundig 2,7800%. Hoger aanbieden dan 2,7800% leidt tot uitsluiting van deze aanbestedingsprocedure. | D27: 0 | E27: =H15 -> 123.46778 | F27: basis + res | G27: =D27*E27 -> 0 | I27: Bedrijfsspecifieke kostprijsvariabele, maar met een uit de wet te herleiden rekenkundig maximum van 2,78000%. Het percentage voor de reservering voor de transitievergoeding waarmee hier is ingeschreven, is vast gedurende de looptijd van de Raamovereenkomst, inclusief eventuele verlenging(en). Uitzondering vormt de omstandigheid dat significante wettelijke wijzigingen in de transitievergoeding gedurende de looptijd van de Raamovereenkomst worden doorgevoerd. Bijvoorbeeld wettelijke wijzigingen in de hoogte van transitievergoeding en/of de berekeningswijze. Deze wijziging dient dan door Inschrijver/ Opdrachtnemer afdoende te worden onderbouwd.
C28: totaal | D28: =SUM(D21:D27) -> 0.2233 | E28: =H15 -> 123.46778 | F28: basis + res | G28: =SUM(G21:G27) -> 27.570355 | H28: =H20+G28 -> 151.03813
A29: Blok 5 | B29: Administratieve verplichtingen | C29: Ziektekosten tijdens dienstverband in deze regel, cel D29, invullen. (gekoppeld aan cel H37 in blok 6 als onderdeel van de berekeningsgrondslag van de eindejaarsuitkering) | D29: 0 | E29: =H28 -> 151.03813 | F29: basis + res + soc.verz. | G29: =D29*E29 -> 0 | I29: Niet-bedrijfsspecifieke kostprijsvariabele(n) Dit veld betreft eventuele overige voorzieningen en reserveringen waar Opdrachtnemer invloed op heeft en die derhalve gedurende de looptijd van de Raamovereenkomst inclusief eventuele verlengingen niet mogen worden aangepast. Inschrijver kan er voor kiezen hier één percentage op te voeren, de percentages in verschillende posten uit te splitsen of bijvoorbeeld de percentages op 0,000% te laten staan en alleen een Bureaumarge voor de overige kosten te hanteren. Posten die in blok 1 tot en met 4 zijn opgevoerd mag Inschrijver echter hier niet nogmaals opnemen. Er mag ook niet met de posten tussen de blokken met de in de Loonsomfactor worden geschoven. Aandachtspunt: de voorziening voor 'ziektekosten tijdens dienstverband' is gekoppeld aan cel H37 in blok 6 als onderdeel van de berekeningsgrondslag van de eindejaarsuitkering. ZORG ER DAAROM VOOR DAT U DEZE PREMIE IN CEL D29 INVULT, EN NIET BIJVOORBEELD OP EEN ANDERE REGEL IN BLOK 5. HET NIET JUIST INVULLEN IS VOOR REKENING EN RISICO VAN INSCHRIJVER.
C30: … | D30: 0 | E30: =H28 -> 151.03813 | F30: basis + res + soc.verz. | G30: =D30*E30 -> 0
C31: … | D31: 0 | E31: =H28 -> 151.03813 | F31: basis + res + soc.verz. | G31: =D31*E31 -> 0
C32: … | D32: 0 | E32: =H28 -> 151.03813 | F32: basis + res + soc.verz. | G32: =D32*E32 -> 0
C33: … | D33: 0 | E33: =H28 -> 151.03813 | F33: basis + res + soc.verz. | G33: =D33*E33 -> 0
C34: … | D34: 0 | E34: =H28 -> 151.03813 | F34: basis + res + soc.verz. | G34: =D34*E34 -> 0
