Workbook

Sheet Beoordeling schriftelijk
A1: Schriftelijke beoordeling | B1: =SUM(B6:B15,B16:B25,B29:B33,B37:B40) -> 500
A2: Wens | B2: Max. punten | C2: Toelichting fabrikant: voldoet u aan deze wens? Op welke wijze? Licht toe. | D2: Beoordeling UMCs | E2: Toelichting UMCs van beoordeling | F2: Aantal punten toegekend
A3: Beoordeling technisch ontwerp en beheer
A5: Geef een korte introductie over hoe uw systeem functioneel is vormgegeven (max. 1 A4) Geef zo gedetailleerd mogelijk aan welke in- en outputsignalen uw videoroutingsysteem aan kan met bijbehorende max resolutie/signaal standaarden en latency.(max 1 A4) | B5: 0
A6: UMC's wensen zo min mogelijk blootgesteld te worden aan afhankelijkheidsrisico's. Licht toe van welke toeleveranciers u afhankelijk bent m.b.t. het aanbieden van de basis routing functionaliteiten van het systeem, en op welke wijze u afhankelijkheidsrisico's van deze toeleveranciers heeft afgedekt. Max. 1 A4. | B6: 30 | F6: =IFERROR(VLOOKUP(D6,'Waardering categorieën'!A:B,2,FALSE)*B6,"n.t.b.") -> n.t.b.
A7: UMC's belonen innovatieve features ter ondersteuning van zorg, onderzoek en onderwijstaken. Geef in max. 1 A4 aan over welke innovatieve features (bv presets) het routering, opslag en streaming systeem bevat om specialisten en OK-personeel te ondersteunen in zorg, onderzoek en onderwijstaken. | B7: 30 | F7: =IFERROR(VLOOKUP(D7,'Waardering categorieën'!A:B,2,FALSE)*B7,"n.t.b.") -> n.t.b.
A8: API koppeling voor venderneutraal uitwisselen van gegevens met andere applicaties. Beschrijf deze functionaliteit. | B8: 20 | F8: =IFERROR(VLOOKUP(D8,'Waardering categorieën'!A:B,2,FALSE)*B8,"n.t.b.") -> n.t.b.
A9: UMC's wensen dat u gebruik maakt van geharmoniseerde standaarden ten aanzien van hard- en software ontwikkeling en life-cycle management met betrekking tot verificatie en validatie van het samengestelde product (bv IEC 62304 of ISO13485). Welke normen en standaarden hanteert u? | B9: 20 | F9: =IFERROR(VLOOKUP(D9,'Waardering categorieën'!A:B,2,FALSE)*B9,"n.t.b.") -> n.t.b.
A10: Locatie AMC wenst dat de hardware t.b.v. het audio/videoroutingsysteem zoveel mogelijk wordt verwerkt in de OK-muren of boven de technische vloer boven de OK (in "de hoed", ruimte voor 2 serverracks van lxbxh 0,7m x 0,7m x 2m). Specificeer uw oplossing. | B10: 20 | F10: =IFERROR(VLOOKUP(D10,'Waardering categorieën'!A:B,2,FALSE)*B10,"n.t.b.") -> n.t.b.
A11: Schermen in het steriele gebied: Barco type MDSC-8427 12G, 4K 27" beelddiagonaal. Zo niet: geef aan welke schermen u levert (fabrikant / type / beelddiagonaal). | B11: 15 | F11: =IFERROR(VLOOKUP(D11,'Waardering categorieën'!A:B,2,FALSE)*B11,"n.t.b.") -> n.t.b.
A12: UMC's wensen dat gebruikers op laagdrempelige wijze kennis over het systeem kunnen opdoen. Geef aan op welke wijze u voortdurend mogelijkheden aanbiedt voor gebruikers om zich te bekwamen in het gebruik van het systeem. | B12: 15
A13: Compressieformat van de MPEG is afzonderlijk instelbaar voor AGFA PACS2 en onderzoeks-PACS. Licht toe. | B13: 10 | F13: =IFERROR(VLOOKUP(D13,'Waardering categorieën'!A:B,2,FALSE)*B13,"n.t.b.") -> n.t.b.
A14: Uw applicatiebeheertool wordt aangeboden in een webinterface of op basis van app-V. | B14: 10 | F14: =IFERROR(VLOOKUP(D14,'Waardering categorieën'!A:B,2,FALSE)*B14,"n.t.b.") -> n.t.b.
A15: Uw systeem beschikt over een functionaliteit om tijdens de procedure markeringen/labels aan te brengen in de opgenomen video's, t.b.v. het versnellen van zoek en edit mogelijkheden. Beschrijf deze functionaliteit en hoe deze bijdraagt aan dit doel. | B15: 10 | F15: =IFERROR(VLOOKUP(D15,'Waardering categorieën'!A:B,2,FALSE)*B15,"n.t.b.") -> n.t.b.
A16: Role based access moet op basis van de active directory van het Amsterdam UMC ingericht kunnen worden door applicatiebeheerders van Amsterdam UMC. Geef aan op welke wijze uw applicatie hier een gebruiksvriendelijke werkwijze in aanbiedt. | B16: 8 | F16: =IFERROR(VLOOKUP(D16,'Waardering categorieën'!A:B,2,FALSE)*B16,"n.t.b.") -> n.t.b.
A17: AVG beheersmaatregelen dienen zoveel mogelijk automatisch aangeboden te worden. Omschrijf op welke wijze uw systeem dit aanbiedt, bijv. notificatie, afdekken van personen en persoonsgegevens | B17: 8 | F17: =IFERROR(VLOOKUP(D17,'Waardering categorieën'!A:B,2,FALSE)*B17,"n.t.b.") -> n.t.b.
A18: Front-end integratie is mogelijk in Epic. | B18: 8 | F18: =IFERROR(VLOOKUP(D18,'Waardering categorieën'!A:B,2,FALSE)*B18,"n.t.b.") -> n.t.b.
A19: MPEG Compressieformat is naast AVC H.264 ook mogelijk met HEVC H.265. | B19: 5 | F19: =IFERROR(VLOOKUP(D19,'Waardering categorieën'!A:B,2,FALSE)*B19,"n.t.b.") -> n.t.b.
A20: Uw systeem kan via een HL7, versie 2.4 koppeling planning en order gegevens ontvangen van EPIC. Het betreft hier ORM en SIU berichten. Wilt u toelichten hoe u voldoet aan de volgende wensen: 1) Het systeem moet in staat zijn verschillende statuswijzigingen en updates van deze berichten te verwerken, en daarop te acteren op een te configureren wijze. 2) Het systeem moet in staat zijn SIU berichten waarbinnen meerdere verrichtingen worden aangemeld (meerdere AIS segmenten) te verwerken. Iedere verrichting kan resulteren in een separaat beeldonderzoek. 3) Het moet mogelijk zijn in geval van spoed order (waarvoor nog geen werklijst beschikbaar is) toch opname gestart kan worden en later gekoppeld aan de correcte patiënt. | B20: 5 | F20: =IFERROR(VLOOKUP(D20,'Waardering categorieën'!A:B,2,FALSE)*B20,"n.t.b.") -> n.t.b.
A21: Uw systeem heeft de mogelijkheid om aan één OK flexibel meer dan 2 recorders toe te kennen, bijv. door gebruik te maken van een aantal mobiele recorders. Licht toe hoe deze oplossing eruit ziet. | B21: 5 | F21: =IFERROR(VLOOKUP(D21,'Waardering categorieën'!A:B,2,FALSE)*B21,"n.t.b.") -> n.t.b.
A22: Op locatie AMC is een intercomsysteem tussen opdekruimte, anesthesie bergruimte en OK geïntegreerd in het huidige AV-routingsysteem. Vernieuwing van het intercomsysteem en integratie in het AV routingssysteem is onderdeel van uw aanbod. | B22: 5 | F22: =IFERROR(VLOOKUP(D22,'Waardering categorieën'!A:B,2,FALSE)*B22,"n.t.b.") -> n.t.b.
A23: Omgevingsgeluid wordt onderdrukt / weggefilterd in het intercomsignaal. Beschrijf deze oplossing. | B23: 2 | F23: =IFERROR(VLOOKUP(D23,'Waardering categorieën'!A:B,2,FALSE)*B23,"n.t.b.") -> n.t.b.
A24: Beeldschermen kunnen automatisch gekalibreerd worden (of de instellingen centraal beheerd), dusdanig dat alle schermen in het operatiegebied en tussen de OK's hun beelden in dezelfde helderheid en kleur weergeven. Licht uw oplossing toe. | B24: 2 | F24: =IFERROR(VLOOKUP(D24,'Waardering categorieën'!A:B,2,FALSE)*B24,"n.t.b.") -> n.t.b.
A25: De overzichtscamera's kunnen (naast automatisch) ook handmatig op afstand focussen. | B25: 2 | F25: =IFERROR(VLOOKUP(D25,'Waardering categorieën'!A:B,2,FALSE)*B25,"n.t.b.") -> n.t.b.
A26: Subtotaal
A27: Beoordeling SLA
A28: Geef in het "Uitvraagformulier Service Level Agreement" aan op welke wijze u invulling geeft aan de onderstaande wensen van de UMC's:
A29: Capaciteit vanuit de leverancier beschikbaar wordt gesteld voor uitvoeren van onderhoud en correcties niet-urgente storingen buiten kantooruren, bij voorkeur 1x per week per locatie na het operatieprogramma. | B29: 60 | C29: Invullen in "Uitvraagformulier Service Level Agreement" | F29: =IFERROR(VLOOKUP(D29,'Waardering categorieën'!A:B,2,FALSE)*B29,"n.t.b.") -> n.t.b.
A30: Leverancier biedt voor eerstelijns support door technici van Amsterdam UMC een toegankelijk en schematisch naslagwerk voor alle acute storingen, wat door leverancier up-to-date wordt gehouden. | B30: 15 | C30: Invullen in "Uitvraagformulier Service Level Agreement" | F30: =IFERROR(VLOOKUP(D30,'Waardering categorieën'!A:B,2,FALSE)*B30,"n.t.b.") -> n.t.b.
A31: Er wordt een voorraad onderdelen beschikbaar gesteld en door leverancier beheerd op locaties AMC en VUmc t.b.v. correcties van storingen. | B31: 15 | C31: Invullen in "Uitvraagformulier Service Level Agreement" | F31: =IFERROR(VLOOKUP(D31,'Waardering categorieën'!A:B,2,FALSE)*B31,"n.t.b.") -> n.t.b.
A32: Garanties voor het afleveren van onderdelen binnen 24 uur zonder meerprijs. | B32: 15 | C32: Invullen in "Uitvraagformulier Service Level Agreement" | F32: =IFERROR(VLOOKUP(D32,'Waardering categorieën'!A:B,2,FALSE)*B32,"n.t.b.") -> n.t.b.
A33: Eerstelijns training van technici: introductie, bij-/her-/nascholing | B33: 15 | C33: Invullen in "Uitvraagformulier Service Level Agreement" | F33: =IFERROR(VLOOKUP(D33,'Waardering categorieën'!A:B,2,FALSE)*B33,"n.t.b.") -> n.t.b.
A34: Subtotaal
A35: Beoordeling ICT
A36: Geef in het "Uitvraagformulier ICT architectuur" aan op welke wijze u invulling geeft aan de onderstaande wensen van de UMC's:
A37: Mogelijkheden minimale uptime | B37: 25 | C37: Invullen in "Uitvraagformulier ICT architectuur"
A38: Active directory integratiemogelijkheden (i.v.m. meerdere directories in UMC's) | B38: 25 | C38: Invullen in "Uitvraagformulier ICT architectuur"
A39: Benodigdheden van lokale netwerk om streaming buiten OK complex mogelijk te maken | B39: 75 | C39: Invullen in "Uitvraagformulier ICT architectuur"
A40: Oplossing voor delivery van client software | B40: 25 | C40: Invullen in "Uitvraagformulier ICT architectuur"
A41: Subtotaal
...

Sheet Beoordeling demo
A1: Demo beoordeling | B1: met top 3 leveranciers o.b.v. schriftelijk + prijs
A2: Wens | B2: Max. punten | D2: Beoordeling UMCs | E2: Toelichting UMCs van beoordeling | F2: Aantal punten toegekend
A3: Beoordeling gebruiksdemo - artsen en operatiemedewerkers Wat vindt u de gebruiker van...
A4: Look en Feel | B4: 35 | C4: Zeer hoog | F4: =IFERROR(VLOOKUP(D4,'Waardering categorieën'!A:B,2,FALSE)*B4,"n.t.b.") -> n.t.b.
A5: Aansluiten van apparatuur (meerdere) met uniforme stekker en weergave van beelden op scherm​ | B5: 15 | C5: Hoog | F5: =IFERROR(VLOOKUP(D5,'Waardering categorieën'!A:B,2,FALSE)*B5,"n.t.b.") -> n.t.b.
A6: Wisselen van beeld naar ander scherm​ | B6: 25 | C6: Zeer hoog | F6: =IFERROR(VLOOKUP(D6,'Waardering categorieën'!A:B,2,FALSE)*B6,"n.t.b.") -> n.t.b.
A7: Weergeven 2 beelden naast elkaar in 1 scherm (Picture-and-Picture)​ | B7: 5 | C7: Midden | F7: =IFERROR(VLOOKUP(D7,'Waardering categorieën'!A:B,2,FALSE)*B7,"n.t.b.") -> n.t.b.
A8: Weergeven beeld over ander beeld (Picture-in-Picture)​ | B8: 5 | C8: Midden | F8: =IFERROR(VLOOKUP(D8,'Waardering categorieën'!A:B,2,FALSE)*B8,"n.t.b.") -> n.t.b.
A9: Opname starten, koppelen aan Epic werklijst | B9: 20 | C9: Zeer hoog | F9: =IFERROR(VLOOKUP(D9,'Waardering categorieën'!A:B,2,FALSE)*B9,"n.t.b.") -> n.t.b.
A10: Markeren en herkenning van gebeurtenissen tijdens procedure | B10: 5 | C10: Midden | F10: =IFERROR(VLOOKUP(D10,'Waardering categorieën'!A:B,2,FALSE)*B10,"n.t.b.") -> n.t.b.
A11: Maken van een kort clipje of still van een situatie en wegschrijven naar PACS / medisch dossier | B11: 25 | C11: Zeer hoog | F11: =IFERROR(VLOOKUP(D11,'Waardering categorieën'!A:B,2,FALSE)*B11,"n.t.b.") -> n.t.b.
A12: Toevoegen van tekst, omcirkeling en pijlen​ | B12: 5 | C12: Laag | F12: =IFERROR(VLOOKUP(D12,'Waardering categorieën'!A:B,2,FALSE)*B12,"n.t.b.") -> n.t.b.
A13: Automatisch wissen van niet relevante beelden | B13: 5 | C13: Midden | F13: =IFERROR(VLOOKUP(D13,'Waardering categorieën'!A:B,2,FALSE)*B13,"n.t.b.") -> n.t.b.
A14: Beëindigen van opname (bij voorkeur automatisch / d.m.v. triggers) | B14: 15 | C14: Hoog | F14: =IFERROR(VLOOKUP(D14,'Waardering categorieën'!A:B,2,FALSE)*B14,"n.t.b.") -> n.t.b.
A15: Exporteren t.b.v. meerdere formats (email bijlage, presentatie, ruwe data, etc.) ​ | B15: 25 | C15: Zeer hoog | F15: =IFERROR(VLOOKUP(D15,'Waardering categorieën'!A:B,2,FALSE)*B15,"n.t.b.") -> n.t.b.
... A19: Uitval van systeem en overschakeling naar lifeline​ | B19: 25 | C19: Zeer hoog | F19: =IFERROR(VLOOKUP(D19,'Waardering categorieën'!A:B,2,FALSE)*B19,"n.t.b.") -> n.t.b.
A20: Subtotaal
A21: Vormgeving en beheer van applicatie
A22: Selecteren en opslaan van beeldmateriaal / clips. Laat zien hoe uw systeem vorm geeft aan onderstaande wensen: | B22: 20 | F22: =AVERAGE(F23:F25)*B22 -> #DIV/0!
A23: Bij voorkeur markeert/highlight het systeem delen van de opname gebaseerd op een point-of-interest selectie dmv bijv. voetpedaal, met start (evt ervoor x sec en erna X sec, met mogelijkheid aanpassing van selectie) | F23: =IFERROR(VLOOKUP(D23,'Waardering categorieën'!A:B,2,FALSE),"n.t.b.") -> n.t.b.
A24: Het systeem moet stills / video clips kunnen maken tijdens de ingreep en deze na accordering naar het PACS sturen: - Video/stills gebaseerd op voetpedalen / handheld - Video/stills gebaseerd op knoppen interface van scope / microscoop | F24: =IFERROR(VLOOKUP(D24,'Waardering categorieën'!A:B,2,FALSE),"n.t.b.") -> n.t.b.
A25: Uw systeem faciliteert de gebruiker in het selectief en automatisch opslaan van beeldmateriaal van OK procedures. | F25: =IFERROR(VLOOKUP(D25,'Waardering categorieën'!A:B,2,FALSE),"n.t.b.") -> n.t.b.
A26: Innovaties en gebruiksvriendelijkheid. Laat zien hoe uw systeem vorm geeft aan onderstaande wensen: | B26: 15 | F26: =AVERAGE(F27:F30)*B26 -> #DIV/0!
A27: Geef aan over welke innovatieve features (bv presets) het routering, opslag en streaming systeem bevat om specialisten en OKpersoneel te ondersteunen in zorg, onderzoek en onderwijstaken | F27: =IFERROR(VLOOKUP(D27,'Waardering categorieën'!A:B,2,FALSE),"n.t.b.") -> n.t.b.
A28: De applicatie moet binnen dezelfde procedure meerdere opnames tegelijkertijd kunnen opnemen en toevoegen aan één EPD order. Dit wordt beoordeeld op gebruiksvriendelijkheid. | F28: =IFERROR(VLOOKUP(D28,'Waardering categorieën'!A:B,2,FALSE),"n.t.b.") -> n.t.b.
A29: Het is mogelijk om presets centraal op te slaan in een gebruikersprofiel voor alle OK's. (o.a. licht- en beeldscherminstellingen). | F29: =IFERROR(VLOOKUP(D29,'Waardering categorieën'!A:B,2,FALSE),"n.t.b.") -> n.t.b.
A30: Gebruiksvriendelijkheid van deze feature zie eis: In de applicatie moet op gebruiksvriendelijke wijze de patiënt en de ruimte geselecteerd kunnen worden uit de werklijst. De applicatie filtert de patiënten o.b.v. OK-ruimtenummer waaraan de patiënt is toegekend. | F30: =IFERROR(VLOOKUP(D30,'Waardering categorieën'!A:B,2,FALSE),"n.t.b.") -> n.t.b.
A31: Beheer. Laat zien hoe uw systeem vorm geeft aan onderstaande wensen: | B31: 15 | F31: =AVERAGE(F32:F34)*B31 -> #DIV/0!
A32: Gebruikers en technici kunnen zien wat de status van het systeem is en de bij behorende onderdelen. | F32: =IFERROR(VLOOKUP(D32,'Waardering categorieën'!A:B,2,FALSE),"n.t.b.") -> n.t.b.
A33: De gebruiker / beheerder kan op gebruiksvriendelijke wijze beelden achteraf aan de patiënt / order koppelen. | F33: =IFERROR(VLOOKUP(D33,'Waardering categorieën'!A:B,2,FALSE),"n.t.b.") -> n.t.b.
A34: Geef een demonstratie van de mogelijkheden mbt applicatiebeheer in de gevraagde beheertool(s) | F34: =IFERROR(VLOOKUP(D34,'Waardering categorieën'!A:B,2,FALSE),"n.t.b.") -> n.t.b.
A35: Subtotaal
A36: Totaal | B36: =SUM(B4:B19,B22,B26,B31) -> 300 | F36: =SUM(F4:F19,F22,F26,F31) -> #DIV/0!

Sheet Waardering categorieën
A1: Ja | B1: 1
A2: Nee | B2: 0
A4: Ja; Barco | B4: 1
A5: Geen Barco | B5: 0.5
A7: Uitstekend | B7: 1
A8: Goed | B8: 0.6
A9: Voldoende | B9: 0.4
A10: Matig | B10: 0.2
A11: Niet getoond | B11: 0

Sheet Top 3-5 bepalen
A3: Vraag schriftelijk / wens schriftelijk / wens demo | B3: Wens | C3: Super belangrijk | D3: Beetje belangrijk | E3: Selectie Ronde 1 (700 pnt) | F3: Gunning Ronde 2 (200 pnt)
A4: Wens; schriftelijk | B4: 2.2 Het systeem is in de toekomst opschaalbaar naar 8k BT.2100, zonder dat modificatie aan de infrastructuur nodig is. | D4: x | F4: 0
B5: 4.16 MPEG Compressieformat is naast AVC H.264 ook mogelijk met HEVC H.265 | D5: x | F5: 5
B6: 4.XX Compressieformat van de MPEG is afzonderlijk instelbaar voor AGFA PACS2 en onderzoeks-PACS Ja: 100%; Nee: 0% | C6: x | E6: 50 | F6: 10
B7: 5.13 Bij voorkeur wordt omgevingsgeluid uit de intercom verbinding weggefilterd (wens). | D7: x | F7: 2
B8: 5.7 Het systeem kan een intercom verbinding faciliteren tussen opdekruimte, anesthesie bergruimte en OK (geldt vooral voor locatie AMC). | D8: x | F8: 5
B10: 7.XX De beeldschermen kunnen “automatisch” gekalibreerd worden\instellingen kunnen centraal beheerd worden, zodat alle schermen in het operatiegebied en tussen de OK's hun beelden in dezelfde helderheid en kleur weergeven. | D10: x | F10: 2
B11: 7.XX De schermen in het steriele gebied zijn Barco type MDSC-8427 12G, 4K 27" beelddiagonaal. Ja: 100%; Geen Barco, wel 27": 50%; Nee: 0% | C11: x | E11: 100 | F11: 15
B12: 8.12 Op locatie AMC wordt de hardware tbv het audiovideo routingsysteem zoveel mogelijk verwerkt in de OK-muren of boven de technische vloer boven de OK (in "de hoed", ruimte voor 2 serverracks van lxbxh 0,7m x 0,7m x 2m). Beoordeling: Uitstekend (100%), goed (60%), voldoende (40%), matig (20%), niet getoond (0%). | C12: x | E12: 125 | F12: 15
B13: De gevraagde applicatiebeheertool kan in een webinterface of op basis van app-V. Ja: 100%; Nee: 0% | C13: x | E13: 50 | F13: 10
B14: De overzichtscamera's moeten ook handmatig op afstand kunnen focussen. | D14: x | F14: 2
B15: Er is een API koppeling beschikbaar, beschrijf deze functionaliteit Beoordeling: Uitstekend (100%), goed (60%), voldoende (40%), matig (20%), niet getoond (0%). | C15: x | E15: 125 | F15: 15
B16: Geef aan over welke innovatieve features (bv presets) het routering, opslag en streaming systeem bevat om specialisten en OKpersoneel te ondersteunen in zorg, onderzoek en onderwijstaken Beoordeling: Uitstekend (100%), goed (60%), voldoende (40%), matig (20%), niet getoond (0%). | C16: x | E16: 50 | F16: 10
B17: Het inrichten van role based access op basis van de active directory van het Amsterdam UMC moet gebruiksvriendelijk uitgevoerd kunnen worden door applicatiebeheerders van Amsterdam UMC. | D17: x | F17: 8
B18: Het systeem beschikt over functionaliteit om markeringen/labels aan te brengen voor versnellen van zoek en edit mogelijkheden Beoordeling: Uitstekend (100%), goed (60%), voldoende (40%), matig (20%), niet getoond (0%). | C18: x | E18: 50 | F18: 10
B19: Het systeem kan via een HL7, versie 2.4 koppeling planning en order gegevens ontvangen van EPIC. Het betreft hier ORM en SIU berichten. Hierbij geldt dan expliciet: 1) Het systeem moet in staat zijn verschillende statuswijzigingen en updates van deze berichten te verwerken, en daarop te acteren op een te configureren wijze. 2) Het systeem moet in staat zijn SIU berichten waarbinnen meerdere verrichtingen worden aangemeld (meerdere AIS segmenten) te verwerken. Iedere verrichting kan resulteren in een separaat beeldonderzoek. 3) Het moet mogelijk zijn in geval van spoed order (waarvoor nog geen werklijst beschikbaar is) toch opname gestart kan worden en later gekoppeld aan de correcte patiënt. | D19: x | F19: 5
B20: Is front-end integratie mogelijk in Epic? (aanvullen merijn) | D20: x | F20: 8
B21: Omschrijf de mogelijke AVG beheersmaatregelen in het systeem, bv notificatie, afdekken personen en persoonsgegevens | D21: x | F21: 8
B22: Uw systeem biedt meer / slimmere weergavemogelijkheden dan PIP en PaP, bijv. quad view of overlays. Geef aan welke in uw aanbieding zitten. | D22: x | F22: 0
B23: Wijze waarop aan één OK moeten flexibel meer dan 2 recorders toegekend kunnen worden | D23: x | F23: 5
B24: Licht toe van welke toeleveranciers u afhankelijk bent m.b.t. het aanbieden van de basis routing functionaliteiten van het systeem, en op welke wijze u afhankelijkheidsrisico's van deze toeleveranciers heeft afgedekt. Max. 1 A4. Beoordeling: Uitstekend (100%), goed (60%), voldoende (40%), matig (20%), niet getoond (0%). | C24: x | E24: 150 | F24: 15 | G24: Hoe kennen we punten toe?
B25: Geef aan in het formulier "SLA" hoe u invulling geeft aan de SLA.
A26: Totaal Wens; schriftelijk
A27: Wens; demo | B27: Bij voorkeur markeert/highlight het systeem delen van de opname gebaseerd op een point-of-interest selectie dmv bijv. voetpedaal, met start (evt ervoor x sec en erna X sec, met mogelijkheid aanpassing van selectie) | C27: Selecteren en opslaan van beeldmateriaal / clips | F27: 20
B28: Het systeem moet stills / video clips kunnen maken tijdens de ingreep en deze na accordering naar het PACS sturen: - Video/stills gebaseerd op voetpedalen / handheld - Video/stills gebaseerd op knoppen interface van scope / microscoop
B29: Hoe faciliteert uw systeem de gebruiker in het selectief en automatisch opslaan van beeldmateriaal van OK procedures.
B30: Geef aan over welke innovatieve features (bv presets) het routering, opslag en streaming systeem bevat om specialisten en OKpersoneel te ondersteunen in zorg, onderzoek en onderwijstaken | C30: Innovatie en gebruiksvriendelijkheid | F30: 15
B31: De applicatie moet binnen dezelfde procedure meerdere opnames tegelijkertijd kunnen opnemen en toevoegen aan één EPD order. Dit wordt beoordeeld op gebruiksvriendelijkheid.
B32: Het is mogelijk om presets centraal op te slaan in een gebruikersprofiel voor alle OK's. (o.a. licht- en beeldscherminstellingen).
B33: Gebruiksvriendelijkheid van deze feature zie eis: In de applicatie moet op gebruiksvriendelijke wijze de patiënt en de ruimte geselecteerd kunnen worden uit de werklijst. De applicatie filtert de patiënten o.b.v. OK-ruimtenummer waaraan de patiënt is toegekend.
B34: Geef aan hoe gebruikers en technici kunnen zien wat de status van het systeem is en de bij behorende onderdelen? | C34: Beheer | F34: 15
B35: De wijze waarop beelden door de gebruiker / beheerder achteraf aan de patiënt / order te koppelen is.
B36: Geef een demonstratie van de mogelijkheden mbt applicatiebeheer in de gevraagde beheertool(s)
A37: Totaal Wens; demo
A38: Vraag; schriftelijk | B38: 1.3 Geef een korte introductie over hoe uw systeem functioneel is vormgegeven (max. 1 A4)
B39: 2.9 Geef zo gedetailleerd mogelijk aan welke in- en outputsignalen uw videoroutingsysteem aan kan met bijbehorende max resolutie/signaal standaarden en latency.(max 1 A4)
B40: 4.6 Specificeer uw tijdelijk opslagsysteem, bv of u een eigen patiëntendatabase onderhoudt en zo ja: welke koppelingen toegepast zouden worden in het aangegeven ICT landschap en benodigde randvoorwaarden (technisch, functioneel en beheer) om uw systeem toe te passen. (max 2 A4)
B41: 4.9 Geef specificaties van opslagformaat, benodigde diskcapaciteit bij gespecificeerde kwaliteit en uitbreidings- en beheermogelijkheden, aub optioneel de kosten van dergelijke uitbreiding opgeven. (max 1 A4)
B42: 8.14 Geef aan welke bekabeling en eventuele benodigde converter(s) toegepast wordt voor aangeleverde video bronnen. (max 1 A4)
B43: 8.15 Geef aan welke ruimte uw systeem in beslag neemt, in de verschillende oplossingen (tbv locatie AMC en VUmc). Welke aansluitingen\technische voorzieningen benodigd zijn, Wat de warmtelast is en hoe uw bekabelingsschema eruit zal zien en welke onderdelen worden uitgerust met UPS. Specificeer de functionaliteit van een dashboard applicatie die technisch beheer op afstand mogelijk maakt met overzicht over OK’s Specificeer de mogelijkheden in scheiding van rollen mbt technisch beheer, applicatiebeheer, en eventueel functioneel beheer in de onderliggende systemen tbv bv beeldroutering, beeldopslag, DICOM en of HL7 koppellingen, streaming
...

Sheet Blad3
A3: Vraag schriftelijk / wens schriftelijk / wens demo | B3: Wens
A4: Vraag; schriftelijk | B4: 1.3 Geef een korte introductie over hoe uw systeem functioneel is vormgegeven (max. 1 A4)
B5: 2.9 Geef zo gedetailleerd mogelijk aan welke in- en outputsignalen uw videoroutingsysteem aan kan met bijbehorende max resolutie/signaal standaarden en latency.(max 1 A4)
B6: 4.6 Specificeer uw tijdelijk opslagsysteem, bv of u een eigen patiëntendatabase onderhoudt en zo ja: welke koppelingen toegepast zouden worden in het aangegeven ICT landschap en benodigde randvoorwaarden (technisch, functioneel en beheer) om uw systeem toe te passen. (max 2 A4)
B7: 4.9 Geef specificaties van opslagformaat, benodigde diskcapaciteit bij gespecificeerde kwaliteit en uitbreidings- en beheermogelijkheden, aub optioneel de kosten van dergelijke uitbreiding opgeven. (max 1 A4)
B8: 8.14 Geef aan welke bekabeling en eventuele benodigde converter(s) toegepast wordt voor aangeleverde video bronnen. (max 1 A4)
B9: 8.15 Geef aan welke ruimte uw systeem in beslag neemt, in de verschillende oplossingen (tbv locatie AMC en VUmc). Welke aansluitingen\technische voorzieningen benodigd zijn, Wat de warmtelast is en hoe uw bekabelingsschema eruit zal zien en welke onderdelen worden uitgerust met UPS. Specificeer de functionaliteit van een dashboard applicatie die technisch beheer op afstand mogelijk maakt met overzicht over OK’s Specificeer de mogelijkheden in scheiding van rollen mbt technisch beheer, applicatiebeheer, en eventueel functioneel beheer in de onderliggende systemen tbv bv beeldroutering, beeldopslag, DICOM en of HL7 koppellingen, streaming
B10: 8.3 Specificeer oplossing en omschakeltijd van de lifeline schakeling bij uitval routering. Lifeline schakeling bij uitval routeringssysteem vereist geen gebruikersinteractie bij de toegepaste monitoren
B11: Geef aan welke presets ingesteld kunnen worden
A12: Totaal Vraag; schriftelijk
A13: Wens; demo | B13: Bij voorkeur markeert/highlight het systeem delen van de opname gebaseerd op een point-of-interest selectie dmv bijv. voetpedaal, met start (evt ervoor x sec en erna X sec, met mogelijkheid aanpassing van selectie)
B14: De applicatie moet binnen dezelfde procedure meerdere opnames tegelijkertijd kunnen opnemen en toevoegen aan één EPD order. Dit wordt beoordeeld op gebruiksvriendelijkheid.
B15: De wijze waarop koppeling van beelden aan de patiënt / order achteraf door de gebruiker / beheerder te koppelen is>
B16: Gebruiksvriendelijkheid van deze feature zie eis: In de applicatie moet op gebruiksvriendelijke wijze de patiënt en de ruimte geselecteerd kunnen worden uit de werklijst. De applicatie filtert de patiënten o.b.v. OK-ruimtenummer waaraan de patiënt is toegekend.
B17: Geef aan hoe gebruikers en technici kunnen zien wat de status van het systeem is en de bij behorende onderdelen?
B18: Geef aan over welke innovatieve features (bv presets) het routering, opslag en streaming systeem bevat om specialisten en OKpersoneel te ondersteunen in zorg, onderzoek en onderwijstaken
B19: Geef een demonstratie van de mogelijkheden mbt applicatiebeheer in de gevraagde beheertool(s)
B20: Het is mogelijk om presets centraal op te slaan in een gebruikersprofiel voor alle OK's. (o.a. licht- en beeldscherminstellingen).
B21: Het systeem moet stills / video clips kunnen maken tijdens de ingreep en deze na accordering naar het PACS sturen: - Video/stills gebaseerd op voetpedalen / handheld - Video/stills gebaseerd op knoppen interface van scope / microscoop
B22: Hoe faciliteert uw systeem de gebruiker in de automatische opname van beeldmateriaal van OK procedures.
A23: Totaal Wens; demo
A24: Wens; schriftelijk | B24: 2.2 Het systeem is in de toekomst opschaalbaar naar 8k BT.2100, zonder dat modificatie aan de infrastructuur nodig is.
B25: 4.16 MPEG Compressieformat is naast AVC H.264 ook mogelijk met HEVC H.265
B26: 4.XX Compressieformat van de MPEG is afzonderlijk instelbaar voor AGFA PACS2 en onderzoeks-PACS
B27: 5.13 Bij voorkeur wordt omgevingsgeluid uit de intercom verbinding weggefilterd (wens).
B28: 5.7 Het systeem kan een intercom verbinding faciliteren tussen opdekruimte, anesthesie bergruimte en OK (geldt vooral voor locatie AMC).
B29: 5.9. De hoofdbehandelaar kan via een bluetooth verbinding met zijn/haar eigen mobiel een belverbinding opzetten via een spraakcommando (bijv. "hey Siri" )
B30: 7.XX Bij voorkeur hebben de beeldschermen een formaat van 27 inch.
B31: 7.XX De beeldschermen kunnen “automatisch” gekalibreerd worden\instellingen kunnen centraal beheerd worden, zodat alle schermen in het operatiegebied en tussen de OK's hun beelden in dezelfde helderheid en kleur weergeven.
B32: 7.XX De schermen in het steriele gebied zijn Barco type MDSC-8427 12G, 4K 27" beelddiagonaal.
B33: 8.12 Op locatie AMC wordt de hardware tbv het audiovideo routingsysteem zoveel mogelijk verwerkt in de OK-muren of boven de technische vloer boven de OK (in "de hoed", ruimte voor 2 serverracks van lxbxh 0,7m x 0,7m x 2m).
B34: 8.13 Op locatie VUmc wordt de hardware tbv het audiovideo routingsysteem zoveel mogelijk verwerkt in de technische ruimte. Iedere OK heeft een aparte technische ruimte ruimte voor 19” rack 2m Hierin worden ook overige galvanisch verbonden systemen in opgenomen. (6u ruimte tbv Xiltrix)
B35: De gevraagde applicatiebeheertool kan in een webinterface of op basis van app V.
B36: De overzichtscamera's moeten ook handmatig op afstand kunnen focussen.
... B45: Wijze waarop aan één OK moeten flexibel meer dan 2 recorders toegekend kunnen worden
A46: Totaal Wens; schriftelijk
A47: (leeg) | B47: EIS bij uitval preferente stroomvoorziening (bijv noodstroomtest) mag het systeem dientengevolge niet langer dan 1min onbruikbaar zijn, onverminderd de "lifeline" beeldverbinding. Indien noodzakelijk worden hiervoor UPS toegepast. Eisen UPS door E verantwoordelijke??
B48: MEDTECH RESTPUNTEN Voedingen in systeemracks zijn gelabeld en bereikbaar EIS opnemen; functioneel ontwerp en technische tekeningen worden bij iedere wijziging aangepast en digitaal opgeleverd in MS VISIO format, deze bevatten zowel video/audio-signalen, netwerk, stroomvoorziening.
A49: Totaal (leeg)
A50: Eindtotaal

Sheet Wensen en vragen
A1: Kolom1 | B1: Wens | C1: Vraag schriftelijk / wens schriftelijk / wens demo | D1: Waardering | E1: Wie | F1: Punten (%) | I1: Vraag; schriftelijk
B2: Geef aan welke presets ingesteld kunnen worden | C2: Vraag; schriftelijk | D2: extreem slim 100% slim 60% handig 40% mogelijk 20% niet aanwezig 0% | E2: gebruikers | I2: Wens; schriftelijk
B3: 1.3 Geef een korte introductie over hoe uw systeem functioneel is vormgegeven (max. 1 A4) | C3: Vraag; schriftelijk | E3: werkgroep | I3: Wens; demo
B4: 2.9 Geef zo gedetailleerd mogelijk aan welke in- en outputsignalen uw videoroutingsysteem aan kan met bijbehorende max resolutie/signaal standaarden en latency.(max 1 A4) | C4: Vraag; schriftelijk
B5: 4.6 Specificeer uw tijdelijk opslagsysteem, bv of u een eigen patiëntendatabase onderhoudt en zo ja: welke koppelingen toegepast zouden worden in het aangegeven ICT landschap en benodigde randvoorwaarden (technisch, functioneel en beheer) om uw systeem toe te passen. (max 2 A4) | C5: Vraag; schriftelijk | I5: Wie beoordeelt?
B6: 4.9 Geef specificaties van opslagformaat, benodigde diskcapaciteit bij gespecificeerde kwaliteit en uitbreidings- en beheermogelijkheden, aub optioneel de kosten van dergelijke uitbreiding opgeven. (max 1 A4) | C6: Vraag; schriftelijk | I6: Klinische automatisering
B7: 8.3 Specificeer oplossing en omschakeltijd van de lifeline schakeling bij uitval routering. Lifeline schakeling bij uitval routeringssysteem vereist geen gebruikersinteractie bij de toegepaste monitoren | C7: Vraag; schriftelijk | I7: ICT
B8: 8.14 Geef aan welke bekabeling en eventuele benodigde converter(s) toegepast wordt voor aangeleverde video bronnen. (max 1 A4) | C8: Vraag; schriftelijk | I8: Gebruikers
B9: 8.15 Geef aan welke ruimte uw systeem in beslag neemt, in de verschillende oplossingen (tbv locatie AMC en VUmc). Welke aansluitingen\technische voorzieningen benodigd zijn, Wat de warmtelast is en hoe uw bekabelingsschema eruit zal zien en welke onderdelen worden uitgerust met UPS. Specificeer de functionaliteit van een dashboard applicatie die technisch beheer op afstand mogelijk maakt met overzicht over OK’s Specificeer de mogelijkheden in scheiding van rollen mbt technisch beheer, applicatiebeheer, en eventueel functioneel beheer in de onderliggende systemen tbv bv beeldroutering, beeldopslag, DICOM en of HL7 koppellingen, streaming | C9: Vraag; schriftelijk | I9: Werkgroep
A10: Beheertool | B10: De wijze waarop koppeling van beelden aan de patiënt / order achteraf door de gebruiker / beheerder te koppelen is> | C10: Wens; demo | D10: Uitstekend 100% goed 60% voldoende 40% matig 20% niet aanwezig 0% | E10: klinische automatisering
A11: Koppeling Epic | B11: Gebruiksvriendelijkheid van deze feature zie eis: In de applicatie moet op gebruiksvriendelijke wijze de patiënt en de ruimte geselecteerd kunnen worden uit de werklijst. De applicatie filtert de patiënten o.b.v. OK-ruimtenummer waaraan de patiënt is toegekend. | C11: Wens; demo | D11: Uitstekend 100% goed 60% voldoende 40% matig 20% niet aanwezig 0% | E11: gebruikers
A12: Opname | B12: De applicatie moet binnen dezelfde procedure meerdere opnames tegelijkertijd kunnen opnemen en toevoegen aan één EPD order. Dit wordt beoordeeld op gebruiksvriendelijkheid. | C12: Wens; demo | D12: Uitstekend 100% goed 60% voldoende 40% matig 20% niet aanwezig 0% | E12: klinische automatisering
A13: Beheertool | B13: Geef een demonstratie van de mogelijkheden mbt applicatiebeheer in de gevraagde beheertool(s) | C13: wens; demo | D13: Uitstekend 100% goed 60% voldoende 40% matig 20% niet aanwezig 0% | E13: klinische automatisering/medische technologie
A14: Opname | B14: Het systeem moet stills / video clips kunnen maken tijdens de ingreep en deze na accordering naar het PACS sturen: - Video/stills gebaseerd op voetpedalen / handheld - Video/stills gebaseerd op knoppen interface van scope / microscoop | C14: Wens; demo | D14: AI 100% meerdere mogelijkheden 60% 2 mogelijkheden 40% 1 mogelijkheid 20% niet aanwezig 0% | E14: gebruikers
A15: Opname | B15: Bij voorkeur markeert/highlight het systeem delen van de opname gebaseerd op een point-of-interest selectie dmv bijv. voetpedaal, met start (evt ervoor x sec en erna X sec, met mogelijkheid aanpassing van selectie) | C15: Wens; demo | D15: extreem slim 100% slim 60% handig 40% mogelijk 20% niet aanwezig 0% | E15: gebruikers/werkgroep
A16: Opname | B16: Hoe faciliteert uw systeem de gebruiker in de automatische opname van beeldmateriaal van OK procedures. | C16: Wens; demo | D16: extreem slim 100% slim 60% handig 40% mogelijk 20% niet aanwezig 0% | E16: gebruikers
B17: Geef aan over welke innovatieve features (bv presets) het routering, opslag en streaming systeem bevat om specialisten en OKpersoneel te ondersteunen in zorg, onderzoek en onderwijstaken | C17: Wens; demo | D17: boven verwachting 100% slime ondersteuning 60% bruikbaar 40% mogelijk bruikbaar 20% niet bruikbaar 0% | E17: werkgroep
B18: Het is mogelijk om presets centraal op te slaan in een gebruikersprofiel voor alle OK's. (o.a. licht- en beeldscherminstellingen). | C18: Wens; demo | D18: boven verwachting 100% slime ondersteuning 60% bruikbaar 40% mogelijk bruikbaar 20% niet bruikbaar 0% | E18: werkgroep
B19: Geef aan hoe gebruikers en technici kunnen zien wat de status van het systeem is en de bij behorende onderdelen? | C19: Wens; demo | D19: boven verwachting 100% slime ondersteuning 60% bruikbaar 40% mogelijk bruikbaar 20% niet bruikbaar 0% | E19: medische technologie
A20: Koppeling Epic | B20: Er is een API koppeling beschikbaar, beschrijf deze functionaliteit | C20: Wens; schriftelijk | D20: Ja 100% / nee 0% | E20: Klinische automatisering
A21: Beheertool | B21: De gevraagde applicatiebeheertool kan in een webinterface of op basis van app V. | C21: Wens; schriftelijk | D21: Ja 100% / nee 0% | E21: Klinische automatisering
A22: Aansluiting Amsterdam UMC netwerk | B22: Het inrichten van role based access op basis van de active directory van het Amsterdam UMC moet gebruiksvriendelijk uitgevoerd kunnen worden door applicatiebeheerders van Amsterdam UMC. | C22: Wens; schriftelijk | D22: Uitstekend 100% goed 60% voldoende 40% matig 20% niet aanwezig 0% | E22: Klinische automatisering
A23: Koppeling Epic | B23: Is front-end integratie mogelijk in Epic? | C23: Wens; schriftelijk | D23: Ja: in alle EPDs --> 100% Beperkt: tenminste in Epic --> 50% Nee: niet in Epic --> 0% | E23: Klinische automatisering
A24: Weergave | B24: Uw systeem biedt meer / slimmere weergavemogelijkheden dan PIP en PaP, bijv. quad view of overlays. Geef aan welke in uw aanbieding zitten. | C24: Wens; schriftelijk | D24: extreem slim 100% slim 60% quad view 40% pip en pap 20% niet aanwezig 0% | E24: medische technologie
A25: Opname | B25: Wijze waarop aan één OK moeten flexibel meer dan 2 recorders toegekend kunnen worden | C25: Wens; schriftelijk | E25: Functioneel beheerder; as van het kwaad
A26: Opname | B26: Het systeem beschikt over functionaliteit om markeringen/labels aan te brengen voor versnellen van zoek en edit mogelijkheden | C26: Wens; schriftelijk | D26: extreem slim 100% slim 60% handig 40% mogelijk 20% niet aanwezig 0% | E26: werkgroep
B27: Geef aan over welke innovatieve features (bv presets) het routering, opslag en streaming systeem bevat om specialisten en OKpersoneel te ondersteunen in zorg, onderzoek en onderwijstaken | C27: Wens; schriftelijk | D27: aanwezig: 100% | E27: werkgroep
B28: Het systeem kan via een HL7, versie 2.4 koppeling planning en order gegevens ontvangen van EPIC. Het betreft hier ORM en SIU berichten. Hierbij geldt dan expliciet: 1) Het systeem moet in staat zijn verschillende statuswijzigingen en updates van deze berichten te verwerken, en daarop te acteren op een te configureren wijze. 2) Het systeem moet in staat zijn SIU berichten waarbinnen meerdere verrichtingen worden aangemeld (meerdere AIS segmenten) te verwerken. Iedere verrichting kan resulteren in een separaat beeldonderzoek. 3) Het moet mogelijk zijn in geval van spoed order (waarvoor nog geen werklijst beschikbaar is) toch opname gestart kan worden en later gekoppeld aan de correcte patiënt. | C28: Wens; schriftelijk | E28: van beckhoven
B29: De overzichtscamera's moeten ook handmatig op afstand kunnen focussen. | C29: Wens; schriftelijk | E29: medische technologie
B30: Omschrijf de mogelijke AVG beheersmaatregelen in het systeem, bv notificatie ed | C30: Wens; schriftelijk | D30: extreem slim 100% slim 60% bruikbaar 40% mogelijk bruikbaar 20% niet aanwezig 0% | E30: werkgroep
B31: 2.2 Het systeem is in de toekomst opschaalbaar naar 8k BT.2100, zonder dat modificatie aan de infrastructuur nodig is. | C31: Wens; schriftelijk | D31: Boven verwachting 100% goed 60% voldoende 40% matig 20% niet aanwezig 0%
B32: 4.16 MPEG Compressieformat is naast AVC H.264 ook mogelijk met HEVC H.265 | C32: Wens; schriftelijk | D32: Ja 100% / nee 0% | E32: werkgroep
B33: 4.XX Compressieformat van de MPEG is afzonderlijk instelbaar voor AGFA PACS2 en onderzoeks-PACS | C33: Wens; schriftelijk | D33: Ja 100% / nee 0% | E33: beckhoven/KA
B34: 5.7 Het systeem kan een intercom verbinding faciliteren tussen opdekruimte, anesthesie bergruimte en OK (geldt vooral voor locatie AMC). | C34: Wens; schriftelijk | D34: Ja 100% / nee 0% | E34: werkgroep
B35: 5.9. De hoofdbehandelaar kan via een bluetooth verbinding met zijn/haar eigen mobiel een belverbinding opzetten via een spraakcommando (bijv. "hey Siri" ) | C35: Wens; schriftelijk | D35: Ja 100% / nee 0% | E35: werkgroep
B36: 5.13 Bij voorkeur wordt omgevingsgeluid uit de intercom verbinding weggefilterd (wens). | C36: Wens; schriftelijk | D36: Ja 100% / nee 0% | E36: werkgroep
B37: 7.XX Bij voorkeur hebben de beeldschermen een formaat van 27 inch. | C37: Wens; schriftelijk | D37: Ja 100% / nee 0% | E37: werkgroep
B38: 7.XX De schermen in het steriele gebied zijn Barco type MDSC-8427 12G, 4K 27" beelddiagonaal. | C38: Wens; schriftelijk | D38: Ja 100% / nee 0% | E38: werkgroep
B39: 7.XX De beeldschermen kunnen “automatisch” gekalibreerd worden\instellingen kunnen centraal beheerd worden, zodat alle schermen in het operatiegebied en tussen de OK's hun beelden in dezelfde helderheid en kleur weergeven. | C39: Wens; schriftelijk | D39: Ja 100% / nee 0% | E39: werkgroep
B40: 8.12 Op locatie AMC wordt de hardware tbv het audiovideo routingsysteem zoveel mogelijk verwerkt in de OK-muren of boven de technische vloer boven de OK (in "de hoed", ruimte voor 2 serverracks van lxbxh 0,7m x 0,7m x 2m). | C40: Wens; schriftelijk | D40: Boven verwachting: 100% / Ja 60% / nee 0% | E40: werkgroep
...

Sheet Blad1
A1: 25 | B1: =A1+$A$1 -> 50 | C1: =B1+$A$1 -> 75 | D1: =C1+$A$1 -> 100 | E1: =D1+$A$1 -> 125 | F1: =E1+$A$1 -> 150 | G1: =F1+$A$1 -> 175 | H1: =G1+$A$1 -> 200 | I1: =H1+$A$1 -> 225 | J1: =I1+$A$1 -> 250 | K1: =SUM(A1:J1) -> 1375
B2: 25 | C2: =B2+$A$1 -> 50 | D2: =C2+$A$1 -> 75 | E2: =D2+$A$1 -> 100 | F2: =E2+$A$1 -> 125 | G2: =F2+$A$1 -> 150 | H2: =G2+$A$1 -> 175 | I2: =H2+$A$1 -> 200 | J2: =I2+$A$1 -> 225
C3: 25 | D3: =C3+$A$1 -> 50 | E3: =D3+$A$1 -> 75 | F3: =E3+$A$1 -> 100 | G3: =F3+$A$1 -> 125 | H3: =G3+$A$1 -> 150 | I3: =H3+$A$1 -> 175 | J3: =I3+$A$1 -> 200
D4: 25 | E4: =D4+$A$1 -> 50 | F4: =E4+$A$1 -> 75 | G4: =F4+$A$1 -> 100 | H4: =G4+$A$1 -> 125 | I4: =H4+$A$1 -> 150 | J4: =I4+$A$1 -> 175
E5: 25 | F5: =E5+$A$1 -> 50 | G5: =F5+$A$1 -> 75 | H5: =G5+$A$1 -> 100 | I5: =H5+$A$1 -> 125 | J5: =I5+$A$1 -> 150
F6: 25 | G6: =F6+$A$1 -> 50 | H6: =G6+$A$1 -> 75 | I6: =H6+$A$1 -> 100 | J6: =I6+$A$1 -> 125
G7: 25 | H7: =G7+$A$1 -> 50 | I7: =H7+$A$1 -> 75 | J7: =I7+$A$1 -> 100
H8: 25 | I8: =H8+$A$1 -> 50 | J8: =I8+$A$1 -> 75
I9: 25 | J9: =I9+$A$1 -> 50
J10: 25
J11: =SUM(J1:J10) -> 1375
J12: =960*J11 -> 1320000
J13: =80%*J12 -> 1056000
A16: 12000

Sheet Demo
A1: Wens | B1: Waardering | C1: Beoordeling
A2: Koppeling van beelden aan de patiënt / order moet achteraf door de gebruiker / beheerder mogelijk zijn | B2: Uitstekend 100% goed 60% voldoende 40% matig 20% niet aanwezig 0%
A3: In de applicatie moet op gebruiksvriendelijke wijze de patiënt en de ruimte geselecteerd kunnen worden uit de werklijst. De applicatie filtert de patiënten o.b.v. OK-ruimtenummer waaraan de patiënt is toegekend. | B3: Uitstekend 100% goed 60% voldoende 40% matig 20% niet aanwezig 0%
A4: De applicatie moet binnen dezelfde procedure meerdere opnames tegelijkertijd kunnen opnemen en toevoegen aan één EPD order. Dit wordt beoordeeld op gebruiksvriendelijkheid. | B4: Uitstekend 100% goed 60% voldoende 40% matig 20% niet aanwezig 0%
A5: Geef een demonstratie van de mogelijkheden mbt applicatiebeheer in de gevraagde beheertool(s) | B5: Uitstekend 100% goed 60% voldoende 40% matig 20% niet aanwezig 0%

Sheet Puntenberekening
A1: Puntenberekening - oud
C2: Papier | D2: Demo
A3: Prijs​ | B3: 300
A4: Gebruiksvriendelijkheid​ | B4: 250 | D4: 250
A5: Interface | B5: 100 | C5: 50 | D5: 50
A6: SLA​ | B6: 150 | C6: 150
A7: Technisch ontwerp​ | B7: 100 | C7: 50 | D7: 50
A8: IT Architectuur​ | B8: 100 | C8: 75 | D8: 75
C9: =SUM(C3:C8) -> 325 | D9: =SUM(D3:D8) -> 425
A11: Puntenberekening - nieuw
A13: Prijs | B13: 600
A15: Papieren ronde
A16: Functionaliteiten software + beheertool | B16: 150
A17: SLA | B17: 200
A18: Technisch ontwerp | B18: 150
A19: IT Architectuur​ | B19: 200
A21: Demo
A22: Gebruikersdemo | B22: 500
A23: Klinische automatisering | B23: 250
A24: ICT | B24: 250
B26: ???? | C26: Bepalen verdeling punten o.b.v. vragen

Sheet Blad2
A1: Fase 1: Selectie leveranciers
A3: Barco schermen
A4: Fabrikant systemen en geen integrator
A5: SLA: aanbod ondersteuning leverancier
A6: Besparing van opslagruimte PACS minimaal 50% t.o.v. opname gehele OK's
A7: API koppeling
A8: MPEG Compressieformat HEVC H.265 (naast AVC H.264)
A9: Het systeem kan via een HL7, versie 2.4 koppeling planning en order gegevens ontvangen van EPIC. Het betreft hier ORM en SIU berichten.
A10: Functionaliteit om markeringen/labels aan te brengen voor versnellen van zoek en edit mogelijkheden
A11: Hardware in de muur of in de hoed
A14: Demo
A15: Beeldenroutering
... A27: Hoe faciliteert uw systeem de gebruiker in de automatische opname van beeldmateriaal van OK procedures.
