Workbook
Name ___INDEX_SHEET___ASAP_Utilities: #REF!
Name __xlnm._FilterDatabase_1: #REF!
Name __xlnm._FilterDatabase_1: #REF!
Name __xlnm._FilterDatabase_1_1: #REF!
Name __xlnm._FilterDatabase_1_1: #REF!
Name __xlnm._FilterDatabase_10: #REF!
Name __xlnm._FilterDatabase_10: #REF!
Name __xlnm._FilterDatabase_11: #REF!
Name __xlnm._FilterDatabase_12: #REF!
Name __xlnm._FilterDatabase_13: #REF!
Name __xlnm._FilterDatabase_14: #REF!
Name __xlnm._FilterDatabase_15: #REF!
Name __xlnm._FilterDatabase_16: #REF!
Name __xlnm._FilterDatabase_17: #REF!
Name __xlnm._FilterDatabase_18: #REF!
Name __xlnm._FilterDatabase_19: #REF!
Name __xlnm._FilterDatabase_2: #REF!
Name __xlnm._FilterDatabase_20: #REF!
Name __xlnm._FilterDatabase_21: #REF!
Name __xlnm._FilterDatabase_22: #REF!
Name __xlnm._FilterDatabase_23: #REF!
Name __xlnm._FilterDatabase_24: #REF!
Name __xlnm._FilterDatabase_25: #REF!
Name __xlnm._FilterDatabase_26: #REF!
Name __xlnm._FilterDatabase_27: #REF!
Name __xlnm._FilterDatabase_28: #REF!
Name __xlnm._FilterDatabase_29: #REF!
Name __xlnm._FilterDatabase_3: #REF!
Name __xlnm._FilterDatabase_30: #REF!
Name __xlnm._FilterDatabase_31: #REF!
Name __xlnm._FilterDatabase_32: #REF!
Name __xlnm._FilterDatabase_33: #REF!
Name __xlnm._FilterDatabase_34: #REF!
Name __xlnm._FilterDatabase_35: #REF!
Name __xlnm._FilterDatabase_36: #REF!
Name __xlnm._FilterDatabase_37: #REF!
Name __xlnm._FilterDatabase_38: #REF!
Name __xlnm._FilterDatabase_39: #REF!
Name __xlnm._FilterDatabase_4: #REF!
Name __xlnm._FilterDatabase_40: #REF!
Name __xlnm._FilterDatabase_41: #REF!
Name __xlnm._FilterDatabase_42: #REF!
Name __xlnm._FilterDatabase_43: #REF!
Name __xlnm._FilterDatabase_44: #REF!
Name __xlnm._FilterDatabase_45: #REF!
Name __xlnm._FilterDatabase_46: #REF!
Name __xlnm._FilterDatabase_47: #REF!
Name __xlnm._FilterDatabase_48: #REF!
Name __xlnm._FilterDatabase_49: #REF!
Name __xlnm._FilterDatabase_5: #REF!
Name __xlnm._FilterDatabase_50: #REF!
Name __xlnm._FilterDatabase_51: #REF!
Name __xlnm._FilterDatabase_52: #REF!
Name __xlnm._FilterDatabase_53: #REF!
Name __xlnm._FilterDatabase_54: #REF!
Name __xlnm._FilterDatabase_55: #REF!
Name __xlnm._FilterDatabase_56: #REF!
Name __xlnm._FilterDatabase_57: #REF!
Name __xlnm._FilterDatabase_58: #REF!
Name __xlnm._FilterDatabase_59: #REF!

Sheet 6
C1: Terug | D1: Terug
B2: Code | C2: Omschrijving
B3: 100 | C3: Liftadres | D3: Media Parkboulevard 1 | E3: Hilversum | G3: 1217 WE
B4: 101 | C4: Complexaanduiding | D4: Beeld en Geluid | E4: Lift 8 parkeergarage
B5: 102 | C5: Dossiernummer keurende instantie | D5: TUV6038
B6: 103 | C6: AFAS relatienummer | D6: 10167 | E6: tab | F6: 8 | G6: 10167-8
B7: 104 | C7: Bouwjaar | D7: 2005
B8: 105 | C8: Vervaardigingsnorm | D8: NEN-EN 81-1
B9: 106 | C9: Type lift: tractie/hydraulisch/machinerichtlijn | D9: Tractie
B10: 107 | C10: Type-aanduiding | D10: ThyssenKrupp Tasa
B11: 108 | C11: Hefvermogen (kg) | D11: 630 | K11: Laatste wijziging: | M11: 44991
B12: 109 | C12: Brandweerlift | D12: Nee | K12: Gewijzigd door: | M12: IN
B13: 110 | C13: Brancardlift | D13: Nee | K13: Vervaldatum: | M13: =M11+1095 -> 46086
B14: 111 | C14: Doel van de lift: personen/goederen | D14: Personenlift
B15: 112 | C15: Gebruiksintensiteit | D15: Lage gebruiksintensiteit | E15: =IF(R20=0,0,IF(R20<201,"Laag",IF(AND(R20>201,R20<500),"Middel","Hoog"))) -> Laag | F15: =IF(R20=0,0,R20) -> 58.038583 | G15: Ritten per dag
B16: 113 | C16: Aantal schachttoegangen | D16: 4
B17: 114 | C17: Aantal stopplaatsen | D17: 4 | R17: =CONCATENATE("01-01-",F24) -> 01-01-2005
B18: 115 | C18: Aantal kooitoegangen | D18: 2 | K18: Datum: | M18: 39038 | N18: 43807 | R18: =IF(Q18>0,Q18-P18,IF(P18>0,P18-O18,IF(O18>0,O18-N18,IF(N18>0,N18-M18,IF(M18>0,M18-R17))))) -> 4769
B19: 116 | C19: Beleidscategorie: A,B of C | D19: B | K19: Rittenstand: | M19: 0 | N19: 276786 | R19: =IF(Q19>0,Q19-P19,IF(P19>0,P19-O19,IF(O19>0,O19-N19,IF(N19>0,N19-M19,M19)))) -> 276786
R20: =IFERROR(R19/R18,0) -> 58.038583
R21: =IF(Q19>0,Q19,IF(P19>0,P19,IF(O19>0,O19,IF(N19>0,N19,M19)))) -> 276786
E22: Conditie | F22: Bouwjaar | G22: Bedrag | H22: Startjaar | I22: Cyclus | K22: 2024 | L22: =K22+1 -> 2025 | M22: =L22+1 -> 2026 | N22: =M22+1 -> 2027 | O22: =N22+1 -> 2028 | P22: =O22+1 -> 2029 | Q22: =P22+1 -> 2030 | R22: =Q22+1 -> 2031 | S22: =R22+1 -> 2032 | T22: =S22+1 -> 2033
B23: Besturing
B24: 200 | C24: Besturingstype | D24: ThyssenKrupp MCI | E24: 3 | F24: 2005 | G24: Invoer | H24: 2026 | I24: 20 | J24: 11130 | K24: =IF($G24="Invoer",0,IF($G24=0,0,IF(AND(K$22>=$H24,MOD($H24-K$22,$I24)=0),$G24,0))) -> 0 | L24: =IF($G24="Invoer",0,IF($G24=0,0,IF(AND(L$22>=$H24,MOD($H24-L$22,$I24)=0),$G24,0))) -> 0 | M24: =IF($G24="Invoer",0,IF($G24=0,0,IF(AND(M$22>=$H24,MOD($H24-M$22,$I24)=0),$G24,0))) -> 0 | N24: =IF($G24="Invoer",0,IF($G24=0,0,IF(AND(N$22>=$H24,MOD($H24-N$22,$I24)=0),$G24,0))) -> 0 | O24: =IF($G24="Invoer",0,IF($G24=0,0,IF(AND(O$22>=$H24,MOD($H24-O$22,$I24)=0),$G24,0))) -> 0 | P24: =IF($G24="Invoer",0,IF($G24=0,0,IF(AND(P$22>=$H24,MOD($H24-P$22,$I24)=0),$G24,0))) -> 0 | Q24: =IF($G24="Invoer",0,IF($G24=0,0,IF(AND(Q$22>=$H24,MOD($H24-Q$22,$I24)=0),$G24,0))) -> 0 | R24: =IF($G24="Invoer",0,IF($G24=0,0,IF(AND(R$22>=$H24,MOD($H24-R$22,$I24)=0),$G24,0))) -> 0 | ... T24: =IF($G24="Invoer",0,IF($G24=0,0,IF(AND(T$22>=$H24,MOD($H24-T$22,$I24)=0),$G24,0))) -> 0 | U24: =IF(E24>4,1,0) -> 0
B25: 201 | C25: Aanvullende opmerking besturing | G25: 0 | K25: =IF($G25="Invoer",0,IF($G25=0,0,IF(AND(K$22>=$H25,MOD($H25-K$22,$I25)=0),$G25,0))) -> 0 | L25: =IF($G25="Invoer",0,IF($G25=0,0,IF(AND(L$22>=$H25,MOD($H25-L$22,$I25)=0),$G25,0))) -> 0 | M25: =IF($G25="Invoer",0,IF($G25=0,0,IF(AND(M$22>=$H25,MOD($H25-M$22,$I25)=0),$G25,0))) -> 0 | N25: =IF($G25="Invoer",0,IF($G25=0,0,IF(AND(N$22>=$H25,MOD($H25-N$22,$I25)=0),$G25,0))) -> 0 | O25: =IF($G25="Invoer",0,IF($G25=0,0,IF(AND(O$22>=$H25,MOD($H25-O$22,$I25)=0),$G25,0))) -> 0 | P25: =IF($G25="Invoer",0,IF($G25=0,0,IF(AND(P$22>=$H25,MOD($H25-P$22,$I25)=0),$G25,0))) -> 0 | Q25: =IF($G25="Invoer",0,IF($G25=0,0,IF(AND(Q$22>=$H25,MOD($H25-Q$22,$I25)=0),$G25,0))) -> 0 | R25: =IF($G25="Invoer",0,IF($G25=0,0,IF(AND(R$22>=$H25,MOD($H25-R$22,$I25)=0),$G25,0))) -> 0 | ... T25: =IF($G25="Invoer",0,IF($G25=0,0,IF(AND(T$22>=$H25,MOD($H25-T$22,$I25)=0),$G25,0))) -> 0 | U25: =IF(E25>4,1,0) -> 0
B26: 202 | C26: Encoder | D26: Ja | E26: 3 | F26: 2005 | G26: Invoer | H26: 2026 | I26: 20 | J26: 1300 | K26: =IF($G26="Invoer",0,IF($G26=0,0,IF(AND(K$22>=$H26,MOD($H26-K$22,$I26)=0),$G26,0))) -> 0 | L26: =IF($G26="Invoer",0,IF($G26=0,0,IF(AND(L$22>=$H26,MOD($H26-L$22,$I26)=0),$G26,0))) -> 0 | M26: =IF($G26="Invoer",0,IF($G26=0,0,IF(AND(M$22>=$H26,MOD($H26-M$22,$I26)=0),$G26,0))) -> 0 | N26: =IF($G26="Invoer",0,IF($G26=0,0,IF(AND(N$22>=$H26,MOD($H26-N$22,$I26)=0),$G26,0))) -> 0 | O26: =IF($G26="Invoer",0,IF($G26=0,0,IF(AND(O$22>=$H26,MOD($H26-O$22,$I26)=0),$G26,0))) -> 0 | P26: =IF($G26="Invoer",0,IF($G26=0,0,IF(AND(P$22>=$H26,MOD($H26-P$22,$I26)=0),$G26,0))) -> 0 | Q26: =IF($G26="Invoer",0,IF($G26=0,0,IF(AND(Q$22>=$H26,MOD($H26-Q$22,$I26)=0),$G26,0))) -> 0 | R26: =IF($G26="Invoer",0,IF($G26=0,0,IF(AND(R$22>=$H26,MOD($H26-R$22,$I26)=0),$G26,0))) -> 0 | ... T26: =IF($G26="Invoer",0,IF($G26=0,0,IF(AND(T$22>=$H26,MOD($H26-T$22,$I26)=0),$G26,0))) -> 0 | U26: =IF(E26>4,1,0) -> 0
B27: 203 | C27: Hoofdstroomrelais | D27: Telemecanique | E27: 3 | F27: 2019 | G27: Invoer | H27: 2026 | I27: 10 | J27: 1530 | K27: =IF($G27="Invoer",0,IF($G27=0,0,IF(AND(K$22>=$H27,MOD($H27-K$22,$I27)=0),$G27,0))) -> 0 | L27: =IF($G27="Invoer",0,IF($G27=0,0,IF(AND(L$22>=$H27,MOD($H27-L$22,$I27)=0),$G27,0))) -> 0 | M27: =IF($G27="Invoer",0,IF($G27=0,0,IF(AND(M$22>=$H27,MOD($H27-M$22,$I27)=0),$G27,0))) -> 0 | N27: =IF($G27="Invoer",0,IF($G27=0,0,IF(AND(N$22>=$H27,MOD($H27-N$22,$I27)=0),$G27,0))) -> 0 | O27: =IF($G27="Invoer",0,IF($G27=0,0,IF(AND(O$22>=$H27,MOD($H27-O$22,$I27)=0),$G27,0))) -> 0 | P27: =IF($G27="Invoer",0,IF($G27=0,0,IF(AND(P$22>=$H27,MOD($H27-P$22,$I27)=0),$G27,0))) -> 0 | Q27: =IF($G27="Invoer",0,IF($G27=0,0,IF(AND(Q$22>=$H27,MOD($H27-Q$22,$I27)=0),$G27,0))) -> 0 | R27: =IF($G27="Invoer",0,IF($G27=0,0,IF(AND(R$22>=$H27,MOD($H27-R$22,$I27)=0),$G27,0))) -> 0 | ... T27: =IF($G27="Invoer",0,IF($G27=0,0,IF(AND(T$22>=$H27,MOD($H27-T$22,$I27)=0),$G27,0))) -> 0 | U27: =IF(E27>4,1,0) -> 0
B28: 204 | C28: =IF(D9="Hydraulisch","Softstarter",IF(D9="Hydraulisch MKL","Softstarter","Frequentieregeling")) -> Frequentieregeling | D28: KEB | E28: 3 | F28: 2019 | G28: Invoer | H28: 2026 | I28: 10 | J28: 5500 | K28: =IF($G28="Invoer",0,IF($G28=0,0,IF(AND(K$22>=$H28,MOD($H28-K$22,$I28)=0),$G28,0))) -> 0 | L28: =IF($G28="Invoer",0,IF($G28=0,0,IF(AND(L$22>=$H28,MOD($H28-L$22,$I28)=0),$G28,0))) -> 0 | M28: =IF($G28="Invoer",0,IF($G28=0,0,IF(AND(M$22>=$H28,MOD($H28-M$22,$I28)=0),$G28,0))) -> 0 | N28: =IF($G28="Invoer",0,IF($G28=0,0,IF(AND(N$22>=$H28,MOD($H28-N$22,$I28)=0),$G28,0))) -> 0 | O28: =IF($G28="Invoer",0,IF($G28=0,0,IF(AND(O$22>=$H28,MOD($H28-O$22,$I28)=0),$G28,0))) -> 0 | P28: =IF($G28="Invoer",0,IF($G28=0,0,IF(AND(P$22>=$H28,MOD($H28-P$22,$I28)=0),$G28,0))) -> 0 | Q28: =IF($G28="Invoer",0,IF($G28=0,0,IF(AND(Q$22>=$H28,MOD($H28-Q$22,$I28)=0),$G28,0))) -> 0 | R28: =IF($G28="Invoer",0,IF($G28=0,0,IF(AND(R$22>=$H28,MOD($H28-R$22,$I28)=0),$G28,0))) -> 0 | ... T28: =IF($G28="Invoer",0,IF($G28=0,0,IF(AND(T$22>=$H28,MOD($H28-T$22,$I28)=0),$G28,0))) -> 0 | U28: =IF(E28>4,1,0) -> 0
B29: 205 | C29: Accupakket noodevacuatie | D29: Nee | G29: 0 | J29: 1130 | K29: =IF($G29="Invoer",0,IF($G29=0,0,IF(AND(K$22>=$H29,MOD($H29-K$22,$I29)=0),$G29,0))) -> 0 | L29: =IF($G29="Invoer",0,IF($G29=0,0,IF(AND(L$22>=$H29,MOD($H29-L$22,$I29)=0),$G29,0))) -> 0 | M29: =IF($G29="Invoer",0,IF($G29=0,0,IF(AND(M$22>=$H29,MOD($H29-M$22,$I29)=0),$G29,0))) -> 0 | N29: =IF($G29="Invoer",0,IF($G29=0,0,IF(AND(N$22>=$H29,MOD($H29-N$22,$I29)=0),$G29,0))) -> 0 | O29: =IF($G29="Invoer",0,IF($G29=0,0,IF(AND(O$22>=$H29,MOD($H29-O$22,$I29)=0),$G29,0))) -> 0 | P29: =IF($G29="Invoer",0,IF($G29=0,0,IF(AND(P$22>=$H29,MOD($H29-P$22,$I29)=0),$G29,0))) -> 0 | Q29: =IF($G29="Invoer",0,IF($G29=0,0,IF(AND(Q$22>=$H29,MOD($H29-Q$22,$I29)=0),$G29,0))) -> 0 | R29: =IF($G29="Invoer",0,IF($G29=0,0,IF(AND(R$22>=$H29,MOD($H29-R$22,$I29)=0),$G29,0))) -> 0 | ... T29: =IF($G29="Invoer",0,IF($G29=0,0,IF(AND(T$22>=$H29,MOD($H29-T$22,$I29)=0),$G29,0))) -> 0 | U29: =IF(E29>4,1,0) -> 0
B30: 206 | C30: Analoge rittenteller | D30: Nee | G30: 0 | J30: 250 | K30: =IF($G30="Invoer",0,IF($G30=0,0,IF(AND(K$22>=$H30,MOD($H30-K$22,$I30)=0),$G30,0))) -> 0 | L30: =IF($G30="Invoer",0,IF($G30=0,0,IF(AND(L$22>=$H30,MOD($H30-L$22,$I30)=0),$G30,0))) -> 0 | M30: =IF($G30="Invoer",0,IF($G30=0,0,IF(AND(M$22>=$H30,MOD($H30-M$22,$I30)=0),$G30,0))) -> 0 | N30: =IF($G30="Invoer",0,IF($G30=0,0,IF(AND(N$22>=$H30,MOD($H30-N$22,$I30)=0),$G30,0))) -> 0 | O30: =IF($G30="Invoer",0,IF($G30=0,0,IF(AND(O$22>=$H30,MOD($H30-O$22,$I30)=0),$G30,0))) -> 0 | P30: =IF($G30="Invoer",0,IF($G30=0,0,IF(AND(P$22>=$H30,MOD($H30-P$22,$I30)=0),$G30,0))) -> 0 | Q30: =IF($G30="Invoer",0,IF($G30=0,0,IF(AND(Q$22>=$H30,MOD($H30-Q$22,$I30)=0),$G30,0))) -> 0 | R30: =IF($G30="Invoer",0,IF($G30=0,0,IF(AND(R$22>=$H30,MOD($H30-R$22,$I30)=0),$G30,0))) -> 0 | ... T30: =IF($G30="Invoer",0,IF($G30=0,0,IF(AND(T$22>=$H30,MOD($H30-T$22,$I30)=0),$G30,0))) -> 0
G31: 0 | K31: =IF($G31="Invoer",0,IF($G31=0,0,IF(AND(K$22>=$H31,MOD($H31-K$22,$I31)=0),$G31,0))) -> 0 | L31: =IF($G31="Invoer",0,IF($G31=0,0,IF(AND(L$22>=$H31,MOD($H31-L$22,$I31)=0),$G31,0))) -> 0 | M31: =IF($G31="Invoer",0,IF($G31=0,0,IF(AND(M$22>=$H31,MOD($H31-M$22,$I31)=0),$G31,0))) -> 0 | N31: =IF($G31="Invoer",0,IF($G31=0,0,IF(AND(N$22>=$H31,MOD($H31-N$22,$I31)=0),$G31,0))) -> 0 | O31: =IF($G31="Invoer",0,IF($G31=0,0,IF(AND(O$22>=$H31,MOD($H31-O$22,$I31)=0),$G31,0))) -> 0 | P31: =IF($G31="Invoer",0,IF($G31=0,0,IF(AND(P$22>=$H31,MOD($H31-P$22,$I31)=0),$G31,0))) -> 0 | Q31: =IF($G31="Invoer",0,IF($G31=0,0,IF(AND(Q$22>=$H31,MOD($H31-Q$22,$I31)=0),$G31,0))) -> 0 | R31: =IF($G31="Invoer",0,IF($G31=0,0,IF(AND(R$22>=$H31,MOD($H31-R$22,$I31)=0),$G31,0))) -> 0 | ... T31: =IF($G31="Invoer",0,IF($G31=0,0,IF(AND(T$22>=$H31,MOD($H31-T$22,$I31)=0),$G31,0))) -> 0 | U31: =IF(E31>4,1,0) -> 0
B33: Deuren
B34: 300 | C34: Handbewogen deur | D34: N.v.t. | G34: 0 | J34: 20000 | K34: =IF($G34="Invoer",0,IF($G34=0,0,IF(AND(K$22>=$H34,MOD($H34-K$22,$I34)=0),$G34,0))) -> 0 | L34: =IF($G34="Invoer",0,IF($G34=0,0,IF(AND(L$22>=$H34,MOD($H34-L$22,$I34)=0),$G34,0))) -> 0 | M34: =IF($G34="Invoer",0,IF($G34=0,0,IF(AND(M$22>=$H34,MOD($H34-M$22,$I34)=0),$G34,0))) -> 0 | N34: =IF($G34="Invoer",0,IF($G34=0,0,IF(AND(N$22>=$H34,MOD($H34-N$22,$I34)=0),$G34,0))) -> 0 | O34: =IF($G34="Invoer",0,IF($G34=0,0,IF(AND(O$22>=$H34,MOD($H34-O$22,$I34)=0),$G34,0))) -> 0 | P34: =IF($G34="Invoer",0,IF($G34=0,0,IF(AND(P$22>=$H34,MOD($H34-P$22,$I34)=0),$G34,0))) -> 0 | Q34: =IF($G34="Invoer",0,IF($G34=0,0,IF(AND(Q$22>=$H34,MOD($H34-Q$22,$I34)=0),$G34,0))) -> 0 | R34: =IF($G34="Invoer",0,IF($G34=0,0,IF(AND(R$22>=$H34,MOD($H34-R$22,$I34)=0),$G34,0))) -> 0 | ... T34: =IF($G34="Invoer",0,IF($G34=0,0,IF(AND(T$22>=$H34,MOD($H34-T$22,$I34)=0),$G34,0))) -> 0 | U34: =IF(E34>4,1,0) -> 0
B35: 301 | C35: Aanvullende opmerking deuren | G35: 0 | J35: 1500 | K35: =IF($G35="Invoer",0,IF($G35=0,0,IF(AND(K$22>=$H35,MOD($H35-K$22,$I35)=0),$G35,0))) -> 0 | L35: =IF($G35="Invoer",0,IF($G35=0,0,IF(AND(L$22>=$H35,MOD($H35-L$22,$I35)=0),$G35,0))) -> 0 | M35: =IF($G35="Invoer",0,IF($G35=0,0,IF(AND(M$22>=$H35,MOD($H35-M$22,$I35)=0),$G35,0))) -> 0 | N35: =IF($G35="Invoer",0,IF($G35=0,0,IF(AND(N$22>=$H35,MOD($H35-N$22,$I35)=0),$G35,0))) -> 0 | O35: =IF($G35="Invoer",0,IF($G35=0,0,IF(AND(O$22>=$H35,MOD($H35-O$22,$I35)=0),$G35,0))) -> 0 | P35: =IF($G35="Invoer",0,IF($G35=0,0,IF(AND(P$22>=$H35,MOD($H35-P$22,$I35)=0),$G35,0))) -> 0 | Q35: =IF($G35="Invoer",0,IF($G35=0,0,IF(AND(Q$22>=$H35,MOD($H35-Q$22,$I35)=0),$G35,0))) -> 0 | R35: =IF($G35="Invoer",0,IF($G35=0,0,IF(AND(R$22>=$H35,MOD($H35-R$22,$I35)=0),$G35,0))) -> 0 | ... T35: =IF($G35="Invoer",0,IF($G35=0,0,IF(AND(T$22>=$H35,MOD($H35-T$22,$I35)=0),$G35,0))) -> 0 | U35: =IF(E35>4,1,0) -> 0
B36: 302 | C36: Automatische cabinedeur | D36: ThysenKrupp 2 delig telescoop | E36: 3 | F36: 2005 | G36: Invoer | H36: 2026 | I36: 25 | J36: 13000 | K36: =IF($G36="Invoer",0,IF($G36=0,0,IF(AND(K$22>=$H36,MOD($H36-K$22,$I36)=0),$G36,0))) -> 0 | L36: =IF($G36="Invoer",0,IF($G36=0,0,IF(AND(L$22>=$H36,MOD($H36-L$22,$I36)=0),$G36,0))) -> 0 | M36: =IF($G36="Invoer",0,IF($G36=0,0,IF(AND(M$22>=$H36,MOD($H36-M$22,$I36)=0),$G36,0))) -> 0 | N36: =IF($G36="Invoer",0,IF($G36=0,0,IF(AND(N$22>=$H36,MOD($H36-N$22,$I36)=0),$G36,0))) -> 0 | O36: =IF($G36="Invoer",0,IF($G36=0,0,IF(AND(O$22>=$H36,MOD($H36-O$22,$I36)=0),$G36,0))) -> 0 | P36: =IF($G36="Invoer",0,IF($G36=0,0,IF(AND(P$22>=$H36,MOD($H36-P$22,$I36)=0),$G36,0))) -> 0 | Q36: =IF($G36="Invoer",0,IF($G36=0,0,IF(AND(Q$22>=$H36,MOD($H36-Q$22,$I36)=0),$G36,0))) -> 0 | R36: =IF($G36="Invoer",0,IF($G36=0,0,IF(AND(R$22>=$H36,MOD($H36-R$22,$I36)=0),$G36,0))) -> 0 | ... T36: =IF($G36="Invoer",0,IF($G36=0,0,IF(AND(T$22>=$H36,MOD($H36-T$22,$I36)=0),$G36,0))) -> 0 | U36: =IF(E36>4,1,0) -> 0
B37: 303 | C37: Aanvullende opmerking deuren | G37: 0 | K37: =IF($G37="Invoer",0,IF($G37=0,0,IF(AND(K$22>=$H37,MOD($H37-K$22,$I37)=0),$G37,0))) -> 0 | L37: =IF($G37="Invoer",0,IF($G37=0,0,IF(AND(L$22>=$H37,MOD($H37-L$22,$I37)=0),$G37,0))) -> 0 | M37: =IF($G37="Invoer",0,IF($G37=0,0,IF(AND(M$22>=$H37,MOD($H37-M$22,$I37)=0),$G37,0))) -> 0 | N37: =IF($G37="Invoer",0,IF($G37=0,0,IF(AND(N$22>=$H37,MOD($H37-N$22,$I37)=0),$G37,0))) -> 0 | O37: =IF($G37="Invoer",0,IF($G37=0,0,IF(AND(O$22>=$H37,MOD($H37-O$22,$I37)=0),$G37,0))) -> 0 | P37: =IF($G37="Invoer",0,IF($G37=0,0,IF(AND(P$22>=$H37,MOD($H37-P$22,$I37)=0),$G37,0))) -> 0 | Q37: =IF($G37="Invoer",0,IF($G37=0,0,IF(AND(Q$22>=$H37,MOD($H37-Q$22,$I37)=0),$G37,0))) -> 0 | R37: =IF($G37="Invoer",0,IF($G37=0,0,IF(AND(R$22>=$H37,MOD($H37-R$22,$I37)=0),$G37,0))) -> 0 | ... T37: =IF($G37="Invoer",0,IF($G37=0,0,IF(AND(T$22>=$H37,MOD($H37-T$22,$I37)=0),$G37,0))) -> 0 | U37: =IF(E37>4,1,0) -> 0
B38: 304 | C38: Automatische schachtdeuren | D38: ThysenKrupp 2 delig telescoop | E38: 3 | F38: 2005 | G38: 0 | H38: 2036 | I38: 25 | J38: 14000 | K38: =IF($G38="Invoer",0,IF($G38=0,0,IF(AND(K$22>=$H38,MOD($H38-K$22,$I38)=0),$G38,0))) -> 0 | L38: =IF($G38="Invoer",0,IF($G38=0,0,IF(AND(L$22>=$H38,MOD($H38-L$22,$I38)=0),$G38,0))) -> 0 | M38: =IF($G38="Invoer",0,IF($G38=0,0,IF(AND(M$22>=$H38,MOD($H38-M$22,$I38)=0),$G38,0))) -> 0 | N38: =IF($G38="Invoer",0,IF($G38=0,0,IF(AND(N$22>=$H38,MOD($H38-N$22,$I38)=0),$G38,0))) -> 0 | O38: =IF($G38="Invoer",0,IF($G38=0,0,IF(AND(O$22>=$H38,MOD($H38-O$22,$I38)=0),$G38,0))) -> 0 | P38: =IF($G38="Invoer",0,IF($G38=0,0,IF(AND(P$22>=$H38,MOD($H38-P$22,$I38)=0),$G38,0))) -> 0 | Q38: =IF($G38="Invoer",0,IF($G38=0,0,IF(AND(Q$22>=$H38,MOD($H38-Q$22,$I38)=0),$G38,0))) -> 0 | R38: =IF($G38="Invoer",0,IF($G38=0,0,IF(AND(R$22>=$H38,MOD($H38-R$22,$I38)=0),$G38,0))) -> 0 | ... T38: =IF($G38="Invoer",0,IF($G38=0,0,IF(AND(T$22>=$H38,MOD($H38-T$22,$I38)=0),$G38,0))) -> 0 | U38: =IF(E38>4,1,0) -> 0
B39: 305 | C39: Aanvullende opmerking deuren | D39: Schachtdeur -2 compleet vervangen inclusief dagstukken i.v.m. roestvorming | E39: 4 | F39: 2005 | G39: Invoer | H39: 2026 | I39: 99 | K39: =IF($G39="Invoer",0,IF($G39=0,0,IF(AND(K$22>=$H39,MOD($H39-K$22,$I39)=0),$G39,0))) -> 0 | L39: =IF($G39="Invoer",0,IF($G39=0,0,IF(AND(L$22>=$H39,MOD($H39-L$22,$I39)=0),$G39,0))) -> 0 | M39: =IF($G39="Invoer",0,IF($G39=0,0,IF(AND(M$22>=$H39,MOD($H39-M$22,$I39)=0),$G39,0))) -> 0 | N39: =IF($G39="Invoer",0,IF($G39=0,0,IF(AND(N$22>=$H39,MOD($H39-N$22,$I39)=0),$G39,0))) -> 0 | O39: =IF($G39="Invoer",0,IF($G39=0,0,IF(AND(O$22>=$H39,MOD($H39-O$22,$I39)=0),$G39,0))) -> 0 | P39: =IF($G39="Invoer",0,IF($G39=0,0,IF(AND(P$22>=$H39,MOD($H39-P$22,$I39)=0),$G39,0))) -> 0 | Q39: =IF($G39="Invoer",0,IF($G39=0,0,IF(AND(Q$22>=$H39,MOD($H39-Q$22,$I39)=0),$G39,0))) -> 0 | R39: =IF($G39="Invoer",0,IF($G39=0,0,IF(AND(R$22>=$H39,MOD($H39-R$22,$I39)=0),$G39,0))) -> 0 | ... T39: =IF($G39="Invoer",0,IF($G39=0,0,IF(AND(T$22>=$H39,MOD($H39-T$22,$I39)=0),$G39,0))) -> 0 | U39: =IF(E39>4,1,0) -> 0
B40: 313 | C40: Anti-vandaal uitvoering gewenst | D40: N.v.t. | G40: 0 | J40: 4000 | K40: =IF($G40="Invoer",0,IF($G40=0,0,IF(AND(K$22>=$H40,MOD($H40-K$22,$I40)=0),$G40,0))) -> 0 | L40: =IF($G40="Invoer",0,IF($G40=0,0,IF(AND(L$22>=$H40,MOD($H40-L$22,$I40)=0),$G40,0))) -> 0 | M40: =IF($G40="Invoer",0,IF($G40=0,0,IF(AND(M$22>=$H40,MOD($H40-M$22,$I40)=0),$G40,0))) -> 0 | N40: =IF($G40="Invoer",0,IF($G40=0,0,IF(AND(N$22>=$H40,MOD($H40-N$22,$I40)=0),$G40,0))) -> 0 | O40: =IF($G40="Invoer",0,IF($G40=0,0,IF(AND(O$22>=$H40,MOD($H40-O$22,$I40)=0),$G40,0))) -> 0 | P40: =IF($G40="Invoer",0,IF($G40=0,0,IF(AND(P$22>=$H40,MOD($H40-P$22,$I40)=0),$G40,0))) -> 0 | Q40: =IF($G40="Invoer",0,IF($G40=0,0,IF(AND(Q$22>=$H40,MOD($H40-Q$22,$I40)=0),$G40,0))) -> 0 | R40: =IF($G40="Invoer",0,IF($G40=0,0,IF(AND(R$22>=$H40,MOD($H40-R$22,$I40)=0),$G40,0))) -> 0 | ... T40: =IF($G40="Invoer",0,IF($G40=0,0,IF(AND(T$22>=$H40,MOD($H40-T$22,$I40)=0),$G40,0))) -> 0
B41: 306 | C41: Deurrevisie uitgebreid | D41: N.v.t. | G41: 0 | J41: 9000 | K41: =IF($G41="Invoer",0,IF($G41=0,0,IF(AND(K$22>=$H41,MOD($H41-K$22,$I41)=0),$G41,0))) -> 0 | L41: =IF($G41="Invoer",0,IF($G41=0,0,IF(AND(L$22>=$H41,MOD($H41-L$22,$I41)=0),$G41,0))) -> 0 | M41: =IF($G41="Invoer",0,IF($G41=0,0,IF(AND(M$22>=$H41,MOD($H41-M$22,$I41)=0),$G41,0))) -> 0 | N41: =IF($G41="Invoer",0,IF($G41=0,0,IF(AND(N$22>=$H41,MOD($H41-N$22,$I41)=0),$G41,0))) -> 0 | O41: =IF($G41="Invoer",0,IF($G41=0,0,IF(AND(O$22>=$H41,MOD($H41-O$22,$I41)=0),$G41,0))) -> 0 | P41: =IF($G41="Invoer",0,IF($G41=0,0,IF(AND(P$22>=$H41,MOD($H41-P$22,$I41)=0),$G41,0))) -> 0 | Q41: =IF($G41="Invoer",0,IF($G41=0,0,IF(AND(Q$22>=$H41,MOD($H41-Q$22,$I41)=0),$G41,0))) -> 0 | R41: =IF($G41="Invoer",0,IF($G41=0,0,IF(AND(R$22>=$H41,MOD($H41-R$22,$I41)=0),$G41,0))) -> 0 | ... T41: =IF($G41="Invoer",0,IF($G41=0,0,IF(AND(T$22>=$H41,MOD($H41-T$22,$I41)=0),$G41,0))) -> 0 | U41: =IF(E41>4,1,0) -> 0
...

Sheet 5
B1: 6 | C1: Was 4 | D1: Terug
B2: Code | C2: Omschrijving
B3: 100 | C3: Liftadres | D3: Media Parkboulevard 1 | E3: Hilversum | G3: 1217 WE
B4: 101 | C4: Complexaanduiding | D4: Beeld en Geluid | E4: Lift 6 experience
B5: 102 | C5: Dossiernummer keurende instantie | D5: TUV6035
B6: 103 | C6: AFAS relatienummer | D6: 10167 | E6: tab | F6: 6 | G6: 10167-6
B7: 104 | C7: Bouwjaar | D7: 2005
B8: 105 | C8: Vervaardigingsnorm | D8: NEN-EN 81-1
B9: 106 | C9: Type lift: tractie/hydraulisch/machinerichtlijn | D9: Tractie MKL
B10: 107 | C10: Type-aanduiding | D10: ThyssenKrupp Universe
B11: 108 | C11: Hefvermogen (kg) | D11: 1000 | K11: Laatste wijziging: | M11: 44991
B12: 109 | C12: Brandweerlift | D12: Ja | K12: Gewijzigd door: | M12: IN
B13: 110 | C13: Brancardlift | D13: Ja | K13: Vervaldatum: | M13: =M11+1095 -> 46086
B14: 111 | C14: Doel van de lift: personen/goederen | D14: Personenlift
B15: 112 | C15: Gebruiksintensiteit | D15: Gemiddelde gebruiksintensiteit | E15: =IF(R20=0,0,IF(R20<201,"Laag",IF(AND(R20>201,R20<500),"Middel","Hoog"))) -> Middel | F15: =IF(R20=0,0,R20) -> 375.25708 | G15: Ritten per dag
B16: 113 | C16: Aantal schachttoegangen | D16: 11
B17: 114 | C17: Aantal stopplaatsen | D17: 10 | R17: =CONCATENATE("01-01-",F24) -> 01-01-2005
B18: 115 | C18: Aantal kooitoegangen | D18: 2 | K18: Datum: | M18: 39038 | N18: 43807 | R18: =IF(Q18>0,Q18-P18,IF(P18>0,P18-O18,IF(O18>0,O18-N18,IF(N18>0,N18-M18,IF(M18>0,M18-R17))))) -> 4769
B19: 116 | C19: Beleidscategorie: A,B of C | D19: B | K19: Rittenstand: | M19: 0 | N19: 1789601 | R19: =IF(Q19>0,Q19-P19,IF(P19>0,P19-O19,IF(O19>0,O19-N19,IF(N19>0,N19-M19,M19)))) -> 1789601
R20: =IFERROR(R19/R18,0) -> 375.25708
R21: =IF(Q19>0,Q19,IF(P19>0,P19,IF(O19>0,O19,IF(N19>0,N19,M19)))) -> 1789601
E22: Conditie | F22: Bouwjaar | G22: Bedrag | H22: Startjaar | I22: Cyclus | K22: 2024 | L22: =K22+1 -> 2025 | M22: =L22+1 -> 2026 | N22: =M22+1 -> 2027 | O22: =N22+1 -> 2028 | P22: =O22+1 -> 2029 | Q22: =P22+1 -> 2030 | R22: =Q22+1 -> 2031 | S22: =R22+1 -> 2032 | T22: =S22+1 -> 2033
B23: Besturing
B24: 200 | C24: Besturingstype | D24: ThyssenKrupp MCI | E24: 3 | F24: 2005 | G24: Invoer | H24: 2026 | I24: 20 | J24: 14500 | K24: =IF($G24="Invoer",0,IF($G24=0,0,IF(AND(K$22>=$H24,MOD($H24-K$22,$I24)=0),$G24,0))) -> 0 | L24: =IF($G24="Invoer",0,IF($G24=0,0,IF(AND(L$22>=$H24,MOD($H24-L$22,$I24)=0),$G24,0))) -> 0 | M24: =IF($G24="Invoer",0,IF($G24=0,0,IF(AND(M$22>=$H24,MOD($H24-M$22,$I24)=0),$G24,0))) -> 0 | N24: =IF($G24="Invoer",0,IF($G24=0,0,IF(AND(N$22>=$H24,MOD($H24-N$22,$I24)=0),$G24,0))) -> 0 | O24: =IF($G24="Invoer",0,IF($G24=0,0,IF(AND(O$22>=$H24,MOD($H24-O$22,$I24)=0),$G24,0))) -> 0 | P24: =IF($G24="Invoer",0,IF($G24=0,0,IF(AND(P$22>=$H24,MOD($H24-P$22,$I24)=0),$G24,0))) -> 0 | Q24: =IF($G24="Invoer",0,IF($G24=0,0,IF(AND(Q$22>=$H24,MOD($H24-Q$22,$I24)=0),$G24,0))) -> 0 | R24: =IF($G24="Invoer",0,IF($G24=0,0,IF(AND(R$22>=$H24,MOD($H24-R$22,$I24)=0),$G24,0))) -> 0 | ... T24: =IF($G24="Invoer",0,IF($G24=0,0,IF(AND(T$22>=$H24,MOD($H24-T$22,$I24)=0),$G24,0))) -> 0 | U24: =IF(E24>4,1,0) -> 0
B25: 201 | C25: Aanvullende opmerking besturing | G25: 0 | K25: =IF($G25="Invoer",0,IF($G25=0,0,IF(AND(K$22>=$H25,MOD($H25-K$22,$I25)=0),$G25,0))) -> 0 | L25: =IF($G25="Invoer",0,IF($G25=0,0,IF(AND(L$22>=$H25,MOD($H25-L$22,$I25)=0),$G25,0))) -> 0 | M25: =IF($G25="Invoer",0,IF($G25=0,0,IF(AND(M$22>=$H25,MOD($H25-M$22,$I25)=0),$G25,0))) -> 0 | N25: =IF($G25="Invoer",0,IF($G25=0,0,IF(AND(N$22>=$H25,MOD($H25-N$22,$I25)=0),$G25,0))) -> 0 | O25: =IF($G25="Invoer",0,IF($G25=0,0,IF(AND(O$22>=$H25,MOD($H25-O$22,$I25)=0),$G25,0))) -> 0 | P25: =IF($G25="Invoer",0,IF($G25=0,0,IF(AND(P$22>=$H25,MOD($H25-P$22,$I25)=0),$G25,0))) -> 0 | Q25: =IF($G25="Invoer",0,IF($G25=0,0,IF(AND(Q$22>=$H25,MOD($H25-Q$22,$I25)=0),$G25,0))) -> 0 | R25: =IF($G25="Invoer",0,IF($G25=0,0,IF(AND(R$22>=$H25,MOD($H25-R$22,$I25)=0),$G25,0))) -> 0 | ... T25: =IF($G25="Invoer",0,IF($G25=0,0,IF(AND(T$22>=$H25,MOD($H25-T$22,$I25)=0),$G25,0))) -> 0 | U25: =IF(E25>4,1,0) -> 0
B26: 202 | C26: Encoder | D26: Ja | E26: 3 | F26: 2005 | G26: Invoer | H26: 2026 | I26: 20 | J26: 1300 | K26: =IF($G26="Invoer",0,IF($G26=0,0,IF(AND(K$22>=$H26,MOD($H26-K$22,$I26)=0),$G26,0))) -> 0 | L26: =IF($G26="Invoer",0,IF($G26=0,0,IF(AND(L$22>=$H26,MOD($H26-L$22,$I26)=0),$G26,0))) -> 0 | M26: =IF($G26="Invoer",0,IF($G26=0,0,IF(AND(M$22>=$H26,MOD($H26-M$22,$I26)=0),$G26,0))) -> 0 | N26: =IF($G26="Invoer",0,IF($G26=0,0,IF(AND(N$22>=$H26,MOD($H26-N$22,$I26)=0),$G26,0))) -> 0 | O26: =IF($G26="Invoer",0,IF($G26=0,0,IF(AND(O$22>=$H26,MOD($H26-O$22,$I26)=0),$G26,0))) -> 0 | P26: =IF($G26="Invoer",0,IF($G26=0,0,IF(AND(P$22>=$H26,MOD($H26-P$22,$I26)=0),$G26,0))) -> 0 | Q26: =IF($G26="Invoer",0,IF($G26=0,0,IF(AND(Q$22>=$H26,MOD($H26-Q$22,$I26)=0),$G26,0))) -> 0 | R26: =IF($G26="Invoer",0,IF($G26=0,0,IF(AND(R$22>=$H26,MOD($H26-R$22,$I26)=0),$G26,0))) -> 0 | ... T26: =IF($G26="Invoer",0,IF($G26=0,0,IF(AND(T$22>=$H26,MOD($H26-T$22,$I26)=0),$G26,0))) -> 0 | U26: =IF(E26>4,1,0) -> 0
B27: 203 | C27: Hoofdstroomrelais | D27: Schneider | E27: 3 | F27: 2017 | G27: Invoer | H27: 2026 | I27: 10 | J27: 1900 | K27: =IF($G27="Invoer",0,IF($G27=0,0,IF(AND(K$22>=$H27,MOD($H27-K$22,$I27)=0),$G27,0))) -> 0 | L27: =IF($G27="Invoer",0,IF($G27=0,0,IF(AND(L$22>=$H27,MOD($H27-L$22,$I27)=0),$G27,0))) -> 0 | M27: =IF($G27="Invoer",0,IF($G27=0,0,IF(AND(M$22>=$H27,MOD($H27-M$22,$I27)=0),$G27,0))) -> 0 | N27: =IF($G27="Invoer",0,IF($G27=0,0,IF(AND(N$22>=$H27,MOD($H27-N$22,$I27)=0),$G27,0))) -> 0 | O27: =IF($G27="Invoer",0,IF($G27=0,0,IF(AND(O$22>=$H27,MOD($H27-O$22,$I27)=0),$G27,0))) -> 0 | P27: =IF($G27="Invoer",0,IF($G27=0,0,IF(AND(P$22>=$H27,MOD($H27-P$22,$I27)=0),$G27,0))) -> 0 | Q27: =IF($G27="Invoer",0,IF($G27=0,0,IF(AND(Q$22>=$H27,MOD($H27-Q$22,$I27)=0),$G27,0))) -> 0 | R27: =IF($G27="Invoer",0,IF($G27=0,0,IF(AND(R$22>=$H27,MOD($H27-R$22,$I27)=0),$G27,0))) -> 0 | ... T27: =IF($G27="Invoer",0,IF($G27=0,0,IF(AND(T$22>=$H27,MOD($H27-T$22,$I27)=0),$G27,0))) -> 0 | U27: =IF(E27>4,1,0) -> 0
B28: 204 | C28: =IF(D9="Hydraulisch","Softstarter",IF(D9="Hydraulisch MKL","Softstarter","Frequentieregeling")) -> Frequentieregeling | D28: Leroy Somer Unidrive | E28: 3 | F28: 2019 | G28: Invoer | H28: 2026 | I28: 10 | J28: 8500 | K28: =IF($G28="Invoer",0,IF($G28=0,0,IF(AND(K$22>=$H28,MOD($H28-K$22,$I28)=0),$G28,0))) -> 0 | L28: =IF($G28="Invoer",0,IF($G28=0,0,IF(AND(L$22>=$H28,MOD($H28-L$22,$I28)=0),$G28,0))) -> 0 | M28: =IF($G28="Invoer",0,IF($G28=0,0,IF(AND(M$22>=$H28,MOD($H28-M$22,$I28)=0),$G28,0))) -> 0 | N28: =IF($G28="Invoer",0,IF($G28=0,0,IF(AND(N$22>=$H28,MOD($H28-N$22,$I28)=0),$G28,0))) -> 0 | O28: =IF($G28="Invoer",0,IF($G28=0,0,IF(AND(O$22>=$H28,MOD($H28-O$22,$I28)=0),$G28,0))) -> 0 | P28: =IF($G28="Invoer",0,IF($G28=0,0,IF(AND(P$22>=$H28,MOD($H28-P$22,$I28)=0),$G28,0))) -> 0 | Q28: =IF($G28="Invoer",0,IF($G28=0,0,IF(AND(Q$22>=$H28,MOD($H28-Q$22,$I28)=0),$G28,0))) -> 0 | R28: =IF($G28="Invoer",0,IF($G28=0,0,IF(AND(R$22>=$H28,MOD($H28-R$22,$I28)=0),$G28,0))) -> 0 | ... T28: =IF($G28="Invoer",0,IF($G28=0,0,IF(AND(T$22>=$H28,MOD($H28-T$22,$I28)=0),$G28,0))) -> 0 | U28: =IF(E28>4,1,0) -> 0
B29: 205 | C29: Accupakket noodevacuatie | D29: Nee | G29: 0 | J29: 1500 | K29: =IF($G29="Invoer",0,IF($G29=0,0,IF(AND(K$22>=$H29,MOD($H29-K$22,$I29)=0),$G29,0))) -> 0 | L29: =IF($G29="Invoer",0,IF($G29=0,0,IF(AND(L$22>=$H29,MOD($H29-L$22,$I29)=0),$G29,0))) -> 0 | M29: =IF($G29="Invoer",0,IF($G29=0,0,IF(AND(M$22>=$H29,MOD($H29-M$22,$I29)=0),$G29,0))) -> 0 | N29: =IF($G29="Invoer",0,IF($G29=0,0,IF(AND(N$22>=$H29,MOD($H29-N$22,$I29)=0),$G29,0))) -> 0 | O29: =IF($G29="Invoer",0,IF($G29=0,0,IF(AND(O$22>=$H29,MOD($H29-O$22,$I29)=0),$G29,0))) -> 0 | P29: =IF($G29="Invoer",0,IF($G29=0,0,IF(AND(P$22>=$H29,MOD($H29-P$22,$I29)=0),$G29,0))) -> 0 | Q29: =IF($G29="Invoer",0,IF($G29=0,0,IF(AND(Q$22>=$H29,MOD($H29-Q$22,$I29)=0),$G29,0))) -> 0 | R29: =IF($G29="Invoer",0,IF($G29=0,0,IF(AND(R$22>=$H29,MOD($H29-R$22,$I29)=0),$G29,0))) -> 0 | ... T29: =IF($G29="Invoer",0,IF($G29=0,0,IF(AND(T$22>=$H29,MOD($H29-T$22,$I29)=0),$G29,0))) -> 0 | U29: =IF(E29>4,1,0) -> 0
B30: 206 | C30: Analoge rittenteller | D30: Nee | G30: 0 | J30: 250 | K30: =IF($G30="Invoer",0,IF($G30=0,0,IF(AND(K$22>=$H30,MOD($H30-K$22,$I30)=0),$G30,0))) -> 0 | L30: =IF($G30="Invoer",0,IF($G30=0,0,IF(AND(L$22>=$H30,MOD($H30-L$22,$I30)=0),$G30,0))) -> 0 | M30: =IF($G30="Invoer",0,IF($G30=0,0,IF(AND(M$22>=$H30,MOD($H30-M$22,$I30)=0),$G30,0))) -> 0 | N30: =IF($G30="Invoer",0,IF($G30=0,0,IF(AND(N$22>=$H30,MOD($H30-N$22,$I30)=0),$G30,0))) -> 0 | O30: =IF($G30="Invoer",0,IF($G30=0,0,IF(AND(O$22>=$H30,MOD($H30-O$22,$I30)=0),$G30,0))) -> 0 | P30: =IF($G30="Invoer",0,IF($G30=0,0,IF(AND(P$22>=$H30,MOD($H30-P$22,$I30)=0),$G30,0))) -> 0 | Q30: =IF($G30="Invoer",0,IF($G30=0,0,IF(AND(Q$22>=$H30,MOD($H30-Q$22,$I30)=0),$G30,0))) -> 0 | R30: =IF($G30="Invoer",0,IF($G30=0,0,IF(AND(R$22>=$H30,MOD($H30-R$22,$I30)=0),$G30,0))) -> 0 | ... T30: =IF($G30="Invoer",0,IF($G30=0,0,IF(AND(T$22>=$H30,MOD($H30-T$22,$I30)=0),$G30,0))) -> 0
G31: 0 | K31: =IF($G31="Invoer",0,IF($G31=0,0,IF(AND(K$22>=$H31,MOD($H31-K$22,$I31)=0),$G31,0))) -> 0 | L31: =IF($G31="Invoer",0,IF($G31=0,0,IF(AND(L$22>=$H31,MOD($H31-L$22,$I31)=0),$G31,0))) -> 0 | M31: =IF($G31="Invoer",0,IF($G31=0,0,IF(AND(M$22>=$H31,MOD($H31-M$22,$I31)=0),$G31,0))) -> 0 | N31: =IF($G31="Invoer",0,IF($G31=0,0,IF(AND(N$22>=$H31,MOD($H31-N$22,$I31)=0),$G31,0))) -> 0 | O31: =IF($G31="Invoer",0,IF($G31=0,0,IF(AND(O$22>=$H31,MOD($H31-O$22,$I31)=0),$G31,0))) -> 0 | P31: =IF($G31="Invoer",0,IF($G31=0,0,IF(AND(P$22>=$H31,MOD($H31-P$22,$I31)=0),$G31,0))) -> 0 | Q31: =IF($G31="Invoer",0,IF($G31=0,0,IF(AND(Q$22>=$H31,MOD($H31-Q$22,$I31)=0),$G31,0))) -> 0 | R31: =IF($G31="Invoer",0,IF($G31=0,0,IF(AND(R$22>=$H31,MOD($H31-R$22,$I31)=0),$G31,0))) -> 0 | ... T31: =IF($G31="Invoer",0,IF($G31=0,0,IF(AND(T$22>=$H31,MOD($H31-T$22,$I31)=0),$G31,0))) -> 0 | U31: =IF(E31>4,1,0) -> 0
B33: Deuren
B34: 300 | C34: Handbewogen deur | D34: N.v.t. | G34: 0 | J34: 55000 | K34: =IF($G34="Invoer",0,IF($G34=0,0,IF(AND(K$22>=$H34,MOD($H34-K$22,$I34)=0),$G34,0))) -> 0 | L34: =IF($G34="Invoer",0,IF($G34=0,0,IF(AND(L$22>=$H34,MOD($H34-L$22,$I34)=0),$G34,0))) -> 0 | M34: =IF($G34="Invoer",0,IF($G34=0,0,IF(AND(M$22>=$H34,MOD($H34-M$22,$I34)=0),$G34,0))) -> 0 | N34: =IF($G34="Invoer",0,IF($G34=0,0,IF(AND(N$22>=$H34,MOD($H34-N$22,$I34)=0),$G34,0))) -> 0 | O34: =IF($G34="Invoer",0,IF($G34=0,0,IF(AND(O$22>=$H34,MOD($H34-O$22,$I34)=0),$G34,0))) -> 0 | P34: =IF($G34="Invoer",0,IF($G34=0,0,IF(AND(P$22>=$H34,MOD($H34-P$22,$I34)=0),$G34,0))) -> 0 | Q34: =IF($G34="Invoer",0,IF($G34=0,0,IF(AND(Q$22>=$H34,MOD($H34-Q$22,$I34)=0),$G34,0))) -> 0 | R34: =IF($G34="Invoer",0,IF($G34=0,0,IF(AND(R$22>=$H34,MOD($H34-R$22,$I34)=0),$G34,0))) -> 0 | ... T34: =IF($G34="Invoer",0,IF($G34=0,0,IF(AND(T$22>=$H34,MOD($H34-T$22,$I34)=0),$G34,0))) -> 0 | U34: =IF(E34>4,1,0) -> 0
B35: 301 | C35: Aanvullende opmerking deuren | G35: 0 | J35: 1500 | K35: =IF($G35="Invoer",0,IF($G35=0,0,IF(AND(K$22>=$H35,MOD($H35-K$22,$I35)=0),$G35,0))) -> 0 | L35: =IF($G35="Invoer",0,IF($G35=0,0,IF(AND(L$22>=$H35,MOD($H35-L$22,$I35)=0),$G35,0))) -> 0 | M35: =IF($G35="Invoer",0,IF($G35=0,0,IF(AND(M$22>=$H35,MOD($H35-M$22,$I35)=0),$G35,0))) -> 0 | N35: =IF($G35="Invoer",0,IF($G35=0,0,IF(AND(N$22>=$H35,MOD($H35-N$22,$I35)=0),$G35,0))) -> 0 | O35: =IF($G35="Invoer",0,IF($G35=0,0,IF(AND(O$22>=$H35,MOD($H35-O$22,$I35)=0),$G35,0))) -> 0 | P35: =IF($G35="Invoer",0,IF($G35=0,0,IF(AND(P$22>=$H35,MOD($H35-P$22,$I35)=0),$G35,0))) -> 0 | Q35: =IF($G35="Invoer",0,IF($G35=0,0,IF(AND(Q$22>=$H35,MOD($H35-Q$22,$I35)=0),$G35,0))) -> 0 | R35: =IF($G35="Invoer",0,IF($G35=0,0,IF(AND(R$22>=$H35,MOD($H35-R$22,$I35)=0),$G35,0))) -> 0 | ... T35: =IF($G35="Invoer",0,IF($G35=0,0,IF(AND(T$22>=$H35,MOD($H35-T$22,$I35)=0),$G35,0))) -> 0 | U35: =IF(E35>4,1,0) -> 0
B36: 302 | C36: Automatische cabinedeur | D36: ThysenKrupp 2 delig telescoop | E36: 3 | F36: 2005 | G36: Invoer | H36: 2026 | I36: 25 | J36: 13000 | K36: =IF($G36="Invoer",0,IF($G36=0,0,IF(AND(K$22>=$H36,MOD($H36-K$22,$I36)=0),$G36,0))) -> 0 | L36: =IF($G36="Invoer",0,IF($G36=0,0,IF(AND(L$22>=$H36,MOD($H36-L$22,$I36)=0),$G36,0))) -> 0 | M36: =IF($G36="Invoer",0,IF($G36=0,0,IF(AND(M$22>=$H36,MOD($H36-M$22,$I36)=0),$G36,0))) -> 0 | N36: =IF($G36="Invoer",0,IF($G36=0,0,IF(AND(N$22>=$H36,MOD($H36-N$22,$I36)=0),$G36,0))) -> 0 | O36: =IF($G36="Invoer",0,IF($G36=0,0,IF(AND(O$22>=$H36,MOD($H36-O$22,$I36)=0),$G36,0))) -> 0 | P36: =IF($G36="Invoer",0,IF($G36=0,0,IF(AND(P$22>=$H36,MOD($H36-P$22,$I36)=0),$G36,0))) -> 0 | Q36: =IF($G36="Invoer",0,IF($G36=0,0,IF(AND(Q$22>=$H36,MOD($H36-Q$22,$I36)=0),$G36,0))) -> 0 | R36: =IF($G36="Invoer",0,IF($G36=0,0,IF(AND(R$22>=$H36,MOD($H36-R$22,$I36)=0),$G36,0))) -> 0 | ... T36: =IF($G36="Invoer",0,IF($G36=0,0,IF(AND(T$22>=$H36,MOD($H36-T$22,$I36)=0),$G36,0))) -> 0 | U36: =IF(E36>4,1,0) -> 0
B37: 303 | C37: Aanvullende opmerking deuren | G37: 0 | K37: =IF($G37="Invoer",0,IF($G37=0,0,IF(AND(K$22>=$H37,MOD($H37-K$22,$I37)=0),$G37,0))) -> 0 | L37: =IF($G37="Invoer",0,IF($G37=0,0,IF(AND(L$22>=$H37,MOD($H37-L$22,$I37)=0),$G37,0))) -> 0 | M37: =IF($G37="Invoer",0,IF($G37=0,0,IF(AND(M$22>=$H37,MOD($H37-M$22,$I37)=0),$G37,0))) -> 0 | N37: =IF($G37="Invoer",0,IF($G37=0,0,IF(AND(N$22>=$H37,MOD($H37-N$22,$I37)=0),$G37,0))) -> 0 | O37: =IF($G37="Invoer",0,IF($G37=0,0,IF(AND(O$22>=$H37,MOD($H37-O$22,$I37)=0),$G37,0))) -> 0 | P37: =IF($G37="Invoer",0,IF($G37=0,0,IF(AND(P$22>=$H37,MOD($H37-P$22,$I37)=0),$G37,0))) -> 0 | Q37: =IF($G37="Invoer",0,IF($G37=0,0,IF(AND(Q$22>=$H37,MOD($H37-Q$22,$I37)=0),$G37,0))) -> 0 | R37: =IF($G37="Invoer",0,IF($G37=0,0,IF(AND(R$22>=$H37,MOD($H37-R$22,$I37)=0),$G37,0))) -> 0 | ... T37: =IF($G37="Invoer",0,IF($G37=0,0,IF(AND(T$22>=$H37,MOD($H37-T$22,$I37)=0),$G37,0))) -> 0 | U37: =IF(E37>4,1,0) -> 0
B38: 304 | C38: Automatische schachtdeuren | D38: ThysenKrupp 2 delig telescoop | E38: 3 | F38: 2005 | G38: 0 | H38: 2036 | I38: 25 | J38: 38500 | K38: =IF($G38="Invoer",0,IF($G38=0,0,IF(AND(K$22>=$H38,MOD($H38-K$22,$I38)=0),$G38,0))) -> 0 | L38: =IF($G38="Invoer",0,IF($G38=0,0,IF(AND(L$22>=$H38,MOD($H38-L$22,$I38)=0),$G38,0))) -> 0 | M38: =IF($G38="Invoer",0,IF($G38=0,0,IF(AND(M$22>=$H38,MOD($H38-M$22,$I38)=0),$G38,0))) -> 0 | N38: =IF($G38="Invoer",0,IF($G38=0,0,IF(AND(N$22>=$H38,MOD($H38-N$22,$I38)=0),$G38,0))) -> 0 | O38: =IF($G38="Invoer",0,IF($G38=0,0,IF(AND(O$22>=$H38,MOD($H38-O$22,$I38)=0),$G38,0))) -> 0 | P38: =IF($G38="Invoer",0,IF($G38=0,0,IF(AND(P$22>=$H38,MOD($H38-P$22,$I38)=0),$G38,0))) -> 0 | Q38: =IF($G38="Invoer",0,IF($G38=0,0,IF(AND(Q$22>=$H38,MOD($H38-Q$22,$I38)=0),$G38,0))) -> 0 | R38: =IF($G38="Invoer",0,IF($G38=0,0,IF(AND(R$22>=$H38,MOD($H38-R$22,$I38)=0),$G38,0))) -> 0 | ... T38: =IF($G38="Invoer",0,IF($G38=0,0,IF(AND(T$22>=$H38,MOD($H38-T$22,$I38)=0),$G38,0))) -> 0 | U38: =IF(E38>4,1,0) -> 0
B39: 305 | C39: Aanvullende opmerking deuren | G39: 0 | K39: =IF($G39="Invoer",0,IF($G39=0,0,IF(AND(K$22>=$H39,MOD($H39-K$22,$I39)=0),$G39,0))) -> 0 | L39: =IF($G39="Invoer",0,IF($G39=0,0,IF(AND(L$22>=$H39,MOD($H39-L$22,$I39)=0),$G39,0))) -> 0 | M39: =IF($G39="Invoer",0,IF($G39=0,0,IF(AND(M$22>=$H39,MOD($H39-M$22,$I39)=0),$G39,0))) -> 0 | N39: =IF($G39="Invoer",0,IF($G39=0,0,IF(AND(N$22>=$H39,MOD($H39-N$22,$I39)=0),$G39,0))) -> 0 | O39: =IF($G39="Invoer",0,IF($G39=0,0,IF(AND(O$22>=$H39,MOD($H39-O$22,$I39)=0),$G39,0))) -> 0 | P39: =IF($G39="Invoer",0,IF($G39=0,0,IF(AND(P$22>=$H39,MOD($H39-P$22,$I39)=0),$G39,0))) -> 0 | Q39: =IF($G39="Invoer",0,IF($G39=0,0,IF(AND(Q$22>=$H39,MOD($H39-Q$22,$I39)=0),$G39,0))) -> 0 | R39: =IF($G39="Invoer",0,IF($G39=0,0,IF(AND(R$22>=$H39,MOD($H39-R$22,$I39)=0),$G39,0))) -> 0 | ... T39: =IF($G39="Invoer",0,IF($G39=0,0,IF(AND(T$22>=$H39,MOD($H39-T$22,$I39)=0),$G39,0))) -> 0 | U39: =IF(E39>4,1,0) -> 0
B40: 313 | C40: Anti-vandaal uitvoering gewenst | D40: N.v.t. | G40: 0 | J40: 11000 | K40: =IF($G40="Invoer",0,IF($G40=0,0,IF(AND(K$22>=$H40,MOD($H40-K$22,$I40)=0),$G40,0))) -> 0 | L40: =IF($G40="Invoer",0,IF($G40=0,0,IF(AND(L$22>=$H40,MOD($H40-L$22,$I40)=0),$G40,0))) -> 0 | M40: =IF($G40="Invoer",0,IF($G40=0,0,IF(AND(M$22>=$H40,MOD($H40-M$22,$I40)=0),$G40,0))) -> 0 | N40: =IF($G40="Invoer",0,IF($G40=0,0,IF(AND(N$22>=$H40,MOD($H40-N$22,$I40)=0),$G40,0))) -> 0 | O40: =IF($G40="Invoer",0,IF($G40=0,0,IF(AND(O$22>=$H40,MOD($H40-O$22,$I40)=0),$G40,0))) -> 0 | P40: =IF($G40="Invoer",0,IF($G40=0,0,IF(AND(P$22>=$H40,MOD($H40-P$22,$I40)=0),$G40,0))) -> 0 | Q40: =IF($G40="Invoer",0,IF($G40=0,0,IF(AND(Q$22>=$H40,MOD($H40-Q$22,$I40)=0),$G40,0))) -> 0 | R40: =IF($G40="Invoer",0,IF($G40=0,0,IF(AND(R$22>=$H40,MOD($H40-R$22,$I40)=0),$G40,0))) -> 0 | ... T40: =IF($G40="Invoer",0,IF($G40=0,0,IF(AND(T$22>=$H40,MOD($H40-T$22,$I40)=0),$G40,0))) -> 0
B41: 306 | C41: Deurrevisie uitgebreid | D41: N.v.t. | G41: 0 | J41: 19500 | K41: =IF($G41="Invoer",0,IF($G41=0,0,IF(AND(K$22>=$H41,MOD($H41-K$22,$I41)=0),$G41,0))) -> 0 | L41: =IF($G41="Invoer",0,IF($G41=0,0,IF(AND(L$22>=$H41,MOD($H41-L$22,$I41)=0),$G41,0))) -> 0 | M41: =IF($G41="Invoer",0,IF($G41=0,0,IF(AND(M$22>=$H41,MOD($H41-M$22,$I41)=0),$G41,0))) -> 0 | N41: =IF($G41="Invoer",0,IF($G41=0,0,IF(AND(N$22>=$H41,MOD($H41-N$22,$I41)=0),$G41,0))) -> 0 | O41: =IF($G41="Invoer",0,IF($G41=0,0,IF(AND(O$22>=$H41,MOD($H41-O$22,$I41)=0),$G41,0))) -> 0 | P41: =IF($G41="Invoer",0,IF($G41=0,0,IF(AND(P$22>=$H41,MOD($H41-P$22,$I41)=0),$G41,0))) -> 0 | Q41: =IF($G41="Invoer",0,IF($G41=0,0,IF(AND(Q$22>=$H41,MOD($H41-Q$22,$I41)=0),$G41,0))) -> 0 | R41: =IF($G41="Invoer",0,IF($G41=0,0,IF(AND(R$22>=$H41,MOD($H41-R$22,$I41)=0),$G41,0))) -> 0 | ... T41: =IF($G41="Invoer",0,IF($G41=0,0,IF(AND(T$22>=$H41,MOD($H41-T$22,$I41)=0),$G41,0))) -> 0 | U41: =IF(E41>4,1,0) -> 0
...

Sheet 4
B1: 5 | C1: Terug | D1: Terug
B2: Code | C2: Omschrijving
B3: 100 | C3: Liftadres | D3: Media Parkboulevard 1 | E3: Hilversum | G3: 1217 WE
B4: 101 | C4: Complexaanduiding | D4: Beeld en Geluid | E4: Lift 5 experience
B5: 102 | C5: Dossiernummer keurende instantie | D5: TUV6036
B6: 103 | C6: AFAS relatienummer | D6: 10167 | E6: tab | F6: 5 | G6: 10167-5
B7: 104 | C7: Bouwjaar | D7: 2006
B8: 105 | C8: Vervaardigingsnorm | D8: NEN-EN 81-1
B9: 106 | C9: Type lift: tractie/hydraulisch/machinerichtlijn | D9: Tractie
B10: 107 | C10: Type-aanduiding | D10: ThyssenKrupp Tasa
B11: 108 | C11: Hefvermogen (kg) | D11: 3500 | K11: Laatste wijziging: | M11: 44991
B12: 109 | C12: Brandweerlift | D12: Nee | K12: Gewijzigd door: | M12: IN
B13: 110 | C13: Brancardlift | D13: Ja | K13: Vervaldatum: | M13: =M11+1095 -> 46086
B14: 111 | C14: Doel van de lift: personen/goederen | D14: Personen/goederenlift
B15: 112 | C15: Gebruiksintensiteit | D15: Gemiddelde gebruiksintensiteit | E15: =IF(R20=0,0,IF(R20<201,"Laag",IF(AND(R20>201,R20<500),"Middel","Hoog"))) -> Middel | F15: =IF(R20=0,0,R20) -> 306.54834 | G15: Ritten per dag
B16: 113 | C16: Aantal schachttoegangen | D16: 10
B17: 114 | C17: Aantal stopplaatsen | D17: 10 | R17: =CONCATENATE("01-01-",F24) -> 01-01-2006
B18: 115 | C18: Aantal kooitoegangen | D18: 1 | K18: Datum: | M18: 38970 | N18: 44173 | R18: =IF(Q18>0,Q18-P18,IF(P18>0,P18-O18,IF(O18>0,O18-N18,IF(N18>0,N18-M18,IF(M18>0,M18-R17))))) -> 5203
B19: 116 | C19: Beleidscategorie: A,B of C | D19: B | K19: Rittenstand: | M19: 0 | N19: 1594971 | R19: =IF(Q19>0,Q19-P19,IF(P19>0,P19-O19,IF(O19>0,O19-N19,IF(N19>0,N19-M19,M19)))) -> 1594971
R20: =IFERROR(R19/R18,0) -> 306.54834
R21: =IF(Q19>0,Q19,IF(P19>0,P19,IF(O19>0,O19,IF(N19>0,N19,M19)))) -> 1594971
E22: Conditie | F22: Bouwjaar | G22: Bedrag | H22: Startjaar | I22: Cyclus | K22: 2024 | L22: =K22+1 -> 2025 | M22: =L22+1 -> 2026 | N22: =M22+1 -> 2027 | O22: =N22+1 -> 2028 | P22: =O22+1 -> 2029 | Q22: =P22+1 -> 2030 | R22: =Q22+1 -> 2031 | S22: =R22+1 -> 2032 | T22: =S22+1 -> 2033
B23: Besturing
B24: 200 | C24: Besturingstype | D24: ThyssenKrupp MCI | E24: 3 | F24: 2006 | G24: Invoer | H24: 2026 | I24: 20 | J24: 17000 | K24: =IF($G24="Invoer",0,IF($G24=0,0,IF(AND(K$22>=$H24,MOD($H24-K$22,$I24)=0),$G24,0))) -> 0 | L24: =IF($G24="Invoer",0,IF($G24=0,0,IF(AND(L$22>=$H24,MOD($H24-L$22,$I24)=0),$G24,0))) -> 0 | M24: =IF($G24="Invoer",0,IF($G24=0,0,IF(AND(M$22>=$H24,MOD($H24-M$22,$I24)=0),$G24,0))) -> 0 | N24: =IF($G24="Invoer",0,IF($G24=0,0,IF(AND(N$22>=$H24,MOD($H24-N$22,$I24)=0),$G24,0))) -> 0 | O24: =IF($G24="Invoer",0,IF($G24=0,0,IF(AND(O$22>=$H24,MOD($H24-O$22,$I24)=0),$G24,0))) -> 0 | P24: =IF($G24="Invoer",0,IF($G24=0,0,IF(AND(P$22>=$H24,MOD($H24-P$22,$I24)=0),$G24,0))) -> 0 | Q24: =IF($G24="Invoer",0,IF($G24=0,0,IF(AND(Q$22>=$H24,MOD($H24-Q$22,$I24)=0),$G24,0))) -> 0 | R24: =IF($G24="Invoer",0,IF($G24=0,0,IF(AND(R$22>=$H24,MOD($H24-R$22,$I24)=0),$G24,0))) -> 0 | ... T24: =IF($G24="Invoer",0,IF($G24=0,0,IF(AND(T$22>=$H24,MOD($H24-T$22,$I24)=0),$G24,0))) -> 0 | U24: =IF(E24>4,1,0) -> 0
B25: 201 | C25: Aanvullende opmerking besturing | G25: 0 | K25: =IF($G25="Invoer",0,IF($G25=0,0,IF(AND(K$22>=$H25,MOD($H25-K$22,$I25)=0),$G25,0))) -> 0 | L25: =IF($G25="Invoer",0,IF($G25=0,0,IF(AND(L$22>=$H25,MOD($H25-L$22,$I25)=0),$G25,0))) -> 0 | M25: =IF($G25="Invoer",0,IF($G25=0,0,IF(AND(M$22>=$H25,MOD($H25-M$22,$I25)=0),$G25,0))) -> 0 | N25: =IF($G25="Invoer",0,IF($G25=0,0,IF(AND(N$22>=$H25,MOD($H25-N$22,$I25)=0),$G25,0))) -> 0 | O25: =IF($G25="Invoer",0,IF($G25=0,0,IF(AND(O$22>=$H25,MOD($H25-O$22,$I25)=0),$G25,0))) -> 0 | P25: =IF($G25="Invoer",0,IF($G25=0,0,IF(AND(P$22>=$H25,MOD($H25-P$22,$I25)=0),$G25,0))) -> 0 | Q25: =IF($G25="Invoer",0,IF($G25=0,0,IF(AND(Q$22>=$H25,MOD($H25-Q$22,$I25)=0),$G25,0))) -> 0 | R25: =IF($G25="Invoer",0,IF($G25=0,0,IF(AND(R$22>=$H25,MOD($H25-R$22,$I25)=0),$G25,0))) -> 0 | ... T25: =IF($G25="Invoer",0,IF($G25=0,0,IF(AND(T$22>=$H25,MOD($H25-T$22,$I25)=0),$G25,0))) -> 0 | U25: =IF(E25>4,1,0) -> 0
B26: 202 | C26: Encoder | D26: Ja | E26: 3 | F26: 2006 | G26: Invoer | H26: 2026 | I26: 20 | J26: 1300 | K26: =IF($G26="Invoer",0,IF($G26=0,0,IF(AND(K$22>=$H26,MOD($H26-K$22,$I26)=0),$G26,0))) -> 0 | L26: =IF($G26="Invoer",0,IF($G26=0,0,IF(AND(L$22>=$H26,MOD($H26-L$22,$I26)=0),$G26,0))) -> 0 | M26: =IF($G26="Invoer",0,IF($G26=0,0,IF(AND(M$22>=$H26,MOD($H26-M$22,$I26)=0),$G26,0))) -> 0 | N26: =IF($G26="Invoer",0,IF($G26=0,0,IF(AND(N$22>=$H26,MOD($H26-N$22,$I26)=0),$G26,0))) -> 0 | O26: =IF($G26="Invoer",0,IF($G26=0,0,IF(AND(O$22>=$H26,MOD($H26-O$22,$I26)=0),$G26,0))) -> 0 | P26: =IF($G26="Invoer",0,IF($G26=0,0,IF(AND(P$22>=$H26,MOD($H26-P$22,$I26)=0),$G26,0))) -> 0 | Q26: =IF($G26="Invoer",0,IF($G26=0,0,IF(AND(Q$22>=$H26,MOD($H26-Q$22,$I26)=0),$G26,0))) -> 0 | R26: =IF($G26="Invoer",0,IF($G26=0,0,IF(AND(R$22>=$H26,MOD($H26-R$22,$I26)=0),$G26,0))) -> 0 | ... T26: =IF($G26="Invoer",0,IF($G26=0,0,IF(AND(T$22>=$H26,MOD($H26-T$22,$I26)=0),$G26,0))) -> 0 | U26: =IF(E26>4,1,0) -> 0
B27: 203 | C27: Hoofdstroomrelais | D27: Telemecanique | E27: 2 | F27: 2006 | G27: Invoer | H27: 2026 | I27: 10 | J27: 4400 | K27: =IF($G27="Invoer",0,IF($G27=0,0,IF(AND(K$22>=$H27,MOD($H27-K$22,$I27)=0),$G27,0))) -> 0 | L27: =IF($G27="Invoer",0,IF($G27=0,0,IF(AND(L$22>=$H27,MOD($H27-L$22,$I27)=0),$G27,0))) -> 0 | M27: =IF($G27="Invoer",0,IF($G27=0,0,IF(AND(M$22>=$H27,MOD($H27-M$22,$I27)=0),$G27,0))) -> 0 | N27: =IF($G27="Invoer",0,IF($G27=0,0,IF(AND(N$22>=$H27,MOD($H27-N$22,$I27)=0),$G27,0))) -> 0 | O27: =IF($G27="Invoer",0,IF($G27=0,0,IF(AND(O$22>=$H27,MOD($H27-O$22,$I27)=0),$G27,0))) -> 0 | P27: =IF($G27="Invoer",0,IF($G27=0,0,IF(AND(P$22>=$H27,MOD($H27-P$22,$I27)=0),$G27,0))) -> 0 | Q27: =IF($G27="Invoer",0,IF($G27=0,0,IF(AND(Q$22>=$H27,MOD($H27-Q$22,$I27)=0),$G27,0))) -> 0 | R27: =IF($G27="Invoer",0,IF($G27=0,0,IF(AND(R$22>=$H27,MOD($H27-R$22,$I27)=0),$G27,0))) -> 0 | ... T27: =IF($G27="Invoer",0,IF($G27=0,0,IF(AND(T$22>=$H27,MOD($H27-T$22,$I27)=0),$G27,0))) -> 0 | U27: =IF(E27>4,1,0) -> 0
B28: 204 | C28: =IF(D9="Hydraulisch","Softstarter",IF(D9="Hydraulisch MKL","Softstarter","Frequentieregeling")) -> Frequentieregeling | D28: KEB | E28: 2 | F28: 2006 | G28: Invoer | H28: 2026 | I28: 10 | J28: 5500 | K28: =IF($G28="Invoer",0,IF($G28=0,0,IF(AND(K$22>=$H28,MOD($H28-K$22,$I28)=0),$G28,0))) -> 0 | L28: =IF($G28="Invoer",0,IF($G28=0,0,IF(AND(L$22>=$H28,MOD($H28-L$22,$I28)=0),$G28,0))) -> 0 | M28: =IF($G28="Invoer",0,IF($G28=0,0,IF(AND(M$22>=$H28,MOD($H28-M$22,$I28)=0),$G28,0))) -> 0 | N28: =IF($G28="Invoer",0,IF($G28=0,0,IF(AND(N$22>=$H28,MOD($H28-N$22,$I28)=0),$G28,0))) -> 0 | O28: =IF($G28="Invoer",0,IF($G28=0,0,IF(AND(O$22>=$H28,MOD($H28-O$22,$I28)=0),$G28,0))) -> 0 | P28: =IF($G28="Invoer",0,IF($G28=0,0,IF(AND(P$22>=$H28,MOD($H28-P$22,$I28)=0),$G28,0))) -> 0 | Q28: =IF($G28="Invoer",0,IF($G28=0,0,IF(AND(Q$22>=$H28,MOD($H28-Q$22,$I28)=0),$G28,0))) -> 0 | R28: =IF($G28="Invoer",0,IF($G28=0,0,IF(AND(R$22>=$H28,MOD($H28-R$22,$I28)=0),$G28,0))) -> 0 | ... T28: =IF($G28="Invoer",0,IF($G28=0,0,IF(AND(T$22>=$H28,MOD($H28-T$22,$I28)=0),$G28,0))) -> 0 | U28: =IF(E28>4,1,0) -> 0
B29: 205 | C29: Accupakket noodevacuatie | D29: Nee | G29: 0 | J29: 4000 | K29: =IF($G29="Invoer",0,IF($G29=0,0,IF(AND(K$22>=$H29,MOD($H29-K$22,$I29)=0),$G29,0))) -> 0 | L29: =IF($G29="Invoer",0,IF($G29=0,0,IF(AND(L$22>=$H29,MOD($H29-L$22,$I29)=0),$G29,0))) -> 0 | M29: =IF($G29="Invoer",0,IF($G29=0,0,IF(AND(M$22>=$H29,MOD($H29-M$22,$I29)=0),$G29,0))) -> 0 | N29: =IF($G29="Invoer",0,IF($G29=0,0,IF(AND(N$22>=$H29,MOD($H29-N$22,$I29)=0),$G29,0))) -> 0 | O29: =IF($G29="Invoer",0,IF($G29=0,0,IF(AND(O$22>=$H29,MOD($H29-O$22,$I29)=0),$G29,0))) -> 0 | P29: =IF($G29="Invoer",0,IF($G29=0,0,IF(AND(P$22>=$H29,MOD($H29-P$22,$I29)=0),$G29,0))) -> 0 | Q29: =IF($G29="Invoer",0,IF($G29=0,0,IF(AND(Q$22>=$H29,MOD($H29-Q$22,$I29)=0),$G29,0))) -> 0 | R29: =IF($G29="Invoer",0,IF($G29=0,0,IF(AND(R$22>=$H29,MOD($H29-R$22,$I29)=0),$G29,0))) -> 0 | ... T29: =IF($G29="Invoer",0,IF($G29=0,0,IF(AND(T$22>=$H29,MOD($H29-T$22,$I29)=0),$G29,0))) -> 0 | U29: =IF(E29>4,1,0) -> 0
B30: 206 | C30: Analoge rittenteller | D30: Nee | G30: 0 | J30: 250 | K30: =IF($G30="Invoer",0,IF($G30=0,0,IF(AND(K$22>=$H30,MOD($H30-K$22,$I30)=0),$G30,0))) -> 0 | L30: =IF($G30="Invoer",0,IF($G30=0,0,IF(AND(L$22>=$H30,MOD($H30-L$22,$I30)=0),$G30,0))) -> 0 | M30: =IF($G30="Invoer",0,IF($G30=0,0,IF(AND(M$22>=$H30,MOD($H30-M$22,$I30)=0),$G30,0))) -> 0 | N30: =IF($G30="Invoer",0,IF($G30=0,0,IF(AND(N$22>=$H30,MOD($H30-N$22,$I30)=0),$G30,0))) -> 0 | O30: =IF($G30="Invoer",0,IF($G30=0,0,IF(AND(O$22>=$H30,MOD($H30-O$22,$I30)=0),$G30,0))) -> 0 | P30: =IF($G30="Invoer",0,IF($G30=0,0,IF(AND(P$22>=$H30,MOD($H30-P$22,$I30)=0),$G30,0))) -> 0 | Q30: =IF($G30="Invoer",0,IF($G30=0,0,IF(AND(Q$22>=$H30,MOD($H30-Q$22,$I30)=0),$G30,0))) -> 0 | R30: =IF($G30="Invoer",0,IF($G30=0,0,IF(AND(R$22>=$H30,MOD($H30-R$22,$I30)=0),$G30,0))) -> 0 | ... T30: =IF($G30="Invoer",0,IF($G30=0,0,IF(AND(T$22>=$H30,MOD($H30-T$22,$I30)=0),$G30,0))) -> 0
G31: 0 | K31: =IF($G31="Invoer",0,IF($G31=0,0,IF(AND(K$22>=$H31,MOD($H31-K$22,$I31)=0),$G31,0))) -> 0 | L31: =IF($G31="Invoer",0,IF($G31=0,0,IF(AND(L$22>=$H31,MOD($H31-L$22,$I31)=0),$G31,0))) -> 0 | M31: =IF($G31="Invoer",0,IF($G31=0,0,IF(AND(M$22>=$H31,MOD($H31-M$22,$I31)=0),$G31,0))) -> 0 | N31: =IF($G31="Invoer",0,IF($G31=0,0,IF(AND(N$22>=$H31,MOD($H31-N$22,$I31)=0),$G31,0))) -> 0 | O31: =IF($G31="Invoer",0,IF($G31=0,0,IF(AND(O$22>=$H31,MOD($H31-O$22,$I31)=0),$G31,0))) -> 0 | P31: =IF($G31="Invoer",0,IF($G31=0,0,IF(AND(P$22>=$H31,MOD($H31-P$22,$I31)=0),$G31,0))) -> 0 | Q31: =IF($G31="Invoer",0,IF($G31=0,0,IF(AND(Q$22>=$H31,MOD($H31-Q$22,$I31)=0),$G31,0))) -> 0 | R31: =IF($G31="Invoer",0,IF($G31=0,0,IF(AND(R$22>=$H31,MOD($H31-R$22,$I31)=0),$G31,0))) -> 0 | ... T31: =IF($G31="Invoer",0,IF($G31=0,0,IF(AND(T$22>=$H31,MOD($H31-T$22,$I31)=0),$G31,0))) -> 0 | U31: =IF(E31>4,1,0) -> 0
B33: Deuren
B34: 300 | C34: Handbewogen deur | D34: N.v.t. | G34: 0 | J34: 50000 | K34: =IF($G34="Invoer",0,IF($G34=0,0,IF(AND(K$22>=$H34,MOD($H34-K$22,$I34)=0),$G34,0))) -> 0 | L34: =IF($G34="Invoer",0,IF($G34=0,0,IF(AND(L$22>=$H34,MOD($H34-L$22,$I34)=0),$G34,0))) -> 0 | M34: =IF($G34="Invoer",0,IF($G34=0,0,IF(AND(M$22>=$H34,MOD($H34-M$22,$I34)=0),$G34,0))) -> 0 | N34: =IF($G34="Invoer",0,IF($G34=0,0,IF(AND(N$22>=$H34,MOD($H34-N$22,$I34)=0),$G34,0))) -> 0 | O34: =IF($G34="Invoer",0,IF($G34=0,0,IF(AND(O$22>=$H34,MOD($H34-O$22,$I34)=0),$G34,0))) -> 0 | P34: =IF($G34="Invoer",0,IF($G34=0,0,IF(AND(P$22>=$H34,MOD($H34-P$22,$I34)=0),$G34,0))) -> 0 | Q34: =IF($G34="Invoer",0,IF($G34=0,0,IF(AND(Q$22>=$H34,MOD($H34-Q$22,$I34)=0),$G34,0))) -> 0 | R34: =IF($G34="Invoer",0,IF($G34=0,0,IF(AND(R$22>=$H34,MOD($H34-R$22,$I34)=0),$G34,0))) -> 0 | ... T34: =IF($G34="Invoer",0,IF($G34=0,0,IF(AND(T$22>=$H34,MOD($H34-T$22,$I34)=0),$G34,0))) -> 0 | U34: =IF(E34>4,1,0) -> 0
B35: 301 | C35: Aanvullende opmerking deuren | G35: 0 | J35: 1500 | K35: =IF($G35="Invoer",0,IF($G35=0,0,IF(AND(K$22>=$H35,MOD($H35-K$22,$I35)=0),$G35,0))) -> 0 | L35: =IF($G35="Invoer",0,IF($G35=0,0,IF(AND(L$22>=$H35,MOD($H35-L$22,$I35)=0),$G35,0))) -> 0 | M35: =IF($G35="Invoer",0,IF($G35=0,0,IF(AND(M$22>=$H35,MOD($H35-M$22,$I35)=0),$G35,0))) -> 0 | N35: =IF($G35="Invoer",0,IF($G35=0,0,IF(AND(N$22>=$H35,MOD($H35-N$22,$I35)=0),$G35,0))) -> 0 | O35: =IF($G35="Invoer",0,IF($G35=0,0,IF(AND(O$22>=$H35,MOD($H35-O$22,$I35)=0),$G35,0))) -> 0 | P35: =IF($G35="Invoer",0,IF($G35=0,0,IF(AND(P$22>=$H35,MOD($H35-P$22,$I35)=0),$G35,0))) -> 0 | Q35: =IF($G35="Invoer",0,IF($G35=0,0,IF(AND(Q$22>=$H35,MOD($H35-Q$22,$I35)=0),$G35,0))) -> 0 | R35: =IF($G35="Invoer",0,IF($G35=0,0,IF(AND(R$22>=$H35,MOD($H35-R$22,$I35)=0),$G35,0))) -> 0 | ... T35: =IF($G35="Invoer",0,IF($G35=0,0,IF(AND(T$22>=$H35,MOD($H35-T$22,$I35)=0),$G35,0))) -> 0 | U35: =IF(E35>4,1,0) -> 0
B36: 302 | C36: Automatische cabinedeur | D36: ThysenKrupp 2 delig telescoop | E36: 2 | F36: 2006 | G36: Invoer | H36: 2031 | I36: 25 | J36: 6500 | K36: =IF($G36="Invoer",0,IF($G36=0,0,IF(AND(K$22>=$H36,MOD($H36-K$22,$I36)=0),$G36,0))) -> 0 | L36: =IF($G36="Invoer",0,IF($G36=0,0,IF(AND(L$22>=$H36,MOD($H36-L$22,$I36)=0),$G36,0))) -> 0 | M36: =IF($G36="Invoer",0,IF($G36=0,0,IF(AND(M$22>=$H36,MOD($H36-M$22,$I36)=0),$G36,0))) -> 0 | N36: =IF($G36="Invoer",0,IF($G36=0,0,IF(AND(N$22>=$H36,MOD($H36-N$22,$I36)=0),$G36,0))) -> 0 | O36: =IF($G36="Invoer",0,IF($G36=0,0,IF(AND(O$22>=$H36,MOD($H36-O$22,$I36)=0),$G36,0))) -> 0 | P36: =IF($G36="Invoer",0,IF($G36=0,0,IF(AND(P$22>=$H36,MOD($H36-P$22,$I36)=0),$G36,0))) -> 0 | Q36: =IF($G36="Invoer",0,IF($G36=0,0,IF(AND(Q$22>=$H36,MOD($H36-Q$22,$I36)=0),$G36,0))) -> 0 | R36: =IF($G36="Invoer",0,IF($G36=0,0,IF(AND(R$22>=$H36,MOD($H36-R$22,$I36)=0),$G36,0))) -> 0 | ... T36: =IF($G36="Invoer",0,IF($G36=0,0,IF(AND(T$22>=$H36,MOD($H36-T$22,$I36)=0),$G36,0))) -> 0 | U36: =IF(E36>4,1,0) -> 0
B37: 303 | C37: Aanvullende opmerking deuren | D37: Radar boven in dagstuk | E37: 3 | F37: 2008 | G37: Invoer | H37: 2026 | I37: 15 | K37: =IF($G37="Invoer",0,IF($G37=0,0,IF(AND(K$22>=$H37,MOD($H37-K$22,$I37)=0),$G37,0))) -> 0 | L37: =IF($G37="Invoer",0,IF($G37=0,0,IF(AND(L$22>=$H37,MOD($H37-L$22,$I37)=0),$G37,0))) -> 0 | M37: =IF($G37="Invoer",0,IF($G37=0,0,IF(AND(M$22>=$H37,MOD($H37-M$22,$I37)=0),$G37,0))) -> 0 | N37: =IF($G37="Invoer",0,IF($G37=0,0,IF(AND(N$22>=$H37,MOD($H37-N$22,$I37)=0),$G37,0))) -> 0 | O37: =IF($G37="Invoer",0,IF($G37=0,0,IF(AND(O$22>=$H37,MOD($H37-O$22,$I37)=0),$G37,0))) -> 0 | P37: =IF($G37="Invoer",0,IF($G37=0,0,IF(AND(P$22>=$H37,MOD($H37-P$22,$I37)=0),$G37,0))) -> 0 | Q37: =IF($G37="Invoer",0,IF($G37=0,0,IF(AND(Q$22>=$H37,MOD($H37-Q$22,$I37)=0),$G37,0))) -> 0 | R37: =IF($G37="Invoer",0,IF($G37=0,0,IF(AND(R$22>=$H37,MOD($H37-R$22,$I37)=0),$G37,0))) -> 0 | ... T37: =IF($G37="Invoer",0,IF($G37=0,0,IF(AND(T$22>=$H37,MOD($H37-T$22,$I37)=0),$G37,0))) -> 0 | U37: =IF(E37>4,1,0) -> 0
B38: 304 | C38: Automatische schachtdeuren | D38: ThysenKrupp 2 delig telescoop | E38: 3 | F38: 2006 | G38: 0 | H38: 2036 | I38: 25 | J38: 35000 | K38: =IF($G38="Invoer",0,IF($G38=0,0,IF(AND(K$22>=$H38,MOD($H38-K$22,$I38)=0),$G38,0))) -> 0 | L38: =IF($G38="Invoer",0,IF($G38=0,0,IF(AND(L$22>=$H38,MOD($H38-L$22,$I38)=0),$G38,0))) -> 0 | M38: =IF($G38="Invoer",0,IF($G38=0,0,IF(AND(M$22>=$H38,MOD($H38-M$22,$I38)=0),$G38,0))) -> 0 | N38: =IF($G38="Invoer",0,IF($G38=0,0,IF(AND(N$22>=$H38,MOD($H38-N$22,$I38)=0),$G38,0))) -> 0 | O38: =IF($G38="Invoer",0,IF($G38=0,0,IF(AND(O$22>=$H38,MOD($H38-O$22,$I38)=0),$G38,0))) -> 0 | P38: =IF($G38="Invoer",0,IF($G38=0,0,IF(AND(P$22>=$H38,MOD($H38-P$22,$I38)=0),$G38,0))) -> 0 | Q38: =IF($G38="Invoer",0,IF($G38=0,0,IF(AND(Q$22>=$H38,MOD($H38-Q$22,$I38)=0),$G38,0))) -> 0 | R38: =IF($G38="Invoer",0,IF($G38=0,0,IF(AND(R$22>=$H38,MOD($H38-R$22,$I38)=0),$G38,0))) -> 0 | ... T38: =IF($G38="Invoer",0,IF($G38=0,0,IF(AND(T$22>=$H38,MOD($H38-T$22,$I38)=0),$G38,0))) -> 0 | U38: =IF(E38>4,1,0) -> 0
B39: 305 | C39: Aanvullende opmerking deuren | G39: 0 | K39: =IF($G39="Invoer",0,IF($G39=0,0,IF(AND(K$22>=$H39,MOD($H39-K$22,$I39)=0),$G39,0))) -> 0 | L39: =IF($G39="Invoer",0,IF($G39=0,0,IF(AND(L$22>=$H39,MOD($H39-L$22,$I39)=0),$G39,0))) -> 0 | M39: =IF($G39="Invoer",0,IF($G39=0,0,IF(AND(M$22>=$H39,MOD($H39-M$22,$I39)=0),$G39,0))) -> 0 | N39: =IF($G39="Invoer",0,IF($G39=0,0,IF(AND(N$22>=$H39,MOD($H39-N$22,$I39)=0),$G39,0))) -> 0 | O39: =IF($G39="Invoer",0,IF($G39=0,0,IF(AND(O$22>=$H39,MOD($H39-O$22,$I39)=0),$G39,0))) -> 0 | P39: =IF($G39="Invoer",0,IF($G39=0,0,IF(AND(P$22>=$H39,MOD($H39-P$22,$I39)=0),$G39,0))) -> 0 | Q39: =IF($G39="Invoer",0,IF($G39=0,0,IF(AND(Q$22>=$H39,MOD($H39-Q$22,$I39)=0),$G39,0))) -> 0 | R39: =IF($G39="Invoer",0,IF($G39=0,0,IF(AND(R$22>=$H39,MOD($H39-R$22,$I39)=0),$G39,0))) -> 0 | ... T39: =IF($G39="Invoer",0,IF($G39=0,0,IF(AND(T$22>=$H39,MOD($H39-T$22,$I39)=0),$G39,0))) -> 0 | U39: =IF(E39>4,1,0) -> 0
B40: 313 | C40: Anti-vandaal uitvoering gewenst | D40: N.v.t. | G40: 0 | J40: 10000 | K40: =IF($G40="Invoer",0,IF($G40=0,0,IF(AND(K$22>=$H40,MOD($H40-K$22,$I40)=0),$G40,0))) -> 0 | L40: =IF($G40="Invoer",0,IF($G40=0,0,IF(AND(L$22>=$H40,MOD($H40-L$22,$I40)=0),$G40,0))) -> 0 | M40: =IF($G40="Invoer",0,IF($G40=0,0,IF(AND(M$22>=$H40,MOD($H40-M$22,$I40)=0),$G40,0))) -> 0 | N40: =IF($G40="Invoer",0,IF($G40=0,0,IF(AND(N$22>=$H40,MOD($H40-N$22,$I40)=0),$G40,0))) -> 0 | O40: =IF($G40="Invoer",0,IF($G40=0,0,IF(AND(O$22>=$H40,MOD($H40-O$22,$I40)=0),$G40,0))) -> 0 | P40: =IF($G40="Invoer",0,IF($G40=0,0,IF(AND(P$22>=$H40,MOD($H40-P$22,$I40)=0),$G40,0))) -> 0 | Q40: =IF($G40="Invoer",0,IF($G40=0,0,IF(AND(Q$22>=$H40,MOD($H40-Q$22,$I40)=0),$G40,0))) -> 0 | R40: =IF($G40="Invoer",0,IF($G40=0,0,IF(AND(R$22>=$H40,MOD($H40-R$22,$I40)=0),$G40,0))) -> 0 | ... T40: =IF($G40="Invoer",0,IF($G40=0,0,IF(AND(T$22>=$H40,MOD($H40-T$22,$I40)=0),$G40,0))) -> 0
B41: 306 | C41: Deurrevisie uitgebreid | D41: N.v.t. | G41: 0 | J41: 16500 | K41: =IF($G41="Invoer",0,IF($G41=0,0,IF(AND(K$22>=$H41,MOD($H41-K$22,$I41)=0),$G41,0))) -> 0 | L41: =IF($G41="Invoer",0,IF($G41=0,0,IF(AND(L$22>=$H41,MOD($H41-L$22,$I41)=0),$G41,0))) -> 0 | M41: =IF($G41="Invoer",0,IF($G41=0,0,IF(AND(M$22>=$H41,MOD($H41-M$22,$I41)=0),$G41,0))) -> 0 | N41: =IF($G41="Invoer",0,IF($G41=0,0,IF(AND(N$22>=$H41,MOD($H41-N$22,$I41)=0),$G41,0))) -> 0 | O41: =IF($G41="Invoer",0,IF($G41=0,0,IF(AND(O$22>=$H41,MOD($H41-O$22,$I41)=0),$G41,0))) -> 0 | P41: =IF($G41="Invoer",0,IF($G41=0,0,IF(AND(P$22>=$H41,MOD($H41-P$22,$I41)=0),$G41,0))) -> 0 | Q41: =IF($G41="Invoer",0,IF($G41=0,0,IF(AND(Q$22>=$H41,MOD($H41-Q$22,$I41)=0),$G41,0))) -> 0 | R41: =IF($G41="Invoer",0,IF($G41=0,0,IF(AND(R$22>=$H41,MOD($H41-R$22,$I41)=0),$G41,0))) -> 0 | ... T41: =IF($G41="Invoer",0,IF($G41=0,0,IF(AND(T$22>=$H41,MOD($H41-T$22,$I41)=0),$G41,0))) -> 0 | U41: =IF(E41>4,1,0) -> 0
...

Sheet 3
B1: 3 | C1: Terug | D1: Terug
B2: Code | C2: Omschrijving
B3: 100 | C3: Liftadres | D3: Media Parkboulevard 1 | E3: Hilversum | G3: 1217 WE
B4: 101 | C4: Complexaanduiding | D4: Beeld en Geluid | E4: Lift 3 kantoren
B5: 102 | C5: Dossiernummer keurende instantie | D5: TUV6034
B6: 103 | C6: AFAS relatienummer | D6: 10167 | E6: tab | F6: 3 | G6: 10167-3
B7: 104 | C7: Bouwjaar | D7: 2005
B8: 105 | C8: Vervaardigingsnorm | D8: NEN-EN 81-1
B9: 106 | C9: Type lift: tractie/hydraulisch/machinerichtlijn | D9: Tractie MKL
B10: 107 | C10: Type-aanduiding | D10: ThyssenKrupp Universe
B11: 108 | C11: Hefvermogen (kg) | D11: 1000 | K11: Laatste wijziging: | M11: 44991
B12: 109 | C12: Brandweerlift | D12: Ja | K12: Gewijzigd door: | M12: IN
B13: 110 | C13: Brancardlift | D13: Ja | K13: Vervaldatum: | M13: =M11+1095 -> 46086
B14: 111 | C14: Doel van de lift: personen/goederen | D14: Personenlift
B15: 112 | C15: Gebruiksintensiteit | D15: Gemiddelde gebruiksintensiteit | E15: Middel | F15: =IF(R20=0,0,R20) -> 0 | G15: Ritten per dag
B16: 113 | C16: Aantal schachttoegangen | D16: 13
B17: 114 | C17: Aantal stopplaatsen | D17: 13 | R17: =CONCATENATE("01-01-",F24) -> 01-01-2005
B18: 115 | C18: Aantal kooitoegangen | D18: 1 | K18: Datum: | R18: =IF(Q18>0,Q18-P18,IF(P18>0,P18-O18,IF(O18>0,O18-N18,IF(N18>0,N18-M18,IF(M18>0,M18-R17))))) -> FALSE
B19: 116 | C19: Beleidscategorie: A,B of C | D19: B | K19: Rittenstand: | M19: n.a.w. | N19: 0 | R19: =IF(Q19>0,Q19-P19,IF(P19>0,P19-O19,IF(O19>0,O19-N19,IF(N19>0,N19-M19,M19)))) -> n.a.w.
R20: =IFERROR(R19/R18,0) -> 0
R21: =IF(Q19>0,Q19,IF(P19>0,P19,IF(O19>0,O19,IF(N19>0,N19,M19)))) -> n.a.w.
E22: Conditie | F22: Bouwjaar | G22: Bedrag | H22: Startjaar | I22: Cyclus | K22: 2024 | L22: =K22+1 -> 2025 | M22: =L22+1 -> 2026 | N22: =M22+1 -> 2027 | O22: =N22+1 -> 2028 | P22: =O22+1 -> 2029 | Q22: =P22+1 -> 2030 | R22: =Q22+1 -> 2031 | S22: =R22+1 -> 2032 | T22: =S22+1 -> 2033
B23: Besturing
B24: 200 | C24: Besturingstype | D24: ThyssenKrupp MCI | E24: 4 | F24: 2005 | G24: Invoer | H24: 2025 | I24: 20 | J24: 16000 | K24: =IF($G24="Invoer",0,IF($G24=0,0,IF(AND(K$22>=$H24,MOD($H24-K$22,$I24)=0),$G24,0))) -> 0 | L24: =IF($G24="Invoer",0,IF($G24=0,0,IF(AND(L$22>=$H24,MOD($H24-L$22,$I24)=0),$G24,0))) -> 0 | M24: =IF($G24="Invoer",0,IF($G24=0,0,IF(AND(M$22>=$H24,MOD($H24-M$22,$I24)=0),$G24,0))) -> 0 | N24: =IF($G24="Invoer",0,IF($G24=0,0,IF(AND(N$22>=$H24,MOD($H24-N$22,$I24)=0),$G24,0))) -> 0 | O24: =IF($G24="Invoer",0,IF($G24=0,0,IF(AND(O$22>=$H24,MOD($H24-O$22,$I24)=0),$G24,0))) -> 0 | P24: =IF($G24="Invoer",0,IF($G24=0,0,IF(AND(P$22>=$H24,MOD($H24-P$22,$I24)=0),$G24,0))) -> 0 | Q24: =IF($G24="Invoer",0,IF($G24=0,0,IF(AND(Q$22>=$H24,MOD($H24-Q$22,$I24)=0),$G24,0))) -> 0 | R24: =IF($G24="Invoer",0,IF($G24=0,0,IF(AND(R$22>=$H24,MOD($H24-R$22,$I24)=0),$G24,0))) -> 0 | ... T24: =IF($G24="Invoer",0,IF($G24=0,0,IF(AND(T$22>=$H24,MOD($H24-T$22,$I24)=0),$G24,0))) -> 0 | U24: =IF(E24>4,1,0) -> 0
B25: 201 | C25: Aanvullende opmerking besturing | G25: 0 | K25: =IF($G25="Invoer",0,IF($G25=0,0,IF(AND(K$22>=$H25,MOD($H25-K$22,$I25)=0),$G25,0))) -> 0 | L25: =IF($G25="Invoer",0,IF($G25=0,0,IF(AND(L$22>=$H25,MOD($H25-L$22,$I25)=0),$G25,0))) -> 0 | M25: =IF($G25="Invoer",0,IF($G25=0,0,IF(AND(M$22>=$H25,MOD($H25-M$22,$I25)=0),$G25,0))) -> 0 | N25: =IF($G25="Invoer",0,IF($G25=0,0,IF(AND(N$22>=$H25,MOD($H25-N$22,$I25)=0),$G25,0))) -> 0 | O25: =IF($G25="Invoer",0,IF($G25=0,0,IF(AND(O$22>=$H25,MOD($H25-O$22,$I25)=0),$G25,0))) -> 0 | P25: =IF($G25="Invoer",0,IF($G25=0,0,IF(AND(P$22>=$H25,MOD($H25-P$22,$I25)=0),$G25,0))) -> 0 | Q25: =IF($G25="Invoer",0,IF($G25=0,0,IF(AND(Q$22>=$H25,MOD($H25-Q$22,$I25)=0),$G25,0))) -> 0 | R25: =IF($G25="Invoer",0,IF($G25=0,0,IF(AND(R$22>=$H25,MOD($H25-R$22,$I25)=0),$G25,0))) -> 0 | ... T25: =IF($G25="Invoer",0,IF($G25=0,0,IF(AND(T$22>=$H25,MOD($H25-T$22,$I25)=0),$G25,0))) -> 0 | U25: =IF(E25>4,1,0) -> 0
