Workbook
Name ___INDEX_SHEET___ASAP_Utilities: #REF!
Name __xlnm._FilterDatabase_1: #REF!
Name __xlnm._FilterDatabase_1: #REF!
Name __xlnm._FilterDatabase_1_1: #REF!
Name __xlnm._FilterDatabase_1_1: #REF!
Name __xlnm._FilterDatabase_10: #REF!
Name __xlnm._FilterDatabase_10: #REF!
Name __xlnm._FilterDatabase_11: #REF!
Name __xlnm._FilterDatabase_12: #REF!
Name __xlnm._FilterDatabase_13: #REF!
Name __xlnm._FilterDatabase_14: #REF!
Name __xlnm._FilterDatabase_15: #REF!
Name __xlnm._FilterDatabase_16: #REF!
Name __xlnm._FilterDatabase_17: #REF!
Name __xlnm._FilterDatabase_18: #REF!
Name __xlnm._FilterDatabase_19: #REF!
Name __xlnm._FilterDatabase_2: #REF!
Name __xlnm._FilterDatabase_20: #REF!
Name __xlnm._FilterDatabase_21: #REF!
Name __xlnm._FilterDatabase_22: #REF!
Name __xlnm._FilterDatabase_23: #REF!
Name __xlnm._FilterDatabase_24: #REF!
Name __xlnm._FilterDatabase_25: #REF!
Name __xlnm._FilterDatabase_26: #REF!
Name __xlnm._FilterDatabase_27: #REF!
Name __xlnm._FilterDatabase_28: #REF!
Name __xlnm._FilterDatabase_29: #REF!
Name __xlnm._FilterDatabase_3: #REF!
Name __xlnm._FilterDatabase_30: #REF!
Name __xlnm._FilterDatabase_31: #REF!
Name __xlnm._FilterDatabase_32: #REF!
Name __xlnm._FilterDatabase_33: #REF!
Name __xlnm._FilterDatabase_34: #REF!
Name __xlnm._FilterDatabase_35: #REF!
Name __xlnm._FilterDatabase_36: #REF!
Name __xlnm._FilterDatabase_37: #REF!
Name __xlnm._FilterDatabase_38: #REF!
Name __xlnm._FilterDatabase_39: #REF!
Name __xlnm._FilterDatabase_4: #REF!
Name __xlnm._FilterDatabase_40: #REF!
Name __xlnm._FilterDatabase_41: #REF!
Name __xlnm._FilterDatabase_42: #REF!
Name __xlnm._FilterDatabase_43: #REF!
Name __xlnm._FilterDatabase_44: #REF!
Name __xlnm._FilterDatabase_45: #REF!
Name __xlnm._FilterDatabase_46: #REF!
Name __xlnm._FilterDatabase_47: #REF!
Name __xlnm._FilterDatabase_48: #REF!
Name __xlnm._FilterDatabase_49: #REF!
Name __xlnm._FilterDatabase_5: #REF!
Name __xlnm._FilterDatabase_50: #REF!
Name __xlnm._FilterDatabase_51: #REF!
Name __xlnm._FilterDatabase_52: #REF!
Name __xlnm._FilterDatabase_53: #REF!
Name __xlnm._FilterDatabase_54: #REF!
Name __xlnm._FilterDatabase_55: #REF!
Name __xlnm._FilterDatabase_56: #REF!
Name __xlnm._FilterDatabase_57: #REF!
Name __xlnm._FilterDatabase_58: #REF!
Name __xlnm._FilterDatabase_59: #REF!

Sheet 6
C1: Terug | D1: Terug
B2: Code | C2: Omschrijving
B3: 100 | C3: Liftadres | D3: Media Parkboulevard 1 | E3: Hilversum | G3: 1217 WE
B4: 101 | C4: Complexaanduiding | D4: Beeld en Geluid | E4: Lift 8 parkeergarage
B5: 102 | C5: Dossiernummer keurende instantie | D5: TUV6038
B6: 103 | C6: AFAS relatienummer | D6: 10167 | E6: tab | F6: 8 | G6: 10167-8
B7: 104 | C7: Bouwjaar | D7: 2005
B8: 105 | C8: Vervaardigingsnorm | D8: NEN-EN 81-1
B9: 106 | C9: Type lift: tractie/hydraulisch/machinerichtlijn | D9: Tractie
B10: 107 | C10: Type-aanduiding | D10: ThyssenKrupp Tasa
B11: 108 | C11: Hefvermogen (kg) | D11: 630 | K11: Laatste wijziging: | M11: 44991
B12: 109 | C12: Brandweerlift | D12: Nee | K12: Gewijzigd door: | M12: IN
B13: 110 | C13: Brancardlift | D13: Nee | K13: Vervaldatum: | M13: =M11+1095 -> 46086
B14: 111 | C14: Doel van de lift: personen/goederen | D14: Personenlift
B15: 112 | C15: Gebruiksintensiteit | D15: Lage gebruiksintensiteit | E15: =IF(R20=0,0,IF(R20<201,"Laag",IF(AND(R20>201,R20<500),"Middel","Hoog"))) -> Laag | F15: =IF(R20=0,0,R20) -> 58.038583 | G15: Ritten per dag
B16: 113 | C16: Aantal schachttoegangen | D16: 4
B17: 114 | C17: Aantal stopplaatsen | D17: 4 | R17: =CONCATENATE("01-01-",F24) -> 01-01-2005
B18: 115 | C18: Aantal kooitoegangen | D18: 2 | K18: Datum: | M18: 39038 | N18: 43807 | R18: =IF(Q18>0,Q18-P18,IF(P18>0,P18-O18,IF(O18>0,O18-N18,IF(N18>0,N18-M18,IF(M18>0,M18-R17))))) -> 4769
B19: 116 | C19: Beleidscategorie: A,B of C | D19: B | K19: Rittenstand: | M19: 0 | N19: 276786 | R19: =IF(Q19>0,Q19-P19,IF(P19>0,P19-O19,IF(O19>0,O19-N19,IF(N19>0,N19-M19,M19)))) -> 276786
R20: =IFERROR(R19/R18,0) -> 58.038583
R21: =IF(Q19>0,Q19,IF(P19>0,P19,IF(O19>0,O19,IF(N19>0,N19,M19)))) -> 276786
E22: Conditie | F22: Bouwjaar | G22: Bedrag | H22: Startjaar | I22: Cyclus | K22: 2024 | L22: =K22+1 -> 2025 | M22: =L22+1 -> 2026 | N22: =M22+1 -> 2027 | O22: =N22+1 -> 2028 | P22: =O22+1 -> 2029 | Q22: =P22+1 -> 2030 | R22: =Q22+1 -> 2031 | S22: =R22+1 -> 2032 | T22: =S22+1 -> 2033
B23: Besturing
B24: 200 | C24: Besturingstype | D24: ThyssenKrupp MCI | E24: 3 | F24: 2005 | G24: Invoer | H24: 2026 | I24: 20 | J24: 11130 | K24: =IF($G24="Invoer",0,IF($G24=0,0,IF(AND(K$22>=$H24,MOD($H24-K$22,$I24)=0),$G24,0))) -> 0 | L24: =IF($G24="Invoer",0,IF($G24=0,0,IF(AND(L$22>=$H24,MOD($H24-L$22,$I24)=0),$G24,0))) -> 0 | M24: =IF($G24="Invoer",0,IF($G24=0,0,IF(AND(M$22>=$H24,MOD($H24-M$22,$I24)=0),$G24,0))) -> 0 | N24: =IF($G24="Invoer",0,IF($G24=0,0,IF(AND(N$22>=$H24,MOD($H24-N$22,$I24)=0),$G24,0))) -> 0 | O24: =IF($G24="Invoer",0,IF($G24=0,0,IF(AND(O$22>=$H24,MOD($H24-O$22,$I24)=0),$G24,0))) -> 0 | P24: =IF($G24="Invoer",0,IF($G24=0,0,IF(AND(P$22>=$H24,MOD($H24-P$22,$I24)=0),$G24,0))) -> 0 | Q24: =IF($G24="Invoer",0,IF($G24=0,0,IF(AND(Q$22>=$H24,MOD($H24-Q$22,$I24)=0),$G24,0))) -> 0 | R24: =IF($G24="Invoer",0,IF($G24=0,0,IF(AND(R$22>=$H24,MOD($H24-R$22,$I24)=0),$G24,0))) -> 0 | ... T24: =IF($G24="Invoer",0,IF($G24=0,0,IF(AND(T$22>=$H24,MOD($H24-T$22,$I24)=0),$G24,0))) -> 0 | U24: =IF(E24>4,1,0) -> 0
B25: 201 | C25: Aanvullende opmerking besturing | G25: 0 | K25: =IF($G25="Invoer",0,IF($G25=0,0,IF(AND(K$22>=$H25,MOD($H25-K$22,$I25)=0),$G25,0))) -> 0 | L25: =IF($G25="Invoer",0,IF($G25=0,0,IF(AND(L$22>=$H25,MOD($H25-L$22,$I25)=0),$G25,0))) -> 0 | M25: =IF($G25="Invoer",0,IF($G25=0,0,IF(AND(M$22>=$H25,MOD($H25-M$22,$I25)=0),$G25,0))) -> 0 | N25: =IF($G25="Invoer",0,IF($G25=0,0,IF(AND(N$22>=$H25,MOD($H25-N$22,$I25)=0),$G25,0))) -> 0 | O25: =IF($G25="Invoer",0,IF($G25=0,0,IF(AND(O$22>=$H25,MOD($H25-O$22,$I25)=0),$G25,0))) -> 0 | P25: =IF($G25="Invoer",0,IF($G25=0,0,IF(AND(P$22>=$H25,MOD($H25-P$22,$I25)=0),$G25,0))) -> 0 | Q25: =IF($G25="Invoer",0,IF($G25=0,0,IF(AND(Q$22>=$H25,MOD($H25-Q$22,$I25)=0),$G25,0))) -> 0 | R25: =IF($G25="Invoer",0,IF($G25=0,0,IF(AND(R$22>=$H25,MOD($H25-R$22,$I25)=0),$G25,0))) -> 0 | ... T25: =IF($G25="Invoer",0,IF($G25=0,0,IF(AND(T$22>=$H25,MOD($H25-T$22,$I25)=0),$G25,0))) -> 0 | U25: =IF(E25>4,1,0) -> 0
B26: 202 | C26: Encoder | D26: Ja | E26: 3 | F26: 2005 | G26: Invoer | H26: 2026 | I26: 20 | J26: 1300 | K26: =IF($G26="Invoer",0,IF($G26=0,0,IF(AND(K$22>=$H26,MOD($H26-K$22,$I26)=0),$G26,0))) -> 0 | L26: =IF($G26="Invoer",0,IF($G26=0,0,IF(AND(L$22>=$H26,MOD($H26-L$22,$I26)=0),$G26,0))) -> 0 | M26: =IF($G26="Invoer",0,IF($G26=0,0,IF(AND(M$22>=$H26,MOD($H26-M$22,$I26)=0),$G26,0))) -> 0 | N26: =IF($G26="Invoer",0,IF($G26=0,0,IF(AND(N$22>=$H26,MOD($H26-N$22,$I26)=0),$G26,0))) -> 0 | O26: =IF($G26="Invoer",0,IF($G26=0,0,IF(AND(O$22>=$H26,MOD($H26-O$22,$I26)=0),$G26,0))) -> 0 | P26: =IF($G26="Invoer",0,IF($G26=0,0,IF(AND(P$22>=$H26,MOD($H26-P$22,$I26)=0),$G26,0))) -> 0 | Q26: =IF($G26="Invoer",0,IF($G26=0,0,IF(AND(Q$22>=$H26,MOD($H26-Q$22,$I26)=0),$G26,0))) -> 0 | R26: =IF($G26="Invoer",0,IF($G26=0,0,IF(AND(R$22>=$H26,MOD($H26-R$22,$I26)=0),$G26,0))) -> 0 | ... T26: =IF($G26="Invoer",0,IF($G26=0,0,IF(AND(T$22>=$H26,MOD($H26-T$22,$I26)=0),$G26,0))) -> 0 | U26: =IF(E26>4,1,0) -> 0
B27: 203 | C27: Hoofdstroomrelais | D27: Telemecanique | E27: 3 | F27: 2019 | G27: Invoer | H27: 2026 | I27: 10 | J27: 1530 | K27: =IF($G27="Invoer",0,IF($G27=0,0,IF(AND(K$22>=$H27,MOD($H27-K$22,$I27)=0),$G27,0))) -> 0 | L27: =IF($G27="Invoer",0,IF($G27=0,0,IF(AND(L$22>=$H27,MOD($H27-L$22,$I27)=0),$G27,0))) -> 0 | M27: =IF($G27="Invoer",0,IF($G27=0,0,IF(AND(M$22>=$H27,MOD($H27-M$22,$I27)=0),$G27,0))) -> 0 | N27: =IF($G27="Invoer",0,IF($G27=0,0,IF(AND(N$22>=$H27,MOD($H27-N$22,$I27)=0),$G27,0))) -> 0 | O27: =IF($G27="Invoer",0,IF($G27=0,0,IF(AND(O$22>=$H27,MOD($H27-O$22,$I27)=0),$G27,0))) -> 0 | P27: =IF($G27="Invoer",0,IF($G27=0,0,IF(AND(P$22>=$H27,MOD($H27-P$22,$I27)=0),$G27,0))) -> 0 | Q27: =IF($G27="Invoer",0,IF($G27=0,0,IF(AND(Q$22>=$H27,MOD($H27-Q$22,$I27)=0),$G27,0))) -> 0 | R27: =IF($G27="Invoer",0,IF($G27=0,0,IF(AND(R$22>=$H27,MOD($H27-R$22,$I27)=0),$G27,0))) -> 0 | ... T27: =IF($G27="Invoer",0,IF($G27=0,0,IF(AND(T$22>=$H27,MOD($H27-T$22,$I27)=0),$G27,0))) -> 0 | U27: =IF(E27>4,1,0) -> 0
B28: 204 | C28: =IF(D9="Hydraulisch","Softstarter",IF(D9="Hydraulisch MKL","Softstarter","Frequentieregeling")) -> Frequentieregeling | D28: KEB | E28: 3 | F28: 2019 | G28: Invoer | H28: 2026 | I28: 10 | J28: 5500 | K28: =IF($G28="Invoer",0,IF($G28=0,0,IF(AND(K$22>=$H28,MOD($H28-K$22,$I28)=0),$G28,0))) -> 0 | L28: =IF($G28="Invoer",0,IF($G28=0,0,IF(AND(L$22>=$H28,MOD($H28-L$22,$I28)=0),$G28,0))) -> 0 | M28: =IF($G28="Invoer",0,IF($G28=0,0,IF(AND(M$22>=$H28,MOD($H28-M$22,$I28)=0),$G28,0))) -> 0 | N28: =IF($G28="Invoer",0,IF($G28=0,0,IF(AND(N$22>=$H28,MOD($H28-N$22,$I28)=0),$G28,0))) -> 0 | O28: =IF($G28="Invoer",0,IF($G28=0,0,IF(AND(O$22>=$H28,MOD($H28-O$22,$I28)=0),$G28,0))) -> 0 | P28: =IF($G28="Invoer",0,IF($G28=0,0,IF(AND(P$22>=$H28,MOD($H28-P$22,$I28)=0),$G28,0))) -> 0 | Q28: =IF($G28="Invoer",0,IF($G28=0,0,IF(AND(Q$22>=$H28,MOD($H28-Q$22,$I28)=0),$G28,0))) -> 0 | R28: =IF($G28="Invoer",0,IF($G28=0,0,IF(AND(R$22>=$H28,MOD($H28-R$22,$I28)=0),$G28,0))) -> 0 | ... T28: =IF($G28="Invoer",0,IF($G28=0,0,IF(AND(T$22>=$H28,MOD($H28-T$22,$I28)=0),$G28,0))) -> 0 | U28: =IF(E28>4,1,0) -> 0
B29: 205 | C29: Accupakket noodevacuatie | D29: Nee | G29: 0 | J29: 1130 | K29: =IF($G29="Invoer",0,IF($G29=0,0,IF(AND(K$22>=$H29,MOD($H29-K$22,$I29)=0),$G29,0))) -> 0 | L29: =IF($G29="Invoer",0,IF($G29=0,0,IF(AND(L$22>=$H29,MOD($H29-L$22,$I29)=0),$G29,0))) -> 0 | M29: =IF($G29="Invoer",0,IF($G29=0,0,IF(AND(M$22>=$H29,MOD($H29-M$22,$I29)=0),$G29,0))) -> 0 | N29: =IF($G29="Invoer",0,IF($G29=0,0,IF(AND(N$22>=$H29,MOD($H29-N$22,$I29)=0),$G29,0))) -> 0 | O29: =IF($G29="Invoer",0,IF($G29=0,0,IF(AND(O$22>=$H29,MOD($H29-O$22,$I29)=0),$G29,0))) -> 0 | P29: =IF($G29="Invoer",0,IF($G29=0,0,IF(AND(P$22>=$H29,MOD($H29-P$22,$I29)=0),$G29,0))) -> 0 | Q29: =IF($G29="Invoer",0,IF($G29=0,0,IF(AND(Q$22>=$H29,MOD($H29-Q$22,$I29)=0),$G29,0))) -> 0 | R29: =IF($G29="Invoer",0,IF($G29=0,0,IF(AND(R$22>=$H29,MOD($H29-R$22,$I29)=0),$G29,0))) -> 0 | ... T29: =IF($G29="Invoer",0,IF($G29=0,0,IF(AND(T$22>=$H29,MOD($H29-T$22,$I29)=0),$G29,0))) -> 0 | U29: =IF(E29>4,1,0) -> 0
B30: 206 | C30: Analoge rittenteller | D30: Nee | G30: 0 | J30: 250 | K30: =IF($G30="Invoer",0,IF($G30=0,0,IF(AND(K$22>=$H30,MOD($H30-K$22,$I30)=0),$G30,0))) -> 0 | L30: =IF($G30="Invoer",0,IF($G30=0,0,IF(AND(L$22>=$H30,MOD($H30-L$22,$I30)=0),$G30,0))) -> 0 | M30: =IF($G30="Invoer",0,IF($G30=0,0,IF(AND(M$22>=$H30,MOD($H30-M$22,$I30)=0),$G30,0))) -> 0 | N30: =IF($G30="Invoer",0,IF($G30=0,0,IF(AND(N$22>=$H30,MOD($H30-N$22,$I30)=0),$G30,0))) -> 0 | O30: =IF($G30="Invoer",0,IF($G30=0,0,IF(AND(O$22>=$H30,MOD($H30-O$22,$I30)=0),$G30,0))) -> 0 | P30: =IF($G30="Invoer",0,IF($G30=0,0,IF(AND(P$22>=$H30,MOD($H30-P$22,$I30)=0),$G30,0))) -> 0 | Q30: =IF($G30="Invoer",0,IF($G30=0,0,IF(AND(Q$22>=$H30,MOD($H30-Q$22,$I30)=0),$G30,0))) -> 0 | R30: =IF($G30="Invoer",0,IF($G30=0,0,IF(AND(R$22>=$H30,MOD($H30-R$22,$I30)=0),$G30,0))) -> 0 | ... T30: =IF($G30="Invoer",0,IF($G30=0,0,IF(AND(T$22>=$H30,MOD($H30-T$22,$I30)=0),$G30,0))) -> 0
G31: 0 | K31: =IF($G31="Invoer",0,IF($G31=0,0,IF(AND(K$22>=$H31,MOD($H31-K$22,$I31)=0),$G31,0))) -> 0 | L31: =IF($G31="Invoer",0,IF($G31=0,0,IF(AND(L$22>=$H31,MOD($H31-L$22,$I31)=0),$G31,0))) -> 0 | M31: =IF($G31="Invoer",0,IF($G31=0,0,IF(AND(M$22>=$H31,MOD($H31-M$22,$I31)=0),$G31,0))) -> 0 | N31: =IF($G31="Invoer",0,IF($G31=0,0,IF(AND(N$22>=$H31,MOD($H31-N$22,$I31)=0),$G31,0))) -> 0 | O31: =IF($G31="Invoer",0,IF($G31=0,0,IF(AND(O$22>=$H31,MOD($H31-O$22,$I31)=0),$G31,0))) -> 0 | P31: =IF($G31="Invoer",0,IF($G31=0,0,IF(AND(P$22>=$H31,MOD($H31-P$22,$I31)=0),$G31,0))) -> 0 | Q31: =IF($G31="Invoer",0,IF($G31=0,0,IF(AND(Q$22>=$H31,MOD($H31-Q$22,$I31)=0),$G31,0))) -> 0 | R31: =IF($G31="Invoer",0,IF($G31=0,0,IF(AND(R$22>=$H31,MOD($H31-R$22,$I31)=0),$G31,0))) -> 0 | ... T31: =IF($G31="Invoer",0,IF($G31=0,0,IF(AND(T$22>=$H31,MOD($H31-T$22,$I31)=0),$G31,0))) -> 0 | U31: =IF(E31>4,1,0) -> 0
B33: Deuren
B34: 300 | C34: Handbewogen deur | D34: N.v.t. | G34: 0 | J34: 20000 | K34: =IF($G34="Invoer",0,IF($G34=0,0,IF(AND(K$22>=$H34,MOD($H34-K$22,$I34)=0),$G34,0))) -> 0 | L34: =IF($G34="Invoer",0,IF($G34=0,0,IF(AND(L$22>=$H34,MOD($H34-L$22,$I34)=0),$G34,0))) -> 0 | M34: =IF($G34="Invoer",0,IF($G34=0,0,IF(AND(M$22>=$H34,MOD($H34-M$22,$I34)=0),$G34,0))) -> 0 | N34: =IF($G34="Invoer",0,IF($G34=0,0,IF(AND(N$22>=$H34,MOD($H34-N$22,$I34)=0),$G34,0))) -> 0 | O34: =IF($G34="Invoer",0,IF($G34=0,0,IF(AND(O$22>=$H34,MOD($H34-O$22,$I34)=0),$G34,0))) -> 0 | P34: =IF($G34="Invoer",0,IF($G34=0,0,IF(AND(P$22>=$H34,MOD($H34-P$22,$I34)=0),$G34,0))) -> 0 | Q34: =IF($G34="Invoer",0,IF($G34=0,0,IF(AND(Q$22>=$H34,MOD($H34-Q$22,$I34)=0),$G34,0))) -> 0 | R34: =IF($G34="Invoer",0,IF($G34=0,0,IF(AND(R$22>=$H34,MOD($H34-R$22,$I34)=0),$G34,0))) -> 0 | ... T34: =IF($G34="Invoer",0,IF($G34=0,0,IF(AND(T$22>=$H34,MOD($H34-T$22,$I34)=0),$G34,0))) -> 0 | U34: =IF(E34>4,1,0) -> 0
B35: 301 | C35: Aanvullende opmerking deuren | G35: 0 | J35: 1500 | K35: =IF($G35="Invoer",0,IF($G35=0,0,IF(AND(K$22>=$H35,MOD($H35-K$22,$I35)=0),$G35,0))) -> 0 | L35: =IF($G35="Invoer",0,IF($G35=0,0,IF(AND(L$22>=$H35,MOD($H35-L$22,$I35)=0),$G35,0))) -> 0 | M35: =IF($G35="Invoer",0,IF($G35=0,0,IF(AND(M$22>=$H35,MOD($H35-M$22,$I35)=0),$G35,0))) -> 0 | N35: =IF($G35="Invoer",0,IF($G35=0,0,IF(AND(N$22>=$H35,MOD($H35-N$22,$I35)=0),$G35,0))) -> 0 | O35: =IF($G35="Invoer",0,IF($G35=0,0,IF(AND(O$22>=$H35,MOD($H35-O$22,$I35)=0),$G35,0))) -> 0 | P35: =IF($G35="Invoer",0,IF($G35=0,0,IF(AND(P$22>=$H35,MOD($H35-P$22,$I35)=0),$G35,0))) -> 0 | Q35: =IF($G35="Invoer",0,IF($G35=0,0,IF(AND(Q$22>=$H35,MOD($H35-Q$22,$I35)=0),$G35,0))) -> 0 | R35: =IF($G35="Invoer",0,IF($G35=0,0,IF(AND(R$22>=$H35,MOD($H35-R$22,$I35)=0),$G35,0))) -> 0 | ... T35: =IF($G35="Invoer",0,IF($G35=0,0,IF(AND(T$22>=$H35,MOD($H35-T$22,$I35)=0),$G35,0))) -> 0 | U35: =IF(E35>4,1,0) -> 0
B36: 302 | C36: Automatische cabinedeur | D36: ThysenKrupp 2 delig telescoop | E36: 3 | F36: 2005 | G36: Invoer | H36: 2026 | I36: 25 | J36: 13000 | K36: =IF($G36="Invoer",0,IF($G36=0,0,IF(AND(K$22>=$H36,MOD($H36-K$22,$I36)=0),$G36,0))) -> 0 | L36: =IF($G36="Invoer",0,IF($G36=0,0,IF(AND(L$22>=$H36,MOD($H36-L$22,$I36)=0),$G36,0))) -> 0 | M36: =IF($G36="Invoer",0,IF($G36=0,0,IF(AND(M$22>=$H36,MOD($H36-M$22,$I36)=0),$G36,0))) -> 0 | N36: =IF($G36="Invoer",0,IF($G36=0,0,IF(AND(N$22>=$H36,MOD($H36-N$22,$I36)=0),$G36,0))) -> 0 | O36: =IF($G36="Invoer",0,IF($G36=0,0,IF(AND(O$22>=$H36,MOD($H36-O$22,$I36)=0),$G36,0))) -> 0 | P36: =IF($G36="Invoer",0,IF($G36=0,0,IF(AND(P$22>=$H36,MOD($H36-P$22,$I36)=0),$G36,0))) -> 0 | Q36: =IF($G36="Invoer",0,IF($G36=0,0,IF(AND(Q$22>=$H36,MOD($H36-Q$22,$I36)=0),$G36,0))) -> 0 | R36: =IF($G36="Invoer",0,IF($G36=0,0,IF(AND(R$22>=$H36,MOD($H36-R$22,$I36)=0),$G36,0))) -> 0 | ... T36: =IF($G36="Invoer",0,IF($G36=0,0,IF(AND(T$22>=$H36,MOD($H36-T$22,$I36)=0),$G36,0))) -> 0 | U36: =IF(E36>4,1,0) -> 0
B37: 303 | C37: Aanvullende opmerking deuren | G37: 0 | K37: =IF($G37="Invoer",0,IF($G37=0,0,IF(AND(K$22>=$H37,MOD($H37-K$22,$I37)=0),$G37,0))) -> 0 | L37: =IF($G37="Invoer",0,IF($G37=0,0,IF(AND(L$22>=$H37,MOD($H37-L$22,$I37)=0),$G37,0))) -> 0 | M37: =IF($G37="Invoer",0,IF($G37=0,0,IF(AND(M$22>=$H37,MOD($H37-M$22,$I37)=0),$G37,0))) -> 0 | N37: =IF($G37="Invoer",0,IF($G37=0,0,IF(AND(N$22>=$H37,MOD($H37-N$22,$I37)=0),$G37,0))) -> 0 | O37: =IF($G37="Invoer",0,IF($G37=0,0,IF(AND(O$22>=$H37,MOD($H37-O$22,$I37)=0),$G37,0))) -> 0 | P37: =IF($G37="Invoer",0,IF($G37=0,0,IF(AND(P$22>=$H37,MOD($H37-P$22,$I37)=0),$G37,0))) -> 0 | Q37: =IF($G37="Invoer",0,IF($G37=0,0,IF(AND(Q$22>=$H37,MOD($H37-Q$22,$I37)=0),$G37,0))) -> 0 | R37: =IF($G37="Invoer",0,IF($G37=0,0,IF(AND(R$22>=$H37,MOD($H37-R$22,$I37)=0),$G37,0))) -> 0 | ... T37: =IF($G37="Invoer",0,IF($G37=0,0,IF(AND(T$22>=$H37,MOD($H37-T$22,$I37)=0),$G37,0))) -> 0 | U37: =IF(E37>4,1,0) -> 0
B38: 304 | C38: Automatische schachtdeuren | D38: ThysenKrupp 2 delig telescoop | E38: 3 | F38: 2005 | G38: 0 | H38: 2036 | I38: 25 | J38: 14000 | K38: =IF($G38="Invoer",0,IF($G38=0,0,IF(AND(K$22>=$H38,MOD($H38-K$22,$I38)=0),$G38,0))) -> 0 | L38: =IF($G38="Invoer",0,IF($G38=0,0,IF(AND(L$22>=$H38,MOD($H38-L$22,$I38)=0),$G38,0))) -> 0 | M38: =IF($G38="Invoer",0,IF($G38=0,0,IF(AND(M$22>=$H38,MOD($H38-M$22,$I38)=0),$G38,0))) -> 0 | N38: =IF($G38="Invoer",0,IF($G38=0,0,IF(AND(N$22>=$H38,MOD($H38-N$22,$I38)=0),$G38,0))) -> 0 | O38: =IF($G38="Invoer",0,IF($G38=0,0,IF(AND(O$22>=$H38,MOD($H38-O$22,$I38)=0),$G38,0))) -> 0 | P38: =IF($G38="Invoer",0,IF($G38=0,0,IF(AND(P$22>=$H38,MOD($H38-P$22,$I38)=0),$G38,0))) -> 0 | Q38: =IF($G38="Invoer",0,IF($G38=0,0,IF(AND(Q$22>=$H38,MOD($H38-Q$22,$I38)=0),$G38,0))) -> 0 | R38: =IF($G38="Invoer",0,IF($G38=0,0,IF(AND(R$22>=$H38,MOD($H38-R$22,$I38)=0),$G38,0))) -> 0 | ... T38: =IF($G38="Invoer",0,IF($G38=0,0,IF(AND(T$22>=$H38,MOD($H38-T$22,$I38)=0),$G38,0))) -> 0 | U38: =IF(E38>4,1,0) -> 0
B39: 305 | C39: Aanvullende opmerking deuren | D39: Schachtdeur -2 compleet vervangen inclusief dagstukken i.v.m. roestvorming | E39: 4 | F39: 2005 | G39: Invoer | H39: 2026 | I39: 99 | K39: =IF($G39="Invoer",0,IF($G39=0,0,IF(AND(K$22>=$H39,MOD($H39-K$22,$I39)=0),$G39,0))) -> 0 | L39: =IF($G39="Invoer",0,IF($G39=0,0,IF(AND(L$22>=$H39,MOD($H39-L$22,$I39)=0),$G39,0))) -> 0 | M39: =IF($G39="Invoer",0,IF($G39=0,0,IF(AND(M$22>=$H39,MOD($H39-M$22,$I39)=0),$G39,0))) -> 0 | N39: =IF($G39="Invoer",0,IF($G39=0,0,IF(AND(N$22>=$H39,MOD($H39-N$22,$I39)=0),$G39,0))) -> 0 | O39: =IF($G39="Invoer",0,IF($G39=0,0,IF(AND(O$22>=$H39,MOD($H39-O$22,$I39)=0),$G39,0))) -> 0 | P39: =IF($G39="Invoer",0,IF($G39=0,0,IF(AND(P$22>=$H39,MOD($H39-P$22,$I39)=0),$G39,0))) -> 0 | Q39: =IF($G39="Invoer",0,IF($G39=0,0,IF(AND(Q$22>=$H39,MOD($H39-Q$22,$I39)=0),$G39,0))) -> 0 | R39: =IF($G39="Invoer",0,IF($G39=0,0,IF(AND(R$22>=$H39,MOD($H39-R$22,$I39)=0),$G39,0))) -> 0 | ... T39: =IF($G39="Invoer",0,IF($G39=0,0,IF(AND(T$22>=$H39,MOD($H39-T$22,$I39)=0),$G39,0))) -> 0 | U39: =IF(E39>4,1,0) -> 0
B40: 313 | C40: Anti-vandaal uitvoering gewenst | D40: N.v.t. | G40: 0 | J40: 4000 | K40: =IF($G40="Invoer",0,IF($G40=0,0,IF(AND(K$22>=$H40,MOD($H40-K$22,$I40)=0),$G40,0))) -> 0 | L40: =IF($G40="Invoer",0,IF($G40=0,0,IF(AND(L$22>=$H40,MOD($H40-L$22,$I40)=0),$G40,0))) -> 0 | M40: =IF($G40="Invoer",0,IF($G40=0,0,IF(AND(M$22>=$H40,MOD($H40-M$22,$I40)=0),$G40,0))) -> 0 | N40: =IF($G40="Invoer",0,IF($G40=0,0,IF(AND(N$22>=$H40,MOD($H40-N$22,$I40)=0),$G40,0))) -> 0 | O40: =IF($G40="Invoer",0,IF($G40=0,0,IF(AND(O$22>=$H40,MOD($H40-O$22,$I40)=0),$G40,0))) -> 0 | P40: =IF($G40="Invoer",0,IF($G40=0,0,IF(AND(P$22>=$H40,MOD($H40-P$22,$I40)=0),$G40,0))) -> 0 | Q40: =IF($G40="Invoer",0,IF($G40=0,0,IF(AND(Q$22>=$H40,MOD($H40-Q$22,$I40)=0),$G40,0))) -> 0 | R40: =IF($G40="Invoer",0,IF($G40=0,0,IF(AND(R$22>=$H40,MOD($H40-R$22,$I40)=0),$G40,0))) -> 0 | ... T40: =IF($G40="Invoer",0,IF($G40=0,0,IF(AND(T$22>=$H40,MOD($H40-T$22,$I40)=0),$G40,0))) -> 0
B41: 306 | C41: Deurrevisie uitgebreid | D41: N.v.t. | G41: 0 | J41: 9000 | K41: =IF($G41="Invoer",0,IF($G41=0,0,IF(AND(K$22>=$H41,MOD($H41-K$22,$I41)=0),$G41,0))) -> 0 | L41: =IF($G41="Invoer",0,IF($G41=0,0,IF(AND(L$22>=$H41,MOD($H41-L$22,$I41)=0),$G41,0))) -> 0 | M41: =IF($G41="Invoer",0,IF($G41=0,0,IF(AND(M$22>=$H41,MOD($H41-M$22,$I41)=0),$G41,0))) -> 0 | N41: =IF($G41="Invoer",0,IF($G41=0,0,IF(AND(N$22>=$H41,MOD($H41-N$22,$I41)=0),$G41,0))) -> 0 | O41: =IF($G41="Invoer",0,IF($G41=0,0,IF(AND(O$22>=$H41,MOD($H41-O$22,$I41)=0),$G41,0))) -> 0 | P41: =IF($G41="Invoer",0,IF($G41=0,0,IF(AND(P$22>=$H41,MOD($H41-P$22,$I41)=0),$G41,0))) -> 0 | Q41: =IF($G41="Invoer",0,IF($G41=0,0,IF(AND(Q$22>=$H41,MOD($H41-Q$22,$I41)=0),$G41,0))) -> 0 | R41: =IF($G41="Invoer",0,IF($G41=0,0,IF(AND(R$22>=$H41,MOD($H41-R$22,$I41)=0),$G41,0))) -> 0 | ... T41: =IF($G41="Invoer",0,IF($G41=0,0,IF(AND(T$22>=$H41,MOD($H41-T$22,$I41)=0),$G41,0))) -> 0 | U41: =IF(E41>4,1,0) -> 0
B42: 307 | C42: Deurrevisie beperkt | D42: Gewenst | E42: 3 | F42: 2018 | G42: Invoer | H42: 2026 | I42: 10 | J42: 3000 | K42: =IF($G42="Invoer",0,IF($G42=0,0,IF(AND(K$22>=$H42,MOD($H42-K$22,$I42)=0),$G42,0))) -> 0 | L42: =IF($G42="Invoer",0,IF($G42=0,0,IF(AND(L$22>=$H42,MOD($H42-L$22,$I42)=0),$G42,0))) -> 0 | M42: =IF($G42="Invoer",0,IF($G42=0,0,IF(AND(M$22>=$H42,MOD($H42-M$22,$I42)=0),$G42,0))) -> 0 | N42: =IF($G42="Invoer",0,IF($G42=0,0,IF(AND(N$22>=$H42,MOD($H42-N$22,$I42)=0),$G42,0))) -> 0 | O42: =IF($G42="Invoer",0,IF($G42=0,0,IF(AND(O$22>=$H42,MOD($H42-O$22,$I42)=0),$G42,0))) -> 0 | P42: =IF($G42="Invoer",0,IF($G42=0,0,IF(AND(P$22>=$H42,MOD($H42-P$22,$I42)=0),$G42,0))) -> 0 | Q42: =IF($G42="Invoer",0,IF($G42=0,0,IF(AND(Q$22>=$H42,MOD($H42-Q$22,$I42)=0),$G42,0))) -> 0 | R42: =IF($G42="Invoer",0,IF($G42=0,0,IF(AND(R$22>=$H42,MOD($H42-R$22,$I42)=0),$G42,0))) -> 0 | ... T42: =IF($G42="Invoer",0,IF($G42=0,0,IF(AND(T$22>=$H42,MOD($H42-T$22,$I42)=0),$G42,0))) -> 0 | U42: =IF(E42>4,1,0) -> 0
B43: 308 | C43: Deuraandrijving | D43: ThyssenKrupp | E43: 3 | F43: 2005 | G43: Invoer | H43: 2026 | I43: 25 | J43: 9000 | K43: =IF($G43="Invoer",0,IF($G43=0,0,IF(AND(K$22>=$H43,MOD($H43-K$22,$I43)=0),$G43,0))) -> 0 | L43: =IF($G43="Invoer",0,IF($G43=0,0,IF(AND(L$22>=$H43,MOD($H43-L$22,$I43)=0),$G43,0))) -> 0 | M43: =IF($G43="Invoer",0,IF($G43=0,0,IF(AND(M$22>=$H43,MOD($H43-M$22,$I43)=0),$G43,0))) -> 0 | N43: =IF($G43="Invoer",0,IF($G43=0,0,IF(AND(N$22>=$H43,MOD($H43-N$22,$I43)=0),$G43,0))) -> 0 | O43: =IF($G43="Invoer",0,IF($G43=0,0,IF(AND(O$22>=$H43,MOD($H43-O$22,$I43)=0),$G43,0))) -> 0 | P43: =IF($G43="Invoer",0,IF($G43=0,0,IF(AND(P$22>=$H43,MOD($H43-P$22,$I43)=0),$G43,0))) -> 0 | Q43: =IF($G43="Invoer",0,IF($G43=0,0,IF(AND(Q$22>=$H43,MOD($H43-Q$22,$I43)=0),$G43,0))) -> 0 | R43: =IF($G43="Invoer",0,IF($G43=0,0,IF(AND(R$22>=$H43,MOD($H43-R$22,$I43)=0),$G43,0))) -> 0 | ... T43: =IF($G43="Invoer",0,IF($G43=0,0,IF(AND(T$22>=$H43,MOD($H43-T$22,$I43)=0),$G43,0))) -> 0 | U43: =IF(E43>4,1,0) -> 0
B44: 309 | C44: Grendels of contacten | D44: Gewenst | E44: 3 | F44: 2018 | G44: Invoer | H44: 2026 | I44: 10 | J44: 3000 | K44: =IF($G44="Invoer",0,IF($G44=0,0,IF(AND(K$22>=$H44,MOD($H44-K$22,$I44)=0),$G44,0))) -> 0 | L44: =IF($G44="Invoer",0,IF($G44=0,0,IF(AND(L$22>=$H44,MOD($H44-L$22,$I44)=0),$G44,0))) -> 0 | M44: =IF($G44="Invoer",0,IF($G44=0,0,IF(AND(M$22>=$H44,MOD($H44-M$22,$I44)=0),$G44,0))) -> 0 | N44: =IF($G44="Invoer",0,IF($G44=0,0,IF(AND(N$22>=$H44,MOD($H44-N$22,$I44)=0),$G44,0))) -> 0 | O44: =IF($G44="Invoer",0,IF($G44=0,0,IF(AND(O$22>=$H44,MOD($H44-O$22,$I44)=0),$G44,0))) -> 0 | P44: =IF($G44="Invoer",0,IF($G44=0,0,IF(AND(P$22>=$H44,MOD($H44-P$22,$I44)=0),$G44,0))) -> 0 | Q44: =IF($G44="Invoer",0,IF($G44=0,0,IF(AND(Q$22>=$H44,MOD($H44-Q$22,$I44)=0),$G44,0))) -> 0 | R44: =IF($G44="Invoer",0,IF($G44=0,0,IF(AND(R$22>=$H44,MOD($H44-R$22,$I44)=0),$G44,0))) -> 0 | ... T44: =IF($G44="Invoer",0,IF($G44=0,0,IF(AND(T$22>=$H44,MOD($H44-T$22,$I44)=0),$G44,0))) -> 0 | U44: =IF(E44>4,1,0) -> 0
B45: 310 | C45: Sensorlijst | D45: Gewenst | E45: 3 | F45: 2005 | G45: Invoer | H45: 2026 | I45: 15 | J45: 2400 | K45: =IF($G45="Invoer",0,IF($G45=0,0,IF(AND(K$22>=$H45,MOD($H45-K$22,$I45)=0),$G45,0))) -> 0 | L45: =IF($G45="Invoer",0,IF($G45=0,0,IF(AND(L$22>=$H45,MOD($H45-L$22,$I45)=0),$G45,0))) -> 0 | M45: =IF($G45="Invoer",0,IF($G45=0,0,IF(AND(M$22>=$H45,MOD($H45-M$22,$I45)=0),$G45,0))) -> 0 | N45: =IF($G45="Invoer",0,IF($G45=0,0,IF(AND(N$22>=$H45,MOD($H45-N$22,$I45)=0),$G45,0))) -> 0 | O45: =IF($G45="Invoer",0,IF($G45=0,0,IF(AND(O$22>=$H45,MOD($H45-O$22,$I45)=0),$G45,0))) -> 0 | P45: =IF($G45="Invoer",0,IF($G45=0,0,IF(AND(P$22>=$H45,MOD($H45-P$22,$I45)=0),$G45,0))) -> 0 | Q45: =IF($G45="Invoer",0,IF($G45=0,0,IF(AND(Q$22>=$H45,MOD($H45-Q$22,$I45)=0),$G45,0))) -> 0 | R45: =IF($G45="Invoer",0,IF($G45=0,0,IF(AND(R$22>=$H45,MOD($H45-R$22,$I45)=0),$G45,0))) -> 0 | ... T45: =IF($G45="Invoer",0,IF($G45=0,0,IF(AND(T$22>=$H45,MOD($H45-T$22,$I45)=0),$G45,0))) -> 0 | U45: =IF(E45>4,1,0) -> 0
B46: 311 | C46: Fotocel + reflector | D46: N.v.t. | G46: 0 | J46: 500 | K46: =IF($G46="Invoer",0,IF($G46=0,0,IF(AND(K$22>=$H46,MOD($H46-K$22,$I46)=0),$G46,0))) -> 0 | L46: =IF($G46="Invoer",0,IF($G46=0,0,IF(AND(L$22>=$H46,MOD($H46-L$22,$I46)=0),$G46,0))) -> 0 | M46: =IF($G46="Invoer",0,IF($G46=0,0,IF(AND(M$22>=$H46,MOD($H46-M$22,$I46)=0),$G46,0))) -> 0 | N46: =IF($G46="Invoer",0,IF($G46=0,0,IF(AND(N$22>=$H46,MOD($H46-N$22,$I46)=0),$G46,0))) -> 0 | O46: =IF($G46="Invoer",0,IF($G46=0,0,IF(AND(O$22>=$H46,MOD($H46-O$22,$I46)=0),$G46,0))) -> 0 | P46: =IF($G46="Invoer",0,IF($G46=0,0,IF(AND(P$22>=$H46,MOD($H46-P$22,$I46)=0),$G46,0))) -> 0 | Q46: =IF($G46="Invoer",0,IF($G46=0,0,IF(AND(Q$22>=$H46,MOD($H46-Q$22,$I46)=0),$G46,0))) -> 0 | R46: =IF($G46="Invoer",0,IF($G46=0,0,IF(AND(R$22>=$H46,MOD($H46-R$22,$I46)=0),$G46,0))) -> 0 | ... T46: =IF($G46="Invoer",0,IF($G46=0,0,IF(AND(T$22>=$H46,MOD($H46-T$22,$I46)=0),$G46,0))) -> 0 | U46: =IF(E46>4,1,0) -> 0
B47: 312 | C47: Vrije doorgang: ____ x ____ mm | D47: 900 x 2100 mm | G47: 0 | J47: 1 | K47: =IF($G47="Invoer",0,IF($G47=0,0,IF(AND(K$22>=$H47,MOD($H47-K$22,$I47)=0),$G47,0))) -> 0 | L47: =IF($G47="Invoer",0,IF($G47=0,0,IF(AND(L$22>=$H47,MOD($H47-L$22,$I47)=0),$G47,0))) -> 0 | M47: =IF($G47="Invoer",0,IF($G47=0,0,IF(AND(M$22>=$H47,MOD($H47-M$22,$I47)=0),$G47,0))) -> 0 | N47: =IF($G47="Invoer",0,IF($G47=0,0,IF(AND(N$22>=$H47,MOD($H47-N$22,$I47)=0),$G47,0))) -> 0 | O47: =IF($G47="Invoer",0,IF($G47=0,0,IF(AND(O$22>=$H47,MOD($H47-O$22,$I47)=0),$G47,0))) -> 0 | P47: =IF($G47="Invoer",0,IF($G47=0,0,IF(AND(P$22>=$H47,MOD($H47-P$22,$I47)=0),$G47,0))) -> 0 | Q47: =IF($G47="Invoer",0,IF($G47=0,0,IF(AND(Q$22>=$H47,MOD($H47-Q$22,$I47)=0),$G47,0))) -> 0 | R47: =IF($G47="Invoer",0,IF($G47=0,0,IF(AND(R$22>=$H47,MOD($H47-R$22,$I47)=0),$G47,0))) -> 0 | ... T47: =IF($G47="Invoer",0,IF($G47=0,0,IF(AND(T$22>=$H47,MOD($H47-T$22,$I47)=0),$G47,0))) -> 0 | U47: =IF(E47>4,1,0) -> 0
B49: Aandrijving
B50: 400 | C50: Fabricaat en type | D50: ThyssenKrupp TW63 | E50: 3 | F50: 2005 | G50: 0 | H50: 2036 | I50: 25 | J50: 13020 | K50: =IF($G50="Invoer",0,IF($G50=0,0,IF(AND(K$22>=$H50,MOD($H50-K$22,$I50)=0),$G50,0))) -> 0 | L50: =IF($G50="Invoer",0,IF($G50=0,0,IF(AND(L$22>=$H50,MOD($H50-L$22,$I50)=0),$G50,0))) -> 0 | M50: =IF($G50="Invoer",0,IF($G50=0,0,IF(AND(M$22>=$H50,MOD($H50-M$22,$I50)=0),$G50,0))) -> 0 | N50: =IF($G50="Invoer",0,IF($G50=0,0,IF(AND(N$22>=$H50,MOD($H50-N$22,$I50)=0),$G50,0))) -> 0 | O50: =IF($G50="Invoer",0,IF($G50=0,0,IF(AND(O$22>=$H50,MOD($H50-O$22,$I50)=0),$G50,0))) -> 0 | P50: =IF($G50="Invoer",0,IF($G50=0,0,IF(AND(P$22>=$H50,MOD($H50-P$22,$I50)=0),$G50,0))) -> 0 | Q50: =IF($G50="Invoer",0,IF($G50=0,0,IF(AND(Q$22>=$H50,MOD($H50-Q$22,$I50)=0),$G50,0))) -> 0 | R50: =IF($G50="Invoer",0,IF($G50=0,0,IF(AND(R$22>=$H50,MOD($H50-R$22,$I50)=0),$G50,0))) -> 0 | ... T50: =IF($G50="Invoer",0,IF($G50=0,0,IF(AND(T$22>=$H50,MOD($H50-T$22,$I50)=0),$G50,0))) -> 0 | U50: =IF(E50>4,1,0) -> 0
B51: 401 | C51: 2e gebrek aandrijving | D51: Lagers afleidwielen mogelijk aangetast door vochtproblemen in de schacht. | G51: 0 | K51: =IF($G51="Invoer",0,IF($G51=0,0,IF(AND(K$22>=$H51,MOD($H51-K$22,$I51)=0),$G51,0))) -> 0 | L51: =IF($G51="Invoer",0,IF($G51=0,0,IF(AND(L$22>=$H51,MOD($H51-L$22,$I51)=0),$G51,0))) -> 0 | M51: =IF($G51="Invoer",0,IF($G51=0,0,IF(AND(M$22>=$H51,MOD($H51-M$22,$I51)=0),$G51,0))) -> 0 | N51: =IF($G51="Invoer",0,IF($G51=0,0,IF(AND(N$22>=$H51,MOD($H51-N$22,$I51)=0),$G51,0))) -> 0 | O51: =IF($G51="Invoer",0,IF($G51=0,0,IF(AND(O$22>=$H51,MOD($H51-O$22,$I51)=0),$G51,0))) -> 0 | P51: =IF($G51="Invoer",0,IF($G51=0,0,IF(AND(P$22>=$H51,MOD($H51-P$22,$I51)=0),$G51,0))) -> 0 | Q51: =IF($G51="Invoer",0,IF($G51=0,0,IF(AND(Q$22>=$H51,MOD($H51-Q$22,$I51)=0),$G51,0))) -> 0 | R51: =IF($G51="Invoer",0,IF($G51=0,0,IF(AND(R$22>=$H51,MOD($H51-R$22,$I51)=0),$G51,0))) -> 0 | ... T51: =IF($G51="Invoer",0,IF($G51=0,0,IF(AND(T$22>=$H51,MOD($H51-T$22,$I51)=0),$G51,0))) -> 0 | U51: =IF(E51>4,1,0) -> 0
B52: 402 | C52: Aantal afleidwielen | D52: 6 | E52: 5 | F52: 2005 | G52: Invoer | H52: 2026 | I52: 25 | J52: 1000 | K52: =IF($G52="Invoer",0,IF($G52=0,0,IF(AND(K$22>=$H52,MOD($H52-K$22,$I52)=0),$G52,0))) -> 0 | L52: =IF($G52="Invoer",0,IF($G52=0,0,IF(AND(L$22>=$H52,MOD($H52-L$22,$I52)=0),$G52,0))) -> 0 | M52: =IF($G52="Invoer",0,IF($G52=0,0,IF(AND(M$22>=$H52,MOD($H52-M$22,$I52)=0),$G52,0))) -> 0 | N52: =IF($G52="Invoer",0,IF($G52=0,0,IF(AND(N$22>=$H52,MOD($H52-N$22,$I52)=0),$G52,0))) -> 0 | O52: =IF($G52="Invoer",0,IF($G52=0,0,IF(AND(O$22>=$H52,MOD($H52-O$22,$I52)=0),$G52,0))) -> 0 | P52: =IF($G52="Invoer",0,IF($G52=0,0,IF(AND(P$22>=$H52,MOD($H52-P$22,$I52)=0),$G52,0))) -> 0 | Q52: =IF($G52="Invoer",0,IF($G52=0,0,IF(AND(Q$22>=$H52,MOD($H52-Q$22,$I52)=0),$G52,0))) -> 0 | R52: =IF($G52="Invoer",0,IF($G52=0,0,IF(AND(R$22>=$H52,MOD($H52-R$22,$I52)=0),$G52,0))) -> 0 | ... T52: =IF($G52="Invoer",0,IF($G52=0,0,IF(AND(T$22>=$H52,MOD($H52-T$22,$I52)=0),$G52,0))) -> 0 | U52: =IF(E52>4,1,0) -> 1
B53: 403 | C53: Ophanging | D53: Ophanging 2:1 | G53: 0 | K53: =IF($G53="Invoer",0,IF($G53=0,0,IF(AND(K$22>=$H53,MOD($H53-K$22,$I53)=0),$G53,0))) -> 0 | L53: =IF($G53="Invoer",0,IF($G53=0,0,IF(AND(L$22>=$H53,MOD($H53-L$22,$I53)=0),$G53,0))) -> 0 | M53: =IF($G53="Invoer",0,IF($G53=0,0,IF(AND(M$22>=$H53,MOD($H53-M$22,$I53)=0),$G53,0))) -> 0 | N53: =IF($G53="Invoer",0,IF($G53=0,0,IF(AND(N$22>=$H53,MOD($H53-N$22,$I53)=0),$G53,0))) -> 0 | O53: =IF($G53="Invoer",0,IF($G53=0,0,IF(AND(O$22>=$H53,MOD($H53-O$22,$I53)=0),$G53,0))) -> 0 | P53: =IF($G53="Invoer",0,IF($G53=0,0,IF(AND(P$22>=$H53,MOD($H53-P$22,$I53)=0),$G53,0))) -> 0 | Q53: =IF($G53="Invoer",0,IF($G53=0,0,IF(AND(Q$22>=$H53,MOD($H53-Q$22,$I53)=0),$G53,0))) -> 0 | R53: =IF($G53="Invoer",0,IF($G53=0,0,IF(AND(R$22>=$H53,MOD($H53-R$22,$I53)=0),$G53,0))) -> 0 | ... T53: =IF($G53="Invoer",0,IF($G53=0,0,IF(AND(T$22>=$H53,MOD($H53-T$22,$I53)=0),$G53,0))) -> 0 | U53: =IF(E53>4,1,0) -> 0
B54: 404 | C54: Tractieschijf | D54: 590mm | E54: 3 | F54: 2005 | G54: 0 | H54: 2036 | I54: 12 | J54: 1500 | K54: =IF($G54="Invoer",0,IF($G54=0,0,IF(AND(K$22>=$H54,MOD($H54-K$22,$I54)=0),$G54,0))) -> 0 | L54: =IF($G54="Invoer",0,IF($G54=0,0,IF(AND(L$22>=$H54,MOD($H54-L$22,$I54)=0),$G54,0))) -> 0 | M54: =IF($G54="Invoer",0,IF($G54=0,0,IF(AND(M$22>=$H54,MOD($H54-M$22,$I54)=0),$G54,0))) -> 0 | N54: =IF($G54="Invoer",0,IF($G54=0,0,IF(AND(N$22>=$H54,MOD($H54-N$22,$I54)=0),$G54,0))) -> 0 | O54: =IF($G54="Invoer",0,IF($G54=0,0,IF(AND(O$22>=$H54,MOD($H54-O$22,$I54)=0),$G54,0))) -> 0 | P54: =IF($G54="Invoer",0,IF($G54=0,0,IF(AND(P$22>=$H54,MOD($H54-P$22,$I54)=0),$G54,0))) -> 0 | Q54: =IF($G54="Invoer",0,IF($G54=0,0,IF(AND(Q$22>=$H54,MOD($H54-Q$22,$I54)=0),$G54,0))) -> 0 | R54: =IF($G54="Invoer",0,IF($G54=0,0,IF(AND(R$22>=$H54,MOD($H54-R$22,$I54)=0),$G54,0))) -> 0 | ... T54: =IF($G54="Invoer",0,IF($G54=0,0,IF(AND(T$22>=$H54,MOD($H54-T$22,$I54)=0),$G54,0))) -> 0 | U54: =IF(E54>4,1,0) -> 0
B55: 405 | C55: Draagmiddelen | D55: 4 x 10 mm | E55: 3 | F55: 2020 | G55: 0 | H55: 2036 | I55: 12 | J55: 4500 | K55: =IF($G55="Invoer",0,IF($G55=0,0,IF(AND(K$22>=$H55,MOD($H55-K$22,$I55)=0),$G55,0))) -> 0 | L55: =IF($G55="Invoer",0,IF($G55=0,0,IF(AND(L$22>=$H55,MOD($H55-L$22,$I55)=0),$G55,0))) -> 0 | M55: =IF($G55="Invoer",0,IF($G55=0,0,IF(AND(M$22>=$H55,MOD($H55-M$22,$I55)=0),$G55,0))) -> 0 | N55: =IF($G55="Invoer",0,IF($G55=0,0,IF(AND(N$22>=$H55,MOD($H55-N$22,$I55)=0),$G55,0))) -> 0 | O55: =IF($G55="Invoer",0,IF($G55=0,0,IF(AND(O$22>=$H55,MOD($H55-O$22,$I55)=0),$G55,0))) -> 0 | P55: =IF($G55="Invoer",0,IF($G55=0,0,IF(AND(P$22>=$H55,MOD($H55-P$22,$I55)=0),$G55,0))) -> 0 | Q55: =IF($G55="Invoer",0,IF($G55=0,0,IF(AND(Q$22>=$H55,MOD($H55-Q$22,$I55)=0),$G55,0))) -> 0 | R55: =IF($G55="Invoer",0,IF($G55=0,0,IF(AND(R$22>=$H55,MOD($H55-R$22,$I55)=0),$G55,0))) -> 0 | ... T55: =IF($G55="Invoer",0,IF($G55=0,0,IF(AND(T$22>=$H55,MOD($H55-T$22,$I55)=0),$G55,0))) -> 0 | U55: =IF(E55>4,1,0) -> 0
B56: 406 | C56: Revisie elektromotor | D56: Gewenst | E56: 3 | F56: 2005 | G56: Invoer | H56: 2026 | I56: 99 | J56: 2500 | K56: =IF($G56="Invoer",0,IF($G56=0,0,IF(AND(K$22>=$H56,MOD($H56-K$22,$I56)=0),$G56,0))) -> 0 | L56: =IF($G56="Invoer",0,IF($G56=0,0,IF(AND(L$22>=$H56,MOD($H56-L$22,$I56)=0),$G56,0))) -> 0 | M56: =IF($G56="Invoer",0,IF($G56=0,0,IF(AND(M$22>=$H56,MOD($H56-M$22,$I56)=0),$G56,0))) -> 0 | N56: =IF($G56="Invoer",0,IF($G56=0,0,IF(AND(N$22>=$H56,MOD($H56-N$22,$I56)=0),$G56,0))) -> 0 | O56: =IF($G56="Invoer",0,IF($G56=0,0,IF(AND(O$22>=$H56,MOD($H56-O$22,$I56)=0),$G56,0))) -> 0 | P56: =IF($G56="Invoer",0,IF($G56=0,0,IF(AND(P$22>=$H56,MOD($H56-P$22,$I56)=0),$G56,0))) -> 0 | Q56: =IF($G56="Invoer",0,IF($G56=0,0,IF(AND(Q$22>=$H56,MOD($H56-Q$22,$I56)=0),$G56,0))) -> 0 | R56: =IF($G56="Invoer",0,IF($G56=0,0,IF(AND(R$22>=$H56,MOD($H56-R$22,$I56)=0),$G56,0))) -> 0 | ... T56: =IF($G56="Invoer",0,IF($G56=0,0,IF(AND(T$22>=$H56,MOD($H56-T$22,$I56)=0),$G56,0))) -> 0 | U56: =IF(E56>4,1,0) -> 0
B57: 407 | C57: Revisie aandrijving | D57: Gewenst | E57: 3 | F57: 2005 | G57: Invoer | H57: 2026 | I57: 99 | J57: 1500 | K57: =IF($G57="Invoer",0,IF($G57=0,0,IF(AND(K$22>=$H57,MOD($H57-K$22,$I57)=0),$G57,0))) -> 0 | L57: =IF($G57="Invoer",0,IF($G57=0,0,IF(AND(L$22>=$H57,MOD($H57-L$22,$I57)=0),$G57,0))) -> 0 | M57: =IF($G57="Invoer",0,IF($G57=0,0,IF(AND(M$22>=$H57,MOD($H57-M$22,$I57)=0),$G57,0))) -> 0 | N57: =IF($G57="Invoer",0,IF($G57=0,0,IF(AND(N$22>=$H57,MOD($H57-N$22,$I57)=0),$G57,0))) -> 0 | O57: =IF($G57="Invoer",0,IF($G57=0,0,IF(AND(O$22>=$H57,MOD($H57-O$22,$I57)=0),$G57,0))) -> 0 | P57: =IF($G57="Invoer",0,IF($G57=0,0,IF(AND(P$22>=$H57,MOD($H57-P$22,$I57)=0),$G57,0))) -> 0 | Q57: =IF($G57="Invoer",0,IF($G57=0,0,IF(AND(Q$22>=$H57,MOD($H57-Q$22,$I57)=0),$G57,0))) -> 0 | R57: =IF($G57="Invoer",0,IF($G57=0,0,IF(AND(R$22>=$H57,MOD($H57-R$22,$I57)=0),$G57,0))) -> 0 | ... T57: =IF($G57="Invoer",0,IF($G57=0,0,IF(AND(T$22>=$H57,MOD($H57-T$22,$I57)=0),$G57,0))) -> 0 | U57: =IF(E57>4,1,0) -> 0
B58: 408 | C58: Olie verversen | D58: ja | E58: 4 | F58: 2013 | G58: Invoer | H58: 2026 | I58: 4 | J58: 650 | K58: =IF($G58="Invoer",0,IF($G58=0,0,IF(AND(K$22>=$H58,MOD($H58-K$22,$I58)=0),$G58,0))) -> 0 | L58: =IF($G58="Invoer",0,IF($G58=0,0,IF(AND(L$22>=$H58,MOD($H58-L$22,$I58)=0),$G58,0))) -> 0 | M58: =IF($G58="Invoer",0,IF($G58=0,0,IF(AND(M$22>=$H58,MOD($H58-M$22,$I58)=0),$G58,0))) -> 0 | N58: =IF($G58="Invoer",0,IF($G58=0,0,IF(AND(N$22>=$H58,MOD($H58-N$22,$I58)=0),$G58,0))) -> 0 | O58: =IF($G58="Invoer",0,IF($G58=0,0,IF(AND(O$22>=$H58,MOD($H58-O$22,$I58)=0),$G58,0))) -> 0 | P58: =IF($G58="Invoer",0,IF($G58=0,0,IF(AND(P$22>=$H58,MOD($H58-P$22,$I58)=0),$G58,0))) -> 0 | Q58: =IF($G58="Invoer",0,IF($G58=0,0,IF(AND(Q$22>=$H58,MOD($H58-Q$22,$I58)=0),$G58,0))) -> 0 | R58: =IF($G58="Invoer",0,IF($G58=0,0,IF(AND(R$22>=$H58,MOD($H58-R$22,$I58)=0),$G58,0))) -> 0 | ... T58: =IF($G58="Invoer",0,IF($G58=0,0,IF(AND(T$22>=$H58,MOD($H58-T$22,$I58)=0),$G58,0))) -> 0
G59: 0 | K59: =IF($G59="Invoer",0,IF($G59=0,0,IF(AND(K$22>=$H59,MOD($H59-K$22,$I59)=0),$G59,0))) -> 0 | L59: =IF($G59="Invoer",0,IF($G59=0,0,IF(AND(L$22>=$H59,MOD($H59-L$22,$I59)=0),$G59,0))) -> 0 | M59: =IF($G59="Invoer",0,IF($G59=0,0,IF(AND(M$22>=$H59,MOD($H59-M$22,$I59)=0),$G59,0))) -> 0 | N59: =IF($G59="Invoer",0,IF($G59=0,0,IF(AND(N$22>=$H59,MOD($H59-N$22,$I59)=0),$G59,0))) -> 0 | O59: =IF($G59="Invoer",0,IF($G59=0,0,IF(AND(O$22>=$H59,MOD($H59-O$22,$I59)=0),$G59,0))) -> 0 | P59: =IF($G59="Invoer",0,IF($G59=0,0,IF(AND(P$22>=$H59,MOD($H59-P$22,$I59)=0),$G59,0))) -> 0 | Q59: =IF($G59="Invoer",0,IF($G59=0,0,IF(AND(Q$22>=$H59,MOD($H59-Q$22,$I59)=0),$G59,0))) -> 0 | R59: =IF($G59="Invoer",0,IF($G59=0,0,IF(AND(R$22>=$H59,MOD($H59-R$22,$I59)=0),$G59,0))) -> 0 | ... T59: =IF($G59="Invoer",0,IF($G59=0,0,IF(AND(T$22>=$H59,MOD($H59-T$22,$I59)=0),$G59,0))) -> 0 | U59: =IF(E59>4,1,0) -> 0
B61: Hydrauliek
B62: 500 | C62: Fabricaat en type aggregaat | D62: N.v.t. | G62: 0 | J62: 9520 | K62: =IF($G62="Invoer",0,IF($G62=0,0,IF(AND(K$22>=$H62,MOD($H62-K$22,$I62)=0),$G62,0))) -> 0 | L62: =IF($G62="Invoer",0,IF($G62=0,0,IF(AND(L$22>=$H62,MOD($H62-L$22,$I62)=0),$G62,0))) -> 0 | M62: =IF($G62="Invoer",0,IF($G62=0,0,IF(AND(M$22>=$H62,MOD($H62-M$22,$I62)=0),$G62,0))) -> 0 | N62: =IF($G62="Invoer",0,IF($G62=0,0,IF(AND(N$22>=$H62,MOD($H62-N$22,$I62)=0),$G62,0))) -> 0 | O62: =IF($G62="Invoer",0,IF($G62=0,0,IF(AND(O$22>=$H62,MOD($H62-O$22,$I62)=0),$G62,0))) -> 0 | P62: =IF($G62="Invoer",0,IF($G62=0,0,IF(AND(P$22>=$H62,MOD($H62-P$22,$I62)=0),$G62,0))) -> 0 | Q62: =IF($G62="Invoer",0,IF($G62=0,0,IF(AND(Q$22>=$H62,MOD($H62-Q$22,$I62)=0),$G62,0))) -> 0 | R62: =IF($G62="Invoer",0,IF($G62=0,0,IF(AND(R$22>=$H62,MOD($H62-R$22,$I62)=0),$G62,0))) -> 0 | ... T62: =IF($G62="Invoer",0,IF($G62=0,0,IF(AND(T$22>=$H62,MOD($H62-T$22,$I62)=0),$G62,0))) -> 0 | U62: =IF(E62>4,1,0) -> 0
B63: 501 | C63: 2e gebrek aan aggregaat | G63: 0 | K63: =IF($G63="Invoer",0,IF($G63=0,0,IF(AND(K$22>=$H63,MOD($H63-K$22,$I63)=0),$G63,0))) -> 0 | L63: =IF($G63="Invoer",0,IF($G63=0,0,IF(AND(L$22>=$H63,MOD($H63-L$22,$I63)=0),$G63,0))) -> 0 | M63: =IF($G63="Invoer",0,IF($G63=0,0,IF(AND(M$22>=$H63,MOD($H63-M$22,$I63)=0),$G63,0))) -> 0 | N63: =IF($G63="Invoer",0,IF($G63=0,0,IF(AND(N$22>=$H63,MOD($H63-N$22,$I63)=0),$G63,0))) -> 0 | O63: =IF($G63="Invoer",0,IF($G63=0,0,IF(AND(O$22>=$H63,MOD($H63-O$22,$I63)=0),$G63,0))) -> 0 | P63: =IF($G63="Invoer",0,IF($G63=0,0,IF(AND(P$22>=$H63,MOD($H63-P$22,$I63)=0),$G63,0))) -> 0 | Q63: =IF($G63="Invoer",0,IF($G63=0,0,IF(AND(Q$22>=$H63,MOD($H63-Q$22,$I63)=0),$G63,0))) -> 0 | R63: =IF($G63="Invoer",0,IF($G63=0,0,IF(AND(R$22>=$H63,MOD($H63-R$22,$I63)=0),$G63,0))) -> 0 | ... T63: =IF($G63="Invoer",0,IF($G63=0,0,IF(AND(T$22>=$H63,MOD($H63-T$22,$I63)=0),$G63,0))) -> 0 | U63: =IF(E63>4,1,0) -> 0
B64: 502 | C64: Fabricaat en type stuurblok | D64: N.v.t. | G64: 0 | J64: 3500 | K64: =IF($G64="Invoer",0,IF($G64=0,0,IF(AND(K$22>=$H64,MOD($H64-K$22,$I64)=0),$G64,0))) -> 0 | L64: =IF($G64="Invoer",0,IF($G64=0,0,IF(AND(L$22>=$H64,MOD($H64-L$22,$I64)=0),$G64,0))) -> 0 | M64: =IF($G64="Invoer",0,IF($G64=0,0,IF(AND(M$22>=$H64,MOD($H64-M$22,$I64)=0),$G64,0))) -> 0 | N64: =IF($G64="Invoer",0,IF($G64=0,0,IF(AND(N$22>=$H64,MOD($H64-N$22,$I64)=0),$G64,0))) -> 0 | O64: =IF($G64="Invoer",0,IF($G64=0,0,IF(AND(O$22>=$H64,MOD($H64-O$22,$I64)=0),$G64,0))) -> 0 | P64: =IF($G64="Invoer",0,IF($G64=0,0,IF(AND(P$22>=$H64,MOD($H64-P$22,$I64)=0),$G64,0))) -> 0 | Q64: =IF($G64="Invoer",0,IF($G64=0,0,IF(AND(Q$22>=$H64,MOD($H64-Q$22,$I64)=0),$G64,0))) -> 0 | R64: =IF($G64="Invoer",0,IF($G64=0,0,IF(AND(R$22>=$H64,MOD($H64-R$22,$I64)=0),$G64,0))) -> 0 | ... T64: =IF($G64="Invoer",0,IF($G64=0,0,IF(AND(T$22>=$H64,MOD($H64-T$22,$I64)=0),$G64,0))) -> 0 | U64: =IF(E64>4,1,0) -> 0
B65: 503 | C65: Afdichtingen stuurblok | D65: N.v.t. | G65: 0 | J65: 1500 | K65: =IF($G65="Invoer",0,IF($G65=0,0,IF(AND(K$22>=$H65,MOD($H65-K$22,$I65)=0),$G65,0))) -> 0 | L65: =IF($G65="Invoer",0,IF($G65=0,0,IF(AND(L$22>=$H65,MOD($H65-L$22,$I65)=0),$G65,0))) -> 0 | M65: =IF($G65="Invoer",0,IF($G65=0,0,IF(AND(M$22>=$H65,MOD($H65-M$22,$I65)=0),$G65,0))) -> 0 | N65: =IF($G65="Invoer",0,IF($G65=0,0,IF(AND(N$22>=$H65,MOD($H65-N$22,$I65)=0),$G65,0))) -> 0 | O65: =IF($G65="Invoer",0,IF($G65=0,0,IF(AND(O$22>=$H65,MOD($H65-O$22,$I65)=0),$G65,0))) -> 0 | P65: =IF($G65="Invoer",0,IF($G65=0,0,IF(AND(P$22>=$H65,MOD($H65-P$22,$I65)=0),$G65,0))) -> 0 | Q65: =IF($G65="Invoer",0,IF($G65=0,0,IF(AND(Q$22>=$H65,MOD($H65-Q$22,$I65)=0),$G65,0))) -> 0 | R65: =IF($G65="Invoer",0,IF($G65=0,0,IF(AND(R$22>=$H65,MOD($H65-R$22,$I65)=0),$G65,0))) -> 0 | ... T65: =IF($G65="Invoer",0,IF($G65=0,0,IF(AND(T$22>=$H65,MOD($H65-T$22,$I65)=0),$G65,0))) -> 0 | U65: =IF(E65>4,1,0) -> 0
B66: 504 | C66: Fabricaat en type cilinder | D66: N.v.t. | G66: 0 | J66: 9000 | K66: =IF($G66="Invoer",0,IF($G66=0,0,IF(AND(K$22>=$H66,MOD($H66-K$22,$I66)=0),$G66,0))) -> 0 | L66: =IF($G66="Invoer",0,IF($G66=0,0,IF(AND(L$22>=$H66,MOD($H66-L$22,$I66)=0),$G66,0))) -> 0 | M66: =IF($G66="Invoer",0,IF($G66=0,0,IF(AND(M$22>=$H66,MOD($H66-M$22,$I66)=0),$G66,0))) -> 0 | N66: =IF($G66="Invoer",0,IF($G66=0,0,IF(AND(N$22>=$H66,MOD($H66-N$22,$I66)=0),$G66,0))) -> 0 | O66: =IF($G66="Invoer",0,IF($G66=0,0,IF(AND(O$22>=$H66,MOD($H66-O$22,$I66)=0),$G66,0))) -> 0 | P66: =IF($G66="Invoer",0,IF($G66=0,0,IF(AND(P$22>=$H66,MOD($H66-P$22,$I66)=0),$G66,0))) -> 0 | Q66: =IF($G66="Invoer",0,IF($G66=0,0,IF(AND(Q$22>=$H66,MOD($H66-Q$22,$I66)=0),$G66,0))) -> 0 | R66: =IF($G66="Invoer",0,IF($G66=0,0,IF(AND(R$22>=$H66,MOD($H66-R$22,$I66)=0),$G66,0))) -> 0 | ... T66: =IF($G66="Invoer",0,IF($G66=0,0,IF(AND(T$22>=$H66,MOD($H66-T$22,$I66)=0),$G66,0))) -> 0 | U66: =IF(E66>4,1,0) -> 0
B67: 505 | C67: Afdichtingen cilinder | D67: N.v.t. | G67: 0 | J67: 1500 | K67: =IF($G67="Invoer",0,IF($G67=0,0,IF(AND(K$22>=$H67,MOD($H67-K$22,$I67)=0),$G67,0))) -> 0 | L67: =IF($G67="Invoer",0,IF($G67=0,0,IF(AND(L$22>=$H67,MOD($H67-L$22,$I67)=0),$G67,0))) -> 0 | M67: =IF($G67="Invoer",0,IF($G67=0,0,IF(AND(M$22>=$H67,MOD($H67-M$22,$I67)=0),$G67,0))) -> 0 | N67: =IF($G67="Invoer",0,IF($G67=0,0,IF(AND(N$22>=$H67,MOD($H67-N$22,$I67)=0),$G67,0))) -> 0 | O67: =IF($G67="Invoer",0,IF($G67=0,0,IF(AND(O$22>=$H67,MOD($H67-O$22,$I67)=0),$G67,0))) -> 0 | P67: =IF($G67="Invoer",0,IF($G67=0,0,IF(AND(P$22>=$H67,MOD($H67-P$22,$I67)=0),$G67,0))) -> 0 | Q67: =IF($G67="Invoer",0,IF($G67=0,0,IF(AND(Q$22>=$H67,MOD($H67-Q$22,$I67)=0),$G67,0))) -> 0 | R67: =IF($G67="Invoer",0,IF($G67=0,0,IF(AND(R$22>=$H67,MOD($H67-R$22,$I67)=0),$G67,0))) -> 0 | ... T67: =IF($G67="Invoer",0,IF($G67=0,0,IF(AND(T$22>=$H67,MOD($H67-T$22,$I67)=0),$G67,0))) -> 0 | U67: =IF(E67>4,1,0) -> 0
B68: 506 | C68: Leidingbreukventiel | D68: N.v.t. | G68: 0 | J68: 2500 | K68: =IF($G68="Invoer",0,IF($G68=0,0,IF(AND(K$22>=$H68,MOD($H68-K$22,$I68)=0),$G68,0))) -> 0 | L68: =IF($G68="Invoer",0,IF($G68=0,0,IF(AND(L$22>=$H68,MOD($H68-L$22,$I68)=0),$G68,0))) -> 0 | M68: =IF($G68="Invoer",0,IF($G68=0,0,IF(AND(M$22>=$H68,MOD($H68-M$22,$I68)=0),$G68,0))) -> 0 | N68: =IF($G68="Invoer",0,IF($G68=0,0,IF(AND(N$22>=$H68,MOD($H68-N$22,$I68)=0),$G68,0))) -> 0 | O68: =IF($G68="Invoer",0,IF($G68=0,0,IF(AND(O$22>=$H68,MOD($H68-O$22,$I68)=0),$G68,0))) -> 0 | P68: =IF($G68="Invoer",0,IF($G68=0,0,IF(AND(P$22>=$H68,MOD($H68-P$22,$I68)=0),$G68,0))) -> 0 | Q68: =IF($G68="Invoer",0,IF($G68=0,0,IF(AND(Q$22>=$H68,MOD($H68-Q$22,$I68)=0),$G68,0))) -> 0 | R68: =IF($G68="Invoer",0,IF($G68=0,0,IF(AND(R$22>=$H68,MOD($H68-R$22,$I68)=0),$G68,0))) -> 0 | ... T68: =IF($G68="Invoer",0,IF($G68=0,0,IF(AND(T$22>=$H68,MOD($H68-T$22,$I68)=0),$G68,0))) -> 0 | U68: =IF(E68>4,1,0) -> 0
B69: 507 | C69: Wegzakinrichting | D69: N.v.t. | G69: 0 | J69: 3500 | K69: =IF($G69="Invoer",0,IF($G69=0,0,IF(AND(K$22>=$H69,MOD($H69-K$22,$I69)=0),$G69,0))) -> 0 | L69: =IF($G69="Invoer",0,IF($G69=0,0,IF(AND(L$22>=$H69,MOD($H69-L$22,$I69)=0),$G69,0))) -> 0 | M69: =IF($G69="Invoer",0,IF($G69=0,0,IF(AND(M$22>=$H69,MOD($H69-M$22,$I69)=0),$G69,0))) -> 0 | N69: =IF($G69="Invoer",0,IF($G69=0,0,IF(AND(N$22>=$H69,MOD($H69-N$22,$I69)=0),$G69,0))) -> 0 | O69: =IF($G69="Invoer",0,IF($G69=0,0,IF(AND(O$22>=$H69,MOD($H69-O$22,$I69)=0),$G69,0))) -> 0 | P69: =IF($G69="Invoer",0,IF($G69=0,0,IF(AND(P$22>=$H69,MOD($H69-P$22,$I69)=0),$G69,0))) -> 0 | Q69: =IF($G69="Invoer",0,IF($G69=0,0,IF(AND(Q$22>=$H69,MOD($H69-Q$22,$I69)=0),$G69,0))) -> 0 | R69: =IF($G69="Invoer",0,IF($G69=0,0,IF(AND(R$22>=$H69,MOD($H69-R$22,$I69)=0),$G69,0))) -> 0 | ... T69: =IF($G69="Invoer",0,IF($G69=0,0,IF(AND(T$22>=$H69,MOD($H69-T$22,$I69)=0),$G69,0))) -> 0 | U69: =IF(E69>4,1,0) -> 0
B70: 508 | C70: Olie | D70: N.v.t. | G70: 0 | J70: 1900 | K70: =IF($G70="Invoer",0,IF($G70=0,0,IF(AND(K$22>=$H70,MOD($H70-K$22,$I70)=0),$G70,0))) -> 0 | L70: =IF($G70="Invoer",0,IF($G70=0,0,IF(AND(L$22>=$H70,MOD($H70-L$22,$I70)=0),$G70,0))) -> 0 | M70: =IF($G70="Invoer",0,IF($G70=0,0,IF(AND(M$22>=$H70,MOD($H70-M$22,$I70)=0),$G70,0))) -> 0 | N70: =IF($G70="Invoer",0,IF($G70=0,0,IF(AND(N$22>=$H70,MOD($H70-N$22,$I70)=0),$G70,0))) -> 0 | O70: =IF($G70="Invoer",0,IF($G70=0,0,IF(AND(O$22>=$H70,MOD($H70-O$22,$I70)=0),$G70,0))) -> 0 | P70: =IF($G70="Invoer",0,IF($G70=0,0,IF(AND(P$22>=$H70,MOD($H70-P$22,$I70)=0),$G70,0))) -> 0 | Q70: =IF($G70="Invoer",0,IF($G70=0,0,IF(AND(Q$22>=$H70,MOD($H70-Q$22,$I70)=0),$G70,0))) -> 0 | R70: =IF($G70="Invoer",0,IF($G70=0,0,IF(AND(R$22>=$H70,MOD($H70-R$22,$I70)=0),$G70,0))) -> 0 | ... T70: =IF($G70="Invoer",0,IF($G70=0,0,IF(AND(T$22>=$H70,MOD($H70-T$22,$I70)=0),$G70,0))) -> 0 | U70: =IF(E70>4,1,0) -> 0
B71: 509 | C71: Staalkabels | D71: N.v.t. | G71: 0 | J71: 3000 | K71: =IF($G71="Invoer",0,IF($G71=0,0,IF(AND(K$22>=$H71,MOD($H71-K$22,$I71)=0),$G71,0))) -> 0 | L71: =IF($G71="Invoer",0,IF($G71=0,0,IF(AND(L$22>=$H71,MOD($H71-L$22,$I71)=0),$G71,0))) -> 0 | M71: =IF($G71="Invoer",0,IF($G71=0,0,IF(AND(M$22>=$H71,MOD($H71-M$22,$I71)=0),$G71,0))) -> 0 | N71: =IF($G71="Invoer",0,IF($G71=0,0,IF(AND(N$22>=$H71,MOD($H71-N$22,$I71)=0),$G71,0))) -> 0 | O71: =IF($G71="Invoer",0,IF($G71=0,0,IF(AND(O$22>=$H71,MOD($H71-O$22,$I71)=0),$G71,0))) -> 0 | P71: =IF($G71="Invoer",0,IF($G71=0,0,IF(AND(P$22>=$H71,MOD($H71-P$22,$I71)=0),$G71,0))) -> 0 | Q71: =IF($G71="Invoer",0,IF($G71=0,0,IF(AND(Q$22>=$H71,MOD($H71-Q$22,$I71)=0),$G71,0))) -> 0 | R71: =IF($G71="Invoer",0,IF($G71=0,0,IF(AND(R$22>=$H71,MOD($H71-R$22,$I71)=0),$G71,0))) -> 0 | ... T71: =IF($G71="Invoer",0,IF($G71=0,0,IF(AND(T$22>=$H71,MOD($H71-T$22,$I71)=0),$G71,0))) -> 0
B72: 510 | C72: Afleidwiel plunjer | D72: N.v.t. | G72: 0 | J72: 1500 | K72: =IF($G72="Invoer",0,IF($G72=0,0,IF(AND(K$22>=$H72,MOD($H72-K$22,$I72)=0),$G72,0))) -> 0 | L72: =IF($G72="Invoer",0,IF($G72=0,0,IF(AND(L$22>=$H72,MOD($H72-L$22,$I72)=0),$G72,0))) -> 0 | M72: =IF($G72="Invoer",0,IF($G72=0,0,IF(AND(M$22>=$H72,MOD($H72-M$22,$I72)=0),$G72,0))) -> 0 | N72: =IF($G72="Invoer",0,IF($G72=0,0,IF(AND(N$22>=$H72,MOD($H72-N$22,$I72)=0),$G72,0))) -> 0 | O72: =IF($G72="Invoer",0,IF($G72=0,0,IF(AND(O$22>=$H72,MOD($H72-O$22,$I72)=0),$G72,0))) -> 0 | P72: =IF($G72="Invoer",0,IF($G72=0,0,IF(AND(P$22>=$H72,MOD($H72-P$22,$I72)=0),$G72,0))) -> 0 | Q72: =IF($G72="Invoer",0,IF($G72=0,0,IF(AND(Q$22>=$H72,MOD($H72-Q$22,$I72)=0),$G72,0))) -> 0 | R72: =IF($G72="Invoer",0,IF($G72=0,0,IF(AND(R$22>=$H72,MOD($H72-R$22,$I72)=0),$G72,0))) -> 0 | ... T72: =IF($G72="Invoer",0,IF($G72=0,0,IF(AND(T$22>=$H72,MOD($H72-T$22,$I72)=0),$G72,0))) -> 0 | U72: =IF(E72>4,1,0) -> 0
B74: Geleiding
B75: 600 | C75: Opstelling | D75: Centrale opstelling | K75: =IF($G75=0,0,IF(AND(K$22>=$H75,MOD($H75-K$22,$I75)=0),$G75,0)) -> 0 | L75: =IF($G75=0,0,IF(AND(L$22>=$H75,MOD($H75-L$22,$I75)=0),$G75,0)) -> 0 | M75: =IF($G75=0,0,IF(AND(M$22>=$H75,MOD($H75-M$22,$I75)=0),$G75,0)) -> 0 | N75: =IF($G75=0,0,IF(AND(N$22>=$H75,MOD($H75-N$22,$I75)=0),$G75,0)) -> 0 | O75: =IF($G75=0,0,IF(AND(O$22>=$H75,MOD($H75-O$22,$I75)=0),$G75,0)) -> 0 | P75: =IF($G75=0,0,IF(AND(P$22>=$H75,MOD($H75-P$22,$I75)=0),$G75,0)) -> 0 | Q75: =IF($G75=0,0,IF(AND(Q$22>=$H75,MOD($H75-Q$22,$I75)=0),$G75,0)) -> 0 | R75: =IF($G75=0,0,IF(AND(R$22>=$H75,MOD($H75-R$22,$I75)=0),$G75,0)) -> 0 | ... T75: =IF($G75=0,0,IF(AND(T$22>=$H75,MOD($H75-T$22,$I75)=0),$G75,0)) -> 0 | U75: =IF(E75>4,1,0) -> 0
B76: 601 | C76: Cabinegeleiding: | D76: Sloffen | E76: 3 | F76: 2005 | G76: Invoer | H76: 2026 | I76: 15 | J76: 600 | K76: =IF($G76="Invoer",0,IF($G76=0,0,IF(AND(K$22>=$H76,MOD($H76-K$22,$I76)=0),$G76,0))) -> 0 | L76: =IF($G76="Invoer",0,IF($G76=0,0,IF(AND(L$22>=$H76,MOD($H76-L$22,$I76)=0),$G76,0))) -> 0 | M76: =IF($G76="Invoer",0,IF($G76=0,0,IF(AND(M$22>=$H76,MOD($H76-M$22,$I76)=0),$G76,0))) -> 0 | N76: =IF($G76="Invoer",0,IF($G76=0,0,IF(AND(N$22>=$H76,MOD($H76-N$22,$I76)=0),$G76,0))) -> 0 | O76: =IF($G76="Invoer",0,IF($G76=0,0,IF(AND(O$22>=$H76,MOD($H76-O$22,$I76)=0),$G76,0))) -> 0 | P76: =IF($G76="Invoer",0,IF($G76=0,0,IF(AND(P$22>=$H76,MOD($H76-P$22,$I76)=0),$G76,0))) -> 0 | Q76: =IF($G76="Invoer",0,IF($G76=0,0,IF(AND(Q$22>=$H76,MOD($H76-Q$22,$I76)=0),$G76,0))) -> 0 | R76: =IF($G76="Invoer",0,IF($G76=0,0,IF(AND(R$22>=$H76,MOD($H76-R$22,$I76)=0),$G76,0))) -> 0 | ... T76: =IF($G76="Invoer",0,IF($G76=0,0,IF(AND(T$22>=$H76,MOD($H76-T$22,$I76)=0),$G76,0))) -> 0 | U76: =IF(E76>4,1,0) -> 0
B77: 602 | C77: Tegengewichtgeleiding: | D77: Sloffen | E77: 3 | F77: 2005 | G77: Invoer | H77: 2026 | I77: 15 | J77: 600 | K77: =IF($G77="Invoer",0,IF($G77=0,0,IF(AND(K$22>=$H77,MOD($H77-K$22,$I77)=0),$G77,0))) -> 0 | L77: =IF($G77="Invoer",0,IF($G77=0,0,IF(AND(L$22>=$H77,MOD($H77-L$22,$I77)=0),$G77,0))) -> 0 | M77: =IF($G77="Invoer",0,IF($G77=0,0,IF(AND(M$22>=$H77,MOD($H77-M$22,$I77)=0),$G77,0))) -> 0 | N77: =IF($G77="Invoer",0,IF($G77=0,0,IF(AND(N$22>=$H77,MOD($H77-N$22,$I77)=0),$G77,0))) -> 0 | O77: =IF($G77="Invoer",0,IF($G77=0,0,IF(AND(O$22>=$H77,MOD($H77-O$22,$I77)=0),$G77,0))) -> 0 | P77: =IF($G77="Invoer",0,IF($G77=0,0,IF(AND(P$22>=$H77,MOD($H77-P$22,$I77)=0),$G77,0))) -> 0 | Q77: =IF($G77="Invoer",0,IF($G77=0,0,IF(AND(Q$22>=$H77,MOD($H77-Q$22,$I77)=0),$G77,0))) -> 0 | R77: =IF($G77="Invoer",0,IF($G77=0,0,IF(AND(R$22>=$H77,MOD($H77-R$22,$I77)=0),$G77,0))) -> 0 | ... T77: =IF($G77="Invoer",0,IF($G77=0,0,IF(AND(T$22>=$H77,MOD($H77-T$22,$I77)=0),$G77,0))) -> 0
G78: 0 | K78: =IF($G78=0,0,IF(AND(K$22>=$H78,MOD($H78-K$22,$I78)=0),$G78,0)) -> 0 | L78: =IF($G78=0,0,IF(AND(L$22>=$H78,MOD($H78-L$22,$I78)=0),$G78,0)) -> 0 | M78: =IF($G78=0,0,IF(AND(M$22>=$H78,MOD($H78-M$22,$I78)=0),$G78,0)) -> 0 | N78: =IF($G78=0,0,IF(AND(N$22>=$H78,MOD($H78-N$22,$I78)=0),$G78,0)) -> 0 | O78: =IF($G78=0,0,IF(AND(O$22>=$H78,MOD($H78-O$22,$I78)=0),$G78,0)) -> 0 | P78: =IF($G78=0,0,IF(AND(P$22>=$H78,MOD($H78-P$22,$I78)=0),$G78,0)) -> 0 | Q78: =IF($G78=0,0,IF(AND(Q$22>=$H78,MOD($H78-Q$22,$I78)=0),$G78,0)) -> 0 | R78: =IF($G78=0,0,IF(AND(R$22>=$H78,MOD($H78-R$22,$I78)=0),$G78,0)) -> 0 | ... T78: =IF($G78=0,0,IF(AND(T$22>=$H78,MOD($H78-T$22,$I78)=0),$G78,0)) -> 0 | U78: =IF(E78>4,1,0) -> 0
B80: Signalering
B81: 700 | C81: Fabricaat en type cabinetableau | D81: ThyssenKrupp ronde knop | E81: 3 | F81: 2005 | G81: Invoer | H81: 2026 | I81: 20 | J81: 2200 | K81: =IF($G81="Invoer",0,IF($G81=0,0,IF(AND(K$22>=$H81,MOD($H81-K$22,$I81)=0),$G81,0))) -> 0 | L81: =IF($G81="Invoer",0,IF($G81=0,0,IF(AND(L$22>=$H81,MOD($H81-L$22,$I81)=0),$G81,0))) -> 0 | M81: =IF($G81="Invoer",0,IF($G81=0,0,IF(AND(M$22>=$H81,MOD($H81-M$22,$I81)=0),$G81,0))) -> 0 | N81: =IF($G81="Invoer",0,IF($G81=0,0,IF(AND(N$22>=$H81,MOD($H81-N$22,$I81)=0),$G81,0))) -> 0 | O81: =IF($G81="Invoer",0,IF($G81=0,0,IF(AND(O$22>=$H81,MOD($H81-O$22,$I81)=0),$G81,0))) -> 0 | P81: =IF($G81="Invoer",0,IF($G81=0,0,IF(AND(P$22>=$H81,MOD($H81-P$22,$I81)=0),$G81,0))) -> 0 | Q81: =IF($G81="Invoer",0,IF($G81=0,0,IF(AND(Q$22>=$H81,MOD($H81-Q$22,$I81)=0),$G81,0))) -> 0 | R81: =IF($G81="Invoer",0,IF($G81=0,0,IF(AND(R$22>=$H81,MOD($H81-R$22,$I81)=0),$G81,0))) -> 0 | ... T81: =IF($G81="Invoer",0,IF($G81=0,0,IF(AND(T$22>=$H81,MOD($H81-T$22,$I81)=0),$G81,0))) -> 0 | U81: =IF(E81>4,1,0) -> 0
B82: 701 | C82: 2e gebrek cabinetableau | G82: 0 | K82: =IF($G82="Invoer",0,IF($G82=0,0,IF(AND(K$22>=$H82,MOD($H82-K$22,$I82)=0),$G82,0))) -> 0 | L82: =IF($G82="Invoer",0,IF($G82=0,0,IF(AND(L$22>=$H82,MOD($H82-L$22,$I82)=0),$G82,0))) -> 0 | M82: =IF($G82="Invoer",0,IF($G82=0,0,IF(AND(M$22>=$H82,MOD($H82-M$22,$I82)=0),$G82,0))) -> 0 | N82: =IF($G82="Invoer",0,IF($G82=0,0,IF(AND(N$22>=$H82,MOD($H82-N$22,$I82)=0),$G82,0))) -> 0 | O82: =IF($G82="Invoer",0,IF($G82=0,0,IF(AND(O$22>=$H82,MOD($H82-O$22,$I82)=0),$G82,0))) -> 0 | P82: =IF($G82="Invoer",0,IF($G82=0,0,IF(AND(P$22>=$H82,MOD($H82-P$22,$I82)=0),$G82,0))) -> 0 | Q82: =IF($G82="Invoer",0,IF($G82=0,0,IF(AND(Q$22>=$H82,MOD($H82-Q$22,$I82)=0),$G82,0))) -> 0 | R82: =IF($G82="Invoer",0,IF($G82=0,0,IF(AND(R$22>=$H82,MOD($H82-R$22,$I82)=0),$G82,0))) -> 0 | ... T82: =IF($G82="Invoer",0,IF($G82=0,0,IF(AND(T$22>=$H82,MOD($H82-T$22,$I82)=0),$G82,0))) -> 0 | U82: =IF(E82>4,1,0) -> 0
B83: 702 | C83: Grootvlak | D83: Nee | G83: 0 | J83: 1000 | K83: =IF($G83="Invoer",0,IF($G83=0,0,IF(AND(K$22>=$H83,MOD($H83-K$22,$I83)=0),$G83,0))) -> 0 | L83: =IF($G83="Invoer",0,IF($G83=0,0,IF(AND(L$22>=$H83,MOD($H83-L$22,$I83)=0),$G83,0))) -> 0 | M83: =IF($G83="Invoer",0,IF($G83=0,0,IF(AND(M$22>=$H83,MOD($H83-M$22,$I83)=0),$G83,0))) -> 0 | N83: =IF($G83="Invoer",0,IF($G83=0,0,IF(AND(N$22>=$H83,MOD($H83-N$22,$I83)=0),$G83,0))) -> 0 | O83: =IF($G83="Invoer",0,IF($G83=0,0,IF(AND(O$22>=$H83,MOD($H83-O$22,$I83)=0),$G83,0))) -> 0 | P83: =IF($G83="Invoer",0,IF($G83=0,0,IF(AND(P$22>=$H83,MOD($H83-P$22,$I83)=0),$G83,0))) -> 0 | Q83: =IF($G83="Invoer",0,IF($G83=0,0,IF(AND(Q$22>=$H83,MOD($H83-Q$22,$I83)=0),$G83,0))) -> 0 | R83: =IF($G83="Invoer",0,IF($G83=0,0,IF(AND(R$22>=$H83,MOD($H83-R$22,$I83)=0),$G83,0))) -> 0 | ... T83: =IF($G83="Invoer",0,IF($G83=0,0,IF(AND(T$22>=$H83,MOD($H83-T$22,$I83)=0),$G83,0))) -> 0 | U83: =IF(E83>4,1,0) -> 0
B84: 703 | C84: Standaanwijzing | D84: Ja | E84: 3 | F84: 2005 | G84: Invoer | H84: 2026 | I84: 20 | J84: 900 | K84: =IF($G84="Invoer",0,IF($G84=0,0,IF(AND(K$22>=$H84,MOD($H84-K$22,$I84)=0),$G84,0))) -> 0 | L84: =IF($G84="Invoer",0,IF($G84=0,0,IF(AND(L$22>=$H84,MOD($H84-L$22,$I84)=0),$G84,0))) -> 0 | M84: =IF($G84="Invoer",0,IF($G84=0,0,IF(AND(M$22>=$H84,MOD($H84-M$22,$I84)=0),$G84,0))) -> 0 | N84: =IF($G84="Invoer",0,IF($G84=0,0,IF(AND(N$22>=$H84,MOD($H84-N$22,$I84)=0),$G84,0))) -> 0 | O84: =IF($G84="Invoer",0,IF($G84=0,0,IF(AND(O$22>=$H84,MOD($H84-O$22,$I84)=0),$G84,0))) -> 0 | P84: =IF($G84="Invoer",0,IF($G84=0,0,IF(AND(P$22>=$H84,MOD($H84-P$22,$I84)=0),$G84,0))) -> 0 | Q84: =IF($G84="Invoer",0,IF($G84=0,0,IF(AND(Q$22>=$H84,MOD($H84-Q$22,$I84)=0),$G84,0))) -> 0 | R84: =IF($G84="Invoer",0,IF($G84=0,0,IF(AND(R$22>=$H84,MOD($H84-R$22,$I84)=0),$G84,0))) -> 0 | ... T84: =IF($G84="Invoer",0,IF($G84=0,0,IF(AND(T$22>=$H84,MOD($H84-T$22,$I84)=0),$G84,0))) -> 0 | U84: =IF(E84>4,1,0) -> 0
B85: 704 | C85: Spraakmodule | D85: Nee | G85: 0 | J85: 1500 | K85: =IF($G85="Invoer",0,IF($G85=0,0,IF(AND(K$22>=$H85,MOD($H85-K$22,$I85)=0),$G85,0))) -> 0 | L85: =IF($G85="Invoer",0,IF($G85=0,0,IF(AND(L$22>=$H85,MOD($H85-L$22,$I85)=0),$G85,0))) -> 0 | M85: =IF($G85="Invoer",0,IF($G85=0,0,IF(AND(M$22>=$H85,MOD($H85-M$22,$I85)=0),$G85,0))) -> 0 | N85: =IF($G85="Invoer",0,IF($G85=0,0,IF(AND(N$22>=$H85,MOD($H85-N$22,$I85)=0),$G85,0))) -> 0 | O85: =IF($G85="Invoer",0,IF($G85=0,0,IF(AND(O$22>=$H85,MOD($H85-O$22,$I85)=0),$G85,0))) -> 0 | P85: =IF($G85="Invoer",0,IF($G85=0,0,IF(AND(P$22>=$H85,MOD($H85-P$22,$I85)=0),$G85,0))) -> 0 | Q85: =IF($G85="Invoer",0,IF($G85=0,0,IF(AND(Q$22>=$H85,MOD($H85-Q$22,$I85)=0),$G85,0))) -> 0 | R85: =IF($G85="Invoer",0,IF($G85=0,0,IF(AND(R$22>=$H85,MOD($H85-R$22,$I85)=0),$G85,0))) -> 0 | ... T85: =IF($G85="Invoer",0,IF($G85=0,0,IF(AND(T$22>=$H85,MOD($H85-T$22,$I85)=0),$G85,0))) -> 0 | U85: =IF(E85>4,1,0) -> 0
B86: 705 | C86: Deur-open-knop | D86: Ja | E86: 3 | F86: 2005 | G86: Invoer | H86: 2026 | I86: 20 | J86: 250 | K86: =IF($G86="Invoer",0,IF($G86=0,0,IF(AND(K$22>=$H86,MOD($H86-K$22,$I86)=0),$G86,0))) -> 0 | L86: =IF($G86="Invoer",0,IF($G86=0,0,IF(AND(L$22>=$H86,MOD($H86-L$22,$I86)=0),$G86,0))) -> 0 | M86: =IF($G86="Invoer",0,IF($G86=0,0,IF(AND(M$22>=$H86,MOD($H86-M$22,$I86)=0),$G86,0))) -> 0 | N86: =IF($G86="Invoer",0,IF($G86=0,0,IF(AND(N$22>=$H86,MOD($H86-N$22,$I86)=0),$G86,0))) -> 0 | O86: =IF($G86="Invoer",0,IF($G86=0,0,IF(AND(O$22>=$H86,MOD($H86-O$22,$I86)=0),$G86,0))) -> 0 | P86: =IF($G86="Invoer",0,IF($G86=0,0,IF(AND(P$22>=$H86,MOD($H86-P$22,$I86)=0),$G86,0))) -> 0 | Q86: =IF($G86="Invoer",0,IF($G86=0,0,IF(AND(Q$22>=$H86,MOD($H86-Q$22,$I86)=0),$G86,0))) -> 0 | R86: =IF($G86="Invoer",0,IF($G86=0,0,IF(AND(R$22>=$H86,MOD($H86-R$22,$I86)=0),$G86,0))) -> 0 | ... T86: =IF($G86="Invoer",0,IF($G86=0,0,IF(AND(T$22>=$H86,MOD($H86-T$22,$I86)=0),$G86,0))) -> 0 | U86: =IF(E86>4,1,0) -> 0
B87: 706 | C87: Deur-sluiten-knop | D87: Ja | E87: 3 | F87: 2005 | G87: Invoer | H87: 2026 | I87: 20 | J87: 250 | K87: =IF($G87="Invoer",0,IF($G87=0,0,IF(AND(K$22>=$H87,MOD($H87-K$22,$I87)=0),$G87,0))) -> 0 | L87: =IF($G87="Invoer",0,IF($G87=0,0,IF(AND(L$22>=$H87,MOD($H87-L$22,$I87)=0),$G87,0))) -> 0 | M87: =IF($G87="Invoer",0,IF($G87=0,0,IF(AND(M$22>=$H87,MOD($H87-M$22,$I87)=0),$G87,0))) -> 0 | N87: =IF($G87="Invoer",0,IF($G87=0,0,IF(AND(N$22>=$H87,MOD($H87-N$22,$I87)=0),$G87,0))) -> 0 | O87: =IF($G87="Invoer",0,IF($G87=0,0,IF(AND(O$22>=$H87,MOD($H87-O$22,$I87)=0),$G87,0))) -> 0 | P87: =IF($G87="Invoer",0,IF($G87=0,0,IF(AND(P$22>=$H87,MOD($H87-P$22,$I87)=0),$G87,0))) -> 0 | Q87: =IF($G87="Invoer",0,IF($G87=0,0,IF(AND(Q$22>=$H87,MOD($H87-Q$22,$I87)=0),$G87,0))) -> 0 | R87: =IF($G87="Invoer",0,IF($G87=0,0,IF(AND(R$22>=$H87,MOD($H87-R$22,$I87)=0),$G87,0))) -> 0 | ... T87: =IF($G87="Invoer",0,IF($G87=0,0,IF(AND(T$22>=$H87,MOD($H87-T$22,$I87)=0),$G87,0))) -> 0 | U87: =IF(E87>4,1,0) -> 0
B88: 707 | C88: Sleutelschakelaar | D88: Ja | E88: 3 | F88: 2005 | G88: Invoer | H88: 2026 | I88: 20 | J88: 500 | K88: =IF($G88="Invoer",0,IF($G88=0,0,IF(AND(K$22>=$H88,MOD($H88-K$22,$I88)=0),$G88,0))) -> 0 | L88: =IF($G88="Invoer",0,IF($G88=0,0,IF(AND(L$22>=$H88,MOD($H88-L$22,$I88)=0),$G88,0))) -> 0 | M88: =IF($G88="Invoer",0,IF($G88=0,0,IF(AND(M$22>=$H88,MOD($H88-M$22,$I88)=0),$G88,0))) -> 0 | N88: =IF($G88="Invoer",0,IF($G88=0,0,IF(AND(N$22>=$H88,MOD($H88-N$22,$I88)=0),$G88,0))) -> 0 | O88: =IF($G88="Invoer",0,IF($G88=0,0,IF(AND(O$22>=$H88,MOD($H88-O$22,$I88)=0),$G88,0))) -> 0 | P88: =IF($G88="Invoer",0,IF($G88=0,0,IF(AND(P$22>=$H88,MOD($H88-P$22,$I88)=0),$G88,0))) -> 0 | Q88: =IF($G88="Invoer",0,IF($G88=0,0,IF(AND(Q$22>=$H88,MOD($H88-Q$22,$I88)=0),$G88,0))) -> 0 | R88: =IF($G88="Invoer",0,IF($G88=0,0,IF(AND(R$22>=$H88,MOD($H88-R$22,$I88)=0),$G88,0))) -> 0 | ... T88: =IF($G88="Invoer",0,IF($G88=0,0,IF(AND(T$22>=$H88,MOD($H88-T$22,$I88)=0),$G88,0))) -> 0 | U88: =IF(E88>4,1,0) -> 0
B89: 708 | C89: Overlastsignalering | D89: Ja | E89: 3 | F89: 2005 | G89: Invoer | H89: 2026 | I89: 20 | J89: 500 | K89: =IF($G89="Invoer",0,IF($G89=0,0,IF(AND(K$22>=$H89,MOD($H89-K$22,$I89)=0),$G89,0))) -> 0 | L89: =IF($G89="Invoer",0,IF($G89=0,0,IF(AND(L$22>=$H89,MOD($H89-L$22,$I89)=0),$G89,0))) -> 0 | M89: =IF($G89="Invoer",0,IF($G89=0,0,IF(AND(M$22>=$H89,MOD($H89-M$22,$I89)=0),$G89,0))) -> 0 | N89: =IF($G89="Invoer",0,IF($G89=0,0,IF(AND(N$22>=$H89,MOD($H89-N$22,$I89)=0),$G89,0))) -> 0 | O89: =IF($G89="Invoer",0,IF($G89=0,0,IF(AND(O$22>=$H89,MOD($H89-O$22,$I89)=0),$G89,0))) -> 0 | P89: =IF($G89="Invoer",0,IF($G89=0,0,IF(AND(P$22>=$H89,MOD($H89-P$22,$I89)=0),$G89,0))) -> 0 | Q89: =IF($G89="Invoer",0,IF($G89=0,0,IF(AND(Q$22>=$H89,MOD($H89-Q$22,$I89)=0),$G89,0))) -> 0 | R89: =IF($G89="Invoer",0,IF($G89=0,0,IF(AND(R$22>=$H89,MOD($H89-R$22,$I89)=0),$G89,0))) -> 0 | ... T89: =IF($G89="Invoer",0,IF($G89=0,0,IF(AND(T$22>=$H89,MOD($H89-T$22,$I89)=0),$G89,0))) -> 0 | U89: =IF(E89>4,1,0) -> 0
B90: 709 | C90: Cabineventilator | D90: Nee | G90: 0 | J90: 500 | K90: =IF($G90="Invoer",0,IF($G90=0,0,IF(AND(K$22>=$H90,MOD($H90-K$22,$I90)=0),$G90,0))) -> 0 | L90: =IF($G90="Invoer",0,IF($G90=0,0,IF(AND(L$22>=$H90,MOD($H90-L$22,$I90)=0),$G90,0))) -> 0 | M90: =IF($G90="Invoer",0,IF($G90=0,0,IF(AND(M$22>=$H90,MOD($H90-M$22,$I90)=0),$G90,0))) -> 0 | N90: =IF($G90="Invoer",0,IF($G90=0,0,IF(AND(N$22>=$H90,MOD($H90-N$22,$I90)=0),$G90,0))) -> 0 | O90: =IF($G90="Invoer",0,IF($G90=0,0,IF(AND(O$22>=$H90,MOD($H90-O$22,$I90)=0),$G90,0))) -> 0 | P90: =IF($G90="Invoer",0,IF($G90=0,0,IF(AND(P$22>=$H90,MOD($H90-P$22,$I90)=0),$G90,0))) -> 0 | Q90: =IF($G90="Invoer",0,IF($G90=0,0,IF(AND(Q$22>=$H90,MOD($H90-Q$22,$I90)=0),$G90,0))) -> 0 | R90: =IF($G90="Invoer",0,IF($G90=0,0,IF(AND(R$22>=$H90,MOD($H90-R$22,$I90)=0),$G90,0))) -> 0 | ... T90: =IF($G90="Invoer",0,IF($G90=0,0,IF(AND(T$22>=$H90,MOD($H90-T$22,$I90)=0),$G90,0))) -> 0 | U90: =IF(E90>4,1,0) -> 0
B91: 710 | C91: Spreek- luisterverbinding | D91: EDNL GSM | E91: 3 | F91: 2013 | G91: 0 | H91: 2036 | I91: 20 | J91: 850 | K91: =IF($G91="Invoer",0,IF($G91=0,0,IF(AND(K$22>=$H91,MOD($H91-K$22,$I91)=0),$G91,0))) -> 0 | L91: =IF($G91="Invoer",0,IF($G91=0,0,IF(AND(L$22>=$H91,MOD($H91-L$22,$I91)=0),$G91,0))) -> 0 | M91: =IF($G91="Invoer",0,IF($G91=0,0,IF(AND(M$22>=$H91,MOD($H91-M$22,$I91)=0),$G91,0))) -> 0 | N91: =IF($G91="Invoer",0,IF($G91=0,0,IF(AND(N$22>=$H91,MOD($H91-N$22,$I91)=0),$G91,0))) -> 0 | O91: =IF($G91="Invoer",0,IF($G91=0,0,IF(AND(O$22>=$H91,MOD($H91-O$22,$I91)=0),$G91,0))) -> 0 | P91: =IF($G91="Invoer",0,IF($G91=0,0,IF(AND(P$22>=$H91,MOD($H91-P$22,$I91)=0),$G91,0))) -> 0 | Q91: =IF($G91="Invoer",0,IF($G91=0,0,IF(AND(Q$22>=$H91,MOD($H91-Q$22,$I91)=0),$G91,0))) -> 0 | R91: =IF($G91="Invoer",0,IF($G91=0,0,IF(AND(R$22>=$H91,MOD($H91-R$22,$I91)=0),$G91,0))) -> 0 | ... T91: =IF($G91="Invoer",0,IF($G91=0,0,IF(AND(T$22>=$H91,MOD($H91-T$22,$I91)=0),$G91,0))) -> 0 | U91: =IF(E91>4,1,0) -> 0
B92: 711 | C92: Overige signaleringen | D92: Geen | G92: 0 | K92: =IF($G92="Invoer",0,IF($G92=0,0,IF(AND(K$22>=$H92,MOD($H92-K$22,$I92)=0),$G92,0))) -> 0 | L92: =IF($G92="Invoer",0,IF($G92=0,0,IF(AND(L$22>=$H92,MOD($H92-L$22,$I92)=0),$G92,0))) -> 0 | M92: =IF($G92="Invoer",0,IF($G92=0,0,IF(AND(M$22>=$H92,MOD($H92-M$22,$I92)=0),$G92,0))) -> 0 | N92: =IF($G92="Invoer",0,IF($G92=0,0,IF(AND(N$22>=$H92,MOD($H92-N$22,$I92)=0),$G92,0))) -> 0 | O92: =IF($G92="Invoer",0,IF($G92=0,0,IF(AND(O$22>=$H92,MOD($H92-O$22,$I92)=0),$G92,0))) -> 0 | P92: =IF($G92="Invoer",0,IF($G92=0,0,IF(AND(P$22>=$H92,MOD($H92-P$22,$I92)=0),$G92,0))) -> 0 | Q92: =IF($G92="Invoer",0,IF($G92=0,0,IF(AND(Q$22>=$H92,MOD($H92-Q$22,$I92)=0),$G92,0))) -> 0 | R92: =IF($G92="Invoer",0,IF($G92=0,0,IF(AND(R$22>=$H92,MOD($H92-R$22,$I92)=0),$G92,0))) -> 0 | ... T92: =IF($G92="Invoer",0,IF($G92=0,0,IF(AND(T$22>=$H92,MOD($H92-T$22,$I92)=0),$G92,0))) -> 0 | U92: =IF(E92>4,1,0) -> 0
B93: 712 | G93: 0 | K93: =IF($G93="Invoer",0,IF($G93=0,0,IF(AND(K$22>=$H93,MOD($H93-K$22,$I93)=0),$G93,0))) -> 0 | L93: =IF($G93="Invoer",0,IF($G93=0,0,IF(AND(L$22>=$H93,MOD($H93-L$22,$I93)=0),$G93,0))) -> 0 | M93: =IF($G93="Invoer",0,IF($G93=0,0,IF(AND(M$22>=$H93,MOD($H93-M$22,$I93)=0),$G93,0))) -> 0 | N93: =IF($G93="Invoer",0,IF($G93=0,0,IF(AND(N$22>=$H93,MOD($H93-N$22,$I93)=0),$G93,0))) -> 0 | O93: =IF($G93="Invoer",0,IF($G93=0,0,IF(AND(O$22>=$H93,MOD($H93-O$22,$I93)=0),$G93,0))) -> 0 | P93: =IF($G93="Invoer",0,IF($G93=0,0,IF(AND(P$22>=$H93,MOD($H93-P$22,$I93)=0),$G93,0))) -> 0 | Q93: =IF($G93="Invoer",0,IF($G93=0,0,IF(AND(Q$22>=$H93,MOD($H93-Q$22,$I93)=0),$G93,0))) -> 0 | R93: =IF($G93="Invoer",0,IF($G93=0,0,IF(AND(R$22>=$H93,MOD($H93-R$22,$I93)=0),$G93,0))) -> 0 | ... T93: =IF($G93="Invoer",0,IF($G93=0,0,IF(AND(T$22>=$H93,MOD($H93-T$22,$I93)=0),$G93,0))) -> 0
B94: 750 | C94: Fabricaat en type schachttableau | D94: ThyssenKrupp ronde knop | E94: 3 | F94: 2005 | G94: Invoer | H94: 2026 | I94: 20 | J94: 1400 | K94: =IF($G94="Invoer",0,IF($G94=0,0,IF(AND(K$22>=$H94,MOD($H94-K$22,$I94)=0),$G94,0))) -> 0 | L94: =IF($G94="Invoer",0,IF($G94=0,0,IF(AND(L$22>=$H94,MOD($H94-L$22,$I94)=0),$G94,0))) -> 0 | M94: =IF($G94="Invoer",0,IF($G94=0,0,IF(AND(M$22>=$H94,MOD($H94-M$22,$I94)=0),$G94,0))) -> 0 | N94: =IF($G94="Invoer",0,IF($G94=0,0,IF(AND(N$22>=$H94,MOD($H94-N$22,$I94)=0),$G94,0))) -> 0 | O94: =IF($G94="Invoer",0,IF($G94=0,0,IF(AND(O$22>=$H94,MOD($H94-O$22,$I94)=0),$G94,0))) -> 0 | P94: =IF($G94="Invoer",0,IF($G94=0,0,IF(AND(P$22>=$H94,MOD($H94-P$22,$I94)=0),$G94,0))) -> 0 | Q94: =IF($G94="Invoer",0,IF($G94=0,0,IF(AND(Q$22>=$H94,MOD($H94-Q$22,$I94)=0),$G94,0))) -> 0 | R94: =IF($G94="Invoer",0,IF($G94=0,0,IF(AND(R$22>=$H94,MOD($H94-R$22,$I94)=0),$G94,0))) -> 0 | ... T94: =IF($G94="Invoer",0,IF($G94=0,0,IF(AND(T$22>=$H94,MOD($H94-T$22,$I94)=0),$G94,0))) -> 0 | U94: =IF(E94>4,1,0) -> 0
B95: 751 | C95: Brandweerschakelaar | D95: Nee | G95: 0 | J95: 650 | K95: =IF($G95="Invoer",0,IF($G95=0,0,IF(AND(K$22>=$H95,MOD($H95-K$22,$I95)=0),$G95,0))) -> 0 | L95: =IF($G95="Invoer",0,IF($G95=0,0,IF(AND(L$22>=$H95,MOD($H95-L$22,$I95)=0),$G95,0))) -> 0 | M95: =IF($G95="Invoer",0,IF($G95=0,0,IF(AND(M$22>=$H95,MOD($H95-M$22,$I95)=0),$G95,0))) -> 0 | N95: =IF($G95="Invoer",0,IF($G95=0,0,IF(AND(N$22>=$H95,MOD($H95-N$22,$I95)=0),$G95,0))) -> 0 | O95: =IF($G95="Invoer",0,IF($G95=0,0,IF(AND(O$22>=$H95,MOD($H95-O$22,$I95)=0),$G95,0))) -> 0 | P95: =IF($G95="Invoer",0,IF($G95=0,0,IF(AND(P$22>=$H95,MOD($H95-P$22,$I95)=0),$G95,0))) -> 0 | Q95: =IF($G95="Invoer",0,IF($G95=0,0,IF(AND(Q$22>=$H95,MOD($H95-Q$22,$I95)=0),$G95,0))) -> 0 | R95: =IF($G95="Invoer",0,IF($G95=0,0,IF(AND(R$22>=$H95,MOD($H95-R$22,$I95)=0),$G95,0))) -> 0 | ... T95: =IF($G95="Invoer",0,IF($G95=0,0,IF(AND(T$22>=$H95,MOD($H95-T$22,$I95)=0),$G95,0))) -> 0 | U95: =IF(E95>4,1,0) -> 0
B96: 752 | C96: Sleutelschakelaar | D96: Nee | G96: 0 | J96: 500 | K96: =IF($G96="Invoer",0,IF($G96=0,0,IF(AND(K$22>=$H96,MOD($H96-K$22,$I96)=0),$G96,0))) -> 0 | L96: =IF($G96="Invoer",0,IF($G96=0,0,IF(AND(L$22>=$H96,MOD($H96-L$22,$I96)=0),$G96,0))) -> 0 | M96: =IF($G96="Invoer",0,IF($G96=0,0,IF(AND(M$22>=$H96,MOD($H96-M$22,$I96)=0),$G96,0))) -> 0 | N96: =IF($G96="Invoer",0,IF($G96=0,0,IF(AND(N$22>=$H96,MOD($H96-N$22,$I96)=0),$G96,0))) -> 0 | O96: =IF($G96="Invoer",0,IF($G96=0,0,IF(AND(O$22>=$H96,MOD($H96-O$22,$I96)=0),$G96,0))) -> 0 | P96: =IF($G96="Invoer",0,IF($G96=0,0,IF(AND(P$22>=$H96,MOD($H96-P$22,$I96)=0),$G96,0))) -> 0 | Q96: =IF($G96="Invoer",0,IF($G96=0,0,IF(AND(Q$22>=$H96,MOD($H96-Q$22,$I96)=0),$G96,0))) -> 0 | R96: =IF($G96="Invoer",0,IF($G96=0,0,IF(AND(R$22>=$H96,MOD($H96-R$22,$I96)=0),$G96,0))) -> 0 | ... T96: =IF($G96="Invoer",0,IF($G96=0,0,IF(AND(T$22>=$H96,MOD($H96-T$22,$I96)=0),$G96,0))) -> 0 | U96: =IF(E96>4,1,0) -> 0
B97: 753 | C97: Standaanwijzing BG | D97: Nee | G97: 0 | J97: 550 | K97: =IF($G97="Invoer",0,IF($G97=0,0,IF(AND(K$22>=$H97,MOD($H97-K$22,$I97)=0),$G97,0))) -> 0 | L97: =IF($G97="Invoer",0,IF($G97=0,0,IF(AND(L$22>=$H97,MOD($H97-L$22,$I97)=0),$G97,0))) -> 0 | M97: =IF($G97="Invoer",0,IF($G97=0,0,IF(AND(M$22>=$H97,MOD($H97-M$22,$I97)=0),$G97,0))) -> 0 | N97: =IF($G97="Invoer",0,IF($G97=0,0,IF(AND(N$22>=$H97,MOD($H97-N$22,$I97)=0),$G97,0))) -> 0 | O97: =IF($G97="Invoer",0,IF($G97=0,0,IF(AND(O$22>=$H97,MOD($H97-O$22,$I97)=0),$G97,0))) -> 0 | P97: =IF($G97="Invoer",0,IF($G97=0,0,IF(AND(P$22>=$H97,MOD($H97-P$22,$I97)=0),$G97,0))) -> 0 | Q97: =IF($G97="Invoer",0,IF($G97=0,0,IF(AND(Q$22>=$H97,MOD($H97-Q$22,$I97)=0),$G97,0))) -> 0 | R97: =IF($G97="Invoer",0,IF($G97=0,0,IF(AND(R$22>=$H97,MOD($H97-R$22,$I97)=0),$G97,0))) -> 0 | ... T97: =IF($G97="Invoer",0,IF($G97=0,0,IF(AND(T$22>=$H97,MOD($H97-T$22,$I97)=0),$G97,0))) -> 0 | U97: =IF(E97>4,1,0) -> 0
B98: 754 | C98: Standaanwijzing alle verdiepingen | D98: Nee | G98: 0 | J98: 2200 | K98: =IF($G98="Invoer",0,IF($G98=0,0,IF(AND(K$22>=$H98,MOD($H98-K$22,$I98)=0),$G98,0))) -> 0 | L98: =IF($G98="Invoer",0,IF($G98=0,0,IF(AND(L$22>=$H98,MOD($H98-L$22,$I98)=0),$G98,0))) -> 0 | M98: =IF($G98="Invoer",0,IF($G98=0,0,IF(AND(M$22>=$H98,MOD($H98-M$22,$I98)=0),$G98,0))) -> 0 | N98: =IF($G98="Invoer",0,IF($G98=0,0,IF(AND(N$22>=$H98,MOD($H98-N$22,$I98)=0),$G98,0))) -> 0 | O98: =IF($G98="Invoer",0,IF($G98=0,0,IF(AND(O$22>=$H98,MOD($H98-O$22,$I98)=0),$G98,0))) -> 0 | P98: =IF($G98="Invoer",0,IF($G98=0,0,IF(AND(P$22>=$H98,MOD($H98-P$22,$I98)=0),$G98,0))) -> 0 | Q98: =IF($G98="Invoer",0,IF($G98=0,0,IF(AND(Q$22>=$H98,MOD($H98-Q$22,$I98)=0),$G98,0))) -> 0 | R98: =IF($G98="Invoer",0,IF($G98=0,0,IF(AND(R$22>=$H98,MOD($H98-R$22,$I98)=0),$G98,0))) -> 0 | ... T98: =IF($G98="Invoer",0,IF($G98=0,0,IF(AND(T$22>=$H98,MOD($H98-T$22,$I98)=0),$G98,0))) -> 0 | U98: =IF(E98>4,1,0) -> 0
B99: 755 | C99: Overige signaleringen | D99: Geen | G99: 0 | K99: =IF($G99="Invoer",0,IF($G99=0,0,IF(AND(K$22>=$H99,MOD($H99-K$22,$I99)=0),$G99,0))) -> 0 | L99: =IF($G99="Invoer",0,IF($G99=0,0,IF(AND(L$22>=$H99,MOD($H99-L$22,$I99)=0),$G99,0))) -> 0 | M99: =IF($G99="Invoer",0,IF($G99=0,0,IF(AND(M$22>=$H99,MOD($H99-M$22,$I99)=0),$G99,0))) -> 0 | N99: =IF($G99="Invoer",0,IF($G99=0,0,IF(AND(N$22>=$H99,MOD($H99-N$22,$I99)=0),$G99,0))) -> 0 | O99: =IF($G99="Invoer",0,IF($G99=0,0,IF(AND(O$22>=$H99,MOD($H99-O$22,$I99)=0),$G99,0))) -> 0 | P99: =IF($G99="Invoer",0,IF($G99=0,0,IF(AND(P$22>=$H99,MOD($H99-P$22,$I99)=0),$G99,0))) -> 0 | Q99: =IF($G99="Invoer",0,IF($G99=0,0,IF(AND(Q$22>=$H99,MOD($H99-Q$22,$I99)=0),$G99,0))) -> 0 | R99: =IF($G99="Invoer",0,IF($G99=0,0,IF(AND(R$22>=$H99,MOD($H99-R$22,$I99)=0),$G99,0))) -> 0 | ... T99: =IF($G99="Invoer",0,IF($G99=0,0,IF(AND(T$22>=$H99,MOD($H99-T$22,$I99)=0),$G99,0))) -> 0
B100: 756 | C100: Anti-vandaal gewenst | G100: 0 | J100: 600 | K100: =IF($G100="Invoer",0,IF($G100=0,0,IF(AND(K$22>=$H100,MOD($H100-K$22,$I100)=0),$G100,0))) -> 0 | L100: =IF($G100="Invoer",0,IF($G100=0,0,IF(AND(L$22>=$H100,MOD($H100-L$22,$I100)=0),$G100,0))) -> 0 | M100: =IF($G100="Invoer",0,IF($G100=0,0,IF(AND(M$22>=$H100,MOD($H100-M$22,$I100)=0),$G100,0))) -> 0 | N100: =IF($G100="Invoer",0,IF($G100=0,0,IF(AND(N$22>=$H100,MOD($H100-N$22,$I100)=0),$G100,0))) -> 0 | O100: =IF($G100="Invoer",0,IF($G100=0,0,IF(AND(O$22>=$H100,MOD($H100-O$22,$I100)=0),$G100,0))) -> 0 | P100: =IF($G100="Invoer",0,IF($G100=0,0,IF(AND(P$22>=$H100,MOD($H100-P$22,$I100)=0),$G100,0))) -> 0 | Q100: =IF($G100="Invoer",0,IF($G100=0,0,IF(AND(Q$22>=$H100,MOD($H100-Q$22,$I100)=0),$G100,0))) -> 0 | R100: =IF($G100="Invoer",0,IF($G100=0,0,IF(AND(R$22>=$H100,MOD($H100-R$22,$I100)=0),$G100,0))) -> 0 | ... T100: =IF($G100="Invoer",0,IF($G100=0,0,IF(AND(T$22>=$H100,MOD($H100-T$22,$I100)=0),$G100,0))) -> 0 | U100: =IF(E100>4,1,0) -> 0
B102: Schacht
B103: 800 | C103: Snelheidsbegrenzer | D103: ThyssenKrupp 6023 | E103: 3 | F103: 2005 | G103: Invoer | H103: 2026 | I103: 15 | J103: 1900 | K103: =IF($G103="Invoer",0,IF($G103=0,0,IF(AND(K$22>=$H103,MOD($H103-K$22,$I103)=0),$G103,0))) -> 0 | L103: =IF($G103="Invoer",0,IF($G103=0,0,IF(AND(L$22>=$H103,MOD($H103-L$22,$I103)=0),$G103,0))) -> 0 | M103: =IF($G103="Invoer",0,IF($G103=0,0,IF(AND(M$22>=$H103,MOD($H103-M$22,$I103)=0),$G103,0))) -> 0 | N103: =IF($G103="Invoer",0,IF($G103=0,0,IF(AND(N$22>=$H103,MOD($H103-N$22,$I103)=0),$G103,0))) -> 0 | O103: =IF($G103="Invoer",0,IF($G103=0,0,IF(AND(O$22>=$H103,MOD($H103-O$22,$I103)=0),$G103,0))) -> 0 | P103: =IF($G103="Invoer",0,IF($G103=0,0,IF(AND(P$22>=$H103,MOD($H103-P$22,$I103)=0),$G103,0))) -> 0 | Q103: =IF($G103="Invoer",0,IF($G103=0,0,IF(AND(Q$22>=$H103,MOD($H103-Q$22,$I103)=0),$G103,0))) -> 0 | R103: =IF($G103="Invoer",0,IF($G103=0,0,IF(AND(R$22>=$H103,MOD($H103-R$22,$I103)=0),$G103,0))) -> 0 | ... T103: =IF($G103="Invoer",0,IF($G103=0,0,IF(AND(T$22>=$H103,MOD($H103-T$22,$I103)=0),$G103,0))) -> 0 | U103: =IF(E103>4,1,0) -> 0
B104: 801 | C104: 2e gebrek snelheidsbegrenzer | G104: 0 | K104: =IF($G104="Invoer",0,IF($G104=0,0,IF(AND(K$22>=$H104,MOD($H104-K$22,$I104)=0),$G104,0))) -> 0 | L104: =IF($G104="Invoer",0,IF($G104=0,0,IF(AND(L$22>=$H104,MOD($H104-L$22,$I104)=0),$G104,0))) -> 0 | M104: =IF($G104="Invoer",0,IF($G104=0,0,IF(AND(M$22>=$H104,MOD($H104-M$22,$I104)=0),$G104,0))) -> 0 | N104: =IF($G104="Invoer",0,IF($G104=0,0,IF(AND(N$22>=$H104,MOD($H104-N$22,$I104)=0),$G104,0))) -> 0 | O104: =IF($G104="Invoer",0,IF($G104=0,0,IF(AND(O$22>=$H104,MOD($H104-O$22,$I104)=0),$G104,0))) -> 0 | P104: =IF($G104="Invoer",0,IF($G104=0,0,IF(AND(P$22>=$H104,MOD($H104-P$22,$I104)=0),$G104,0))) -> 0 | Q104: =IF($G104="Invoer",0,IF($G104=0,0,IF(AND(Q$22>=$H104,MOD($H104-Q$22,$I104)=0),$G104,0))) -> 0 | R104: =IF($G104="Invoer",0,IF($G104=0,0,IF(AND(R$22>=$H104,MOD($H104-R$22,$I104)=0),$G104,0))) -> 0 | ... T104: =IF($G104="Invoer",0,IF($G104=0,0,IF(AND(T$22>=$H104,MOD($H104-T$22,$I104)=0),$G104,0))) -> 0 | U104: =IF(E104>4,1,0) -> 0
B105: 802 | C105: Snelheidsbegrenzerkabel | D105: 6,5mm | E105: 3 | F105: 2020 | G105: Invoer | H105: 2026 | I105: 15 | J105: 400 | K105: =IF($G105="Invoer",0,IF($G105=0,0,IF(AND(K$22>=$H105,MOD($H105-K$22,$I105)=0),$G105,0))) -> 0 | L105: =IF($G105="Invoer",0,IF($G105=0,0,IF(AND(L$22>=$H105,MOD($H105-L$22,$I105)=0),$G105,0))) -> 0 | M105: =IF($G105="Invoer",0,IF($G105=0,0,IF(AND(M$22>=$H105,MOD($H105-M$22,$I105)=0),$G105,0))) -> 0 | N105: =IF($G105="Invoer",0,IF($G105=0,0,IF(AND(N$22>=$H105,MOD($H105-N$22,$I105)=0),$G105,0))) -> 0 | O105: =IF($G105="Invoer",0,IF($G105=0,0,IF(AND(O$22>=$H105,MOD($H105-O$22,$I105)=0),$G105,0))) -> 0 | P105: =IF($G105="Invoer",0,IF($G105=0,0,IF(AND(P$22>=$H105,MOD($H105-P$22,$I105)=0),$G105,0))) -> 0 | Q105: =IF($G105="Invoer",0,IF($G105=0,0,IF(AND(Q$22>=$H105,MOD($H105-Q$22,$I105)=0),$G105,0))) -> 0 | R105: =IF($G105="Invoer",0,IF($G105=0,0,IF(AND(R$22>=$H105,MOD($H105-R$22,$I105)=0),$G105,0))) -> 0 | ... T105: =IF($G105="Invoer",0,IF($G105=0,0,IF(AND(T$22>=$H105,MOD($H105-T$22,$I105)=0),$G105,0))) -> 0 | U105: =IF(E105>4,1,0) -> 0
B106: 803 | C106: Spanwiel | D106: i.o. | G106: 0 | J106: 650 | K106: =IF($G106="Invoer",0,IF($G106=0,0,IF(AND(K$22>=$H106,MOD($H106-K$22,$I106)=0),$G106,0))) -> 0 | L106: =IF($G106="Invoer",0,IF($G106=0,0,IF(AND(L$22>=$H106,MOD($H106-L$22,$I106)=0),$G106,0))) -> 0 | M106: =IF($G106="Invoer",0,IF($G106=0,0,IF(AND(M$22>=$H106,MOD($H106-M$22,$I106)=0),$G106,0))) -> 0 | N106: =IF($G106="Invoer",0,IF($G106=0,0,IF(AND(N$22>=$H106,MOD($H106-N$22,$I106)=0),$G106,0))) -> 0 | O106: =IF($G106="Invoer",0,IF($G106=0,0,IF(AND(O$22>=$H106,MOD($H106-O$22,$I106)=0),$G106,0))) -> 0 | P106: =IF($G106="Invoer",0,IF($G106=0,0,IF(AND(P$22>=$H106,MOD($H106-P$22,$I106)=0),$G106,0))) -> 0 | Q106: =IF($G106="Invoer",0,IF($G106=0,0,IF(AND(Q$22>=$H106,MOD($H106-Q$22,$I106)=0),$G106,0))) -> 0 | R106: =IF($G106="Invoer",0,IF($G106=0,0,IF(AND(R$22>=$H106,MOD($H106-R$22,$I106)=0),$G106,0))) -> 0 | ... T106: =IF($G106="Invoer",0,IF($G106=0,0,IF(AND(T$22>=$H106,MOD($H106-T$22,$I106)=0),$G106,0))) -> 0 | U106: =IF(E106>4,1,0) -> 0
...

Sheet 5
B1: 6 | C1: Was 4 | D1: Terug
B2: Code | C2: Omschrijving
B3: 100 | C3: Liftadres | D3: Media Parkboulevard 1 | E3: Hilversum | G3: 1217 WE
B4: 101 | C4: Complexaanduiding | D4: Beeld en Geluid | E4: Lift 6 experience
B5: 102 | C5: Dossiernummer keurende instantie | D5: TUV6035
B6: 103 | C6: AFAS relatienummer | D6: 10167 | E6: tab | F6: 6 | G6: 10167-6
B7: 104 | C7: Bouwjaar | D7: 2005
B8: 105 | C8: Vervaardigingsnorm | D8: NEN-EN 81-1
B9: 106 | C9: Type lift: tractie/hydraulisch/machinerichtlijn | D9: Tractie MKL
B10: 107 | C10: Type-aanduiding | D10: ThyssenKrupp Universe
B11: 108 | C11: Hefvermogen (kg) | D11: 1000 | K11: Laatste wijziging: | M11: 44991
B12: 109 | C12: Brandweerlift | D12: Ja | K12: Gewijzigd door: | M12: IN
B13: 110 | C13: Brancardlift | D13: Ja | K13: Vervaldatum: | M13: =M11+1095 -> 46086
B14: 111 | C14: Doel van de lift: personen/goederen | D14: Personenlift
B15: 112 | C15: Gebruiksintensiteit | D15: Gemiddelde gebruiksintensiteit | E15: =IF(R20=0,0,IF(R20<201,"Laag",IF(AND(R20>201,R20<500),"Middel","Hoog"))) -> Middel | F15: =IF(R20=0,0,R20) -> 375.25708 | G15: Ritten per dag
B16: 113 | C16: Aantal schachttoegangen | D16: 11
B17: 114 | C17: Aantal stopplaatsen | D17: 10 | R17: =CONCATENATE("01-01-",F24) -> 01-01-2005
B18: 115 | C18: Aantal kooitoegangen | D18: 2 | K18: Datum: | M18: 39038 | N18: 43807 | R18: =IF(Q18>0,Q18-P18,IF(P18>0,P18-O18,IF(O18>0,O18-N18,IF(N18>0,N18-M18,IF(M18>0,M18-R17))))) -> 4769
B19: 116 | C19: Beleidscategorie: A,B of C | D19: B | K19: Rittenstand: | M19: 0 | N19: 1789601 | R19: =IF(Q19>0,Q19-P19,IF(P19>0,P19-O19,IF(O19>0,O19-N19,IF(N19>0,N19-M19,M19)))) -> 1789601
R20: =IFERROR(R19/R18,0) -> 375.25708
R21: =IF(Q19>0,Q19,IF(P19>0,P19,IF(O19>0,O19,IF(N19>0,N19,M19)))) -> 1789601
E22: Conditie | F22: Bouwjaar | G22: Bedrag | H22: Startjaar | I22: Cyclus | K22: 2024 | L22: =K22+1 -> 2025 | M22: =L22+1 -> 2026 | N22: =M22+1 -> 2027 | O22: =N22+1 -> 2028 | P22: =O22+1 -> 2029 | Q22: =P22+1 -> 2030 | R22: =Q22+1 -> 2031 | S22: =R22+1 -> 2032 | T22: =S22+1 -> 2033
B23: Besturing
B24: 200 | C24: Besturingstype | D24: ThyssenKrupp MCI | E24: 3 | F24: 2005 | G24: Invoer | H24: 2026 | I24: 20 | J24: 14500 | K24: =IF($G24="Invoer",0,IF($G24=0,0,IF(AND(K$22>=$H24,MOD($H24-K$22,$I24)=0),$G24,0))) -> 0 | L24: =IF($G24="Invoer",0,IF($G24=0,0,IF(AND(L$22>=$H24,MOD($H24-L$22,$I24)=0),$G24,0))) -> 0 | M24: =IF($G24="Invoer",0,IF($G24=0,0,IF(AND(M$22>=$H24,MOD($H24-M$22,$I24)=0),$G24,0))) -> 0 | N24: =IF($G24="Invoer",0,IF($G24=0,0,IF(AND(N$22>=$H24,MOD($H24-N$22,$I24)=0),$G24,0))) -> 0 | O24: =IF($G24="Invoer",0,IF($G24=0,0,IF(AND(O$22>=$H24,MOD($H24-O$22,$I24)=0),$G24,0))) -> 0 | P24: =IF($G24="Invoer",0,IF($G24=0,0,IF(AND(P$22>=$H24,MOD($H24-P$22,$I24)=0),$G24,0))) -> 0 | Q24: =IF($G24="Invoer",0,IF($G24=0,0,IF(AND(Q$22>=$H24,MOD($H24-Q$22,$I24)=0),$G24,0))) -> 0 | R24: =IF($G24="Invoer",0,IF($G24=0,0,IF(AND(R$22>=$H24,MOD($H24-R$22,$I24)=0),$G24,0))) -> 0 | ... T24: =IF($G24="Invoer",0,IF($G24=0,0,IF(AND(T$22>=$H24,MOD($H24-T$22,$I24)=0),$G24,0))) -> 0 | U24: =IF(E24>4,1,0) -> 0
B25: 201 | C25: Aanvullende opmerking besturing | G25: 0 | K25: =IF($G25="Invoer",0,IF($G25=0,0,IF(AND(K$22>=$H25,MOD($H25-K$22,$I25)=0),$G25,0))) -> 0 | L25: =IF($G25="Invoer",0,IF($G25=0,0,IF(AND(L$22>=$H25,MOD($H25-L$22,$I25)=0),$G25,0))) -> 0 | M25: =IF($G25="Invoer",0,IF($G25=0,0,IF(AND(M$22>=$H25,MOD($H25-M$22,$I25)=0),$G25,0))) -> 0 | N25: =IF($G25="Invoer",0,IF($G25=0,0,IF(AND(N$22>=$H25,MOD($H25-N$22,$I25)=0),$G25,0))) -> 0 | O25: =IF($G25="Invoer",0,IF($G25=0,0,IF(AND(O$22>=$H25,MOD($H25-O$22,$I25)=0),$G25,0))) -> 0 | P25: =IF($G25="Invoer",0,IF($G25=0,0,IF(AND(P$22>=$H25,MOD($H25-P$22,$I25)=0),$G25,0))) -> 0 | Q25: =IF($G25="Invoer",0,IF($G25=0,0,IF(AND(Q$22>=$H25,MOD($H25-Q$22,$I25)=0),$G25,0))) -> 0 | R25: =IF($G25="Invoer",0,IF($G25=0,0,IF(AND(R$22>=$H25,MOD($H25-R$22,$I25)=0),$G25,0))) -> 0 | ... T25: =IF($G25="Invoer",0,IF($G25=0,0,IF(AND(T$22>=$H25,MOD($H25-T$22,$I25)=0),$G25,0))) -> 0 | U25: =IF(E25>4,1,0) -> 0
B26: 202 | C26: Encoder | D26: Ja | E26: 3 | F26: 2005 | G26: Invoer | H26: 2026 | I26: 20 | J26: 1300 | K26: =IF($G26="Invoer",0,IF($G26=0,0,IF(AND(K$22>=$H26,MOD($H26-K$22,$I26)=0),$G26,0))) -> 0 | L26: =IF($G26="Invoer",0,IF($G26=0,0,IF(AND(L$22>=$H26,MOD($H26-L$22,$I26)=0),$G26,0))) -> 0 | M26: =IF($G26="Invoer",0,IF($G26=0,0,IF(AND(M$22>=$H26,MOD($H26-M$22,$I26)=0),$G26,0))) -> 0 | N26: =IF($G26="Invoer",0,IF($G26=0,0,IF(AND(N$22>=$H26,MOD($H26-N$22,$I26)=0),$G26,0))) -> 0 | O26: =IF($G26="Invoer",0,IF($G26=0,0,IF(AND(O$22>=$H26,MOD($H26-O$22,$I26)=0),$G26,0))) -> 0 | P26: =IF($G26="Invoer",0,IF($G26=0,0,IF(AND(P$22>=$H26,MOD($H26-P$22,$I26)=0),$G26,0))) -> 0 | Q26: =IF($G26="Invoer",0,IF($G26=0,0,IF(AND(Q$22>=$H26,MOD($H26-Q$22,$I26)=0),$G26,0))) -> 0 | R26: =IF($G26="Invoer",0,IF($G26=0,0,IF(AND(R$22>=$H26,MOD($H26-R$22,$I26)=0),$G26,0))) -> 0 | ... T26: =IF($G26="Invoer",0,IF($G26=0,0,IF(AND(T$22>=$H26,MOD($H26-T$22,$I26)=0),$G26,0))) -> 0 | U26: =IF(E26>4,1,0) -> 0
B27: 203 | C27: Hoofdstroomrelais | D27: Schneider | E27: 3 | F27: 2017 | G27: Invoer | H27: 2026 | I27: 10 | J27: 1900 | K27: =IF($G27="Invoer",0,IF($G27=0,0,IF(AND(K$22>=$H27,MOD($H27-K$22,$I27)=0),$G27,0))) -> 0 | L27: =IF($G27="Invoer",0,IF($G27=0,0,IF(AND(L$22>=$H27,MOD($H27-L$22,$I27)=0),$G27,0))) -> 0 | M27: =IF($G27="Invoer",0,IF($G27=0,0,IF(AND(M$22>=$H27,MOD($H27-M$22,$I27)=0),$G27,0))) -> 0 | N27: =IF($G27="Invoer",0,IF($G27=0,0,IF(AND(N$22>=$H27,MOD($H27-N$22,$I27)=0),$G27,0))) -> 0 | O27: =IF($G27="Invoer",0,IF($G27=0,0,IF(AND(O$22>=$H27,MOD($H27-O$22,$I27)=0),$G27,0))) -> 0 | P27: =IF($G27="Invoer",0,IF($G27=0,0,IF(AND(P$22>=$H27,MOD($H27-P$22,$I27)=0),$G27,0))) -> 0 | Q27: =IF($G27="Invoer",0,IF($G27=0,0,IF(AND(Q$22>=$H27,MOD($H27-Q$22,$I27)=0),$G27,0))) -> 0 | R27: =IF($G27="Invoer",0,IF($G27=0,0,IF(AND(R$22>=$H27,MOD($H27-R$22,$I27)=0),$G27,0))) -> 0 | ... T27: =IF($G27="Invoer",0,IF($G27=0,0,IF(AND(T$22>=$H27,MOD($H27-T$22,$I27)=0),$G27,0))) -> 0 | U27: =IF(E27>4,1,0) -> 0
B28: 204 | C28: =IF(D9="Hydraulisch","Softstarter",IF(D9="Hydraulisch MKL","Softstarter","Frequentieregeling")) -> Frequentieregeling | D28: Leroy Somer Unidrive | E28: 3 | F28: 2019 | G28: Invoer | H28: 2026 | I28: 10 | J28: 8500 | K28: =IF($G28="Invoer",0,IF($G28=0,0,IF(AND(K$22>=$H28,MOD($H28-K$22,$I28)=0),$G28,0))) -> 0 | L28: =IF($G28="Invoer",0,IF($G28=0,0,IF(AND(L$22>=$H28,MOD($H28-L$22,$I28)=0),$G28,0))) -> 0 | M28: =IF($G28="Invoer",0,IF($G28=0,0,IF(AND(M$22>=$H28,MOD($H28-M$22,$I28)=0),$G28,0))) -> 0 | N28: =IF($G28="Invoer",0,IF($G28=0,0,IF(AND(N$22>=$H28,MOD($H28-N$22,$I28)=0),$G28,0))) -> 0 | O28: =IF($G28="Invoer",0,IF($G28=0,0,IF(AND(O$22>=$H28,MOD($H28-O$22,$I28)=0),$G28,0))) -> 0 | P28: =IF($G28="Invoer",0,IF($G28=0,0,IF(AND(P$22>=$H28,MOD($H28-P$22,$I28)=0),$G28,0))) -> 0 | Q28: =IF($G28="Invoer",0,IF($G28=0,0,IF(AND(Q$22>=$H28,MOD($H28-Q$22,$I28)=0),$G28,0))) -> 0 | R28: =IF($G28="Invoer",0,IF($G28=0,0,IF(AND(R$22>=$H28,MOD($H28-R$22,$I28)=0),$G28,0))) -> 0 | ... T28: =IF($G28="Invoer",0,IF($G28=0,0,IF(AND(T$22>=$H28,MOD($H28-T$22,$I28)=0),$G28,0))) -> 0 | U28: =IF(E28>4,1,0) -> 0
B29: 205 | C29: Accupakket noodevacuatie | D29: Nee | G29: 0 | J29: 1500 | K29: =IF($G29="Invoer",0,IF($G29=0,0,IF(AND(K$22>=$H29,MOD($H29-K$22,$I29)=0),$G29,0))) -> 0 | L29: =IF($G29="Invoer",0,IF($G29=0,0,IF(AND(L$22>=$H29,MOD($H29-L$22,$I29)=0),$G29,0))) -> 0 | M29: =IF($G29="Invoer",0,IF($G29=0,0,IF(AND(M$22>=$H29,MOD($H29-M$22,$I29)=0),$G29,0))) -> 0 | N29: =IF($G29="Invoer",0,IF($G29=0,0,IF(AND(N$22>=$H29,MOD($H29-N$22,$I29)=0),$G29,0))) -> 0 | O29: =IF($G29="Invoer",0,IF($G29=0,0,IF(AND(O$22>=$H29,MOD($H29-O$22,$I29)=0),$G29,0))) -> 0 | P29: =IF($G29="Invoer",0,IF($G29=0,0,IF(AND(P$22>=$H29,MOD($H29-P$22,$I29)=0),$G29,0))) -> 0 | Q29: =IF($G29="Invoer",0,IF($G29=0,0,IF(AND(Q$22>=$H29,MOD($H29-Q$22,$I29)=0),$G29,0))) -> 0 | R29: =IF($G29="Invoer",0,IF($G29=0,0,IF(AND(R$22>=$H29,MOD($H29-R$22,$I29)=0),$G29,0))) -> 0 | ... T29: =IF($G29="Invoer",0,IF($G29=0,0,IF(AND(T$22>=$H29,MOD($H29-T$22,$I29)=0),$G29,0))) -> 0 | U29: =IF(E29>4,1,0) -> 0
B30: 206 | C30: Analoge rittenteller | D30: Nee | G30: 0 | J30: 250 | K30: =IF($G30="Invoer",0,IF($G30=0,0,IF(AND(K$22>=$H30,MOD($H30-K$22,$I30)=0),$G30,0))) -> 0 | L30: =IF($G30="Invoer",0,IF($G30=0,0,IF(AND(L$22>=$H30,MOD($H30-L$22,$I30)=0),$G30,0))) -> 0 | M30: =IF($G30="Invoer",0,IF($G30=0,0,IF(AND(M$22>=$H30,MOD($H30-M$22,$I30)=0),$G30,0))) -> 0 | N30: =IF($G30="Invoer",0,IF($G30=0,0,IF(AND(N$22>=$H30,MOD($H30-N$22,$I30)=0),$G30,0))) -> 0 | O30: =IF($G30="Invoer",0,IF($G30=0,0,IF(AND(O$22>=$H30,MOD($H30-O$22,$I30)=0),$G30,0))) -> 0 | P30: =IF($G30="Invoer",0,IF($G30=0,0,IF(AND(P$22>=$H30,MOD($H30-P$22,$I30)=0),$G30,0))) -> 0 | Q30: =IF($G30="Invoer",0,IF($G30=0,0,IF(AND(Q$22>=$H30,MOD($H30-Q$22,$I30)=0),$G30,0))) -> 0 | R30: =IF($G30="Invoer",0,IF($G30=0,0,IF(AND(R$22>=$H30,MOD($H30-R$22,$I30)=0),$G30,0))) -> 0 | ... T30: =IF($G30="Invoer",0,IF($G30=0,0,IF(AND(T$22>=$H30,MOD($H30-T$22,$I30)=0),$G30,0))) -> 0
G31: 0 | K31: =IF($G31="Invoer",0,IF($G31=0,0,IF(AND(K$22>=$H31,MOD($H31-K$22,$I31)=0),$G31,0))) -> 0 | L31: =IF($G31="Invoer",0,IF($G31=0,0,IF(AND(L$22>=$H31,MOD($H31-L$22,$I31)=0),$G31,0))) -> 0 | M31: =IF($G31="Invoer",0,IF($G31=0,0,IF(AND(M$22>=$H31,MOD($H31-M$22,$I31)=0),$G31,0))) -> 0 | N31: =IF($G31="Invoer",0,IF($G31=0,0,IF(AND(N$22>=$H31,MOD($H31-N$22,$I31)=0),$G31,0))) -> 0 | O31: =IF($G31="Invoer",0,IF($G31=0,0,IF(AND(O$22>=$H31,MOD($H31-O$22,$I31)=0),$G31,0))) -> 0 | P31: =IF($G31="Invoer",0,IF($G31=0,0,IF(AND(P$22>=$H31,MOD($H31-P$22,$I31)=0),$G31,0))) -> 0 | Q31: =IF($G31="Invoer",0,IF($G31=0,0,IF(AND(Q$22>=$H31,MOD($H31-Q$22,$I31)=0),$G31,0))) -> 0 | R31: =IF($G31="Invoer",0,IF($G31=0,0,IF(AND(R$22>=$H31,MOD($H31-R$22,$I31)=0),$G31,0))) -> 0 | ... T31: =IF($G31="Invoer",0,IF($G31=0,0,IF(AND(T$22>=$H31,MOD($H31-T$22,$I31)=0),$G31,0))) -> 0 | U31: =IF(E31>4,1,0) -> 0
B33: Deuren
B34: 300 | C34: Handbewogen deur | D34: N.v.t. | G34: 0 | J34: 55000 | K34: =IF($G34="Invoer",0,IF($G34=0,0,IF(AND(K$22>=$H34,MOD($H34-K$22,$I34)=0),$G34,0))) -> 0 | L34: =IF($G34="Invoer",0,IF($G34=0,0,IF(AND(L$22>=$H34,MOD($H34-L$22,$I34)=0),$G34,0))) -> 0 | M34: =IF($G34="Invoer",0,IF($G34=0,0,IF(AND(M$22>=$H34,MOD($H34-M$22,$I34)=0),$G34,0))) -> 0 | N34: =IF($G34="Invoer",0,IF($G34=0,0,IF(AND(N$22>=$H34,MOD($H34-N$22,$I34)=0),$G34,0))) -> 0 | O34: =IF($G34="Invoer",0,IF($G34=0,0,IF(AND(O$22>=$H34,MOD($H34-O$22,$I34)=0),$G34,0))) -> 0 | P34: =IF($G34="Invoer",0,IF($G34=0,0,IF(AND(P$22>=$H34,MOD($H34-P$22,$I34)=0),$G34,0))) -> 0 | Q34: =IF($G34="Invoer",0,IF($G34=0,0,IF(AND(Q$22>=$H34,MOD($H34-Q$22,$I34)=0),$G34,0))) -> 0 | R34: =IF($G34="Invoer",0,IF($G34=0,0,IF(AND(R$22>=$H34,MOD($H34-R$22,$I34)=0),$G34,0))) -> 0 | ... T34: =IF($G34="Invoer",0,IF($G34=0,0,IF(AND(T$22>=$H34,MOD($H34-T$22,$I34)=0),$G34,0))) -> 0 | U34: =IF(E34>4,1,0) -> 0
B35: 301 | C35: Aanvullende opmerking deuren | G35: 0 | J35: 1500 | K35: =IF($G35="Invoer",0,IF($G35=0,0,IF(AND(K$22>=$H35,MOD($H35-K$22,$I35)=0),$G35,0))) -> 0 | L35: =IF($G35="Invoer",0,IF($G35=0,0,IF(AND(L$22>=$H35,MOD($H35-L$22,$I35)=0),$G35,0))) -> 0 | M35: =IF($G35="Invoer",0,IF($G35=0,0,IF(AND(M$22>=$H35,MOD($H35-M$22,$I35)=0),$G35,0))) -> 0 | N35: =IF($G35="Invoer",0,IF($G35=0,0,IF(AND(N$22>=$H35,MOD($H35-N$22,$I35)=0),$G35,0))) -> 0 | O35: =IF($G35="Invoer",0,IF($G35=0,0,IF(AND(O$22>=$H35,MOD($H35-O$22,$I35)=0),$G35,0))) -> 0 | P35: =IF($G35="Invoer",0,IF($G35=0,0,IF(AND(P$22>=$H35,MOD($H35-P$22,$I35)=0),$G35,0))) -> 0 | Q35: =IF($G35="Invoer",0,IF($G35=0,0,IF(AND(Q$22>=$H35,MOD($H35-Q$22,$I35)=0),$G35,0))) -> 0 | R35: =IF($G35="Invoer",0,IF($G35=0,0,IF(AND(R$22>=$H35,MOD($H35-R$22,$I35)=0),$G35,0))) -> 0 | ... T35: =IF($G35="Invoer",0,IF($G35=0,0,IF(AND(T$22>=$H35,MOD($H35-T$22,$I35)=0),$G35,0))) -> 0 | U35: =IF(E35>4,1,0) -> 0
B36: 302 | C36: Automatische cabinedeur | D36: ThysenKrupp 2 delig telescoop | E36: 3 | F36: 2005 | G36: Invoer | H36: 2026 | I36: 25 | J36: 13000 | K36: =IF($G36="Invoer",0,IF($G36=0,0,IF(AND(K$22>=$H36,MOD($H36-K$22,$I36)=0),$G36,0))) -> 0 | L36: =IF($G36="Invoer",0,IF($G36=0,0,IF(AND(L$22>=$H36,MOD($H36-L$22,$I36)=0),$G36,0))) -> 0 | M36: =IF($G36="Invoer",0,IF($G36=0,0,IF(AND(M$22>=$H36,MOD($H36-M$22,$I36)=0),$G36,0))) -> 0 | N36: =IF($G36="Invoer",0,IF($G36=0,0,IF(AND(N$22>=$H36,MOD($H36-N$22,$I36)=0),$G36,0))) -> 0 | O36: =IF($G36="Invoer",0,IF($G36=0,0,IF(AND(O$22>=$H36,MOD($H36-O$22,$I36)=0),$G36,0))) -> 0 | P36: =IF($G36="Invoer",0,IF($G36=0,0,IF(AND(P$22>=$H36,MOD($H36-P$22,$I36)=0),$G36,0))) -> 0 | Q36: =IF($G36="Invoer",0,IF($G36=0,0,IF(AND(Q$22>=$H36,MOD($H36-Q$22,$I36)=0),$G36,0))) -> 0 | R36: =IF($G36="Invoer",0,IF($G36=0,0,IF(AND(R$22>=$H36,MOD($H36-R$22,$I36)=0),$G36,0))) -> 0 | ... T36: =IF($G36="Invoer",0,IF($G36=0,0,IF(AND(T$22>=$H36,MOD($H36-T$22,$I36)=0),$G36,0))) -> 0 | U36: =IF(E36>4,1,0) -> 0
B37: 303 | C37: Aanvullende opmerking deuren | G37: 0 | K37: =IF($G37="Invoer",0,IF($G37=0,0,IF(AND(K$22>=$H37,MOD($H37-K$22,$I37)=0),$G37,0))) -> 0 | L37: =IF($G37="Invoer",0,IF($G37=0,0,IF(AND(L$22>=$H37,MOD($H37-L$22,$I37)=0),$G37,0))) -> 0 | M37: =IF($G37="Invoer",0,IF($G37=0,0,IF(AND(M$22>=$H37,MOD($H37-M$22,$I37)=0),$G37,0))) -> 0 | N37: =IF($G37="Invoer",0,IF($G37=0,0,IF(AND(N$22>=$H37,MOD($H37-N$22,$I37)=0),$G37,0))) -> 0 | O37: =IF($G37="Invoer",0,IF($G37=0,0,IF(AND(O$22>=$H37,MOD($H37-O$22,$I37)=0),$G37,0))) -> 0 | P37: =IF($G37="Invoer",0,IF($G37=0,0,IF(AND(P$22>=$H37,MOD($H37-P$22,$I37)=0),$G37,0))) -> 0 | Q37: =IF($G37="Invoer",0,IF($G37=0,0,IF(AND(Q$22>=$H37,MOD($H37-Q$22,$I37)=0),$G37,0))) -> 0 | R37: =IF($G37="Invoer",0,IF($G37=0,0,IF(AND(R$22>=$H37,MOD($H37-R$22,$I37)=0),$G37,0))) -> 0 | ... T37: =IF($G37="Invoer",0,IF($G37=0,0,IF(AND(T$22>=$H37,MOD($H37-T$22,$I37)=0),$G37,0))) -> 0 | U37: =IF(E37>4,1,0) -> 0
B38: 304 | C38: Automatische schachtdeuren | D38: ThysenKrupp 2 delig telescoop | E38: 3 | F38: 2005 | G38: 0 | H38: 2036 | I38: 25 | J38: 38500 | K38: =IF($G38="Invoer",0,IF($G38=0,0,IF(AND(K$22>=$H38,MOD($H38-K$22,$I38)=0),$G38,0))) -> 0 | L38: =IF($G38="Invoer",0,IF($G38=0,0,IF(AND(L$22>=$H38,MOD($H38-L$22,$I38)=0),$G38,0))) -> 0 | M38: =IF($G38="Invoer",0,IF($G38=0,0,IF(AND(M$22>=$H38,MOD($H38-M$22,$I38)=0),$G38,0))) -> 0 | N38: =IF($G38="Invoer",0,IF($G38=0,0,IF(AND(N$22>=$H38,MOD($H38-N$22,$I38)=0),$G38,0))) -> 0 | O38: =IF($G38="Invoer",0,IF($G38=0,0,IF(AND(O$22>=$H38,MOD($H38-O$22,$I38)=0),$G38,0))) -> 0 | P38: =IF($G38="Invoer",0,IF($G38=0,0,IF(AND(P$22>=$H38,MOD($H38-P$22,$I38)=0),$G38,0))) -> 0 | Q38: =IF($G38="Invoer",0,IF($G38=0,0,IF(AND(Q$22>=$H38,MOD($H38-Q$22,$I38)=0),$G38,0))) -> 0 | R38: =IF($G38="Invoer",0,IF($G38=0,0,IF(AND(R$22>=$H38,MOD($H38-R$22,$I38)=0),$G38,0))) -> 0 | ... T38: =IF($G38="Invoer",0,IF($G38=0,0,IF(AND(T$22>=$H38,MOD($H38-T$22,$I38)=0),$G38,0))) -> 0 | U38: =IF(E38>4,1,0) -> 0
B39: 305 | C39: Aanvullende opmerking deuren | G39: 0 | K39: =IF($G39="Invoer",0,IF($G39=0,0,IF(AND(K$22>=$H39,MOD($H39-K$22,$I39)=0),$G39,0))) -> 0 | L39: =IF($G39="Invoer",0,IF($G39=0,0,IF(AND(L$22>=$H39,MOD($H39-L$22,$I39)=0),$G39,0))) -> 0 | M39: =IF($G39="Invoer",0,IF($G39=0,0,IF(AND(M$22>=$H39,MOD($H39-M$22,$I39)=0),$G39,0))) -> 0 | N39: =IF($G39="Invoer",0,IF($G39=0,0,IF(AND(N$22>=$H39,MOD($H39-N$22,$I39)=0),$G39,0))) -> 0 | O39: =IF($G39="Invoer",0,IF($G39=0,0,IF(AND(O$22>=$H39,MOD($H39-O$22,$I39)=0),$G39,0))) -> 0 | P39: =IF($G39="Invoer",0,IF($G39=0,0,IF(AND(P$22>=$H39,MOD($H39-P$22,$I39)=0),$G39,0))) -> 0 | Q39: =IF($G39="Invoer",0,IF($G39=0,0,IF(AND(Q$22>=$H39,MOD($H39-Q$22,$I39)=0),$G39,0))) -> 0 | R39: =IF($G39="Invoer",0,IF($G39=0,0,IF(AND(R$22>=$H39,MOD($H39-R$22,$I39)=0),$G39,0))) -> 0 | ... T39: =IF($G39="Invoer",0,IF($G39=0,0,IF(AND(T$22>=$H39,MOD($H39-T$22,$I39)=0),$G39,0))) -> 0 | U39: =IF(E39>4,1,0) -> 0
B40: 313 | C40: Anti-vandaal uitvoering gewenst | D40: N.v.t. | G40: 0 | J40: 11000 | K40: =IF($G40="Invoer",0,IF($G40=0,0,IF(AND(K$22>=$H40,MOD($H40-K$22,$I40)=0),$G40,0))) -> 0 | L40: =IF($G40="Invoer",0,IF($G40=0,0,IF(AND(L$22>=$H40,MOD($H40-L$22,$I40)=0),$G40,0))) -> 0 | M40: =IF($G40="Invoer",0,IF($G40=0,0,IF(AND(M$22>=$H40,MOD($H40-M$22,$I40)=0),$G40,0))) -> 0 | N40: =IF($G40="Invoer",0,IF($G40=0,0,IF(AND(N$22>=$H40,MOD($H40-N$22,$I40)=0),$G40,0))) -> 0 | O40: =IF($G40="Invoer",0,IF($G40=0,0,IF(AND(O$22>=$H40,MOD($H40-O$22,$I40)=0),$G40,0))) -> 0 | P40: =IF($G40="Invoer",0,IF($G40=0,0,IF(AND(P$22>=$H40,MOD($H40-P$22,$I40)=0),$G40,0))) -> 0 | Q40: =IF($G40="Invoer",0,IF($G40=0,0,IF(AND(Q$22>=$H40,MOD($H40-Q$22,$I40)=0),$G40,0))) -> 0 | R40: =IF($G40="Invoer",0,IF($G40=0,0,IF(AND(R$22>=$H40,MOD($H40-R$22,$I40)=0),$G40,0))) -> 0 | ... T40: =IF($G40="Invoer",0,IF($G40=0,0,IF(AND(T$22>=$H40,MOD($H40-T$22,$I40)=0),$G40,0))) -> 0
B41: 306 | C41: Deurrevisie uitgebreid | D41: N.v.t. | G41: 0 | J41: 19500 | K41: =IF($G41="Invoer",0,IF($G41=0,0,IF(AND(K$22>=$H41,MOD($H41-K$22,$I41)=0),$G41,0))) -> 0 | L41: =IF($G41="Invoer",0,IF($G41=0,0,IF(AND(L$22>=$H41,MOD($H41-L$22,$I41)=0),$G41,0))) -> 0 | M41: =IF($G41="Invoer",0,IF($G41=0,0,IF(AND(M$22>=$H41,MOD($H41-M$22,$I41)=0),$G41,0))) -> 0 | N41: =IF($G41="Invoer",0,IF($G41=0,0,IF(AND(N$22>=$H41,MOD($H41-N$22,$I41)=0),$G41,0))) -> 0 | O41: =IF($G41="Invoer",0,IF($G41=0,0,IF(AND(O$22>=$H41,MOD($H41-O$22,$I41)=0),$G41,0))) -> 0 | P41: =IF($G41="Invoer",0,IF($G41=0,0,IF(AND(P$22>=$H41,MOD($H41-P$22,$I41)=0),$G41,0))) -> 0 | Q41: =IF($G41="Invoer",0,IF($G41=0,0,IF(AND(Q$22>=$H41,MOD($H41-Q$22,$I41)=0),$G41,0))) -> 0 | R41: =IF($G41="Invoer",0,IF($G41=0,0,IF(AND(R$22>=$H41,MOD($H41-R$22,$I41)=0),$G41,0))) -> 0 | ... T41: =IF($G41="Invoer",0,IF($G41=0,0,IF(AND(T$22>=$H41,MOD($H41-T$22,$I41)=0),$G41,0))) -> 0 | U41: =IF(E41>4,1,0) -> 0
B42: 307 | C42: Deurrevisie beperkt | D42: Gewenst | E42: 2 | F42: 2020 | G42: Invoer | H42: 2031 | I42: 10 | J42: 6500 | K42: =IF($G42="Invoer",0,IF($G42=0,0,IF(AND(K$22>=$H42,MOD($H42-K$22,$I42)=0),$G42,0))) -> 0 | L42: =IF($G42="Invoer",0,IF($G42=0,0,IF(AND(L$22>=$H42,MOD($H42-L$22,$I42)=0),$G42,0))) -> 0 | M42: =IF($G42="Invoer",0,IF($G42=0,0,IF(AND(M$22>=$H42,MOD($H42-M$22,$I42)=0),$G42,0))) -> 0 | N42: =IF($G42="Invoer",0,IF($G42=0,0,IF(AND(N$22>=$H42,MOD($H42-N$22,$I42)=0),$G42,0))) -> 0 | O42: =IF($G42="Invoer",0,IF($G42=0,0,IF(AND(O$22>=$H42,MOD($H42-O$22,$I42)=0),$G42,0))) -> 0 | P42: =IF($G42="Invoer",0,IF($G42=0,0,IF(AND(P$22>=$H42,MOD($H42-P$22,$I42)=0),$G42,0))) -> 0 | Q42: =IF($G42="Invoer",0,IF($G42=0,0,IF(AND(Q$22>=$H42,MOD($H42-Q$22,$I42)=0),$G42,0))) -> 0 | R42: =IF($G42="Invoer",0,IF($G42=0,0,IF(AND(R$22>=$H42,MOD($H42-R$22,$I42)=0),$G42,0))) -> 0 | ... T42: =IF($G42="Invoer",0,IF($G42=0,0,IF(AND(T$22>=$H42,MOD($H42-T$22,$I42)=0),$G42,0))) -> 0 | U42: =IF(E42>4,1,0) -> 0
B43: 308 | C43: Deuraandrijving | D43: ThyssenKrupp | E43: 3 | F43: 2005 | G43: Invoer | H43: 2026 | I43: 25 | J43: 9000 | K43: =IF($G43="Invoer",0,IF($G43=0,0,IF(AND(K$22>=$H43,MOD($H43-K$22,$I43)=0),$G43,0))) -> 0 | L43: =IF($G43="Invoer",0,IF($G43=0,0,IF(AND(L$22>=$H43,MOD($H43-L$22,$I43)=0),$G43,0))) -> 0 | M43: =IF($G43="Invoer",0,IF($G43=0,0,IF(AND(M$22>=$H43,MOD($H43-M$22,$I43)=0),$G43,0))) -> 0 | N43: =IF($G43="Invoer",0,IF($G43=0,0,IF(AND(N$22>=$H43,MOD($H43-N$22,$I43)=0),$G43,0))) -> 0 | O43: =IF($G43="Invoer",0,IF($G43=0,0,IF(AND(O$22>=$H43,MOD($H43-O$22,$I43)=0),$G43,0))) -> 0 | P43: =IF($G43="Invoer",0,IF($G43=0,0,IF(AND(P$22>=$H43,MOD($H43-P$22,$I43)=0),$G43,0))) -> 0 | Q43: =IF($G43="Invoer",0,IF($G43=0,0,IF(AND(Q$22>=$H43,MOD($H43-Q$22,$I43)=0),$G43,0))) -> 0 | R43: =IF($G43="Invoer",0,IF($G43=0,0,IF(AND(R$22>=$H43,MOD($H43-R$22,$I43)=0),$G43,0))) -> 0 | ... T43: =IF($G43="Invoer",0,IF($G43=0,0,IF(AND(T$22>=$H43,MOD($H43-T$22,$I43)=0),$G43,0))) -> 0 | U43: =IF(E43>4,1,0) -> 0
B44: 309 | C44: Grendels of contacten | D44: Gewenst | E44: 3 | F44: 2005 | G44: Invoer | H44: 2026 | I44: 10 | J44: 6500 | K44: =IF($G44="Invoer",0,IF($G44=0,0,IF(AND(K$22>=$H44,MOD($H44-K$22,$I44)=0),$G44,0))) -> 0 | L44: =IF($G44="Invoer",0,IF($G44=0,0,IF(AND(L$22>=$H44,MOD($H44-L$22,$I44)=0),$G44,0))) -> 0 | M44: =IF($G44="Invoer",0,IF($G44=0,0,IF(AND(M$22>=$H44,MOD($H44-M$22,$I44)=0),$G44,0))) -> 0 | N44: =IF($G44="Invoer",0,IF($G44=0,0,IF(AND(N$22>=$H44,MOD($H44-N$22,$I44)=0),$G44,0))) -> 0 | O44: =IF($G44="Invoer",0,IF($G44=0,0,IF(AND(O$22>=$H44,MOD($H44-O$22,$I44)=0),$G44,0))) -> 0 | P44: =IF($G44="Invoer",0,IF($G44=0,0,IF(AND(P$22>=$H44,MOD($H44-P$22,$I44)=0),$G44,0))) -> 0 | Q44: =IF($G44="Invoer",0,IF($G44=0,0,IF(AND(Q$22>=$H44,MOD($H44-Q$22,$I44)=0),$G44,0))) -> 0 | R44: =IF($G44="Invoer",0,IF($G44=0,0,IF(AND(R$22>=$H44,MOD($H44-R$22,$I44)=0),$G44,0))) -> 0 | ... T44: =IF($G44="Invoer",0,IF($G44=0,0,IF(AND(T$22>=$H44,MOD($H44-T$22,$I44)=0),$G44,0))) -> 0 | U44: =IF(E44>4,1,0) -> 0
B45: 310 | C45: Sensorlijst | D45: Gewenst | E45: 2 | F45: 2022 | G45: Invoer | H45: 2031 | I45: 15 | J45: 2400 | K45: =IF($G45="Invoer",0,IF($G45=0,0,IF(AND(K$22>=$H45,MOD($H45-K$22,$I45)=0),$G45,0))) -> 0 | L45: =IF($G45="Invoer",0,IF($G45=0,0,IF(AND(L$22>=$H45,MOD($H45-L$22,$I45)=0),$G45,0))) -> 0 | M45: =IF($G45="Invoer",0,IF($G45=0,0,IF(AND(M$22>=$H45,MOD($H45-M$22,$I45)=0),$G45,0))) -> 0 | N45: =IF($G45="Invoer",0,IF($G45=0,0,IF(AND(N$22>=$H45,MOD($H45-N$22,$I45)=0),$G45,0))) -> 0 | O45: =IF($G45="Invoer",0,IF($G45=0,0,IF(AND(O$22>=$H45,MOD($H45-O$22,$I45)=0),$G45,0))) -> 0 | P45: =IF($G45="Invoer",0,IF($G45=0,0,IF(AND(P$22>=$H45,MOD($H45-P$22,$I45)=0),$G45,0))) -> 0 | Q45: =IF($G45="Invoer",0,IF($G45=0,0,IF(AND(Q$22>=$H45,MOD($H45-Q$22,$I45)=0),$G45,0))) -> 0 | R45: =IF($G45="Invoer",0,IF($G45=0,0,IF(AND(R$22>=$H45,MOD($H45-R$22,$I45)=0),$G45,0))) -> 0 | ... T45: =IF($G45="Invoer",0,IF($G45=0,0,IF(AND(T$22>=$H45,MOD($H45-T$22,$I45)=0),$G45,0))) -> 0 | U45: =IF(E45>4,1,0) -> 0
B46: 311 | C46: Fotocel + reflector | D46: N.v.t. | G46: 0 | J46: 500 | K46: =IF($G46="Invoer",0,IF($G46=0,0,IF(AND(K$22>=$H46,MOD($H46-K$22,$I46)=0),$G46,0))) -> 0 | L46: =IF($G46="Invoer",0,IF($G46=0,0,IF(AND(L$22>=$H46,MOD($H46-L$22,$I46)=0),$G46,0))) -> 0 | M46: =IF($G46="Invoer",0,IF($G46=0,0,IF(AND(M$22>=$H46,MOD($H46-M$22,$I46)=0),$G46,0))) -> 0 | N46: =IF($G46="Invoer",0,IF($G46=0,0,IF(AND(N$22>=$H46,MOD($H46-N$22,$I46)=0),$G46,0))) -> 0 | O46: =IF($G46="Invoer",0,IF($G46=0,0,IF(AND(O$22>=$H46,MOD($H46-O$22,$I46)=0),$G46,0))) -> 0 | P46: =IF($G46="Invoer",0,IF($G46=0,0,IF(AND(P$22>=$H46,MOD($H46-P$22,$I46)=0),$G46,0))) -> 0 | Q46: =IF($G46="Invoer",0,IF($G46=0,0,IF(AND(Q$22>=$H46,MOD($H46-Q$22,$I46)=0),$G46,0))) -> 0 | R46: =IF($G46="Invoer",0,IF($G46=0,0,IF(AND(R$22>=$H46,MOD($H46-R$22,$I46)=0),$G46,0))) -> 0 | ... T46: =IF($G46="Invoer",0,IF($G46=0,0,IF(AND(T$22>=$H46,MOD($H46-T$22,$I46)=0),$G46,0))) -> 0 | U46: =IF(E46>4,1,0) -> 0
B47: 312 | C47: Vrije doorgang: ____ x ____ mm | D47: 900 x 2100 mm | G47: 0 | J47: 1 | K47: =IF($G47="Invoer",0,IF($G47=0,0,IF(AND(K$22>=$H47,MOD($H47-K$22,$I47)=0),$G47,0))) -> 0 | L47: =IF($G47="Invoer",0,IF($G47=0,0,IF(AND(L$22>=$H47,MOD($H47-L$22,$I47)=0),$G47,0))) -> 0 | M47: =IF($G47="Invoer",0,IF($G47=0,0,IF(AND(M$22>=$H47,MOD($H47-M$22,$I47)=0),$G47,0))) -> 0 | N47: =IF($G47="Invoer",0,IF($G47=0,0,IF(AND(N$22>=$H47,MOD($H47-N$22,$I47)=0),$G47,0))) -> 0 | O47: =IF($G47="Invoer",0,IF($G47=0,0,IF(AND(O$22>=$H47,MOD($H47-O$22,$I47)=0),$G47,0))) -> 0 | P47: =IF($G47="Invoer",0,IF($G47=0,0,IF(AND(P$22>=$H47,MOD($H47-P$22,$I47)=0),$G47,0))) -> 0 | Q47: =IF($G47="Invoer",0,IF($G47=0,0,IF(AND(Q$22>=$H47,MOD($H47-Q$22,$I47)=0),$G47,0))) -> 0 | R47: =IF($G47="Invoer",0,IF($G47=0,0,IF(AND(R$22>=$H47,MOD($H47-R$22,$I47)=0),$G47,0))) -> 0 | ... T47: =IF($G47="Invoer",0,IF($G47=0,0,IF(AND(T$22>=$H47,MOD($H47-T$22,$I47)=0),$G47,0))) -> 0 | U47: =IF(E47>4,1,0) -> 0
B49: Aandrijving
B50: 400 | C50: Fabricaat en type | D50: ThyssenKrupp gearless | E50: 3 | F50: 2005 | G50: 0 | H50: 2036 | I50: 25 | J50: 17500 | K50: =IF($G50="Invoer",0,IF($G50=0,0,IF(AND(K$22>=$H50,MOD($H50-K$22,$I50)=0),$G50,0))) -> 0 | L50: =IF($G50="Invoer",0,IF($G50=0,0,IF(AND(L$22>=$H50,MOD($H50-L$22,$I50)=0),$G50,0))) -> 0 | M50: =IF($G50="Invoer",0,IF($G50=0,0,IF(AND(M$22>=$H50,MOD($H50-M$22,$I50)=0),$G50,0))) -> 0 | N50: =IF($G50="Invoer",0,IF($G50=0,0,IF(AND(N$22>=$H50,MOD($H50-N$22,$I50)=0),$G50,0))) -> 0 | O50: =IF($G50="Invoer",0,IF($G50=0,0,IF(AND(O$22>=$H50,MOD($H50-O$22,$I50)=0),$G50,0))) -> 0 | P50: =IF($G50="Invoer",0,IF($G50=0,0,IF(AND(P$22>=$H50,MOD($H50-P$22,$I50)=0),$G50,0))) -> 0 | Q50: =IF($G50="Invoer",0,IF($G50=0,0,IF(AND(Q$22>=$H50,MOD($H50-Q$22,$I50)=0),$G50,0))) -> 0 | R50: =IF($G50="Invoer",0,IF($G50=0,0,IF(AND(R$22>=$H50,MOD($H50-R$22,$I50)=0),$G50,0))) -> 0 | ... T50: =IF($G50="Invoer",0,IF($G50=0,0,IF(AND(T$22>=$H50,MOD($H50-T$22,$I50)=0),$G50,0))) -> 0 | U50: =IF(E50>4,1,0) -> 0
B51: 401 | C51: 2e gebrek aandrijving | G51: 0 | K51: =IF($G51="Invoer",0,IF($G51=0,0,IF(AND(K$22>=$H51,MOD($H51-K$22,$I51)=0),$G51,0))) -> 0 | L51: =IF($G51="Invoer",0,IF($G51=0,0,IF(AND(L$22>=$H51,MOD($H51-L$22,$I51)=0),$G51,0))) -> 0 | M51: =IF($G51="Invoer",0,IF($G51=0,0,IF(AND(M$22>=$H51,MOD($H51-M$22,$I51)=0),$G51,0))) -> 0 | N51: =IF($G51="Invoer",0,IF($G51=0,0,IF(AND(N$22>=$H51,MOD($H51-N$22,$I51)=0),$G51,0))) -> 0 | O51: =IF($G51="Invoer",0,IF($G51=0,0,IF(AND(O$22>=$H51,MOD($H51-O$22,$I51)=0),$G51,0))) -> 0 | P51: =IF($G51="Invoer",0,IF($G51=0,0,IF(AND(P$22>=$H51,MOD($H51-P$22,$I51)=0),$G51,0))) -> 0 | Q51: =IF($G51="Invoer",0,IF($G51=0,0,IF(AND(Q$22>=$H51,MOD($H51-Q$22,$I51)=0),$G51,0))) -> 0 | R51: =IF($G51="Invoer",0,IF($G51=0,0,IF(AND(R$22>=$H51,MOD($H51-R$22,$I51)=0),$G51,0))) -> 0 | ... T51: =IF($G51="Invoer",0,IF($G51=0,0,IF(AND(T$22>=$H51,MOD($H51-T$22,$I51)=0),$G51,0))) -> 0 | U51: =IF(E51>4,1,0) -> 0
B52: 402 | C52: Aantal afleidwielen | D52: 3 | E52: 3 | F52: 2005 | G52: Invoer | H52: 2026 | I52: 25 | J52: 1000 | K52: =IF($G52="Invoer",0,IF($G52=0,0,IF(AND(K$22>=$H52,MOD($H52-K$22,$I52)=0),$G52,0))) -> 0 | L52: =IF($G52="Invoer",0,IF($G52=0,0,IF(AND(L$22>=$H52,MOD($H52-L$22,$I52)=0),$G52,0))) -> 0 | M52: =IF($G52="Invoer",0,IF($G52=0,0,IF(AND(M$22>=$H52,MOD($H52-M$22,$I52)=0),$G52,0))) -> 0 | N52: =IF($G52="Invoer",0,IF($G52=0,0,IF(AND(N$22>=$H52,MOD($H52-N$22,$I52)=0),$G52,0))) -> 0 | O52: =IF($G52="Invoer",0,IF($G52=0,0,IF(AND(O$22>=$H52,MOD($H52-O$22,$I52)=0),$G52,0))) -> 0 | P52: =IF($G52="Invoer",0,IF($G52=0,0,IF(AND(P$22>=$H52,MOD($H52-P$22,$I52)=0),$G52,0))) -> 0 | Q52: =IF($G52="Invoer",0,IF($G52=0,0,IF(AND(Q$22>=$H52,MOD($H52-Q$22,$I52)=0),$G52,0))) -> 0 | R52: =IF($G52="Invoer",0,IF($G52=0,0,IF(AND(R$22>=$H52,MOD($H52-R$22,$I52)=0),$G52,0))) -> 0 | ... T52: =IF($G52="Invoer",0,IF($G52=0,0,IF(AND(T$22>=$H52,MOD($H52-T$22,$I52)=0),$G52,0))) -> 0 | U52: =IF(E52>4,1,0) -> 0
B53: 403 | C53: Ophanging | D53: Ophanging 2:1 | G53: 0 | K53: =IF($G53="Invoer",0,IF($G53=0,0,IF(AND(K$22>=$H53,MOD($H53-K$22,$I53)=0),$G53,0))) -> 0 | L53: =IF($G53="Invoer",0,IF($G53=0,0,IF(AND(L$22>=$H53,MOD($H53-L$22,$I53)=0),$G53,0))) -> 0 | M53: =IF($G53="Invoer",0,IF($G53=0,0,IF(AND(M$22>=$H53,MOD($H53-M$22,$I53)=0),$G53,0))) -> 0 | N53: =IF($G53="Invoer",0,IF($G53=0,0,IF(AND(N$22>=$H53,MOD($H53-N$22,$I53)=0),$G53,0))) -> 0 | O53: =IF($G53="Invoer",0,IF($G53=0,0,IF(AND(O$22>=$H53,MOD($H53-O$22,$I53)=0),$G53,0))) -> 0 | P53: =IF($G53="Invoer",0,IF($G53=0,0,IF(AND(P$22>=$H53,MOD($H53-P$22,$I53)=0),$G53,0))) -> 0 | Q53: =IF($G53="Invoer",0,IF($G53=0,0,IF(AND(Q$22>=$H53,MOD($H53-Q$22,$I53)=0),$G53,0))) -> 0 | R53: =IF($G53="Invoer",0,IF($G53=0,0,IF(AND(R$22>=$H53,MOD($H53-R$22,$I53)=0),$G53,0))) -> 0 | ... T53: =IF($G53="Invoer",0,IF($G53=0,0,IF(AND(T$22>=$H53,MOD($H53-T$22,$I53)=0),$G53,0))) -> 0 | U53: =IF(E53>4,1,0) -> 0
B54: 404 | C54: Tractieschijf | D54: 400mm | E54: 3 | F54: 2005 | G54: Invoer | H54: 2026 | I54: 12 | J54: 1500 | K54: =IF($G54="Invoer",0,IF($G54=0,0,IF(AND(K$22>=$H54,MOD($H54-K$22,$I54)=0),$G54,0))) -> 0 | L54: =IF($G54="Invoer",0,IF($G54=0,0,IF(AND(L$22>=$H54,MOD($H54-L$22,$I54)=0),$G54,0))) -> 0 | M54: =IF($G54="Invoer",0,IF($G54=0,0,IF(AND(M$22>=$H54,MOD($H54-M$22,$I54)=0),$G54,0))) -> 0 | N54: =IF($G54="Invoer",0,IF($G54=0,0,IF(AND(N$22>=$H54,MOD($H54-N$22,$I54)=0),$G54,0))) -> 0 | O54: =IF($G54="Invoer",0,IF($G54=0,0,IF(AND(O$22>=$H54,MOD($H54-O$22,$I54)=0),$G54,0))) -> 0 | P54: =IF($G54="Invoer",0,IF($G54=0,0,IF(AND(P$22>=$H54,MOD($H54-P$22,$I54)=0),$G54,0))) -> 0 | Q54: =IF($G54="Invoer",0,IF($G54=0,0,IF(AND(Q$22>=$H54,MOD($H54-Q$22,$I54)=0),$G54,0))) -> 0 | R54: =IF($G54="Invoer",0,IF($G54=0,0,IF(AND(R$22>=$H54,MOD($H54-R$22,$I54)=0),$G54,0))) -> 0 | ... T54: =IF($G54="Invoer",0,IF($G54=0,0,IF(AND(T$22>=$H54,MOD($H54-T$22,$I54)=0),$G54,0))) -> 0 | U54: =IF(E54>4,1,0) -> 0
B55: 405 | C55: Draagmiddelen | D55: 6 x 8 mm | E55: 3 | F55: 2005 | G55: Invoer | H55: 2026 | I55: 12 | J55: 7500 | K55: =IF($G55="Invoer",0,IF($G55=0,0,IF(AND(K$22>=$H55,MOD($H55-K$22,$I55)=0),$G55,0))) -> 0 | L55: =IF($G55="Invoer",0,IF($G55=0,0,IF(AND(L$22>=$H55,MOD($H55-L$22,$I55)=0),$G55,0))) -> 0 | M55: =IF($G55="Invoer",0,IF($G55=0,0,IF(AND(M$22>=$H55,MOD($H55-M$22,$I55)=0),$G55,0))) -> 0 | N55: =IF($G55="Invoer",0,IF($G55=0,0,IF(AND(N$22>=$H55,MOD($H55-N$22,$I55)=0),$G55,0))) -> 0 | O55: =IF($G55="Invoer",0,IF($G55=0,0,IF(AND(O$22>=$H55,MOD($H55-O$22,$I55)=0),$G55,0))) -> 0 | P55: =IF($G55="Invoer",0,IF($G55=0,0,IF(AND(P$22>=$H55,MOD($H55-P$22,$I55)=0),$G55,0))) -> 0 | Q55: =IF($G55="Invoer",0,IF($G55=0,0,IF(AND(Q$22>=$H55,MOD($H55-Q$22,$I55)=0),$G55,0))) -> 0 | R55: =IF($G55="Invoer",0,IF($G55=0,0,IF(AND(R$22>=$H55,MOD($H55-R$22,$I55)=0),$G55,0))) -> 0 | ... T55: =IF($G55="Invoer",0,IF($G55=0,0,IF(AND(T$22>=$H55,MOD($H55-T$22,$I55)=0),$G55,0))) -> 0 | U55: =IF(E55>4,1,0) -> 0
B56: 406 | C56: Revisie elektromotor | D56: Gewenst | E56: 3 | F56: 2005 | G56: Invoer | H56: 2026 | I56: 99 | J56: 2500 | K56: =IF($G56="Invoer",0,IF($G56=0,0,IF(AND(K$22>=$H56,MOD($H56-K$22,$I56)=0),$G56,0))) -> 0 | L56: =IF($G56="Invoer",0,IF($G56=0,0,IF(AND(L$22>=$H56,MOD($H56-L$22,$I56)=0),$G56,0))) -> 0 | M56: =IF($G56="Invoer",0,IF($G56=0,0,IF(AND(M$22>=$H56,MOD($H56-M$22,$I56)=0),$G56,0))) -> 0 | N56: =IF($G56="Invoer",0,IF($G56=0,0,IF(AND(N$22>=$H56,MOD($H56-N$22,$I56)=0),$G56,0))) -> 0 | O56: =IF($G56="Invoer",0,IF($G56=0,0,IF(AND(O$22>=$H56,MOD($H56-O$22,$I56)=0),$G56,0))) -> 0 | P56: =IF($G56="Invoer",0,IF($G56=0,0,IF(AND(P$22>=$H56,MOD($H56-P$22,$I56)=0),$G56,0))) -> 0 | Q56: =IF($G56="Invoer",0,IF($G56=0,0,IF(AND(Q$22>=$H56,MOD($H56-Q$22,$I56)=0),$G56,0))) -> 0 | R56: =IF($G56="Invoer",0,IF($G56=0,0,IF(AND(R$22>=$H56,MOD($H56-R$22,$I56)=0),$G56,0))) -> 0 | ... T56: =IF($G56="Invoer",0,IF($G56=0,0,IF(AND(T$22>=$H56,MOD($H56-T$22,$I56)=0),$G56,0))) -> 0 | U56: =IF(E56>4,1,0) -> 0
B57: 407 | C57: Revisie aandrijving | D57: Gewenst | E57: 3 | F57: 2005 | G57: Invoer | H57: 2026 | I57: 99 | J57: 1500 | K57: =IF($G57="Invoer",0,IF($G57=0,0,IF(AND(K$22>=$H57,MOD($H57-K$22,$I57)=0),$G57,0))) -> 0 | L57: =IF($G57="Invoer",0,IF($G57=0,0,IF(AND(L$22>=$H57,MOD($H57-L$22,$I57)=0),$G57,0))) -> 0 | M57: =IF($G57="Invoer",0,IF($G57=0,0,IF(AND(M$22>=$H57,MOD($H57-M$22,$I57)=0),$G57,0))) -> 0 | N57: =IF($G57="Invoer",0,IF($G57=0,0,IF(AND(N$22>=$H57,MOD($H57-N$22,$I57)=0),$G57,0))) -> 0 | O57: =IF($G57="Invoer",0,IF($G57=0,0,IF(AND(O$22>=$H57,MOD($H57-O$22,$I57)=0),$G57,0))) -> 0 | P57: =IF($G57="Invoer",0,IF($G57=0,0,IF(AND(P$22>=$H57,MOD($H57-P$22,$I57)=0),$G57,0))) -> 0 | Q57: =IF($G57="Invoer",0,IF($G57=0,0,IF(AND(Q$22>=$H57,MOD($H57-Q$22,$I57)=0),$G57,0))) -> 0 | R57: =IF($G57="Invoer",0,IF($G57=0,0,IF(AND(R$22>=$H57,MOD($H57-R$22,$I57)=0),$G57,0))) -> 0 | ... T57: =IF($G57="Invoer",0,IF($G57=0,0,IF(AND(T$22>=$H57,MOD($H57-T$22,$I57)=0),$G57,0))) -> 0 | U57: =IF(E57>4,1,0) -> 0
B58: 408 | C58: Olie verversen | D58: N.v.t. gearless | F58: 0 | G58: 0 | H58: 0 | I58: 0 | J58: 650 | K58: =IF($G58="Invoer",0,IF($G58=0,0,IF(AND(K$22>=$H58,MOD($H58-K$22,$I58)=0),$G58,0))) -> 0 | L58: =IF($G58="Invoer",0,IF($G58=0,0,IF(AND(L$22>=$H58,MOD($H58-L$22,$I58)=0),$G58,0))) -> 0 | M58: =IF($G58="Invoer",0,IF($G58=0,0,IF(AND(M$22>=$H58,MOD($H58-M$22,$I58)=0),$G58,0))) -> 0 | N58: =IF($G58="Invoer",0,IF($G58=0,0,IF(AND(N$22>=$H58,MOD($H58-N$22,$I58)=0),$G58,0))) -> 0 | O58: =IF($G58="Invoer",0,IF($G58=0,0,IF(AND(O$22>=$H58,MOD($H58-O$22,$I58)=0),$G58,0))) -> 0 | P58: =IF($G58="Invoer",0,IF($G58=0,0,IF(AND(P$22>=$H58,MOD($H58-P$22,$I58)=0),$G58,0))) -> 0 | Q58: =IF($G58="Invoer",0,IF($G58=0,0,IF(AND(Q$22>=$H58,MOD($H58-Q$22,$I58)=0),$G58,0))) -> 0 | R58: =IF($G58="Invoer",0,IF($G58=0,0,IF(AND(R$22>=$H58,MOD($H58-R$22,$I58)=0),$G58,0))) -> 0 | ... T58: =IF($G58="Invoer",0,IF($G58=0,0,IF(AND(T$22>=$H58,MOD($H58-T$22,$I58)=0),$G58,0))) -> 0
G59: 0 | K59: =IF($G59="Invoer",0,IF($G59=0,0,IF(AND(K$22>=$H59,MOD($H59-K$22,$I59)=0),$G59,0))) -> 0 | L59: =IF($G59="Invoer",0,IF($G59=0,0,IF(AND(L$22>=$H59,MOD($H59-L$22,$I59)=0),$G59,0))) -> 0 | M59: =IF($G59="Invoer",0,IF($G59=0,0,IF(AND(M$22>=$H59,MOD($H59-M$22,$I59)=0),$G59,0))) -> 0 | N59: =IF($G59="Invoer",0,IF($G59=0,0,IF(AND(N$22>=$H59,MOD($H59-N$22,$I59)=0),$G59,0))) -> 0 | O59: =IF($G59="Invoer",0,IF($G59=0,0,IF(AND(O$22>=$H59,MOD($H59-O$22,$I59)=0),$G59,0))) -> 0 | P59: =IF($G59="Invoer",0,IF($G59=0,0,IF(AND(P$22>=$H59,MOD($H59-P$22,$I59)=0),$G59,0))) -> 0 | Q59: =IF($G59="Invoer",0,IF($G59=0,0,IF(AND(Q$22>=$H59,MOD($H59-Q$22,$I59)=0),$G59,0))) -> 0 | R59: =IF($G59="Invoer",0,IF($G59=0,0,IF(AND(R$22>=$H59,MOD($H59-R$22,$I59)=0),$G59,0))) -> 0 | ... T59: =IF($G59="Invoer",0,IF($G59=0,0,IF(AND(T$22>=$H59,MOD($H59-T$22,$I59)=0),$G59,0))) -> 0 | U59: =IF(E59>4,1,0) -> 0
B61: Hydrauliek
B62: 500 | C62: Fabricaat en type aggregaat | D62: N.v.t. | G62: 0 | J62: 11000 | K62: =IF($G62="Invoer",0,IF($G62=0,0,IF(AND(K$22>=$H62,MOD($H62-K$22,$I62)=0),$G62,0))) -> 0 | L62: =IF($G62="Invoer",0,IF($G62=0,0,IF(AND(L$22>=$H62,MOD($H62-L$22,$I62)=0),$G62,0))) -> 0 | M62: =IF($G62="Invoer",0,IF($G62=0,0,IF(AND(M$22>=$H62,MOD($H62-M$22,$I62)=0),$G62,0))) -> 0 | N62: =IF($G62="Invoer",0,IF($G62=0,0,IF(AND(N$22>=$H62,MOD($H62-N$22,$I62)=0),$G62,0))) -> 0 | O62: =IF($G62="Invoer",0,IF($G62=0,0,IF(AND(O$22>=$H62,MOD($H62-O$22,$I62)=0),$G62,0))) -> 0 | P62: =IF($G62="Invoer",0,IF($G62=0,0,IF(AND(P$22>=$H62,MOD($H62-P$22,$I62)=0),$G62,0))) -> 0 | Q62: =IF($G62="Invoer",0,IF($G62=0,0,IF(AND(Q$22>=$H62,MOD($H62-Q$22,$I62)=0),$G62,0))) -> 0 | R62: =IF($G62="Invoer",0,IF($G62=0,0,IF(AND(R$22>=$H62,MOD($H62-R$22,$I62)=0),$G62,0))) -> 0 | ... T62: =IF($G62="Invoer",0,IF($G62=0,0,IF(AND(T$22>=$H62,MOD($H62-T$22,$I62)=0),$G62,0))) -> 0 | U62: =IF(E62>4,1,0) -> 0
B63: 501 | C63: 2e gebrek aan aggregaat | G63: 0 | K63: =IF($G63="Invoer",0,IF($G63=0,0,IF(AND(K$22>=$H63,MOD($H63-K$22,$I63)=0),$G63,0))) -> 0 | L63: =IF($G63="Invoer",0,IF($G63=0,0,IF(AND(L$22>=$H63,MOD($H63-L$22,$I63)=0),$G63,0))) -> 0 | M63: =IF($G63="Invoer",0,IF($G63=0,0,IF(AND(M$22>=$H63,MOD($H63-M$22,$I63)=0),$G63,0))) -> 0 | N63: =IF($G63="Invoer",0,IF($G63=0,0,IF(AND(N$22>=$H63,MOD($H63-N$22,$I63)=0),$G63,0))) -> 0 | O63: =IF($G63="Invoer",0,IF($G63=0,0,IF(AND(O$22>=$H63,MOD($H63-O$22,$I63)=0),$G63,0))) -> 0 | P63: =IF($G63="Invoer",0,IF($G63=0,0,IF(AND(P$22>=$H63,MOD($H63-P$22,$I63)=0),$G63,0))) -> 0 | Q63: =IF($G63="Invoer",0,IF($G63=0,0,IF(AND(Q$22>=$H63,MOD($H63-Q$22,$I63)=0),$G63,0))) -> 0 | R63: =IF($G63="Invoer",0,IF($G63=0,0,IF(AND(R$22>=$H63,MOD($H63-R$22,$I63)=0),$G63,0))) -> 0 | ... T63: =IF($G63="Invoer",0,IF($G63=0,0,IF(AND(T$22>=$H63,MOD($H63-T$22,$I63)=0),$G63,0))) -> 0 | U63: =IF(E63>4,1,0) -> 0
B64: 502 | C64: Fabricaat en type stuurblok | D64: N.v.t. | G64: 0 | J64: 3500 | K64: =IF($G64="Invoer",0,IF($G64=0,0,IF(AND(K$22>=$H64,MOD($H64-K$22,$I64)=0),$G64,0))) -> 0 | L64: =IF($G64="Invoer",0,IF($G64=0,0,IF(AND(L$22>=$H64,MOD($H64-L$22,$I64)=0),$G64,0))) -> 0 | M64: =IF($G64="Invoer",0,IF($G64=0,0,IF(AND(M$22>=$H64,MOD($H64-M$22,$I64)=0),$G64,0))) -> 0 | N64: =IF($G64="Invoer",0,IF($G64=0,0,IF(AND(N$22>=$H64,MOD($H64-N$22,$I64)=0),$G64,0))) -> 0 | O64: =IF($G64="Invoer",0,IF($G64=0,0,IF(AND(O$22>=$H64,MOD($H64-O$22,$I64)=0),$G64,0))) -> 0 | P64: =IF($G64="Invoer",0,IF($G64=0,0,IF(AND(P$22>=$H64,MOD($H64-P$22,$I64)=0),$G64,0))) -> 0 | Q64: =IF($G64="Invoer",0,IF($G64=0,0,IF(AND(Q$22>=$H64,MOD($H64-Q$22,$I64)=0),$G64,0))) -> 0 | R64: =IF($G64="Invoer",0,IF($G64=0,0,IF(AND(R$22>=$H64,MOD($H64-R$22,$I64)=0),$G64,0))) -> 0 | ... T64: =IF($G64="Invoer",0,IF($G64=0,0,IF(AND(T$22>=$H64,MOD($H64-T$22,$I64)=0),$G64,0))) -> 0 | U64: =IF(E64>4,1,0) -> 0
B65: 503 | C65: Afdichtingen stuurblok | D65: N.v.t. | G65: 0 | J65: 1500 | K65: =IF($G65="Invoer",0,IF($G65=0,0,IF(AND(K$22>=$H65,MOD($H65-K$22,$I65)=0),$G65,0))) -> 0 | L65: =IF($G65="Invoer",0,IF($G65=0,0,IF(AND(L$22>=$H65,MOD($H65-L$22,$I65)=0),$G65,0))) -> 0 | M65: =IF($G65="Invoer",0,IF($G65=0,0,IF(AND(M$22>=$H65,MOD($H65-M$22,$I65)=0),$G65,0))) -> 0 | N65: =IF($G65="Invoer",0,IF($G65=0,0,IF(AND(N$22>=$H65,MOD($H65-N$22,$I65)=0),$G65,0))) -> 0 | O65: =IF($G65="Invoer",0,IF($G65=0,0,IF(AND(O$22>=$H65,MOD($H65-O$22,$I65)=0),$G65,0))) -> 0 | P65: =IF($G65="Invoer",0,IF($G65=0,0,IF(AND(P$22>=$H65,MOD($H65-P$22,$I65)=0),$G65,0))) -> 0 | Q65: =IF($G65="Invoer",0,IF($G65=0,0,IF(AND(Q$22>=$H65,MOD($H65-Q$22,$I65)=0),$G65,0))) -> 0 | R65: =IF($G65="Invoer",0,IF($G65=0,0,IF(AND(R$22>=$H65,MOD($H65-R$22,$I65)=0),$G65,0))) -> 0 | ... T65: =IF($G65="Invoer",0,IF($G65=0,0,IF(AND(T$22>=$H65,MOD($H65-T$22,$I65)=0),$G65,0))) -> 0 | U65: =IF(E65>4,1,0) -> 0
B66: 504 | C66: Fabricaat en type cilinder | D66: N.v.t. | G66: 0 | J66: 12000 | K66: =IF($G66="Invoer",0,IF($G66=0,0,IF(AND(K$22>=$H66,MOD($H66-K$22,$I66)=0),$G66,0))) -> 0 | L66: =IF($G66="Invoer",0,IF($G66=0,0,IF(AND(L$22>=$H66,MOD($H66-L$22,$I66)=0),$G66,0))) -> 0 | M66: =IF($G66="Invoer",0,IF($G66=0,0,IF(AND(M$22>=$H66,MOD($H66-M$22,$I66)=0),$G66,0))) -> 0 | N66: =IF($G66="Invoer",0,IF($G66=0,0,IF(AND(N$22>=$H66,MOD($H66-N$22,$I66)=0),$G66,0))) -> 0 | O66: =IF($G66="Invoer",0,IF($G66=0,0,IF(AND(O$22>=$H66,MOD($H66-O$22,$I66)=0),$G66,0))) -> 0 | P66: =IF($G66="Invoer",0,IF($G66=0,0,IF(AND(P$22>=$H66,MOD($H66-P$22,$I66)=0),$G66,0))) -> 0 | Q66: =IF($G66="Invoer",0,IF($G66=0,0,IF(AND(Q$22>=$H66,MOD($H66-Q$22,$I66)=0),$G66,0))) -> 0 | R66: =IF($G66="Invoer",0,IF($G66=0,0,IF(AND(R$22>=$H66,MOD($H66-R$22,$I66)=0),$G66,0))) -> 0 | ... T66: =IF($G66="Invoer",0,IF($G66=0,0,IF(AND(T$22>=$H66,MOD($H66-T$22,$I66)=0),$G66,0))) -> 0 | U66: =IF(E66>4,1,0) -> 0
B67: 505 | C67: Afdichtingen cilinder | D67: N.v.t. | G67: 0 | J67: 1500 | K67: =IF($G67="Invoer",0,IF($G67=0,0,IF(AND(K$22>=$H67,MOD($H67-K$22,$I67)=0),$G67,0))) -> 0 | L67: =IF($G67="Invoer",0,IF($G67=0,0,IF(AND(L$22>=$H67,MOD($H67-L$22,$I67)=0),$G67,0))) -> 0 | M67: =IF($G67="Invoer",0,IF($G67=0,0,IF(AND(M$22>=$H67,MOD($H67-M$22,$I67)=0),$G67,0))) -> 0 | N67: =IF($G67="Invoer",0,IF($G67=0,0,IF(AND(N$22>=$H67,MOD($H67-N$22,$I67)=0),$G67,0))) -> 0 | O67: =IF($G67="Invoer",0,IF($G67=0,0,IF(AND(O$22>=$H67,MOD($H67-O$22,$I67)=0),$G67,0))) -> 0 | P67: =IF($G67="Invoer",0,IF($G67=0,0,IF(AND(P$22>=$H67,MOD($H67-P$22,$I67)=0),$G67,0))) -> 0 | Q67: =IF($G67="Invoer",0,IF($G67=0,0,IF(AND(Q$22>=$H67,MOD($H67-Q$22,$I67)=0),$G67,0))) -> 0 | R67: =IF($G67="Invoer",0,IF($G67=0,0,IF(AND(R$22>=$H67,MOD($H67-R$22,$I67)=0),$G67,0))) -> 0 | ... T67: =IF($G67="Invoer",0,IF($G67=0,0,IF(AND(T$22>=$H67,MOD($H67-T$22,$I67)=0),$G67,0))) -> 0 | U67: =IF(E67>4,1,0) -> 0
B68: 506 | C68: Leidingbreukventiel | D68: N.v.t. | G68: 0 | J68: 2500 | K68: =IF($G68="Invoer",0,IF($G68=0,0,IF(AND(K$22>=$H68,MOD($H68-K$22,$I68)=0),$G68,0))) -> 0 | L68: =IF($G68="Invoer",0,IF($G68=0,0,IF(AND(L$22>=$H68,MOD($H68-L$22,$I68)=0),$G68,0))) -> 0 | M68: =IF($G68="Invoer",0,IF($G68=0,0,IF(AND(M$22>=$H68,MOD($H68-M$22,$I68)=0),$G68,0))) -> 0 | N68: =IF($G68="Invoer",0,IF($G68=0,0,IF(AND(N$22>=$H68,MOD($H68-N$22,$I68)=0),$G68,0))) -> 0 | O68: =IF($G68="Invoer",0,IF($G68=0,0,IF(AND(O$22>=$H68,MOD($H68-O$22,$I68)=0),$G68,0))) -> 0 | P68: =IF($G68="Invoer",0,IF($G68=0,0,IF(AND(P$22>=$H68,MOD($H68-P$22,$I68)=0),$G68,0))) -> 0 | Q68: =IF($G68="Invoer",0,IF($G68=0,0,IF(AND(Q$22>=$H68,MOD($H68-Q$22,$I68)=0),$G68,0))) -> 0 | R68: =IF($G68="Invoer",0,IF($G68=0,0,IF(AND(R$22>=$H68,MOD($H68-R$22,$I68)=0),$G68,0))) -> 0 | ... T68: =IF($G68="Invoer",0,IF($G68=0,0,IF(AND(T$22>=$H68,MOD($H68-T$22,$I68)=0),$G68,0))) -> 0 | U68: =IF(E68>4,1,0) -> 0
B69: 507 | C69: Wegzakinrichting | D69: N.v.t. | G69: 0 | J69: 3500 | K69: =IF($G69="Invoer",0,IF($G69=0,0,IF(AND(K$22>=$H69,MOD($H69-K$22,$I69)=0),$G69,0))) -> 0 | L69: =IF($G69="Invoer",0,IF($G69=0,0,IF(AND(L$22>=$H69,MOD($H69-L$22,$I69)=0),$G69,0))) -> 0 | M69: =IF($G69="Invoer",0,IF($G69=0,0,IF(AND(M$22>=$H69,MOD($H69-M$22,$I69)=0),$G69,0))) -> 0 | N69: =IF($G69="Invoer",0,IF($G69=0,0,IF(AND(N$22>=$H69,MOD($H69-N$22,$I69)=0),$G69,0))) -> 0 | O69: =IF($G69="Invoer",0,IF($G69=0,0,IF(AND(O$22>=$H69,MOD($H69-O$22,$I69)=0),$G69,0))) -> 0 | P69: =IF($G69="Invoer",0,IF($G69=0,0,IF(AND(P$22>=$H69,MOD($H69-P$22,$I69)=0),$G69,0))) -> 0 | Q69: =IF($G69="Invoer",0,IF($G69=0,0,IF(AND(Q$22>=$H69,MOD($H69-Q$22,$I69)=0),$G69,0))) -> 0 | R69: =IF($G69="Invoer",0,IF($G69=0,0,IF(AND(R$22>=$H69,MOD($H69-R$22,$I69)=0),$G69,0))) -> 0 | ... T69: =IF($G69="Invoer",0,IF($G69=0,0,IF(AND(T$22>=$H69,MOD($H69-T$22,$I69)=0),$G69,0))) -> 0 | U69: =IF(E69>4,1,0) -> 0
B70: 508 | C70: Olie | D70: N.v.t. | G70: 0 | J70: 2500 | K70: =IF($G70="Invoer",0,IF($G70=0,0,IF(AND(K$22>=$H70,MOD($H70-K$22,$I70)=0),$G70,0))) -> 0 | L70: =IF($G70="Invoer",0,IF($G70=0,0,IF(AND(L$22>=$H70,MOD($H70-L$22,$I70)=0),$G70,0))) -> 0 | M70: =IF($G70="Invoer",0,IF($G70=0,0,IF(AND(M$22>=$H70,MOD($H70-M$22,$I70)=0),$G70,0))) -> 0 | N70: =IF($G70="Invoer",0,IF($G70=0,0,IF(AND(N$22>=$H70,MOD($H70-N$22,$I70)=0),$G70,0))) -> 0 | O70: =IF($G70="Invoer",0,IF($G70=0,0,IF(AND(O$22>=$H70,MOD($H70-O$22,$I70)=0),$G70,0))) -> 0 | P70: =IF($G70="Invoer",0,IF($G70=0,0,IF(AND(P$22>=$H70,MOD($H70-P$22,$I70)=0),$G70,0))) -> 0 | Q70: =IF($G70="Invoer",0,IF($G70=0,0,IF(AND(Q$22>=$H70,MOD($H70-Q$22,$I70)=0),$G70,0))) -> 0 | R70: =IF($G70="Invoer",0,IF($G70=0,0,IF(AND(R$22>=$H70,MOD($H70-R$22,$I70)=0),$G70,0))) -> 0 | ... T70: =IF($G70="Invoer",0,IF($G70=0,0,IF(AND(T$22>=$H70,MOD($H70-T$22,$I70)=0),$G70,0))) -> 0 | U70: =IF(E70>4,1,0) -> 0
B71: 509 | C71: Staalkabels | D71: N.v.t. | G71: 0 | J71: 4500 | K71: =IF($G71="Invoer",0,IF($G71=0,0,IF(AND(K$22>=$H71,MOD($H71-K$22,$I71)=0),$G71,0))) -> 0 | L71: =IF($G71="Invoer",0,IF($G71=0,0,IF(AND(L$22>=$H71,MOD($H71-L$22,$I71)=0),$G71,0))) -> 0 | M71: =IF($G71="Invoer",0,IF($G71=0,0,IF(AND(M$22>=$H71,MOD($H71-M$22,$I71)=0),$G71,0))) -> 0 | N71: =IF($G71="Invoer",0,IF($G71=0,0,IF(AND(N$22>=$H71,MOD($H71-N$22,$I71)=0),$G71,0))) -> 0 | O71: =IF($G71="Invoer",0,IF($G71=0,0,IF(AND(O$22>=$H71,MOD($H71-O$22,$I71)=0),$G71,0))) -> 0 | P71: =IF($G71="Invoer",0,IF($G71=0,0,IF(AND(P$22>=$H71,MOD($H71-P$22,$I71)=0),$G71,0))) -> 0 | Q71: =IF($G71="Invoer",0,IF($G71=0,0,IF(AND(Q$22>=$H71,MOD($H71-Q$22,$I71)=0),$G71,0))) -> 0 | R71: =IF($G71="Invoer",0,IF($G71=0,0,IF(AND(R$22>=$H71,MOD($H71-R$22,$I71)=0),$G71,0))) -> 0 | ... T71: =IF($G71="Invoer",0,IF($G71=0,0,IF(AND(T$22>=$H71,MOD($H71-T$22,$I71)=0),$G71,0))) -> 0
B72: 510 | C72: Afleidwiel plunjer | D72: N.v.t. | G72: 0 | J72: 1500 | K72: =IF($G72="Invoer",0,IF($G72=0,0,IF(AND(K$22>=$H72,MOD($H72-K$22,$I72)=0),$G72,0))) -> 0 | L72: =IF($G72="Invoer",0,IF($G72=0,0,IF(AND(L$22>=$H72,MOD($H72-L$22,$I72)=0),$G72,0))) -> 0 | M72: =IF($G72="Invoer",0,IF($G72=0,0,IF(AND(M$22>=$H72,MOD($H72-M$22,$I72)=0),$G72,0))) -> 0 | N72: =IF($G72="Invoer",0,IF($G72=0,0,IF(AND(N$22>=$H72,MOD($H72-N$22,$I72)=0),$G72,0))) -> 0 | O72: =IF($G72="Invoer",0,IF($G72=0,0,IF(AND(O$22>=$H72,MOD($H72-O$22,$I72)=0),$G72,0))) -> 0 | P72: =IF($G72="Invoer",0,IF($G72=0,0,IF(AND(P$22>=$H72,MOD($H72-P$22,$I72)=0),$G72,0))) -> 0 | Q72: =IF($G72="Invoer",0,IF($G72=0,0,IF(AND(Q$22>=$H72,MOD($H72-Q$22,$I72)=0),$G72,0))) -> 0 | R72: =IF($G72="Invoer",0,IF($G72=0,0,IF(AND(R$22>=$H72,MOD($H72-R$22,$I72)=0),$G72,0))) -> 0 | ... T72: =IF($G72="Invoer",0,IF($G72=0,0,IF(AND(T$22>=$H72,MOD($H72-T$22,$I72)=0),$G72,0))) -> 0 | U72: =IF(E72>4,1,0) -> 0
B74: Geleiding
B75: 600 | C75: Opstelling | D75: Centrale opstelling | K75: =IF($G75=0,0,IF(AND(K$22>=$H75,MOD($H75-K$22,$I75)=0),$G75,0)) -> 0 | L75: =IF($G75=0,0,IF(AND(L$22>=$H75,MOD($H75-L$22,$I75)=0),$G75,0)) -> 0 | M75: =IF($G75=0,0,IF(AND(M$22>=$H75,MOD($H75-M$22,$I75)=0),$G75,0)) -> 0 | N75: =IF($G75=0,0,IF(AND(N$22>=$H75,MOD($H75-N$22,$I75)=0),$G75,0)) -> 0 | O75: =IF($G75=0,0,IF(AND(O$22>=$H75,MOD($H75-O$22,$I75)=0),$G75,0)) -> 0 | P75: =IF($G75=0,0,IF(AND(P$22>=$H75,MOD($H75-P$22,$I75)=0),$G75,0)) -> 0 | Q75: =IF($G75=0,0,IF(AND(Q$22>=$H75,MOD($H75-Q$22,$I75)=0),$G75,0)) -> 0 | R75: =IF($G75=0,0,IF(AND(R$22>=$H75,MOD($H75-R$22,$I75)=0),$G75,0)) -> 0 | ... T75: =IF($G75=0,0,IF(AND(T$22>=$H75,MOD($H75-T$22,$I75)=0),$G75,0)) -> 0 | U75: =IF(E75>4,1,0) -> 0
B76: 601 | C76: Cabinegeleiding: | D76: Sloffen | E76: 4 | F76: 2005 | G76: Invoer | H76: 2026 | I76: 15 | J76: 600 | K76: =IF($G76="Invoer",0,IF($G76=0,0,IF(AND(K$22>=$H76,MOD($H76-K$22,$I76)=0),$G76,0))) -> 0 | L76: =IF($G76="Invoer",0,IF($G76=0,0,IF(AND(L$22>=$H76,MOD($H76-L$22,$I76)=0),$G76,0))) -> 0 | M76: =IF($G76="Invoer",0,IF($G76=0,0,IF(AND(M$22>=$H76,MOD($H76-M$22,$I76)=0),$G76,0))) -> 0 | N76: =IF($G76="Invoer",0,IF($G76=0,0,IF(AND(N$22>=$H76,MOD($H76-N$22,$I76)=0),$G76,0))) -> 0 | O76: =IF($G76="Invoer",0,IF($G76=0,0,IF(AND(O$22>=$H76,MOD($H76-O$22,$I76)=0),$G76,0))) -> 0 | P76: =IF($G76="Invoer",0,IF($G76=0,0,IF(AND(P$22>=$H76,MOD($H76-P$22,$I76)=0),$G76,0))) -> 0 | Q76: =IF($G76="Invoer",0,IF($G76=0,0,IF(AND(Q$22>=$H76,MOD($H76-Q$22,$I76)=0),$G76,0))) -> 0 | R76: =IF($G76="Invoer",0,IF($G76=0,0,IF(AND(R$22>=$H76,MOD($H76-R$22,$I76)=0),$G76,0))) -> 0 | ... T76: =IF($G76="Invoer",0,IF($G76=0,0,IF(AND(T$22>=$H76,MOD($H76-T$22,$I76)=0),$G76,0))) -> 0 | U76: =IF(E76>4,1,0) -> 0
B77: 602 | C77: Tegengewichtgeleiding: | D77: Sloffen | E77: 4 | F77: 2005 | G77: Invoer | H77: 2026 | I77: 15 | J77: 600 | K77: =IF($G77="Invoer",0,IF($G77=0,0,IF(AND(K$22>=$H77,MOD($H77-K$22,$I77)=0),$G77,0))) -> 0 | L77: =IF($G77="Invoer",0,IF($G77=0,0,IF(AND(L$22>=$H77,MOD($H77-L$22,$I77)=0),$G77,0))) -> 0 | M77: =IF($G77="Invoer",0,IF($G77=0,0,IF(AND(M$22>=$H77,MOD($H77-M$22,$I77)=0),$G77,0))) -> 0 | N77: =IF($G77="Invoer",0,IF($G77=0,0,IF(AND(N$22>=$H77,MOD($H77-N$22,$I77)=0),$G77,0))) -> 0 | O77: =IF($G77="Invoer",0,IF($G77=0,0,IF(AND(O$22>=$H77,MOD($H77-O$22,$I77)=0),$G77,0))) -> 0 | P77: =IF($G77="Invoer",0,IF($G77=0,0,IF(AND(P$22>=$H77,MOD($H77-P$22,$I77)=0),$G77,0))) -> 0 | Q77: =IF($G77="Invoer",0,IF($G77=0,0,IF(AND(Q$22>=$H77,MOD($H77-Q$22,$I77)=0),$G77,0))) -> 0 | R77: =IF($G77="Invoer",0,IF($G77=0,0,IF(AND(R$22>=$H77,MOD($H77-R$22,$I77)=0),$G77,0))) -> 0 | ... T77: =IF($G77="Invoer",0,IF($G77=0,0,IF(AND(T$22>=$H77,MOD($H77-T$22,$I77)=0),$G77,0))) -> 0
G78: 0 | K78: =IF($G78=0,0,IF(AND(K$22>=$H78,MOD($H78-K$22,$I78)=0),$G78,0)) -> 0 | L78: =IF($G78=0,0,IF(AND(L$22>=$H78,MOD($H78-L$22,$I78)=0),$G78,0)) -> 0 | M78: =IF($G78=0,0,IF(AND(M$22>=$H78,MOD($H78-M$22,$I78)=0),$G78,0)) -> 0 | N78: =IF($G78=0,0,IF(AND(N$22>=$H78,MOD($H78-N$22,$I78)=0),$G78,0)) -> 0 | O78: =IF($G78=0,0,IF(AND(O$22>=$H78,MOD($H78-O$22,$I78)=0),$G78,0)) -> 0 | P78: =IF($G78=0,0,IF(AND(P$22>=$H78,MOD($H78-P$22,$I78)=0),$G78,0)) -> 0 | Q78: =IF($G78=0,0,IF(AND(Q$22>=$H78,MOD($H78-Q$22,$I78)=0),$G78,0)) -> 0 | R78: =IF($G78=0,0,IF(AND(R$22>=$H78,MOD($H78-R$22,$I78)=0),$G78,0)) -> 0 | ... T78: =IF($G78=0,0,IF(AND(T$22>=$H78,MOD($H78-T$22,$I78)=0),$G78,0)) -> 0 | U78: =IF(E78>4,1,0) -> 0
B80: Signalering
B81: 700 | C81: Fabricaat en type cabinetableau | D81: ThyssenKrupp ronde knop | E81: 3 | F81: 2005 | G81: Invoer | H81: 2026 | I81: 20 | J81: 3950 | K81: =IF($G81="Invoer",0,IF($G81=0,0,IF(AND(K$22>=$H81,MOD($H81-K$22,$I81)=0),$G81,0))) -> 0 | L81: =IF($G81="Invoer",0,IF($G81=0,0,IF(AND(L$22>=$H81,MOD($H81-L$22,$I81)=0),$G81,0))) -> 0 | M81: =IF($G81="Invoer",0,IF($G81=0,0,IF(AND(M$22>=$H81,MOD($H81-M$22,$I81)=0),$G81,0))) -> 0 | N81: =IF($G81="Invoer",0,IF($G81=0,0,IF(AND(N$22>=$H81,MOD($H81-N$22,$I81)=0),$G81,0))) -> 0 | O81: =IF($G81="Invoer",0,IF($G81=0,0,IF(AND(O$22>=$H81,MOD($H81-O$22,$I81)=0),$G81,0))) -> 0 | P81: =IF($G81="Invoer",0,IF($G81=0,0,IF(AND(P$22>=$H81,MOD($H81-P$22,$I81)=0),$G81,0))) -> 0 | Q81: =IF($G81="Invoer",0,IF($G81=0,0,IF(AND(Q$22>=$H81,MOD($H81-Q$22,$I81)=0),$G81,0))) -> 0 | R81: =IF($G81="Invoer",0,IF($G81=0,0,IF(AND(R$22>=$H81,MOD($H81-R$22,$I81)=0),$G81,0))) -> 0 | ... T81: =IF($G81="Invoer",0,IF($G81=0,0,IF(AND(T$22>=$H81,MOD($H81-T$22,$I81)=0),$G81,0))) -> 0 | U81: =IF(E81>4,1,0) -> 0
B82: 701 | C82: 2e gebrek cabinetableau | G82: 0 | K82: =IF($G82="Invoer",0,IF($G82=0,0,IF(AND(K$22>=$H82,MOD($H82-K$22,$I82)=0),$G82,0))) -> 0 | L82: =IF($G82="Invoer",0,IF($G82=0,0,IF(AND(L$22>=$H82,MOD($H82-L$22,$I82)=0),$G82,0))) -> 0 | M82: =IF($G82="Invoer",0,IF($G82=0,0,IF(AND(M$22>=$H82,MOD($H82-M$22,$I82)=0),$G82,0))) -> 0 | N82: =IF($G82="Invoer",0,IF($G82=0,0,IF(AND(N$22>=$H82,MOD($H82-N$22,$I82)=0),$G82,0))) -> 0 | O82: =IF($G82="Invoer",0,IF($G82=0,0,IF(AND(O$22>=$H82,MOD($H82-O$22,$I82)=0),$G82,0))) -> 0 | P82: =IF($G82="Invoer",0,IF($G82=0,0,IF(AND(P$22>=$H82,MOD($H82-P$22,$I82)=0),$G82,0))) -> 0 | Q82: =IF($G82="Invoer",0,IF($G82=0,0,IF(AND(Q$22>=$H82,MOD($H82-Q$22,$I82)=0),$G82,0))) -> 0 | R82: =IF($G82="Invoer",0,IF($G82=0,0,IF(AND(R$22>=$H82,MOD($H82-R$22,$I82)=0),$G82,0))) -> 0 | ... T82: =IF($G82="Invoer",0,IF($G82=0,0,IF(AND(T$22>=$H82,MOD($H82-T$22,$I82)=0),$G82,0))) -> 0 | U82: =IF(E82>4,1,0) -> 0
B83: 702 | C83: Grootvlak | D83: Nee | G83: 0 | J83: 2750 | K83: =IF($G83="Invoer",0,IF($G83=0,0,IF(AND(K$22>=$H83,MOD($H83-K$22,$I83)=0),$G83,0))) -> 0 | L83: =IF($G83="Invoer",0,IF($G83=0,0,IF(AND(L$22>=$H83,MOD($H83-L$22,$I83)=0),$G83,0))) -> 0 | M83: =IF($G83="Invoer",0,IF($G83=0,0,IF(AND(M$22>=$H83,MOD($H83-M$22,$I83)=0),$G83,0))) -> 0 | N83: =IF($G83="Invoer",0,IF($G83=0,0,IF(AND(N$22>=$H83,MOD($H83-N$22,$I83)=0),$G83,0))) -> 0 | O83: =IF($G83="Invoer",0,IF($G83=0,0,IF(AND(O$22>=$H83,MOD($H83-O$22,$I83)=0),$G83,0))) -> 0 | P83: =IF($G83="Invoer",0,IF($G83=0,0,IF(AND(P$22>=$H83,MOD($H83-P$22,$I83)=0),$G83,0))) -> 0 | Q83: =IF($G83="Invoer",0,IF($G83=0,0,IF(AND(Q$22>=$H83,MOD($H83-Q$22,$I83)=0),$G83,0))) -> 0 | R83: =IF($G83="Invoer",0,IF($G83=0,0,IF(AND(R$22>=$H83,MOD($H83-R$22,$I83)=0),$G83,0))) -> 0 | ... T83: =IF($G83="Invoer",0,IF($G83=0,0,IF(AND(T$22>=$H83,MOD($H83-T$22,$I83)=0),$G83,0))) -> 0 | U83: =IF(E83>4,1,0) -> 0
B84: 703 | C84: Standaanwijzing | D84: Ja | E84: 3 | F84: 2005 | G84: Invoer | H84: 2026 | I84: 20 | J84: 900 | K84: =IF($G84="Invoer",0,IF($G84=0,0,IF(AND(K$22>=$H84,MOD($H84-K$22,$I84)=0),$G84,0))) -> 0 | L84: =IF($G84="Invoer",0,IF($G84=0,0,IF(AND(L$22>=$H84,MOD($H84-L$22,$I84)=0),$G84,0))) -> 0 | M84: =IF($G84="Invoer",0,IF($G84=0,0,IF(AND(M$22>=$H84,MOD($H84-M$22,$I84)=0),$G84,0))) -> 0 | N84: =IF($G84="Invoer",0,IF($G84=0,0,IF(AND(N$22>=$H84,MOD($H84-N$22,$I84)=0),$G84,0))) -> 0 | O84: =IF($G84="Invoer",0,IF($G84=0,0,IF(AND(O$22>=$H84,MOD($H84-O$22,$I84)=0),$G84,0))) -> 0 | P84: =IF($G84="Invoer",0,IF($G84=0,0,IF(AND(P$22>=$H84,MOD($H84-P$22,$I84)=0),$G84,0))) -> 0 | Q84: =IF($G84="Invoer",0,IF($G84=0,0,IF(AND(Q$22>=$H84,MOD($H84-Q$22,$I84)=0),$G84,0))) -> 0 | R84: =IF($G84="Invoer",0,IF($G84=0,0,IF(AND(R$22>=$H84,MOD($H84-R$22,$I84)=0),$G84,0))) -> 0 | ... T84: =IF($G84="Invoer",0,IF($G84=0,0,IF(AND(T$22>=$H84,MOD($H84-T$22,$I84)=0),$G84,0))) -> 0 | U84: =IF(E84>4,1,0) -> 0
B85: 704 | C85: Spraakmodule | D85: Nee | G85: 0 | J85: 1500 | K85: =IF($G85="Invoer",0,IF($G85=0,0,IF(AND(K$22>=$H85,MOD($H85-K$22,$I85)=0),$G85,0))) -> 0 | L85: =IF($G85="Invoer",0,IF($G85=0,0,IF(AND(L$22>=$H85,MOD($H85-L$22,$I85)=0),$G85,0))) -> 0 | M85: =IF($G85="Invoer",0,IF($G85=0,0,IF(AND(M$22>=$H85,MOD($H85-M$22,$I85)=0),$G85,0))) -> 0 | N85: =IF($G85="Invoer",0,IF($G85=0,0,IF(AND(N$22>=$H85,MOD($H85-N$22,$I85)=0),$G85,0))) -> 0 | O85: =IF($G85="Invoer",0,IF($G85=0,0,IF(AND(O$22>=$H85,MOD($H85-O$22,$I85)=0),$G85,0))) -> 0 | P85: =IF($G85="Invoer",0,IF($G85=0,0,IF(AND(P$22>=$H85,MOD($H85-P$22,$I85)=0),$G85,0))) -> 0 | Q85: =IF($G85="Invoer",0,IF($G85=0,0,IF(AND(Q$22>=$H85,MOD($H85-Q$22,$I85)=0),$G85,0))) -> 0 | R85: =IF($G85="Invoer",0,IF($G85=0,0,IF(AND(R$22>=$H85,MOD($H85-R$22,$I85)=0),$G85,0))) -> 0 | ... T85: =IF($G85="Invoer",0,IF($G85=0,0,IF(AND(T$22>=$H85,MOD($H85-T$22,$I85)=0),$G85,0))) -> 0 | U85: =IF(E85>4,1,0) -> 0
B86: 705 | C86: Deur-open-knop | D86: Ja | E86: 3 | F86: 2005 | G86: Invoer | H86: 2026 | I86: 20 | J86: 250 | K86: =IF($G86="Invoer",0,IF($G86=0,0,IF(AND(K$22>=$H86,MOD($H86-K$22,$I86)=0),$G86,0))) -> 0 | L86: =IF($G86="Invoer",0,IF($G86=0,0,IF(AND(L$22>=$H86,MOD($H86-L$22,$I86)=0),$G86,0))) -> 0 | M86: =IF($G86="Invoer",0,IF($G86=0,0,IF(AND(M$22>=$H86,MOD($H86-M$22,$I86)=0),$G86,0))) -> 0 | N86: =IF($G86="Invoer",0,IF($G86=0,0,IF(AND(N$22>=$H86,MOD($H86-N$22,$I86)=0),$G86,0))) -> 0 | O86: =IF($G86="Invoer",0,IF($G86=0,0,IF(AND(O$22>=$H86,MOD($H86-O$22,$I86)=0),$G86,0))) -> 0 | P86: =IF($G86="Invoer",0,IF($G86=0,0,IF(AND(P$22>=$H86,MOD($H86-P$22,$I86)=0),$G86,0))) -> 0 | Q86: =IF($G86="Invoer",0,IF($G86=0,0,IF(AND(Q$22>=$H86,MOD($H86-Q$22,$I86)=0),$G86,0))) -> 0 | R86: =IF($G86="Invoer",0,IF($G86=0,0,IF(AND(R$22>=$H86,MOD($H86-R$22,$I86)=0),$G86,0))) -> 0 | ... T86: =IF($G86="Invoer",0,IF($G86=0,0,IF(AND(T$22>=$H86,MOD($H86-T$22,$I86)=0),$G86,0))) -> 0 | U86: =IF(E86>4,1,0) -> 0
B87: 706 | C87: Deur-sluiten-knop | D87: Ja | E87: 3 | F87: 2005 | G87: Invoer | H87: 2026 | I87: 20 | J87: 250 | K87: =IF($G87="Invoer",0,IF($G87=0,0,IF(AND(K$22>=$H87,MOD($H87-K$22,$I87)=0),$G87,0))) -> 0 | L87: =IF($G87="Invoer",0,IF($G87=0,0,IF(AND(L$22>=$H87,MOD($H87-L$22,$I87)=0),$G87,0))) -> 0 | M87: =IF($G87="Invoer",0,IF($G87=0,0,IF(AND(M$22>=$H87,MOD($H87-M$22,$I87)=0),$G87,0))) -> 0 | N87: =IF($G87="Invoer",0,IF($G87=0,0,IF(AND(N$22>=$H87,MOD($H87-N$22,$I87)=0),$G87,0))) -> 0 | O87: =IF($G87="Invoer",0,IF($G87=0,0,IF(AND(O$22>=$H87,MOD($H87-O$22,$I87)=0),$G87,0))) -> 0 | P87: =IF($G87="Invoer",0,IF($G87=0,0,IF(AND(P$22>=$H87,MOD($H87-P$22,$I87)=0),$G87,0))) -> 0 | Q87: =IF($G87="Invoer",0,IF($G87=0,0,IF(AND(Q$22>=$H87,MOD($H87-Q$22,$I87)=0),$G87,0))) -> 0 | R87: =IF($G87="Invoer",0,IF($G87=0,0,IF(AND(R$22>=$H87,MOD($H87-R$22,$I87)=0),$G87,0))) -> 0 | ... T87: =IF($G87="Invoer",0,IF($G87=0,0,IF(AND(T$22>=$H87,MOD($H87-T$22,$I87)=0),$G87,0))) -> 0 | U87: =IF(E87>4,1,0) -> 0
B88: 707 | C88: Sleutelschakelaar | D88: Ja | E88: 3 | F88: 2005 | G88: Invoer | H88: 2026 | I88: 20 | J88: 500 | K88: =IF($G88="Invoer",0,IF($G88=0,0,IF(AND(K$22>=$H88,MOD($H88-K$22,$I88)=0),$G88,0))) -> 0 | L88: =IF($G88="Invoer",0,IF($G88=0,0,IF(AND(L$22>=$H88,MOD($H88-L$22,$I88)=0),$G88,0))) -> 0 | M88: =IF($G88="Invoer",0,IF($G88=0,0,IF(AND(M$22>=$H88,MOD($H88-M$22,$I88)=0),$G88,0))) -> 0 | N88: =IF($G88="Invoer",0,IF($G88=0,0,IF(AND(N$22>=$H88,MOD($H88-N$22,$I88)=0),$G88,0))) -> 0 | O88: =IF($G88="Invoer",0,IF($G88=0,0,IF(AND(O$22>=$H88,MOD($H88-O$22,$I88)=0),$G88,0))) -> 0 | P88: =IF($G88="Invoer",0,IF($G88=0,0,IF(AND(P$22>=$H88,MOD($H88-P$22,$I88)=0),$G88,0))) -> 0 | Q88: =IF($G88="Invoer",0,IF($G88=0,0,IF(AND(Q$22>=$H88,MOD($H88-Q$22,$I88)=0),$G88,0))) -> 0 | R88: =IF($G88="Invoer",0,IF($G88=0,0,IF(AND(R$22>=$H88,MOD($H88-R$22,$I88)=0),$G88,0))) -> 0 | ... T88: =IF($G88="Invoer",0,IF($G88=0,0,IF(AND(T$22>=$H88,MOD($H88-T$22,$I88)=0),$G88,0))) -> 0 | U88: =IF(E88>4,1,0) -> 0
B89: 708 | C89: Overlastsignalering | D89: Ja | E89: 3 | F89: 2005 | G89: Invoer | H89: 2026 | I89: 20 | J89: 500 | K89: =IF($G89="Invoer",0,IF($G89=0,0,IF(AND(K$22>=$H89,MOD($H89-K$22,$I89)=0),$G89,0))) -> 0 | L89: =IF($G89="Invoer",0,IF($G89=0,0,IF(AND(L$22>=$H89,MOD($H89-L$22,$I89)=0),$G89,0))) -> 0 | M89: =IF($G89="Invoer",0,IF($G89=0,0,IF(AND(M$22>=$H89,MOD($H89-M$22,$I89)=0),$G89,0))) -> 0 | N89: =IF($G89="Invoer",0,IF($G89=0,0,IF(AND(N$22>=$H89,MOD($H89-N$22,$I89)=0),$G89,0))) -> 0 | O89: =IF($G89="Invoer",0,IF($G89=0,0,IF(AND(O$22>=$H89,MOD($H89-O$22,$I89)=0),$G89,0))) -> 0 | P89: =IF($G89="Invoer",0,IF($G89=0,0,IF(AND(P$22>=$H89,MOD($H89-P$22,$I89)=0),$G89,0))) -> 0 | Q89: =IF($G89="Invoer",0,IF($G89=0,0,IF(AND(Q$22>=$H89,MOD($H89-Q$22,$I89)=0),$G89,0))) -> 0 | R89: =IF($G89="Invoer",0,IF($G89=0,0,IF(AND(R$22>=$H89,MOD($H89-R$22,$I89)=0),$G89,0))) -> 0 | ... T89: =IF($G89="Invoer",0,IF($G89=0,0,IF(AND(T$22>=$H89,MOD($H89-T$22,$I89)=0),$G89,0))) -> 0 | U89: =IF(E89>4,1,0) -> 0
B90: 709 | C90: Cabineventilator | D90: Nee | G90: 0 | J90: 500 | K90: =IF($G90="Invoer",0,IF($G90=0,0,IF(AND(K$22>=$H90,MOD($H90-K$22,$I90)=0),$G90,0))) -> 0 | L90: =IF($G90="Invoer",0,IF($G90=0,0,IF(AND(L$22>=$H90,MOD($H90-L$22,$I90)=0),$G90,0))) -> 0 | M90: =IF($G90="Invoer",0,IF($G90=0,0,IF(AND(M$22>=$H90,MOD($H90-M$22,$I90)=0),$G90,0))) -> 0 | N90: =IF($G90="Invoer",0,IF($G90=0,0,IF(AND(N$22>=$H90,MOD($H90-N$22,$I90)=0),$G90,0))) -> 0 | O90: =IF($G90="Invoer",0,IF($G90=0,0,IF(AND(O$22>=$H90,MOD($H90-O$22,$I90)=0),$G90,0))) -> 0 | P90: =IF($G90="Invoer",0,IF($G90=0,0,IF(AND(P$22>=$H90,MOD($H90-P$22,$I90)=0),$G90,0))) -> 0 | Q90: =IF($G90="Invoer",0,IF($G90=0,0,IF(AND(Q$22>=$H90,MOD($H90-Q$22,$I90)=0),$G90,0))) -> 0 | R90: =IF($G90="Invoer",0,IF($G90=0,0,IF(AND(R$22>=$H90,MOD($H90-R$22,$I90)=0),$G90,0))) -> 0 | ... T90: =IF($G90="Invoer",0,IF($G90=0,0,IF(AND(T$22>=$H90,MOD($H90-T$22,$I90)=0),$G90,0))) -> 0 | U90: =IF(E90>4,1,0) -> 0
B91: 710 | C91: Spreek- luisterverbinding | D91: EDNL GSM | E91: 3 | F91: 2013 | G91: 0 | H91: 2036 | I91: 20 | J91: 850 | K91: =IF($G91="Invoer",0,IF($G91=0,0,IF(AND(K$22>=$H91,MOD($H91-K$22,$I91)=0),$G91,0))) -> 0 | L91: =IF($G91="Invoer",0,IF($G91=0,0,IF(AND(L$22>=$H91,MOD($H91-L$22,$I91)=0),$G91,0))) -> 0 | M91: =IF($G91="Invoer",0,IF($G91=0,0,IF(AND(M$22>=$H91,MOD($H91-M$22,$I91)=0),$G91,0))) -> 0 | N91: =IF($G91="Invoer",0,IF($G91=0,0,IF(AND(N$22>=$H91,MOD($H91-N$22,$I91)=0),$G91,0))) -> 0 | O91: =IF($G91="Invoer",0,IF($G91=0,0,IF(AND(O$22>=$H91,MOD($H91-O$22,$I91)=0),$G91,0))) -> 0 | P91: =IF($G91="Invoer",0,IF($G91=0,0,IF(AND(P$22>=$H91,MOD($H91-P$22,$I91)=0),$G91,0))) -> 0 | Q91: =IF($G91="Invoer",0,IF($G91=0,0,IF(AND(Q$22>=$H91,MOD($H91-Q$22,$I91)=0),$G91,0))) -> 0 | R91: =IF($G91="Invoer",0,IF($G91=0,0,IF(AND(R$22>=$H91,MOD($H91-R$22,$I91)=0),$G91,0))) -> 0 | ... T91: =IF($G91="Invoer",0,IF($G91=0,0,IF(AND(T$22>=$H91,MOD($H91-T$22,$I91)=0),$G91,0))) -> 0 | U91: =IF(E91>4,1,0) -> 0
B92: 711 | C92: Overige signaleringen | D92: Kaartlezer systeem | E92: 2 | F92: 2022 | G92: 0 | H92: 2036 | I92: 20 | K92: =IF($G92="Invoer",0,IF($G92=0,0,IF(AND(K$22>=$H92,MOD($H92-K$22,$I92)=0),$G92,0))) -> 0 | L92: =IF($G92="Invoer",0,IF($G92=0,0,IF(AND(L$22>=$H92,MOD($H92-L$22,$I92)=0),$G92,0))) -> 0 | M92: =IF($G92="Invoer",0,IF($G92=0,0,IF(AND(M$22>=$H92,MOD($H92-M$22,$I92)=0),$G92,0))) -> 0 | N92: =IF($G92="Invoer",0,IF($G92=0,0,IF(AND(N$22>=$H92,MOD($H92-N$22,$I92)=0),$G92,0))) -> 0 | O92: =IF($G92="Invoer",0,IF($G92=0,0,IF(AND(O$22>=$H92,MOD($H92-O$22,$I92)=0),$G92,0))) -> 0 | P92: =IF($G92="Invoer",0,IF($G92=0,0,IF(AND(P$22>=$H92,MOD($H92-P$22,$I92)=0),$G92,0))) -> 0 | Q92: =IF($G92="Invoer",0,IF($G92=0,0,IF(AND(Q$22>=$H92,MOD($H92-Q$22,$I92)=0),$G92,0))) -> 0 | R92: =IF($G92="Invoer",0,IF($G92=0,0,IF(AND(R$22>=$H92,MOD($H92-R$22,$I92)=0),$G92,0))) -> 0 | ... T92: =IF($G92="Invoer",0,IF($G92=0,0,IF(AND(T$22>=$H92,MOD($H92-T$22,$I92)=0),$G92,0))) -> 0 | U92: =IF(E92>4,1,0) -> 0
B93: 712 | G93: 0 | K93: =IF($G93="Invoer",0,IF($G93=0,0,IF(AND(K$22>=$H93,MOD($H93-K$22,$I93)=0),$G93,0))) -> 0 | L93: =IF($G93="Invoer",0,IF($G93=0,0,IF(AND(L$22>=$H93,MOD($H93-L$22,$I93)=0),$G93,0))) -> 0 | M93: =IF($G93="Invoer",0,IF($G93=0,0,IF(AND(M$22>=$H93,MOD($H93-M$22,$I93)=0),$G93,0))) -> 0 | N93: =IF($G93="Invoer",0,IF($G93=0,0,IF(AND(N$22>=$H93,MOD($H93-N$22,$I93)=0),$G93,0))) -> 0 | O93: =IF($G93="Invoer",0,IF($G93=0,0,IF(AND(O$22>=$H93,MOD($H93-O$22,$I93)=0),$G93,0))) -> 0 | P93: =IF($G93="Invoer",0,IF($G93=0,0,IF(AND(P$22>=$H93,MOD($H93-P$22,$I93)=0),$G93,0))) -> 0 | Q93: =IF($G93="Invoer",0,IF($G93=0,0,IF(AND(Q$22>=$H93,MOD($H93-Q$22,$I93)=0),$G93,0))) -> 0 | R93: =IF($G93="Invoer",0,IF($G93=0,0,IF(AND(R$22>=$H93,MOD($H93-R$22,$I93)=0),$G93,0))) -> 0 | ... T93: =IF($G93="Invoer",0,IF($G93=0,0,IF(AND(T$22>=$H93,MOD($H93-T$22,$I93)=0),$G93,0))) -> 0
B94: 750 | C94: Fabricaat en type schachttableau | D94: ThyssenKrupp ronde knop | E94: 3 | F94: 2005 | G94: Invoer | H94: 2026 | I94: 20 | J94: 3850 | K94: =IF($G94="Invoer",0,IF($G94=0,0,IF(AND(K$22>=$H94,MOD($H94-K$22,$I94)=0),$G94,0))) -> 0 | L94: =IF($G94="Invoer",0,IF($G94=0,0,IF(AND(L$22>=$H94,MOD($H94-L$22,$I94)=0),$G94,0))) -> 0 | M94: =IF($G94="Invoer",0,IF($G94=0,0,IF(AND(M$22>=$H94,MOD($H94-M$22,$I94)=0),$G94,0))) -> 0 | N94: =IF($G94="Invoer",0,IF($G94=0,0,IF(AND(N$22>=$H94,MOD($H94-N$22,$I94)=0),$G94,0))) -> 0 | O94: =IF($G94="Invoer",0,IF($G94=0,0,IF(AND(O$22>=$H94,MOD($H94-O$22,$I94)=0),$G94,0))) -> 0 | P94: =IF($G94="Invoer",0,IF($G94=0,0,IF(AND(P$22>=$H94,MOD($H94-P$22,$I94)=0),$G94,0))) -> 0 | Q94: =IF($G94="Invoer",0,IF($G94=0,0,IF(AND(Q$22>=$H94,MOD($H94-Q$22,$I94)=0),$G94,0))) -> 0 | R94: =IF($G94="Invoer",0,IF($G94=0,0,IF(AND(R$22>=$H94,MOD($H94-R$22,$I94)=0),$G94,0))) -> 0 | ... T94: =IF($G94="Invoer",0,IF($G94=0,0,IF(AND(T$22>=$H94,MOD($H94-T$22,$I94)=0),$G94,0))) -> 0 | U94: =IF(E94>4,1,0) -> 0
B95: 751 | C95: Brandweerschakelaar | D95: Ja, op -1 | E95: 3 | F95: 2005 | G95: Invoer | H95: 2026 | I95: 20 | J95: 650 | K95: =IF($G95="Invoer",0,IF($G95=0,0,IF(AND(K$22>=$H95,MOD($H95-K$22,$I95)=0),$G95,0))) -> 0 | L95: =IF($G95="Invoer",0,IF($G95=0,0,IF(AND(L$22>=$H95,MOD($H95-L$22,$I95)=0),$G95,0))) -> 0 | M95: =IF($G95="Invoer",0,IF($G95=0,0,IF(AND(M$22>=$H95,MOD($H95-M$22,$I95)=0),$G95,0))) -> 0 | N95: =IF($G95="Invoer",0,IF($G95=0,0,IF(AND(N$22>=$H95,MOD($H95-N$22,$I95)=0),$G95,0))) -> 0 | O95: =IF($G95="Invoer",0,IF($G95=0,0,IF(AND(O$22>=$H95,MOD($H95-O$22,$I95)=0),$G95,0))) -> 0 | P95: =IF($G95="Invoer",0,IF($G95=0,0,IF(AND(P$22>=$H95,MOD($H95-P$22,$I95)=0),$G95,0))) -> 0 | Q95: =IF($G95="Invoer",0,IF($G95=0,0,IF(AND(Q$22>=$H95,MOD($H95-Q$22,$I95)=0),$G95,0))) -> 0 | R95: =IF($G95="Invoer",0,IF($G95=0,0,IF(AND(R$22>=$H95,MOD($H95-R$22,$I95)=0),$G95,0))) -> 0 | ... T95: =IF($G95="Invoer",0,IF($G95=0,0,IF(AND(T$22>=$H95,MOD($H95-T$22,$I95)=0),$G95,0))) -> 0 | U95: =IF(E95>4,1,0) -> 0
B96: 752 | C96: Sleutelschakelaar | D96: Kaartlezer systeem | E96: 2 | F96: 2022 | G96: 0 | H96: 2036 | I96: 20 | J96: 500 | K96: =IF($G96="Invoer",0,IF($G96=0,0,IF(AND(K$22>=$H96,MOD($H96-K$22,$I96)=0),$G96,0))) -> 0 | L96: =IF($G96="Invoer",0,IF($G96=0,0,IF(AND(L$22>=$H96,MOD($H96-L$22,$I96)=0),$G96,0))) -> 0 | M96: =IF($G96="Invoer",0,IF($G96=0,0,IF(AND(M$22>=$H96,MOD($H96-M$22,$I96)=0),$G96,0))) -> 0 | N96: =IF($G96="Invoer",0,IF($G96=0,0,IF(AND(N$22>=$H96,MOD($H96-N$22,$I96)=0),$G96,0))) -> 0 | O96: =IF($G96="Invoer",0,IF($G96=0,0,IF(AND(O$22>=$H96,MOD($H96-O$22,$I96)=0),$G96,0))) -> 0 | P96: =IF($G96="Invoer",0,IF($G96=0,0,IF(AND(P$22>=$H96,MOD($H96-P$22,$I96)=0),$G96,0))) -> 0 | Q96: =IF($G96="Invoer",0,IF($G96=0,0,IF(AND(Q$22>=$H96,MOD($H96-Q$22,$I96)=0),$G96,0))) -> 0 | R96: =IF($G96="Invoer",0,IF($G96=0,0,IF(AND(R$22>=$H96,MOD($H96-R$22,$I96)=0),$G96,0))) -> 0 | ... T96: =IF($G96="Invoer",0,IF($G96=0,0,IF(AND(T$22>=$H96,MOD($H96-T$22,$I96)=0),$G96,0))) -> 0 | U96: =IF(E96>4,1,0) -> 0
B97: 753 | C97: Standaanwijzing BG | D97: Ja | E97: 3 | F97: 2005 | G97: Invoer | H97: 2026 | I97: 20 | J97: 550 | K97: =IF($G97="Invoer",0,IF($G97=0,0,IF(AND(K$22>=$H97,MOD($H97-K$22,$I97)=0),$G97,0))) -> 0 | L97: =IF($G97="Invoer",0,IF($G97=0,0,IF(AND(L$22>=$H97,MOD($H97-L$22,$I97)=0),$G97,0))) -> 0 | M97: =IF($G97="Invoer",0,IF($G97=0,0,IF(AND(M$22>=$H97,MOD($H97-M$22,$I97)=0),$G97,0))) -> 0 | N97: =IF($G97="Invoer",0,IF($G97=0,0,IF(AND(N$22>=$H97,MOD($H97-N$22,$I97)=0),$G97,0))) -> 0 | O97: =IF($G97="Invoer",0,IF($G97=0,0,IF(AND(O$22>=$H97,MOD($H97-O$22,$I97)=0),$G97,0))) -> 0 | P97: =IF($G97="Invoer",0,IF($G97=0,0,IF(AND(P$22>=$H97,MOD($H97-P$22,$I97)=0),$G97,0))) -> 0 | Q97: =IF($G97="Invoer",0,IF($G97=0,0,IF(AND(Q$22>=$H97,MOD($H97-Q$22,$I97)=0),$G97,0))) -> 0 | R97: =IF($G97="Invoer",0,IF($G97=0,0,IF(AND(R$22>=$H97,MOD($H97-R$22,$I97)=0),$G97,0))) -> 0 | ... T97: =IF($G97="Invoer",0,IF($G97=0,0,IF(AND(T$22>=$H97,MOD($H97-T$22,$I97)=0),$G97,0))) -> 0 | U97: =IF(E97>4,1,0) -> 0
B98: 754 | C98: Standaanwijzing alle verdiepingen | D98: Nee | G98: 0 | J98: 6050 | K98: =IF($G98="Invoer",0,IF($G98=0,0,IF(AND(K$22>=$H98,MOD($H98-K$22,$I98)=0),$G98,0))) -> 0 | L98: =IF($G98="Invoer",0,IF($G98=0,0,IF(AND(L$22>=$H98,MOD($H98-L$22,$I98)=0),$G98,0))) -> 0 | M98: =IF($G98="Invoer",0,IF($G98=0,0,IF(AND(M$22>=$H98,MOD($H98-M$22,$I98)=0),$G98,0))) -> 0 | N98: =IF($G98="Invoer",0,IF($G98=0,0,IF(AND(N$22>=$H98,MOD($H98-N$22,$I98)=0),$G98,0))) -> 0 | O98: =IF($G98="Invoer",0,IF($G98=0,0,IF(AND(O$22>=$H98,MOD($H98-O$22,$I98)=0),$G98,0))) -> 0 | P98: =IF($G98="Invoer",0,IF($G98=0,0,IF(AND(P$22>=$H98,MOD($H98-P$22,$I98)=0),$G98,0))) -> 0 | Q98: =IF($G98="Invoer",0,IF($G98=0,0,IF(AND(Q$22>=$H98,MOD($H98-Q$22,$I98)=0),$G98,0))) -> 0 | R98: =IF($G98="Invoer",0,IF($G98=0,0,IF(AND(R$22>=$H98,MOD($H98-R$22,$I98)=0),$G98,0))) -> 0 | ... T98: =IF($G98="Invoer",0,IF($G98=0,0,IF(AND(T$22>=$H98,MOD($H98-T$22,$I98)=0),$G98,0))) -> 0 | U98: =IF(E98>4,1,0) -> 0
B99: 755 | C99: Overige signaleringen | D99: Geen | G99: 0 | K99: =IF($G99="Invoer",0,IF($G99=0,0,IF(AND(K$22>=$H99,MOD($H99-K$22,$I99)=0),$G99,0))) -> 0 | L99: =IF($G99="Invoer",0,IF($G99=0,0,IF(AND(L$22>=$H99,MOD($H99-L$22,$I99)=0),$G99,0))) -> 0 | M99: =IF($G99="Invoer",0,IF($G99=0,0,IF(AND(M$22>=$H99,MOD($H99-M$22,$I99)=0),$G99,0))) -> 0 | N99: =IF($G99="Invoer",0,IF($G99=0,0,IF(AND(N$22>=$H99,MOD($H99-N$22,$I99)=0),$G99,0))) -> 0 | O99: =IF($G99="Invoer",0,IF($G99=0,0,IF(AND(O$22>=$H99,MOD($H99-O$22,$I99)=0),$G99,0))) -> 0 | P99: =IF($G99="Invoer",0,IF($G99=0,0,IF(AND(P$22>=$H99,MOD($H99-P$22,$I99)=0),$G99,0))) -> 0 | Q99: =IF($G99="Invoer",0,IF($G99=0,0,IF(AND(Q$22>=$H99,MOD($H99-Q$22,$I99)=0),$G99,0))) -> 0 | R99: =IF($G99="Invoer",0,IF($G99=0,0,IF(AND(R$22>=$H99,MOD($H99-R$22,$I99)=0),$G99,0))) -> 0 | ... T99: =IF($G99="Invoer",0,IF($G99=0,0,IF(AND(T$22>=$H99,MOD($H99-T$22,$I99)=0),$G99,0))) -> 0
B100: 756 | C100: Anti-vandaal gewenst | D100: N.v.t. | G100: 0 | J100: 1650 | K100: =IF($G100="Invoer",0,IF($G100=0,0,IF(AND(K$22>=$H100,MOD($H100-K$22,$I100)=0),$G100,0))) -> 0 | L100: =IF($G100="Invoer",0,IF($G100=0,0,IF(AND(L$22>=$H100,MOD($H100-L$22,$I100)=0),$G100,0))) -> 0 | M100: =IF($G100="Invoer",0,IF($G100=0,0,IF(AND(M$22>=$H100,MOD($H100-M$22,$I100)=0),$G100,0))) -> 0 | N100: =IF($G100="Invoer",0,IF($G100=0,0,IF(AND(N$22>=$H100,MOD($H100-N$22,$I100)=0),$G100,0))) -> 0 | O100: =IF($G100="Invoer",0,IF($G100=0,0,IF(AND(O$22>=$H100,MOD($H100-O$22,$I100)=0),$G100,0))) -> 0 | P100: =IF($G100="Invoer",0,IF($G100=0,0,IF(AND(P$22>=$H100,MOD($H100-P$22,$I100)=0),$G100,0))) -> 0 | Q100: =IF($G100="Invoer",0,IF($G100=0,0,IF(AND(Q$22>=$H100,MOD($H100-Q$22,$I100)=0),$G100,0))) -> 0 | R100: =IF($G100="Invoer",0,IF($G100=0,0,IF(AND(R$22>=$H100,MOD($H100-R$22,$I100)=0),$G100,0))) -> 0 | ... T100: =IF($G100="Invoer",0,IF($G100=0,0,IF(AND(T$22>=$H100,MOD($H100-T$22,$I100)=0),$G100,0))) -> 0 | U100: =IF(E100>4,1,0) -> 0
B102: Schacht
B103: 800 | C103: Snelheidsbegrenzer | D103: ThyssenKrupp 6023 | E103: 3 | F103: 2005 | G103: Invoer | H103: 2026 | I103: 15 | J103: 2500 | K103: =IF($G103="Invoer",0,IF($G103=0,0,IF(AND(K$22>=$H103,MOD($H103-K$22,$I103)=0),$G103,0))) -> 0 | L103: =IF($G103="Invoer",0,IF($G103=0,0,IF(AND(L$22>=$H103,MOD($H103-L$22,$I103)=0),$G103,0))) -> 0 | M103: =IF($G103="Invoer",0,IF($G103=0,0,IF(AND(M$22>=$H103,MOD($H103-M$22,$I103)=0),$G103,0))) -> 0 | N103: =IF($G103="Invoer",0,IF($G103=0,0,IF(AND(N$22>=$H103,MOD($H103-N$22,$I103)=0),$G103,0))) -> 0 | O103: =IF($G103="Invoer",0,IF($G103=0,0,IF(AND(O$22>=$H103,MOD($H103-O$22,$I103)=0),$G103,0))) -> 0 | P103: =IF($G103="Invoer",0,IF($G103=0,0,IF(AND(P$22>=$H103,MOD($H103-P$22,$I103)=0),$G103,0))) -> 0 | Q103: =IF($G103="Invoer",0,IF($G103=0,0,IF(AND(Q$22>=$H103,MOD($H103-Q$22,$I103)=0),$G103,0))) -> 0 | R103: =IF($G103="Invoer",0,IF($G103=0,0,IF(AND(R$22>=$H103,MOD($H103-R$22,$I103)=0),$G103,0))) -> 0 | ... T103: =IF($G103="Invoer",0,IF($G103=0,0,IF(AND(T$22>=$H103,MOD($H103-T$22,$I103)=0),$G103,0))) -> 0 | U103: =IF(E103>4,1,0) -> 0
B104: 801 | C104: 2e gebrek snelheidsbegrenzer | G104: 0 | K104: =IF($G104="Invoer",0,IF($G104=0,0,IF(AND(K$22>=$H104,MOD($H104-K$22,$I104)=0),$G104,0))) -> 0 | L104: =IF($G104="Invoer",0,IF($G104=0,0,IF(AND(L$22>=$H104,MOD($H104-L$22,$I104)=0),$G104,0))) -> 0 | M104: =IF($G104="Invoer",0,IF($G104=0,0,IF(AND(M$22>=$H104,MOD($H104-M$22,$I104)=0),$G104,0))) -> 0 | N104: =IF($G104="Invoer",0,IF($G104=0,0,IF(AND(N$22>=$H104,MOD($H104-N$22,$I104)=0),$G104,0))) -> 0 | O104: =IF($G104="Invoer",0,IF($G104=0,0,IF(AND(O$22>=$H104,MOD($H104-O$22,$I104)=0),$G104,0))) -> 0 | P104: =IF($G104="Invoer",0,IF($G104=0,0,IF(AND(P$22>=$H104,MOD($H104-P$22,$I104)=0),$G104,0))) -> 0 | Q104: =IF($G104="Invoer",0,IF($G104=0,0,IF(AND(Q$22>=$H104,MOD($H104-Q$22,$I104)=0),$G104,0))) -> 0 | R104: =IF($G104="Invoer",0,IF($G104=0,0,IF(AND(R$22>=$H104,MOD($H104-R$22,$I104)=0),$G104,0))) -> 0 | ... T104: =IF($G104="Invoer",0,IF($G104=0,0,IF(AND(T$22>=$H104,MOD($H104-T$22,$I104)=0),$G104,0))) -> 0 | U104: =IF(E104>4,1,0) -> 0
B105: 802 | C105: Snelheidsbegrenzerkabel | D105: 6,3 mm | E105: 3 | F105: 2019 | G105: Invoer | H105: 2026 | I105: 15 | J105: 1000 | K105: =IF($G105="Invoer",0,IF($G105=0,0,IF(AND(K$22>=$H105,MOD($H105-K$22,$I105)=0),$G105,0))) -> 0 | L105: =IF($G105="Invoer",0,IF($G105=0,0,IF(AND(L$22>=$H105,MOD($H105-L$22,$I105)=0),$G105,0))) -> 0 | M105: =IF($G105="Invoer",0,IF($G105=0,0,IF(AND(M$22>=$H105,MOD($H105-M$22,$I105)=0),$G105,0))) -> 0 | N105: =IF($G105="Invoer",0,IF($G105=0,0,IF(AND(N$22>=$H105,MOD($H105-N$22,$I105)=0),$G105,0))) -> 0 | O105: =IF($G105="Invoer",0,IF($G105=0,0,IF(AND(O$22>=$H105,MOD($H105-O$22,$I105)=0),$G105,0))) -> 0 | P105: =IF($G105="Invoer",0,IF($G105=0,0,IF(AND(P$22>=$H105,MOD($H105-P$22,$I105)=0),$G105,0))) -> 0 | Q105: =IF($G105="Invoer",0,IF($G105=0,0,IF(AND(Q$22>=$H105,MOD($H105-Q$22,$I105)=0),$G105,0))) -> 0 | R105: =IF($G105="Invoer",0,IF($G105=0,0,IF(AND(R$22>=$H105,MOD($H105-R$22,$I105)=0),$G105,0))) -> 0 | ... T105: =IF($G105="Invoer",0,IF($G105=0,0,IF(AND(T$22>=$H105,MOD($H105-T$22,$I105)=0),$G105,0))) -> 0 | U105: =IF(E105>4,1,0) -> 0
B106: 803 | C106: Spanwiel | D106: In orde | G106: 0 | J106: 650 | K106: =IF($G106="Invoer",0,IF($G106=0,0,IF(AND(K$22>=$H106,MOD($H106-K$22,$I106)=0),$G106,0))) -> 0 | L106: =IF($G106="Invoer",0,IF($G106=0,0,IF(AND(L$22>=$H106,MOD($H106-L$22,$I106)=0),$G106,0))) -> 0 | M106: =IF($G106="Invoer",0,IF($G106=0,0,IF(AND(M$22>=$H106,MOD($H106-M$22,$I106)=0),$G106,0))) -> 0 | N106: =IF($G106="Invoer",0,IF($G106=0,0,IF(AND(N$22>=$H106,MOD($H106-N$22,$I106)=0),$G106,0))) -> 0 | O106: =IF($G106="Invoer",0,IF($G106=0,0,IF(AND(O$22>=$H106,MOD($H106-O$22,$I106)=0),$G106,0))) -> 0 | P106: =IF($G106="Invoer",0,IF($G106=0,0,IF(AND(P$22>=$H106,MOD($H106-P$22,$I106)=0),$G106,0))) -> 0 | Q106: =IF($G106="Invoer",0,IF($G106=0,0,IF(AND(Q$22>=$H106,MOD($H106-Q$22,$I106)=0),$G106,0))) -> 0 | R106: =IF($G106="Invoer",0,IF($G106=0,0,IF(AND(R$22>=$H106,MOD($H106-R$22,$I106)=0),$G106,0))) -> 0 | ... T106: =IF($G106="Invoer",0,IF($G106=0,0,IF(AND(T$22>=$H106,MOD($H106-T$22,$I106)=0),$G106,0))) -> 0 | U106: =IF(E106>4,1,0) -> 0
...

Sheet 4
B1: 5 | C1: Terug | D1: Terug
B2: Code | C2: Omschrijving
B3: 100 | C3: Liftadres | D3: Media Parkboulevard 1 | E3: Hilversum | G3: 1217 WE
B4: 101 | C4: Complexaanduiding | D4: Beeld en Geluid | E4: Lift 5 experience
B5: 102 | C5: Dossiernummer keurende instantie | D5: TUV6036
B6: 103 | C6: AFAS relatienummer | D6: 10167 | E6: tab | F6: 5 | G6: 10167-5
B7: 104 | C7: Bouwjaar | D7: 2006
B8: 105 | C8: Vervaardigingsnorm | D8: NEN-EN 81-1
B9: 106 | C9: Type lift: tractie/hydraulisch/machinerichtlijn | D9: Tractie
B10: 107 | C10: Type-aanduiding | D10: ThyssenKrupp Tasa
B11: 108 | C11: Hefvermogen (kg) | D11: 3500 | K11: Laatste wijziging: | M11: 44991
B12: 109 | C12: Brandweerlift | D12: Nee | K12: Gewijzigd door: | M12: IN
B13: 110 | C13: Brancardlift | D13: Ja | K13: Vervaldatum: | M13: =M11+1095 -> 46086
B14: 111 | C14: Doel van de lift: personen/goederen | D14: Personen/goederenlift
B15: 112 | C15: Gebruiksintensiteit | D15: Gemiddelde gebruiksintensiteit | E15: =IF(R20=0,0,IF(R20<201,"Laag",IF(AND(R20>201,R20<500),"Middel","Hoog"))) -> Middel | F15: =IF(R20=0,0,R20) -> 306.54834 | G15: Ritten per dag
B16: 113 | C16: Aantal schachttoegangen | D16: 10
B17: 114 | C17: Aantal stopplaatsen | D17: 10 | R17: =CONCATENATE("01-01-",F24) -> 01-01-2006
B18: 115 | C18: Aantal kooitoegangen | D18: 1 | K18: Datum: | M18: 38970 | N18: 44173 | R18: =IF(Q18>0,Q18-P18,IF(P18>0,P18-O18,IF(O18>0,O18-N18,IF(N18>0,N18-M18,IF(M18>0,M18-R17))))) -> 5203
B19: 116 | C19: Beleidscategorie: A,B of C | D19: B | K19: Rittenstand: | M19: 0 | N19: 1594971 | R19: =IF(Q19>0,Q19-P19,IF(P19>0,P19-O19,IF(O19>0,O19-N19,IF(N19>0,N19-M19,M19)))) -> 1594971
R20: =IFERROR(R19/R18,0) -> 306.54834
R21: =IF(Q19>0,Q19,IF(P19>0,P19,IF(O19>0,O19,IF(N19>0,N19,M19)))) -> 1594971
E22: Conditie | F22: Bouwjaar | G22: Bedrag | H22: Startjaar | I22: Cyclus | K22: 2024 | L22: =K22+1 -> 2025 | M22: =L22+1 -> 2026 | N22: =M22+1 -> 2027 | O22: =N22+1 -> 2028 | P22: =O22+1 -> 2029 | Q22: =P22+1 -> 2030 | R22: =Q22+1 -> 2031 | S22: =R22+1 -> 2032 | T22: =S22+1 -> 2033
B23: Besturing
B24: 200 | C24: Besturingstype | D24: ThyssenKrupp MCI | E24: 3 | F24: 2006 | G24: Invoer | H24: 2026 | I24: 20 | J24: 17000 | K24: =IF($G24="Invoer",0,IF($G24=0,0,IF(AND(K$22>=$H24,MOD($H24-K$22,$I24)=0),$G24,0))) -> 0 | L24: =IF($G24="Invoer",0,IF($G24=0,0,IF(AND(L$22>=$H24,MOD($H24-L$22,$I24)=0),$G24,0))) -> 0 | M24: =IF($G24="Invoer",0,IF($G24=0,0,IF(AND(M$22>=$H24,MOD($H24-M$22,$I24)=0),$G24,0))) -> 0 | N24: =IF($G24="Invoer",0,IF($G24=0,0,IF(AND(N$22>=$H24,MOD($H24-N$22,$I24)=0),$G24,0))) -> 0 | O24: =IF($G24="Invoer",0,IF($G24=0,0,IF(AND(O$22>=$H24,MOD($H24-O$22,$I24)=0),$G24,0))) -> 0 | P24: =IF($G24="Invoer",0,IF($G24=0,0,IF(AND(P$22>=$H24,MOD($H24-P$22,$I24)=0),$G24,0))) -> 0 | Q24: =IF($G24="Invoer",0,IF($G24=0,0,IF(AND(Q$22>=$H24,MOD($H24-Q$22,$I24)=0),$G24,0))) -> 0 | R24: =IF($G24="Invoer",0,IF($G24=0,0,IF(AND(R$22>=$H24,MOD($H24-R$22,$I24)=0),$G24,0))) -> 0 | ... T24: =IF($G24="Invoer",0,IF($G24=0,0,IF(AND(T$22>=$H24,MOD($H24-T$22,$I24)=0),$G24,0))) -> 0 | U24: =IF(E24>4,1,0) -> 0
B25: 201 | C25: Aanvullende opmerking besturing | G25: 0 | K25: =IF($G25="Invoer",0,IF($G25=0,0,IF(AND(K$22>=$H25,MOD($H25-K$22,$I25)=0),$G25,0))) -> 0 | L25: =IF($G25="Invoer",0,IF($G25=0,0,IF(AND(L$22>=$H25,MOD($H25-L$22,$I25)=0),$G25,0))) -> 0 | M25: =IF($G25="Invoer",0,IF($G25=0,0,IF(AND(M$22>=$H25,MOD($H25-M$22,$I25)=0),$G25,0))) -> 0 | N25: =IF($G25="Invoer",0,IF($G25=0,0,IF(AND(N$22>=$H25,MOD($H25-N$22,$I25)=0),$G25,0))) -> 0 | O25: =IF($G25="Invoer",0,IF($G25=0,0,IF(AND(O$22>=$H25,MOD($H25-O$22,$I25)=0),$G25,0))) -> 0 | P25: =IF($G25="Invoer",0,IF($G25=0,0,IF(AND(P$22>=$H25,MOD($H25-P$22,$I25)=0),$G25,0))) -> 0 | Q25: =IF($G25="Invoer",0,IF($G25=0,0,IF(AND(Q$22>=$H25,MOD($H25-Q$22,$I25)=0),$G25,0))) -> 0 | R25: =IF($G25="Invoer",0,IF($G25=0,0,IF(AND(R$22>=$H25,MOD($H25-R$22,$I25)=0),$G25,0))) -> 0 | ... T25: =IF($G25="Invoer",0,IF($G25=0,0,IF(AND(T$22>=$H25,MOD($H25-T$22,$I25)=0),$G25,0))) -> 0 | U25: =IF(E25>4,1,0) -> 0
B26: 202 | C26: Encoder | D26: Ja | E26: 3 | F26: 2006 | G26: Invoer | H26: 2026 | I26: 20 | J26: 1300 | K26: =IF($G26="Invoer",0,IF($G26=0,0,IF(AND(K$22>=$H26,MOD($H26-K$22,$I26)=0),$G26,0))) -> 0 | L26: =IF($G26="Invoer",0,IF($G26=0,0,IF(AND(L$22>=$H26,MOD($H26-L$22,$I26)=0),$G26,0))) -> 0 | M26: =IF($G26="Invoer",0,IF($G26=0,0,IF(AND(M$22>=$H26,MOD($H26-M$22,$I26)=0),$G26,0))) -> 0 | N26: =IF($G26="Invoer",0,IF($G26=0,0,IF(AND(N$22>=$H26,MOD($H26-N$22,$I26)=0),$G26,0))) -> 0 | O26: =IF($G26="Invoer",0,IF($G26=0,0,IF(AND(O$22>=$H26,MOD($H26-O$22,$I26)=0),$G26,0))) -> 0 | P26: =IF($G26="Invoer",0,IF($G26=0,0,IF(AND(P$22>=$H26,MOD($H26-P$22,$I26)=0),$G26,0))) -> 0 | Q26: =IF($G26="Invoer",0,IF($G26=0,0,IF(AND(Q$22>=$H26,MOD($H26-Q$22,$I26)=0),$G26,0))) -> 0 | R26: =IF($G26="Invoer",0,IF($G26=0,0,IF(AND(R$22>=$H26,MOD($H26-R$22,$I26)=0),$G26,0))) -> 0 | ... T26: =IF($G26="Invoer",0,IF($G26=0,0,IF(AND(T$22>=$H26,MOD($H26-T$22,$I26)=0),$G26,0))) -> 0 | U26: =IF(E26>4,1,0) -> 0
B27: 203 | C27: Hoofdstroomrelais | D27: Telemecanique | E27: 2 | F27: 2006 | G27: Invoer | H27: 2026 | I27: 10 | J27: 4400 | K27: =IF($G27="Invoer",0,IF($G27=0,0,IF(AND(K$22>=$H27,MOD($H27-K$22,$I27)=0),$G27,0))) -> 0 | L27: =IF($G27="Invoer",0,IF($G27=0,0,IF(AND(L$22>=$H27,MOD($H27-L$22,$I27)=0),$G27,0))) -> 0 | M27: =IF($G27="Invoer",0,IF($G27=0,0,IF(AND(M$22>=$H27,MOD($H27-M$22,$I27)=0),$G27,0))) -> 0 | N27: =IF($G27="Invoer",0,IF($G27=0,0,IF(AND(N$22>=$H27,MOD($H27-N$22,$I27)=0),$G27,0))) -> 0 | O27: =IF($G27="Invoer",0,IF($G27=0,0,IF(AND(O$22>=$H27,MOD($H27-O$22,$I27)=0),$G27,0))) -> 0 | P27: =IF($G27="Invoer",0,IF($G27=0,0,IF(AND(P$22>=$H27,MOD($H27-P$22,$I27)=0),$G27,0))) -> 0 | Q27: =IF($G27="Invoer",0,IF($G27=0,0,IF(AND(Q$22>=$H27,MOD($H27-Q$22,$I27)=0),$G27,0))) -> 0 | R27: =IF($G27="Invoer",0,IF($G27=0,0,IF(AND(R$22>=$H27,MOD($H27-R$22,$I27)=0),$G27,0))) -> 0 | ... T27: =IF($G27="Invoer",0,IF($G27=0,0,IF(AND(T$22>=$H27,MOD($H27-T$22,$I27)=0),$G27,0))) -> 0 | U27: =IF(E27>4,1,0) -> 0
B28: 204 | C28: =IF(D9="Hydraulisch","Softstarter",IF(D9="Hydraulisch MKL","Softstarter","Frequentieregeling")) -> Frequentieregeling | D28: KEB | E28: 2 | F28: 2006 | G28: Invoer | H28: 2026 | I28: 10 | J28: 5500 | K28: =IF($G28="Invoer",0,IF($G28=0,0,IF(AND(K$22>=$H28,MOD($H28-K$22,$I28)=0),$G28,0))) -> 0 | L28: =IF($G28="Invoer",0,IF($G28=0,0,IF(AND(L$22>=$H28,MOD($H28-L$22,$I28)=0),$G28,0))) -> 0 | M28: =IF($G28="Invoer",0,IF($G28=0,0,IF(AND(M$22>=$H28,MOD($H28-M$22,$I28)=0),$G28,0))) -> 0 | N28: =IF($G28="Invoer",0,IF($G28=0,0,IF(AND(N$22>=$H28,MOD($H28-N$22,$I28)=0),$G28,0))) -> 0 | O28: =IF($G28="Invoer",0,IF($G28=0,0,IF(AND(O$22>=$H28,MOD($H28-O$22,$I28)=0),$G28,0))) -> 0 | P28: =IF($G28="Invoer",0,IF($G28=0,0,IF(AND(P$22>=$H28,MOD($H28-P$22,$I28)=0),$G28,0))) -> 0 | Q28: =IF($G28="Invoer",0,IF($G28=0,0,IF(AND(Q$22>=$H28,MOD($H28-Q$22,$I28)=0),$G28,0))) -> 0 | R28: =IF($G28="Invoer",0,IF($G28=0,0,IF(AND(R$22>=$H28,MOD($H28-R$22,$I28)=0),$G28,0))) -> 0 | ... T28: =IF($G28="Invoer",0,IF($G28=0,0,IF(AND(T$22>=$H28,MOD($H28-T$22,$I28)=0),$G28,0))) -> 0 | U28: =IF(E28>4,1,0) -> 0
B29: 205 | C29: Accupakket noodevacuatie | D29: Nee | G29: 0 | J29: 4000 | K29: =IF($G29="Invoer",0,IF($G29=0,0,IF(AND(K$22>=$H29,MOD($H29-K$22,$I29)=0),$G29,0))) -> 0 | L29: =IF($G29="Invoer",0,IF($G29=0,0,IF(AND(L$22>=$H29,MOD($H29-L$22,$I29)=0),$G29,0))) -> 0 | M29: =IF($G29="Invoer",0,IF($G29=0,0,IF(AND(M$22>=$H29,MOD($H29-M$22,$I29)=0),$G29,0))) -> 0 | N29: =IF($G29="Invoer",0,IF($G29=0,0,IF(AND(N$22>=$H29,MOD($H29-N$22,$I29)=0),$G29,0))) -> 0 | O29: =IF($G29="Invoer",0,IF($G29=0,0,IF(AND(O$22>=$H29,MOD($H29-O$22,$I29)=0),$G29,0))) -> 0 | P29: =IF($G29="Invoer",0,IF($G29=0,0,IF(AND(P$22>=$H29,MOD($H29-P$22,$I29)=0),$G29,0))) -> 0 | Q29: =IF($G29="Invoer",0,IF($G29=0,0,IF(AND(Q$22>=$H29,MOD($H29-Q$22,$I29)=0),$G29,0))) -> 0 | R29: =IF($G29="Invoer",0,IF($G29=0,0,IF(AND(R$22>=$H29,MOD($H29-R$22,$I29)=0),$G29,0))) -> 0 | ... T29: =IF($G29="Invoer",0,IF($G29=0,0,IF(AND(T$22>=$H29,MOD($H29-T$22,$I29)=0),$G29,0))) -> 0 | U29: =IF(E29>4,1,0) -> 0
B30: 206 | C30: Analoge rittenteller | D30: Nee | G30: 0 | J30: 250 | K30: =IF($G30="Invoer",0,IF($G30=0,0,IF(AND(K$22>=$H30,MOD($H30-K$22,$I30)=0),$G30,0))) -> 0 | L30: =IF($G30="Invoer",0,IF($G30=0,0,IF(AND(L$22>=$H30,MOD($H30-L$22,$I30)=0),$G30,0))) -> 0 | M30: =IF($G30="Invoer",0,IF($G30=0,0,IF(AND(M$22>=$H30,MOD($H30-M$22,$I30)=0),$G30,0))) -> 0 | N30: =IF($G30="Invoer",0,IF($G30=0,0,IF(AND(N$22>=$H30,MOD($H30-N$22,$I30)=0),$G30,0))) -> 0 | O30: =IF($G30="Invoer",0,IF($G30=0,0,IF(AND(O$22>=$H30,MOD($H30-O$22,$I30)=0),$G30,0))) -> 0 | P30: =IF($G30="Invoer",0,IF($G30=0,0,IF(AND(P$22>=$H30,MOD($H30-P$22,$I30)=0),$G30,0))) -> 0 | Q30: =IF($G30="Invoer",0,IF($G30=0,0,IF(AND(Q$22>=$H30,MOD($H30-Q$22,$I30)=0),$G30,0))) -> 0 | R30: =IF($G30="Invoer",0,IF($G30=0,0,IF(AND(R$22>=$H30,MOD($H30-R$22,$I30)=0),$G30,0))) -> 0 | ... T30: =IF($G30="Invoer",0,IF($G30=0,0,IF(AND(T$22>=$H30,MOD($H30-T$22,$I30)=0),$G30,0))) -> 0
G31: 0 | K31: =IF($G31="Invoer",0,IF($G31=0,0,IF(AND(K$22>=$H31,MOD($H31-K$22,$I31)=0),$G31,0))) -> 0 | L31: =IF($G31="Invoer",0,IF($G31=0,0,IF(AND(L$22>=$H31,MOD($H31-L$22,$I31)=0),$G31,0))) -> 0 | M31: =IF($G31="Invoer",0,IF($G31=0,0,IF(AND(M$22>=$H31,MOD($H31-M$22,$I31)=0),$G31,0))) -> 0 | N31: =IF($G31="Invoer",0,IF($G31=0,0,IF(AND(N$22>=$H31,MOD($H31-N$22,$I31)=0),$G31,0))) -> 0 | O31: =IF($G31="Invoer",0,IF($G31=0,0,IF(AND(O$22>=$H31,MOD($H31-O$22,$I31)=0),$G31,0))) -> 0 | P31: =IF($G31="Invoer",0,IF($G31=0,0,IF(AND(P$22>=$H31,MOD($H31-P$22,$I31)=0),$G31,0))) -> 0 | Q31: =IF($G31="Invoer",0,IF($G31=0,0,IF(AND(Q$22>=$H31,MOD($H31-Q$22,$I31)=0),$G31,0))) -> 0 | R31: =IF($G31="Invoer",0,IF($G31=0,0,IF(AND(R$22>=$H31,MOD($H31-R$22,$I31)=0),$G31,0))) -> 0 | ... T31: =IF($G31="Invoer",0,IF($G31=0,0,IF(AND(T$22>=$H31,MOD($H31-T$22,$I31)=0),$G31,0))) -> 0 | U31: =IF(E31>4,1,0) -> 0
B33: Deuren
B34: 300 | C34: Handbewogen deur | D34: N.v.t. | G34: 0 | J34: 50000 | K34: =IF($G34="Invoer",0,IF($G34=0,0,IF(AND(K$22>=$H34,MOD($H34-K$22,$I34)=0),$G34,0))) -> 0 | L34: =IF($G34="Invoer",0,IF($G34=0,0,IF(AND(L$22>=$H34,MOD($H34-L$22,$I34)=0),$G34,0))) -> 0 | M34: =IF($G34="Invoer",0,IF($G34=0,0,IF(AND(M$22>=$H34,MOD($H34-M$22,$I34)=0),$G34,0))) -> 0 | N34: =IF($G34="Invoer",0,IF($G34=0,0,IF(AND(N$22>=$H34,MOD($H34-N$22,$I34)=0),$G34,0))) -> 0 | O34: =IF($G34="Invoer",0,IF($G34=0,0,IF(AND(O$22>=$H34,MOD($H34-O$22,$I34)=0),$G34,0))) -> 0 | P34: =IF($G34="Invoer",0,IF($G34=0,0,IF(AND(P$22>=$H34,MOD($H34-P$22,$I34)=0),$G34,0))) -> 0 | Q34: =IF($G34="Invoer",0,IF($G34=0,0,IF(AND(Q$22>=$H34,MOD($H34-Q$22,$I34)=0),$G34,0))) -> 0 | R34: =IF($G34="Invoer",0,IF($G34=0,0,IF(AND(R$22>=$H34,MOD($H34-R$22,$I34)=0),$G34,0))) -> 0 | ... T34: =IF($G34="Invoer",0,IF($G34=0,0,IF(AND(T$22>=$H34,MOD($H34-T$22,$I34)=0),$G34,0))) -> 0 | U34: =IF(E34>4,1,0) -> 0
B35: 301 | C35: Aanvullende opmerking deuren | G35: 0 | J35: 1500 | K35: =IF($G35="Invoer",0,IF($G35=0,0,IF(AND(K$22>=$H35,MOD($H35-K$22,$I35)=0),$G35,0))) -> 0 | L35: =IF($G35="Invoer",0,IF($G35=0,0,IF(AND(L$22>=$H35,MOD($H35-L$22,$I35)=0),$G35,0))) -> 0 | M35: =IF($G35="Invoer",0,IF($G35=0,0,IF(AND(M$22>=$H35,MOD($H35-M$22,$I35)=0),$G35,0))) -> 0 | N35: =IF($G35="Invoer",0,IF($G35=0,0,IF(AND(N$22>=$H35,MOD($H35-N$22,$I35)=0),$G35,0))) -> 0 | O35: =IF($G35="Invoer",0,IF($G35=0,0,IF(AND(O$22>=$H35,MOD($H35-O$22,$I35)=0),$G35,0))) -> 0 | P35: =IF($G35="Invoer",0,IF($G35=0,0,IF(AND(P$22>=$H35,MOD($H35-P$22,$I35)=0),$G35,0))) -> 0 | Q35: =IF($G35="Invoer",0,IF($G35=0,0,IF(AND(Q$22>=$H35,MOD($H35-Q$22,$I35)=0),$G35,0))) -> 0 | R35: =IF($G35="Invoer",0,IF($G35=0,0,IF(AND(R$22>=$H35,MOD($H35-R$22,$I35)=0),$G35,0))) -> 0 | ... T35: =IF($G35="Invoer",0,IF($G35=0,0,IF(AND(T$22>=$H35,MOD($H35-T$22,$I35)=0),$G35,0))) -> 0 | U35: =IF(E35>4,1,0) -> 0
B36: 302 | C36: Automatische cabinedeur | D36: ThysenKrupp 2 delig telescoop | E36: 2 | F36: 2006 | G36: Invoer | H36: 2031 | I36: 25 | J36: 6500 | K36: =IF($G36="Invoer",0,IF($G36=0,0,IF(AND(K$22>=$H36,MOD($H36-K$22,$I36)=0),$G36,0))) -> 0 | L36: =IF($G36="Invoer",0,IF($G36=0,0,IF(AND(L$22>=$H36,MOD($H36-L$22,$I36)=0),$G36,0))) -> 0 | M36: =IF($G36="Invoer",0,IF($G36=0,0,IF(AND(M$22>=$H36,MOD($H36-M$22,$I36)=0),$G36,0))) -> 0 | N36: =IF($G36="Invoer",0,IF($G36=0,0,IF(AND(N$22>=$H36,MOD($H36-N$22,$I36)=0),$G36,0))) -> 0 | O36: =IF($G36="Invoer",0,IF($G36=0,0,IF(AND(O$22>=$H36,MOD($H36-O$22,$I36)=0),$G36,0))) -> 0 | P36: =IF($G36="Invoer",0,IF($G36=0,0,IF(AND(P$22>=$H36,MOD($H36-P$22,$I36)=0),$G36,0))) -> 0 | Q36: =IF($G36="Invoer",0,IF($G36=0,0,IF(AND(Q$22>=$H36,MOD($H36-Q$22,$I36)=0),$G36,0))) -> 0 | R36: =IF($G36="Invoer",0,IF($G36=0,0,IF(AND(R$22>=$H36,MOD($H36-R$22,$I36)=0),$G36,0))) -> 0 | ... T36: =IF($G36="Invoer",0,IF($G36=0,0,IF(AND(T$22>=$H36,MOD($H36-T$22,$I36)=0),$G36,0))) -> 0 | U36: =IF(E36>4,1,0) -> 0
B37: 303 | C37: Aanvullende opmerking deuren | D37: Radar boven in dagstuk | E37: 3 | F37: 2008 | G37: Invoer | H37: 2026 | I37: 15 | K37: =IF($G37="Invoer",0,IF($G37=0,0,IF(AND(K$22>=$H37,MOD($H37-K$22,$I37)=0),$G37,0))) -> 0 | L37: =IF($G37="Invoer",0,IF($G37=0,0,IF(AND(L$22>=$H37,MOD($H37-L$22,$I37)=0),$G37,0))) -> 0 | M37: =IF($G37="Invoer",0,IF($G37=0,0,IF(AND(M$22>=$H37,MOD($H37-M$22,$I37)=0),$G37,0))) -> 0 | N37: =IF($G37="Invoer",0,IF($G37=0,0,IF(AND(N$22>=$H37,MOD($H37-N$22,$I37)=0),$G37,0))) -> 0 | O37: =IF($G37="Invoer",0,IF($G37=0,0,IF(AND(O$22>=$H37,MOD($H37-O$22,$I37)=0),$G37,0))) -> 0 | P37: =IF($G37="Invoer",0,IF($G37=0,0,IF(AND(P$22>=$H37,MOD($H37-P$22,$I37)=0),$G37,0))) -> 0 | Q37: =IF($G37="Invoer",0,IF($G37=0,0,IF(AND(Q$22>=$H37,MOD($H37-Q$22,$I37)=0),$G37,0))) -> 0 | R37: =IF($G37="Invoer",0,IF($G37=0,0,IF(AND(R$22>=$H37,MOD($H37-R$22,$I37)=0),$G37,0))) -> 0 | ... T37: =IF($G37="Invoer",0,IF($G37=0,0,IF(AND(T$22>=$H37,MOD($H37-T$22,$I37)=0),$G37,0))) -> 0 | U37: =IF(E37>4,1,0) -> 0
B38: 304 | C38: Automatische schachtdeuren | D38: ThysenKrupp 2 delig telescoop | E38: 3 | F38: 2006 | G38: 0 | H38: 2036 | I38: 25 | J38: 35000 | K38: =IF($G38="Invoer",0,IF($G38=0,0,IF(AND(K$22>=$H38,MOD($H38-K$22,$I38)=0),$G38,0))) -> 0 | L38: =IF($G38="Invoer",0,IF($G38=0,0,IF(AND(L$22>=$H38,MOD($H38-L$22,$I38)=0),$G38,0))) -> 0 | M38: =IF($G38="Invoer",0,IF($G38=0,0,IF(AND(M$22>=$H38,MOD($H38-M$22,$I38)=0),$G38,0))) -> 0 | N38: =IF($G38="Invoer",0,IF($G38=0,0,IF(AND(N$22>=$H38,MOD($H38-N$22,$I38)=0),$G38,0))) -> 0 | O38: =IF($G38="Invoer",0,IF($G38=0,0,IF(AND(O$22>=$H38,MOD($H38-O$22,$I38)=0),$G38,0))) -> 0 | P38: =IF($G38="Invoer",0,IF($G38=0,0,IF(AND(P$22>=$H38,MOD($H38-P$22,$I38)=0),$G38,0))) -> 0 | Q38: =IF($G38="Invoer",0,IF($G38=0,0,IF(AND(Q$22>=$H38,MOD($H38-Q$22,$I38)=0),$G38,0))) -> 0 | R38: =IF($G38="Invoer",0,IF($G38=0,0,IF(AND(R$22>=$H38,MOD($H38-R$22,$I38)=0),$G38,0))) -> 0 | ... T38: =IF($G38="Invoer",0,IF($G38=0,0,IF(AND(T$22>=$H38,MOD($H38-T$22,$I38)=0),$G38,0))) -> 0 | U38: =IF(E38>4,1,0) -> 0
B39: 305 | C39: Aanvullende opmerking deuren | G39: 0 | K39: =IF($G39="Invoer",0,IF($G39=0,0,IF(AND(K$22>=$H39,MOD($H39-K$22,$I39)=0),$G39,0))) -> 0 | L39: =IF($G39="Invoer",0,IF($G39=0,0,IF(AND(L$22>=$H39,MOD($H39-L$22,$I39)=0),$G39,0))) -> 0 | M39: =IF($G39="Invoer",0,IF($G39=0,0,IF(AND(M$22>=$H39,MOD($H39-M$22,$I39)=0),$G39,0))) -> 0 | N39: =IF($G39="Invoer",0,IF($G39=0,0,IF(AND(N$22>=$H39,MOD($H39-N$22,$I39)=0),$G39,0))) -> 0 | O39: =IF($G39="Invoer",0,IF($G39=0,0,IF(AND(O$22>=$H39,MOD($H39-O$22,$I39)=0),$G39,0))) -> 0 | P39: =IF($G39="Invoer",0,IF($G39=0,0,IF(AND(P$22>=$H39,MOD($H39-P$22,$I39)=0),$G39,0))) -> 0 | Q39: =IF($G39="Invoer",0,IF($G39=0,0,IF(AND(Q$22>=$H39,MOD($H39-Q$22,$I39)=0),$G39,0))) -> 0 | R39: =IF($G39="Invoer",0,IF($G39=0,0,IF(AND(R$22>=$H39,MOD($H39-R$22,$I39)=0),$G39,0))) -> 0 | ... T39: =IF($G39="Invoer",0,IF($G39=0,0,IF(AND(T$22>=$H39,MOD($H39-T$22,$I39)=0),$G39,0))) -> 0 | U39: =IF(E39>4,1,0) -> 0
B40: 313 | C40: Anti-vandaal uitvoering gewenst | D40: N.v.t. | G40: 0 | J40: 10000 | K40: =IF($G40="Invoer",0,IF($G40=0,0,IF(AND(K$22>=$H40,MOD($H40-K$22,$I40)=0),$G40,0))) -> 0 | L40: =IF($G40="Invoer",0,IF($G40=0,0,IF(AND(L$22>=$H40,MOD($H40-L$22,$I40)=0),$G40,0))) -> 0 | M40: =IF($G40="Invoer",0,IF($G40=0,0,IF(AND(M$22>=$H40,MOD($H40-M$22,$I40)=0),$G40,0))) -> 0 | N40: =IF($G40="Invoer",0,IF($G40=0,0,IF(AND(N$22>=$H40,MOD($H40-N$22,$I40)=0),$G40,0))) -> 0 | O40: =IF($G40="Invoer",0,IF($G40=0,0,IF(AND(O$22>=$H40,MOD($H40-O$22,$I40)=0),$G40,0))) -> 0 | P40: =IF($G40="Invoer",0,IF($G40=0,0,IF(AND(P$22>=$H40,MOD($H40-P$22,$I40)=0),$G40,0))) -> 0 | Q40: =IF($G40="Invoer",0,IF($G40=0,0,IF(AND(Q$22>=$H40,MOD($H40-Q$22,$I40)=0),$G40,0))) -> 0 | R40: =IF($G40="Invoer",0,IF($G40=0,0,IF(AND(R$22>=$H40,MOD($H40-R$22,$I40)=0),$G40,0))) -> 0 | ... T40: =IF($G40="Invoer",0,IF($G40=0,0,IF(AND(T$22>=$H40,MOD($H40-T$22,$I40)=0),$G40,0))) -> 0
B41: 306 | C41: Deurrevisie uitgebreid | D41: N.v.t. | G41: 0 | J41: 16500 | K41: =IF($G41="Invoer",0,IF($G41=0,0,IF(AND(K$22>=$H41,MOD($H41-K$22,$I41)=0),$G41,0))) -> 0 | L41: =IF($G41="Invoer",0,IF($G41=0,0,IF(AND(L$22>=$H41,MOD($H41-L$22,$I41)=0),$G41,0))) -> 0 | M41: =IF($G41="Invoer",0,IF($G41=0,0,IF(AND(M$22>=$H41,MOD($H41-M$22,$I41)=0),$G41,0))) -> 0 | N41: =IF($G41="Invoer",0,IF($G41=0,0,IF(AND(N$22>=$H41,MOD($H41-N$22,$I41)=0),$G41,0))) -> 0 | O41: =IF($G41="Invoer",0,IF($G41=0,0,IF(AND(O$22>=$H41,MOD($H41-O$22,$I41)=0),$G41,0))) -> 0 | P41: =IF($G41="Invoer",0,IF($G41=0,0,IF(AND(P$22>=$H41,MOD($H41-P$22,$I41)=0),$G41,0))) -> 0 | Q41: =IF($G41="Invoer",0,IF($G41=0,0,IF(AND(Q$22>=$H41,MOD($H41-Q$22,$I41)=0),$G41,0))) -> 0 | R41: =IF($G41="Invoer",0,IF($G41=0,0,IF(AND(R$22>=$H41,MOD($H41-R$22,$I41)=0),$G41,0))) -> 0 | ... T41: =IF($G41="Invoer",0,IF($G41=0,0,IF(AND(T$22>=$H41,MOD($H41-T$22,$I41)=0),$G41,0))) -> 0 | U41: =IF(E41>4,1,0) -> 0
B42: 307 | C42: Deurrevisie beperkt | D42: Gewenst | E42: 2 | F42: 2020 | G42: Invoer | H42: 2031 | I42: 10 | J42: 5500 | K42: =IF($G42="Invoer",0,IF($G42=0,0,IF(AND(K$22>=$H42,MOD($H42-K$22,$I42)=0),$G42,0))) -> 0 | L42: =IF($G42="Invoer",0,IF($G42=0,0,IF(AND(L$22>=$H42,MOD($H42-L$22,$I42)=0),$G42,0))) -> 0 | M42: =IF($G42="Invoer",0,IF($G42=0,0,IF(AND(M$22>=$H42,MOD($H42-M$22,$I42)=0),$G42,0))) -> 0 | N42: =IF($G42="Invoer",0,IF($G42=0,0,IF(AND(N$22>=$H42,MOD($H42-N$22,$I42)=0),$G42,0))) -> 0 | O42: =IF($G42="Invoer",0,IF($G42=0,0,IF(AND(O$22>=$H42,MOD($H42-O$22,$I42)=0),$G42,0))) -> 0 | P42: =IF($G42="Invoer",0,IF($G42=0,0,IF(AND(P$22>=$H42,MOD($H42-P$22,$I42)=0),$G42,0))) -> 0 | Q42: =IF($G42="Invoer",0,IF($G42=0,0,IF(AND(Q$22>=$H42,MOD($H42-Q$22,$I42)=0),$G42,0))) -> 0 | R42: =IF($G42="Invoer",0,IF($G42=0,0,IF(AND(R$22>=$H42,MOD($H42-R$22,$I42)=0),$G42,0))) -> 0 | ... T42: =IF($G42="Invoer",0,IF($G42=0,0,IF(AND(T$22>=$H42,MOD($H42-T$22,$I42)=0),$G42,0))) -> 0 | U42: =IF(E42>4,1,0) -> 0
B43: 308 | C43: Deuraandrijving | D43: Siemens AT40 | E43: 3 | F43: 2018 | G43: Invoer | H43: 2026 | I43: 25 | J43: 4500 | K43: =IF($G43="Invoer",0,IF($G43=0,0,IF(AND(K$22>=$H43,MOD($H43-K$22,$I43)=0),$G43,0))) -> 0 | L43: =IF($G43="Invoer",0,IF($G43=0,0,IF(AND(L$22>=$H43,MOD($H43-L$22,$I43)=0),$G43,0))) -> 0 | M43: =IF($G43="Invoer",0,IF($G43=0,0,IF(AND(M$22>=$H43,MOD($H43-M$22,$I43)=0),$G43,0))) -> 0 | N43: =IF($G43="Invoer",0,IF($G43=0,0,IF(AND(N$22>=$H43,MOD($H43-N$22,$I43)=0),$G43,0))) -> 0 | O43: =IF($G43="Invoer",0,IF($G43=0,0,IF(AND(O$22>=$H43,MOD($H43-O$22,$I43)=0),$G43,0))) -> 0 | P43: =IF($G43="Invoer",0,IF($G43=0,0,IF(AND(P$22>=$H43,MOD($H43-P$22,$I43)=0),$G43,0))) -> 0 | Q43: =IF($G43="Invoer",0,IF($G43=0,0,IF(AND(Q$22>=$H43,MOD($H43-Q$22,$I43)=0),$G43,0))) -> 0 | R43: =IF($G43="Invoer",0,IF($G43=0,0,IF(AND(R$22>=$H43,MOD($H43-R$22,$I43)=0),$G43,0))) -> 0 | ... T43: =IF($G43="Invoer",0,IF($G43=0,0,IF(AND(T$22>=$H43,MOD($H43-T$22,$I43)=0),$G43,0))) -> 0 | U43: =IF(E43>4,1,0) -> 0
B44: 309 | C44: Grendels of contacten | D44: Gewenst | E44: 3 | F44: 2006 | G44: Invoer | H44: 2026 | I44: 10 | J44: 5500 | K44: =IF($G44="Invoer",0,IF($G44=0,0,IF(AND(K$22>=$H44,MOD($H44-K$22,$I44)=0),$G44,0))) -> 0 | L44: =IF($G44="Invoer",0,IF($G44=0,0,IF(AND(L$22>=$H44,MOD($H44-L$22,$I44)=0),$G44,0))) -> 0 | M44: =IF($G44="Invoer",0,IF($G44=0,0,IF(AND(M$22>=$H44,MOD($H44-M$22,$I44)=0),$G44,0))) -> 0 | N44: =IF($G44="Invoer",0,IF($G44=0,0,IF(AND(N$22>=$H44,MOD($H44-N$22,$I44)=0),$G44,0))) -> 0 | O44: =IF($G44="Invoer",0,IF($G44=0,0,IF(AND(O$22>=$H44,MOD($H44-O$22,$I44)=0),$G44,0))) -> 0 | P44: =IF($G44="Invoer",0,IF($G44=0,0,IF(AND(P$22>=$H44,MOD($H44-P$22,$I44)=0),$G44,0))) -> 0 | Q44: =IF($G44="Invoer",0,IF($G44=0,0,IF(AND(Q$22>=$H44,MOD($H44-Q$22,$I44)=0),$G44,0))) -> 0 | R44: =IF($G44="Invoer",0,IF($G44=0,0,IF(AND(R$22>=$H44,MOD($H44-R$22,$I44)=0),$G44,0))) -> 0 | ... T44: =IF($G44="Invoer",0,IF($G44=0,0,IF(AND(T$22>=$H44,MOD($H44-T$22,$I44)=0),$G44,0))) -> 0 | U44: =IF(E44>4,1,0) -> 0
B45: 310 | C45: Sensorlijst | D45: Gewenst | E45: 3 | F45: 2006 | G45: Invoer | H45: 2026 | I45: 15 | J45: 1200 | K45: =IF($G45="Invoer",0,IF($G45=0,0,IF(AND(K$22>=$H45,MOD($H45-K$22,$I45)=0),$G45,0))) -> 0 | L45: =IF($G45="Invoer",0,IF($G45=0,0,IF(AND(L$22>=$H45,MOD($H45-L$22,$I45)=0),$G45,0))) -> 0 | M45: =IF($G45="Invoer",0,IF($G45=0,0,IF(AND(M$22>=$H45,MOD($H45-M$22,$I45)=0),$G45,0))) -> 0 | N45: =IF($G45="Invoer",0,IF($G45=0,0,IF(AND(N$22>=$H45,MOD($H45-N$22,$I45)=0),$G45,0))) -> 0 | O45: =IF($G45="Invoer",0,IF($G45=0,0,IF(AND(O$22>=$H45,MOD($H45-O$22,$I45)=0),$G45,0))) -> 0 | P45: =IF($G45="Invoer",0,IF($G45=0,0,IF(AND(P$22>=$H45,MOD($H45-P$22,$I45)=0),$G45,0))) -> 0 | Q45: =IF($G45="Invoer",0,IF($G45=0,0,IF(AND(Q$22>=$H45,MOD($H45-Q$22,$I45)=0),$G45,0))) -> 0 | R45: =IF($G45="Invoer",0,IF($G45=0,0,IF(AND(R$22>=$H45,MOD($H45-R$22,$I45)=0),$G45,0))) -> 0 | ... T45: =IF($G45="Invoer",0,IF($G45=0,0,IF(AND(T$22>=$H45,MOD($H45-T$22,$I45)=0),$G45,0))) -> 0 | U45: =IF(E45>4,1,0) -> 0
B46: 311 | C46: Fotocel + reflector | D46: N.v.t. | G46: 0 | J46: 250 | K46: =IF($G46="Invoer",0,IF($G46=0,0,IF(AND(K$22>=$H46,MOD($H46-K$22,$I46)=0),$G46,0))) -> 0 | L46: =IF($G46="Invoer",0,IF($G46=0,0,IF(AND(L$22>=$H46,MOD($H46-L$22,$I46)=0),$G46,0))) -> 0 | M46: =IF($G46="Invoer",0,IF($G46=0,0,IF(AND(M$22>=$H46,MOD($H46-M$22,$I46)=0),$G46,0))) -> 0 | N46: =IF($G46="Invoer",0,IF($G46=0,0,IF(AND(N$22>=$H46,MOD($H46-N$22,$I46)=0),$G46,0))) -> 0 | O46: =IF($G46="Invoer",0,IF($G46=0,0,IF(AND(O$22>=$H46,MOD($H46-O$22,$I46)=0),$G46,0))) -> 0 | P46: =IF($G46="Invoer",0,IF($G46=0,0,IF(AND(P$22>=$H46,MOD($H46-P$22,$I46)=0),$G46,0))) -> 0 | Q46: =IF($G46="Invoer",0,IF($G46=0,0,IF(AND(Q$22>=$H46,MOD($H46-Q$22,$I46)=0),$G46,0))) -> 0 | R46: =IF($G46="Invoer",0,IF($G46=0,0,IF(AND(R$22>=$H46,MOD($H46-R$22,$I46)=0),$G46,0))) -> 0 | ... T46: =IF($G46="Invoer",0,IF($G46=0,0,IF(AND(T$22>=$H46,MOD($H46-T$22,$I46)=0),$G46,0))) -> 0 | U46: =IF(E46>4,1,0) -> 0
B47: 312 | C47: Vrije doorgang: ____ x ____ mm | D47: 1700 x 2600 mm | G47: 0 | J47: 1.7 | K47: =IF($G47="Invoer",0,IF($G47=0,0,IF(AND(K$22>=$H47,MOD($H47-K$22,$I47)=0),$G47,0))) -> 0 | L47: =IF($G47="Invoer",0,IF($G47=0,0,IF(AND(L$22>=$H47,MOD($H47-L$22,$I47)=0),$G47,0))) -> 0 | M47: =IF($G47="Invoer",0,IF($G47=0,0,IF(AND(M$22>=$H47,MOD($H47-M$22,$I47)=0),$G47,0))) -> 0 | N47: =IF($G47="Invoer",0,IF($G47=0,0,IF(AND(N$22>=$H47,MOD($H47-N$22,$I47)=0),$G47,0))) -> 0 | O47: =IF($G47="Invoer",0,IF($G47=0,0,IF(AND(O$22>=$H47,MOD($H47-O$22,$I47)=0),$G47,0))) -> 0 | P47: =IF($G47="Invoer",0,IF($G47=0,0,IF(AND(P$22>=$H47,MOD($H47-P$22,$I47)=0),$G47,0))) -> 0 | Q47: =IF($G47="Invoer",0,IF($G47=0,0,IF(AND(Q$22>=$H47,MOD($H47-Q$22,$I47)=0),$G47,0))) -> 0 | R47: =IF($G47="Invoer",0,IF($G47=0,0,IF(AND(R$22>=$H47,MOD($H47-R$22,$I47)=0),$G47,0))) -> 0 | ... T47: =IF($G47="Invoer",0,IF($G47=0,0,IF(AND(T$22>=$H47,MOD($H47-T$22,$I47)=0),$G47,0))) -> 0 | U47: =IF(E47>4,1,0) -> 0
B49: Aandrijving
B50: 400 | C50: Fabricaat en type | D50: ThyssenKrupp TW63 | E50: 3 | F50: 2006 | G50: 0 | H50: 2036 | I50: 25 | J50: 27500 | K50: =IF($G50="Invoer",0,IF($G50=0,0,IF(AND(K$22>=$H50,MOD($H50-K$22,$I50)=0),$G50,0))) -> 0 | L50: =IF($G50="Invoer",0,IF($G50=0,0,IF(AND(L$22>=$H50,MOD($H50-L$22,$I50)=0),$G50,0))) -> 0 | M50: =IF($G50="Invoer",0,IF($G50=0,0,IF(AND(M$22>=$H50,MOD($H50-M$22,$I50)=0),$G50,0))) -> 0 | N50: =IF($G50="Invoer",0,IF($G50=0,0,IF(AND(N$22>=$H50,MOD($H50-N$22,$I50)=0),$G50,0))) -> 0 | O50: =IF($G50="Invoer",0,IF($G50=0,0,IF(AND(O$22>=$H50,MOD($H50-O$22,$I50)=0),$G50,0))) -> 0 | P50: =IF($G50="Invoer",0,IF($G50=0,0,IF(AND(P$22>=$H50,MOD($H50-P$22,$I50)=0),$G50,0))) -> 0 | Q50: =IF($G50="Invoer",0,IF($G50=0,0,IF(AND(Q$22>=$H50,MOD($H50-Q$22,$I50)=0),$G50,0))) -> 0 | R50: =IF($G50="Invoer",0,IF($G50=0,0,IF(AND(R$22>=$H50,MOD($H50-R$22,$I50)=0),$G50,0))) -> 0 | ... T50: =IF($G50="Invoer",0,IF($G50=0,0,IF(AND(T$22>=$H50,MOD($H50-T$22,$I50)=0),$G50,0))) -> 0 | U50: =IF(E50>4,1,0) -> 0
B51: 401 | C51: 2e gebrek aandrijving | G51: 0 | K51: =IF($G51="Invoer",0,IF($G51=0,0,IF(AND(K$22>=$H51,MOD($H51-K$22,$I51)=0),$G51,0))) -> 0 | L51: =IF($G51="Invoer",0,IF($G51=0,0,IF(AND(L$22>=$H51,MOD($H51-L$22,$I51)=0),$G51,0))) -> 0 | M51: =IF($G51="Invoer",0,IF($G51=0,0,IF(AND(M$22>=$H51,MOD($H51-M$22,$I51)=0),$G51,0))) -> 0 | N51: =IF($G51="Invoer",0,IF($G51=0,0,IF(AND(N$22>=$H51,MOD($H51-N$22,$I51)=0),$G51,0))) -> 0 | O51: =IF($G51="Invoer",0,IF($G51=0,0,IF(AND(O$22>=$H51,MOD($H51-O$22,$I51)=0),$G51,0))) -> 0 | P51: =IF($G51="Invoer",0,IF($G51=0,0,IF(AND(P$22>=$H51,MOD($H51-P$22,$I51)=0),$G51,0))) -> 0 | Q51: =IF($G51="Invoer",0,IF($G51=0,0,IF(AND(Q$22>=$H51,MOD($H51-Q$22,$I51)=0),$G51,0))) -> 0 | R51: =IF($G51="Invoer",0,IF($G51=0,0,IF(AND(R$22>=$H51,MOD($H51-R$22,$I51)=0),$G51,0))) -> 0 | ... T51: =IF($G51="Invoer",0,IF($G51=0,0,IF(AND(T$22>=$H51,MOD($H51-T$22,$I51)=0),$G51,0))) -> 0 | U51: =IF(E51>4,1,0) -> 0
B52: 402 | C52: Aantal afleidwielen | D52: 6 | E52: 3 | F52: 2006 | G52: Invoer | H52: 2026 | I52: 25 | J52: 1000 | K52: =IF($G52="Invoer",0,IF($G52=0,0,IF(AND(K$22>=$H52,MOD($H52-K$22,$I52)=0),$G52,0))) -> 0 | L52: =IF($G52="Invoer",0,IF($G52=0,0,IF(AND(L$22>=$H52,MOD($H52-L$22,$I52)=0),$G52,0))) -> 0 | M52: =IF($G52="Invoer",0,IF($G52=0,0,IF(AND(M$22>=$H52,MOD($H52-M$22,$I52)=0),$G52,0))) -> 0 | N52: =IF($G52="Invoer",0,IF($G52=0,0,IF(AND(N$22>=$H52,MOD($H52-N$22,$I52)=0),$G52,0))) -> 0 | O52: =IF($G52="Invoer",0,IF($G52=0,0,IF(AND(O$22>=$H52,MOD($H52-O$22,$I52)=0),$G52,0))) -> 0 | P52: =IF($G52="Invoer",0,IF($G52=0,0,IF(AND(P$22>=$H52,MOD($H52-P$22,$I52)=0),$G52,0))) -> 0 | Q52: =IF($G52="Invoer",0,IF($G52=0,0,IF(AND(Q$22>=$H52,MOD($H52-Q$22,$I52)=0),$G52,0))) -> 0 | R52: =IF($G52="Invoer",0,IF($G52=0,0,IF(AND(R$22>=$H52,MOD($H52-R$22,$I52)=0),$G52,0))) -> 0 | ... T52: =IF($G52="Invoer",0,IF($G52=0,0,IF(AND(T$22>=$H52,MOD($H52-T$22,$I52)=0),$G52,0))) -> 0 | U52: =IF(E52>4,1,0) -> 0
B53: 403 | C53: Ophanging | D53: Ophanging 2:1 | G53: 0 | K53: =IF($G53="Invoer",0,IF($G53=0,0,IF(AND(K$22>=$H53,MOD($H53-K$22,$I53)=0),$G53,0))) -> 0 | L53: =IF($G53="Invoer",0,IF($G53=0,0,IF(AND(L$22>=$H53,MOD($H53-L$22,$I53)=0),$G53,0))) -> 0 | M53: =IF($G53="Invoer",0,IF($G53=0,0,IF(AND(M$22>=$H53,MOD($H53-M$22,$I53)=0),$G53,0))) -> 0 | N53: =IF($G53="Invoer",0,IF($G53=0,0,IF(AND(N$22>=$H53,MOD($H53-N$22,$I53)=0),$G53,0))) -> 0 | O53: =IF($G53="Invoer",0,IF($G53=0,0,IF(AND(O$22>=$H53,MOD($H53-O$22,$I53)=0),$G53,0))) -> 0 | P53: =IF($G53="Invoer",0,IF($G53=0,0,IF(AND(P$22>=$H53,MOD($H53-P$22,$I53)=0),$G53,0))) -> 0 | Q53: =IF($G53="Invoer",0,IF($G53=0,0,IF(AND(Q$22>=$H53,MOD($H53-Q$22,$I53)=0),$G53,0))) -> 0 | R53: =IF($G53="Invoer",0,IF($G53=0,0,IF(AND(R$22>=$H53,MOD($H53-R$22,$I53)=0),$G53,0))) -> 0 | ... T53: =IF($G53="Invoer",0,IF($G53=0,0,IF(AND(T$22>=$H53,MOD($H53-T$22,$I53)=0),$G53,0))) -> 0 | U53: =IF(E53>4,1,0) -> 0
B54: 404 | C54: Tractieschijf | D54: 720mm | E54: 3 | F54: 2006 | G54: Invoer | H54: 2026 | I54: 12 | J54: 1500 | K54: =IF($G54="Invoer",0,IF($G54=0,0,IF(AND(K$22>=$H54,MOD($H54-K$22,$I54)=0),$G54,0))) -> 0 | L54: =IF($G54="Invoer",0,IF($G54=0,0,IF(AND(L$22>=$H54,MOD($H54-L$22,$I54)=0),$G54,0))) -> 0 | M54: =IF($G54="Invoer",0,IF($G54=0,0,IF(AND(M$22>=$H54,MOD($H54-M$22,$I54)=0),$G54,0))) -> 0 | N54: =IF($G54="Invoer",0,IF($G54=0,0,IF(AND(N$22>=$H54,MOD($H54-N$22,$I54)=0),$G54,0))) -> 0 | O54: =IF($G54="Invoer",0,IF($G54=0,0,IF(AND(O$22>=$H54,MOD($H54-O$22,$I54)=0),$G54,0))) -> 0 | P54: =IF($G54="Invoer",0,IF($G54=0,0,IF(AND(P$22>=$H54,MOD($H54-P$22,$I54)=0),$G54,0))) -> 0 | Q54: =IF($G54="Invoer",0,IF($G54=0,0,IF(AND(Q$22>=$H54,MOD($H54-Q$22,$I54)=0),$G54,0))) -> 0 | R54: =IF($G54="Invoer",0,IF($G54=0,0,IF(AND(R$22>=$H54,MOD($H54-R$22,$I54)=0),$G54,0))) -> 0 | ... T54: =IF($G54="Invoer",0,IF($G54=0,0,IF(AND(T$22>=$H54,MOD($H54-T$22,$I54)=0),$G54,0))) -> 0 | U54: =IF(E54>4,1,0) -> 0
B55: 405 | C55: Draagmiddelen | D55: 4 x 13 mm | E55: 3 | F55: 2006 | G55: Invoer | H55: 2026 | I55: 12 | J55: 7500 | K55: =IF($G55="Invoer",0,IF($G55=0,0,IF(AND(K$22>=$H55,MOD($H55-K$22,$I55)=0),$G55,0))) -> 0 | L55: =IF($G55="Invoer",0,IF($G55=0,0,IF(AND(L$22>=$H55,MOD($H55-L$22,$I55)=0),$G55,0))) -> 0 | M55: =IF($G55="Invoer",0,IF($G55=0,0,IF(AND(M$22>=$H55,MOD($H55-M$22,$I55)=0),$G55,0))) -> 0 | N55: =IF($G55="Invoer",0,IF($G55=0,0,IF(AND(N$22>=$H55,MOD($H55-N$22,$I55)=0),$G55,0))) -> 0 | O55: =IF($G55="Invoer",0,IF($G55=0,0,IF(AND(O$22>=$H55,MOD($H55-O$22,$I55)=0),$G55,0))) -> 0 | P55: =IF($G55="Invoer",0,IF($G55=0,0,IF(AND(P$22>=$H55,MOD($H55-P$22,$I55)=0),$G55,0))) -> 0 | Q55: =IF($G55="Invoer",0,IF($G55=0,0,IF(AND(Q$22>=$H55,MOD($H55-Q$22,$I55)=0),$G55,0))) -> 0 | R55: =IF($G55="Invoer",0,IF($G55=0,0,IF(AND(R$22>=$H55,MOD($H55-R$22,$I55)=0),$G55,0))) -> 0 | ... T55: =IF($G55="Invoer",0,IF($G55=0,0,IF(AND(T$22>=$H55,MOD($H55-T$22,$I55)=0),$G55,0))) -> 0 | U55: =IF(E55>4,1,0) -> 0
B56: 406 | C56: Revisie elektromotor | D56: Gewenst | E56: 3 | F56: 2006 | G56: Invoer | H56: 2026 | I56: 99 | J56: 2500 | K56: =IF($G56="Invoer",0,IF($G56=0,0,IF(AND(K$22>=$H56,MOD($H56-K$22,$I56)=0),$G56,0))) -> 0 | L56: =IF($G56="Invoer",0,IF($G56=0,0,IF(AND(L$22>=$H56,MOD($H56-L$22,$I56)=0),$G56,0))) -> 0 | M56: =IF($G56="Invoer",0,IF($G56=0,0,IF(AND(M$22>=$H56,MOD($H56-M$22,$I56)=0),$G56,0))) -> 0 | N56: =IF($G56="Invoer",0,IF($G56=0,0,IF(AND(N$22>=$H56,MOD($H56-N$22,$I56)=0),$G56,0))) -> 0 | O56: =IF($G56="Invoer",0,IF($G56=0,0,IF(AND(O$22>=$H56,MOD($H56-O$22,$I56)=0),$G56,0))) -> 0 | P56: =IF($G56="Invoer",0,IF($G56=0,0,IF(AND(P$22>=$H56,MOD($H56-P$22,$I56)=0),$G56,0))) -> 0 | Q56: =IF($G56="Invoer",0,IF($G56=0,0,IF(AND(Q$22>=$H56,MOD($H56-Q$22,$I56)=0),$G56,0))) -> 0 | R56: =IF($G56="Invoer",0,IF($G56=0,0,IF(AND(R$22>=$H56,MOD($H56-R$22,$I56)=0),$G56,0))) -> 0 | ... T56: =IF($G56="Invoer",0,IF($G56=0,0,IF(AND(T$22>=$H56,MOD($H56-T$22,$I56)=0),$G56,0))) -> 0 | U56: =IF(E56>4,1,0) -> 0
B57: 407 | C57: Revisie aandrijving | D57: Gewenst | E57: 3 | F57: 2006 | G57: Invoer | H57: 2026 | I57: 99 | J57: 1500 | K57: =IF($G57="Invoer",0,IF($G57=0,0,IF(AND(K$22>=$H57,MOD($H57-K$22,$I57)=0),$G57,0))) -> 0 | L57: =IF($G57="Invoer",0,IF($G57=0,0,IF(AND(L$22>=$H57,MOD($H57-L$22,$I57)=0),$G57,0))) -> 0 | M57: =IF($G57="Invoer",0,IF($G57=0,0,IF(AND(M$22>=$H57,MOD($H57-M$22,$I57)=0),$G57,0))) -> 0 | N57: =IF($G57="Invoer",0,IF($G57=0,0,IF(AND(N$22>=$H57,MOD($H57-N$22,$I57)=0),$G57,0))) -> 0 | O57: =IF($G57="Invoer",0,IF($G57=0,0,IF(AND(O$22>=$H57,MOD($H57-O$22,$I57)=0),$G57,0))) -> 0 | P57: =IF($G57="Invoer",0,IF($G57=0,0,IF(AND(P$22>=$H57,MOD($H57-P$22,$I57)=0),$G57,0))) -> 0 | Q57: =IF($G57="Invoer",0,IF($G57=0,0,IF(AND(Q$22>=$H57,MOD($H57-Q$22,$I57)=0),$G57,0))) -> 0 | R57: =IF($G57="Invoer",0,IF($G57=0,0,IF(AND(R$22>=$H57,MOD($H57-R$22,$I57)=0),$G57,0))) -> 0 | ... T57: =IF($G57="Invoer",0,IF($G57=0,0,IF(AND(T$22>=$H57,MOD($H57-T$22,$I57)=0),$G57,0))) -> 0 | U57: =IF(E57>4,1,0) -> 0
B58: 408 | C58: Olie verversen | D58: Gewenst | E58: 2 | F58: 2020 | G58: Invoer | H58: 2026 | I58: 5 | J58: 650 | K58: =IF($G58="Invoer",0,IF($G58=0,0,IF(AND(K$22>=$H58,MOD($H58-K$22,$I58)=0),$G58,0))) -> 0 | L58: =IF($G58="Invoer",0,IF($G58=0,0,IF(AND(L$22>=$H58,MOD($H58-L$22,$I58)=0),$G58,0))) -> 0 | M58: =IF($G58="Invoer",0,IF($G58=0,0,IF(AND(M$22>=$H58,MOD($H58-M$22,$I58)=0),$G58,0))) -> 0 | N58: =IF($G58="Invoer",0,IF($G58=0,0,IF(AND(N$22>=$H58,MOD($H58-N$22,$I58)=0),$G58,0))) -> 0 | O58: =IF($G58="Invoer",0,IF($G58=0,0,IF(AND(O$22>=$H58,MOD($H58-O$22,$I58)=0),$G58,0))) -> 0 | P58: =IF($G58="Invoer",0,IF($G58=0,0,IF(AND(P$22>=$H58,MOD($H58-P$22,$I58)=0),$G58,0))) -> 0 | Q58: =IF($G58="Invoer",0,IF($G58=0,0,IF(AND(Q$22>=$H58,MOD($H58-Q$22,$I58)=0),$G58,0))) -> 0 | R58: =IF($G58="Invoer",0,IF($G58=0,0,IF(AND(R$22>=$H58,MOD($H58-R$22,$I58)=0),$G58,0))) -> 0 | ... T58: =IF($G58="Invoer",0,IF($G58=0,0,IF(AND(T$22>=$H58,MOD($H58-T$22,$I58)=0),$G58,0))) -> 0
G59: 0 | K59: =IF($G59="Invoer",0,IF($G59=0,0,IF(AND(K$22>=$H59,MOD($H59-K$22,$I59)=0),$G59,0))) -> 0 | L59: =IF($G59="Invoer",0,IF($G59=0,0,IF(AND(L$22>=$H59,MOD($H59-L$22,$I59)=0),$G59,0))) -> 0 | M59: =IF($G59="Invoer",0,IF($G59=0,0,IF(AND(M$22>=$H59,MOD($H59-M$22,$I59)=0),$G59,0))) -> 0 | N59: =IF($G59="Invoer",0,IF($G59=0,0,IF(AND(N$22>=$H59,MOD($H59-N$22,$I59)=0),$G59,0))) -> 0 | O59: =IF($G59="Invoer",0,IF($G59=0,0,IF(AND(O$22>=$H59,MOD($H59-O$22,$I59)=0),$G59,0))) -> 0 | P59: =IF($G59="Invoer",0,IF($G59=0,0,IF(AND(P$22>=$H59,MOD($H59-P$22,$I59)=0),$G59,0))) -> 0 | Q59: =IF($G59="Invoer",0,IF($G59=0,0,IF(AND(Q$22>=$H59,MOD($H59-Q$22,$I59)=0),$G59,0))) -> 0 | R59: =IF($G59="Invoer",0,IF($G59=0,0,IF(AND(R$22>=$H59,MOD($H59-R$22,$I59)=0),$G59,0))) -> 0 | ... T59: =IF($G59="Invoer",0,IF($G59=0,0,IF(AND(T$22>=$H59,MOD($H59-T$22,$I59)=0),$G59,0))) -> 0 | U59: =IF(E59>4,1,0) -> 0
B61: Hydrauliek
B62: 500 | C62: Fabricaat en type aggregaat | D62: N.v.t. | G62: 0 | J62: 21000 | K62: =IF($G62="Invoer",0,IF($G62=0,0,IF(AND(K$22>=$H62,MOD($H62-K$22,$I62)=0),$G62,0))) -> 0 | L62: =IF($G62="Invoer",0,IF($G62=0,0,IF(AND(L$22>=$H62,MOD($H62-L$22,$I62)=0),$G62,0))) -> 0 | M62: =IF($G62="Invoer",0,IF($G62=0,0,IF(AND(M$22>=$H62,MOD($H62-M$22,$I62)=0),$G62,0))) -> 0 | N62: =IF($G62="Invoer",0,IF($G62=0,0,IF(AND(N$22>=$H62,MOD($H62-N$22,$I62)=0),$G62,0))) -> 0 | O62: =IF($G62="Invoer",0,IF($G62=0,0,IF(AND(O$22>=$H62,MOD($H62-O$22,$I62)=0),$G62,0))) -> 0 | P62: =IF($G62="Invoer",0,IF($G62=0,0,IF(AND(P$22>=$H62,MOD($H62-P$22,$I62)=0),$G62,0))) -> 0 | Q62: =IF($G62="Invoer",0,IF($G62=0,0,IF(AND(Q$22>=$H62,MOD($H62-Q$22,$I62)=0),$G62,0))) -> 0 | R62: =IF($G62="Invoer",0,IF($G62=0,0,IF(AND(R$22>=$H62,MOD($H62-R$22,$I62)=0),$G62,0))) -> 0 | ... T62: =IF($G62="Invoer",0,IF($G62=0,0,IF(AND(T$22>=$H62,MOD($H62-T$22,$I62)=0),$G62,0))) -> 0 | U62: =IF(E62>4,1,0) -> 0
B63: 501 | C63: 2e gebrek aan aggregaat | G63: 0 | K63: =IF($G63="Invoer",0,IF($G63=0,0,IF(AND(K$22>=$H63,MOD($H63-K$22,$I63)=0),$G63,0))) -> 0 | L63: =IF($G63="Invoer",0,IF($G63=0,0,IF(AND(L$22>=$H63,MOD($H63-L$22,$I63)=0),$G63,0))) -> 0 | M63: =IF($G63="Invoer",0,IF($G63=0,0,IF(AND(M$22>=$H63,MOD($H63-M$22,$I63)=0),$G63,0))) -> 0 | N63: =IF($G63="Invoer",0,IF($G63=0,0,IF(AND(N$22>=$H63,MOD($H63-N$22,$I63)=0),$G63,0))) -> 0 | O63: =IF($G63="Invoer",0,IF($G63=0,0,IF(AND(O$22>=$H63,MOD($H63-O$22,$I63)=0),$G63,0))) -> 0 | P63: =IF($G63="Invoer",0,IF($G63=0,0,IF(AND(P$22>=$H63,MOD($H63-P$22,$I63)=0),$G63,0))) -> 0 | Q63: =IF($G63="Invoer",0,IF($G63=0,0,IF(AND(Q$22>=$H63,MOD($H63-Q$22,$I63)=0),$G63,0))) -> 0 | R63: =IF($G63="Invoer",0,IF($G63=0,0,IF(AND(R$22>=$H63,MOD($H63-R$22,$I63)=0),$G63,0))) -> 0 | ... T63: =IF($G63="Invoer",0,IF($G63=0,0,IF(AND(T$22>=$H63,MOD($H63-T$22,$I63)=0),$G63,0))) -> 0 | U63: =IF(E63>4,1,0) -> 0
B64: 502 | C64: Fabricaat en type stuurblok | D64: N.v.t. | G64: 0 | J64: 3500 | K64: =IF($G64="Invoer",0,IF($G64=0,0,IF(AND(K$22>=$H64,MOD($H64-K$22,$I64)=0),$G64,0))) -> 0 | L64: =IF($G64="Invoer",0,IF($G64=0,0,IF(AND(L$22>=$H64,MOD($H64-L$22,$I64)=0),$G64,0))) -> 0 | M64: =IF($G64="Invoer",0,IF($G64=0,0,IF(AND(M$22>=$H64,MOD($H64-M$22,$I64)=0),$G64,0))) -> 0 | N64: =IF($G64="Invoer",0,IF($G64=0,0,IF(AND(N$22>=$H64,MOD($H64-N$22,$I64)=0),$G64,0))) -> 0 | O64: =IF($G64="Invoer",0,IF($G64=0,0,IF(AND(O$22>=$H64,MOD($H64-O$22,$I64)=0),$G64,0))) -> 0 | P64: =IF($G64="Invoer",0,IF($G64=0,0,IF(AND(P$22>=$H64,MOD($H64-P$22,$I64)=0),$G64,0))) -> 0 | Q64: =IF($G64="Invoer",0,IF($G64=0,0,IF(AND(Q$22>=$H64,MOD($H64-Q$22,$I64)=0),$G64,0))) -> 0 | R64: =IF($G64="Invoer",0,IF($G64=0,0,IF(AND(R$22>=$H64,MOD($H64-R$22,$I64)=0),$G64,0))) -> 0 | ... T64: =IF($G64="Invoer",0,IF($G64=0,0,IF(AND(T$22>=$H64,MOD($H64-T$22,$I64)=0),$G64,0))) -> 0 | U64: =IF(E64>4,1,0) -> 0
B65: 503 | C65: Afdichtingen stuurblok | D65: N.v.t. | G65: 0 | J65: 1500 | K65: =IF($G65="Invoer",0,IF($G65=0,0,IF(AND(K$22>=$H65,MOD($H65-K$22,$I65)=0),$G65,0))) -> 0 | L65: =IF($G65="Invoer",0,IF($G65=0,0,IF(AND(L$22>=$H65,MOD($H65-L$22,$I65)=0),$G65,0))) -> 0 | M65: =IF($G65="Invoer",0,IF($G65=0,0,IF(AND(M$22>=$H65,MOD($H65-M$22,$I65)=0),$G65,0))) -> 0 | N65: =IF($G65="Invoer",0,IF($G65=0,0,IF(AND(N$22>=$H65,MOD($H65-N$22,$I65)=0),$G65,0))) -> 0 | O65: =IF($G65="Invoer",0,IF($G65=0,0,IF(AND(O$22>=$H65,MOD($H65-O$22,$I65)=0),$G65,0))) -> 0 | P65: =IF($G65="Invoer",0,IF($G65=0,0,IF(AND(P$22>=$H65,MOD($H65-P$22,$I65)=0),$G65,0))) -> 0 | Q65: =IF($G65="Invoer",0,IF($G65=0,0,IF(AND(Q$22>=$H65,MOD($H65-Q$22,$I65)=0),$G65,0))) -> 0 | R65: =IF($G65="Invoer",0,IF($G65=0,0,IF(AND(R$22>=$H65,MOD($H65-R$22,$I65)=0),$G65,0))) -> 0 | ... T65: =IF($G65="Invoer",0,IF($G65=0,0,IF(AND(T$22>=$H65,MOD($H65-T$22,$I65)=0),$G65,0))) -> 0 | U65: =IF(E65>4,1,0) -> 0
B66: 504 | C66: Fabricaat en type cilinder | D66: N.v.t. | G66: 0 | J66: 12000 | K66: =IF($G66="Invoer",0,IF($G66=0,0,IF(AND(K$22>=$H66,MOD($H66-K$22,$I66)=0),$G66,0))) -> 0 | L66: =IF($G66="Invoer",0,IF($G66=0,0,IF(AND(L$22>=$H66,MOD($H66-L$22,$I66)=0),$G66,0))) -> 0 | M66: =IF($G66="Invoer",0,IF($G66=0,0,IF(AND(M$22>=$H66,MOD($H66-M$22,$I66)=0),$G66,0))) -> 0 | N66: =IF($G66="Invoer",0,IF($G66=0,0,IF(AND(N$22>=$H66,MOD($H66-N$22,$I66)=0),$G66,0))) -> 0 | O66: =IF($G66="Invoer",0,IF($G66=0,0,IF(AND(O$22>=$H66,MOD($H66-O$22,$I66)=0),$G66,0))) -> 0 | P66: =IF($G66="Invoer",0,IF($G66=0,0,IF(AND(P$22>=$H66,MOD($H66-P$22,$I66)=0),$G66,0))) -> 0 | Q66: =IF($G66="Invoer",0,IF($G66=0,0,IF(AND(Q$22>=$H66,MOD($H66-Q$22,$I66)=0),$G66,0))) -> 0 | R66: =IF($G66="Invoer",0,IF($G66=0,0,IF(AND(R$22>=$H66,MOD($H66-R$22,$I66)=0),$G66,0))) -> 0 | ... T66: =IF($G66="Invoer",0,IF($G66=0,0,IF(AND(T$22>=$H66,MOD($H66-T$22,$I66)=0),$G66,0))) -> 0 | U66: =IF(E66>4,1,0) -> 0
B67: 505 | C67: Afdichtingen cilinder | D67: N.v.t. | G67: 0 | J67: 1500 | K67: =IF($G67="Invoer",0,IF($G67=0,0,IF(AND(K$22>=$H67,MOD($H67-K$22,$I67)=0),$G67,0))) -> 0 | L67: =IF($G67="Invoer",0,IF($G67=0,0,IF(AND(L$22>=$H67,MOD($H67-L$22,$I67)=0),$G67,0))) -> 0 | M67: =IF($G67="Invoer",0,IF($G67=0,0,IF(AND(M$22>=$H67,MOD($H67-M$22,$I67)=0),$G67,0))) -> 0 | N67: =IF($G67="Invoer",0,IF($G67=0,0,IF(AND(N$22>=$H67,MOD($H67-N$22,$I67)=0),$G67,0))) -> 0 | O67: =IF($G67="Invoer",0,IF($G67=0,0,IF(AND(O$22>=$H67,MOD($H67-O$22,$I67)=0),$G67,0))) -> 0 | P67: =IF($G67="Invoer",0,IF($G67=0,0,IF(AND(P$22>=$H67,MOD($H67-P$22,$I67)=0),$G67,0))) -> 0 | Q67: =IF($G67="Invoer",0,IF($G67=0,0,IF(AND(Q$22>=$H67,MOD($H67-Q$22,$I67)=0),$G67,0))) -> 0 | R67: =IF($G67="Invoer",0,IF($G67=0,0,IF(AND(R$22>=$H67,MOD($H67-R$22,$I67)=0),$G67,0))) -> 0 | ... T67: =IF($G67="Invoer",0,IF($G67=0,0,IF(AND(T$22>=$H67,MOD($H67-T$22,$I67)=0),$G67,0))) -> 0 | U67: =IF(E67>4,1,0) -> 0
B68: 506 | C68: Leidingbreukventiel | D68: N.v.t. | G68: 0 | J68: 2500 | K68: =IF($G68="Invoer",0,IF($G68=0,0,IF(AND(K$22>=$H68,MOD($H68-K$22,$I68)=0),$G68,0))) -> 0 | L68: =IF($G68="Invoer",0,IF($G68=0,0,IF(AND(L$22>=$H68,MOD($H68-L$22,$I68)=0),$G68,0))) -> 0 | M68: =IF($G68="Invoer",0,IF($G68=0,0,IF(AND(M$22>=$H68,MOD($H68-M$22,$I68)=0),$G68,0))) -> 0 | N68: =IF($G68="Invoer",0,IF($G68=0,0,IF(AND(N$22>=$H68,MOD($H68-N$22,$I68)=0),$G68,0))) -> 0 | O68: =IF($G68="Invoer",0,IF($G68=0,0,IF(AND(O$22>=$H68,MOD($H68-O$22,$I68)=0),$G68,0))) -> 0 | P68: =IF($G68="Invoer",0,IF($G68=0,0,IF(AND(P$22>=$H68,MOD($H68-P$22,$I68)=0),$G68,0))) -> 0 | Q68: =IF($G68="Invoer",0,IF($G68=0,0,IF(AND(Q$22>=$H68,MOD($H68-Q$22,$I68)=0),$G68,0))) -> 0 | R68: =IF($G68="Invoer",0,IF($G68=0,0,IF(AND(R$22>=$H68,MOD($H68-R$22,$I68)=0),$G68,0))) -> 0 | ... T68: =IF($G68="Invoer",0,IF($G68=0,0,IF(AND(T$22>=$H68,MOD($H68-T$22,$I68)=0),$G68,0))) -> 0 | U68: =IF(E68>4,1,0) -> 0
B69: 507 | C69: Wegzakinrichting | D69: N.v.t. | G69: 0 | J69: 3500 | K69: =IF($G69="Invoer",0,IF($G69=0,0,IF(AND(K$22>=$H69,MOD($H69-K$22,$I69)=0),$G69,0))) -> 0 | L69: =IF($G69="Invoer",0,IF($G69=0,0,IF(AND(L$22>=$H69,MOD($H69-L$22,$I69)=0),$G69,0))) -> 0 | M69: =IF($G69="Invoer",0,IF($G69=0,0,IF(AND(M$22>=$H69,MOD($H69-M$22,$I69)=0),$G69,0))) -> 0 | N69: =IF($G69="Invoer",0,IF($G69=0,0,IF(AND(N$22>=$H69,MOD($H69-N$22,$I69)=0),$G69,0))) -> 0 | O69: =IF($G69="Invoer",0,IF($G69=0,0,IF(AND(O$22>=$H69,MOD($H69-O$22,$I69)=0),$G69,0))) -> 0 | P69: =IF($G69="Invoer",0,IF($G69=0,0,IF(AND(P$22>=$H69,MOD($H69-P$22,$I69)=0),$G69,0))) -> 0 | Q69: =IF($G69="Invoer",0,IF($G69=0,0,IF(AND(Q$22>=$H69,MOD($H69-Q$22,$I69)=0),$G69,0))) -> 0 | R69: =IF($G69="Invoer",0,IF($G69=0,0,IF(AND(R$22>=$H69,MOD($H69-R$22,$I69)=0),$G69,0))) -> 0 | ... T69: =IF($G69="Invoer",0,IF($G69=0,0,IF(AND(T$22>=$H69,MOD($H69-T$22,$I69)=0),$G69,0))) -> 0 | U69: =IF(E69>4,1,0) -> 0
B70: 508 | C70: Olie | D70: N.v.t. | G70: 0 | J70: 2500 | K70: =IF($G70="Invoer",0,IF($G70=0,0,IF(AND(K$22>=$H70,MOD($H70-K$22,$I70)=0),$G70,0))) -> 0 | L70: =IF($G70="Invoer",0,IF($G70=0,0,IF(AND(L$22>=$H70,MOD($H70-L$22,$I70)=0),$G70,0))) -> 0 | M70: =IF($G70="Invoer",0,IF($G70=0,0,IF(AND(M$22>=$H70,MOD($H70-M$22,$I70)=0),$G70,0))) -> 0 | N70: =IF($G70="Invoer",0,IF($G70=0,0,IF(AND(N$22>=$H70,MOD($H70-N$22,$I70)=0),$G70,0))) -> 0 | O70: =IF($G70="Invoer",0,IF($G70=0,0,IF(AND(O$22>=$H70,MOD($H70-O$22,$I70)=0),$G70,0))) -> 0 | P70: =IF($G70="Invoer",0,IF($G70=0,0,IF(AND(P$22>=$H70,MOD($H70-P$22,$I70)=0),$G70,0))) -> 0 | Q70: =IF($G70="Invoer",0,IF($G70=0,0,IF(AND(Q$22>=$H70,MOD($H70-Q$22,$I70)=0),$G70,0))) -> 0 | R70: =IF($G70="Invoer",0,IF($G70=0,0,IF(AND(R$22>=$H70,MOD($H70-R$22,$I70)=0),$G70,0))) -> 0 | ... T70: =IF($G70="Invoer",0,IF($G70=0,0,IF(AND(T$22>=$H70,MOD($H70-T$22,$I70)=0),$G70,0))) -> 0 | U70: =IF(E70>4,1,0) -> 0
B71: 509 | C71: Staalkabels | D71: N.v.t. | G71: 0 | J71: 4500 | K71: =IF($G71="Invoer",0,IF($G71=0,0,IF(AND(K$22>=$H71,MOD($H71-K$22,$I71)=0),$G71,0))) -> 0 | L71: =IF($G71="Invoer",0,IF($G71=0,0,IF(AND(L$22>=$H71,MOD($H71-L$22,$I71)=0),$G71,0))) -> 0 | M71: =IF($G71="Invoer",0,IF($G71=0,0,IF(AND(M$22>=$H71,MOD($H71-M$22,$I71)=0),$G71,0))) -> 0 | N71: =IF($G71="Invoer",0,IF($G71=0,0,IF(AND(N$22>=$H71,MOD($H71-N$22,$I71)=0),$G71,0))) -> 0 | O71: =IF($G71="Invoer",0,IF($G71=0,0,IF(AND(O$22>=$H71,MOD($H71-O$22,$I71)=0),$G71,0))) -> 0 | P71: =IF($G71="Invoer",0,IF($G71=0,0,IF(AND(P$22>=$H71,MOD($H71-P$22,$I71)=0),$G71,0))) -> 0 | Q71: =IF($G71="Invoer",0,IF($G71=0,0,IF(AND(Q$22>=$H71,MOD($H71-Q$22,$I71)=0),$G71,0))) -> 0 | R71: =IF($G71="Invoer",0,IF($G71=0,0,IF(AND(R$22>=$H71,MOD($H71-R$22,$I71)=0),$G71,0))) -> 0 | ... T71: =IF($G71="Invoer",0,IF($G71=0,0,IF(AND(T$22>=$H71,MOD($H71-T$22,$I71)=0),$G71,0))) -> 0
B72: 510 | C72: Afleidwiel plunjer | D72: N.v.t. | G72: 0 | J72: 1500 | K72: =IF($G72="Invoer",0,IF($G72=0,0,IF(AND(K$22>=$H72,MOD($H72-K$22,$I72)=0),$G72,0))) -> 0 | L72: =IF($G72="Invoer",0,IF($G72=0,0,IF(AND(L$22>=$H72,MOD($H72-L$22,$I72)=0),$G72,0))) -> 0 | M72: =IF($G72="Invoer",0,IF($G72=0,0,IF(AND(M$22>=$H72,MOD($H72-M$22,$I72)=0),$G72,0))) -> 0 | N72: =IF($G72="Invoer",0,IF($G72=0,0,IF(AND(N$22>=$H72,MOD($H72-N$22,$I72)=0),$G72,0))) -> 0 | O72: =IF($G72="Invoer",0,IF($G72=0,0,IF(AND(O$22>=$H72,MOD($H72-O$22,$I72)=0),$G72,0))) -> 0 | P72: =IF($G72="Invoer",0,IF($G72=0,0,IF(AND(P$22>=$H72,MOD($H72-P$22,$I72)=0),$G72,0))) -> 0 | Q72: =IF($G72="Invoer",0,IF($G72=0,0,IF(AND(Q$22>=$H72,MOD($H72-Q$22,$I72)=0),$G72,0))) -> 0 | R72: =IF($G72="Invoer",0,IF($G72=0,0,IF(AND(R$22>=$H72,MOD($H72-R$22,$I72)=0),$G72,0))) -> 0 | ... T72: =IF($G72="Invoer",0,IF($G72=0,0,IF(AND(T$22>=$H72,MOD($H72-T$22,$I72)=0),$G72,0))) -> 0 | U72: =IF(E72>4,1,0) -> 0
B74: Geleiding
B75: 600 | C75: Opstelling | D75: Centrale opstelling | K75: =IF($G75=0,0,IF(AND(K$22>=$H75,MOD($H75-K$22,$I75)=0),$G75,0)) -> 0 | L75: =IF($G75=0,0,IF(AND(L$22>=$H75,MOD($H75-L$22,$I75)=0),$G75,0)) -> 0 | M75: =IF($G75=0,0,IF(AND(M$22>=$H75,MOD($H75-M$22,$I75)=0),$G75,0)) -> 0 | N75: =IF($G75=0,0,IF(AND(N$22>=$H75,MOD($H75-N$22,$I75)=0),$G75,0)) -> 0 | O75: =IF($G75=0,0,IF(AND(O$22>=$H75,MOD($H75-O$22,$I75)=0),$G75,0)) -> 0 | P75: =IF($G75=0,0,IF(AND(P$22>=$H75,MOD($H75-P$22,$I75)=0),$G75,0)) -> 0 | Q75: =IF($G75=0,0,IF(AND(Q$22>=$H75,MOD($H75-Q$22,$I75)=0),$G75,0)) -> 0 | R75: =IF($G75=0,0,IF(AND(R$22>=$H75,MOD($H75-R$22,$I75)=0),$G75,0)) -> 0 | ... T75: =IF($G75=0,0,IF(AND(T$22>=$H75,MOD($H75-T$22,$I75)=0),$G75,0)) -> 0 | U75: =IF(E75>4,1,0) -> 0
B76: 601 | C76: Cabinegeleiding: | D76: Sloffen | E76: 4 | F76: 2006 | G76: Invoer | H76: 2026 | I76: 15 | J76: 600 | K76: =IF($G76="Invoer",0,IF($G76=0,0,IF(AND(K$22>=$H76,MOD($H76-K$22,$I76)=0),$G76,0))) -> 0 | L76: =IF($G76="Invoer",0,IF($G76=0,0,IF(AND(L$22>=$H76,MOD($H76-L$22,$I76)=0),$G76,0))) -> 0 | M76: =IF($G76="Invoer",0,IF($G76=0,0,IF(AND(M$22>=$H76,MOD($H76-M$22,$I76)=0),$G76,0))) -> 0 | N76: =IF($G76="Invoer",0,IF($G76=0,0,IF(AND(N$22>=$H76,MOD($H76-N$22,$I76)=0),$G76,0))) -> 0 | O76: =IF($G76="Invoer",0,IF($G76=0,0,IF(AND(O$22>=$H76,MOD($H76-O$22,$I76)=0),$G76,0))) -> 0 | P76: =IF($G76="Invoer",0,IF($G76=0,0,IF(AND(P$22>=$H76,MOD($H76-P$22,$I76)=0),$G76,0))) -> 0 | Q76: =IF($G76="Invoer",0,IF($G76=0,0,IF(AND(Q$22>=$H76,MOD($H76-Q$22,$I76)=0),$G76,0))) -> 0 | R76: =IF($G76="Invoer",0,IF($G76=0,0,IF(AND(R$22>=$H76,MOD($H76-R$22,$I76)=0),$G76,0))) -> 0 | ... T76: =IF($G76="Invoer",0,IF($G76=0,0,IF(AND(T$22>=$H76,MOD($H76-T$22,$I76)=0),$G76,0))) -> 0 | U76: =IF(E76>4,1,0) -> 0
B77: 602 | C77: Tegengewichtgeleiding: | D77: Sloffen | E77: 4 | F77: 2006 | G77: Invoer | H77: 2026 | I77: 15 | J77: 600 | K77: =IF($G77="Invoer",0,IF($G77=0,0,IF(AND(K$22>=$H77,MOD($H77-K$22,$I77)=0),$G77,0))) -> 0 | L77: =IF($G77="Invoer",0,IF($G77=0,0,IF(AND(L$22>=$H77,MOD($H77-L$22,$I77)=0),$G77,0))) -> 0 | M77: =IF($G77="Invoer",0,IF($G77=0,0,IF(AND(M$22>=$H77,MOD($H77-M$22,$I77)=0),$G77,0))) -> 0 | N77: =IF($G77="Invoer",0,IF($G77=0,0,IF(AND(N$22>=$H77,MOD($H77-N$22,$I77)=0),$G77,0))) -> 0 | O77: =IF($G77="Invoer",0,IF($G77=0,0,IF(AND(O$22>=$H77,MOD($H77-O$22,$I77)=0),$G77,0))) -> 0 | P77: =IF($G77="Invoer",0,IF($G77=0,0,IF(AND(P$22>=$H77,MOD($H77-P$22,$I77)=0),$G77,0))) -> 0 | Q77: =IF($G77="Invoer",0,IF($G77=0,0,IF(AND(Q$22>=$H77,MOD($H77-Q$22,$I77)=0),$G77,0))) -> 0 | R77: =IF($G77="Invoer",0,IF($G77=0,0,IF(AND(R$22>=$H77,MOD($H77-R$22,$I77)=0),$G77,0))) -> 0 | ... T77: =IF($G77="Invoer",0,IF($G77=0,0,IF(AND(T$22>=$H77,MOD($H77-T$22,$I77)=0),$G77,0))) -> 0
G78: 0 | K78: =IF($G78=0,0,IF(AND(K$22>=$H78,MOD($H78-K$22,$I78)=0),$G78,0)) -> 0 | L78: =IF($G78=0,0,IF(AND(L$22>=$H78,MOD($H78-L$22,$I78)=0),$G78,0)) -> 0 | M78: =IF($G78=0,0,IF(AND(M$22>=$H78,MOD($H78-M$22,$I78)=0),$G78,0)) -> 0 | N78: =IF($G78=0,0,IF(AND(N$22>=$H78,MOD($H78-N$22,$I78)=0),$G78,0)) -> 0 | O78: =IF($G78=0,0,IF(AND(O$22>=$H78,MOD($H78-O$22,$I78)=0),$G78,0)) -> 0 | P78: =IF($G78=0,0,IF(AND(P$22>=$H78,MOD($H78-P$22,$I78)=0),$G78,0)) -> 0 | Q78: =IF($G78=0,0,IF(AND(Q$22>=$H78,MOD($H78-Q$22,$I78)=0),$G78,0)) -> 0 | R78: =IF($G78=0,0,IF(AND(R$22>=$H78,MOD($H78-R$22,$I78)=0),$G78,0)) -> 0 | ... T78: =IF($G78=0,0,IF(AND(T$22>=$H78,MOD($H78-T$22,$I78)=0),$G78,0)) -> 0 | U78: =IF(E78>4,1,0) -> 0
B80: Signalering
B81: 700 | C81: Fabricaat en type cabinetableau | D81: ThyssenKrupp ronde knop | E81: 3 | F81: 2006 | G81: Invoer | H81: 2026 | I81: 20 | J81: 3700 | K81: =IF($G81="Invoer",0,IF($G81=0,0,IF(AND(K$22>=$H81,MOD($H81-K$22,$I81)=0),$G81,0))) -> 0 | L81: =IF($G81="Invoer",0,IF($G81=0,0,IF(AND(L$22>=$H81,MOD($H81-L$22,$I81)=0),$G81,0))) -> 0 | M81: =IF($G81="Invoer",0,IF($G81=0,0,IF(AND(M$22>=$H81,MOD($H81-M$22,$I81)=0),$G81,0))) -> 0 | N81: =IF($G81="Invoer",0,IF($G81=0,0,IF(AND(N$22>=$H81,MOD($H81-N$22,$I81)=0),$G81,0))) -> 0 | O81: =IF($G81="Invoer",0,IF($G81=0,0,IF(AND(O$22>=$H81,MOD($H81-O$22,$I81)=0),$G81,0))) -> 0 | P81: =IF($G81="Invoer",0,IF($G81=0,0,IF(AND(P$22>=$H81,MOD($H81-P$22,$I81)=0),$G81,0))) -> 0 | Q81: =IF($G81="Invoer",0,IF($G81=0,0,IF(AND(Q$22>=$H81,MOD($H81-Q$22,$I81)=0),$G81,0))) -> 0 | R81: =IF($G81="Invoer",0,IF($G81=0,0,IF(AND(R$22>=$H81,MOD($H81-R$22,$I81)=0),$G81,0))) -> 0 | ... T81: =IF($G81="Invoer",0,IF($G81=0,0,IF(AND(T$22>=$H81,MOD($H81-T$22,$I81)=0),$G81,0))) -> 0 | U81: =IF(E81>4,1,0) -> 0
B82: 701 | C82: 2e gebrek cabinetableau | G82: 0 | K82: =IF($G82="Invoer",0,IF($G82=0,0,IF(AND(K$22>=$H82,MOD($H82-K$22,$I82)=0),$G82,0))) -> 0 | L82: =IF($G82="Invoer",0,IF($G82=0,0,IF(AND(L$22>=$H82,MOD($H82-L$22,$I82)=0),$G82,0))) -> 0 | M82: =IF($G82="Invoer",0,IF($G82=0,0,IF(AND(M$22>=$H82,MOD($H82-M$22,$I82)=0),$G82,0))) -> 0 | N82: =IF($G82="Invoer",0,IF($G82=0,0,IF(AND(N$22>=$H82,MOD($H82-N$22,$I82)=0),$G82,0))) -> 0 | O82: =IF($G82="Invoer",0,IF($G82=0,0,IF(AND(O$22>=$H82,MOD($H82-O$22,$I82)=0),$G82,0))) -> 0 | P82: =IF($G82="Invoer",0,IF($G82=0,0,IF(AND(P$22>=$H82,MOD($H82-P$22,$I82)=0),$G82,0))) -> 0 | Q82: =IF($G82="Invoer",0,IF($G82=0,0,IF(AND(Q$22>=$H82,MOD($H82-Q$22,$I82)=0),$G82,0))) -> 0 | R82: =IF($G82="Invoer",0,IF($G82=0,0,IF(AND(R$22>=$H82,MOD($H82-R$22,$I82)=0),$G82,0))) -> 0 | ... T82: =IF($G82="Invoer",0,IF($G82=0,0,IF(AND(T$22>=$H82,MOD($H82-T$22,$I82)=0),$G82,0))) -> 0 | U82: =IF(E82>4,1,0) -> 0
B83: 702 | C83: Grootvlak | D83: Nee | G83: 0 | J83: 2500 | K83: =IF($G83="Invoer",0,IF($G83=0,0,IF(AND(K$22>=$H83,MOD($H83-K$22,$I83)=0),$G83,0))) -> 0 | L83: =IF($G83="Invoer",0,IF($G83=0,0,IF(AND(L$22>=$H83,MOD($H83-L$22,$I83)=0),$G83,0))) -> 0 | M83: =IF($G83="Invoer",0,IF($G83=0,0,IF(AND(M$22>=$H83,MOD($H83-M$22,$I83)=0),$G83,0))) -> 0 | N83: =IF($G83="Invoer",0,IF($G83=0,0,IF(AND(N$22>=$H83,MOD($H83-N$22,$I83)=0),$G83,0))) -> 0 | O83: =IF($G83="Invoer",0,IF($G83=0,0,IF(AND(O$22>=$H83,MOD($H83-O$22,$I83)=0),$G83,0))) -> 0 | P83: =IF($G83="Invoer",0,IF($G83=0,0,IF(AND(P$22>=$H83,MOD($H83-P$22,$I83)=0),$G83,0))) -> 0 | Q83: =IF($G83="Invoer",0,IF($G83=0,0,IF(AND(Q$22>=$H83,MOD($H83-Q$22,$I83)=0),$G83,0))) -> 0 | R83: =IF($G83="Invoer",0,IF($G83=0,0,IF(AND(R$22>=$H83,MOD($H83-R$22,$I83)=0),$G83,0))) -> 0 | ... T83: =IF($G83="Invoer",0,IF($G83=0,0,IF(AND(T$22>=$H83,MOD($H83-T$22,$I83)=0),$G83,0))) -> 0 | U83: =IF(E83>4,1,0) -> 0
B84: 703 | C84: Standaanwijzing | D84: Ja | E84: 3 | F84: 2006 | G84: Invoer | H84: 2026 | I84: 20 | J84: 900 | K84: =IF($G84="Invoer",0,IF($G84=0,0,IF(AND(K$22>=$H84,MOD($H84-K$22,$I84)=0),$G84,0))) -> 0 | L84: =IF($G84="Invoer",0,IF($G84=0,0,IF(AND(L$22>=$H84,MOD($H84-L$22,$I84)=0),$G84,0))) -> 0 | M84: =IF($G84="Invoer",0,IF($G84=0,0,IF(AND(M$22>=$H84,MOD($H84-M$22,$I84)=0),$G84,0))) -> 0 | N84: =IF($G84="Invoer",0,IF($G84=0,0,IF(AND(N$22>=$H84,MOD($H84-N$22,$I84)=0),$G84,0))) -> 0 | O84: =IF($G84="Invoer",0,IF($G84=0,0,IF(AND(O$22>=$H84,MOD($H84-O$22,$I84)=0),$G84,0))) -> 0 | P84: =IF($G84="Invoer",0,IF($G84=0,0,IF(AND(P$22>=$H84,MOD($H84-P$22,$I84)=0),$G84,0))) -> 0 | Q84: =IF($G84="Invoer",0,IF($G84=0,0,IF(AND(Q$22>=$H84,MOD($H84-Q$22,$I84)=0),$G84,0))) -> 0 | R84: =IF($G84="Invoer",0,IF($G84=0,0,IF(AND(R$22>=$H84,MOD($H84-R$22,$I84)=0),$G84,0))) -> 0 | ... T84: =IF($G84="Invoer",0,IF($G84=0,0,IF(AND(T$22>=$H84,MOD($H84-T$22,$I84)=0),$G84,0))) -> 0 | U84: =IF(E84>4,1,0) -> 0
B85: 704 | C85: Spraakmodule | D85: Nee | G85: 0 | J85: 1500 | K85: =IF($G85="Invoer",0,IF($G85=0,0,IF(AND(K$22>=$H85,MOD($H85-K$22,$I85)=0),$G85,0))) -> 0 | L85: =IF($G85="Invoer",0,IF($G85=0,0,IF(AND(L$22>=$H85,MOD($H85-L$22,$I85)=0),$G85,0))) -> 0 | M85: =IF($G85="Invoer",0,IF($G85=0,0,IF(AND(M$22>=$H85,MOD($H85-M$22,$I85)=0),$G85,0))) -> 0 | N85: =IF($G85="Invoer",0,IF($G85=0,0,IF(AND(N$22>=$H85,MOD($H85-N$22,$I85)=0),$G85,0))) -> 0 | O85: =IF($G85="Invoer",0,IF($G85=0,0,IF(AND(O$22>=$H85,MOD($H85-O$22,$I85)=0),$G85,0))) -> 0 | P85: =IF($G85="Invoer",0,IF($G85=0,0,IF(AND(P$22>=$H85,MOD($H85-P$22,$I85)=0),$G85,0))) -> 0 | Q85: =IF($G85="Invoer",0,IF($G85=0,0,IF(AND(Q$22>=$H85,MOD($H85-Q$22,$I85)=0),$G85,0))) -> 0 | R85: =IF($G85="Invoer",0,IF($G85=0,0,IF(AND(R$22>=$H85,MOD($H85-R$22,$I85)=0),$G85,0))) -> 0 | ... T85: =IF($G85="Invoer",0,IF($G85=0,0,IF(AND(T$22>=$H85,MOD($H85-T$22,$I85)=0),$G85,0))) -> 0 | U85: =IF(E85>4,1,0) -> 0
B86: 705 | C86: Deur-open-knop | D86: Ja | E86: 3 | F86: 2006 | G86: Invoer | H86: 2026 | I86: 20 | J86: 250 | K86: =IF($G86="Invoer",0,IF($G86=0,0,IF(AND(K$22>=$H86,MOD($H86-K$22,$I86)=0),$G86,0))) -> 0 | L86: =IF($G86="Invoer",0,IF($G86=0,0,IF(AND(L$22>=$H86,MOD($H86-L$22,$I86)=0),$G86,0))) -> 0 | M86: =IF($G86="Invoer",0,IF($G86=0,0,IF(AND(M$22>=$H86,MOD($H86-M$22,$I86)=0),$G86,0))) -> 0 | N86: =IF($G86="Invoer",0,IF($G86=0,0,IF(AND(N$22>=$H86,MOD($H86-N$22,$I86)=0),$G86,0))) -> 0 | O86: =IF($G86="Invoer",0,IF($G86=0,0,IF(AND(O$22>=$H86,MOD($H86-O$22,$I86)=0),$G86,0))) -> 0 | P86: =IF($G86="Invoer",0,IF($G86=0,0,IF(AND(P$22>=$H86,MOD($H86-P$22,$I86)=0),$G86,0))) -> 0 | Q86: =IF($G86="Invoer",0,IF($G86=0,0,IF(AND(Q$22>=$H86,MOD($H86-Q$22,$I86)=0),$G86,0))) -> 0 | R86: =IF($G86="Invoer",0,IF($G86=0,0,IF(AND(R$22>=$H86,MOD($H86-R$22,$I86)=0),$G86,0))) -> 0 | ... T86: =IF($G86="Invoer",0,IF($G86=0,0,IF(AND(T$22>=$H86,MOD($H86-T$22,$I86)=0),$G86,0))) -> 0 | U86: =IF(E86>4,1,0) -> 0
B87: 706 | C87: Deur-sluiten-knop | D87: Ja | E87: 3 | F87: 2006 | G87: Invoer | H87: 2026 | I87: 20 | J87: 250 | K87: =IF($G87="Invoer",0,IF($G87=0,0,IF(AND(K$22>=$H87,MOD($H87-K$22,$I87)=0),$G87,0))) -> 0 | L87: =IF($G87="Invoer",0,IF($G87=0,0,IF(AND(L$22>=$H87,MOD($H87-L$22,$I87)=0),$G87,0))) -> 0 | M87: =IF($G87="Invoer",0,IF($G87=0,0,IF(AND(M$22>=$H87,MOD($H87-M$22,$I87)=0),$G87,0))) -> 0 | N87: =IF($G87="Invoer",0,IF($G87=0,0,IF(AND(N$22>=$H87,MOD($H87-N$22,$I87)=0),$G87,0))) -> 0 | O87: =IF($G87="Invoer",0,IF($G87=0,0,IF(AND(O$22>=$H87,MOD($H87-O$22,$I87)=0),$G87,0))) -> 0 | P87: =IF($G87="Invoer",0,IF($G87=0,0,IF(AND(P$22>=$H87,MOD($H87-P$22,$I87)=0),$G87,0))) -> 0 | Q87: =IF($G87="Invoer",0,IF($G87=0,0,IF(AND(Q$22>=$H87,MOD($H87-Q$22,$I87)=0),$G87,0))) -> 0 | R87: =IF($G87="Invoer",0,IF($G87=0,0,IF(AND(R$22>=$H87,MOD($H87-R$22,$I87)=0),$G87,0))) -> 0 | ... T87: =IF($G87="Invoer",0,IF($G87=0,0,IF(AND(T$22>=$H87,MOD($H87-T$22,$I87)=0),$G87,0))) -> 0 | U87: =IF(E87>4,1,0) -> 0
