Workbook

Sheet Inschrijfprijs
B2: EA2023010 Europese aanbesteding IRNA: Bijlage C - Subgunningscriterium Prijs
A3: A | B3: Kosten voor Implementatie | C3: Eenmalig | D3: ='A. Implementatie'!C7 -> 0
A4: B | B4: Kosten voor Onderhoud | C4: Jaarlijks | D4: ='B. Onderhoud'!G44 -> 0
A5: C | B5: Kosten voor Apparatuur | C5: Variabel | D5: ='C. Apparatuur'!F55 -> 0
B6: Inschrijfprijs | C6: exclusief btw | D6: =SUM(D3:D5) -> 0
B8: Naam Deelnemer
C9: Rechtsgeldig ondertekend door:
B10: Naam ondertekenaar
B11: Functie ondertekenaar
B12: Handtekening
B13: Datum

Sheet A. Implementatie
B2: Eenmalige kosten voor Implementatie *
C3: Implementatiekosten
A4: 1 | B4: Inrichten en beschikbaar maken van de Portal voor SVB gebruikers (conform het Projectplan) | C4: 0
A5: =A4+1 -> 2 | B5: Overnemen/verlengen/afsluiten van supportcontracten voorafgaand aan de Ingangsdatum | C5: 0
A6: =A5+1 -> 3 | B6: Overige werkzaamheden voor het inrichten en beschikbaar maken van de Dienstverlening | C6: 0
B7: TOTAAL | C7: =SUM(C4:C6) -> 0
B8: * Randvoorwaarden zoals beschreven in paragraaf 5.9.2 van het Beschrijvend document zijn van toepassing op dit Prijzenblad.

Sheet B. Onderhoud
B2: Maandelijkse Tarieven voor Onderhoud *
C3: 4HR Respons 24x7 | D3: NBD Reparatie 5x10 | E3: 6HR Reparatie 7x24 | F3: Maandelijks Tarief | G3: Totaalkosten
B4: Apollo 4200 Gen10 | C4: 2 with DMR | F4: 0 | G4: =F4*H4 -> 0 | H4: 2
B5: DL360 Gen10+ | C5: 4 | F5: 0 | G5: =C5*F5 -> 0
B6: ProLiant BL460c Gen10 | C6: 3 | F6: 0 | G6: =C6*F6 -> 0
B7: ProLiant BL460c Gen9 | C7: 2 | F7: 0 | G7: =C7*F7 -> 0
B8: ProLiant DL380 Gen10 | C8: 7 | F8: 0 | G8: =C8*F8 -> 0
B9: ProLiant DL380 Gen9 | C9: 1 | F9: 0 | G9: =C9*F9 -> 0
B10: Synergy 480 Gen10 | C10: 122 | F10: 0 | G10: =C10*F10 -> 0
B11: Synergy 480 Gen10 | E11: 5 | F11: 0 | G11: =E11*F11 -> 0
B12: Enclosure HPE C7000 | C12: 2 | F12: 0 | G12: =C12*F12 -> 0
B13: Enclosure HPE SY12000 | C13: 13 | F13: 0 | G13: =C13*F13 -> 0
B14: MSA2060 | C14: 2 with DMR | F14: 0 | G14: =H14*F14 -> 0 | H14: 2
B15: Primera A670 | E15: 2 with DMR | F15: 0 | G15: =H15*F15 -> 0 | H15: 2
B16: SN6600B | C16: 4 | F16: 0 | G16: =C16*F16 -> 0 | H16: 2
B17: StoreOnce 5200 | C17: 2 with DMR | F17: 0 | G17: =H17*F17 -> 0 | H17: 2
B18: HPE FF 5700-48G-4XG-2QSFP+ | D18: 6 | F18: 0 | G18: =F18*D18 -> 0
B19: HPE FF 5930-4Slot | D19: 4 | F19: 0 | G19: =F19*D19 -> 0
B20: Aruba 2920 24G POE+ Switch | D20: 256 | F20: 0 | G20: =F20*D20 -> 0
B21: Aruba 2930F 24G PoE+ 4SFP+ Swch | D21: 68 | F21: 0 | G21: =F21*D21 -> 0
B22: Aruba 3810M-16SFP_-2-slot Switch | D22: 2 | F22: 0 | G22: =F22*D22 -> 0
B23: Aruba 6300F 24G 4SFP56 Sw | D23: 18 | F23: 0 | G23: =F23*D23 -> 0
B24: Aruba 8360 24p 10G SFP_SFP_ and 2p 40_100G QSFP__QSFP28 switch | D24: 4 | F24: 0 | G24: =F24*D24 -> 0
B25: Aruba ClearPass 5K DL20 HW | D25: 2 | F25: 0 | G25: =F25*D25 -> 0
B26: HPE Aruba 5406R zl2 Switch | D26: 22 | F26: 0 | G26: =F26*D26 -> 0
B27: Gigamon GTP-A2/SF | D27: 2 | F27: 0 | G27: =F27*D27 -> 0
B28: ADVA OSA 5412 WITH OCXO | D28: 2 | F28: 0 | G28: =F28*D28 -> 0
B29: Aruba 7030 (RW) 64 AP Branch Cntlr | D29: 8 | F29: 0 | G29: =F29*D29 -> 0
... B42: TE-805-HW-AC | D42: 4 | F42: 0 | G42: =F42*D42 -> 0
F43: MAANDELIJKS | G43: =SUM(G4:G42) -> 0
B44: * Randvoorwaarden zoals beschreven in paragraaf 5.9.2 van het Beschrijvend document zijn van toepassing op dit Prijzenblad. | G44: =G43*12 -> 0

Sheet C. Apparatuur
B2: Aanschafkosten voor Apparatuur *
C4: Merknaam | D4: Aanschafprijs | E4: Aantal | F4: Totaalkosten
A5: 1 | B5: Rackserver | C5: ='1A'!$D$2 -> Merk-A | D5: ='1A'!$G$30 -> 0 | E5: 1 | F5: =SUM(D5*E5) -> 0
B6: Conform specificaties PVE | C6: ='1B'!$D$2 -> Merk-B | D6: ='1B'!$G$30 -> 0 | E6: 1 | F6: =SUM(D6*E6) -> 0
C7: ='1C'!$D$2 -> Merk-C | D7: ='1C'!$G$30 -> 0 | E7: 1 | F7: =SUM(D7*E7) -> 0
E8: SUBTOTAAL | F8: =SUM(F5:F7) -> 0
A10: 2 | B10: Bladeserver | C10: ='2A'!$D$2 -> Merk-A | D10: ='2A'!$G$30 -> 0 | E10: 10 | F10: =SUM(D10*E10) -> 0
B11: Conform specificaties PVE | C11: ='2B'!$D$2 -> Merk-B | D11: ='2B'!$G$30 -> 0 | E11: 10 | F11: =SUM(D11*E11) -> 0
C12: ='2C'!$D$2 -> Merk-C | D12: ='2C'!$G$30 -> 0 | E12: 10 | F12: =SUM(D12*E12) -> 0
E13: SUBTOTAAL | F13: =SUM(F10:F12) -> 0
A15: 3 | B15: SAN storage | C15: ='3A'!$D$2 -> Merk-A | D15: ='3A'!$G$30 -> 0 | E15: 0.15 | F15: =SUM(D15*E15) -> 0
B16: Conform specificaties PVE | C16: ='3B'!$D$2 -> Merk-B | D16: ='3B'!$G$30 -> 0 | E16: 0.15 | F16: =SUM(D16*E16) -> 0
C17: ='3C'!$D$2 -> Merk-C | D17: ='3C'!$G$30 -> 0 | E17: 0.15 | F17: =SUM(D17*E17) -> 0
E18: SUBTOTAAL | F18: =SUM(F15:F17) -> 0
A20: 4 | B20: DC Core switch/router | C20: ='4A'!$D$2 -> Merk-A | D20: ='4A'!$G$30 -> 0 | E20: =1/3 -> 0.33333333 | F20: =SUM(D20*E20) -> 0
B21: Conform specificaties PVE | C21: ='4B'!$D$2 -> Merk-B | D21: ='4B'!$G$30 -> 0 | E21: =1/3 -> 0.33333333 | F21: =SUM(D21*E21) -> 0
C22: ='4C'!$D$2 -> Merk-C | D22: ='4C'!$G$30 -> 0 | E22: =(1/3) -> 0.33333333 | F22: =SUM(D22*E22) -> 0
E23: SUBTOTAAL | F23: =SUM(F20:F22) -> 0
A25: 5 | B25: CC Core switch/router | C25: ='5A'!$D$2 -> Merk-A | D25: ='5A'!$G$30 -> 0 | E25: 1.5 | F25: =SUM(D25*E25) -> 0
B26: Conform specificaties PVE | C26: ='5B'!$D$2 -> Merk-B | D26: ='5B'!$G$30 -> 0 | E26: 1.5 | F26: =SUM(D26*E26) -> 0
C27: ='5C'!$D$2 -> Merk-C | D27: ='5C'!$G$30 -> 0 | E27: 1.5 | F27: =SUM(D27*E27) -> 0
E28: SUBTOTAAL | F28: =SUM(F25:F27) -> 0
A30: 6 | B30: Access switch | C30: ='6A'!$D$2 -> Merk-A | D30: ='6A'!$G$30 -> 0 | E30: 1.5 | F30: =SUM(D30*E30) -> 0
B31: Conform specificaties PVE | C31: ='6B'!$D$2 -> Merk-B | D31: ='6B'!$G$30 -> 0 | E31: 1.5 | F31: =SUM(D31*E31) -> 0
C32: ='6C'!$D$2 -> Merk-C | D32: ='6C'!$G$30 -> 0 | E32: 1.5 | F32: =SUM(D32*E32) -> 0
E33: SUBTOTAAL | F33: =SUM(F30:F32) -> 0
A35: 7 | B35: Access point | C35: ='7A'!$D$2 -> Merk-A | D35: ='7A'!$G$30 -> 0 | E35: 30 | F35: =SUM(D35*E35) -> 0
B36: Conform specificaties PVE | C36: ='7B'!$D$2 -> Merk-B | D36: ='7B'!$G$30 -> 0 | E36: 30 | F36: =SUM(D36*E36) -> 0
C37: ='7C'!$D$2 -> Merk-C | D37: ='7C'!$G$30 -> 0 | E37: 30 | F37: =SUM(D37*E37) -> 0
E38: SUBTOTAAL | F38: =SUM(F35:F37) -> 0
A40: 8 | B40: Application Delivery Controller | C40: ='8A'!$D$2 -> Merk-A | D40: ='8A'!$G$30 -> 0 | E40: 1.5 | F40: =SUM(D40*E40) -> 0
B41: Conform specificaties PVE | C41: ='8B'!$D$2 -> Merk-B | D41: ='8B'!$G$30 -> 0 | E41: 1.5 | F41: =SUM(D41*E41) -> 0
C42: ='8C'!$D$2 -> Merk-C | D42: ='8C'!$G$30 -> 0 | E42: 1.5 | F42: =SUM(D42*E42) -> 0
E43: SUBTOTAAL | F43: =SUM(F40:F42) -> 0
A45: 9 | B45: Firewall | C45: ='9A'!$D$2 -> Merk-A | D45: ='9A'!$G$30 -> 0 | E45: 1.5 | F45: =SUM(D45*E45) -> 0
B46: Conform specificaties PVE | C46: ='9B'!$D$2 -> Merk-B | D46: ='9B'!$G$30 -> 0 | E46: 1.5 | F46: =SUM(D46*E46) -> 0
C47: ='9C'!$D$2 -> Merk-C | D47: ='9C'!$G$30 -> 0 | E47: 1.5 | F47: =SUM(D47*E47) -> 0
E48: SUBTOTAAL | F48: =SUM(F45:F47) -> 0
A50: 10 | B50: IPAM/DHCP/DNS | C50: ='10A'!$D$2 -> Merk-A | D50: ='10A'!$G$30 -> 0 | E50: 0.75 | F50: =SUM(D50*E50) -> 0
B51: Conform specificaties PVE | C51: ='10B'!$D$2 -> Merk-B | D51: ='10B'!$G$30 -> 0 | E51: 0.75 | F51: =SUM(D51*E51) -> 0
...

Sheet 1A
B2: #1 | C2: Rackserver | D2: Merk-A
B3: Aantal | C3: Productnummer | D3: Omschrijving | E3: Listprijs | F3: Korting | G3: Totaalprijs
B4: 1 | E4: 0 | F4: 0 | G4: =B4*E4*(1-F4) -> 0
G5: =B5*E5*(1-F5) -> 0
G6: =B6*E6*(1-F6) -> 0
G7: =B7*E7*(1-F7) -> 0
G8: =B8*E8*(1-F8) -> 0
G9: =B9*E9*(1-F9) -> 0
G10: =B10*E10*(1-F10) -> 0
G11: =B11*E11*(1-F11) -> 0
G12: =B12*E12*(1-F12) -> 0
G13: =B13*E13*(1-F13) -> 0
G14: =B14*E14*(1-F14) -> 0
G15: =B15*E15*(1-F15) -> 0
G16: =B16*E16*(1-F16) -> 0
... G27: =B27*E27*(1-F27) -> 0
B29: 1 | D29: 3 jaar Onderhoud - 4HR Respons 24x7 | G29: =B29*E29*(1-F29) -> 0
E30: TOTAAL | G30: =SUM(G4:G29) -> 0

Sheet 1B
B2: #1 | C2: Rackserver | D2: Merk-B
B3: Aantal | C3: Productnummer | D3: Omschrijving | E3: Listprijs | F3: Korting | G3: Totaalprijs
B4: 1 | E4: 0 | F4: 0 | G4: =B4*E4*(1-F4) -> 0
G5: =B5*E5*(1-F5) -> 0
G6: =B6*E6*(1-F6) -> 0
G7: =B7*E7*(1-F7) -> 0
G8: =B8*E8*(1-F8) -> 0
G9: =B9*E9*(1-F9) -> 0
G10: =B10*E10*(1-F10) -> 0
G11: =B11*E11*(1-F11) -> 0
G12: =B12*E12*(1-F12) -> 0
G13: =B13*E13*(1-F13) -> 0
G14: =B14*E14*(1-F14) -> 0
G15: =B15*E15*(1-F15) -> 0
G16: =B16*E16*(1-F16) -> 0
... G27: =B27*E27*(1-F27) -> 0
B29: 1 | D29: 3 jaar Onderhoud - 4HR Respons 24x7 | G29: =B29*E29*(1-F29) -> 0
E30: TOTAAL | G30: =SUM(G4:G29) -> 0

Sheet 1C
B2: #1 | C2: Rackserver | D2: Merk-C
B3: Aantal | C3: Productnummer | D3: Omschrijving | E3: Listprijs | F3: Korting | G3: Totaalprijs
B4: 1 | E4: 0 | F4: 0 | G4: =B4*E4*(1-F4) -> 0
G5: =B5*E5*(1-F5) -> 0
G6: =B6*E6*(1-F6) -> 0
G7: =B7*E7*(1-F7) -> 0
G8: =B8*E8*(1-F8) -> 0
G9: =B9*E9*(1-F9) -> 0
G10: =B10*E10*(1-F10) -> 0
G11: =B11*E11*(1-F11) -> 0
G12: =B12*E12*(1-F12) -> 0
G13: =B13*E13*(1-F13) -> 0
G14: =B14*E14*(1-F14) -> 0
G15: =B15*E15*(1-F15) -> 0
G16: =B16*E16*(1-F16) -> 0
... G27: =B27*E27*(1-F27) -> 0
B29: 1 | D29: 3 jaar Onderhoud - 4HR Respons 24x7 | G29: =B29*E29*(1-F29) -> 0
E30: TOTAAL | G30: =SUM(G4:G29) -> 0

Sheet 2A
B2: #2 | C2: Bladeserver | D2: Merk-A
B3: Aantal | C3: Productnummer | D3: Omschrijving | E3: Listprijs | F3: Korting | G3: Totaalprijs
B4: 1 | E4: 0 | F4: 0 | G4: =B4*E4*(1-F4) -> 0
G5: =B5*E5*(1-F5) -> 0
G6: =B6*E6*(1-F6) -> 0
G7: =B7*E7*(1-F7) -> 0
G8: =B8*E8*(1-F8) -> 0
G9: =B9*E9*(1-F9) -> 0
G10: =B10*E10*(1-F10) -> 0
G11: =B11*E11*(1-F11) -> 0
G12: =B12*E12*(1-F12) -> 0
G13: =B13*E13*(1-F13) -> 0
G14: =B14*E14*(1-F14) -> 0
G15: =B15*E15*(1-F15) -> 0
G16: =B16*E16*(1-F16) -> 0
... G27: =B27*E27*(1-F27) -> 0
B29: 1 | D29: 3 jaar Onderhoud - 4HR Respons 24x7 | G29: =B29*E29*(1-F29) -> 0
E30: TOTAAL | G30: =SUM(G4:G29) -> 0

Sheet 2B
B2: #2 | C2: Bladeserver | D2: Merk-B
B3: Aantal | C3: Productnummer | D3: Omschrijving | E3: Listprijs | F3: Korting | G3: Totaalprijs
B4: 1 | E4: 0 | F4: 0 | G4: =B4*E4*(1-F4) -> 0
G5: =B5*E5*(1-F5) -> 0
G6: =B6*E6*(1-F6) -> 0
G7: =B7*E7*(1-F7) -> 0
G8: =B8*E8*(1-F8) -> 0
G9: =B9*E9*(1-F9) -> 0
G10: =B10*E10*(1-F10) -> 0
G11: =B11*E11*(1-F11) -> 0
G12: =B12*E12*(1-F12) -> 0
G13: =B13*E13*(1-F13) -> 0
G14: =B14*E14*(1-F14) -> 0
G15: =B15*E15*(1-F15) -> 0
G16: =B16*E16*(1-F16) -> 0
... G27: =B27*E27*(1-F27) -> 0
B29: 1 | D29: 3 jaar Onderhoud - 4HR Respons 24x7 | G29: =B29*E29*(1-F29) -> 0
E30: TOTAAL | G30: =SUM(G4:G29) -> 0

Sheet 2C
B2: #2 | C2: Bladeserver | D2: Merk-C
B3: Aantal | C3: Productnummer | D3: Omschrijving | E3: Listprijs | F3: Korting | G3: Totaalprijs
B4: 1 | E4: 0 | F4: 0 | G4: =B4*E4*(1-F4) -> 0
G5: =B5*E5*(1-F5) -> 0
G6: =B6*E6*(1-F6) -> 0
G7: =B7*E7*(1-F7) -> 0
G8: =B8*E8*(1-F8) -> 0
G9: =B9*E9*(1-F9) -> 0
G10: =B10*E10*(1-F10) -> 0
G11: =B11*E11*(1-F11) -> 0
G12: =B12*E12*(1-F12) -> 0
G13: =B13*E13*(1-F13) -> 0
G14: =B14*E14*(1-F14) -> 0
G15: =B15*E15*(1-F15) -> 0
G16: =B16*E16*(1-F16) -> 0
... G27: =B27*E27*(1-F27) -> 0
B29: 1 | D29: 3 jaar Onderhoud - 4HR Respons 24x7 | G29: =B29*E29*(1-F29) -> 0
E30: TOTAAL | G30: =SUM(G4:G29) -> 0

Sheet 3A
B2: #3 | C2: SAN storage | D2: Merk-A
B3: Aantal | C3: Productnummer | D3: Omschrijving | E3: Listprijs | F3: Korting | G3: Totaalprijs
B4: 1 | E4: 0 | F4: 0 | G4: =B4*E4*(1-F4) -> 0
G5: =B5*E5*(1-F5) -> 0
G6: =B6*E6*(1-F6) -> 0
G7: =B7*E7*(1-F7) -> 0
G8: =B8*E8*(1-F8) -> 0
G9: =B9*E9*(1-F9) -> 0
G10: =B10*E10*(1-F10) -> 0
G11: =B11*E11*(1-F11) -> 0
G12: =B12*E12*(1-F12) -> 0
G13: =B13*E13*(1-F13) -> 0
G14: =B14*E14*(1-F14) -> 0
G15: =B15*E15*(1-F15) -> 0
G16: =B16*E16*(1-F16) -> 0
... G27: =B27*E27*(1-F27) -> 0
B29: 1 | D29: 3 jaar Onderhoud - 4HR Respons 24x7 | G29: =B29*E29*(1-F29) -> 0
E30: TOTAAL | G30: =SUM(G4:G29) -> 0

Sheet 3B
B2: #3 | C2: SAN storage | D2: Merk-B
B3: Aantal | C3: Productnummer | D3: Omschrijving | E3: Listprijs | F3: Korting | G3: Totaalprijs
B4: 1 | E4: 0 | F4: 0 | G4: =B4*E4*(1-F4) -> 0
G5: =B5*E5*(1-F5) -> 0
G6: =B6*E6*(1-F6) -> 0
G7: =B7*E7*(1-F7) -> 0
G8: =B8*E8*(1-F8) -> 0
G9: =B9*E9*(1-F9) -> 0
G10: =B10*E10*(1-F10) -> 0
G11: =B11*E11*(1-F11) -> 0
G12: =B12*E12*(1-F12) -> 0
G13: =B13*E13*(1-F13) -> 0
G14: =B14*E14*(1-F14) -> 0
G15: =B15*E15*(1-F15) -> 0
G16: =B16*E16*(1-F16) -> 0
... G27: =B27*E27*(1-F27) -> 0
B29: 1 | D29: 3 jaar Onderhoud - 4HR Respons 24x7 | G29: =B29*E29*(1-F29) -> 0
E30: TOTAAL | G30: =SUM(G4:G29) -> 0

Sheet 3C
B2: #3 | C2: SAN storage | D2: Merk-C
B3: Aantal | C3: Productnummer | D3: Omschrijving | E3: Listprijs | F3: Korting | G3: Totaalprijs
B4: 1 | E4: 0 | F4: 0 | G4: =B4*E4*(1-F4) -> 0
G5: =B5*E5*(1-F5) -> 0
G6: =B6*E6*(1-F6) -> 0
G7: =B7*E7*(1-F7) -> 0
G8: =B8*E8*(1-F8) -> 0
G9: =B9*E9*(1-F9) -> 0
G10: =B10*E10*(1-F10) -> 0
G11: =B11*E11*(1-F11) -> 0
G12: =B12*E12*(1-F12) -> 0
G13: =B13*E13*(1-F13) -> 0
G14: =B14*E14*(1-F14) -> 0
G15: =B15*E15*(1-F15) -> 0
G16: =B16*E16*(1-F16) -> 0
... G27: =B27*E27*(1-F27) -> 0
B29: 1 | D29: 3 jaar Onderhoud - 4HR Respons 24x7 | G29: =B29*E29*(1-F29) -> 0
E30: TOTAAL | G30: =SUM(G4:G29) -> 0

Sheet 4A
B2: #4 | C2: DC Core switch/router | D2: Merk-A
B3: Aantal | C3: Productnummer | D3: Omschrijving | E3: Listprijs | F3: Korting | G3: Totaalprijs
B4: 1 | E4: 0 | F4: 0 | G4: =B4*E4*(1-F4) -> 0
G5: =B5*E5*(1-F5) -> 0
G6: =B6*E6*(1-F6) -> 0
G7: =B7*E7*(1-F7) -> 0
G8: =B8*E8*(1-F8) -> 0
G9: =B9*E9*(1-F9) -> 0
G10: =B10*E10*(1-F10) -> 0
G11: =B11*E11*(1-F11) -> 0
G12: =B12*E12*(1-F12) -> 0
G13: =B13*E13*(1-F13) -> 0
G14: =B14*E14*(1-F14) -> 0
G15: =B15*E15*(1-F15) -> 0
G16: =B16*E16*(1-F16) -> 0
... G27: =B27*E27*(1-F27) -> 0
B29: 1 | D29: 3 jaar Onderhoud - Next Business Day 5x10 | G29: =B29*E29*(1-F29) -> 0
E30: TOTAAL | G30: =SUM(G4:G29) -> 0

Sheet 4B
B2: #4 | C2: DC Core switch/router | D2: Merk-B
B3: Aantal | C3: Productnummer | D3: Omschrijving | E3: Listprijs | F3: Korting | G3: Totaalprijs
B4: 1 | E4: 0 | F4: 0 | G4: =B4*E4*(1-F4) -> 0
G5: =B5*E5*(1-F5) -> 0
G6: =B6*E6*(1-F6) -> 0
G7: =B7*E7*(1-F7) -> 0
G8: =B8*E8*(1-F8) -> 0
G9: =B9*E9*(1-F9) -> 0
G10: =B10*E10*(1-F10) -> 0
G11: =B11*E11*(1-F11) -> 0
G12: =B12*E12*(1-F12) -> 0
G13: =B13*E13*(1-F13) -> 0
G14: =B14*E14*(1-F14) -> 0
G15: =B15*E15*(1-F15) -> 0
G16: =B16*E16*(1-F16) -> 0
... G27: =B27*E27*(1-F27) -> 0
B29: 1 | D29: 3 jaar Onderhoud - Next Business Day 5x10 | G29: =B29*E29*(1-F29) -> 0
E30: TOTAAL | G30: =SUM(G4:G29) -> 0

Sheet 4C
B2: #4 | C2: DC Core switch/router | D2: Merk-C
B3: Aantal | C3: Productnummer | D3: Omschrijving | E3: Listprijs | F3: Korting | G3: Totaalprijs
B4: 1 | E4: 0 | F4: 0 | G4: =B4*E4*(1-F4) -> 0
G5: =B5*E5*(1-F5) -> 0
G6: =B6*E6*(1-F6) -> 0
G7: =B7*E7*(1-F7) -> 0
G8: =B8*E8*(1-F8) -> 0
G9: =B9*E9*(1-F9) -> 0
G10: =B10*E10*(1-F10) -> 0
G11: =B11*E11*(1-F11) -> 0
G12: =B12*E12*(1-F12) -> 0
G13: =B13*E13*(1-F13) -> 0
G14: =B14*E14*(1-F14) -> 0
G15: =B15*E15*(1-F15) -> 0
G16: =B16*E16*(1-F16) -> 0
... G27: =B27*E27*(1-F27) -> 0
B29: 1 | D29: 3 jaar Onderhoud - Next Business Day 5x10 | G29: =B29*E29*(1-F29) -> 0
E30: TOTAAL | G30: =SUM(G4:G29) -> 0

Sheet 5A
B2: #5 | C2: CC Core switch/router | D2: Merk-A
B3: Aantal | C3: Productnummer | D3: Omschrijving | E3: Listprijs | F3: Korting | G3: Totaalprijs
B4: 1 | E4: 0 | F4: 0 | G4: =B4*E4*(1-F4) -> 0
G5: =B5*E5*(1-F5) -> 0
G6: =B6*E6*(1-F6) -> 0
G7: =B7*E7*(1-F7) -> 0
G8: =B8*E8*(1-F8) -> 0
G9: =B9*E9*(1-F9) -> 0
G10: =B10*E10*(1-F10) -> 0
G11: =B11*E11*(1-F11) -> 0
G12: =B12*E12*(1-F12) -> 0
G13: =B13*E13*(1-F13) -> 0
G14: =B14*E14*(1-F14) -> 0
G15: =B15*E15*(1-F15) -> 0
G16: =B16*E16*(1-F16) -> 0
... G27: =B27*E27*(1-F27) -> 0
B29: 1 | D29: 3 jaar Onderhoud - Next Business Day 5x10 | G29: =B29*E29*(1-F29) -> 0
E30: TOTAAL | G30: =SUM(G4:G29) -> 0

Sheet 5B
B2: #5 | C2: CC Core switch/router | D2: Merk-B
B3: Aantal | C3: Productnummer | D3: Omschrijving | E3: Listprijs | F3: Korting | G3: Totaalprijs
B4: 1 | E4: 0 | F4: 0 | G4: =B4*E4*(1-F4) -> 0
G5: =B5*E5*(1-F5) -> 0
G6: =B6*E6*(1-F6) -> 0
G7: =B7*E7*(1-F7) -> 0
G8: =B8*E8*(1-F8) -> 0
G9: =B9*E9*(1-F9) -> 0
G10: =B10*E10*(1-F10) -> 0
G11: =B11*E11*(1-F11) -> 0
G12: =B12*E12*(1-F12) -> 0
G13: =B13*E13*(1-F13) -> 0
G14: =B14*E14*(1-F14) -> 0
G15: =B15*E15*(1-F15) -> 0
G16: =B16*E16*(1-F16) -> 0
... G27: =B27*E27*(1-F27) -> 0
B29: 1 | D29: 3 jaar Onderhoud - Next Business Day 5x10 | G29: =B29*E29*(1-F29) -> 0
E30: TOTAAL | G30: =SUM(G4:G29) -> 0

Sheet 5C
B2: #5 | C2: CC Core switch/router | D2: Merk-C
B3: Aantal | C3: Productnummer | D3: Omschrijving | E3: Listprijs | F3: Korting | G3: Totaalprijs
B4: 1 | E4: 0 | F4: 0 | G4: =B4*E4*(1-F4) -> 0
G5: =B5*E5*(1-F5) -> 0
G6: =B6*E6*(1-F6) -> 0
G7: =B7*E7*(1-F7) -> 0
G8: =B8*E8*(1-F8) -> 0
G9: =B9*E9*(1-F9) -> 0
G10: =B10*E10*(1-F10) -> 0
G11: =B11*E11*(1-F11) -> 0
G12: =B12*E12*(1-F12) -> 0
G13: =B13*E13*(1-F13) -> 0
G14: =B14*E14*(1-F14) -> 0
G15: =B15*E15*(1-F15) -> 0
G16: =B16*E16*(1-F16) -> 0
... G27: =B27*E27*(1-F27) -> 0
B29: 1 | D29: 3 jaar Onderhoud - Next Business Day 5x10 | G29: =B29*E29*(1-F29) -> 0
E30: TOTAAL | G30: =SUM(G4:G29) -> 0

Sheet 6A
B2: #6 | C2: Access switch | D2: Merk-A
B3: Aantal | C3: Productnummer | D3: Omschrijving | E3: Listprijs | F3: Korting | G3: Totaalprijs
B4: 1 | E4: 0 | F4: 0 | G4: =B4*E4*(1-F4) -> 0
G5: =B5*E5*(1-F5) -> 0
G6: =B6*E6*(1-F6) -> 0
G7: =B7*E7*(1-F7) -> 0
G8: =B8*E8*(1-F8) -> 0
G9: =B9*E9*(1-F9) -> 0
G10: =B10*E10*(1-F10) -> 0
G11: =B11*E11*(1-F11) -> 0
G12: =B12*E12*(1-F12) -> 0
G13: =B13*E13*(1-F13) -> 0
G14: =B14*E14*(1-F14) -> 0
G15: =B15*E15*(1-F15) -> 0
G16: =B16*E16*(1-F16) -> 0
... G27: =B27*E27*(1-F27) -> 0
B29: 1 | D29: 3 jaar Onderhoud - Next Business Day 5x10 | G29: =B29*E29*(1-F29) -> 0
E30: TOTAAL | G30: =SUM(G4:G29) -> 0

Sheet 6B
B2: #6 | C2: Access switch | D2: Merk-B
B3: Aantal | C3: Productnummer | D3: Omschrijving | E3: Listprijs | F3: Korting | G3: Totaalprijs
B4: 1 | E4: 0 | F4: 0 | G4: =B4*E4*(1-F4) -> 0
G5: =B5*E5*(1-F5) -> 0
G6: =B6*E6*(1-F6) -> 0
G7: =B7*E7*(1-F7) -> 0
G8: =B8*E8*(1-F8) -> 0
G9: =B9*E9*(1-F9) -> 0
G10: =B10*E10*(1-F10) -> 0
G11: =B11*E11*(1-F11) -> 0
G12: =B12*E12*(1-F12) -> 0
G13: =B13*E13*(1-F13) -> 0
G14: =B14*E14*(1-F14) -> 0
G15: =B15*E15*(1-F15) -> 0
G16: =B16*E16*(1-F16) -> 0
... G27: =B27*E27*(1-F27) -> 0
B29: 1 | D29: 3 jaar Onderhoud - Next Business Day 5x10 | G29: =B29*E29*(1-F29) -> 0
E30: TOTAAL | G30: =SUM(G4:G29) -> 0

Sheet 6C
B2: #6 | C2: Access switch | D2: Merk-C
B3: Aantal | C3: Productnummer | D3: Omschrijving | E3: Listprijs | F3: Korting | G3: Totaalprijs
B4: 1 | E4: 0 | F4: 0 | G4: =B4*E4*(1-F4) -> 0
G5: =B5*E5*(1-F5) -> 0
G6: =B6*E6*(1-F6) -> 0
G7: =B7*E7*(1-F7) -> 0
G8: =B8*E8*(1-F8) -> 0
G9: =B9*E9*(1-F9) -> 0
G10: =B10*E10*(1-F10) -> 0
G11: =B11*E11*(1-F11) -> 0
G12: =B12*E12*(1-F12) -> 0
G13: =B13*E13*(1-F13) -> 0
G14: =B14*E14*(1-F14) -> 0
G15: =B15*E15*(1-F15) -> 0
G16: =B16*E16*(1-F16) -> 0
... G27: =B27*E27*(1-F27) -> 0
B29: 1 | D29: 3 jaar Onderhoud - Next Business Day 5x10 | G29: =B29*E29*(1-F29) -> 0
E30: TOTAAL | G30: =SUM(G4:G29) -> 0

Sheet 7A
B2: #7 | C2: Access point | D2: Merk-A
B3: Aantal | C3: Productnummer | D3: Omschrijving | E3: Listprijs | F3: Korting | G3: Totaalprijs
B4: 1 | E4: 0 | F4: 0 | G4: =B4*E4*(1-F4) -> 0
G5: =B5*E5*(1-F5) -> 0
G6: =B6*E6*(1-F6) -> 0
G7: =B7*E7*(1-F7) -> 0
G8: =B8*E8*(1-F8) -> 0
G9: =B9*E9*(1-F9) -> 0
G10: =B10*E10*(1-F10) -> 0
G11: =B11*E11*(1-F11) -> 0
G12: =B12*E12*(1-F12) -> 0
G13: =B13*E13*(1-F13) -> 0
G14: =B14*E14*(1-F14) -> 0
G15: =B15*E15*(1-F15) -> 0
G16: =B16*E16*(1-F16) -> 0
... G27: =B27*E27*(1-F27) -> 0
B29: 1 | D29: 3 jaar Onderhoud - Next Business Day 5x10 | G29: =B29*E29*(1-F29) -> 0
E30: TOTAAL | G30: =SUM(G4:G29) -> 0

Sheet 7B
B2: #7 | C2: Access point | D2: Merk-B
B3: Aantal | C3: Productnummer | D3: Omschrijving | E3: Listprijs | F3: Korting | G3: Totaalprijs
B4: 1 | E4: 0 | F4: 0 | G4: =B4*E4*(1-F4) -> 0
G5: =B5*E5*(1-F5) -> 0
G6: =B6*E6*(1-F6) -> 0
G7: =B7*E7*(1-F7) -> 0
G8: =B8*E8*(1-F8) -> 0
G9: =B9*E9*(1-F9) -> 0
G10: =B10*E10*(1-F10) -> 0
G11: =B11*E11*(1-F11) -> 0
G12: =B12*E12*(1-F12) -> 0
G13: =B13*E13*(1-F13) -> 0
G14: =B14*E14*(1-F14) -> 0
G15: =B15*E15*(1-F15) -> 0
G16: =B16*E16*(1-F16) -> 0
... G27: =B27*E27*(1-F27) -> 0
B29: 1 | D29: 3 jaar Onderhoud - Next Business Day 5x10 | G29: =B29*E29*(1-F29) -> 0
E30: TOTAAL | G30: =SUM(G4:G29) -> 0

Sheet 7C
B2: #7 | C2: Access point | D2: Merk-C
B3: Aantal | C3: Productnummer | D3: Omschrijving | E3: Listprijs | F3: Korting | G3: Totaalprijs
B4: 1 | E4: 0 | F4: 0 | G4: =B4*E4*(1-F4) -> 0
G5: =B5*E5*(1-F5) -> 0
G6: =B6*E6*(1-F6) -> 0
G7: =B7*E7*(1-F7) -> 0
G8: =B8*E8*(1-F8) -> 0
G9: =B9*E9*(1-F9) -> 0
G10: =B10*E10*(1-F10) -> 0
G11: =B11*E11*(1-F11) -> 0
G12: =B12*E12*(1-F12) -> 0
G13: =B13*E13*(1-F13) -> 0
G14: =B14*E14*(1-F14) -> 0
G15: =B15*E15*(1-F15) -> 0
G16: =B16*E16*(1-F16) -> 0
... G27: =B27*E27*(1-F27) -> 0
B29: 1 | D29: 3 jaar Onderhoud - Next Business Day 5x10 | G29: =B29*E29*(1-F29) -> 0
E30: TOTAAL | G30: =SUM(G4:G29) -> 0

Sheet 8A
B2: #8 | C2: Application Delivery Controller | D2: Merk-A
B3: Aantal | C3: Productnummer | D3: Omschrijving | E3: Listprijs | F3: Korting | G3: Totaalprijs
B4: 1 | E4: 0 | F4: 0 | G4: =B4*E4*(1-F4) -> 0
G5: =B5*E5*(1-F5) -> 0
G6: =B6*E6*(1-F6) -> 0
G7: =B7*E7*(1-F7) -> 0
G8: =B8*E8*(1-F8) -> 0
G9: =B9*E9*(1-F9) -> 0
G10: =B10*E10*(1-F10) -> 0
G11: =B11*E11*(1-F11) -> 0
G12: =B12*E12*(1-F12) -> 0
G13: =B13*E13*(1-F13) -> 0
G14: =B14*E14*(1-F14) -> 0
G15: =B15*E15*(1-F15) -> 0
G16: =B16*E16*(1-F16) -> 0
... G27: =B27*E27*(1-F27) -> 0
B29: 1 | D29: 3 jaar Onderhoud - Next Business Day 5x10 | G29: =B29*E29*(1-F29) -> 0
E30: TOTAAL | G30: =SUM(G4:G29) -> 0

Sheet 8B
B2: #8 | C2: Application Delivery Controller | D2: Merk-B
B3: Aantal | C3: Productnummer | D3: Omschrijving | E3: Listprijs | F3: Korting | G3: Totaalprijs
B4: 1 | E4: 0 | F4: 0 | G4: =B4*E4*(1-F4) -> 0
G5: =B5*E5*(1-F5) -> 0
G6: =B6*E6*(1-F6) -> 0
G7: =B7*E7*(1-F7) -> 0
G8: =B8*E8*(1-F8) -> 0
G9: =B9*E9*(1-F9) -> 0
G10: =B10*E10*(1-F10) -> 0
G11: =B11*E11*(1-F11) -> 0
G12: =B12*E12*(1-F12) -> 0
G13: =B13*E13*(1-F13) -> 0
G14: =B14*E14*(1-F14) -> 0
G15: =B15*E15*(1-F15) -> 0
G16: =B16*E16*(1-F16) -> 0
... G27: =B27*E27*(1-F27) -> 0
B29: 1 | D29: 3 jaar Onderhoud - Next Business Day 5x10 | G29: =B29*E29*(1-F29) -> 0
E30: TOTAAL | G30: =SUM(G4:G29) -> 0

Sheet 8C
B2: #8 | C2: Application Delivery Controller | D2: Merk-C
B3: Aantal | C3: Productnummer | D3: Omschrijving | E3: Listprijs | F3: Korting | G3: Totaalprijs
B4: 1 | E4: 0 | F4: 0 | G4: =B4*E4*(1-F4) -> 0
G5: =B5*E5*(1-F5) -> 0
G6: =B6*E6*(1-F6) -> 0
G7: =B7*E7*(1-F7) -> 0
G8: =B8*E8*(1-F8) -> 0
G9: =B9*E9*(1-F9) -> 0
G10: =B10*E10*(1-F10) -> 0
G11: =B11*E11*(1-F11) -> 0
G12: =B12*E12*(1-F12) -> 0
G13: =B13*E13*(1-F13) -> 0
G14: =B14*E14*(1-F14) -> 0
G15: =B15*E15*(1-F15) -> 0
G16: =B16*E16*(1-F16) -> 0
... G27: =B27*E27*(1-F27) -> 0
B29: 1 | D29: 3 jaar Onderhoud - Next Business Day 5x10 | G29: =B29*E29*(1-F29) -> 0
E30: TOTAAL | G30: =SUM(G4:G29) -> 0

Sheet 9A
B2: #9 | C2: Firewall | D2: Merk-A
B3: Aantal | C3: Productnummer | D3: Omschrijving | E3: Listprijs | F3: Korting | G3: Totaalprijs
B4: 1 | E4: 0 | F4: 0 | G4: =B4*E4*(1-F4) -> 0
G5: =B5*E5*(1-F5) -> 0
G6: =B6*E6*(1-F6) -> 0
G7: =B7*E7*(1-F7) -> 0
G8: =B8*E8*(1-F8) -> 0
G9: =B9*E9*(1-F9) -> 0
G10: =B10*E10*(1-F10) -> 0
G11: =B11*E11*(1-F11) -> 0
G12: =B12*E12*(1-F12) -> 0
G13: =B13*E13*(1-F13) -> 0
G14: =B14*E14*(1-F14) -> 0
G15: =B15*E15*(1-F15) -> 0
G16: =B16*E16*(1-F16) -> 0
... G27: =B27*E27*(1-F27) -> 0
B29: 1 | D29: 3 jaar Onderhoud - Next Business Day 5x10 | G29: =B29*E29*(1-F29) -> 0
E30: TOTAAL | G30: =SUM(G4:G29) -> 0

Sheet 9B
B2: #9 | C2: Firewall | D2: Merk-B
B3: Aantal | C3: Productnummer | D3: Omschrijving | E3: Listprijs | F3: Korting | G3: Totaalprijs
B4: 1 | E4: 0 | F4: 0 | G4: =B4*E4*(1-F4) -> 0
G5: =B5*E5*(1-F5) -> 0
G6: =B6*E6*(1-F6) -> 0
G7: =B7*E7*(1-F7) -> 0
G8: =B8*E8*(1-F8) -> 0
G9: =B9*E9*(1-F9) -> 0
G10: =B10*E10*(1-F10) -> 0
G11: =B11*E11*(1-F11) -> 0
G12: =B12*E12*(1-F12) -> 0
G13: =B13*E13*(1-F13) -> 0
G14: =B14*E14*(1-F14) -> 0
G15: =B15*E15*(1-F15) -> 0
G16: =B16*E16*(1-F16) -> 0
... G27: =B27*E27*(1-F27) -> 0
B29: 1 | D29: 3 jaar Onderhoud - Next Business Day 5x10 | G29: =B29*E29*(1-F29) -> 0
E30: TOTAAL | G30: =SUM(G4:G29) -> 0

Sheet 9C
B2: #9 | C2: Firewall | D2: Merk-C
B3: Aantal | C3: Productnummer | D3: Omschrijving | E3: Listprijs | F3: Korting | G3: Totaalprijs
B4: 1 | E4: 0 | F4: 0 | G4: =B4*E4*(1-F4) -> 0
G5: =B5*E5*(1-F5) -> 0
G6: =B6*E6*(1-F6) -> 0
G7: =B7*E7*(1-F7) -> 0
G8: =B8*E8*(1-F8) -> 0
G9: =B9*E9*(1-F9) -> 0
G10: =B10*E10*(1-F10) -> 0
G11: =B11*E11*(1-F11) -> 0
G12: =B12*E12*(1-F12) -> 0
G13: =B13*E13*(1-F13) -> 0
G14: =B14*E14*(1-F14) -> 0
G15: =B15*E15*(1-F15) -> 0
G16: =B16*E16*(1-F16) -> 0
... G27: =B27*E27*(1-F27) -> 0
B29: 1 | D29: 3 jaar Onderhoud - Next Business Day 5x10 | G29: =B29*E29*(1-F29) -> 0
E30: TOTAAL | G30: =SUM(G4:G29) -> 0

Sheet 10A
B2: #10 | C2: IPAM/DHCP/DNS | D2: Merk-A
B3: Aantal | C3: Productnummer | D3: Omschrijving | E3: Listprijs | F3: Korting | G3: Totaalprijs
B4: 1 | E4: 0 | F4: 0 | G4: =B4*E4*(1-F4) -> 0
G5: =B5*E5*(1-F5) -> 0
G6: =B6*E6*(1-F6) -> 0
G7: =B7*E7*(1-F7) -> 0
G8: =B8*E8*(1-F8) -> 0
G9: =B9*E9*(1-F9) -> 0
G10: =B10*E10*(1-F10) -> 0
G11: =B11*E11*(1-F11) -> 0
G12: =B12*E12*(1-F12) -> 0
G13: =B13*E13*(1-F13) -> 0
G14: =B14*E14*(1-F14) -> 0
G15: =B15*E15*(1-F15) -> 0
G16: =B16*E16*(1-F16) -> 0
... G27: =B27*E27*(1-F27) -> 0
B29: 1 | D29: 3 jaar Onderhoud - Next Business Day 5x10 | G29: =B29*E29*(1-F29) -> 0
E30: TOTAAL | G30: =SUM(G4:G29) -> 0

Sheet 10B
B2: #10 | C2: IPAM/DHCP/DNS | D2: Merk-B
B3: Aantal | C3: Productnummer | D3: Omschrijving | E3: Listprijs | F3: Korting | G3: Totaalprijs
B4: 1 | E4: 0 | F4: 0 | G4: =B4*E4*(1-F4) -> 0
G5: =B5*E5*(1-F5) -> 0
G6: =B6*E6*(1-F6) -> 0
G7: =B7*E7*(1-F7) -> 0
G8: =B8*E8*(1-F8) -> 0
G9: =B9*E9*(1-F9) -> 0
G10: =B10*E10*(1-F10) -> 0
G11: =B11*E11*(1-F11) -> 0
G12: =B12*E12*(1-F12) -> 0
G13: =B13*E13*(1-F13) -> 0
G14: =B14*E14*(1-F14) -> 0
G15: =B15*E15*(1-F15) -> 0
G16: =B16*E16*(1-F16) -> 0
... G27: =B27*E27*(1-F27) -> 0
B29: 1 | D29: 3 jaar Onderhoud - Next Business Day 5x10 | G29: =B29*E29*(1-F29) -> 0
E30: TOTAAL | G30: =SUM(G4:G29) -> 0

Sheet 10C
B2: #10 | C2: IPAM/DHCP/DNS | D2: Merk-C
B3: Aantal | C3: Productnummer | D3: Omschrijving | E3: Listprijs | F3: Korting | G3: Totaalprijs
B4: 1 | E4: 0 | F4: 0 | G4: =B4*E4*(1-F4) -> 0
G5: =B5*E5*(1-F5) -> 0
G6: =B6*E6*(1-F6) -> 0
G7: =B7*E7*(1-F7) -> 0
G8: =B8*E8*(1-F8) -> 0
G9: =B9*E9*(1-F9) -> 0
G10: =B10*E10*(1-F10) -> 0
G11: =B11*E11*(1-F11) -> 0
G12: =B12*E12*(1-F12) -> 0
G13: =B13*E13*(1-F13) -> 0
G14: =B14*E14*(1-F14) -> 0
G15: =B15*E15*(1-F15) -> 0
G16: =B16*E16*(1-F16) -> 0
... G27: =B27*E27*(1-F27) -> 0
B29: 1 | D29: 3 jaar Onderhoud - Next Business Day 5x10 | G29: =B29*E29*(1-F29) -> 0
E30: TOTAAL | G30: =SUM(G4:G29) -> 0
