Workbook

Sheet Uitleg
B1: Bijlage 10 - Opzet prijsblad

Sheet Dashboard
C5: Jaar 1 | D5: Jaar 2 | E5: Jaar 3 | F5: Jaar 4
B6: 1. Eenmalige kosten | C6: ='1. Eenmalige kosten'!G36 -> 0 | D6: 0 | E6: 0 | F6: 0
B7: 2. Reguliere kosten | C7: ='2. Reguliere kosten per uur'!G12 -> 0 | D7: ='2. Reguliere kosten per uur'!G12 -> 0 | E7: ='2. Reguliere kosten per uur'!G12 -> 0 | F7: ='2. Reguliere kosten per uur'!G12 -> 0
B8: 3. Jaarlijkse vaste & service kosten | C8: ='3.Jaarlijks vaste en service k'!G18 -> 0 | D8: ='3.Jaarlijks vaste en service k'!G18 -> 0 | E8: ='3.Jaarlijks vaste en service k'!G18 -> 0 | F8: ='3.Jaarlijks vaste en service k'!G18 -> 0
B9: 4. Gebruikerskosten post o.b.v. prijslijst | C9: ='4. Prijslijst Post'!H9 -> 0 | D9: ='4. Prijslijst Post'!J9 -> 0 | E9: ='4. Prijslijst Post'!L9 -> 0 | F9: ='4. Prijslijst Post'!N9 -> 0
B10: 5. Gebruikerskosten GV o.b.v. prijslijst | C10: ='5. Prijslijst GV'!F31 -> 0 | D10: ='5. Prijslijst GV'!H31 -> 0 | E10: ='5. Prijslijst GV'!J31 -> 0 | F10: ='5. Prijslijst GV'!L31 -> 0
B11: 6. Staffels | C11: ='6. Staffels'!I45 -> 0 | D11: ='6. Staffels'!K45 -> 0 | E11: ='6. Staffels'!M45 -> 0 | F11: ='6. Staffels'!O45 -> 0
B13: Totaal kosten | C13: =SUM(C6:C11) -> 0 | D13: =SUM(D6:D11) -> 0 | E13: =SUM(E6:E11) -> 0 | F13: =SUM(F6:F11) -> 0
B15: Inschrijfsom | C15: =SUM(C13:F13) -> 0

Sheet 1. Eenmalige kosten
A1: Eenmalig | B1: Prd 1. Configuratie/implementatie van systeem (technische implementatie)
E2: Uren | F2: Uurtarief | G2: Kosten
B3: Technische inrichting van de Oplossing voor het CBR | F3: 0 | G3: =E3*F3 -> 0
B4: Prd 1. Technische Inrichting van product
A5: Eenmalig | B5: Technische inrichting van de Oplossing voor het CBR
B6: Datadictionary
B7: CBR Huisstijl
B8: Hoofdontwerp
B9: Inrichten workflow
B10: Inrichting over de keten
B11: Metadata koppelen voor archivering
B12: Inrichten gebruikersinterface
B13: Inrichten gebruikersprofielen
B14: Ontwikkelen bedrijfsprotocol en technische wijzigingen
B15: (API-koppelingen, SSO, Azure AD)
B16: Integratie in CBR Architectuur en infrastructuur
B17: Interfacing van en naar Bronsysteem
B18: Interfacing naar Printinfrastructuur
B19: Interfacing naar rapportagetools | E19: Uren | F19: Uurtarief | G19: Kosten
B20: Basisinrichting van de oplossing | E20: 0 | F20: 0 | G20: =E20*F20 -> 0
B22: Prd 2. Trainingen
A23: Eenmalig | B23: Opgave is per dagdeel - 4 uren | E23: Uren | F23: Uurtarief | G23: Kosten
B24: Eindgebruikers *) | E24: 4 | F24: 0 | G24: =E24*F24 -> 0
B25: Beheerders*) | E25: 4 | F25: 0 | G25: =E25*F25 -> 0
B27: Prd 3. Pakket Consultancy
A28: Eenmalig | C28: niveau consultant | E28: Uren | F28: Uurtarief | G28: Kosten
A29: Of in later stadium af te nemen | B29: Geschatte inzet voor consultancy | C29: junior | E29: 0 | F29: 0 | G29: =E29*F29 -> 0
B30: t.b.v. bijvoorbeeld transitie Brievenset, gezondheidsverklaring | C30: medior | E30: 0 | F30: 0 | G30: =E30*F30 -> 0
C31: senior | E31: 0 | F31: 0 | G31: =E31*F31 -> 0
E36: Totaaldeel inschrijfsom Eenmalige kosten | G36: =SUM(G29:G31)+SUM(G24:G25)+G20 -> 0
E37: Enkel in jaar 1 van toepassing

Sheet 2. Reguliere kosten per uur
A3: Prd. 4 Reguliere consultancy kosten per uur
A4: Eenmalig / Jaarlijks / Gebruikerskosten | C4: niveau consultant | E4: Uren (fictief) | F4: Uurtarief | G4: Kosten
B5: Additionele Consultancy inzet per uur | C5: junior | E5: 100 | F5: 0 | G5: =E5*F5 -> 0
B6: (Optioneel en op afroep af te nemen) | C6: medior | E6: 100 | F6: 0 | G6: =E6*F6 -> 0
B7: *ter vaststelling van uurtarief enkele uren | C7: senior | E7: 100 | F7: 0 | G7: =E7*F7 -> 0
E11: Totaaldeel uurtarief | G11: =SUM(G5:G7) -> 0 | H11: Wegingsfactor is 30%
E12: Onderdeel van inschrijfsom | G12: =G11*30% -> 0

Sheet 3.Jaarlijks vaste en service k
A3: Jaarlijks | B3: Prd 5. Kosten SaaS-applicatie/Platform | E3: Gebruikers/aantal | F3: Korting/Prijs | G3: Kosten
B4: (Platform, maintenance, named users) | C4: Vaste kosten (licentie) per jaar en/of | E4: 1 | F4: 0
C5: Kosten per gebruiker per jaar | E5: 20 | F5: 0 | G5: =E5*F5 -> 0
A6: Vaste kosten | C6: Korting meerjaren overeenkomst | E6: Kortingspercentage | F6: 0 | G6: =F4*(1-F6) -> 0 | H6: (indien ingevuld is meerjarenprijs geldig voor drie jaar)
C8: Subtotaal per jaar | G8: =SUM(G4:G6) -> 0
B10: Prd 6. Kosten Support (SLA/DAP) | G10: Kosten
A11: Service kosten | B11: Support kosten | C11: Vaste kosten per jaar | G11: 0 | H11: (kan ingevuld worden, hoeft niet)
B12: Inschrijver dient een bedrag voor onderhoud in te vullen waarbij in de praktijk voldaan wordt aan
B13: alle technische en service eisen uit de aanbesteding, zoals genoemd in het PVE en de SLA en overige documenten
C14: Totaal jaarlijkse support | G14: =SUM(G11:G11) -> 0
E18: Totaaldeel inschrijfsom jaarlijkse kosten | G18: =G8+G14 -> 0

Sheet 4. Prijslijst Post
G2: Jaar 1 | I2: Jaar 2 | K2: Jaar 3 | M2: Jaar 4
A3: Jaarlijkse gebruikerskosten | E3: Tarieflijst | G3: Aantallen | H3: Som | I3: Aantallen | J3: Som | K3: Aantallen | L3: Som | M3: Aantallen | N3: Som
B4: Prd 7. Printen | C4: Blanco papier/A4 formaat 90 gram - FSC/12 inch 2-up | E4: 0 | G4: 2000000 | H4: =G4*$E4 -> 0 | I4: =G4 -> 2000000 | J4: =I4*$E4 -> 0 | K4: =G4 -> 2000000 | L4: =K4*$E4 -> 0 | M4: =G4 -> 2000000 | N4: =M4*$E4 -> 0
C5: Couverteren/1 insteker/tot formaat C5 | E5: 0 | G5: 800000 | H5: =G5*$E5 -> 0 | I5: =G5 -> 800000 | J5: =I5*$E5 -> 0 | K5: =G5 -> 800000 | L5: =K5*$E5 -> 0 | M5: =G5 -> 800000 | N5: =M5*$E5 -> 0
C6: Couverteren/1 insteker/tot formaat C4 | E6: 0 | G6: 20000 | H6: =G6*$E6 -> 0 | I6: =G6 -> 20000 | J6: =I6*$E6 -> 0 | K6: =G6 -> 20000 | L6: =K6*$E6 -> 0 | M6: =G6 -> 20000 | N6: =M6*$E6 -> 0
B7: Prd 8. Betekend | C7: Aanhechten akte (op C4 envelop) | E7: 0 | G7: 20000 | H7: =G7*$E7 -> 0 | I7: =G7 -> 20000 | J7: =I7*$E7 -> 0 | K7: =G7 -> 20000 | L7: =K7*$E7 -> 0 | M7: =G7 -> 20000 | N7: =M7*$E7 -> 0
C9: Totaaldeel inschrijfsomjaarlijkse gebruikerskosten stukprijs o.b.v. prijslijst | H9: =SUM(H4:H7) -> 0 | J9: =SUM(J4:J7) -> 0 | L9: =SUM(L4:L7) -> 0 | N9: =SUM(N4:N7) -> 0

Sheet 5. Prijslijst GV
A1: Gezondheidsverklaringen (voor specificaties zie bijlage 6) | E1: Jaar 1 | G1: Jaar 2 | I1: Jaar 3 | K1: Jaar 4
B2: Prd. 9 Printen adresdrager, Gezondheidsverklaring, flyer & envelop | C2: Tarief | E2: Aantallen | F2: Som | G2: Aantallen | H2: Som | I2: Aantallen | J2: Som | K2: Aantallen | L2: Som
B3: Printen adresdragers (1 A4, enkelzijdig) | C3: 0 | E3: 11000 | F3: =E3*$C3 -> 0 | G3: 11000 | H3: =G3*$C3 -> 0 | I3: 11000 | J3: =I3*$C3 -> 0 | K3: 11000 | L3: =K3*$C3 -> 0
B5: Printen Gezondheidsverklaringen
B6: GV recreatievaart via webshop of Klantenservice: verwerkingskosten printen GV's, vouwen en couverteren (A4) | C6: 0 | E6: 750 | F6: =E6*$C6 -> 0 | G6: 750 | H6: =G6*$C6 -> 0 | I6: 750 | J6: =I6*$C6 -> 0 | K6: 750 | L6: =K6*$C6 -> 0
B7: Printen alls GV's Rijbewijs /75+ / groot rijbewijs (particulier & gemeentes/instellingen): Verwerkingskosten printen formulieren, vouwen en couverteren (A3) | C7: 0 | E7: 100000 | F7: =E7*$C7 -> 0 | G7: 100000 | H7: =G7*$C7 -> 0 | I7: 100000 | J7: =I7*$C7 -> 0 | K7: 100000 | L7: =K7*$C7 -> 0
B8: GV via webshop of Klantenservice: printen adresdrager vouwen en couverteren | C8: 0 | E8: 12000 | F8: =E8*$C8 -> 0 | G8: 12000 | H8: =G8*$C8 -> 0 | I8: 12000 | J8: =I8*$C8 -> 0 | K8: 12000 | L8: =K8*$C8 -> 0
B10: Printen enveloppen
B11: Retourenveloppen algemeen (156 x 215 mm): 'medisch beroepsgeheim' | C11: 0 | E11: 100000 | F11: =E11*$C11 -> 0 | G11: 100000 | H11: =G11*$C11 -> 0 | I11: 100000 | J11: =I11*$C11 -> 0 | K11: 100000 | L11: =K11*$C11 -> 0
B12: Retourenveloppen vaarbewijzen (156 x 215 mm): 'medisch beroepsgeheim' | C12: 0 | E12: 750 | F12: =E12*$C12 -> 0 | G12: 750 | H12: =G12*$C12 -> 0 | I12: 750 | J12: =I12*$C12 -> 0 | K12: 750 | L12: =K12*$C12 -> 0
B13: Om-enveloppen (gemeente versie / 162 x 229 mm) | C13: 0 | E13: 100000 | F13: =E13*$C13 -> 0 | G13: 100000 | H13: =G13*$C13 -> 0 | I13: 100000 | J13: =I13*$C13 -> 0 | K13: 100000 | L13: =K13*$C13 -> 0
B15: Printen informatieflyer | C15: 0 | E15: 100000 | F15: =E15*$C15 -> 0 | G15: 100000 | H15: =G15*$C15 -> 0 | I15: 100000 | J15: =I15*$C15 -> 0 | K15: 100000 | L15: =K15*$C15 -> 0
B17: Printen Invulhulp tbv Gezondheidsverklaringen
B18: Versie tbv GV Rijbewijs | C18: 0 | E18: 2500 | F18: =E18*$C18 -> 0 | G18: 2500 | H18: =G18*$C18 -> 0 | I18: 2500 | J18: =I18*$C18 -> 0 | K18: 2500 | L18: =K18*$C18 -> 0
B19: Versie tbv GV 75+ | C19: 0 | E19: 96000 | F19: =E19*$C19 -> 0 | G19: 96000 | H19: =G19*$C19 -> 0 | I19: 96000 | J19: =I19*$C19 -> 0 | K19: 96000 | L19: =K19*$C19 -> 0
B20: Versie tbv GV Groot Rijbewijs | C20: 0 | E20: 1500 | F20: =E20*$C20 -> 0 | G20: 1500 | H20: =G20*$C20 -> 0 | I20: 1500 | J20: =I20*$C20 -> 0 | K20: 1500 | L20: =K20*$C20 -> 0
B23: Prd 10. Samenstelling mailpack Gezondheidsverklaring
B24: Mailpack particulier
B25: Voertuig; Envelop met adresdrager, GV, invulhulp, flyer, retourenvelop | C25: 0 | E25: 10000 | F25: =E25*$C25 -> 0 | G25: 10000 | H25: =G25*$C25 -> 0 | I25: 10000 | J25: =I25*$C25 -> 0 | K25: 10000 | L25: =K25*$C25 -> 0
B26: Vaartuig; Envelop met adresdrager, GV, retourenvelop | C26: 0 | E26: 1000 | F26: =E26*$C26 -> 0 | G26: 1000 | H26: =G26*$C26 -> 0 | I26: 1000 | J26: =I26*$C26 -> 0 | K26: 1000 | L26: =K26*$C26 -> 0
B28: Mailpakc tbv verzending via gemeente/instellingen
B29: Envelop met GV, invulhulp, flyer, retourenvelop | C29: 0 | E29: 90000 | F29: =E29*$C29 -> 0 | G29: 90000 | H29: =G29*$C29 -> 0 | I29: 90000 | J29: =I29*$C29 -> 0 | K29: 90000 | L29: =K29*$C29 -> 0
F31: =SUM(F3:F29) -> 0 | H31: =SUM(H3:H29) -> 0 | J31: =SUM(J3:J29) -> 0 | L31: =SUM(L3:L29) -> 0

Sheet 6. Staffels
H1: Jaar 1 | J1: Jaar 2 | L1: Jaar 3 | N1: Jaar 4
A2: Jaarlijkse gebruikerskosten | E2: Abonnementstarief | H2: Aantallen | I2: Som | J2: Aantallen | K2: Som | L2: Aantallen | M2: Som | N2: Aantallen | O2: Som | P2: Kans op in gebruikname
E3: o.b.v. staffel | P3: en daarmee wegingsfactor
A4: Prd 11. Mail | B4: 20 miljoen ( 10 miljoen = Rg & 10 miljoen = andere divisies) | P4: 1 | Q4: Zekerheid
B5: Staffel | C5: Staffelwaarde
B6: Level 1 | C6: 0 tot 5 miljoen | E6: 0 | F6: Prijs per mail in deze staffel | I6: =H6*$E6 -> 0 | K6: =J6*$E6 -> 0 | M6: =L6*$E6 -> 0 | O6: =N6*$E6 -> 0
B7: Level 2 | C7: 5 tot 10 miljoen | E7: 0 | F7: Prijs per mail in deze staffel | H7: 7500000 | I7: =H7*$E7 -> 0 | K7: =J7*$E7 -> 0 | M7: =L7*$E7 -> 0 | O7: =N7*$E7 -> 0
B8: Level 3 | C8: 10 miljoen tot 15 miljoen | E8: 0 | F8: Prijs per mail in deze staffel | I8: =H8*$E8 -> 0 | J8: 10000000 | K8: =J8*$E8 -> 0 | L8: 14000000 | M8: =L8*$E8 -> 0 | O8: =N8*$E8 -> 0
B9: Level 4 | C9: 15 miljoen+ | E9: 0 | F9: Prijs per mail in deze staffel | I9: =H9*$E9 -> 0 | K9: =J9*$E9 -> 0 | M9: =L9*$E9 -> 0 | N9: 21000000 | O9: =N9*$E9 -> 0
E11: Tarief
A12: Prd 12. Aangetekende Mail | B12: 20 miljoen ( 10 miljoen = Rg & 10 miljoen = andere divisies) | P12: 1 | Q12: Zekerheid
B13: Staffel | C13: Staffelwaarde
B14: Level 1 | C14: 0 tot 50K | E14: 0 | F14: Prijs per mail in deze staffel | H14: 40000 | I14: =H14*$E14 -> 0 | K14: =J14*$E14 -> 0 | M14: =L14*$D13 -> 0 | O14: =N14*$E14 -> 0
B15: Level 2 | C15: 50 tot 100K | E15: 0 | F15: Prijs per mail in deze staffel | I15: =H15*$E15 -> 0 | J15: 50000 | K15: =J15*$E15 -> 0 | L15: 60000 | M15: =L15*$D13 -> 0 | N15: 60000 | O15: =N15*$E15 -> 0
B16: Level 3 | C16: 100 tot 300K | E16: 0 | F16: Prijs per mail in deze staffel | I16: =H16*$E16 -> 0 | K16: =J16*$E16 -> 0 | M16: =L16*E16 -> 0 | O16: =N16*$E16 -> 0
B17: Level 4 | C17: 300k+ | E17: 0 | F17: Prijs per mail in deze staffel | I17: =H17*$E17 -> 0 | K17: =J17*$E17 -> 0 | M17: =L17*$D15 -> 0 | O17: =N17*$E17 -> 0
E20: Tarief
A21: Prd 13. SMS | B21: Aantal verzonden SMS berichten | C21: Prijs per SMS | P21: 0.8 | Q21: Kans
B22: Staffel | C22: Staffelwaarde
B23: Level 1 | C23: 0 tot 500K | E23: 0 | F23: Prijs per sms in deze staffel | I23: =H23*$E23*$P$21 -> 0 | K23: =J23*$E23*$P$21 -> 0 | M23: =L23*$E23*$P$21 -> 0 | O23: =N23*$E23*$P$21 -> 0
B24: Level 2 | C24: 500K tot 1500K | E24: 0 | F24: Prijs per sms in deze staffel | H24: 1000000 | I24: =H24*$E24*$P$21 -> 0 | K24: =J24*$E24*$P$21 -> 0 | M24: =L24*$E24*$P$21 -> 0 | O24: =N24*$E24*$P$21 -> 0
B25: Level 3 | C25: 1500K tot 3000K | E25: 0 | F25: Prijs per sms in deze staffel | I25: =H25*$E25*$P$21 -> 0 | J25: 1600000 | K25: =J25*$E25*$P$21 -> 0 | L25: 2900000 | M25: =L25*$E25*$P$21 -> 0 | O25: =N25*$E25*$P$21 -> 0
B26: Level 4 | C26: 3000K+ | E26: 0 | F26: Prijs per sms in deze staffel | I26: =H26*$E26*$P$21 -> 0 | K26: =J26*$E26*$P$21 -> 0 | M26: =L26*$E26*$P$21 -> 0 | N26: 3100000 | O26: =N26*$E26*$P$21 -> 0
E28: Tarief
A29: Prd 14. Whatsapp / socials | B29: Aantal verzonden Whatsapp berichten / social post | C29: Prijs per Whatsapp / social post | P29: 0.3 | Q29: kans
B30: Staffel | C30: Staffelwaarde
B31: Level 1 | C31: 0 tot 500K | E31: 0 | F31: Prijs per whatsapp in deze staffel | I31: =H31*$E31*$P$29 -> 0 | K31: =J31*$E31*$P$29 -> 0 | M31: =L31*$E31*$P$29 -> 0 | O31: =N31*$E31*$P$29 -> 0
B32: Level 2 | C32: 500K tot 1500K | E32: 0 | F32: Prijs per whatsapp in deze staffel | H32: 1000000 | I32: =H32*$E32*$P$29 -> 0 | K32: =J32*$E32*$P$29 -> 0 | M32: =L32*$E32*$P$29 -> 0 | O32: =N32*$E32*$P$29 -> 0
B33: Level 3 | C33: 1500K tot 3000K | E33: 0 | F33: Prijs per whatsapp in deze staffel | I33: =H33*$E33*$P$29 -> 0 | J33: 1600000 | K33: =J33*$E33*$P$29 -> 0 | L33: 2900000 | M33: =L33*$E33*$P$29 -> 0 | O33: =N33*$E33*$P$29 -> 0
B34: Level 4 | C34: 3000K+ | E34: 0 | F34: Prijs per whatsapp in deze staffel | I34: =H34*$E34*$P$29 -> 0 | K34: =J34*$E34*$P$29 -> 0 | M34: =L34*$E34*$P$29 -> 0 | N34: 3100000 | O34: =N34*$E34*$P$29 -> 0
E36: Tarief
A37: Prd. 15 Berichtenbox | B37: Aantal verzonden berichten in berichtenbox | C37: Prijs per Bericht | P37: 0.2 | Q37: kans
B38: Staffel | C38: Staffelwaarde
B39: Level 1 | C39: 0 tot 500K | E39: 0 | F39: Prijs per bericht in deze staffel | I39: =H39*$E39*$P$37 -> 0 | K39: =J39*$E39*$P$37 -> 0 | M39: =L39*$E39*$P$37 -> 0 | O39: =N39*$E39*$P$37 -> 0
B40: Level 2 | C40: 500K tot 1500K | E40: 0 | F40: Prijs per bericht in deze staffel | I40: =H40*$E40*$P$37 -> 0 | J40: 500000 | K40: =J40*$E40*$P$37 -> 0 | L40: 500000 | M40: =L40*$E40*$P$37 -> 0 | N40: 500000 | O40: =N40*$E40*$P$37 -> 0
B41: Level 3 | C41: 1500K tot 3000K | E41: 0 | F41: Prijs per bericht in deze staffel | I41: =H41*$E41*$P$37 -> 0 | K41: =J41*$E41*$P$37 -> 0 | M41: =L41*$E41*$P$37 -> 0 | O41: =N41*$E41*$P$37 -> 0
B42: Level 4 | C42: 3000K+ | E42: 0 | F42: Prijs per bericht in deze staffel | I42: =H42*$E42*$P$37 -> 0 | K42: =J42*$E42*$P$37 -> 0 | M42: =L42*$E42*$P$37 -> 0 | O42: =N42*$E42*$P$37 -> 0
I45: =SUM(I4:I43) -> 0 | K45: =SUM(K4:K43) -> 0 | M45: =SUM(M4:M43) -> 0 | O45: =SUM(O4:O43) -> 0
