Workbook
Name LAQ: [1]Superformule!$K$22

Sheet Perceel 3
C2: Europese Aanbesteding
C3: InformatieBeveiliging Producten & Diensten
C4: Perceel 3
C5: IUC23-026 | D5: Naam Inschrijver:
C6: Prijzen exclusief BTW
C8: Omschrijving*
C9: Onderhoud & Support Ironport
C10: * voor de volledige omschrijving van de Installed Base wordt verwezen naar "Bijlage 6 - Installed Base"
B13: No | C13: Dimensionering | D13: Hardware/Appliance Software | E13: Huidig aantal | G13: Aard / grondslag | H13: 2024 | I13: =+H13+1 -> 2025 | J13: =+I13+1 -> 2026 | K13: =+J13+1 -> 2027 | L13: =+K13+1 -> 2028 | M13: =+L13+1 -> 2029 | N13: =+M13+1 -> 2030 | O13: =+N13+1 -> 2031 | P13: =+O13+1 -> 2032 | Q13: =+P13+1 -> 2033
B14: 3.1 | C14: Cisco Systems, Inc | D14: SMA-M695F-K9 | E14: 1 | G14: Life Cycle management | J14: 1 | O14: 1
B15: 3.2 | D15: ESA-C695F-K9 | E15: 2 | G15: Life Cycle management | J15: 2 | O15: 2
B16: 3.3 | D16: ESA-C195-K9 | E16: 6 | G16: Life Cycle management | J16: 6 | O16: 6
B17: 3.4 | D17: TG-M5-K9 | E17: 6 | G17: Life Cycle management | J17: 6 | O17: 6
B18: 3.5 | D18: ESA-MFE-LIC | E18: 40000 | G18: n.v.t
B19: 3.6 | D19: ESA-ESI-LIC | E19: 2000 | G19: n.v.t
B20: 3.7 | D20: ESA-AMP-LIC | E20: 40000 | G20: n.v.t
B21: 3.8 | D21: SMA-EMGT-LIC | E21: 45250 | G21: n.v.t
B22: 3.9 | D22: ESA-ESS-LIC | E22: 45250 | G22: n.v.t
B25: 1 | C25: Life Cycle Management / Uitbreiding / Onderhoud & Support
B26: No | C26: Fabrikant | D26: Hardware/Appliance Software | E26: Aard / grondslag | F26: Prijs per eenheid | G26: Minimaal kortings- percentage | H26: 2024 | I26: 2025 | J26: 2026 | K26: 2027 | L26: 2028 | M26: 2029 | N26: 2030 | O26: 2031 | P26: 2032 | Q26: 2033 | R26: Totaal
B27: 3.1 | C27: Cisco Systems, Inc | D27: SMA-M695F-K9 | E27: Life Cycle management | J27: =F27*(1-G27)*J14 -> 0 | O27: =F27*(1-G27)*O14 -> 0 | R27: =SUM(H27:Q27) -> 0
E28: Onderhoud & Support | H28: =+F28*(1-G28)*E14 -> 0 | I28: =+F28*(1-G28)*E14 -> 0 | J28: =+F28*(1-G28)*E14 -> 0 | K28: =+F28*(1-G28)*E14 -> 0 | L28: =+F28*(1-G28)*E14 -> 0 | M28: =+F28*(1-G28)*E14 -> 0 | N28: =+F28*(1-G28)*E14 -> 0 | O28: =+F28*(1-G28)*E14 -> 0 | P28: =+F28*(1-G28)*E14 -> 0 | Q28: =+F28*(1-G28)*E14 -> 0 | R28: =SUM(H28:Q28) -> 0
B29: 3.2 | C29: Cisco Systems, Inc | D29: =+D15 -> ESA-C695F-K9 | E29: Life Cycle management | J29: =F29*(1-G29)*J15 -> 0 | O29: =F29*(1-G29)*O15 -> 0 | R29: =SUM(H29:Q29) -> 0
E30: Onderhoud & Support | H30: =+F30*(1-G30)*E15 -> 0 | I30: =+F30*(1-G30)*E15 -> 0 | J30: =+F30*(1-G30)*E15 -> 0 | K30: =+F30*(1-G30)*E15 -> 0 | L30: =+F30*(1-G30)*E15 -> 0 | M30: =+F30*(1-G30)*E15 -> 0 | N30: =+F30*(1-G30)*E15 -> 0 | O30: =+F30*(1-G30)*E15 -> 0 | P30: =+F30*(1-G30)*E15 -> 0 | Q30: =+F30*(1-G30)*E15 -> 0 | R30: =SUM(H30:Q30) -> 0
B31: 3.3 | C31: Cisco Systems, Inc | D31: =+D16 -> ESA-C195-K9 | E31: Life Cycle management | J31: =F31*(1-G31)*J16 -> 0 | O31: =F31*(1-G31)*O16 -> 0 | R31: =SUM(H31:Q31) -> 0
E32: Onderhoud & Support | H32: =+F32*(1-G32)*E16 -> 0 | I32: =+F32*(1-G32)*E16 -> 0 | J32: =+F32*(1-G32)*E16 -> 0 | K32: =+F32*(1-G32)*E16 -> 0 | L32: =+F32*(1-G32)*E16 -> 0 | M32: =+F32*(1-G32)*E16 -> 0 | N32: =+F32*(1-G32)*E16 -> 0 | O32: =+F32*(1-G32)*E16 -> 0 | P32: =+F32*(1-G32)*E16 -> 0 | Q32: =+F32*(1-G32)*E16 -> 0 | R32: =SUM(H32:Q32) -> 0
B33: 3.4 | C33: Cisco Systems, Inc | D33: =+D17 -> TG-M5-K9 | E33: Life Cycle management | J33: =F33*(1-G33)*J17 -> 0 | O33: =F33*(1-G33)*O17 -> 0 | R33: =SUM(H33:Q33) -> 0
E34: Onderhoud & Support | H34: =+F34*(1-G34)*E17 -> 0 | I34: =+F34*(1-G34)*E17 -> 0 | J34: =+F34*(1-G34)*E17 -> 0 | K34: =+F34*(1-G34)*E17 -> 0 | L34: =+F34*(1-G34)*E17 -> 0 | M34: =+F34*(1-G34)*E17 -> 0 | N34: =+F34*(1-G34)*E17 -> 0 | O34: =+F34*(1-G34)*E17 -> 0 | P34: =+F34*(1-G34)*E17 -> 0 | Q34: =+F34*(1-G34)*E17 -> 0 | R34: =SUM(H34:Q34) -> 0
R35: =SUM(R27:R34) -> 0
B37: No | C37: Fabrikant | D37: Hardware/Appliance Software | E37: Aard / grondslag | F37: Jaarbedrag | G37: Minimaal kortings- percentage | H37: 2024 | I37: 2025 | J37: 2026 | K37: 2027 | L37: 2028 | M37: 2029 | N37: 2030 | O37: 2031 | P37: 2032 | Q37: 2033 | R37: Totaal
B38: 3.5 | C38: Cisco Systems, Inc | D38: =D18 -> ESA-MFE-LIC | E38: Subscription | H38: =+F38*(1-G38) -> 0 | I38: =+H38 -> 0 | J38: =+I38 -> 0 | K38: =+J38 -> 0 | L38: =+K38 -> 0 | M38: =+L38 -> 0 | N38: =+M38 -> 0 | O38: =+N38 -> 0 | P38: =+O38 -> 0 | Q38: =+P38 -> 0 | R38: =SUM(H38:Q38) -> 0
B39: 3.6 | C39: Cisco Systems, Inc | D39: =D19 -> ESA-ESI-LIC | E39: Subscription | H39: =+F39*(1-G39) -> 0 | I39: =+H39 -> 0 | J39: =+I39 -> 0 | K39: =+J39 -> 0 | L39: =+K39 -> 0 | M39: =+L39 -> 0 | N39: =+M39 -> 0 | O39: =+N39 -> 0 | P39: =+O39 -> 0 | Q39: =+P39 -> 0 | R39: =SUM(H39:Q39) -> 0
B40: 3.7 | C40: Cisco Systems, Inc | D40: =D20 -> ESA-AMP-LIC | E40: Subscription | H40: =+F40*(1-G40) -> 0 | I40: =+H40 -> 0 | J40: =+I40 -> 0 | K40: =+J40 -> 0 | L40: =+K40 -> 0 | M40: =+L40 -> 0 | N40: =+M40 -> 0 | O40: =+N40 -> 0 | P40: =+O40 -> 0 | Q40: =+P40 -> 0 | R40: =SUM(H40:Q40) -> 0
B41: 3.8 | C41: Cisco Systems, Inc | D41: =D21 -> SMA-EMGT-LIC | E41: Subscription | H41: =+F41*(1-G41) -> 0 | I41: =+H41 -> 0 | J41: =+I41 -> 0 | K41: =+J41 -> 0 | L41: =+K41 -> 0 | M41: =+L41 -> 0 | N41: =+M41 -> 0 | O41: =+N41 -> 0 | P41: =+O41 -> 0 | Q41: =+P41 -> 0 | R41: =SUM(H41:Q41) -> 0
B42: 3.9 | C42: Cisco Systems, Inc | D42: =D22 -> ESA-ESS-LIC | E42: Subscription | H42: =+F42*(1-G42) -> 0 | I42: =+H42 -> 0 | J42: =+I42 -> 0 | K42: =+J42 -> 0 | L42: =+K42 -> 0 | M42: =+L42 -> 0 | N42: =+M42 -> 0 | O42: =+N42 -> 0 | P42: =+O42 -> 0 | Q42: =+P42 -> 0 | R42: =SUM(H42:Q42) -> 0
R43: =SUM(R38:R42) -> 0
B46: 2 | C46: Productspecifieke vendor consultancy
C47: Fabrikant | D47: Functie | F47: Prijs per uur | G47: Indicatief aantal uren per jaar | H47: 2024 | I47: 2025 | J47: 2026 | K47: 2027 | L47: 2028 | M47: 2029 | N47: 2030 | O47: 2031 | P47: 2032 | Q47: 2033 | R47: Totaal
C48: Cisco Systems, Inc | D48: Consultancy | G48: =20*8 -> 160 | H48: =+F48*G48 -> 0 | I48: =+H48 -> 0 | J48: =+I48 -> 0 | K48: =+J48 -> 0 | L48: =+K48 -> 0 | M48: =+L48 -> 0 | N48: =+M48 -> 0 | O48: =+N48 -> 0 | P48: =+O48 -> 0 | Q48: =+P48 -> 0 | R48: =SUM(H48:Q48) -> 0
C51: Ten behoeve van vergelijkingswaarde Perceel 3 | R51: =+R48+R43+R35 -> 0

Sheet BPK-Grafiek
B2: Europese Aanbesteding
B3: IBP&D - Cisco
B4: BPK-Grafiek
B5: Kenmerk: IUC23-026 Perceel 3
B6: (Prijzen exclusief BTW)
D9: Vergelijkingswaarde | F9: ='Perceel 3'!R51 -> 0
D11: Indicatie eigen score | F11: Score Kwaliteit | G11: Procenten
D12: Kwaliteit in eisen | F12: =+DATA!G41 -> 150 | G12: =+F12/DATA!$G$40*100 -> 75 | H12: %
D13: Eigen inschatting score kwaliteit *1 | G13: =+F13/DATA!$G$40*100 -> 0 | H13: %
E14: Totaal kwaliteit | F14: =SUM(F12:F13) -> 150 | G14: =SUM(G12:G13) -> 75 | H14: %
D15: Indicatie BPK-score | F15: =+DATA!E7 -> 0.5508982
D16: *1 | E16: ="Eigen inschatting door Inschrijver. Waarde tussen 0 en "&F20&" punten." -> Eigen inschatting door Inschrijver. Waarde tussen 0 en 50 punten.
D18: Opbouw Score voor kwaliteit | F18: Punten | G18: Procenten
D19: Eisen | F19: =DATA!G41 -> 150 | G19: =+F19/DATA!$G$40*100 -> 75 | H19: %
D20: Wensen | F20: =DATA!G42 -> 50 | G20: =+F20/DATA!$G$40*100 -> 25 | H20: %
D21: Totaal | F21: =SUM(F19:F20) -> 200 | G21: =+F21/DATA!$G$40*100 -> 100 | H21: %
C83: Totaal kwaliteit | E83: 1650 | F83: =+E83/Qmax*100 -> #NAME? | G83: %

Sheet DATA
B2: Hulpdata Grafiek Superformule
B6: Hulpvelden
B7: Uw inschrijving | C7: =+'BPK-Grafiek'!$F$9 -> 0 | D7: =+'BPK-Grafiek'!$F$14 -> 150 | E7: =IFERROR((0.5*($C$7/$G$38)^$F$38+0.5*(2-$D$7/$H$38)^$F$38)^(1/$F$38),0) -> 0.5508982 | F7: =+D7/G40*100 -> 75
B9: LET OP !!! | C9: Voordat de TAB-bladen "TBV PRIJSMODEL (1)" EN "TBV PRIJSMODEL (2)" gekopieerd worden kan naar het Prijsmodel, moeten eerst onderstaande waarden ( oranje velden ) worden geselecteerd en worden gekopieerd en geplakt worden als WAARDEN (ctrl-C, plakken speciaal "waarden")
B11: EVMI-punten | C11: P | D11: Q | E11: EMVI
B12: Ref | C12: 5460000 | D12: 167 | E12: 1
B13: Ref (boven) | C13: 6538922.2 | D13: 200 | E13: 1
B14: Ref (onder) | C14: 0 | D14: 0 | E14: 1
B16: EMVI-lijnen
C17: hulp=Q bij P=0 | D17: 0 | E17: 0.0125 | F17: 0.025 | G17: 0.05 | H17: 0.1 | I17: 0.15 | J17: 0.2 | K17: 0.25 | L17: 0.3 | M17: 0.35 | N17: 0.4 | O17: 0.45 | P17: 0.5 | Q17: 0.55 | R17: 0.6 | S17: 0.65 | T17: 0.7 | U17: 0.75 | V17: 0.8 | W17: 0.85 | X17: 0.9 | Y17: 0.95 | Z17: 1 | AA17: 0
B18: Q berekend bij P=0 en EMVI=1 | C18: 0 | D18: 0 | E18: 2.5 | F18: 5 | G18: 10 | H18: 20 | I18: 30 | J18: 40 | K18: 50 | L18: 60 | M18: 70 | N18: 80 | O18: 90 | P18: 100 | Q18: 110 | R18: 120 | S18: 130 | T18: 140 | U18: 150 | V18: 160 | W18: 170 | X18: 180 | Y18: 190 | Z18: 200 | AA18: EMVI
B19: P berekend uit Q en EMVI=1 | D19: 0 | E19: 81736.527 | F19: 163473.05 | G19: 326946.11 | H19: 653892.22 | I19: 980838.32 | J19: 1307784.4 | K19: 1634730.5 | L19: 1961676.6 | M19: 2288622.8 | N19: 2615568.9 | O19: 2942515 | P19: 3269461.1 | Q19: 3596407.2 | R19: 3923353.3 | S19: 4250299.4 | T19: 4577245.5 | U19: 4904191.6 | V19: 5231137.7 | W19: 5558083.8 | X19: 5885029.9 | Y19: 6211976 | Z19: 6538922.2 | AA19: 1
D20: 0 | E20: 1.25 | F20: 2.5 | G20: 5 | H20: 10 | I20: 15 | J20: 20 | K20: 25 | L20: 30 | M20: 35 | N20: 40 | O20: 45 | P20: 50 | Q20: 55 | R20: 60 | S20: 65 | T20: 70 | U20: 75 | V20: 80 | W20: 85 | X20: 90 | Y20: 95 | Z20: 100 | AA20: 0
B21: Q berekend bij P=0 en EMVI=0,9 | C21: 33.4 | D21: 33.4 | E21: 35.4825 | F21: 37.565 | G21: 41.73 | H21: 50.06 | I21: 58.39 | J21: 66.72 | K21: 75.05 | L21: 83.38 | M21: 91.71 | N21: 100.04 | O21: 108.37 | P21: 116.7 | Q21: 125.03 | R21: 133.36 | S21: 141.69 | T21: 150.02 | U21: 158.35 | V21: 166.68 | W21: 175.01 | X21: 183.34 | Y21: 191.67 | Z21: 200 | AA21: EMVI
B22: P berekend uit Q en EMVI=0,9 | D22: 0 | E22: 68086.527 | F22: 136173.05 | G22: 272346.11 | H22: 544692.22 | I22: 817038.32 | J22: 1089384.4 | K22: 1361730.5 | L22: 1634076.6 | M22: 1906422.8 | N22: 2178768.9 | O22: 2451115 | P22: 2723461.1 | Q22: 2995807.2 | R22: 3268153.3 | S22: 3540499.4 | T22: 3812845.5 | U22: 4085191.6 | V22: 4357537.7 | W22: 4629883.8 | X22: 4902229.9 | Y22: 5174576 | Z22: 5446922.2 | AA22: 0.9
D23: 16.7 | E23: 17.74125 | F23: 18.7825 | G23: 20.865 | H23: 25.03 | I23: 29.195 | J23: 33.36 | K23: 37.525 | L23: 41.69 | M23: 45.855 | N23: 50.02 | O23: 54.185 | P23: 58.35 | Q23: 62.515 | R23: 66.68 | S23: 70.845 | T23: 75.01 | U23: 79.175 | V23: 83.34 | W23: 87.505 | X23: 91.67 | Y23: 95.835 | Z23: 100 | AA23: 0
B24: Q berekend bij P=0 en EMVI=0,8 | C24: 66.8 | D24: 66.8 | E24: 68.465 | F24: 70.13 | G24: 73.46 | H24: 80.12 | I24: 86.78 | J24: 93.44 | K24: 100.1 | L24: 106.76 | M24: 113.42 | N24: 120.08 | O24: 126.74 | P24: 133.4 | Q24: 140.06 | R24: 146.72 | S24: 153.38 | T24: 160.04 | U24: 166.7 | V24: 173.36 | W24: 180.02 | X24: 186.68 | Y24: 193.34 | Z24: 200 | AA24: EMVI
B25: P berekend uit Q en EMVI=0,8 | D25: 0 | E25: 54436.527 | F25: 108873.05 | G25: 217746.11 | H25: 435492.22 | I25: 653238.32 | J25: 870984.43 | K25: 1088730.5 | L25: 1306476.6 | M25: 1524222.8 | N25: 1741968.9 | O25: 1959715 | P25: 2177461.1 | Q25: 2395207.2 | R25: 2612953.3 | S25: 2830699.4 | T25: 3048445.5 | U25: 3266191.6 | V25: 3483937.7 | W25: 3701683.8 | X25: 3919429.9 | Y25: 4137176 | Z25: 4354922.2 | AA25: 0.8
D26: 33.4 | E26: 34.2325 | F26: 35.065 | G26: 36.73 | H26: 40.06 | I26: 43.39 | J26: 46.72 | K26: 50.05 | L26: 53.38 | M26: 56.71 | N26: 60.04 | O26: 63.37 | P26: 66.7 | Q26: 70.03 | R26: 73.36 | S26: 76.69 | T26: 80.02 | U26: 83.35 | V26: 86.68 | W26: 90.01 | X26: 93.34 | Y26: 96.67 | Z26: 100
B27: Q berekend bij P=0 en EMVI=0,7 | C27: 100.2 | D27: 100.2 | E27: 101.4475 | F27: 102.695 | G27: 105.19 | H27: 110.18 | I27: 115.17 | J27: 120.16 | K27: 125.15 | L27: 130.14 | M27: 135.13 | N27: 140.12 | O27: 145.11 | P27: 150.1 | Q27: 155.09 | R27: 160.08 | S27: 165.07 | T27: 170.06 | U27: 175.05 | V27: 180.04 | W27: 185.03 | X27: 190.02 | Y27: 195.01 | Z27: 200 | AA27: EMVI
B28: P berekend uit Q en EMVI=0,7 | D28: 0 | E28: 40786.527 | F28: 81573.054 | G28: 163146.11 | H28: 326292.22 | I28: 489438.32 | J28: 652584.43 | K28: 815730.54 | L28: 978876.65 | M28: 1142022.8 | N28: 1305168.9 | O28: 1468315 | P28: 1631461.1 | Q28: 1794607.2 | R28: 1957753.3 | S28: 2120899.4 | T28: 2284045.5 | U28: 2447191.6 | V28: 2610337.7 | W28: 2773483.8 | X28: 2936629.9 | Y28: 3099776 | Z28: 3262922.2 | AA28: 0.7
D29: 50.1 | E29: 50.72375 | F29: 51.3475 | G29: 52.595 | H29: 55.09 | I29: 57.585 | J29: 60.08 | K29: 62.575 | L29: 65.07 | M29: 67.565 | N29: 70.06 | O29: 72.555 | P29: 75.05 | Q29: 77.545 | R29: 80.04 | S29: 82.535 | T29: 85.03 | U29: 87.525 | V29: 90.02 | W29: 92.515 | X29: 95.01 | Y29: 97.505 | Z29: 100 | AA29: 0
B30: Q berekend bij P=0 en EMVI=0,6 | C30: 133.6 | D30: 133.6 | E30: 134.43 | F30: 135.26 | G30: 136.92 | H30: 140.24 | I30: 143.56 | J30: 146.88 | K30: 150.2 | L30: 153.52 | M30: 156.84 | N30: 160.16 | O30: 163.48 | P30: 166.8 | Q30: 170.12 | R30: 173.44 | S30: 176.76 | T30: 180.08 | U30: 183.4 | V30: 186.72 | W30: 190.04 | X30: 193.36 | Y30: 196.68 | Z30: 200 | AA30: EMVI
B31: P berekend uit Q en EMVI=0,6 | D31: 0 | E31: 27136.527 | F31: 54273.054 | G31: 108546.11 | H31: 217092.22 | I31: 325638.32 | J31: 434184.43 | K31: 542730.54 | L31: 651276.65 | M31: 759822.75 | N31: 868368.86 | O31: 976914.97 | P31: 1085461.1 | Q31: 1194007.2 | R31: 1302553.3 | S31: 1411099.4 | T31: 1519645.5 | U31: 1628191.6 | V31: 1736737.7 | W31: 1845283.8 | X31: 1953829.9 | Y31: 2062376 | Z31: 2170922.2 | AA31: 0.6
D32: 66.8 | E32: 67.215 | F32: 67.63 | G32: 68.46 | H32: 70.12 | I32: 71.78 | J32: 73.44 | K32: 75.1 | L32: 76.76 | M32: 78.42 | N32: 80.08 | O32: 81.74 | P32: 83.4 | Q32: 85.06 | R32: 86.72 | S32: 88.38 | T32: 90.04 | U32: 91.7 | V32: 93.36 | W32: 95.02 | X32: 96.68 | Y32: 98.34 | Z32: 100
B33: Q berekend bij P=0 en EMVI=1,1 | C33: -33.4 | D33: -33.4 | E33: -30.4825 | F33: -27.565 | G33: -21.73 | H33: -10.06 | I33: 1.61 | J33: 13.28 | K33: 24.95 | L33: 36.62 | M33: 48.29 | N33: 59.96 | O33: 71.63 | P33: 83.3 | Q33: 94.97 | R33: 106.64 | S33: 118.31 | T33: 129.98 | U33: 141.65 | V33: 153.32 | W33: 164.99 | X33: 176.66 | Y33: 188.33 | Z33: 200 | AA33: EMVI
B34: P berekend uit Q en EMVI=1,1 | D34: 0 | E34: 95386.527 | F34: 190773.05 | G34: 381546.11 | H34: 763092.22 | I34: 1144638.3 | J34: 1526184.4 | K34: 1907730.5 | L34: 2289276.6 | M34: 2670822.8 | N34: 3052368.9 | O34: 3433915 | P34: 3815461.1 | Q34: 4197007.2 | R34: 4578553.3 | S34: 4960099.4 | T34: 5341645.5 | U34: 5723191.6 | V34: 6104737.7 | W34: 6486283.8 | X34: 6867829.9 | Y34: 7249376 | Z34: 7630922.2 | AA34: 1.1
D35: -16.7 | E35: -15.24125 | F35: -13.7825 | G35: -10.865 | H35: -5.03 | I35: 0.805 | J35: 6.64 | K35: 12.475 | L35: 18.31 | M35: 24.145 | N35: 29.98 | O35: 35.815 | P35: 41.65 | Q35: 47.485 | R35: 53.32 | S35: 59.155 | T35: 64.99 | U35: 70.825 | V35: 76.66 | W35: 82.495 | X35: 88.33 | Y35: 94.165 | Z35: 100 | AA35: 0
B37: Hulpvelden t.b.v grafiek | F37: Exponent | G37: Pref | H37: Qref
B38: Referentie | C38: 5460000 | D38: 83.5 | F38: 1 | G38: 5460000 | H38: 167
B39: Referentie (Qmax) | C39: 6538922.2 | D39: 100
B40: Qmax | C40: 100 | D40: 100 | F40: Qmax | G40: 200
B41: Qmin | C41: 75 | D41: 75 | F41: Qmin | G41: 150
B42: Qref | C42: 83.5 | D42: 83.5 | F42: Qwensen | G42: 50
B43: P | C43: 0 | D43: 10920000 | F43: LAQ | G43: -10 | H43: -10 | I43: genormaliseerd
B44: Bonus (extra) | C44: 175 | D44: 175 | F44: LAQ (norm) | G44: -5 | H44: -5
B45: Qeisen | C45: 37.5 | D45: 546000 | F45: Uw Inschrijving | G45: 75 | H45: 0
B46: Qwensen | C46: 87.5 | D46: 546000 | F46: Kenmerk | G46: IUC23-026 Perceel 3
B47: Qbonus | C47: 137.5 | D47: 546000 | F47: Naam | G47: IBP&D - Cisco
