Workbook
Name LAQ: [1]Superformule!$K$22

Sheet Perceel 9
C2: Europese Aanbesteding
C3: InformatieBeveiliging Producten & Diensten
C4: Perceel 9
C5: IUC23-026 | D5: Naam Inschrijver:
C6: Prijzen exclusief BTW
C8: Omschrijving*
C9: Onderhoud & Support Acunetix
C10: * voor de volledige omschrijving van de Installed Base wordt verwezen naar "Bijlage 6 - Installed Base"
B13: No | C13: Dimensionering | D13: Hardware/Appliance Software | E13: Huidig aantal | F13: Aard / grondslag | H13: 2024 | I13: =+H13+1 -> 2025 | J13: =+I13+1 -> 2026 | K13: =+J13+1 -> 2027 | L13: =+K13+1 -> 2028
B14: 9.1 | C14: Acunetix | D14: Acunetix on premises premium 275 Targets | E14: 275 | G14: Uitbreiding | H14: =E14*0.05 -> 13.75 | I14: 15 | J14: 16 | K14: 17 | L14: 18
G15: Totaal Subscription | H15: =+E14+H14 -> 288.75 | I15: =+H15+I14 -> 303.75 | J15: =+I15+J14 -> 319.75 | K15: =+J15+K14 -> 336.75 | L15: =+K15+L14 -> 354.75
B17: 1 | C17: Life Cycle Management / Uitbreiding / Onderhoud & Support
B18: No | C18: Fabrikant | D18: Hardware/Appliance Software | E18: Aard / grondslag | F18: Prijs per eenheid | G18: Kortings- percentage | H18: 2024 | I18: 2025 | J18: 2026 | K18: 2027 | L18: 2028 | M18: Totaal
B19: 9.1 | C19: Acunetix | D19: Acunetix on premises premium 275 Targets | E19: Subscription | H19: =+$F$19*(1-$G$19)*H15 -> 0 | I19: =+$F$19*(1-$G$19)*I15 -> 0 | J19: =+$F$19*(1-$G$19)*J15 -> 0 | K19: =+$F$19*(1-$G$19)*K15 -> 0 | L19: =+$F$19*(1-$G$19)*L15 -> 0 | M19: =SUM(H19:L19) -> 0
M20: =SUM(M19:M19) -> 0
B23: 2 | C23: Productspecifieke vendor consultancy
C24: Fabrikant | D24: Functie | F24: Prijs per uur | G24: Indicatief aantal uren per jaar | H24: 2024 | I24: 2025 | J24: 2026 | K24: 2027 | L24: 2028 | M24: Totaal
C25: Acunetix | D25: Consultancy | G25: =20*8 -> 160 | H25: =+F25*G25 -> 0 | I25: =+H25 -> 0 | J25: =+I25 -> 0 | K25: =+J25 -> 0 | L25: =+K25 -> 0 | M25: =SUM(H25:L25) -> 0
C28: Ten behoeve van vergelijkingswaarde Perceel 9 | M28: =M25+M20 -> 0

Sheet BPK-Grafiek
B2: Europese Aanbesteding
B3: IBP&D - Acunetix
B4: BPK-Grafiek
B5: Kenmerk: IUC23-026 Perceel 9
B6: (Prijzen exclusief BTW)
D9: Vergelijkingswaarde | F9: ='Perceel 9'!M28 -> 0
D11: Indicatie eigen score | F11: Score Kwaliteit | G11: Procenten
D12: Kwaliteit in eisen | F12: =+DATA!G41 -> 150 | G12: =+F12/DATA!$G$40*100 -> 75 | H12: %
D13: Eigen inschatting score kwaliteit *1 | G13: =+F13/DATA!$G$40*100 -> 0 | H13: %
E14: Totaal kwaliteit | F14: =SUM(F12:F13) -> 150 | G14: =SUM(G12:G13) -> 75 | H14: %
D15: Indicatie BPK-score | F15: =+DATA!E7 -> 0.97435625
D16: *1 | E16: ="Eigen inschatting door Inschrijver. Waarde tussen 0 en "&F20&" punten." -> Eigen inschatting door Inschrijver. Waarde tussen 0 en 50 punten.
D18: Opbouw Score voor kwaliteit | F18: Punten | G18: Procenten
D19: Eisen | F19: =DATA!G41 -> 150 | G19: =+F19/DATA!$G$40*100 -> 75 | H19: %
D20: Wensen | F20: =DATA!G42 -> 50 | G20: =+F20/DATA!$G$40*100 -> 25 | H20: %
D21: Totaal | F21: =SUM(F19:F20) -> 200 | G21: =+F21/DATA!$G$40*100 -> 100 | H21: %
C83: Totaal kwaliteit | E83: 1650 | F83: =+E83/Qmax*100 -> #NAME? | G83: %

Sheet DATA
B2: Hulpdata Grafiek Superformule
B6: Hulpvelden
B7: Uw inschrijving | C7: =+'BPK-Grafiek'!$F$9 -> 0 | D7: =+'BPK-Grafiek'!$F$14 -> 150 | E7: =IFERROR((0.5*($C$7/$G$38)^$F$38+0.5*(2-$D$7/$H$38)^$F$38)^(1/$F$38),0) -> 0.97435625 | F7: =+D7/G40*100 -> 75
B9: LET OP !!! | C9: Voordat de TAB-bladen "TBV PRIJSMODEL (1)" EN "TBV PRIJSMODEL (2)" gekopieerd worden kan naar het Prijsmodel, moeten eerst onderstaande waarden ( oranje velden ) worden geselecteerd en worden gekopieerd en geplakt worden als WAARDEN (ctrl-C, plakken speciaal "waarden")
B11: EVMI-punten | C11: P | D11: Q | E11: EMVI
B12: Ref | C12: 465000 | D12: 167 | E12: 1
B13: Ref (boven) | C13: 511473.91 | D13: 200 | E13: 1.0000103
B14: Ref (onder) | C14: 0 | D14: 145.15737 | E14: 1
B16: EMVI-lijnen
C17: hulp=Q bij P=0 | D17: 0 | E17: 0.0125 | F17: 0.025 | G17: 0.05 | H17: 0.1 | I17: 0.15 | J17: 0.2 | K17: 0.25 | L17: 0.3 | M17: 0.35 | N17: 0.4 | O17: 0.45 | P17: 0.5 | Q17: 0.55 | R17: 0.6 | S17: 0.65 | T17: 0.7 | U17: 0.75 | V17: 0.8 | W17: 0.85 | X17: 0.9 | Y17: 0.95 | Z17: 1 | AA17: 0
B18: Q berekend bij P=0 en EMVI=1 | C18: 145.15737 | D18: 145.15737 | E18: 145.8429 | F18: 146.52843 | G18: 147.8995 | H18: 150.64163 | I18: 153.38376 | J18: 156.12589 | K18: 158.86802 | L18: 161.61016 | M18: 164.35229 | N18: 167.09442 | O18: 169.83655 | P18: 172.57868 | Q18: 175.32081 | R18: 178.06295 | S18: 180.80508 | T18: 183.54721 | U18: 186.28934 | V18: 189.03147 | W18: 191.7736 | X18: 194.51574 | Y18: 197.25787 | Z18: 200 | AA18: EMVI
B19: P berekend uit Q en EMVI=1 | D19: 0 | E19: 263445.08 | F19: 297457.94 | G19: 335361.94 | H19: 376973 | I19: 402676.27 | J19: 421247.07 | K19: 435666.62 | L19: 447337.78 | M19: 457041.81 | N19: 465262.22 | O19: 472320.85 | P19: 478443.81 | Q19: 483796.6 | R19: 488504.43 | S19: 492664.58 | T19: 496354.36 | U19: 499636.33 | V19: 502561.98 | W19: 505174.24 | X19: 507509.37 | Y19: 509598.31 | Z19: 511467.72 | AA19: 1
D20: 72.578683 | E20: 72.92145 | F20: 73.264216 | G20: 73.949749 | H20: 75.320815 | I20: 76.691881 | J20: 78.062946 | K20: 79.434012 | L20: 80.805078 | M20: 82.176144 | N20: 83.54721 | O20: 84.918276 | P20: 86.289342 | Q20: 87.660407 | R20: 89.031473 | S20: 90.402539 | T20: 91.773605 | U20: 93.144671 | V20: 94.515737 | W20: 95.886802 | X20: 97.257868 | Y20: 98.628934 | Z20: 100 | AA20: 0
B21: Q berekend bij P=0 en EMVI=0,9 | C21: 164.04163 | D21: 164.04163 | E21: 164.49111 | F21: 164.94059 | G21: 165.83955 | H21: 167.63747 | I21: 169.43539 | J21: 171.2333 | K21: 173.03122 | L21: 174.82914 | M21: 176.62706 | N21: 178.42498 | O21: 180.2229 | P21: 182.02081 | Q21: 183.81873 | R21: 185.61665 | S21: 187.41457 | T21: 189.21249 | U21: 191.01041 | V21: 192.80833 | W21: 194.60624 | X21: 196.40416 | Y21: 198.20208 | Z21: 200 | AA21: EMVI
B22: P berekend uit Q en EMVI=0,9 | D22: 0 | E22: 224240.5 | F22: 253294.29 | G22: 285801.79 | H22: 321782.41 | I22: 344275.53 | J22: 360729.63 | K22: 373671.73 | L22: 384289.31 | M22: 393242.69 | N22: 400939.83 | O22: 407651.83 | P22: 413568.74 | Q22: 418829.4 | R22: 423538.57 | S22: 427777.48 | T22: 431610.47 | U22: 435089.48 | V22: 438257.12 | W22: 441148.83 | X22: 443794.45 | Y22: 446219.35 | Z22: 448445.33 | AA22: 0.9
D23: 82.020815 | E23: 82.245555 | F23: 82.470294 | G23: 82.919774 | H23: 83.818733 | I23: 84.717693 | J23: 85.616652 | K23: 86.515611 | L23: 87.41457 | M23: 88.31353 | N23: 89.212489 | O23: 90.111448 | P23: 91.010407 | Q23: 91.909367 | R23: 92.808326 | S23: 93.707285 | T23: 94.606244 | U23: 95.505204 | V23: 96.404163 | W23: 97.303122 | X23: 98.202081 | Y23: 99.101041 | Z23: 100 | AA23: 0
B24: Q berekend bij P=0 en EMVI=0,8 | C24: 182.92589 | D24: 182.92589 | E24: 183.13932 | F24: 183.35275 | G24: 183.7796 | H24: 184.6333 | I24: 185.48701 | J24: 186.34071 | K24: 187.19442 | L24: 188.04813 | M24: 188.90183 | N24: 189.75554 | O24: 190.60924 | P24: 191.46295 | Q24: 192.31665 | R24: 193.17036 | S24: 194.02406 | T24: 194.87777 | U24: 195.73147 | V24: 196.58518 | W24: 197.43888 | X24: 198.29259 | Y24: 199.14629 | Z24: 200 | AA24: EMVI
B25: P berekend uit Q en EMVI=0,8 | D25: 0 | E25: 178439.57 | F25: 201661.24 | G25: 227772.62 | H25: 256966.54 | I25: 275483.86 | J25: 289231.28 | K25: 300209.64 | L25: 309357.66 | M25: 317196.49 | N25: 324047.57 | O25: 330124.12 | P25: 335575.32 | Q25: 340509.93 | R25: 345009.86 | S25: 349138.45 | T25: 352945.78 | U25: 356472.14 | V25: 359750.52 | W25: 362808.27 | X25: 365668.35 | Y25: 368350.21 | Z25: 370870.54 | AA25: 0.8
D26: 91.462946 | E26: 91.56966 | F26: 91.676373 | G26: 91.889799 | H26: 92.316652 | I26: 92.743504 | J26: 93.170357 | K26: 93.59721 | L26: 94.024063 | M26: 94.450915 | N26: 94.877768 | O26: 95.304621 | P26: 95.731473 | Q26: 96.158326 | R26: 96.585179 | S26: 97.012031 | T26: 97.438884 | U26: 97.865737 | V26: 98.292589 | W26: 98.719442 | X26: 99.146295 | Y26: 99.573147 | Z26: 100
B27: Q berekend bij P=0 en EMVI=0,7 | C27: 201.81016 | D27: 201.81016 | E27: 201.78753 | F27: 201.7649 | G27: 201.71965 | H27: 201.62914 | I27: 201.53863 | J27: 201.44813 | K27: 201.35762 | L27: 201.26711 | M27: 201.1766 | N27: 201.08609 | O27: 200.99559 | P27: 200.90508 | Q27: 200.81457 | R27: 200.72406 | S27: 200.63355 | T27: 200.54305 | U27: 200.45254 | V27: 200.36203 | W27: 200.27152 | X27: 200.18102 | Y27: 200.09051 | Z27: 200 | AA27: EMVI
B28: P berekend uit Q en EMVI=0,7 | D28: 0 | E28: 0 | F28: 0 | G28: 0 | H28: 0 | I28: 0 | J28: 0 | K28: 0 | L28: 0 | M28: 0 | N28: 0 | O28: 0 | P28: 0 | Q28: 0 | R28: 0 | S28: 0 | T28: 0 | U28: 0 | V28: 0 | W28: 0 | X28: 0 | Y28: 0 | Z28: 0 | AA28: 0.7
D29: 100.90508 | E29: 100.89376 | F29: 100.88245 | G29: 100.85982 | H29: 100.81457 | I29: 100.76932 | J29: 100.72406 | K29: 100.67881 | L29: 100.63355 | M29: 100.5883 | N29: 100.54305 | O29: 100.49779 | P29: 100.45254 | Q29: 100.40729 | R29: 100.36203 | S29: 100.31678 | T29: 100.27152 | U29: 100.22627 | V29: 100.18102 | W29: 100.13576 | X29: 100.09051 | Y29: 100.04525 | Z29: 100 | AA29: 0
B30: Q berekend bij P=0 en EMVI=0,6 | C30: 220.69442 | D30: 220.69442 | E30: 220.43574 | F30: 220.17706 | G30: 219.6597 | H30: 218.62498 | I30: 217.59026 | J30: 216.55554 | K30: 215.52081 | L30: 214.48609 | M30: 213.45137 | N30: 212.41665 | O30: 211.38193 | P30: 210.34721 | Q30: 209.31249 | R30: 208.27777 | S30: 207.24305 | T30: 206.20833 | U30: 205.1736 | V30: 204.13888 | W30: 203.10416 | X30: 202.06944 | Y30: 201.03472 | Z30: 200 | AA30: EMVI
B31: P berekend uit Q en EMVI=0,6 | D31: 0 | E31: 0 | F31: 0 | G31: 0 | H31: 0 | I31: 0 | J31: 0 | K31: 0 | L31: 0 | M31: 0 | N31: 0 | O31: 0 | P31: 0 | Q31: 0 | R31: 0 | S31: 0 | T31: 0 | U31: 0 | V31: 0 | W31: 0 | X31: 0 | Y31: 0 | Z31: 0 | AA31: 0.6
D32: 110.34721 | E32: 110.21787 | F32: 110.08853 | G32: 109.82985 | H32: 109.31249 | I32: 108.79513 | J32: 108.27777 | K32: 107.76041 | L32: 107.24305 | M32: 106.72569 | N32: 106.20833 | O32: 105.69097 | P32: 105.1736 | Q32: 104.65624 | R32: 104.13888 | S32: 103.62152 | T32: 103.10416 | U32: 102.5868 | V32: 102.06944 | W32: 101.55208 | X32: 101.03472 | Y32: 100.51736 | Z32: 100
B33: Q berekend bij P=0 en EMVI=1,1 | C33: 126.2731 | D33: 126.2731 | E33: 127.19469 | F33: 128.11628 | G33: 129.95945 | H33: 133.64579 | I33: 137.33214 | J33: 141.01848 | K33: 144.70483 | L33: 148.39117 | M33: 152.07752 | N33: 155.76386 | O33: 159.45021 | P33: 163.13655 | Q33: 166.8229 | R33: 170.50924 | S33: 174.19559 | T33: 177.88193 | U33: 181.56828 | V33: 185.25462 | W33: 188.94097 | X33: 192.62731 | Y33: 196.31366 | Z33: 200 | AA33: EMVI
B34: P berekend uit Q en EMVI=1,1 | D34: 0 | E34: 300183.94 | F34: 338827.83 | G34: 381750.86 | H34: 428552.47 | I34: 457172.93 | J34: 477634.8 | K34: 493347 | L34: 505915.72 | M34: 516236.69 | N34: 524865.14 | O34: 532171.34 | P34: 538415.88 | Q34: 543789.95 | R34: 548438.5 | S34: 552474.45 | T34: 555987.73 | U34: 559051.33 | V34: 561725.42 | W34: 564060.34 | X34: 566098.65 | Y34: 567876.74 | Z34: 569425.98 | AA34: 1.1
D35: 63.136551 | E35: 63.597344 | F35: 64.058138 | G35: 64.979724 | H35: 66.822896 | I35: 68.666069 | J35: 70.509241 | K35: 72.352414 | L35: 74.195586 | M35: 76.038758 | N35: 77.881931 | O35: 79.725103 | P35: 81.568276 | Q35: 83.411448 | R35: 85.254621 | S35: 87.097793 | T35: 88.940965 | U35: 90.784138 | V35: 92.62731 | W35: 94.470483 | X35: 96.313655 | Y35: 98.156828 | Z35: 100 | AA35: 0
B37: Hulpvelden t.b.v grafiek | F37: Exponent | G37: Pref | H37: Qref
B38: Referentie | C38: 465000 | D38: 83.5 | F38: 5.639 | G38: 465000 | H38: 167
B39: Referentie (Qmax) | C39: 511473.91 | D39: 100
B40: Qmax | C40: 100 | D40: 100 | F40: Qmax | G40: 200
B41: Qmin | C41: 75 | D41: 75 | F41: Qmin | G41: 150
B42: Qref | C42: 83.5 | D42: 83.5 | F42: Qwensen | G42: 50
B43: P | C43: 0 | D43: 930000 | F43: LAQ | G43: -10 | H43: -10 | I43: genormaliseerd
B44: Bonus (extra) | C44: 175 | D44: 175 | F44: LAQ (norm) | G44: -5 | H44: -5
B45: Qeisen | C45: 37.5 | D45: 46500 | F45: Uw Inschrijving | G45: 75 | H45: 0
B46: Qwensen | C46: 87.5 | D46: 46500 | F46: Kenmerk | G46: IUC23-026 Perceel 9
B47: Qbonus | C47: 137.5 | D47: 46500 | F47: Naam | G47: IBP&D - Acunetix
