Workbook
Name LAQ: [1]Superformule!$K$22

Sheet Perceel 8
C2: Europese Aanbesteding
C3: InformatieBeveiliging Producten & Diensten
C4: Perceel 8
C5: IUC23-026 | D5: Naam Inschrijver:
C6: Prijzen exclusief BTW
C8: Omschrijving*
C9: Onderhoud & Support PingFederat
C10: * voor de volledige omschrijving van de Installed Base wordt verwezen naar "Bijlage 6 - Installed Base"
B13: No | C13: Dimensionering | D13: Hardware/Appliance Software | E13: Huidig aantal | F13: Aard / grondslag | H13: 2024 | I13: =+H13+1 -> 2025 | J13: =+I13+1 -> 2026 | K13: =+J13+1 -> 2027 | L13: =+K13+1 -> 2028
B14: 8.1 | C14: Ping Identity | D14: Ping Federate | E14: Nu nog Perpetual Enterprise
G16: wordt Subscription
B17: 8.2 | C17: Ping Identity | D17: Ping Central | E17: 40000 | G17: Groei | H17: =+E17*0.1 -> 4000 | I17: =SUM(H17:H18)*0.1 -> 4800 | J17: =+J18-I18 -> 1200
G18: Totaal Subscription | H18: =+E17+SUM(H17:H17) -> 44000 | I18: =+H18+SUM(I17:I17) -> 48800 | J18: 50000 | K18: 50000 | L18: 50000
B21: 1 | C21: Life Cycle Management / Uitbreiding / Onderhoud & Support
B22: No | C22: Fabrikant | D22: Hardware/Appliance Software | E22: Aard / grondslag | F22: Jaarprijs | G22: Minimaal kortings- percentage | H22: 2024 | I22: 2025 | J22: 2026 | K22: 2027 | L22: 2028 | M22: Totaal
B23: 8.1 | C23: Ping Identity | D23: Ping Federate | E23: Subscription | H23: =+F23*(1-G23) -> 0 | I23: =+H23 -> 0 | J23: =+I23 -> 0 | K23: =+J23 -> 0 | L23: =+K23 -> 0 | M23: =SUM(H23:L23) -> 0
B25: No | C25: Fabrikant | D25: Hardware/Appliance Software | E25: Aard / grondslag | F25: Prijs per eenheid | G25: Minimaal kortings- percentage | H25: 2024 | I25: 2025 | J25: 2026 | K25: 2027 | L25: 2028 | M25: Totaal
B26: 8.2 | C26: Ping Identity | D26: Ping Central | E26: Subscription | H26: =$F$26*(1-$G$26)*H18 -> 0 | I26: =$F$26*(1-$G$26)*I18 -> 0 | J26: =$F$26*(1-$G$26)*J18 -> 0 | K26: =$F$26*(1-$G$26)*K18 -> 0 | L26: =$F$26*(1-$G$26)*L18 -> 0 | M26: =SUM(H26:L26) -> 0
B29: 2 | C29: Productspecifieke vendor consultancy
C30: Fabrikant | D30: Functie | F30: Prijs per uur | G30: Indicatief aantal uren per jaar | H30: 2024 | I30: 2025 | J30: 2026 | K30: 2027 | L30: 2028 | M30: Totaal
C31: Ping Identity | D31: Consultancy | G31: =20*8 -> 160 | H31: =+F31*G31 -> 0 | I31: =+H31 -> 0 | J31: =+I31 -> 0 | K31: =+J31 -> 0 | L31: =+K31 -> 0 | M31: =SUM(H31:L31) -> 0
C34: Ten behoeve van vergelijkingswaarde Perceel 8 | M34: =+M31+M26+M23 -> 0

Sheet BPK-Grafiek
B2: Europese Aanbesteding
B3: IBP&D - Ping Identity
B4: BPK-Grafiek
B5: Kenmerk: IUC23-026 Perceel 8
B6: (Prijzen exclusief BTW)
D9: Vergelijkingswaarde | F9: ='Perceel 8'!M34 -> 0
D11: Indicatie eigen score | F11: Score Kwaliteit | G11: Procenten
D12: Kwaliteit in eisen | F12: =+DATA!G41 -> 150 | G12: =+F12/DATA!$G$40*100 -> 75 | H12: %
D13: Eigen inschatting score kwaliteit *1 | G13: =+F13/DATA!$G$40*100 -> 0 | H13: %
E14: Totaal kwaliteit | F14: =SUM(F12:F13) -> 150 | G14: =SUM(G12:G13) -> 75 | H14: %
D15: Indicatie BPK-score | F15: =+DATA!E7 -> 0.97435625
D16: *1 | E16: ="Eigen inschatting door Inschrijver. Waarde tussen 0 en "&F20&" punten." -> Eigen inschatting door Inschrijver. Waarde tussen 0 en 50 punten.
D18: Opbouw Score voor kwaliteit | F18: Punten | G18: Procenten
D19: Eisen | F19: =DATA!G41 -> 150 | G19: =+F19/DATA!$G$40*100 -> 75 | H19: %
D20: Wensen | F20: =DATA!G42 -> 50 | G20: =+F20/DATA!$G$40*100 -> 25 | H20: %
D21: Totaal | F21: =SUM(F19:F20) -> 200 | G21: =+F21/DATA!$G$40*100 -> 100 | H21: %
C83: Totaal kwaliteit | E83: 1650 | F83: =+E83/Qmax*100 -> #NAME? | G83: %

Sheet DATA
B2: Hulpdata Grafiek Superformule
B6: Hulpvelden
B7: Uw inschrijving | C7: =+'BPK-Grafiek'!$F$9 -> 0 | D7: =+'BPK-Grafiek'!$F$14 -> 150 | E7: =IFERROR((0.5*($C$7/$G$38)^$F$38+0.5*(2-$D$7/$H$38)^$F$38)^(1/$F$38),0) -> 0.97435625 | F7: =+D7/G40*100 -> 75
B9: LET OP !!! | C9: Voordat de TAB-bladen "TBV PRIJSMODEL (1)" EN "TBV PRIJSMODEL (2)" gekopieerd worden kan naar het Prijsmodel, moeten eerst onderstaande waarden ( oranje velden ) worden geselecteerd en worden gekopieerd en geplakt worden als WAARDEN (ctrl-C, plakken speciaal "waarden")
B11: EVMI-punten | C11: P | D11: Q | E11: EMVI
B12: Ref | C12: 1625000 | D12: 167 | E12: 1
B13: Ref (boven) | C13: 1787408.8 | D13: 200 | E13: 1.0000103
B14: Ref (onder) | C14: 0 | D14: 145.15737 | E14: 1
B16: EMVI-lijnen
C17: hulp=Q bij P=0 | D17: 0 | E17: 0.0125 | F17: 0.025 | G17: 0.05 | H17: 0.1 | I17: 0.15 | J17: 0.2 | K17: 0.25 | L17: 0.3 | M17: 0.35 | N17: 0.4 | O17: 0.45 | P17: 0.5 | Q17: 0.55 | R17: 0.6 | S17: 0.65 | T17: 0.7 | U17: 0.75 | V17: 0.8 | W17: 0.85 | X17: 0.9 | Y17: 0.95 | Z17: 1 | AA17: 0
B18: Q berekend bij P=0 en EMVI=1 | C18: 145.15737 | D18: 145.15737 | E18: 145.8429 | F18: 146.52843 | G18: 147.8995 | H18: 150.64163 | I18: 153.38376 | J18: 156.12589 | K18: 158.86802 | L18: 161.61016 | M18: 164.35229 | N18: 167.09442 | O18: 169.83655 | P18: 172.57868 | Q18: 175.32081 | R18: 178.06295 | S18: 180.80508 | T18: 183.54721 | U18: 186.28934 | V18: 189.03147 | W18: 191.7736 | X18: 194.51574 | Y18: 197.25787 | Z18: 200 | AA18: EMVI
B19: P berekend uit Q en EMVI=1 | D19: 0 | E19: 920641.41 | F19: 1039503.6 | G19: 1171963.8 | H19: 1317378.8 | I19: 1407202 | J19: 1472100 | K19: 1522490.9 | L19: 1563277.2 | M19: 1597189.1 | N19: 1625916.4 | O19: 1650583.6 | P19: 1671981.1 | Q19: 1690687 | R19: 1707139.1 | S19: 1721677.3 | T19: 1734571.7 | U19: 1746040.9 | V19: 1756265 | W19: 1765393.8 | X19: 1773554.2 | Y19: 1780854.3 | Z19: 1787387.2 | AA19: 1
D20: 72.578683 | E20: 72.92145 | F20: 73.264216 | G20: 73.949749 | H20: 75.320815 | I20: 76.691881 | J20: 78.062946 | K20: 79.434012 | L20: 80.805078 | M20: 82.176144 | N20: 83.54721 | O20: 84.918276 | P20: 86.289342 | Q20: 87.660407 | R20: 89.031473 | S20: 90.402539 | T20: 91.773605 | U20: 93.144671 | V20: 94.515737 | W20: 95.886802 | X20: 97.257868 | Y20: 98.628934 | Z20: 100 | AA20: 0
B21: Q berekend bij P=0 en EMVI=0,9 | C21: 164.04163 | D21: 164.04163 | E21: 164.49111 | F21: 164.94059 | G21: 165.83955 | H21: 167.63747 | I21: 169.43539 | J21: 171.2333 | K21: 173.03122 | L21: 174.82914 | M21: 176.62706 | N21: 178.42498 | O21: 180.2229 | P21: 182.02081 | Q21: 183.81873 | R21: 185.61665 | S21: 187.41457 | T21: 189.21249 | U21: 191.01041 | V21: 192.80833 | W21: 194.60624 | X21: 196.40416 | Y21: 198.20208 | Z21: 200 | AA21: EMVI
B22: P berekend uit Q en EMVI=0,9 | D22: 0 | E22: 783636.16 | F22: 885168.22 | G22: 998769.7 | H22: 1124508.4 | I22: 1203113.4 | J22: 1260614.3 | K22: 1305842.1 | L22: 1342946.5 | M22: 1374235.2 | N22: 1401133.8 | O22: 1424589.7 | P22: 1445267.1 | Q22: 1463651.1 | R22: 1480107.9 | S22: 1494921.3 | T22: 1508316.1 | U22: 1520474 | V22: 1531543.7 | W22: 1541649.2 | X22: 1550894.6 | Y22: 1559368.7 | Z22: 1567147.7 | AA22: 0.9
D23: 82.020815 | E23: 82.245555 | F23: 82.470294 | G23: 82.919774 | H23: 83.818733 | I23: 84.717693 | J23: 85.616652 | K23: 86.515611 | L23: 87.41457 | M23: 88.31353 | N23: 89.212489 | O23: 90.111448 | P23: 91.010407 | Q23: 91.909367 | R23: 92.808326 | S23: 93.707285 | T23: 94.606244 | U23: 95.505204 | V23: 96.404163 | W23: 97.303122 | X23: 98.202081 | Y23: 99.101041 | Z23: 100 | AA23: 0
B24: Q berekend bij P=0 en EMVI=0,8 | C24: 182.92589 | D24: 182.92589 | E24: 183.13932 | F24: 183.35275 | G24: 183.7796 | H24: 184.6333 | I24: 185.48701 | J24: 186.34071 | K24: 187.19442 | L24: 188.04813 | M24: 188.90183 | N24: 189.75554 | O24: 190.60924 | P24: 191.46295 | Q24: 192.31665 | R24: 193.17036 | S24: 194.02406 | T24: 194.87777 | U24: 195.73147 | V24: 196.58518 | W24: 197.43888 | X24: 198.29259 | Y24: 199.14629 | Z24: 200 | AA24: EMVI
B25: P berekend uit Q en EMVI=0,8 | D25: 0 | E25: 623579.15 | F25: 704730.15 | G25: 795979.58 | H25: 898001.36 | I25: 962712.4 | J25: 1010754.5 | K25: 1049119.7 | L25: 1081088.6 | M25: 1108482.4 | N25: 1132424.3 | O25: 1153659.6 | P25: 1172709.4 | Q25: 1189954 | R25: 1205679.6 | S25: 1220107.5 | T25: 1233412.7 | U25: 1245736 | V25: 1257192.7 | W25: 1267878.4 | X25: 1277873.3 | Y25: 1287245.4 | Z25: 1296053 | AA25: 0.8
D26: 91.462946 | E26: 91.56966 | F26: 91.676373 | G26: 91.889799 | H26: 92.316652 | I26: 92.743504 | J26: 93.170357 | K26: 93.59721 | L26: 94.024063 | M26: 94.450915 | N26: 94.877768 | O26: 95.304621 | P26: 95.731473 | Q26: 96.158326 | R26: 96.585179 | S26: 97.012031 | T26: 97.438884 | U26: 97.865737 | V26: 98.292589 | W26: 98.719442 | X26: 99.146295 | Y26: 99.573147 | Z26: 100
B27: Q berekend bij P=0 en EMVI=0,7 | C27: 201.81016 | D27: 201.81016 | E27: 201.78753 | F27: 201.7649 | G27: 201.71965 | H27: 201.62914 | I27: 201.53863 | J27: 201.44813 | K27: 201.35762 | L27: 201.26711 | M27: 201.1766 | N27: 201.08609 | O27: 200.99559 | P27: 200.90508 | Q27: 200.81457 | R27: 200.72406 | S27: 200.63355 | T27: 200.54305 | U27: 200.45254 | V27: 200.36203 | W27: 200.27152 | X27: 200.18102 | Y27: 200.09051 | Z27: 200 | AA27: EMVI
B28: P berekend uit Q en EMVI=0,7 | D28: 0 | E28: 0 | F28: 0 | G28: 0 | H28: 0 | I28: 0 | J28: 0 | K28: 0 | L28: 0 | M28: 0 | N28: 0 | O28: 0 | P28: 0 | Q28: 0 | R28: 0 | S28: 0 | T28: 0 | U28: 0 | V28: 0 | W28: 0 | X28: 0 | Y28: 0 | Z28: 0 | AA28: 0.7
D29: 100.90508 | E29: 100.89376 | F29: 100.88245 | G29: 100.85982 | H29: 100.81457 | I29: 100.76932 | J29: 100.72406 | K29: 100.67881 | L29: 100.63355 | M29: 100.5883 | N29: 100.54305 | O29: 100.49779 | P29: 100.45254 | Q29: 100.40729 | R29: 100.36203 | S29: 100.31678 | T29: 100.27152 | U29: 100.22627 | V29: 100.18102 | W29: 100.13576 | X29: 100.09051 | Y29: 100.04525 | Z29: 100 | AA29: 0
B30: Q berekend bij P=0 en EMVI=0,6 | C30: 220.69442 | D30: 220.69442 | E30: 220.43574 | F30: 220.17706 | G30: 219.6597 | H30: 218.62498 | I30: 217.59026 | J30: 216.55554 | K30: 215.52081 | L30: 214.48609 | M30: 213.45137 | N30: 212.41665 | O30: 211.38193 | P30: 210.34721 | Q30: 209.31249 | R30: 208.27777 | S30: 207.24305 | T30: 206.20833 | U30: 205.1736 | V30: 204.13888 | W30: 203.10416 | X30: 202.06944 | Y30: 201.03472 | Z30: 200 | AA30: EMVI
B31: P berekend uit Q en EMVI=0,6 | D31: 0 | E31: 0 | F31: 0 | G31: 0 | H31: 0 | I31: 0 | J31: 0 | K31: 0 | L31: 0 | M31: 0 | N31: 0 | O31: 0 | P31: 0 | Q31: 0 | R31: 0 | S31: 0 | T31: 0 | U31: 0 | V31: 0 | W31: 0 | X31: 0 | Y31: 0 | Z31: 0 | AA31: 0.6
D32: 110.34721 | E32: 110.21787 | F32: 110.08853 | G32: 109.82985 | H32: 109.31249 | I32: 108.79513 | J32: 108.27777 | K32: 107.76041 | L32: 107.24305 | M32: 106.72569 | N32: 106.20833 | O32: 105.69097 | P32: 105.1736 | Q32: 104.65624 | R32: 104.13888 | S32: 103.62152 | T32: 103.10416 | U32: 102.5868 | V32: 102.06944 | W32: 101.55208 | X32: 101.03472 | Y32: 100.51736 | Z32: 100
B33: Q berekend bij P=0 en EMVI=1,1 | C33: 126.2731 | D33: 126.2731 | E33: 127.19469 | F33: 128.11628 | G33: 129.95945 | H33: 133.64579 | I33: 137.33214 | J33: 141.01848 | K33: 144.70483 | L33: 148.39117 | M33: 152.07752 | N33: 155.76386 | O33: 159.45021 | P33: 163.13655 | Q33: 166.8229 | R33: 170.50924 | S33: 174.19559 | T33: 177.88193 | U33: 181.56828 | V33: 185.25462 | W33: 188.94097 | X33: 192.62731 | Y33: 196.31366 | Z33: 200 | AA33: EMVI
B34: P berekend uit Q en EMVI=1,1 | D34: 0 | E34: 1049029.9 | F34: 1184075.8 | G34: 1334075.6 | H34: 1497629.6 | I34: 1597647.3 | J34: 1669153.9 | K34: 1724062.1 | L34: 1767985 | M34: 1804053 | N34: 1834206.2 | O34: 1859738.6 | P34: 1881560.9 | Q34: 1900341.2 | R34: 1916586.2 | S34: 1930690.3 | T34: 1942967.9 | U34: 1953674 | V34: 1963019 | W34: 1971178.6 | X34: 1978301.7 | Y34: 1984515.5 | Z34: 1989929.5 | AA34: 1.1
D35: 63.136551 | E35: 63.597344 | F35: 64.058138 | G35: 64.979724 | H35: 66.822896 | I35: 68.666069 | J35: 70.509241 | K35: 72.352414 | L35: 74.195586 | M35: 76.038758 | N35: 77.881931 | O35: 79.725103 | P35: 81.568276 | Q35: 83.411448 | R35: 85.254621 | S35: 87.097793 | T35: 88.940965 | U35: 90.784138 | V35: 92.62731 | W35: 94.470483 | X35: 96.313655 | Y35: 98.156828 | Z35: 100 | AA35: 0
B37: Hulpvelden t.b.v grafiek | F37: Exponent | G37: Pref | H37: Qref
B38: Referentie | C38: 1625000 | D38: 83.5 | F38: 5.639 | G38: 1625000 | H38: 167
B39: Referentie (Qmax) | C39: 1787408.8 | D39: 100
B40: Qmax | C40: 100 | D40: 100 | F40: Qmax | G40: 200
B41: Qmin | C41: 75 | D41: 75 | F41: Qmin | G41: 150
B42: Qref | C42: 83.5 | D42: 83.5 | F42: Qwensen | G42: 50
B43: P | C43: 0 | D43: 3250000 | F43: LAQ | G43: -10 | H43: -10 | I43: genormaliseerd
B44: Bonus (extra) | C44: 175 | D44: 175 | F44: LAQ (norm) | G44: -5 | H44: -5
B45: Qeisen | C45: 37.5 | D45: 162500 | F45: Uw Inschrijving | G45: 75 | H45: 0
B46: Qwensen | C46: 87.5 | D46: 162500 | F46: Kenmerk | G46: IUC23-026 Perceel 8
B47: Qbonus | C47: 137.5 | D47: 162500 | F47: Naam | G47: IBP&D - Ping Identity
