Workbook
Name LAQ: [1]Superformule!$K$22

Sheet Perceel 7
C2: Europese Aanbesteding
C3: InformatieBeveiliging Producten & Diensten
C4: Perceel 7
C5: IUC23-026 | D5: Naam Inschrijver:
C6: Prijzen exclusief BTW
C8: Omschrijving*
C9: Onderhoud & Support & subscription Rapid7 Nexpose (perpetual License)
C10: * voor de volledige omschrijving van de Installed Base wordt verwezen naar "Bijlage 6 - Installed Base"
B13: No | C13: Dimensionering | D13: Hardware/Appliance Software | E13: Huidig aantal | F13: Aard / grondslag | H13: 2024 | I13: =+H13+1 -> 2025 | J13: =+I13+1 -> 2026 | K13: =+J13+1 -> 2027 | L13: =+K13+1 -> 2028 | M13: =+L13+1 -> 2029 | N13: =+M13+1 -> 2030 | O13: =+N13+1 -> 2031 | P13: =+O13+1 -> 2032 | Q13: =+P13+1 -> 2033
B14: 7.1 | C14: Rapid7 | D14: Rapid7 Nexpose Enterprise Subscription | Licensed for the specified IP Range - Renewal, incl discovery, web scanning, unl. scan engines, unl. Templates up to 5 Nexpose Enterprise Consoles, incl. recht op Nieuwe Versies | E14: 65528 | G14: Life Cycle management
G15: Uitbreiding | I15: 1000 | N15: 1000
G16: Onderhoud & Support | H16: =+E14+SUM(H14:H15) -> 65528 | I16: =+H16+SUM(I14:I15) -> 66528 | J16: =+I16+SUM(J14:J15) -> 66528 | K16: =+J16+SUM(K14:K15) -> 66528 | L16: =+K16+SUM(L14:L15) -> 66528 | M16: =+L16+SUM(M14:M15) -> 66528 | N16: =+M16+SUM(N14:N15) -> 67528 | O16: =+N16+SUM(O14:O15) -> 67528 | P16: =+O16+SUM(P14:P15) -> 67528 | Q16: =+P16+SUM(Q14:Q15) -> 67528
B19: 1 | C19: Life Cycle Management / Uitbreiding / Onderhoud & Support
B20: No | C20: Fabrikant | D20: Hardware/Appliance Software | E20: Aard / grondslag | F20: Jaarprijs | G20: Kortings- percentage | H20: 2024 | I20: 2025 | J20: 2026 | K20: 2027 | L20: 2028 | M20: 2029 | N20: 2030 | O20: 2031 | P20: 2032 | Q20: 2033 | R20: Totaal
B21: 7.1 | C21: Rapid7 | D21: Rapid7 Nexpose Enterprise Subscription | Licensed for the specified IP Range - Renewal, incl discovery, web scanning, unl. scan engines, unl. Templates up to 5 Nexpose Enterprise Consoles, incl. recht op Nieuwe Versies | E21: Onderhoud & Support | H21: =F21*(1-G21) -> 0 | I21: =H21 -> 0 | J21: =I21 -> 0 | K21: =J21 -> 0 | L21: =K21 -> 0 | M21: =L21 -> 0 | N21: =M21 -> 0 | O21: =N21 -> 0 | P21: =O21 -> 0 | Q21: =P21 -> 0 | R21: =SUM(H21:Q21) -> 0
B27: 2 | C27: Productspecifieke vendor consultancy
C28: Fabrikant | D28: Functie | F28: Prijs per uur | G28: Indicatief aantal uren per jaar | H28: 2024 | I28: 2025 | J28: 2026 | K28: 2027 | L28: 2028 | M28: 2029 | N28: 2030 | O28: 2031 | P28: 2032 | Q28: 2033 | R28: Totaal
C29: Rapid7 | D29: Consultancy | G29: =20*8 -> 160 | H29: =+F29*G29 -> 0 | I29: =+H29 -> 0 | J29: =+I29 -> 0 | K29: =+J29 -> 0 | L29: =+K29 -> 0 | M29: =+L29 -> 0 | N29: =+M29 -> 0 | O29: =+N29 -> 0 | P29: =+O29 -> 0 | Q29: =+P29 -> 0 | R29: =SUM(H29:Q29) -> 0
C32: Ten behoeve van vergelijkingswaarde Perceel 7 | R32: =+R29+R21 -> 0

Sheet BPK-Grafiek
B2: Europese Aanbesteding
B3: IBP&D - Rapid7
B4: BPK-Grafiek
B5: Kenmerk: IUC23-026 Perceel 7
B6: (Prijzen exclusief BTW)
D9: Vergelijkingswaarde | F9: ='Perceel 7'!R32 -> 0
D11: Indicatie eigen score | F11: Score Kwaliteit | G11: Procenten
D12: Kwaliteit in eisen | F12: =+DATA!G41 -> 150 | G12: =+F12/DATA!$G$40*100 -> 75 | H12: %
D13: Eigen inschatting score kwaliteit *1 | G13: =+F13/DATA!$G$40*100 -> 0 | H13: %
E14: Totaal kwaliteit | F14: =SUM(F12:F13) -> 150 | G14: =SUM(G12:G13) -> 75 | H14: %
D15: Indicatie BPK-score | F15: =+DATA!E7 -> 0.5508982
D16: *1 | E16: ="Eigen inschatting door Inschrijver. Waarde tussen 0 en "&F20&" punten." -> Eigen inschatting door Inschrijver. Waarde tussen 0 en 50 punten.
D18: Opbouw Score voor kwaliteit | F18: Punten | G18: Procenten
D19: Eisen | F19: =DATA!G41 -> 150 | G19: =+F19/DATA!$G$40*100 -> 75 | H19: %
D20: Wensen | F20: =DATA!G42 -> 50 | G20: =+F20/DATA!$G$40*100 -> 25 | H20: %
D21: Totaal | F21: =SUM(F19:F20) -> 200 | G21: =+F21/DATA!$G$40*100 -> 100 | H21: %
C83: Totaal kwaliteit | E83: 1650 | F83: =+E83/Qmax*100 -> #NAME? | G83: %

Sheet DATA
B2: Hulpdata Grafiek Superformule
B6: Hulpvelden
B7: Uw inschrijving | C7: =+'BPK-Grafiek'!$F$9 -> 0 | D7: =+'BPK-Grafiek'!$F$14 -> 150 | E7: =IFERROR((0.5*($C$7/$G$38)^$F$38+0.5*(2-$D$7/$H$38)^$F$38)^(1/$F$38),0) -> 0.5508982 | F7: =+D7/G40*100 -> 75
B9: LET OP !!! | C9: Voordat de TAB-bladen "TBV PRIJSMODEL (1)" EN "TBV PRIJSMODEL (2)" gekopieerd worden kan naar het Prijsmodel, moeten eerst onderstaande waarden ( oranje velden ) worden geselecteerd en worden gekopieerd en geplakt worden als WAARDEN (ctrl-C, plakken speciaal "waarden")
B11: EVMI-punten | C11: P | D11: Q | E11: EMVI
B12: Ref | C12: 1070000 | D12: 167 | E12: 1
B13: Ref (boven) | C13: 1281437.1 | D13: 200 | E13: 1
B14: Ref (onder) | C14: 0 | D14: 0 | E14: 1
B16: EMVI-lijnen
C17: hulp=Q bij P=0 | D17: 0 | E17: 0.0125 | F17: 0.025 | G17: 0.05 | H17: 0.1 | I17: 0.15 | J17: 0.2 | K17: 0.25 | L17: 0.3 | M17: 0.35 | N17: 0.4 | O17: 0.45 | P17: 0.5 | Q17: 0.55 | R17: 0.6 | S17: 0.65 | T17: 0.7 | U17: 0.75 | V17: 0.8 | W17: 0.85 | X17: 0.9 | Y17: 0.95 | Z17: 1 | AA17: 0
B18: Q berekend bij P=0 en EMVI=1 | C18: 0 | D18: 0 | E18: 2.5 | F18: 5 | G18: 10 | H18: 20 | I18: 30 | J18: 40 | K18: 50 | L18: 60 | M18: 70 | N18: 80 | O18: 90 | P18: 100 | Q18: 110 | R18: 120 | S18: 130 | T18: 140 | U18: 150 | V18: 160 | W18: 170 | X18: 180 | Y18: 190 | Z18: 200 | AA18: EMVI
B19: P berekend uit Q en EMVI=1 | D19: 0 | E19: 16017.964 | F19: 32035.928 | G19: 64071.856 | H19: 128143.71 | I19: 192215.57 | J19: 256287.43 | K19: 320359.28 | L19: 384431.14 | M19: 448502.99 | N19: 512574.85 | O19: 576646.71 | P19: 640718.56 | Q19: 704790.42 | R19: 768862.28 | S19: 832934.13 | T19: 897005.99 | U19: 961077.84 | V19: 1025149.7 | W19: 1089221.6 | X19: 1153293.4 | Y19: 1217365.3 | Z19: 1281437.1 | AA19: 1
D20: 0 | E20: 1.25 | F20: 2.5 | G20: 5 | H20: 10 | I20: 15 | J20: 20 | K20: 25 | L20: 30 | M20: 35 | N20: 40 | O20: 45 | P20: 50 | Q20: 55 | R20: 60 | S20: 65 | T20: 70 | U20: 75 | V20: 80 | W20: 85 | X20: 90 | Y20: 95 | Z20: 100 | AA20: 0
B21: Q berekend bij P=0 en EMVI=0,9 | C21: 33.4 | D21: 33.4 | E21: 35.4825 | F21: 37.565 | G21: 41.73 | H21: 50.06 | I21: 58.39 | J21: 66.72 | K21: 75.05 | L21: 83.38 | M21: 91.71 | N21: 100.04 | O21: 108.37 | P21: 116.7 | Q21: 125.03 | R21: 133.36 | S21: 141.69 | T21: 150.02 | U21: 158.35 | V21: 166.68 | W21: 175.01 | X21: 183.34 | Y21: 191.67 | Z21: 200 | AA21: EMVI
B22: P berekend uit Q en EMVI=0,9 | D22: 0 | E22: 13342.964 | F22: 26685.928 | G22: 53371.856 | H22: 106743.71 | I22: 160115.57 | J22: 213487.43 | K22: 266859.28 | L22: 320231.14 | M22: 373602.99 | N22: 426974.85 | O22: 480346.71 | P22: 533718.56 | Q22: 587090.42 | R22: 640462.28 | S22: 693834.13 | T22: 747205.99 | U22: 800577.84 | V22: 853949.7 | W22: 907321.56 | X22: 960693.41 | Y22: 1014065.3 | Z22: 1067437.1 | AA22: 0.9
D23: 16.7 | E23: 17.74125 | F23: 18.7825 | G23: 20.865 | H23: 25.03 | I23: 29.195 | J23: 33.36 | K23: 37.525 | L23: 41.69 | M23: 45.855 | N23: 50.02 | O23: 54.185 | P23: 58.35 | Q23: 62.515 | R23: 66.68 | S23: 70.845 | T23: 75.01 | U23: 79.175 | V23: 83.34 | W23: 87.505 | X23: 91.67 | Y23: 95.835 | Z23: 100 | AA23: 0
B24: Q berekend bij P=0 en EMVI=0,8 | C24: 66.8 | D24: 66.8 | E24: 68.465 | F24: 70.13 | G24: 73.46 | H24: 80.12 | I24: 86.78 | J24: 93.44 | K24: 100.1 | L24: 106.76 | M24: 113.42 | N24: 120.08 | O24: 126.74 | P24: 133.4 | Q24: 140.06 | R24: 146.72 | S24: 153.38 | T24: 160.04 | U24: 166.7 | V24: 173.36 | W24: 180.02 | X24: 186.68 | Y24: 193.34 | Z24: 200 | AA24: EMVI
B25: P berekend uit Q en EMVI=0,8 | D25: 0 | E25: 10667.964 | F25: 21335.928 | G25: 42671.856 | H25: 85343.713 | I25: 128015.57 | J25: 170687.43 | K25: 213359.28 | L25: 256031.14 | M25: 298702.99 | N25: 341374.85 | O25: 384046.71 | P25: 426718.56 | Q25: 469390.42 | R25: 512062.28 | S25: 554734.13 | T25: 597405.99 | U25: 640077.84 | V25: 682749.7 | W25: 725421.56 | X25: 768093.41 | Y25: 810765.27 | Z25: 853437.13 | AA25: 0.8
D26: 33.4 | E26: 34.2325 | F26: 35.065 | G26: 36.73 | H26: 40.06 | I26: 43.39 | J26: 46.72 | K26: 50.05 | L26: 53.38 | M26: 56.71 | N26: 60.04 | O26: 63.37 | P26: 66.7 | Q26: 70.03 | R26: 73.36 | S26: 76.69 | T26: 80.02 | U26: 83.35 | V26: 86.68 | W26: 90.01 | X26: 93.34 | Y26: 96.67 | Z26: 100
B27: Q berekend bij P=0 en EMVI=0,7 | C27: 100.2 | D27: 100.2 | E27: 101.4475 | F27: 102.695 | G27: 105.19 | H27: 110.18 | I27: 115.17 | J27: 120.16 | K27: 125.15 | L27: 130.14 | M27: 135.13 | N27: 140.12 | O27: 145.11 | P27: 150.1 | Q27: 155.09 | R27: 160.08 | S27: 165.07 | T27: 170.06 | U27: 175.05 | V27: 180.04 | W27: 185.03 | X27: 190.02 | Y27: 195.01 | Z27: 200 | AA27: EMVI
B28: P berekend uit Q en EMVI=0,7 | D28: 0 | E28: 7992.9641 | F28: 15985.928 | G28: 31971.856 | H28: 63943.713 | I28: 95915.569 | J28: 127887.43 | K28: 159859.28 | L28: 191831.14 | M28: 223802.99 | N28: 255774.85 | O28: 287746.71 | P28: 319718.56 | Q28: 351690.42 | R28: 383662.28 | S28: 415634.13 | T28: 447605.99 | U28: 479577.84 | V28: 511549.7 | W28: 543521.56 | X28: 575493.41 | Y28: 607465.27 | Z28: 639437.13 | AA28: 0.7
D29: 50.1 | E29: 50.72375 | F29: 51.3475 | G29: 52.595 | H29: 55.09 | I29: 57.585 | J29: 60.08 | K29: 62.575 | L29: 65.07 | M29: 67.565 | N29: 70.06 | O29: 72.555 | P29: 75.05 | Q29: 77.545 | R29: 80.04 | S29: 82.535 | T29: 85.03 | U29: 87.525 | V29: 90.02 | W29: 92.515 | X29: 95.01 | Y29: 97.505 | Z29: 100 | AA29: 0
B30: Q berekend bij P=0 en EMVI=0,6 | C30: 133.6 | D30: 133.6 | E30: 134.43 | F30: 135.26 | G30: 136.92 | H30: 140.24 | I30: 143.56 | J30: 146.88 | K30: 150.2 | L30: 153.52 | M30: 156.84 | N30: 160.16 | O30: 163.48 | P30: 166.8 | Q30: 170.12 | R30: 173.44 | S30: 176.76 | T30: 180.08 | U30: 183.4 | V30: 186.72 | W30: 190.04 | X30: 193.36 | Y30: 196.68 | Z30: 200 | AA30: EMVI
B31: P berekend uit Q en EMVI=0,6 | D31: 0 | E31: 5317.9641 | F31: 10635.928 | G31: 21271.856 | H31: 42543.713 | I31: 63815.569 | J31: 85087.425 | K31: 106359.28 | L31: 127631.14 | M31: 148902.99 | N31: 170174.85 | O31: 191446.71 | P31: 212718.56 | Q31: 233990.42 | R31: 255262.28 | S31: 276534.13 | T31: 297805.99 | U31: 319077.84 | V31: 340349.7 | W31: 361621.56 | X31: 382893.41 | Y31: 404165.27 | Z31: 425437.13 | AA31: 0.6
D32: 66.8 | E32: 67.215 | F32: 67.63 | G32: 68.46 | H32: 70.12 | I32: 71.78 | J32: 73.44 | K32: 75.1 | L32: 76.76 | M32: 78.42 | N32: 80.08 | O32: 81.74 | P32: 83.4 | Q32: 85.06 | R32: 86.72 | S32: 88.38 | T32: 90.04 | U32: 91.7 | V32: 93.36 | W32: 95.02 | X32: 96.68 | Y32: 98.34 | Z32: 100
B33: Q berekend bij P=0 en EMVI=1,1 | C33: -33.4 | D33: -33.4 | E33: -30.4825 | F33: -27.565 | G33: -21.73 | H33: -10.06 | I33: 1.61 | J33: 13.28 | K33: 24.95 | L33: 36.62 | M33: 48.29 | N33: 59.96 | O33: 71.63 | P33: 83.3 | Q33: 94.97 | R33: 106.64 | S33: 118.31 | T33: 129.98 | U33: 141.65 | V33: 153.32 | W33: 164.99 | X33: 176.66 | Y33: 188.33 | Z33: 200 | AA33: EMVI
B34: P berekend uit Q en EMVI=1,1 | D34: 0 | E34: 18692.964 | F34: 37385.928 | G34: 74771.856 | H34: 149543.71 | I34: 224315.57 | J34: 299087.43 | K34: 373859.28 | L34: 448631.14 | M34: 523402.99 | N34: 598174.85 | O34: 672946.71 | P34: 747718.56 | Q34: 822490.42 | R34: 897262.28 | S34: 972034.13 | T34: 1046806 | U34: 1121577.8 | V34: 1196349.7 | W34: 1271121.6 | X34: 1345893.4 | Y34: 1420665.3 | Z34: 1495437.1 | AA34: 1.1
D35: -16.7 | E35: -15.24125 | F35: -13.7825 | G35: -10.865 | H35: -5.03 | I35: 0.805 | J35: 6.64 | K35: 12.475 | L35: 18.31 | M35: 24.145 | N35: 29.98 | O35: 35.815 | P35: 41.65 | Q35: 47.485 | R35: 53.32 | S35: 59.155 | T35: 64.99 | U35: 70.825 | V35: 76.66 | W35: 82.495 | X35: 88.33 | Y35: 94.165 | Z35: 100 | AA35: 0
B37: Hulpvelden t.b.v grafiek | F37: Exponent | G37: Pref | H37: Qref
B38: Referentie | C38: 1070000 | D38: 83.5 | F38: 1 | G38: 1070000 | H38: 167
B39: Referentie (Qmax) | C39: 1281437.1 | D39: 100
B40: Qmax | C40: 100 | D40: 100 | F40: Qmax | G40: 200
B41: Qmin | C41: 75 | D41: 75 | F41: Qmin | G41: 150
B42: Qref | C42: 83.5 | D42: 83.5 | F42: Qwensen | G42: 50
B43: P | C43: 0 | D43: 2140000 | F43: LAQ | G43: -10 | H43: -10 | I43: genormaliseerd
B44: Bonus (extra) | C44: 175 | D44: 175 | F44: LAQ (norm) | G44: -5 | H44: -5
B45: Qeisen | C45: 37.5 | D45: 107000 | F45: Uw Inschrijving | G45: 75 | H45: 0
B46: Qwensen | C46: 87.5 | D46: 107000 | F46: Kenmerk | G46: IUC23-026 Perceel 7
B47: Qbonus | C47: 137.5 | D47: 107000 | F47: Naam | G47: IBP&D - Rapid7
