Workbook
Name _100: Bestelapplicatie!$E$11:$G$11
Name _1050: Bestelapplicatie!$F$3:$I$3
Name _50: Bestelapplicatie!$F$2:$H$2
Name OPENVRAGEN: Bestelapplicatie!$E$1:$E$6
Name SCORE: #REF!
Name SCOREOV: Bestelapplicatie!#REF!
Name UGV: #REF!
Name UVO: #REF!

Sheet Bestelapplicatie
A1: 7.2 Beoordelingscriteria bestelportal | C1: Te behalen score | E1: SCORE | F1: SCORE | G1: SCORE | H1: SCORE | I1: SCORE | J1: SCORE
A2: Algemeen | B2: Login werkt conform opgegeven inloggegevens. | C2: Ja: 5 punten Nee: 0 punten | E2: UITMUNTEND | F2: 5 | G2: 1 | H2: 5 | I2: 10 | J2: 10
B3: Algehele indruk opzet/ uitstraling/ laagdrempeligheid. | C3: 1 tot 5 punten | E3: GOED | F3: 0 | G3: 2 | H3: 3 | I3: 5 | J3: 5
A4: Gebruikers vriendelijkheid | B4: Mogelijkheid van vrij tekstveld. | C4: Ja: 5 punten Nee: 0 punten | E4: VOLDOENDE | G4: 3 | H4: 0 | I4: 0 | J4: 1
B5: Aanwezigheid van help-functies, automatische tips en ondersteuning. | C5: Ja: 5 punten Redelijk: 3 punten Nee: 0 punten | E5: MATIG | G5: 4
B6: Mogelijkheid tot inzage in bestelstatus | C6: Ja: 5 punten Nee: 0 punten | E6: ONVOLDOENDE | G6: 5
B7: Mate van logische opbouw van de schermen en eenvoud van de opzet van de bestelapplicatie | C7: 1 tot 5 punten
B8: Afbeeldingen van artikelen zichtbaar. | C8: Ja: 5 punten Nee: 0 punten
B9: Aantal beschikbare artikelen/ voorraad zichtbaar. | C9: Ja: 5 punten Nee: 0 punten
B10: Levertijd zichtbaar (voordat de bestelling geplaatst is). | C10: Ja: 5 punten Nee: 0 punten
A11: Prijzen | B11: Juiste prijzen (tarieven conform het ingediende prijzenblad van de inschrijver en BTW) komen online in beeld (tijdens bestellen). Dit moet gelden voor alle bestellingen. | C11: Ja: 5 punten Nee: 0 punten
A12: Huisstijl | B12: De website is herkenbaar voor gebruikers/ bestellers van de aanbestedende dienst als ware het een eigen webshop van aanbestedende dienst is (uitgangspunt de stijl van Fierder.nl) | C12: Goed: 10 punten Voldoende: 5 punten Matig: 1 punt
A13: Communicatie | B13: Automatische e-mail notificatie (e-mailadres moet dus een verplicht veld zijn). | C13: Ja: 5 punten Nee: 0 punten
A14: Aflevering | B14: Het afleveradres van de scholen is per bestelling met een pull down te wijzigen. | C14: Ja: 5 punten Nee: 0 punten
A15: Klachten | B15: De bestelportal beschikt over een module waar klachten kunnen worden ingediend | C15: Ja: 5 punten Nee: 0 punten
B16: De waarde voor het subcriterium “bestelportal” komt tot stand door het eindgetal te vermenigvuldigen keer € 266,67,- (de maximaal te behalen waarde bedraagt € 20.000,-). | C16: Op dit subcriterium dient de inschrijver minimaal een score van 50 punten te behalen

Sheet Locatie directeur 1
B1: Beoordelaar 1: Locatie directeur 1 | D1: Inschrijver 1 | G1: Inschrijver 2 | J1: Inschrijver 3
B2: =Bestelapplicatie!A1 -> 7.2 Beoordelingscriteria bestelportal | D2: Score: | G2: Score: | J2: Score:
A3: =Bestelapplicatie!A2 -> Algemeen | B3: =Bestelapplicatie!B2 -> Login werkt conform opgegeven inloggegevens. | D3: SCORE | G3: SCORE | J3: SCORE
D4: <MOTIVATIE> | G4: <MOTIVATIE> | J4: <MOTIVATIE>
B5: =Bestelapplicatie!B3 -> Algehele indruk opzet/ uitstraling/ laagdrempeligheid. | D5: SCORE | G5: SCORE | J5: SCORE
D6: <MOTIVATIE> | G6: <MOTIVATIE> | J6: <MOTIVATIE>
A7: Gebruikers vriendelijkheid | B7: =Bestelapplicatie!B4 -> Mogelijkheid van vrij tekstveld. | D7: SCORE | G7: SCORE | J7: SCORE
D8: <MOTIVATIE> | G8: <MOTIVATIE> | J8: <MOTIVATIE>
B9: =Bestelapplicatie!B5 -> Aanwezigheid van help-functies, automatische tips en ondersteuning. | D9: SCORE | G9: SCORE | J9: SCORE
D10: <MOTIVATIE> | G10: <MOTIVATIE> | J10: <MOTIVATIE>
B11: =Bestelapplicatie!B6 -> Mogelijkheid tot inzage in bestelstatus | D11: SCORE | G11: SCORE | J11: SCORE
D12: <MOTIVATIE> | G12: <MOTIVATIE> | J12: <MOTIVATIE>
B13: =Bestelapplicatie!B7 -> Mate van logische opbouw van de schermen en eenvoud van de opzet van de bestelapplicatie | D13: SCORE | G13: SCORE | J13: SCORE
D14: <MOTIVATIE> | G14: <MOTIVATIE> | J14: <MOTIVATIE>
B15: =Bestelapplicatie!B8 -> Afbeeldingen van artikelen zichtbaar. | D15: SCORE | G15: SCORE | J15: SCORE
D16: <MOTIVATIE> | G16: <MOTIVATIE> | J16: <MOTIVATIE>
B17: =Bestelapplicatie!B9 -> Aantal beschikbare artikelen/ voorraad zichtbaar. | D17: SCORE | G17: SCORE | J17: SCORE
D18: <MOTIVATIE> | G18: <MOTIVATIE> | J18: <MOTIVATIE>
B19: =Bestelapplicatie!B10 -> Levertijd zichtbaar (voordat de bestelling geplaatst is). | D19: SCORE | G19: SCORE | J19: SCORE
D20: <MOTIVATIE> | G20: <MOTIVATIE> | J20: <MOTIVATIE>
A21: =Bestelapplicatie!A11 -> Prijzen | B21: =Bestelapplicatie!B11 -> Juiste prijzen (tarieven conform het ingediende prijzenblad van de inschrijver en BTW) komen online in beeld (tijdens bestellen). Dit moet gelden voor alle bestellingen. | D21: SCORE | G21: SCORE | J21: SCORE
D22: <MOTIVATIE> | G22: <MOTIVATIE> | J22: <MOTIVATIE>
A23: =Bestelapplicatie!A12 -> Huisstijl | B23: =Bestelapplicatie!B12 -> De website is herkenbaar voor gebruikers/ bestellers van de aanbestedende dienst als ware het een eigen webshop van aanbestedende dienst is (uitgangspunt de stijl van Fierder.nl) | D23: SCORE | G23: SCORE | J23: SCORE
D24: <MOTIVATIE> | G24: <MOTIVATIE> | J24: <MOTIVATIE>
A25: =Bestelapplicatie!A13 -> Communicatie | B25: =Bestelapplicatie!B13 -> Automatische e-mail notificatie (e-mailadres moet dus een verplicht veld zijn). | D25: SCORE | G25: SCORE | J25: SCORE
D26: <MOTIVATIE> | G26: <MOTIVATIE> | J26: <MOTIVATIE>
A27: =Bestelapplicatie!A14 -> Aflevering | B27: =Bestelapplicatie!B14 -> Het afleveradres van de scholen is per bestelling met een pull down te wijzigen. | D27: SCORE | G27: SCORE | J27: SCORE
D28: <MOTIVATIE> | G28: <MOTIVATIE> | J28: <MOTIVATIE>
A29: =Bestelapplicatie!A15 -> Klachten | B29: =Bestelapplicatie!B15 -> De bestelportal beschikt over een module waar klachten kunnen worden ingediend | D29: SCORE | G29: SCORE | J29: SCORE
D30: <MOTIVATIE> | G30: <MOTIVATIE> | J30: <MOTIVATIE>

Sheet Locatie directeur 2
B1: Beoordelaar 2: Locatie directeur 2 | D1: ='Locatie directeur 1'!D1 -> Inschrijver 1 | G1: ='Locatie directeur 1'!G1 -> Inschrijver 2 | J1: ='Locatie directeur 1'!J1 -> Inschrijver 3
B2: =Bestelapplicatie!A1 -> 7.2 Beoordelingscriteria bestelportal | D2: Score: | G2: Score: | J2: Score:
A3: =Bestelapplicatie!A2 -> Algemeen | B3: =Bestelapplicatie!B2 -> Login werkt conform opgegeven inloggegevens. | D3: SCORE | G3: SCORE | J3: SCORE
D4: <MOTIVATIE> | G4: <MOTIVATIE> | J4: <MOTIVATIE>
B5: =Bestelapplicatie!B3 -> Algehele indruk opzet/ uitstraling/ laagdrempeligheid. | D5: SCORE | G5: SCORE | J5: SCORE
D6: <MOTIVATIE> | G6: <MOTIVATIE> | J6: <MOTIVATIE>
A7: Gebruikers vriendelijkheid | B7: =Bestelapplicatie!B4 -> Mogelijkheid van vrij tekstveld. | D7: SCORE | G7: SCORE | J7: SCORE
D8: <MOTIVATIE> | G8: <MOTIVATIE> | J8: <MOTIVATIE>
B9: =Bestelapplicatie!B5 -> Aanwezigheid van help-functies, automatische tips en ondersteuning. | D9: SCORE | G9: SCORE | J9: SCORE
D10: <MOTIVATIE> | G10: <MOTIVATIE> | J10: <MOTIVATIE>
B11: =Bestelapplicatie!B6 -> Mogelijkheid tot inzage in bestelstatus | D11: SCORE | G11: SCORE | J11: SCORE
D12: <MOTIVATIE> | G12: <MOTIVATIE> | J12: <MOTIVATIE>
B13: =Bestelapplicatie!B7 -> Mate van logische opbouw van de schermen en eenvoud van de opzet van de bestelapplicatie | D13: SCORE | G13: SCORE | J13: SCORE
D14: <MOTIVATIE> | G14: <MOTIVATIE> | J14: <MOTIVATIE>
B15: =Bestelapplicatie!B8 -> Afbeeldingen van artikelen zichtbaar. | D15: SCORE | G15: SCORE | J15: SCORE
D16: <MOTIVATIE> | G16: <MOTIVATIE> | J16: <MOTIVATIE>
B17: =Bestelapplicatie!B9 -> Aantal beschikbare artikelen/ voorraad zichtbaar. | D17: SCORE | G17: SCORE | J17: SCORE
D18: <MOTIVATIE> | G18: <MOTIVATIE> | J18: <MOTIVATIE>
B19: =Bestelapplicatie!B10 -> Levertijd zichtbaar (voordat de bestelling geplaatst is). | D19: SCORE | G19: SCORE | J19: SCORE
D20: <MOTIVATIE> | G20: <MOTIVATIE> | J20: <MOTIVATIE>
A21: =Bestelapplicatie!A11 -> Prijzen | B21: =Bestelapplicatie!B11 -> Juiste prijzen (tarieven conform het ingediende prijzenblad van de inschrijver en BTW) komen online in beeld (tijdens bestellen). Dit moet gelden voor alle bestellingen. | D21: SCORE | G21: SCORE | J21: SCORE
D22: <MOTIVATIE> | G22: <MOTIVATIE> | J22: <MOTIVATIE>
A23: =Bestelapplicatie!A12 -> Huisstijl | B23: =Bestelapplicatie!B12 -> De website is herkenbaar voor gebruikers/ bestellers van de aanbestedende dienst als ware het een eigen webshop van aanbestedende dienst is (uitgangspunt de stijl van Fierder.nl) | D23: SCORE | G23: SCORE | J23: SCORE
D24: <MOTIVATIE> | G24: <MOTIVATIE> | J24: <MOTIVATIE>
A25: =Bestelapplicatie!A13 -> Communicatie | B25: =Bestelapplicatie!B13 -> Automatische e-mail notificatie (e-mailadres moet dus een verplicht veld zijn). | D25: SCORE | G25: SCORE | J25: SCORE
D26: <MOTIVATIE> | G26: <MOTIVATIE> | J26: <MOTIVATIE>
A27: =Bestelapplicatie!A14 -> Aflevering | B27: =Bestelapplicatie!B14 -> Het afleveradres van de scholen is per bestelling met een pull down te wijzigen. | D27: SCORE | G27: SCORE | J27: SCORE
D28: <MOTIVATIE> | G28: <MOTIVATIE> | J28: <MOTIVATIE>
A29: =Bestelapplicatie!A15 -> Klachten | B29: =Bestelapplicatie!B15 -> De bestelportal beschikt over een module waar klachten kunnen worden ingediend | D29: SCORE | G29: SCORE | J29: SCORE
D30: <MOTIVATIE> | G30: <MOTIVATIE> | J30: <MOTIVATIE>

Sheet Beleidsmedewerker facilitair
B1: Beoordelaar 3: Beleidsmedewerker facilitair | D1: ='Locatie directeur 1'!D1 -> Inschrijver 1 | G1: ='Locatie directeur 1'!G1 -> Inschrijver 2 | J1: ='Locatie directeur 1'!J1 -> Inschrijver 3
B2: =Bestelapplicatie!A1 -> 7.2 Beoordelingscriteria bestelportal | D2: Score: | G2: Score: | J2: Score:
A3: =Bestelapplicatie!A2 -> Algemeen | B3: =Bestelapplicatie!B2 -> Login werkt conform opgegeven inloggegevens. | D3: SCORE | G3: SCORE | J3: SCORE
D4: <MOTIVATIE> | G4: <MOTIVATIE> | J4: <MOTIVATIE>
B5: =Bestelapplicatie!B3 -> Algehele indruk opzet/ uitstraling/ laagdrempeligheid. | D5: SCORE | G5: SCORE | J5: SCORE
D6: <MOTIVATIE> | G6: <MOTIVATIE> | J6: <MOTIVATIE>
A7: Gebruikers vriendelijkheid | B7: =Bestelapplicatie!B4 -> Mogelijkheid van vrij tekstveld. | D7: SCORE | G7: SCORE | J7: SCORE
D8: <MOTIVATIE> | G8: <MOTIVATIE> | J8: <MOTIVATIE>
B9: =Bestelapplicatie!B5 -> Aanwezigheid van help-functies, automatische tips en ondersteuning. | D9: SCORE | G9: SCORE | J9: SCORE
D10: <MOTIVATIE> | G10: <MOTIVATIE> | J10: <MOTIVATIE>
B11: =Bestelapplicatie!B6 -> Mogelijkheid tot inzage in bestelstatus | D11: SCORE | G11: SCORE | J11: SCORE
D12: <MOTIVATIE> | G12: <MOTIVATIE> | J12: <MOTIVATIE>
B13: =Bestelapplicatie!B7 -> Mate van logische opbouw van de schermen en eenvoud van de opzet van de bestelapplicatie | D13: SCORE | G13: SCORE | J13: SCORE
D14: <MOTIVATIE> | G14: <MOTIVATIE> | J14: <MOTIVATIE>
B15: =Bestelapplicatie!B8 -> Afbeeldingen van artikelen zichtbaar. | D15: SCORE | G15: SCORE | J15: SCORE
D16: <MOTIVATIE> | G16: <MOTIVATIE> | J16: <MOTIVATIE>
B17: =Bestelapplicatie!B9 -> Aantal beschikbare artikelen/ voorraad zichtbaar. | D17: SCORE | G17: SCORE | J17: SCORE
D18: <MOTIVATIE> | G18: <MOTIVATIE> | J18: <MOTIVATIE>
B19: =Bestelapplicatie!B10 -> Levertijd zichtbaar (voordat de bestelling geplaatst is). | D19: SCORE | G19: SCORE | J19: SCORE
D20: <MOTIVATIE> | G20: <MOTIVATIE> | J20: <MOTIVATIE>
A21: =Bestelapplicatie!A11 -> Prijzen | B21: =Bestelapplicatie!B11 -> Juiste prijzen (tarieven conform het ingediende prijzenblad van de inschrijver en BTW) komen online in beeld (tijdens bestellen). Dit moet gelden voor alle bestellingen. | D21: SCORE | G21: SCORE | J21: SCORE
D22: <MOTIVATIE> | G22: <MOTIVATIE> | J22: <MOTIVATIE>
A23: =Bestelapplicatie!A12 -> Huisstijl | B23: =Bestelapplicatie!B12 -> De website is herkenbaar voor gebruikers/ bestellers van de aanbestedende dienst als ware het een eigen webshop van aanbestedende dienst is (uitgangspunt de stijl van Fierder.nl) | D23: SCORE | G23: SCORE | J23: SCORE
D24: <MOTIVATIE> | G24: <MOTIVATIE> | J24: <MOTIVATIE>
A25: =Bestelapplicatie!A13 -> Communicatie | B25: =Bestelapplicatie!B13 -> Automatische e-mail notificatie (e-mailadres moet dus een verplicht veld zijn). | D25: SCORE | G25: SCORE | J25: SCORE
D26: <MOTIVATIE> | G26: <MOTIVATIE> | J26: <MOTIVATIE>
A27: =Bestelapplicatie!A14 -> Aflevering | B27: =Bestelapplicatie!B14 -> Het afleveradres van de scholen is per bestelling met een pull down te wijzigen. | D27: SCORE | G27: SCORE | J27: SCORE
D28: <MOTIVATIE> | G28: <MOTIVATIE> | J28: <MOTIVATIE>
A29: =Bestelapplicatie!A15 -> Klachten | B29: =Bestelapplicatie!B15 -> De bestelportal beschikt over een module waar klachten kunnen worden ingediend | D29: SCORE | G29: SCORE | J29: SCORE
D30: <MOTIVATIE> | G30: <MOTIVATIE> | J30: <MOTIVATIE>

Sheet Coördinator OOP
B1: Beoordelaar 4: Coördinator OOP | D1: ='Locatie directeur 1'!D1 -> Inschrijver 1 | G1: ='Locatie directeur 1'!G1 -> Inschrijver 2 | J1: ='Locatie directeur 1'!J1 -> Inschrijver 3
B2: =Bestelapplicatie!A1 -> 7.2 Beoordelingscriteria bestelportal | D2: Score: | G2: Score: | J2: Score:
A3: =Bestelapplicatie!A2 -> Algemeen | B3: =Bestelapplicatie!B2 -> Login werkt conform opgegeven inloggegevens. | D3: SCORE | G3: SCORE | J3: SCORE
D4: <MOTIVATIE> | G4: <MOTIVATIE> | J4: <MOTIVATIE>
B5: =Bestelapplicatie!B3 -> Algehele indruk opzet/ uitstraling/ laagdrempeligheid. | D5: SCORE | G5: SCORE | J5: SCORE
D6: <MOTIVATIE> | G6: <MOTIVATIE> | J6: <MOTIVATIE>
A7: Gebruikers vriendelijkheid | B7: =Bestelapplicatie!B4 -> Mogelijkheid van vrij tekstveld. | D7: SCORE | G7: SCORE | J7: SCORE
D8: <MOTIVATIE> | G8: <MOTIVATIE> | J8: <MOTIVATIE>
B9: =Bestelapplicatie!B5 -> Aanwezigheid van help-functies, automatische tips en ondersteuning. | D9: SCORE | G9: SCORE | J9: SCORE
D10: <MOTIVATIE> | G10: <MOTIVATIE> | J10: <MOTIVATIE>
B11: =Bestelapplicatie!B6 -> Mogelijkheid tot inzage in bestelstatus | D11: SCORE | G11: SCORE | J11: SCORE
D12: <MOTIVATIE> | G12: <MOTIVATIE> | J12: <MOTIVATIE>
B13: =Bestelapplicatie!B7 -> Mate van logische opbouw van de schermen en eenvoud van de opzet van de bestelapplicatie | D13: SCORE | G13: SCORE | J13: SCORE
D14: <MOTIVATIE> | G14: <MOTIVATIE> | J14: <MOTIVATIE>
B15: =Bestelapplicatie!B8 -> Afbeeldingen van artikelen zichtbaar. | D15: SCORE | G15: SCORE | J15: SCORE
D16: <MOTIVATIE> | G16: <MOTIVATIE> | J16: <MOTIVATIE>
B17: =Bestelapplicatie!B9 -> Aantal beschikbare artikelen/ voorraad zichtbaar. | D17: SCORE | G17: SCORE | J17: SCORE
D18: <MOTIVATIE> | G18: <MOTIVATIE> | J18: <MOTIVATIE>
B19: =Bestelapplicatie!B10 -> Levertijd zichtbaar (voordat de bestelling geplaatst is). | D19: SCORE | G19: SCORE | J19: SCORE
D20: <MOTIVATIE> | G20: <MOTIVATIE> | J20: <MOTIVATIE>
A21: =Bestelapplicatie!A11 -> Prijzen | B21: =Bestelapplicatie!B11 -> Juiste prijzen (tarieven conform het ingediende prijzenblad van de inschrijver en BTW) komen online in beeld (tijdens bestellen). Dit moet gelden voor alle bestellingen. | D21: SCORE | G21: SCORE | J21: SCORE
D22: <MOTIVATIE> | G22: <MOTIVATIE> | J22: <MOTIVATIE>
A23: =Bestelapplicatie!A12 -> Huisstijl | B23: =Bestelapplicatie!B12 -> De website is herkenbaar voor gebruikers/ bestellers van de aanbestedende dienst als ware het een eigen webshop van aanbestedende dienst is (uitgangspunt de stijl van Fierder.nl) | D23: SCORE | G23: SCORE | J23: SCORE
D24: <MOTIVATIE> | G24: <MOTIVATIE> | J24: <MOTIVATIE>
A25: =Bestelapplicatie!A13 -> Communicatie | B25: =Bestelapplicatie!B13 -> Automatische e-mail notificatie (e-mailadres moet dus een verplicht veld zijn). | D25: SCORE | G25: SCORE | J25: SCORE
D26: <MOTIVATIE> | G26: <MOTIVATIE> | J26: <MOTIVATIE>
A27: =Bestelapplicatie!A14 -> Aflevering | B27: =Bestelapplicatie!B14 -> Het afleveradres van de scholen is per bestelling met een pull down te wijzigen. | D27: SCORE | G27: SCORE | J27: SCORE
D28: <MOTIVATIE> | G28: <MOTIVATIE> | J28: <MOTIVATIE>
A29: =Bestelapplicatie!A15 -> Klachten | B29: =Bestelapplicatie!B15 -> De bestelportal beschikt over een module waar klachten kunnen worden ingediend | D29: SCORE | G29: SCORE | J29: SCORE
D30: <MOTIVATIE> | G30: <MOTIVATIE> | J30: <MOTIVATIE>

Sheet Centrale inkoper
B1: Beoordelaar 5: Centrale inkoper | D1: ='Locatie directeur 1'!D1 -> Inschrijver 1 | G1: ='Locatie directeur 1'!G1 -> Inschrijver 2 | J1: ='Locatie directeur 1'!J1 -> Inschrijver 3
B2: =Bestelapplicatie!A1 -> 7.2 Beoordelingscriteria bestelportal | D2: Score: | G2: Score: | J2: Score:
A3: =Bestelapplicatie!A2 -> Algemeen | B3: =Bestelapplicatie!B2 -> Login werkt conform opgegeven inloggegevens. | D3: SCORE | G3: SCORE | J3: SCORE
D4: <MOTIVATIE> | G4: <MOTIVATIE> | J4: <MOTIVATIE>
B5: =Bestelapplicatie!B3 -> Algehele indruk opzet/ uitstraling/ laagdrempeligheid. | D5: SCORE | G5: SCORE | J5: SCORE
D6: <MOTIVATIE> | G6: <MOTIVATIE> | J6: <MOTIVATIE>
A7: Gebruikers vriendelijkheid | B7: =Bestelapplicatie!B4 -> Mogelijkheid van vrij tekstveld. | D7: SCORE | G7: SCORE | J7: SCORE
D8: <MOTIVATIE> | G8: <MOTIVATIE> | J8: <MOTIVATIE>
B9: =Bestelapplicatie!B5 -> Aanwezigheid van help-functies, automatische tips en ondersteuning. | D9: SCORE | G9: SCORE | J9: SCORE
D10: <MOTIVATIE> | G10: <MOTIVATIE> | J10: <MOTIVATIE>
B11: =Bestelapplicatie!B6 -> Mogelijkheid tot inzage in bestelstatus | D11: SCORE | G11: SCORE | J11: SCORE
D12: <MOTIVATIE> | G12: <MOTIVATIE> | J12: <MOTIVATIE>
B13: =Bestelapplicatie!B7 -> Mate van logische opbouw van de schermen en eenvoud van de opzet van de bestelapplicatie | D13: SCORE | G13: SCORE | J13: SCORE
D14: <MOTIVATIE> | G14: <MOTIVATIE> | J14: <MOTIVATIE>
B15: =Bestelapplicatie!B8 -> Afbeeldingen van artikelen zichtbaar. | D15: SCORE | G15: SCORE | J15: SCORE
D16: <MOTIVATIE> | G16: <MOTIVATIE> | J16: <MOTIVATIE>
B17: =Bestelapplicatie!B9 -> Aantal beschikbare artikelen/ voorraad zichtbaar. | D17: SCORE | G17: SCORE | J17: SCORE
D18: <MOTIVATIE> | G18: <MOTIVATIE> | J18: <MOTIVATIE>
B19: =Bestelapplicatie!B10 -> Levertijd zichtbaar (voordat de bestelling geplaatst is). | D19: SCORE | G19: SCORE | J19: SCORE
D20: <MOTIVATIE> | G20: <MOTIVATIE> | J20: <MOTIVATIE>
A21: =Bestelapplicatie!A11 -> Prijzen | B21: =Bestelapplicatie!B11 -> Juiste prijzen (tarieven conform het ingediende prijzenblad van de inschrijver en BTW) komen online in beeld (tijdens bestellen). Dit moet gelden voor alle bestellingen. | D21: SCORE | G21: SCORE | J21: SCORE
D22: <MOTIVATIE> | G22: <MOTIVATIE> | J22: <MOTIVATIE>
A23: =Bestelapplicatie!A12 -> Huisstijl | B23: =Bestelapplicatie!B12 -> De website is herkenbaar voor gebruikers/ bestellers van de aanbestedende dienst als ware het een eigen webshop van aanbestedende dienst is (uitgangspunt de stijl van Fierder.nl) | D23: SCORE | G23: SCORE | J23: SCORE
D24: <MOTIVATIE> | G24: <MOTIVATIE> | J24: <MOTIVATIE>
A25: =Bestelapplicatie!A13 -> Communicatie | B25: =Bestelapplicatie!B13 -> Automatische e-mail notificatie (e-mailadres moet dus een verplicht veld zijn). | D25: SCORE | G25: SCORE | J25: SCORE
D26: <MOTIVATIE> | G26: <MOTIVATIE> | J26: <MOTIVATIE>
A27: =Bestelapplicatie!A14 -> Aflevering | B27: =Bestelapplicatie!B14 -> Het afleveradres van de scholen is per bestelling met een pull down te wijzigen. | D27: SCORE | G27: SCORE | J27: SCORE
D28: <MOTIVATIE> | G28: <MOTIVATIE> | J28: <MOTIVATIE>
A29: =Bestelapplicatie!A15 -> Klachten | B29: =Bestelapplicatie!B15 -> De bestelportal beschikt over een module waar klachten kunnen worden ingediend | D29: SCORE | G29: SCORE | J29: SCORE
D30: <MOTIVATIE> | G30: <MOTIVATIE> | J30: <MOTIVATIE>

Sheet Onderhoudsmedewerker
B1: Beoordelaar 6: Onderhoudsmedewerker | D1: ='Locatie directeur 1'!D1 -> Inschrijver 1 | G1: ='Locatie directeur 1'!G1 -> Inschrijver 2 | J1: ='Locatie directeur 1'!J1 -> Inschrijver 3
B2: =Bestelapplicatie!A1 -> 7.2 Beoordelingscriteria bestelportal | D2: Score: | G2: Score: | J2: Score:
A3: =Bestelapplicatie!A2 -> Algemeen | B3: =Bestelapplicatie!B2 -> Login werkt conform opgegeven inloggegevens. | D3: SCORE | G3: SCORE | J3: SCORE
D4: <MOTIVATIE> | G4: <MOTIVATIE> | J4: <MOTIVATIE>
B5: =Bestelapplicatie!B3 -> Algehele indruk opzet/ uitstraling/ laagdrempeligheid. | D5: SCORE | G5: SCORE | J5: SCORE
D6: <MOTIVATIE> | G6: <MOTIVATIE> | J6: <MOTIVATIE>
A7: Gebruikers vriendelijkheid | B7: =Bestelapplicatie!B4 -> Mogelijkheid van vrij tekstveld. | D7: SCORE | G7: SCORE | J7: SCORE
D8: <MOTIVATIE> | G8: <MOTIVATIE> | J8: <MOTIVATIE>
B9: =Bestelapplicatie!B5 -> Aanwezigheid van help-functies, automatische tips en ondersteuning. | D9: SCORE | G9: SCORE | J9: SCORE
D10: <MOTIVATIE> | G10: <MOTIVATIE> | J10: <MOTIVATIE>
B11: =Bestelapplicatie!B6 -> Mogelijkheid tot inzage in bestelstatus | D11: SCORE | G11: SCORE | J11: SCORE
D12: <MOTIVATIE> | G12: <MOTIVATIE> | J12: <MOTIVATIE>
B13: =Bestelapplicatie!B7 -> Mate van logische opbouw van de schermen en eenvoud van de opzet van de bestelapplicatie | D13: SCORE | G13: SCORE | J13: SCORE
D14: <MOTIVATIE> | G14: <MOTIVATIE> | J14: <MOTIVATIE>
B15: =Bestelapplicatie!B8 -> Afbeeldingen van artikelen zichtbaar. | D15: SCORE | G15: SCORE | J15: SCORE
D16: <MOTIVATIE> | G16: <MOTIVATIE> | J16: <MOTIVATIE>
B17: =Bestelapplicatie!B9 -> Aantal beschikbare artikelen/ voorraad zichtbaar. | D17: SCORE | G17: SCORE | J17: SCORE
D18: <MOTIVATIE> | G18: <MOTIVATIE> | J18: <MOTIVATIE>
B19: =Bestelapplicatie!B10 -> Levertijd zichtbaar (voordat de bestelling geplaatst is). | D19: SCORE | G19: SCORE | J19: SCORE
D20: <MOTIVATIE> | G20: <MOTIVATIE> | J20: <MOTIVATIE>
A21: =Bestelapplicatie!A11 -> Prijzen | B21: =Bestelapplicatie!B11 -> Juiste prijzen (tarieven conform het ingediende prijzenblad van de inschrijver en BTW) komen online in beeld (tijdens bestellen). Dit moet gelden voor alle bestellingen. | D21: SCORE | G21: SCORE | J21: SCORE
D22: <MOTIVATIE> | G22: <MOTIVATIE> | J22: <MOTIVATIE>
A23: =Bestelapplicatie!A12 -> Huisstijl | B23: =Bestelapplicatie!B12 -> De website is herkenbaar voor gebruikers/ bestellers van de aanbestedende dienst als ware het een eigen webshop van aanbestedende dienst is (uitgangspunt de stijl van Fierder.nl) | D23: SCORE | G23: SCORE | J23: SCORE
D24: <MOTIVATIE> | G24: <MOTIVATIE> | J24: <MOTIVATIE>
A25: =Bestelapplicatie!A13 -> Communicatie | B25: =Bestelapplicatie!B13 -> Automatische e-mail notificatie (e-mailadres moet dus een verplicht veld zijn). | D25: SCORE | G25: SCORE | J25: SCORE
D26: <MOTIVATIE> | G26: <MOTIVATIE> | J26: <MOTIVATIE>
A27: =Bestelapplicatie!A14 -> Aflevering | B27: =Bestelapplicatie!B14 -> Het afleveradres van de scholen is per bestelling met een pull down te wijzigen. | D27: SCORE | G27: SCORE | J27: SCORE
D28: <MOTIVATIE> | G28: <MOTIVATIE> | J28: <MOTIVATIE>
A29: =Bestelapplicatie!A15 -> Klachten | B29: =Bestelapplicatie!B15 -> De bestelportal beschikt over een module waar klachten kunnen worden ingediend | D29: SCORE | G29: SCORE | J29: SCORE
D30: <MOTIVATIE> | G30: <MOTIVATIE> | J30: <MOTIVATIE>

Sheet Hoofd facilitaire dienst
B1: Beoordelaar 7: Hoofd facilitaire dienst | D1: ='Locatie directeur 1'!D1 -> Inschrijver 1 | G1: ='Locatie directeur 1'!G1 -> Inschrijver 2 | J1: ='Locatie directeur 1'!J1 -> Inschrijver 3
B2: =Bestelapplicatie!A1 -> 7.2 Beoordelingscriteria bestelportal | D2: Score: | G2: Score: | J2: Score:
A3: =Bestelapplicatie!A2 -> Algemeen | B3: =Bestelapplicatie!B2 -> Login werkt conform opgegeven inloggegevens. | D3: SCORE | G3: SCORE | J3: SCORE
D4: <MOTIVATIE> | G4: <MOTIVATIE> | J4: <MOTIVATIE>
B5: =Bestelapplicatie!B3 -> Algehele indruk opzet/ uitstraling/ laagdrempeligheid. | D5: SCORE | G5: SCORE | J5: SCORE
D6: <MOTIVATIE> | G6: <MOTIVATIE> | J6: <MOTIVATIE>
A7: Gebruikers vriendelijkheid | B7: =Bestelapplicatie!B4 -> Mogelijkheid van vrij tekstveld. | D7: SCORE | G7: SCORE | J7: SCORE
D8: <MOTIVATIE> | G8: <MOTIVATIE> | J8: <MOTIVATIE>
B9: =Bestelapplicatie!B5 -> Aanwezigheid van help-functies, automatische tips en ondersteuning. | D9: SCORE | G9: SCORE | J9: SCORE
D10: <MOTIVATIE> | G10: <MOTIVATIE> | J10: <MOTIVATIE>
B11: =Bestelapplicatie!B6 -> Mogelijkheid tot inzage in bestelstatus | D11: SCORE | G11: SCORE | J11: SCORE
D12: <MOTIVATIE> | G12: <MOTIVATIE> | J12: <MOTIVATIE>
B13: =Bestelapplicatie!B7 -> Mate van logische opbouw van de schermen en eenvoud van de opzet van de bestelapplicatie | D13: SCORE | G13: SCORE | J13: SCORE
D14: <MOTIVATIE> | G14: <MOTIVATIE> | J14: <MOTIVATIE>
B15: =Bestelapplicatie!B8 -> Afbeeldingen van artikelen zichtbaar. | D15: SCORE | G15: SCORE | J15: SCORE
D16: <MOTIVATIE> | G16: <MOTIVATIE> | J16: <MOTIVATIE>
B17: =Bestelapplicatie!B9 -> Aantal beschikbare artikelen/ voorraad zichtbaar. | D17: SCORE | G17: SCORE | J17: SCORE
D18: <MOTIVATIE> | G18: <MOTIVATIE> | J18: <MOTIVATIE>
B19: =Bestelapplicatie!B10 -> Levertijd zichtbaar (voordat de bestelling geplaatst is). | D19: SCORE | G19: SCORE | J19: SCORE
D20: <MOTIVATIE> | G20: <MOTIVATIE> | J20: <MOTIVATIE>
A21: =Bestelapplicatie!A11 -> Prijzen | B21: =Bestelapplicatie!B11 -> Juiste prijzen (tarieven conform het ingediende prijzenblad van de inschrijver en BTW) komen online in beeld (tijdens bestellen). Dit moet gelden voor alle bestellingen. | D21: SCORE | G21: SCORE | J21: SCORE
D22: <MOTIVATIE> | G22: <MOTIVATIE> | J22: <MOTIVATIE>
A23: =Bestelapplicatie!A12 -> Huisstijl | B23: =Bestelapplicatie!B12 -> De website is herkenbaar voor gebruikers/ bestellers van de aanbestedende dienst als ware het een eigen webshop van aanbestedende dienst is (uitgangspunt de stijl van Fierder.nl) | D23: SCORE | G23: SCORE | J23: SCORE
D24: <MOTIVATIE> | G24: <MOTIVATIE> | J24: <MOTIVATIE>
A25: =Bestelapplicatie!A13 -> Communicatie | B25: =Bestelapplicatie!B13 -> Automatische e-mail notificatie (e-mailadres moet dus een verplicht veld zijn). | D25: SCORE | G25: SCORE | J25: SCORE
D26: <MOTIVATIE> | G26: <MOTIVATIE> | J26: <MOTIVATIE>
A27: =Bestelapplicatie!A14 -> Aflevering | B27: =Bestelapplicatie!B14 -> Het afleveradres van de scholen is per bestelling met een pull down te wijzigen. | D27: SCORE | G27: SCORE | J27: SCORE
D28: <MOTIVATIE> | G28: <MOTIVATIE> | J28: <MOTIVATIE>
A29: =Bestelapplicatie!A15 -> Klachten | B29: =Bestelapplicatie!B15 -> De bestelportal beschikt over een module waar klachten kunnen worden ingediend | D29: SCORE | G29: SCORE | J29: SCORE
D30: <MOTIVATIE> | G30: <MOTIVATIE> | J30: <MOTIVATIE>

Sheet Consensus
B1: Totaalwaardes | E1: ='Locatie directeur 1'!D1 -> Inschrijver 1 | H1: ='Locatie directeur 1'!G1 -> Inschrijver 2 | K1: ='Locatie directeur 1'!J1 -> Inschrijver 3
A2: =Bestelapplicatie!A2 -> Algemeen | B2: =Bestelapplicatie!B2 -> Login werkt conform opgegeven inloggegevens. | C2: ='Locatie directeur 1'!B1 -> Beoordelaar 1: Locatie directeur 1 | E2: ='Locatie directeur 1'!D3 -> SCORE | F2: <MOTIVATIE> | H2: ='Locatie directeur 1'!G3 -> SCORE | I2: <MOTIVATIE> | K2: ='Locatie directeur 1'!J3 -> SCORE | L2: <MOTIVATIE>
C3: ='Locatie directeur 2'!B1 -> Beoordelaar 2: Locatie directeur 2 | E3: ='Locatie directeur 2'!D3 -> SCORE | H3: ='Locatie directeur 2'!G3 -> SCORE | K3: ='Locatie directeur 2'!J3 -> SCORE
C4: ='Beleidsmedewerker facilitair'!B1 -> Beoordelaar 3: Beleidsmedewerker facilitair | E4: ='Beleidsmedewerker facilitair'!D3 -> SCORE | H4: ='Beleidsmedewerker facilitair'!G3 -> SCORE | K4: ='Beleidsmedewerker facilitair'!J3 -> SCORE
C5: ='Coördinator OOP'!B1 -> Beoordelaar 4: Coördinator OOP | E5: ='Coördinator OOP'!D3 -> SCORE | H5: ='Coördinator OOP'!G3 -> SCORE | K5: ='Coördinator OOP'!J3 -> SCORE
C6: ='Centrale inkoper'!B1 -> Beoordelaar 5: Centrale inkoper | E6: ='Centrale inkoper'!D3 -> SCORE | H6: ='Centrale inkoper'!G3 -> SCORE | K6: ='Centrale inkoper'!J3 -> SCORE
C7: =Onderhoudsmedewerker!B1 -> Beoordelaar 6: Onderhoudsmedewerker | E7: =Onderhoudsmedewerker!D3 -> SCORE | H7: =Onderhoudsmedewerker!G3 -> SCORE | K7: =Onderhoudsmedewerker!J3 -> SCORE
C8: ='Hoofd facilitaire dienst'!B1 -> Beoordelaar 7: Hoofd facilitaire dienst | E8: ='Hoofd facilitaire dienst'!D3 -> SCORE | H8: ='Hoofd facilitaire dienst'!G3 -> SCORE | K8: ='Hoofd facilitaire dienst'!J3 -> SCORE
E9: SCORE | H9: SCORE | K9: SCORE
B10: =Bestelapplicatie!B3 -> Algehele indruk opzet/ uitstraling/ laagdrempeligheid. | C10: ='Locatie directeur 1'!B1 -> Beoordelaar 1: Locatie directeur 1 | E10: ='Locatie directeur 1'!D5 -> SCORE | F10: <MOTIVATIE> | H10: ='Locatie directeur 1'!G5 -> SCORE | I10: <MOTIVATIE> | K10: ='Locatie directeur 1'!J5 -> SCORE | L10: <MOTIVATIE>
C11: ='Locatie directeur 2'!B1 -> Beoordelaar 2: Locatie directeur 2 | E11: ='Locatie directeur 2'!D5 -> SCORE | H11: ='Locatie directeur 2'!G5 -> SCORE | K11: ='Locatie directeur 2'!J5 -> SCORE
C12: ='Beleidsmedewerker facilitair'!B1 -> Beoordelaar 3: Beleidsmedewerker facilitair | E12: ='Beleidsmedewerker facilitair'!D5 -> SCORE | H12: ='Beleidsmedewerker facilitair'!G5 -> SCORE | K12: ='Beleidsmedewerker facilitair'!J5 -> SCORE
C13: ='Coördinator OOP'!B1 -> Beoordelaar 4: Coördinator OOP | E13: ='Coördinator OOP'!D5 -> SCORE | H13: ='Coördinator OOP'!G5 -> SCORE | K13: ='Coördinator OOP'!J5 -> SCORE
C14: ='Centrale inkoper'!B1 -> Beoordelaar 5: Centrale inkoper | E14: ='Centrale inkoper'!D5 -> SCORE | H14: =Onderhoudsmedewerker!G5 -> SCORE | K14: ='Centrale inkoper'!J5 -> SCORE
C15: =Onderhoudsmedewerker!B1 -> Beoordelaar 6: Onderhoudsmedewerker | E15: =Onderhoudsmedewerker!D5 -> SCORE | H15: =Onderhoudsmedewerker!G5 -> SCORE | K15: =Onderhoudsmedewerker!J5 -> SCORE
C16: ='Hoofd facilitaire dienst'!B1 -> Beoordelaar 7: Hoofd facilitaire dienst | E16: ='Hoofd facilitaire dienst'!D5 -> SCORE | H16: ='Hoofd facilitaire dienst'!G5 -> SCORE | K16: ='Hoofd facilitaire dienst'!J5 -> SCORE
E17: SCORE | H17: SCORE | K17: SCORE
A18: =Bestelapplicatie!A4 -> Gebruikers vriendelijkheid | B18: =Bestelapplicatie!B4 -> Mogelijkheid van vrij tekstveld. | C18: ='Locatie directeur 1'!B1 -> Beoordelaar 1: Locatie directeur 1 | E18: ='Locatie directeur 1'!D7 -> SCORE | F18: <MOTIVATIE> | H18: ='Locatie directeur 1'!G7 -> SCORE | I18: <MOTIVATIE> | K18: ='Locatie directeur 1'!J7 -> SCORE | L18: <MOTIVATIE>
C19: ='Locatie directeur 2'!B1 -> Beoordelaar 2: Locatie directeur 2 | E19: ='Locatie directeur 2'!D7 -> SCORE | H19: ='Locatie directeur 2'!G7 -> SCORE | K19: ='Locatie directeur 2'!J7 -> SCORE
C20: ='Beleidsmedewerker facilitair'!B1 -> Beoordelaar 3: Beleidsmedewerker facilitair | E20: ='Beleidsmedewerker facilitair'!D7 -> SCORE | H20: ='Beleidsmedewerker facilitair'!G7 -> SCORE | K20: ='Beleidsmedewerker facilitair'!J7 -> SCORE
C21: ='Coördinator OOP'!B1 -> Beoordelaar 4: Coördinator OOP | E21: ='Coördinator OOP'!D7 -> SCORE | H21: ='Coördinator OOP'!G7 -> SCORE | K21: ='Coördinator OOP'!J7 -> SCORE
C22: ='Centrale inkoper'!B1 -> Beoordelaar 5: Centrale inkoper | E22: ='Centrale inkoper'!D7 -> SCORE | H22: ='Centrale inkoper'!G7 -> SCORE | K22: ='Centrale inkoper'!J7 -> SCORE
C23: =Onderhoudsmedewerker!B1 -> Beoordelaar 6: Onderhoudsmedewerker | E23: =Onderhoudsmedewerker!D7 -> SCORE | H23: =Onderhoudsmedewerker!G7 -> SCORE | K23: =Onderhoudsmedewerker!J7 -> SCORE
C24: ='Hoofd facilitaire dienst'!B1 -> Beoordelaar 7: Hoofd facilitaire dienst | E24: ='Hoofd facilitaire dienst'!D7 -> SCORE | H24: ='Hoofd facilitaire dienst'!G7 -> SCORE | K24: ='Hoofd facilitaire dienst'!J7 -> SCORE
E25: SCORE | H25: SCORE | K25: SCORE
B26: =Bestelapplicatie!B5 -> Aanwezigheid van help-functies, automatische tips en ondersteuning. | C26: ='Locatie directeur 1'!B1 -> Beoordelaar 1: Locatie directeur 1 | E26: ='Locatie directeur 1'!D9 -> SCORE | F26: <MOTIVATIE> | H26: ='Locatie directeur 1'!G9 -> SCORE | I26: <MOTIVATIE> | K26: ='Locatie directeur 1'!J9 -> SCORE | L26: <MOTIVATIE>
C27: ='Locatie directeur 2'!B1 -> Beoordelaar 2: Locatie directeur 2 | E27: ='Locatie directeur 2'!D9 -> SCORE | H27: ='Locatie directeur 2'!G9 -> SCORE | K27: ='Locatie directeur 2'!J9 -> SCORE
C28: ='Beleidsmedewerker facilitair'!B1 -> Beoordelaar 3: Beleidsmedewerker facilitair | E28: ='Beleidsmedewerker facilitair'!D9 -> SCORE | H28: ='Beleidsmedewerker facilitair'!G9 -> SCORE | K28: ='Beleidsmedewerker facilitair'!J9 -> SCORE
C29: ='Coördinator OOP'!B1 -> Beoordelaar 4: Coördinator OOP | E29: ='Coördinator OOP'!D9 -> SCORE | H29: ='Coördinator OOP'!G9 -> SCORE | K29: ='Coördinator OOP'!J9 -> SCORE
C30: ='Centrale inkoper'!B1 -> Beoordelaar 5: Centrale inkoper | E30: ='Centrale inkoper'!D9 -> SCORE | H30: ='Centrale inkoper'!G9 -> SCORE | K30: ='Centrale inkoper'!J9 -> SCORE
C31: =Onderhoudsmedewerker!B1 -> Beoordelaar 6: Onderhoudsmedewerker | E31: =Onderhoudsmedewerker!D9 -> SCORE | H31: =Onderhoudsmedewerker!G9 -> SCORE | K31: =Onderhoudsmedewerker!J9 -> SCORE
C32: ='Hoofd facilitaire dienst'!B1 -> Beoordelaar 7: Hoofd facilitaire dienst | E32: ='Hoofd facilitaire dienst'!D9 -> SCORE | H32: ='Hoofd facilitaire dienst'!G9 -> SCORE | K32: ='Hoofd facilitaire dienst'!J9 -> SCORE
E33: SCORE | H33: SCORE | K33: SCORE
B34: =Bestelapplicatie!B6 -> Mogelijkheid tot inzage in bestelstatus | C34: ='Locatie directeur 1'!B1 -> Beoordelaar 1: Locatie directeur 1 | E34: ='Locatie directeur 1'!D11 -> SCORE | F34: <MOTIVATIE> | H34: ='Locatie directeur 1'!G11 -> SCORE | I34: <MOTIVATIE> | K34: ='Locatie directeur 1'!J11 -> SCORE | L34: <MOTIVATIE>
C35: ='Locatie directeur 2'!B1 -> Beoordelaar 2: Locatie directeur 2 | E35: ='Locatie directeur 2'!D11 -> SCORE | H35: ='Locatie directeur 2'!G11 -> SCORE | K35: ='Locatie directeur 2'!J11 -> SCORE
C36: ='Beleidsmedewerker facilitair'!B1 -> Beoordelaar 3: Beleidsmedewerker facilitair | E36: ='Beleidsmedewerker facilitair'!D11 -> SCORE | H36: ='Beleidsmedewerker facilitair'!G11 -> SCORE | K36: ='Beleidsmedewerker facilitair'!J11 -> SCORE
C37: ='Coördinator OOP'!B1 -> Beoordelaar 4: Coördinator OOP | E37: ='Coördinator OOP'!D11 -> SCORE | H37: ='Coördinator OOP'!G11 -> SCORE | K37: ='Coördinator OOP'!J11 -> SCORE
C38: ='Centrale inkoper'!B1 -> Beoordelaar 5: Centrale inkoper | E38: ='Centrale inkoper'!D11 -> SCORE | H38: ='Centrale inkoper'!G11 -> SCORE | K38: ='Centrale inkoper'!J11 -> SCORE
C39: =Onderhoudsmedewerker!B1 -> Beoordelaar 6: Onderhoudsmedewerker | E39: =Onderhoudsmedewerker!D11 -> SCORE | H39: =Onderhoudsmedewerker!G11 -> SCORE | K39: =Onderhoudsmedewerker!J11 -> SCORE
C40: ='Hoofd facilitaire dienst'!B1 -> Beoordelaar 7: Hoofd facilitaire dienst | E40: ='Hoofd facilitaire dienst'!D11 -> SCORE | H40: ='Hoofd facilitaire dienst'!G11 -> SCORE | K40: ='Hoofd facilitaire dienst'!J11 -> SCORE
...

Sheet Eindscores
A1: Totaalwaarder criterium kwaliteit
A2: Onderdeel | C2: ='[1]Locatie directeur 1'!C1 -> Inschrijver 1 | E2: ='[1]Locatie directeur 1'!F1 -> Inschrijver 2 | G2: ='[1]Locatie directeur 1'!I1 -> Inschrijver 3
A3: 7.1.A. Beantwoording open vragen | C3: 0 | E3: 0 | G3: 0
A4: 7.2. Gebruiksvriendelijkheid bestelapplicatie | C4: =Consensus!E119 -> #VALUE! | E4: =Consensus!H119 -> #VALUE! | G4: =Consensus!K119 -> #VALUE!
A5: 7.3 Productdemonstratie | C5: 0 | E5: 0 | G5: 0
A6: Totaal behaalde waarde criterium kwaliteit: | C6: =C4+C3+C5 -> #VALUE! | E6: =E4+E3+E5 -> #VALUE! | G6: =G4+G3+G5 -> #VALUE!
A8: Totaal behaalde waarde criterium prijs: | C8: 0 | E8: 0 | G8: 0
A10: Eindscore (kwaliteit/prijs): | C10: =C8-C6 -> #VALUE! | E10: =E8-E6 -> #VALUE! | G10: =G8-G6 -> #VALUE!
