Workbook
Name _100: 'Open vragen'!#REF!
Name _1050: 'Open vragen'!#REF!
Name _50: 'Open vragen'!#REF!
Name OPENVRAGEN: 'Open vragen'!#REF!
Name SCORE: #REF!
Name SCOREOV: 'Open vragen'!$B$3:$G$3
Name UGV: #REF!
Name UVO: #REF!

Sheet Open vragen
A1: 7.1.A. BEANTWOORDING OPEN VRAGEN
A2: Naast de gestelde eisen uit de onderhavige aanbesteding is de aanbestedende dienst op zoek naar een opdrachtnemer die haar gedurende de periode van de raamovereenkomst kan voorzien van veel toegevoegde waarde. Hoe meer toegevoegde waarde een inschrijver biedt, hoe hoger zij op dit onderdeel scoort. Alle antwoorden van een inschrijver dienen realistisch en uitvoerbaar te zijn.
A3: 7.1.1 PLAN VAN AANPAK (AANVANG DIENSTVERLENING) | B3: Uitmuntend | C3: Goed | D3: Voldoende | E3: Matig | F3: Onvoldoende | G3: SCORE
A4: Inschrijver dient te beschrijven op maximaal 4 A4 (toe te voegen op TenderNed) op welke wijze zij bij aanvang van de gegunde opdracht deze gaat vormgeven/ aanpakken. Inschrijver beschrijft hierbij minimaal: • Hoe inschrijver zich gaat verdiepen in de organisatie van de opdrachtgever, zich bekendmaken/ introduceren bij de scholen en wat zij van de opdrachtgever hierin verwacht; • Een communicatieplan (Inschrijver houdt hierbij expliciet rekening met de het feit dat de operationele contacten op de scholen zelf zijn); • Op welke wijze inschrijver vorm gaat geven aan fase 1 en fase 2 van de dynamische verificatie (zie hoofdstuk 5 in het aanbestedingsdocument) en beschrijft hierbij een uitgewerkt realistisch tijdspad van het moment van voorlopig gunnen tot en met de eerste leveringen in fase 2, uitgaande van een start fase 1 op 1 juni 2023; • Een verwachte inzet (in tijd uitgewerkt in uren en op welk niveau/ met welke school) van de opdrachtgever voor de uitvoering van de dynamische verificatie; • Op welke wijze gaat inschrijver de dienstverlening (bestellijsten, bestelproces, monitoring bestellingen en fysieke distributie) organiseren, welke middelen zet zij hiervoor in en wat heeft zij daarvoor nodig van de opdrachtgever?; • Hoe gaat een inschrijver om met een situatie dat er iets misgaat in een bestelling (verkeerde meubelen besteld, onjuiste adres opgegeven, meubels hebben een beschadiging etc.)?
A5: 7.1.2 DUURZAAM EN CIRCULAIR INKOPEN
A6: Inschrijver dient op maximaal 6 A4 pagina´s te beschrijven op welke wijze zij bijdraagt aan de duurzaamheid van onderwijs- en kantoormeubilair. Hierbij dient minimaal beschreven te worden: • Welke visie (wat verstaat inschrijver onder circulair kijkend naar de mate van hergebruik van grondstoffen) heeft inschrijver die zij samen met de opdrachtgever wil aangaan op het gebied van maximaal circulair inkopen van meubilair gedurende de maximale looptijd van de raamovereenkomst. Welk circulair groeipad inschrijver kan bieden voor nieuw te bestellen meubilair, welke ambities heeft inschrijver?; • Wat inschrijver kan betekenen voor onderwijs- en kantoormeubilair die bij de opdrachtgever is afgeschreven en technisch nog wel elders (extern) ingezet kan worden. Inschrijver beschrijft daarbij op welke wijze zij het meubilair bij de opdrachtgever kan ophalen (centraal/ decentraal) en wat daarna de vervolgstappen zijn (dit betreft door opdrachtgever af te stoten meubilair, re-purpose) ervan uitgaande dat dit voor de opdrachtgever kosten neutraal moet plaatsvinden; • Hoe inschrijver ervoor zorgt dat er ieder jaar meer duurzame en circulaire keuzes gemaakt worden kijkend naar het gevraagde kernassortiment. Inschrijver laat zien hoe dit inzichtelijk gemaakt wordt (ook in percentages) en hoe opdrachtgever dit ieder jaar kan controleren; • Hoe er wordt omgegaan met hergebruik van ‘oud’ onderwijs- en kantoormeubilair en onderdelen van de opdrachtgever en het leveren van onderdelen, service en garantie (dit betreft door opdrachtgever aan te schaffen meubilair); • Welke mogelijkheden inschrijver biedt met betrekking tot het leveren van gebruikt onderwijs- en kantoormeubilair (ofwel meubilair met een ziel) en hoe zich dat verhoudt tot een moderne uitstraling van meubilair voor een moderne leer-werkomgeving kijkend naar nieuwbouwprojecten. Belangrijk hierbij is een aantrekkelijke omgeving die leren en werken stimuleert; • Welke innovatie materialen inschrijver toe voegt aan de keten in het aangeboden kernassortiment; • Op welke wijze inschrijver een bijdrage kan leveren in de bewustwording van medewerkers van opdrachtgever op het gebied van circulair inkopen zoals bijvoorbeeld in de bestelportal voor meubilair; • Op welke wijze inschrijver een bijdrage kan leveren in de bewustwording van leerlingen op het gebied van circulaire economie; • Op welke wijze inschrijver met haar fysieke distributie rekening houdt met een maximale CO2-reductie of compensatie; • Op welke wijze inschrijver in de management info inzichtelijk maakt welke keuzes er voor circulair meubilair en niet circulair meubilair gemaakt zijn. Onder circulair verstaat opdrachtgever in deze: het maximaal hergebruiken van grondstoffen die eerder voor meubilair zijn gebruikt.
A7: 7.1.3 PROJECTCASUS VERBOUW LEERLINGENKANTINE LOCATIE BUITENPOST
A8: Deze kwaliteitsvraag richt zich op de kwaliteit van de inschrijver met betrekking tot projecten. Op de locatie Buitenpost, Hoefslag 40 is Fierder Onderwijs voornemens de gehele kantineruimte (de zitkuil en omliggende verkeersruimte) dusdanig aan te passen dat deze ruimte biedt aan 520 leerlingen. Deze aanpassing moet het hergebruik van materialen en middelen maximaal ondersteunen. Inschrijver kan tijdens de schouw kennis nemen van deze ruimte, de mogelijkheden en beperkingen en komt met een voorstel voor een herinrichting.
A9: A. Het ontwerp, de visualisatie (minimaal een 3D tekening) daarvan voegt zij toe aan de inschrijving (maximaal 3 A4 extra). | B9: Uitmuntend | C9: Goed | D9: Voldoende | E9: Matig | F9: Onvoldoende | G9: SCORE
A10: De beoordelingscommissie let daarbij in ieder geval op: • De uitstraling naar de doelgroepen; • Is het voldoende geschikt voor VMBO leerlingen (minimaal 15 jaar te gebruiken); • De mate van goed schoon te kunnen houden (materiaalkeuze/ afwerking); • De mate van mogelijkheid verschil in gebruik (pauze, werkplek, projectomgeving); • Mate van verplaatsbaarheid (als er ouderavonden of voorstellingen zijn);
A11: B. Inschrijver beschrijft een interieuradvies van maximaal 2 A4 en licht dit toe tijdens de toelichting van de open vragen hoe zij tot de keuzes is gekomen en waarom dit een goed ontwerp is.
A12: De beoordelingscommissie let daarbij in ieder geval op: - De visie van de inschrijver voor het ontwerp; - Welke mate van circulaire materialen heeft inschrijver hier gebruikt? Inschrijver beschrijft duidelijk welke materialen op welke wijze zijn hergebruikt en op welke wijze gebruikers dit kunnen waarnemen en toch het gevoel hebben dat het gaat om en nieuwe inrichting; - Mate van gevoel van veiligheid voor leerlingen in de gehele ruimte, wat niet per definitie inhoudt dat overal toezicht noodzakelijk is.
A14: 7.1.B. Toelichting beantwoording
A15: Dit onderdeel kent GEEN eigen beoordelingskader, maar kan leiden tot een aanpassing van een beoordeling van de beantwoording van de open vragen.

Sheet Locatie directeur 1
A1: Beoordelaar 1: Locatie directeur 1 | C1: Inschrijver 1 | F1: Inschrijver 2 | I1: Inschrijver 3
A2: ='Open vragen'!A1:A1 -> 7.1.A. BEANTWOORDING OPEN VRAGEN | C2: Score: | F2: Score: | I2: Score:
A3: ='Open vragen'!A3 -> 7.1.1 PLAN VAN AANPAK (AANVANG DIENSTVERLENING) | C3: SCORE | F3: SCORE | I3: SCORE
A4: Zie bijlage 7. | C4: <MOTIVATIE> | F4: <MOTIVATIE> | I4: <MOTIVATIE>
A5: ='Open vragen'!A5 -> 7.1.2 DUURZAAM EN CIRCULAIR INKOPEN | C5: SCORE | F5: SCORE | I5: SCORE
A6: Zie bijlage 7. | C6: <MOTIVATIE> | F6: <MOTIVATIE> | I6: <MOTIVATIE>
A7: ='Open vragen'!A7 -> 7.1.3 PROJECTCASUS VERBOUW LEERLINGENKANTINE LOCATIE BUITENPOST | C7: Score: | F7: Score: | I7: Score:
A8: ='Open vragen'!A9 -> A. Het ontwerp, de visualisatie (minimaal een 3D tekening) daarvan voegt zij toe aan de inschrijving (maximaal 3 A4 extra). | C8: SCORE | F8: SCORE | I8: SCORE
A9: Zie bijlage 7. | C9: <MOTIVATIE> | F9: <MOTIVATIE> | I9: <MOTIVATIE>
A10: ='Open vragen'!A11 -> B. Inschrijver beschrijft een interieuradvies van maximaal 2 A4 en licht dit toe tijdens de toelichting van de open vragen hoe zij tot de keuzes is gekomen en waarom dit een goed ontwerp is. | C10: SCORE | F10: SCORE | I10: SCORE
A11: Zie bijlage 7. | C11: <MOTIVATIE> | F11: <MOTIVATIE> | I11: <MOTIVATIE>

Sheet Locatie directeur 2
A1: Beoordelaar 2: Locatie directeur 2 | C1: ='Locatie directeur 1'!C1 -> Inschrijver 1 | F1: ='Locatie directeur 1'!F1 -> Inschrijver 2 | I1: Inschrijver 3
A2: ='Open vragen'!A1:A1 -> 7.1.A. BEANTWOORDING OPEN VRAGEN | C2: Score: | F2: Score: | I2: Score:
A3: ='Open vragen'!A3 -> 7.1.1 PLAN VAN AANPAK (AANVANG DIENSTVERLENING) | C3: SCORE | F3: SCORE | I3: SCORE
A4: Zie bijlage 7. | C4: <MOTIVATIE> | F4: <MOTIVATIE> | I4: <MOTIVATIE>
A5: ='Open vragen'!A5 -> 7.1.2 DUURZAAM EN CIRCULAIR INKOPEN | C5: SCORE | F5: SCORE | I5: SCORE
A6: Zie bijlage 7. | C6: <MOTIVATIE> | F6: <MOTIVATIE> | I6: <MOTIVATIE>
A7: ='Open vragen'!A7 -> 7.1.3 PROJECTCASUS VERBOUW LEERLINGENKANTINE LOCATIE BUITENPOST | C7: Score: | F7: Score: | I7: Score:
A8: ='Open vragen'!A9 -> A. Het ontwerp, de visualisatie (minimaal een 3D tekening) daarvan voegt zij toe aan de inschrijving (maximaal 3 A4 extra). | C8: SCORE | F8: SCORE | I8: SCORE
A9: Zie bijlage 7. | C9: <MOTIVATIE> | F9: <MOTIVATIE> | I9: <MOTIVATIE>
A10: ='Open vragen'!A11 -> B. Inschrijver beschrijft een interieuradvies van maximaal 2 A4 en licht dit toe tijdens de toelichting van de open vragen hoe zij tot de keuzes is gekomen en waarom dit een goed ontwerp is. | C10: SCORE | F10: SCORE | I10: SCORE
A11: Zie bijlage 7. | C11: <MOTIVATIE> | F11: <MOTIVATIE> | I11: <MOTIVATIE>

Sheet Beleidsmedewerker facilitair
A1: Beoordelaar 3: Beleidsmedewerker facilitair | C1: Inschrijver 1 | F1: Inschrijver 2 | I1: Inschrijver 3
A2: ='Open vragen'!A1:A1 -> 7.1.A. BEANTWOORDING OPEN VRAGEN | C2: Score: | F2: Score: | I2: Score:
A3: ='Open vragen'!A3 -> 7.1.1 PLAN VAN AANPAK (AANVANG DIENSTVERLENING) | C3: SCORE | F3: SCORE | I3: SCORE
A4: Zie bijlage 7. | C4: <MOTIVATIE> | F4: <MOTIVATIE> | I4: <MOTIVATIE>
A5: ='Open vragen'!A5 -> 7.1.2 DUURZAAM EN CIRCULAIR INKOPEN | C5: SCORE | F5: SCORE | I5: SCORE
A6: Zie bijlage 7. | C6: <MOTIVATIE> | F6: <MOTIVATIE> | I6: <MOTIVATIE>
A7: ='Open vragen'!A7 -> 7.1.3 PROJECTCASUS VERBOUW LEERLINGENKANTINE LOCATIE BUITENPOST | C7: Score: | F7: Score: | I7: Score:
A8: ='Open vragen'!A9 -> A. Het ontwerp, de visualisatie (minimaal een 3D tekening) daarvan voegt zij toe aan de inschrijving (maximaal 3 A4 extra). | C8: SCORE | F8: SCORE | I8: SCORE
A9: Zie bijlage 7. | C9: <MOTIVATIE> | F9: <MOTIVATIE> | I9: <MOTIVATIE>
A10: ='Open vragen'!A11 -> B. Inschrijver beschrijft een interieuradvies van maximaal 2 A4 en licht dit toe tijdens de toelichting van de open vragen hoe zij tot de keuzes is gekomen en waarom dit een goed ontwerp is. | C10: SCORE | F10: SCORE | I10: SCORE
A11: Zie bijlage 7. | C11: <MOTIVATIE> | F11: <MOTIVATIE> | I11: <MOTIVATIE>

Sheet Coordinator OOP
A1: Beoordelaar 4: Coordinator OOP | C1: Inschrijver 1 | F1: Inschrijver 2 | I1: Inschrijver 3
A2: ='Open vragen'!A1:A1 -> 7.1.A. BEANTWOORDING OPEN VRAGEN | C2: Score: | F2: Score: | I2: Score:
A3: ='Open vragen'!A3 -> 7.1.1 PLAN VAN AANPAK (AANVANG DIENSTVERLENING) | C3: SCORE | F3: SCORE | I3: SCORE
A4: Zie bijlage 7. | C4: <MOTIVATIE> | F4: <MOTIVATIE> | I4: <MOTIVATIE>
A5: ='Open vragen'!A5 -> 7.1.2 DUURZAAM EN CIRCULAIR INKOPEN | C5: SCORE | F5: SCORE | I5: SCORE
A6: Zie bijlage 7. | C6: <MOTIVATIE> | F6: <MOTIVATIE> | I6: <MOTIVATIE>
A7: ='Open vragen'!A7 -> 7.1.3 PROJECTCASUS VERBOUW LEERLINGENKANTINE LOCATIE BUITENPOST | C7: Score: | F7: Score: | I7: Score:
A8: ='Open vragen'!A9 -> A. Het ontwerp, de visualisatie (minimaal een 3D tekening) daarvan voegt zij toe aan de inschrijving (maximaal 3 A4 extra). | C8: SCORE | F8: SCORE | I8: SCORE
A9: Zie bijlage 7. | C9: <MOTIVATIE> | F9: <MOTIVATIE> | I9: <MOTIVATIE>
A10: ='Open vragen'!A11 -> B. Inschrijver beschrijft een interieuradvies van maximaal 2 A4 en licht dit toe tijdens de toelichting van de open vragen hoe zij tot de keuzes is gekomen en waarom dit een goed ontwerp is. | C10: SCORE | F10: SCORE | I10: SCORE
A11: Zie bijlage 7. | C11: <MOTIVATIE> | F11: <MOTIVATIE> | I11: <MOTIVATIE>

Sheet Centrale inkoper
A1: Beoordelaar 5: Centrale inkoper | C1: Inschrijver 1 | F1: Inschrijver 2 | I1: Inschrijver 3
A2: ='Open vragen'!A1:A1 -> 7.1.A. BEANTWOORDING OPEN VRAGEN | C2: Score: | F2: Score: | I2: Score:
A3: ='Open vragen'!A3 -> 7.1.1 PLAN VAN AANPAK (AANVANG DIENSTVERLENING) | C3: SCORE | F3: SCORE | I3: SCORE
A4: Zie bijlage 7. | C4: <MOTIVATIE> | F4: <MOTIVATIE> | I4: <MOTIVATIE>
A5: ='Open vragen'!A5 -> 7.1.2 DUURZAAM EN CIRCULAIR INKOPEN | C5: SCORE | F5: SCORE | I5: SCORE
A6: Zie bijlage 7. | C6: <MOTIVATIE> | F6: <MOTIVATIE> | I6: <MOTIVATIE>
A7: ='Open vragen'!A7 -> 7.1.3 PROJECTCASUS VERBOUW LEERLINGENKANTINE LOCATIE BUITENPOST | C7: Score: | F7: Score: | I7: Score:
A8: ='Open vragen'!A9 -> A. Het ontwerp, de visualisatie (minimaal een 3D tekening) daarvan voegt zij toe aan de inschrijving (maximaal 3 A4 extra). | C8: SCORE | F8: SCORE | I8: SCORE
A9: Zie bijlage 7. | C9: <MOTIVATIE> | F9: <MOTIVATIE> | I9: <MOTIVATIE>
A10: ='Open vragen'!A11 -> B. Inschrijver beschrijft een interieuradvies van maximaal 2 A4 en licht dit toe tijdens de toelichting van de open vragen hoe zij tot de keuzes is gekomen en waarom dit een goed ontwerp is. | C10: SCORE | F10: SCORE | I10: SCORE
A11: Zie bijlage 7. | C11: <MOTIVATIE> | F11: <MOTIVATIE> | I11: <MOTIVATIE>

Sheet Onderhoudsmedewerker
A1: Beoordelaar 6: Onderhoudsmedewerker | C1: Inschrijver 1 | F1: Inschrijver 2 | I1: Inschrijver 3
A2: ='Open vragen'!A1:A1 -> 7.1.A. BEANTWOORDING OPEN VRAGEN | C2: Score: | F2: Score: | I2: Score:
A3: ='Open vragen'!A3 -> 7.1.1 PLAN VAN AANPAK (AANVANG DIENSTVERLENING) | C3: SCORE | F3: SCORE | I3: SCORE
A4: Zie bijlage 7. | C4: <MOTIVATIE> | F4: <MOTIVATIE> | I4: <MOTIVATIE>
A5: ='Open vragen'!A5 -> 7.1.2 DUURZAAM EN CIRCULAIR INKOPEN | C5: SCORE | F5: SCORE | I5: SCORE
A6: Zie bijlage 7. | C6: <MOTIVATIE> | F6: <MOTIVATIE> | I6: <MOTIVATIE>
A7: ='Open vragen'!A7 -> 7.1.3 PROJECTCASUS VERBOUW LEERLINGENKANTINE LOCATIE BUITENPOST | C7: Score: | F7: Score: | I7: Score:
A8: ='Open vragen'!A9 -> A. Het ontwerp, de visualisatie (minimaal een 3D tekening) daarvan voegt zij toe aan de inschrijving (maximaal 3 A4 extra). | C8: SCORE | F8: SCORE | I8: SCORE
A9: Zie bijlage 7. | C9: <MOTIVATIE> | F9: <MOTIVATIE> | I9: <MOTIVATIE>
A10: ='Open vragen'!A11 -> B. Inschrijver beschrijft een interieuradvies van maximaal 2 A4 en licht dit toe tijdens de toelichting van de open vragen hoe zij tot de keuzes is gekomen en waarom dit een goed ontwerp is. | C10: SCORE | F10: SCORE | I10: SCORE
A11: Zie bijlage 7. | C11: <MOTIVATIE> | F11: <MOTIVATIE> | I11: <MOTIVATIE>

Sheet Hoofd facilitaire dienst
A1: Beoordelaar 7: Hoofd facilitaire dienst | C1: Inschrijver 1 | F1: Inschrijver 2 | I1: Inschrijver 3
A2: ='Open vragen'!A1:A1 -> 7.1.A. BEANTWOORDING OPEN VRAGEN | C2: Score: | F2: Score: | I2: Score:
A3: ='Open vragen'!A3 -> 7.1.1 PLAN VAN AANPAK (AANVANG DIENSTVERLENING) | C3: SCORE | F3: SCORE | I3: SCORE
A4: Zie bijlage 7. | C4: <MOTIVATIE> | F4: <MOTIVATIE> | I4: <MOTIVATIE>
A5: ='Open vragen'!A5 -> 7.1.2 DUURZAAM EN CIRCULAIR INKOPEN | C5: SCORE | F5: SCORE | I5: SCORE
A6: Zie bijlage 7. | C6: <MOTIVATIE> | F6: <MOTIVATIE> | I6: <MOTIVATIE>
A7: ='Open vragen'!A7 -> 7.1.3 PROJECTCASUS VERBOUW LEERLINGENKANTINE LOCATIE BUITENPOST | C7: Score: | F7: Score: | I7: Score:
A8: ='Open vragen'!A9 -> A. Het ontwerp, de visualisatie (minimaal een 3D tekening) daarvan voegt zij toe aan de inschrijving (maximaal 3 A4 extra). | C8: SCORE | F8: SCORE | I8: SCORE
A9: Zie bijlage 7. | C9: <MOTIVATIE> | F9: <MOTIVATIE> | I9: <MOTIVATIE>
A10: ='Open vragen'!A11 -> B. Inschrijver beschrijft een interieuradvies van maximaal 2 A4 en licht dit toe tijdens de toelichting van de open vragen hoe zij tot de keuzes is gekomen en waarom dit een goed ontwerp is. | C10: SCORE | F10: SCORE | I10: SCORE
A11: Zie bijlage 7. | C11: <MOTIVATIE> | F11: <MOTIVATIE> | I11: <MOTIVATIE>

Sheet Consensus
A1: Totaalwaardes | D1: ='Locatie directeur 1'!C1 -> Inschrijver 1 | G1: ='Locatie directeur 1'!F1 -> Inschrijver 2 | J1: ='Locatie directeur 1'!I1 -> Inschrijver 3
A2: ='Open vragen'!A1:A1 -> 7.1.A. BEANTWOORDING OPEN VRAGEN | E2: Motivatie consensus: | H2: Motivatie consensus: | K2: Motivatie consensus:
A3: ='Open vragen'!A3 -> 7.1.1 PLAN VAN AANPAK (AANVANG DIENSTVERLENING) | B3: Locatie directeur 1 | D3: ='Locatie directeur 1'!C3 -> SCORE | E3: <MOTIVATIE> | G3: ='Locatie directeur 1'!F3 -> SCORE | H3: <MOTIVATIE> | J3: ='Locatie directeur 1'!I3 -> SCORE | K3: <MOTIVATIE>
B4: Locatie directeur 2 | D4: ='Locatie directeur 2'!C3 -> SCORE | G4: ='Locatie directeur 2'!F3 -> SCORE | J4: ='Locatie directeur 2'!I3 -> SCORE
B5: Beleidsmedewerker facilitair | D5: ='Beleidsmedewerker facilitair'!C3 -> SCORE | G5: ='Beleidsmedewerker facilitair'!F3 -> SCORE | J5: ='Beleidsmedewerker facilitair'!I3 -> SCORE
B6: Coordinator OOP | D6: ='Coordinator OOP'!C3 -> SCORE | G6: ='Coordinator OOP'!F3 -> SCORE | J6: ='Coordinator OOP'!I3 -> SCORE
B7: Centrale inkoper | D7: ='Centrale inkoper'!C3 -> SCORE | G7: ='Centrale inkoper'!F3 -> SCORE | J7: ='Centrale inkoper'!I3 -> SCORE
B8: Onderhoudsmedewerker | D8: =Onderhoudsmedewerker!C3 -> SCORE | G8: =Onderhoudsmedewerker!F3 -> SCORE | J8: =Onderhoudsmedewerker!I3 -> SCORE
B9: Hoofd facilitaire dienst | D9: ='Hoofd facilitaire dienst'!C3 -> SCORE | G9: ='Hoofd facilitaire dienst'!F3 -> SCORE | J9: ='Hoofd facilitaire dienst'!I3 -> SCORE
A10: Consensus | D10: SCORE | G10: SCORE | J10: SCORE
D11: =IF(D10="Uitmuntend","€ 10.000",IF(D10="Goed","€ 5.000",IF(D10="Voldoende","€ 0",IF(D10="Matig","-€ 10.000",IF(D10="Onvoldoende","KO"," "))))) | G11: =IF(G10="Uitmuntend","€ 10.000",IF(G10="Goed","€ 5.000",IF(G10="Voldoende","€ 0",IF(G10="Matig","-€ 10.000",IF(G10="Onvoldoende","KO"," "))))) | J11: =IF(J10="Uitmuntend","€ 10.000",IF(J10="Goed","€ 5.000",IF(J10="Voldoende","€ 0",IF(J10="Matig","-€ 10.000",IF(J10="Onvoldoende","KO"," ")))))
A12: ='Open vragen'!A5 -> 7.1.2 DUURZAAM EN CIRCULAIR INKOPEN | B12: =B3 -> Locatie directeur 1 | D12: ='Locatie directeur 1'!C5 -> SCORE | E12: <MOTIVATIE> | G12: ='Locatie directeur 1'!F5 -> SCORE | H12: <MOTIVATIE> | J12: ='Locatie directeur 1'!I5 -> SCORE | K12: <MOTIVATIE>
B13: =B4 -> Locatie directeur 2 | D13: ='Locatie directeur 2'!C5 -> SCORE | G13: ='Locatie directeur 2'!F5 -> SCORE | J13: ='Locatie directeur 2'!I5 -> SCORE
B14: =B5 -> Beleidsmedewerker facilitair | D14: ='Beleidsmedewerker facilitair'!C5 -> SCORE | G14: ='Beleidsmedewerker facilitair'!F5 -> SCORE | J14: ='Beleidsmedewerker facilitair'!I5 -> SCORE
B15: =B6 -> Coordinator OOP | D15: ='Coordinator OOP'!C5 -> SCORE | G15: ='Coordinator OOP'!F5 -> SCORE | J15: ='Coordinator OOP'!I5 -> SCORE
B16: =B7 -> Centrale inkoper | D16: ='Centrale inkoper'!C5 -> SCORE | G16: ='Centrale inkoper'!F5 -> SCORE | J16: ='Centrale inkoper'!I5 -> SCORE
B17: =B8 -> Onderhoudsmedewerker | D17: =Onderhoudsmedewerker!C5 -> SCORE | G17: =Onderhoudsmedewerker!F5 -> SCORE | J17: =Onderhoudsmedewerker!I5 -> SCORE
B18: =B9 -> Hoofd facilitaire dienst | D18: ='Hoofd facilitaire dienst'!C5 -> SCORE | G18: ='Hoofd facilitaire dienst'!F5 -> SCORE | J18: ='Hoofd facilitaire dienst'!I5 -> SCORE
A19: Consensus | D19: SCORE | G19: SCORE | J19: SCORE
D20: =IF(D19="Uitmuntend","€ 30.000",IF(D19="Goed","€ 15.000",IF(D19="Voldoende","€ 0",IF(D19="Matig","-€ 30.000",IF(D19="Onvoldoende","KO"," "))))) | G20: =IF(G19="Uitmuntend","€ 30.000",IF(G19="Goed","€ 15.000",IF(G19="Voldoende","€ 0",IF(G19="Matig","-€ 30.000",IF(G19="Onvoldoende","KO"," "))))) | J20: =IF(J19="Uitmuntend","€ 30.000",IF(J19="Goed","€ 15.000",IF(J19="Voldoende","€ 0",IF(J19="Matig","-€ 30.000",IF(J19="Onvoldoende","KO"," ")))))
A21: ='Open vragen'!A7 -> 7.1.3 PROJECTCASUS VERBOUW LEERLINGENKANTINE LOCATIE BUITENPOST | E21: Motivatie consensus: | H21: Motivatie consensus: | K21: Motivatie consensus:
A22: ='Open vragen'!A9 -> A. Het ontwerp, de visualisatie (minimaal een 3D tekening) daarvan voegt zij toe aan de inschrijving (maximaal 3 A4 extra). | B22: =B3 -> Locatie directeur 1 | D22: ='Locatie directeur 1'!C8 -> SCORE | E22: <MOTIVATIE> | G22: ='Locatie directeur 1'!F8 -> SCORE | H22: <MOTIVATIE> | J22: ='Locatie directeur 1'!I8 -> SCORE | K22: <MOTIVATIE>
B23: =B4 -> Locatie directeur 2 | D23: ='Locatie directeur 2'!C8 -> SCORE | G23: ='Locatie directeur 2'!F8 -> SCORE | J23: ='Locatie directeur 2'!I8 -> SCORE
B24: =B5 -> Beleidsmedewerker facilitair | D24: ='Beleidsmedewerker facilitair'!C8 -> SCORE | G24: ='Beleidsmedewerker facilitair'!F8 -> SCORE | J24: ='Beleidsmedewerker facilitair'!I8 -> SCORE
B25: =B6 -> Coordinator OOP | D25: ='Coordinator OOP'!C8 -> SCORE | G25: ='Coordinator OOP'!F8 -> SCORE | J25: ='Coordinator OOP'!I8 -> SCORE
B26: =B7 -> Centrale inkoper | D26: ='Centrale inkoper'!C8 -> SCORE | G26: ='Centrale inkoper'!F8 -> SCORE | J26: ='Centrale inkoper'!I8 -> SCORE
B27: =B8 -> Onderhoudsmedewerker | D27: =Onderhoudsmedewerker!C8 -> SCORE | G27: =Onderhoudsmedewerker!F8 -> SCORE | J27: =Onderhoudsmedewerker!I8 -> SCORE
B28: =B9 -> Hoofd facilitaire dienst | D28: ='Hoofd facilitaire dienst'!C8 -> SCORE | G28: ='Hoofd facilitaire dienst'!F8 -> SCORE | J28: ='Hoofd facilitaire dienst'!I8 -> SCORE
A29: Consensus | D29: SCORE | G29: SCORE | J29: SCORE
D30: =IF(D29="Uitmuntend","€ 17.500",IF(D29="Goed","€ 8.750",IF(D29="Voldoende","€ 0",IF(D29="Matig","-€ 17.500",IF(D29="Onvoldoende","KO"," "))))) | G30: =IF(G29="Uitmuntend","€ 17.500",IF(G29="Goed","€ 8.750",IF(G29="Voldoende","€ 0",IF(G29="Matig","-€ 17.500",IF(G29="Onvoldoende","KO"," "))))) | J30: =IF(J29="Uitmuntend","€ 17.500",IF(J29="Goed","€ 8.750",IF(J29="Voldoende","€ 0",IF(J29="Matig","-€ 17.500",IF(J29="Onvoldoende","KO"," ")))))
A31: ='Open vragen'!A11 -> B. Inschrijver beschrijft een interieuradvies van maximaal 2 A4 en licht dit toe tijdens de toelichting van de open vragen hoe zij tot de keuzes is gekomen en waarom dit een goed ontwerp is. | B31: =B3 -> Locatie directeur 1 | D31: ='Locatie directeur 1'!C10 -> SCORE | E31: <MOTIVATIE> | G31: ='Locatie directeur 1'!F10 -> SCORE | H31: <MOTIVATIE> | J31: ='Locatie directeur 1'!I10 -> SCORE | K31: <MOTIVATIE>
B32: =B4 -> Locatie directeur 2 | D32: ='Locatie directeur 2'!C10 -> SCORE | G32: ='Locatie directeur 2'!F10 -> SCORE | J32: ='Locatie directeur 2'!I10 -> SCORE
B33: =B5 -> Beleidsmedewerker facilitair | D33: ='Beleidsmedewerker facilitair'!C10 -> SCORE | G33: ='Beleidsmedewerker facilitair'!F10 -> SCORE | J33: ='Beleidsmedewerker facilitair'!I10 -> SCORE
B34: =B6 -> Coordinator OOP | D34: ='Coordinator OOP'!C10 -> SCORE | G34: ='Coordinator OOP'!F10 -> SCORE | J34: ='Coordinator OOP'!I10 -> SCORE
B35: =B7 -> Centrale inkoper | D35: ='Centrale inkoper'!C10 -> SCORE | G35: ='Centrale inkoper'!F10 -> SCORE | J35: ='Centrale inkoper'!I10 -> SCORE
B36: =B8 -> Onderhoudsmedewerker | D36: =Onderhoudsmedewerker!C10 -> SCORE | G36: =Onderhoudsmedewerker!F10 -> SCORE | J36: =Onderhoudsmedewerker!I10 -> SCORE
B37: =B9 -> Hoofd facilitaire dienst | D37: ='Hoofd facilitaire dienst'!C10 -> SCORE | G37: ='Hoofd facilitaire dienst'!F10 -> SCORE | J37: ='Hoofd facilitaire dienst'!I10 -> SCORE
A38: Consensus | D38: SCORE | G38: SCORE | J38: SCORE
D39: =IF(D38="Uitmuntend","€ 17.500",IF(D38="Goed","€ 8.750",IF(D38="Voldoende","€ 0",IF(D38="Matig","-€ 17.500",IF(D38="Onvoldoende","KO"," "))))) | G39: =IF(G38="Uitmuntend","€ 17.500",IF(G38="Goed","€ 8.750",IF(G38="Voldoende","€ 0",IF(G38="Matig","-€ 17.500",IF(G38="Onvoldoende","KO"," "))))) | J39: =IF(J38="Uitmuntend","€ 17.500",IF(J38="Goed","€ 8.750",IF(J38="Voldoende","€ 0",IF(J38="Matig","-€ 17.500",IF(J38="Onvoldoende","KO"," ")))))
A41: Totaal behaalde waarde open vragen: | D41: =D11+D20+D30+D39 -> #VALUE! | G41: =G11+G20+G30+G39 -> #VALUE! | J41: =J11+J20+J30+J39 -> #VALUE!

Sheet Eindscores
A1: Totaalwaarder criterium kwaliteit
A2: Onderdeel | C2: ='Locatie directeur 1'!C1 -> Inschrijver 1 | E2: ='Locatie directeur 1'!F1 -> Inschrijver 2 | G2: ='Locatie directeur 1'!I1 -> Inschrijver 3
A3: 7.1.A. Beantwoording open vragen | C3: =Consensus!D41 -> #VALUE! | E3: =Consensus!G41 -> #VALUE! | G3: =Consensus!J41 -> #VALUE!
A4: 7.2. Gebruiksvriendelijkheid bestelapplicatie | C4: 0 | E4: 0 | G4: 0
A5: 7.3 Productdemonstratie | C5: 0 | E5: 0 | G5: 0
A6: Totaal behaalde waarde criterium kwaliteit: | C6: =C4+C3+C5 -> #VALUE! | E6: =E4+E3+E5 -> #VALUE! | G6: =G4+G3+G5 -> #VALUE!
A8: Totaal behaalde waarde criterium prijs: | C8: 0 | E8: 0 | G8: 0
A10: Eindscore (kwaliteit/prijs): | C10: =C8-C6 -> #VALUE! | E10: =E8-E6 -> #VALUE! | G10: =G8-G6 -> #VALUE!
