Workbook
Name SCORE: 'Beoordelen Demo'!$D$3:$D$8

Sheet Beoordelen Demo
A1: Beoordeling demo
A2: 2. DEMONSTRATIE AANGEBODEN ROOSTERPAKKET
A3: Casus 1. BASISROOSTER | B3: De afzonderlijke items zullen worden beoordeeld met: | C3: Te behalen score op basis van consensus | D3: Score:
A4: Zie "Bijlage 6 Kwaliteit" | B4: Uitmuntend | C4: 45000 | D4: Uitmuntend
B5: Goed | C5: 36000 | D5: Goed
B6: Voldoende | C6: 0 | D6: Voldoende
B7: Matig | C7: -90000 | D7: Matig
B8: Onvoldoende | C8: KO | D8: Onvoldoende
A9: Casus 2. KEUZEWERKTIJD UREN | B9: De afzonderlijke items zullen worden beoordeeld met: | C9: Te behalen score op basis van consensus
A10: Zie "Bijlage 6 Kwaliteit" | B10: Uitmuntend | C10: 4500
B11: Goed | C11: 3600
B12: Voldoende | C12: 0
B13: Matig | C13: -9000
B14: Onvoldoende | C14: KO
A15: Casus 3. TOETSROOSTER | B15: De afzonderlijke items zullen worden beoordeeld met: | C15: Te behalen score op basis van consensus
A16: Zie "Bijlage 6 Kwaliteit" | B16: Uitmuntend | C16: 4500
B17: Goed | C17: 3600
B18: Voldoende | C18: 0
B19: Matig | C19: -9000
B20: Onvoldoende | C20: KO
A21: Casus 4. MAATWERKTRAJECT | B21: De afzonderlijke items zullen worden beoordeeld met: | C21: Te behalen score op basis van consensus
A22: Zie "Bijlage 6 Kwaliteit" | B22: Uitmuntend | C22: 4500
B23: Goed | C23: 3600
B24: Voldoende | C24: 0
B25: Matig | C25: -9000
B26: Onvoldoende | C26: KO
A27: Casus 5. OUDERSPREEKUUR/ 10 MINUTEN GESPREKKEN/ ROL OUDERS | B27: De afzonderlijke items zullen worden beoordeeld met: | C27: Te behalen score op basis van consensus
A28: Zie "Bijlage 6 Kwaliteit" | B28: Uitmuntend | C28: 4500
B29: Goed | C29: 3600
B30: Voldoende | C30: 0
B31: Matig | C31: -9000
B32: Onvoldoende | C32: -67500
A33: Casus 6. DECANEN | B33: De afzonderlijke items zullen worden beoordeeld met: | C33: Te behalen score op basis van consensus
A34: Zie "Bijlage 6 Kwaliteit" | B34: Uitmuntend | C34: 9000
B35: Goed | C35: 7200
B36: Voldoende | C36: 0
B37: Matig | C37: -36000
B38: Onvoldoende | C38: KO
A39: Casus 7. LEIDINGGEVENDEN | B39: De afzonderlijke items zullen worden beoordeeld met: | C39: Te behalen score op basis van consensus
A40: Zie "Bijlage 6 Kwaliteit" | B40: Uitmuntend | C40: 9000
B41: Goed | C41: 7200
B42: Voldoende | C42: 0
B43: Matig | C43: -36000
B44: Onvoldoende | C44: KO
A45: Casus 8. FUNCTIONEEL BEHEER | B45: De afzonderlijke items zullen worden beoordeeld met: | C45: Te behalen score op basis van consensus
A46: Zie "Bijlage 6 Kwaliteit" | B46: Uitmuntend | C46: 9000
B47: Goed | C47: 7200
B48: Voldoende | C48: 0
B49: Matig | C49: -18000
B50: Onvoldoende | C50: KO
A51: Casus 8. Beantwoording A | B51: De afzonderlijke items zullen worden beoordeeld met: | C51: Te behalen score op basis van consensus
A52: Zie "Bijlage 6 Kwaliteit" | B52: Uitmuntend | C52: 9000
B53: Goed | C53: 7200
B54: Voldoende | C54: 0
B55: Matig | C55: -18000
B56: Onvoldoende | C56: KO
A57: Casus 8. Beantwoording B | B57: De afzonderlijke items zullen worden beoordeeld met: | C57: Te behalen score op basis van consensus
A58: Zie "Bijlage 6 Kwaliteit" | B58: Uitmuntend | C58: 9000
B59: Goed | C59: 7200
B60: Voldoende | C60: 0
B61: Matig | C61: -18000
B62: Onvoldoende | C62: KO
A63: Casus 8. Beantwoording C | B63: De afzonderlijke items zullen worden beoordeeld met: | C63: Te behalen score op basis van consensus
A64: Zie "Bijlage 6 Kwaliteit" | B64: Uitmuntend | C64: 9000
B65: Goed | C65: 7200
B66: Voldoende | C66: 0
B67: Matig | C67: -18000
B68: Onvoldoende | C68: KO

Sheet Beoordelaar 1
A1: Beoordelaar 1: <<>> | C1: Inschrijver 1 | F1: Inschrijver 2 | I1: Inschrijver 3
C2: Score: | F2: Score: | I2: Score:
A3: ='Beoordelen Demo'!A3 -> Casus 1. BASISROOSTER | C3: Score: | F3: Score: | I3: Score:
A4: ='Beoordelen Demo'!A4 -> Zie "Bijlage 6 Kwaliteit" | C4: <MOTIVATIE> | F4: <MOTIVATIE> | I4: <MOTIVATIE>
A5: ='Beoordelen Demo'!A9 -> Casus 2. KEUZEWERKTIJD UREN | C5: Score: | F5: Score: | I5: Score:
A6: ='Beoordelen Demo'!A10 -> Zie "Bijlage 6 Kwaliteit" | C6: <MOTIVATIE> | F6: <MOTIVATIE> | I6: <MOTIVATIE>
A7: ='Beoordelen Demo'!A15 -> Casus 3. TOETSROOSTER | C7: Score: | F7: Score: | I7: Score:
A8: ='Beoordelen Demo'!A16 -> Zie "Bijlage 6 Kwaliteit" | C8: <MOTIVATIE> | F8: <MOTIVATIE> | I8: <MOTIVATIE>
A9: ='Beoordelen Demo'!A21 -> Casus 4. MAATWERKTRAJECT | C9: Score: | F9: Score: | I9: Score:
A10: ='Beoordelen Demo'!A22 -> Zie "Bijlage 6 Kwaliteit" | C10: <MOTIVATIE> | F10: <MOTIVATIE> | I10: <MOTIVATIE>
A11: ='Beoordelen Demo'!A27 -> Casus 5. OUDERSPREEKUUR/ 10 MINUTEN GESPREKKEN/ ROL OUDERS | C11: Score: | F11: Score: | I11: Score:
A12: ='Beoordelen Demo'!A28 -> Zie "Bijlage 6 Kwaliteit" | C12: <MOTIVATIE> | F12: <MOTIVATIE> | I12: <MOTIVATIE>
A13: ='Beoordelen Demo'!A33 -> Casus 6. DECANEN | C13: Score: | F13: Score: | I13: Score:
A14: ='Beoordelen Demo'!A34 -> Zie "Bijlage 6 Kwaliteit" | C14: <MOTIVATIE> | F14: <MOTIVATIE> | I14: <MOTIVATIE>
A15: ='Beoordelen Demo'!A39 -> Casus 7. LEIDINGGEVENDEN | C15: Score: | F15: Score: | I15: Score:
A16: ='Beoordelen Demo'!A40 -> Zie "Bijlage 6 Kwaliteit" | C16: <MOTIVATIE> | F16: <MOTIVATIE> | I16: <MOTIVATIE>
A17: ='Beoordelen Demo'!A45 -> Casus 8. FUNCTIONEEL BEHEER | C17: Score: | F17: Score: | I17: Score:
A18: ='Beoordelen Demo'!A46 -> Zie "Bijlage 6 Kwaliteit" | C18: <MOTIVATIE> | F18: <MOTIVATIE> | I18: <MOTIVATIE>
A19: ='Beoordelen Demo'!A51 -> Casus 8. Beantwoording A | C19: Score: | F19: Score: | I19: Score:
A20: ='Beoordelen Demo'!A52 -> Zie "Bijlage 6 Kwaliteit" | C20: <MOTIVATIE> | F20: <MOTIVATIE> | I20: <MOTIVATIE>
A21: ='Beoordelen Demo'!A57 -> Casus 8. Beantwoording B | C21: Score: | F21: Score: | I21: Score:
A22: ='Beoordelen Demo'!A58 -> Zie "Bijlage 6 Kwaliteit" | C22: <MOTIVATIE> | F22: <MOTIVATIE> | I22: <MOTIVATIE>
A23: ='Beoordelen Demo'!A63 -> Casus 8. Beantwoording C | C23: Score: | F23: Score: | I23: Score:
A24: ='Beoordelen Demo'!A64 -> Zie "Bijlage 6 Kwaliteit" | C24: <MOTIVATIE> | F24: <MOTIVATIE> | I24: <MOTIVATIE>

Sheet Beoordelaar 2
A1: Beoordelaar 2: <<>> | C1: ='Beoordelaar 1'!C1 -> Inschrijver 1 | F1: ='Beoordelaar 1'!F1 -> Inschrijver 2 | I1: ='Beoordelaar 1'!I1 -> Inschrijver 3
C2: Score: | F2: Score: | I2: Score:
A3: ='Beoordelen Demo'!A3 -> Casus 1. BASISROOSTER | C3: Score: | F3: Score: | I3: Score:
A4: ='Beoordelen Demo'!A4 -> Zie "Bijlage 6 Kwaliteit" | C4: <MOTIVATIE> | F4: <MOTIVATIE> | I4: <MOTIVATIE>
A5: ='Beoordelen Demo'!A9 -> Casus 2. KEUZEWERKTIJD UREN | C5: Score: | F5: Score: | I5: Score:
A6: ='Beoordelen Demo'!A10 -> Zie "Bijlage 6 Kwaliteit" | C6: <MOTIVATIE> | F6: <MOTIVATIE> | I6: <MOTIVATIE>
A7: ='Beoordelen Demo'!A15 -> Casus 3. TOETSROOSTER | C7: Score: | F7: Score: | I7: Score:
A8: ='Beoordelen Demo'!A16 -> Zie "Bijlage 6 Kwaliteit" | C8: <MOTIVATIE> | F8: <MOTIVATIE> | I8: <MOTIVATIE>
A9: ='Beoordelen Demo'!A21 -> Casus 4. MAATWERKTRAJECT | C9: Score: | F9: Score: | I9: Score:
A10: ='Beoordelen Demo'!A22 -> Zie "Bijlage 6 Kwaliteit" | C10: <MOTIVATIE> | F10: <MOTIVATIE> | I10: <MOTIVATIE>
A11: ='Beoordelen Demo'!A27 -> Casus 5. OUDERSPREEKUUR/ 10 MINUTEN GESPREKKEN/ ROL OUDERS | C11: Score: | F11: Score: | I11: Score:
A12: ='Beoordelen Demo'!A28 -> Zie "Bijlage 6 Kwaliteit" | C12: <MOTIVATIE> | F12: <MOTIVATIE> | I12: <MOTIVATIE>
A13: ='Beoordelen Demo'!A33 -> Casus 6. DECANEN | C13: Score: | F13: Score: | I13: Score:
A14: ='Beoordelen Demo'!A34 -> Zie "Bijlage 6 Kwaliteit" | C14: <MOTIVATIE> | F14: <MOTIVATIE> | I14: <MOTIVATIE>
A15: ='Beoordelen Demo'!A39 -> Casus 7. LEIDINGGEVENDEN | C15: Score: | F15: Score: | I15: Score:
A16: ='Beoordelen Demo'!A40 -> Zie "Bijlage 6 Kwaliteit" | C16: <MOTIVATIE> | F16: <MOTIVATIE> | I16: <MOTIVATIE>
A17: ='Beoordelen Demo'!A45 -> Casus 8. FUNCTIONEEL BEHEER | C17: Score: | F17: Score: | I17: Score:
A18: ='Beoordelen Demo'!A46 -> Zie "Bijlage 6 Kwaliteit" | C18: <MOTIVATIE> | F18: <MOTIVATIE> | I18: <MOTIVATIE>
A19: ='Beoordelen Demo'!A51 -> Casus 8. Beantwoording A | C19: Score: | F19: Score: | I19: Score:
A20: ='Beoordelen Demo'!A52 -> Zie "Bijlage 6 Kwaliteit" | C20: <MOTIVATIE> | F20: <MOTIVATIE> | I20: <MOTIVATIE>
A21: ='Beoordelen Demo'!A57 -> Casus 8. Beantwoording B | C21: Score: | F21: Score: | I21: Score:
A22: ='Beoordelen Demo'!A58 -> Zie "Bijlage 6 Kwaliteit" | C22: <MOTIVATIE> | F22: <MOTIVATIE> | I22: <MOTIVATIE>
A23: ='Beoordelen Demo'!A63 -> Casus 8. Beantwoording C | C23: Score: | F23: Score: | I23: Score:
A24: ='Beoordelen Demo'!A64 -> Zie "Bijlage 6 Kwaliteit" | C24: <MOTIVATIE> | F24: <MOTIVATIE> | I24: <MOTIVATIE>

Sheet Beoordelaar 3
A1: Beoordelaar 3: <<>> | C1: ='Beoordelaar 1'!C1 -> Inschrijver 1 | F1: ='Beoordelaar 1'!F1 -> Inschrijver 2 | I1: ='Beoordelaar 1'!I1 -> Inschrijver 3
C2: Score: | F2: Score: | I2: Score:
A3: ='Beoordelen Demo'!A3 -> Casus 1. BASISROOSTER | C3: Score: | F3: Score: | I3: Score:
A4: ='Beoordelen Demo'!A4 -> Zie "Bijlage 6 Kwaliteit" | C4: <MOTIVATIE> | F4: <MOTIVATIE> | I4: <MOTIVATIE>
A5: ='Beoordelen Demo'!A9 -> Casus 2. KEUZEWERKTIJD UREN | C5: Score: | F5: Score: | I5: Score:
A6: ='Beoordelen Demo'!A10 -> Zie "Bijlage 6 Kwaliteit" | C6: <MOTIVATIE> | F6: <MOTIVATIE> | I6: <MOTIVATIE>
A7: ='Beoordelen Demo'!A15 -> Casus 3. TOETSROOSTER | C7: Score: | F7: Score: | I7: Score:
A8: ='Beoordelen Demo'!A16 -> Zie "Bijlage 6 Kwaliteit" | C8: <MOTIVATIE> | F8: <MOTIVATIE> | I8: <MOTIVATIE>
A9: ='Beoordelen Demo'!A21 -> Casus 4. MAATWERKTRAJECT | C9: Score: | F9: Score: | I9: Score:
A10: ='Beoordelen Demo'!A22 -> Zie "Bijlage 6 Kwaliteit" | C10: <MOTIVATIE> | F10: <MOTIVATIE> | I10: <MOTIVATIE>
A11: ='Beoordelen Demo'!A27 -> Casus 5. OUDERSPREEKUUR/ 10 MINUTEN GESPREKKEN/ ROL OUDERS | C11: Score: | F11: Score: | I11: Score:
A12: ='Beoordelen Demo'!A28 -> Zie "Bijlage 6 Kwaliteit" | C12: <MOTIVATIE> | F12: <MOTIVATIE> | I12: <MOTIVATIE>
A13: ='Beoordelen Demo'!A33 -> Casus 6. DECANEN | C13: Score: | F13: Score: | I13: Score:
A14: ='Beoordelen Demo'!A34 -> Zie "Bijlage 6 Kwaliteit" | C14: <MOTIVATIE> | F14: <MOTIVATIE> | I14: <MOTIVATIE>
A15: ='Beoordelen Demo'!A39 -> Casus 7. LEIDINGGEVENDEN | C15: Score: | F15: Score: | I15: Score:
A16: ='Beoordelen Demo'!A40 -> Zie "Bijlage 6 Kwaliteit" | C16: <MOTIVATIE> | F16: <MOTIVATIE> | I16: <MOTIVATIE>
A17: ='Beoordelen Demo'!A45 -> Casus 8. FUNCTIONEEL BEHEER | C17: Score: | F17: Score: | I17: Score:
A18: ='Beoordelen Demo'!A46 -> Zie "Bijlage 6 Kwaliteit" | C18: <MOTIVATIE> | F18: <MOTIVATIE> | I18: <MOTIVATIE>
A19: ='Beoordelen Demo'!A51 -> Casus 8. Beantwoording A | C19: Score: | F19: Score: | I19: Score:
A20: ='Beoordelen Demo'!A52 -> Zie "Bijlage 6 Kwaliteit" | C20: <MOTIVATIE> | F20: <MOTIVATIE> | I20: <MOTIVATIE>
A21: ='Beoordelen Demo'!A57 -> Casus 8. Beantwoording B | C21: Score: | F21: Score: | I21: Score:
A22: ='Beoordelen Demo'!A58 -> Zie "Bijlage 6 Kwaliteit" | C22: <MOTIVATIE> | F22: <MOTIVATIE> | I22: <MOTIVATIE>
A23: ='Beoordelen Demo'!A63 -> Casus 8. Beantwoording C | C23: Score: | F23: Score: | I23: Score:
A24: ='Beoordelen Demo'!A64 -> Zie "Bijlage 6 Kwaliteit" | C24: <MOTIVATIE> | F24: <MOTIVATIE> | I24: <MOTIVATIE>

Sheet Beoordelaar 4
A1: Beoordelaar 4: <<>> | C1: ='Beoordelaar 1'!C1 -> Inschrijver 1 | F1: ='Beoordelaar 1'!F1 -> Inschrijver 2 | I1: ='Beoordelaar 1'!I1 -> Inschrijver 3
C2: Score: | F2: Score: | I2: Score:
A3: ='Beoordelen Demo'!A3 -> Casus 1. BASISROOSTER | C3: Score: | F3: Score: | I3: Score:
A4: ='Beoordelen Demo'!A4 -> Zie "Bijlage 6 Kwaliteit" | C4: <MOTIVATIE> | F4: <MOTIVATIE> | I4: <MOTIVATIE>
A5: ='Beoordelen Demo'!A9 -> Casus 2. KEUZEWERKTIJD UREN | C5: Score: | F5: Score: | I5: Score:
A6: ='Beoordelen Demo'!A10 -> Zie "Bijlage 6 Kwaliteit" | C6: <MOTIVATIE> | F6: <MOTIVATIE> | I6: <MOTIVATIE>
A7: ='Beoordelen Demo'!A15 -> Casus 3. TOETSROOSTER | C7: Score: | F7: Score: | I7: Score:
A8: ='Beoordelen Demo'!A16 -> Zie "Bijlage 6 Kwaliteit" | C8: <MOTIVATIE> | F8: <MOTIVATIE> | I8: <MOTIVATIE>
A9: ='Beoordelen Demo'!A21 -> Casus 4. MAATWERKTRAJECT | C9: Score: | F9: Score: | I9: Score:
A10: ='Beoordelen Demo'!A22 -> Zie "Bijlage 6 Kwaliteit" | C10: <MOTIVATIE> | F10: <MOTIVATIE> | I10: <MOTIVATIE>
A11: ='Beoordelen Demo'!A27 -> Casus 5. OUDERSPREEKUUR/ 10 MINUTEN GESPREKKEN/ ROL OUDERS | C11: Score: | F11: Score: | I11: Score:
A12: ='Beoordelen Demo'!A28 -> Zie "Bijlage 6 Kwaliteit" | C12: <MOTIVATIE> | F12: <MOTIVATIE> | I12: <MOTIVATIE>
A13: ='Beoordelen Demo'!A33 -> Casus 6. DECANEN | C13: Score: | F13: Score: | I13: Score:
A14: ='Beoordelen Demo'!A34 -> Zie "Bijlage 6 Kwaliteit" | C14: <MOTIVATIE> | F14: <MOTIVATIE> | I14: <MOTIVATIE>
A15: ='Beoordelen Demo'!A39 -> Casus 7. LEIDINGGEVENDEN | C15: Score: | F15: Score: | I15: Score:
A16: ='Beoordelen Demo'!A40 -> Zie "Bijlage 6 Kwaliteit" | C16: <MOTIVATIE> | F16: <MOTIVATIE> | I16: <MOTIVATIE>
A17: ='Beoordelen Demo'!A45 -> Casus 8. FUNCTIONEEL BEHEER | C17: Score: | F17: Score: | I17: Score:
A18: ='Beoordelen Demo'!A46 -> Zie "Bijlage 6 Kwaliteit" | C18: <MOTIVATIE> | F18: <MOTIVATIE> | I18: <MOTIVATIE>
A19: ='Beoordelen Demo'!A51 -> Casus 8. Beantwoording A | C19: Score: | F19: Score: | I19: Score:
A20: ='Beoordelen Demo'!A52 -> Zie "Bijlage 6 Kwaliteit" | C20: <MOTIVATIE> | F20: <MOTIVATIE> | I20: <MOTIVATIE>
A21: ='Beoordelen Demo'!A57 -> Casus 8. Beantwoording B | C21: Score: | F21: Score: | I21: Score:
A22: ='Beoordelen Demo'!A58 -> Zie "Bijlage 6 Kwaliteit" | C22: <MOTIVATIE> | F22: <MOTIVATIE> | I22: <MOTIVATIE>
A23: ='Beoordelen Demo'!A63 -> Casus 8. Beantwoording C | C23: Score: | F23: Score: | I23: Score:
A24: ='Beoordelen Demo'!A64 -> Zie "Bijlage 6 Kwaliteit" | C24: <MOTIVATIE> | F24: <MOTIVATIE> | I24: <MOTIVATIE>

Sheet Beoordelaar 5
A1: Beoordelaar 5: <<>> | C1: Inschrijver 1 | F1: Inschrijver 2 | I1: Inschrijver 3
C2: Score: | F2: Score: | I2: Score:
A3: ='Beoordelen Demo'!A3 -> Casus 1. BASISROOSTER | C3: Score: | F3: Score: | I3: Score:
A4: ='Beoordelen Demo'!A4 -> Zie "Bijlage 6 Kwaliteit" | C4: <MOTIVATIE> | F4: <MOTIVATIE> | I4: <MOTIVATIE>
A5: ='Beoordelen Demo'!A9 -> Casus 2. KEUZEWERKTIJD UREN | C5: Score: | F5: Score: | I5: Score:
A6: ='Beoordelen Demo'!A10 -> Zie "Bijlage 6 Kwaliteit" | C6: <MOTIVATIE> | F6: <MOTIVATIE> | I6: <MOTIVATIE>
A7: ='Beoordelen Demo'!A15 -> Casus 3. TOETSROOSTER | C7: Score: | F7: Score: | I7: Score:
A8: ='Beoordelen Demo'!A16 -> Zie "Bijlage 6 Kwaliteit" | C8: <MOTIVATIE> | F8: <MOTIVATIE> | I8: <MOTIVATIE>
A9: ='Beoordelen Demo'!A21 -> Casus 4. MAATWERKTRAJECT | C9: Score: | F9: Score: | I9: Score:
A10: ='Beoordelen Demo'!A22 -> Zie "Bijlage 6 Kwaliteit" | C10: <MOTIVATIE> | F10: <MOTIVATIE> | I10: <MOTIVATIE>
A11: ='Beoordelen Demo'!A27 -> Casus 5. OUDERSPREEKUUR/ 10 MINUTEN GESPREKKEN/ ROL OUDERS | C11: Score: | F11: Score: | I11: Score:
A12: ='Beoordelen Demo'!A28 -> Zie "Bijlage 6 Kwaliteit" | C12: <MOTIVATIE> | F12: <MOTIVATIE> | I12: <MOTIVATIE>
A13: ='Beoordelen Demo'!A33 -> Casus 6. DECANEN | C13: Score: | F13: Score: | I13: Score:
A14: ='Beoordelen Demo'!A34 -> Zie "Bijlage 6 Kwaliteit" | C14: <MOTIVATIE> | F14: <MOTIVATIE> | I14: <MOTIVATIE>
A15: ='Beoordelen Demo'!A39 -> Casus 7. LEIDINGGEVENDEN | C15: Score: | F15: Score: | I15: Score:
A16: ='Beoordelen Demo'!A40 -> Zie "Bijlage 6 Kwaliteit" | C16: <MOTIVATIE> | F16: <MOTIVATIE> | I16: <MOTIVATIE>
A17: ='Beoordelen Demo'!A45 -> Casus 8. FUNCTIONEEL BEHEER | C17: Score: | F17: Score: | I17: Score:
A18: ='Beoordelen Demo'!A46 -> Zie "Bijlage 6 Kwaliteit" | C18: <MOTIVATIE> | F18: <MOTIVATIE> | I18: <MOTIVATIE>
A19: ='Beoordelen Demo'!A51 -> Casus 8. Beantwoording A | C19: Score: | F19: Score: | I19: Score:
A20: ='Beoordelen Demo'!A52 -> Zie "Bijlage 6 Kwaliteit" | C20: <MOTIVATIE> | F20: <MOTIVATIE> | I20: <MOTIVATIE>
A21: ='Beoordelen Demo'!A57 -> Casus 8. Beantwoording B | C21: Score: | F21: Score: | I21: Score:
A22: ='Beoordelen Demo'!A58 -> Zie "Bijlage 6 Kwaliteit" | C22: <MOTIVATIE> | F22: <MOTIVATIE> | I22: <MOTIVATIE>
A23: ='Beoordelen Demo'!A63 -> Casus 8. Beantwoording C | C23: Score: | F23: Score: | I23: Score:
A24: ='Beoordelen Demo'!A64 -> Zie "Bijlage 6 Kwaliteit" | C24: <MOTIVATIE> | F24: <MOTIVATIE> | I24: <MOTIVATIE>

Sheet Consensus
A1: Totaalwaardes 2. Demonstratie applicatie
A2: ='Beoordelen Demo'!A2 -> 2. DEMONSTRATIE AANGEBODEN ROOSTERPAKKET | D2: ='Beoordelaar 1'!C1 -> Inschrijver 1 | E2: Motivatie consensus | G2: ='Beoordelaar 1'!F1 -> Inschrijver 2 | H2: Motivatie consensus | J2: ='Beoordelaar 1'!I1 -> Inschrijver 3 | K2: Motivatie consensus
A3: ='Beoordelen Demo'!A3 -> Casus 1. BASISROOSTER | B3: Beoordelaar 1 | D3: ='Beoordelaar 1'!C3 -> Score: | E3: <<MOTIVATIE>> | G3: ='Beoordelaar 1'!F3 -> Score: | H3: <<MOTIVATIE>> | J3: ='Beoordelaar 1'!I3 -> Score: | K3: <<MOTIVATIE>>
B4: Beoordelaar 2 | D4: ='Beoordelaar 2'!C3 -> Score: | G4: ='Beoordelaar 2'!F3 -> Score: | J4: ='Beoordelaar 2'!I3 -> Score:
B5: Beoordelaar 3 | D5: ='Beoordelaar 3'!C3 -> Score: | G5: ='Beoordelaar 3'!F3 -> Score: | J5: ='Beoordelaar 3'!I3 -> Score:
B6: Beoordelaar 4 | D6: ='Beoordelaar 4'!C3 -> Score: | G6: ='Beoordelaar 4'!F3 -> Score: | J6: ='Beoordelaar 4'!I3 -> Score:
B7: Beoordelaar 5 | D7: ='Beoordelaar 5'!C3 -> Score: | G7: ='Beoordelaar 5'!F3 -> Score: | J7: ='Beoordelaar 5'!I3 -> Score:
A8: Consensus | D8: Score: | G8: SCORE: | J8: Score:
D9: =IF(D8="Uitmuntend","€ 45.000",IF(D8="Goed","€ 36.000",IF(D8="Voldoende","€ 0",IF(D8="Matig","- € 90.000",IF(D8="Onvoldoende","KO"," "))))) | G9: =IF(G8="Uitmuntend","€ 45.000",IF(G8="Goed","€ 36.000",IF(G8="Voldoende","€ 0",IF(G8="Matig","- € 90.000",IF(G8="Onvoldoende","KO"," "))))) | J9: =IF(J8="Uitmuntend","€ 45.000",IF(J8="Goed","€ 36.000",IF(J8="Voldoende","€ 0",IF(J8="Matig","- € 90.000",IF(J8="Onvoldoende","KO"," ")))))
A10: ='Beoordelen Demo'!A9 -> Casus 2. KEUZEWERKTIJD UREN | B10: =B3 -> Beoordelaar 1 | D10: ='Beoordelaar 1'!C5 -> Score: | E10: <<MOTIVATIE>> | G10: ='Beoordelaar 1'!F5 -> Score: | H10: <<MOTIVATIE>> | J10: ='Beoordelaar 1'!I5 -> Score: | K10: <<MOTIVATIE>>
B11: =B4 -> Beoordelaar 2 | D11: ='Beoordelaar 2'!C5 -> Score: | G11: ='Beoordelaar 2'!F5 -> Score: | J11: ='Beoordelaar 2'!I5 -> Score:
B12: =B5 -> Beoordelaar 3 | D12: ='Beoordelaar 3'!C5 -> Score: | G12: ='Beoordelaar 3'!F5 -> Score: | J12: ='Beoordelaar 3'!I5 -> Score:
B13: =B6 -> Beoordelaar 4 | D13: ='Beoordelaar 4'!C5 -> Score: | G13: ='Beoordelaar 4'!F5 -> Score: | J13: ='Beoordelaar 4'!I5 -> Score:
B14: =B7 -> Beoordelaar 5 | D14: ='Beoordelaar 5'!C5 -> Score: | G14: ='Beoordelaar 5'!F5 -> Score: | J14: ='Beoordelaar 5'!I5 -> Score:
A15: Consensus | D15: Score: | G15: SCORE: | J15: Score:
D16: =IF(D15="Uitmuntend","€ 4.500",IF(D15="Goed","€ 3.600",IF(D15="Voldoende","€ 0",IF(D15="Matig","- € 9.000",IF(D15="Onvoldoende","KO"," "))))) | G16: =IF(G15="Uitmuntend","€ 4.500",IF(G15="Goed","€ 3.600",IF(G15="Voldoende","€ 0",IF(G15="Matig","- € 9.000",IF(G15="Onvoldoende","KO"," "))))) | J16: =IF(J15="Uitmuntend","€ 4.500",IF(J15="Goed","€ 3.600",IF(J15="Voldoende","€ 0",IF(J15="Matig","- € 9.000",IF(J15="Onvoldoende","KO"," ")))))
A17: ='Beoordelen Demo'!A15 -> Casus 3. TOETSROOSTER | B17: =B3 -> Beoordelaar 1 | D17: ='Beoordelaar 1'!C7 -> Score: | E17: <<MOTIVATIE>> | G17: ='Beoordelaar 1'!F7 -> Score: | H17: <<MOTIVATIE>> | J17: ='Beoordelaar 1'!I7 -> Score: | K17: <<MOTIVATIE>>
B18: =B4 -> Beoordelaar 2 | D18: ='Beoordelaar 2'!C7 -> Score: | G18: ='Beoordelaar 2'!F7 -> Score: | J18: ='Beoordelaar 2'!I7 -> Score:
B19: =B5 -> Beoordelaar 3 | D19: ='Beoordelaar 3'!C7 -> Score: | G19: ='Beoordelaar 3'!F7 -> Score: | J19: ='Beoordelaar 3'!I7 -> Score:
B20: =B6 -> Beoordelaar 4 | D20: ='Beoordelaar 4'!C7 -> Score: | G20: ='Beoordelaar 4'!F7 -> Score: | J20: ='Beoordelaar 4'!I7 -> Score:
B21: =B7 -> Beoordelaar 5 | D21: ='Beoordelaar 5'!C7 -> Score: | G21: ='Beoordelaar 5'!F7 -> Score: | J21: ='Beoordelaar 5'!I7 -> Score:
A22: Consensus | D22: Score: | G22: SCORE: | J22: Score:
D23: =IF(D22="Uitmuntend","€ 4.500",IF(D22="Goed","€ 3.600",IF(D22="Voldoende","€ 0",IF(D22="Matig","- € 9.000",IF(D22="Onvoldoende","KO"," "))))) | G23: =IF(G22="Uitmuntend","€ 4.500",IF(G22="Goed","€ 3.600",IF(G22="Voldoende","€ 0",IF(G22="Matig","- € 9.000",IF(G22="Onvoldoende","KO"," "))))) | J23: =IF(J22="Uitmuntend","€ 4.500",IF(J22="Goed","€ 3.600",IF(J22="Voldoende","€ 0",IF(J22="Matig","- € 9.000",IF(J22="Onvoldoende","KO"," ")))))
A24: ='Beoordelen Demo'!A21 -> Casus 4. MAATWERKTRAJECT | B24: =B3 -> Beoordelaar 1 | D24: ='Beoordelaar 1'!C9 -> Score: | E24: <<MOTIVATIE>> | G24: ='Beoordelaar 1'!F9 -> Score: | H24: <<MOTIVATIE>> | J24: ='Beoordelaar 1'!I9 -> Score: | K24: <<MOTIVATIE>>
B25: =B4 -> Beoordelaar 2 | D25: ='Beoordelaar 2'!C9 -> Score: | G25: ='Beoordelaar 2'!F9 -> Score: | J25: ='Beoordelaar 2'!I9 -> Score:
B26: =B5 -> Beoordelaar 3 | D26: ='Beoordelaar 3'!C9 -> Score: | G26: ='Beoordelaar 3'!F9 -> Score: | J26: ='Beoordelaar 3'!I9 -> Score:
B27: =B6 -> Beoordelaar 4 | D27: ='Beoordelaar 4'!C9 -> Score: | G27: ='Beoordelaar 4'!F9 -> Score: | J27: ='Beoordelaar 4'!I9 -> Score:
B28: =B7 -> Beoordelaar 5 | D28: ='Beoordelaar 5'!C9 -> Score: | G28: ='Beoordelaar 5'!F9 -> Score: | J28: ='Beoordelaar 5'!I9 -> Score:
A29: Consensus | D29: Score: | G29: SCORE: | J29: Score:
D30: =IF(D29="Uitmuntend","€ 4.500",IF(D29="Goed","€ 3.600",IF(D29="Voldoende","€ 0",IF(D29="Matig","- € 9.000",IF(D29="Onvoldoende","KO"," "))))) | G30: =IF(G29="Uitmuntend","€ 4.500",IF(G29="Goed","€ 3.600",IF(G29="Voldoende","€ 0",IF(G29="Matig","- € 9.000",IF(G29="Onvoldoende","KO"," "))))) | J30: =IF(J29="Uitmuntend","€ 4.500",IF(J29="Goed","€ 3.600",IF(J29="Voldoende","€ 0",IF(J29="Matig","- € 9.000",IF(J29="Onvoldoende","KO"," ")))))
A31: ='Beoordelen Demo'!A27 -> Casus 5. OUDERSPREEKUUR/ 10 MINUTEN GESPREKKEN/ ROL OUDERS | B31: =B3 -> Beoordelaar 1 | D31: ='Beoordelaar 1'!C11 -> Score: | E31: <<MOTIVATIE>> | G31: ='Beoordelaar 1'!F11 -> Score: | H31: <<MOTIVATIE>> | J31: ='Beoordelaar 1'!I11 -> Score: | K31: <<MOTIVATIE>>
B32: =B4 -> Beoordelaar 2 | D32: ='Beoordelaar 2'!C11 -> Score: | G32: ='Beoordelaar 2'!F11 -> Score: | J32: ='Beoordelaar 2'!I11 -> Score:
B33: =B5 -> Beoordelaar 3 | D33: ='Beoordelaar 3'!C11 -> Score: | G33: ='Beoordelaar 3'!F11 -> Score: | J33: ='Beoordelaar 3'!I11 -> Score:
B34: =B6 -> Beoordelaar 4 | D34: ='Beoordelaar 4'!C11 -> Score: | G34: ='Beoordelaar 4'!F11 -> Score: | J34: ='Beoordelaar 4'!I11 -> Score:
B35: =B7 -> Beoordelaar 5 | D35: ='Beoordelaar 5'!C11 -> Score: | G35: ='Beoordelaar 5'!F11 -> Score: | J35: ='Beoordelaar 5'!I11 -> Score:
A36: Consensus | D36: Score: | G36: SCORE: | J36: Score:
D37: =IF(D36="Uitmuntend","€ 4.500",IF(D36="Goed","€ 3.600",IF(D36="Voldoende","€ 0",IF(D36="Matig","- € 9.000",IF(D36="Onvoldoende","KO"," "))))) | G37: =IF(G36="Uitmuntend","€ 4.500",IF(G36="Goed","€ 3.600",IF(G36="Voldoende","€ 0",IF(G36="Matig","- € 9.000",IF(G36="Onvoldoende","KO"," "))))) | J37: =IF(J36="Uitmuntend","€ 4.500",IF(J36="Goed","€ 3.600",IF(J36="Voldoende","€ 0",IF(J36="Matig","- € 9.000",IF(J36="Onvoldoende","KO"," ")))))
A38: ='Beoordelen Demo'!A33 -> Casus 6. DECANEN | B38: =B3 -> Beoordelaar 1 | D38: ='Beoordelaar 1'!C13 -> Score: | E38: <<MOTIVATIE>> | G38: ='Beoordelaar 1'!F13 -> Score: | H38: <<MOTIVATIE>> | J38: ='Beoordelaar 1'!I13 -> Score: | K38: <<MOTIVATIE>>
B39: =B4 -> Beoordelaar 2 | D39: ='Beoordelaar 2'!C13 -> Score: | G39: ='Beoordelaar 2'!F13 -> Score: | J39: ='Beoordelaar 2'!I13 -> Score:
B40: =B5 -> Beoordelaar 3 | D40: ='Beoordelaar 3'!C13 -> Score: | G40: ='Beoordelaar 3'!F13 -> Score: | J40: ='Beoordelaar 3'!I13 -> Score:
B41: =B6 -> Beoordelaar 4 | D41: ='Beoordelaar 4'!C13 -> Score: | G41: ='Beoordelaar 4'!F13 -> Score: | J41: ='Beoordelaar 4'!I13 -> Score:
B42: =B7 -> Beoordelaar 5 | D42: ='Beoordelaar 5'!C13 -> Score: | G42: ='Beoordelaar 5'!F13 -> Score: | J42: ='Beoordelaar 5'!I13 -> Score:
A43: Consensus | D43: Score: | G43: Score: | J43: Score:
D44: =IF(D43="Uitmuntend","€ 9.000",IF(D43="Goed","€ 7.200",IF(D43="Voldoende","€ 0",IF(D43="Matig","- € 36.000",IF(D43="Onvoldoende","KO"," "))))) | G44: =IF(G43="Uitmuntend","€ 9.000",IF(G43="Goed","€ 7.200",IF(G43="Voldoende","€ 0",IF(G43="Matig","- € 36.000",IF(G43="Onvoldoende","KO"," "))))) | J44: =IF(J43="Uitmuntend","€ 9.000",IF(J43="Goed","€ 7.200",IF(J43="Voldoende","€ 0",IF(J43="Matig","- € 36.000",IF(J43="Onvoldoende","KO"," ")))))
A45: ='Beoordelen Demo'!A39 -> Casus 7. LEIDINGGEVENDEN | B45: =B3 -> Beoordelaar 1 | D45: ='Beoordelaar 1'!C15 -> Score: | E45: <<MOTIVATIE>> | G45: ='Beoordelaar 1'!F15 -> Score: | H45: <<MOTIVATIE>> | J45: ='Beoordelaar 1'!I15 -> Score: | K45: <<MOTIVATIE>>
B46: =B4 -> Beoordelaar 2 | D46: ='Beoordelaar 2'!C15 -> Score: | G46: ='Beoordelaar 2'!F15 -> Score: | J46: ='Beoordelaar 2'!I15 -> Score:
B47: =B5 -> Beoordelaar 3 | D47: ='Beoordelaar 3'!C15 -> Score: | G47: ='Beoordelaar 3'!F15 -> Score: | J47: ='Beoordelaar 3'!I15 -> Score:
B48: =B6 -> Beoordelaar 4 | D48: ='Beoordelaar 4'!C15 -> Score: | G48: ='Beoordelaar 4'!F15 -> Score: | J48: ='Beoordelaar 4'!I15 -> Score:
B49: =B7 -> Beoordelaar 5 | D49: ='Beoordelaar 5'!C15 -> Score: | G49: ='Beoordelaar 5'!F15 -> Score: | J49: ='Beoordelaar 5'!I15 -> Score:
A50: Consensus | D50: Score: | G50: Score: | J50: Score:
D51: =IF(D50="Uitmuntend","€ 9.000",IF(D50="Goed","€ 7.200",IF(D50="Voldoende","€ 0",IF(D50="Matig","- € 36.000",IF(D50="Onvoldoende","KO"," "))))) | G51: =IF(G50="Uitmuntend","€ 9.000",IF(G50="Goed","€ 7.200",IF(G50="Voldoende","€ 0",IF(G50="Matig","- € 36.000",IF(G50="Onvoldoende","KO"," "))))) | J51: =IF(J50="Uitmuntend","€ 9.000",IF(J50="Goed","€ 7.200",IF(J50="Voldoende","€ 0",IF(J50="Matig","- € 36.000",IF(J50="Onvoldoende","KO"," ")))))
A52: ='Beoordelen Demo'!A45 -> Casus 8. FUNCTIONEEL BEHEER | B52: =B3 -> Beoordelaar 1 | D52: ='Beoordelaar 1'!C17 -> Score: | E52: <<MOTIVATIE>> | G52: ='Beoordelaar 1'!F17 -> Score: | H52: <<MOTIVATIE>> | J52: ='Beoordelaar 1'!I17 -> Score: | K52: <<MOTIVATIE>>
B53: =B4 -> Beoordelaar 2 | D53: ='Beoordelaar 2'!C17 -> Score: | G53: ='Beoordelaar 2'!F17 -> Score: | J53: ='Beoordelaar 2'!I17 -> Score:
B54: =B5 -> Beoordelaar 3 | D54: ='Beoordelaar 3'!C17 -> Score: | G54: ='Beoordelaar 3'!F17 -> Score: | J54: ='Beoordelaar 3'!I17 -> Score:
B55: =B6 -> Beoordelaar 4 | D55: ='Beoordelaar 4'!C17 -> Score: | G55: ='Beoordelaar 4'!F17 -> Score: | J55: ='Beoordelaar 4'!I17 -> Score:
B56: =B7 -> Beoordelaar 5 | D56: ='Beoordelaar 5'!C17 -> Score: | G56: ='Beoordelaar 5'!F17 -> Score: | J56: ='Beoordelaar 5'!I17 -> Score:
A57: Consensus | D57: Score: | G57: Score: | J57: Score:
D58: =IF(D57="Uitmuntend","€ 2.250",IF(D57="Goed","€ 1.800",IF(D57="Voldoende","€ 0",IF(D57="Matig","- € 4.500",IF(D57="Onvoldoende","KO"," "))))) | G58: =IF(G57="Uitmuntend","€ 2.250",IF(G57="Goed","€ 1.800",IF(G57="Voldoende","€ 0",IF(G57="Matig","- € 4.500",IF(G57="Onvoldoende","KO"," "))))) | J58: =IF(J57="Uitmuntend","€ 2.250",IF(J57="Goed","€ 1.800",IF(J57="Voldoende","€ 0",IF(J57="Matig","- € 4.500",IF(J57="Onvoldoende","KO"," ")))))
A59: ='Beoordelen Demo'!A51 -> Casus 8. Beantwoording A | B59: =B10 -> Beoordelaar 1 | D59: ='Beoordelaar 1'!C19 -> Score: | E59: <<MOTIVATIE>> | G59: ='Beoordelaar 1'!F19 -> Score: | H59: <<MOTIVATIE>> | J59: ='Beoordelaar 1'!I19 -> Score: | K59: <<MOTIVATIE>>
B60: =B11 -> Beoordelaar 2 | D60: ='Beoordelaar 2'!C19 -> Score: | G60: ='Beoordelaar 2'!F19 -> Score: | J60: ='Beoordelaar 2'!I19 -> Score:
B61: =B12 -> Beoordelaar 3 | D61: ='Beoordelaar 3'!C19 -> Score: | G61: ='Beoordelaar 3'!F19 -> Score: | J61: ='Beoordelaar 3'!I19 -> Score:
B62: =B13 -> Beoordelaar 4 | D62: ='Beoordelaar 4'!C19 -> Score: | G62: ='Beoordelaar 4'!F19 -> Score: | J62: ='Beoordelaar 4'!I19 -> Score:
B63: =B14 -> Beoordelaar 5 | D63: ='Beoordelaar 5'!C19 -> Score: | G63: ='Beoordelaar 5'!F19 -> Score: | J63: ='Beoordelaar 5'!I19 -> Score:
A64: Consensus | D64: Score: | G64: Score: | J64: Score:
D65: =IF(D64="Uitmuntend","€ 2.250",IF(D64="Goed","€ 1.800",IF(D64="Voldoende","€ 0",IF(D64="Matig","- € 4.500",IF(D64="Onvoldoende","KO"," "))))) | G65: =IF(G64="Uitmuntend","€ 2.250",IF(G64="Goed","€ 1.800",IF(G64="Voldoende","€ 0",IF(G64="Matig","- € 4.500",IF(G64="Onvoldoende","KO"," "))))) | J65: =IF(J64="Uitmuntend","€ 2.250",IF(J64="Goed","€ 1.800",IF(J64="Voldoende","€ 0",IF(J64="Matig","- € 4.500",IF(J64="Onvoldoende","KO"," ")))))
A66: ='Beoordelen Demo'!A57 -> Casus 8. Beantwoording B | B66: =B17 -> Beoordelaar 1 | D66: ='Beoordelaar 1'!C21 -> Score: | E66: <<MOTIVATIE>> | G66: ='Beoordelaar 1'!F21 -> Score: | H66: <<MOTIVATIE>> | J66: ='Beoordelaar 1'!I21 -> Score: | K66: <<MOTIVATIE>>
B67: =B18 -> Beoordelaar 2 | D67: ='Beoordelaar 2'!C21 -> Score: | G67: ='Beoordelaar 2'!F21 -> Score: | J67: ='Beoordelaar 2'!I21 -> Score:
B68: =B19 -> Beoordelaar 3 | D68: ='Beoordelaar 3'!C21 -> Score: | G68: ='Beoordelaar 3'!F21 -> Score: | J68: ='Beoordelaar 3'!I21 -> Score:
B69: =B20 -> Beoordelaar 4 | D69: ='Beoordelaar 4'!C21 -> Score: | G69: ='Beoordelaar 4'!F21 -> Score: | J69: ='Beoordelaar 4'!I21 -> Score:
B70: =B21 -> Beoordelaar 5 | D70: ='Beoordelaar 5'!C21 -> Score: | G70: ='Beoordelaar 5'!F21 -> Score: | J70: ='Beoordelaar 5'!I21 -> Score:
A71: Consensus | D71: Score: | G71: Score: | J71: Score:
D72: =IF(D71="Uitmuntend","€ 2.250",IF(D71="Goed","€ 1.800",IF(D71="Voldoende","€ 0",IF(D71="Matig","- € 4.500",IF(D71="Onvoldoende","KO"," "))))) | G72: =IF(G71="Uitmuntend","€ 2.250",IF(G71="Goed","€ 1.800",IF(G71="Voldoende","€ 0",IF(G71="Matig","- € 4.500",IF(G71="Onvoldoende","KO"," "))))) | J72: =IF(J71="Uitmuntend","€ 2.250",IF(J71="Goed","€ 1.800",IF(J71="Voldoende","€ 0",IF(J71="Matig","- € 4.500",IF(J71="Onvoldoende","KO"," ")))))
A73: ='Beoordelen Demo'!A63 -> Casus 8. Beantwoording C | B73: =B24 -> Beoordelaar 1 | D73: ='Beoordelaar 1'!C23 -> Score: | E73: <<MOTIVATIE>> | G73: ='Beoordelaar 1'!F23 -> Score: | H73: <<MOTIVATIE>> | J73: ='Beoordelaar 1'!I23 -> Score: | K73: <<MOTIVATIE>>
B74: =B25 -> Beoordelaar 2 | D74: ='Beoordelaar 2'!C23 -> Score: | G74: ='Beoordelaar 2'!F23 -> Score: | J74: ='Beoordelaar 2'!I23 -> Score:
B75: =B26 -> Beoordelaar 3 | D75: ='Beoordelaar 3'!C23 -> Score: | G75: ='Beoordelaar 3'!F23 -> Score: | J75: ='Beoordelaar 3'!I23 -> Score:
B76: =B27 -> Beoordelaar 4 | D76: ='Beoordelaar 4'!C23 -> Score: | G76: ='Beoordelaar 4'!F23 -> Score: | J76: ='Beoordelaar 4'!I23 -> Score:
B77: =B28 -> Beoordelaar 5 | D77: ='Beoordelaar 5'!C23 -> Score: | G77: ='Beoordelaar 5'!F23 -> Score: | J77: ='Beoordelaar 5'!I23 -> Score:
A78: Consensus | D78: Score: | G78: Score: | J78: Score:
D79: =IF(D78="Uitmuntend","€ 2.250",IF(D78="Goed","€ 1.800",IF(D78="Voldoende","€ 0",IF(D78="Matig","- € 4.500",IF(D78="Onvoldoende","KO"," "))))) | G79: =IF(G78="Uitmuntend","€ 2.250",IF(G78="Goed","€ 1.800",IF(G78="Voldoende","€ 0",IF(G78="Matig","- € 4.500",IF(G78="Onvoldoende","KO"," "))))) | J79: =IF(J78="Uitmuntend","€ 2.250",IF(J78="Goed","€ 1.800",IF(J78="Voldoende","€ 0",IF(J78="Matig","- € 4.500",IF(J78="Onvoldoende","KO"," ")))))
A80: Totaal behaalde waarde DEMO | D80: =D9+D16+D23+D30+D37+D44+D51+D58+D65+D72+D79 -> #VALUE! | G80: =G9+G16+G23+G30+G37+G44+G51+G58+G65+G72+G79 -> #VALUE! | J80: =J9+J16+J23+J30+J37+J44+J51+J58+J65+J72+J79 -> #VALUE!

Sheet Eindscores
A1: Totaalwaarde criterium kwaliteit
A2: Onderdeel | C2: ='[1]Beoordelaar 1'!C1 -> Inschrijver 1 | E2: ='[1]Beoordelaar 1'!F1 -> Inschrijver 2 | G2: ='[1]Beoordelaar 1'!I1 -> Inschrijver 3
A3: 1. BEANTWOORDING OPEN VRAGEN
A4: Formulier D - invulformulier open vraag 7.1.4
A5: ='Beoordelen Demo'!A2 -> 2. DEMONSTRATIE AANGEBODEN ROOSTERPAKKET | C5: =Consensus!D80 -> #VALUE! | E5: =Consensus!G80 -> #VALUE! | G5: =Consensus!J80 -> #VALUE!
A6: Totaal behaalde waarde criterium kwaliteit: | C6: =C3+C5+C4 -> #VALUE! | E6: =E3+E5+E4 -> #VALUE! | G6: =G3+G5+G4 -> #VALUE!
A8: Totaal behaalde waarde criterium prijs:
A10: FICTIEVE EINDWAARDE (prijs -/- kwaliteit): | C10: =C8-C6 -> #VALUE! | E10: =E8-E6 -> #VALUE! | G10: =G8-G6 -> #VALUE!
