Workbook
Name SCORE: 'Beoordelen Demo'!$D$3:$D$8

Sheet Beoordelen Demo
A1: Beoordeling demo
A2: 2. DEMONSTRATIE AANGEBODEN ROOSTERPAKKET
A3: Casus 1. BASISROOSTER | B3: De afzonderlijke items zullen worden beoordeeld met: | C3: Te behalen score op basis van consensus | D3: Score:
A4: Zie "Bijlage 6 Kwaliteit" | B4: Uitmuntend | C4: 45000 | D4: Uitmuntend
B5: Goed | C5: 36000 | D5: Goed
B6: Voldoende | C6: 0 | D6: Voldoende
B7: Matig | C7: -90000 | D7: Matig
B8: Onvoldoende | C8: KO | D8: Onvoldoende
A9: Casus 2. KEUZEWERKTIJD UREN | B9: De afzonderlijke items zullen worden beoordeeld met: | C9: Te behalen score op basis van consensus
A10: Zie "Bijlage 6 Kwaliteit" | B10: Uitmuntend | C10: 4500
B11: Goed | C11: 3600
B12: Voldoende | C12: 0
B13: Matig | C13: -9000
B14: Onvoldoende | C14: KO
A15: Casus 3. TOETSROOSTER | B15: De afzonderlijke items zullen worden beoordeeld met: | C15: Te behalen score op basis van consensus
A16: Zie "Bijlage 6 Kwaliteit" | B16: Uitmuntend | C16: 4500
B17: Goed | C17: 3600
B18: Voldoende | C18: 0
B19: Matig | C19: -9000
B20: Onvoldoende | C20: KO
A21: Casus 4. MAATWERKTRAJECT | B21: De afzonderlijke items zullen worden beoordeeld met: | C21: Te behalen score op basis van consensus
A22: Zie "Bijlage 6 Kwaliteit" | B22: Uitmuntend | C22: 4500
B23: Goed | C23: 3600
B24: Voldoende | C24: 0
B25: Matig | C25: -9000
B26: Onvoldoende | C26: KO
A27: Casus 5. OUDERSPREEKUUR/ 10 MINUTEN GESPREKKEN/ ROL OUDERS | B27: De afzonderlijke items zullen worden beoordeeld met: | C27: Te behalen score op basis van consensus
A28: Zie "Bijlage 6 Kwaliteit" | B28: Uitmuntend | C28: 4500
B29: Goed | C29: 3600
B30: Voldoende | C30: 0
B31: Matig | C31: -9000
B32: Onvoldoende | C32: -67500
A33: Casus 6. DECANEN | B33: De afzonderlijke items zullen worden beoordeeld met: | C33: Te behalen score op basis van consensus
A34: Zie "Bijlage 6 Kwaliteit" | B34: Uitmuntend | C34: 9000
B35: Goed | C35: 7200
B36: Voldoende | C36: 0
B37: Matig | C37: -36000
B38: Onvoldoende | C38: KO
A39: Casus 7. LEIDINGGEVENDEN | B39: De afzonderlijke items zullen worden beoordeeld met: | C39: Te behalen score op basis van consensus
A40: Zie "Bijlage 6 Kwaliteit" | B40: Uitmuntend | C40: 9000
...

Sheet Beoordelaar 1
A1: Beoordelaar 1: <<>> | C1: Inschrijver 1 | F1: Inschrijver 2 | I1: Inschrijver 3
C2: Score: | F2: Score: | I2: Score:
A3: ='Beoordelen Demo'!A3 -> Casus 1. BASISROOSTER | C3: Score: | F3: Score: | I3: Score:
A4: ='Beoordelen Demo'!A4 -> Zie "Bijlage 6 Kwaliteit" | C4: <MOTIVATIE> | F4: <MOTIVATIE> | I4: <MOTIVATIE>
A5: ='Beoordelen Demo'!A9 -> Casus 2. KEUZEWERKTIJD UREN | C5: Score: | F5: Score: | I5: Score:
A6: ='Beoordelen Demo'!A10 -> Zie "Bijlage 6 Kwaliteit" | C6: <MOTIVATIE> | F6: <MOTIVATIE> | I6: <MOTIVATIE>
A7: ='Beoordelen Demo'!A15 -> Casus 3. TOETSROOSTER | C7: Score: | F7: Score: | I7: Score:
A8: ='Beoordelen Demo'!A16 -> Zie "Bijlage 6 Kwaliteit" | C8: <MOTIVATIE> | F8: <MOTIVATIE> | I8: <MOTIVATIE>
A9: ='Beoordelen Demo'!A21 -> Casus 4. MAATWERKTRAJECT | C9: Score: | F9: Score: | I9: Score:
A10: ='Beoordelen Demo'!A22 -> Zie "Bijlage 6 Kwaliteit" | C10: <MOTIVATIE> | F10: <MOTIVATIE> | I10: <MOTIVATIE>
A11: ='Beoordelen Demo'!A27 -> Casus 5. OUDERSPREEKUUR/ 10 MINUTEN GESPREKKEN/ ROL OUDERS | C11: Score: | F11: Score: | I11: Score:
A12: ='Beoordelen Demo'!A28 -> Zie "Bijlage 6 Kwaliteit" | C12: <MOTIVATIE> | F12: <MOTIVATIE> | I12: <MOTIVATIE>
A13: ='Beoordelen Demo'!A33 -> Casus 6. DECANEN | C13: Score: | F13: Score: | I13: Score:
A14: ='Beoordelen Demo'!A34 -> Zie "Bijlage 6 Kwaliteit" | C14: <MOTIVATIE> | F14: <MOTIVATIE> | I14: <MOTIVATIE>
A15: ='Beoordelen Demo'!A39 -> Casus 7. LEIDINGGEVENDEN | C15: Score: | F15: Score: | I15: Score:
A16: ='Beoordelen Demo'!A40 -> Zie "Bijlage 6 Kwaliteit" | C16: <MOTIVATIE> | F16: <MOTIVATIE> | I16: <MOTIVATIE>
A17: ='Beoordelen Demo'!A45 -> Casus 8. FUNCTIONEEL BEHEER | C17: Score: | F17: Score: | I17: Score:
A18: ='Beoordelen Demo'!A46 -> Zie "Bijlage 6 Kwaliteit" | C18: <MOTIVATIE> | F18: <MOTIVATIE> | I18: <MOTIVATIE>
A19: ='Beoordelen Demo'!A51 -> Casus 8. Beantwoording A | C19: Score: | F19: Score: | I19: Score:
A20: ='Beoordelen Demo'!A52 -> Zie "Bijlage 6 Kwaliteit" | C20: <MOTIVATIE> | F20: <MOTIVATIE> | I20: <MOTIVATIE>
A21: ='Beoordelen Demo'!A57 -> Casus 8. Beantwoording B | C21: Score: | F21: Score: | I21: Score:
A22: ='Beoordelen Demo'!A58 -> Zie "Bijlage 6 Kwaliteit" | C22: <MOTIVATIE> | F22: <MOTIVATIE> | I22: <MOTIVATIE>
A23: ='Beoordelen Demo'!A63 -> Casus 8. Beantwoording C | C23: Score: | F23: Score: | I23: Score:
A24: ='Beoordelen Demo'!A64 -> Zie "Bijlage 6 Kwaliteit" | C24: <MOTIVATIE> | F24: <MOTIVATIE> | I24: <MOTIVATIE>

Sheet Beoordelaar 2
A1: Beoordelaar 2: <<>> | C1: ='Beoordelaar 1'!C1 -> Inschrijver 1 | F1: ='Beoordelaar 1'!F1 -> Inschrijver 2 | I1: ='Beoordelaar 1'!I1 -> Inschrijver 3
C2: Score: | F2: Score: | I2: Score:
A3: ='Beoordelen Demo'!A3 -> Casus 1. BASISROOSTER | C3: Score: | F3: Score: | I3: Score:
A4: ='Beoordelen Demo'!A4 -> Zie "Bijlage 6 Kwaliteit" | C4: <MOTIVATIE> | F4: <MOTIVATIE> | I4: <MOTIVATIE>
A5: ='Beoordelen Demo'!A9 -> Casus 2. KEUZEWERKTIJD UREN | C5: Score: | F5: Score: | I5: Score:
A6: ='Beoordelen Demo'!A10 -> Zie "Bijlage 6 Kwaliteit" | C6: <MOTIVATIE> | F6: <MOTIVATIE> | I6: <MOTIVATIE>
A7: ='Beoordelen Demo'!A15 -> Casus 3. TOETSROOSTER | C7: Score: | F7: Score: | I7: Score:
A8: ='Beoordelen Demo'!A16 -> Zie "Bijlage 6 Kwaliteit" | C8: <MOTIVATIE> | F8: <MOTIVATIE> | I8: <MOTIVATIE>
A9: ='Beoordelen Demo'!A21 -> Casus 4. MAATWERKTRAJECT | C9: Score: | F9: Score: | I9: Score:
A10: ='Beoordelen Demo'!A22 -> Zie "Bijlage 6 Kwaliteit" | C10: <MOTIVATIE> | F10: <MOTIVATIE> | I10: <MOTIVATIE>
A11: ='Beoordelen Demo'!A27 -> Casus 5. OUDERSPREEKUUR/ 10 MINUTEN GESPREKKEN/ ROL OUDERS | C11: Score: | F11: Score: | I11: Score:
A12: ='Beoordelen Demo'!A28 -> Zie "Bijlage 6 Kwaliteit" | C12: <MOTIVATIE> | F12: <MOTIVATIE> | I12: <MOTIVATIE>
A13: ='Beoordelen Demo'!A33 -> Casus 6. DECANEN | C13: Score: | F13: Score: | I13: Score:
A14: ='Beoordelen Demo'!A34 -> Zie "Bijlage 6 Kwaliteit" | C14: <MOTIVATIE> | F14: <MOTIVATIE> | I14: <MOTIVATIE>
A15: ='Beoordelen Demo'!A39 -> Casus 7. LEIDINGGEVENDEN | C15: Score: | F15: Score: | I15: Score:
A16: ='Beoordelen Demo'!A40 -> Zie "Bijlage 6 Kwaliteit" | C16: <MOTIVATIE> | F16: <MOTIVATIE> | I16: <MOTIVATIE>
A17: ='Beoordelen Demo'!A45 -> Casus 8. FUNCTIONEEL BEHEER | C17: Score: | F17: Score: | I17: Score:
A18: ='Beoordelen Demo'!A46 -> Zie "Bijlage 6 Kwaliteit" | C18: <MOTIVATIE> | F18: <MOTIVATIE> | I18: <MOTIVATIE>
A19: ='Beoordelen Demo'!A51 -> Casus 8. Beantwoording A | C19: Score: | F19: Score: | I19: Score:
A20: ='Beoordelen Demo'!A52 -> Zie "Bijlage 6 Kwaliteit" | C20: <MOTIVATIE> | F20: <MOTIVATIE> | I20: <MOTIVATIE>
A21: ='Beoordelen Demo'!A57 -> Casus 8. Beantwoording B | C21: Score: | F21: Score: | I21: Score:
A22: ='Beoordelen Demo'!A58 -> Zie "Bijlage 6 Kwaliteit" | C22: <MOTIVATIE> | F22: <MOTIVATIE> | I22: <MOTIVATIE>
A23: ='Beoordelen Demo'!A63 -> Casus 8. Beantwoording C | C23: Score: | F23: Score: | I23: Score:
A24: ='Beoordelen Demo'!A64 -> Zie "Bijlage 6 Kwaliteit" | C24: <MOTIVATIE> | F24: <MOTIVATIE> | I24: <MOTIVATIE>

Sheet Beoordelaar 3
A1: Beoordelaar 3: <<>> | C1: ='Beoordelaar 1'!C1 -> Inschrijver 1 | F1: ='Beoordelaar 1'!F1 -> Inschrijver 2 | I1: ='Beoordelaar 1'!I1 -> Inschrijver 3
C2: Score: | F2: Score: | I2: Score:
A3: ='Beoordelen Demo'!A3 -> Casus 1. BASISROOSTER | C3: Score: | F3: Score: | I3: Score:
A4: ='Beoordelen Demo'!A4 -> Zie "Bijlage 6 Kwaliteit" | C4: <MOTIVATIE> | F4: <MOTIVATIE> | I4: <MOTIVATIE>
A5: ='Beoordelen Demo'!A9 -> Casus 2. KEUZEWERKTIJD UREN | C5: Score: | F5: Score: | I5: Score:
A6: ='Beoordelen Demo'!A10 -> Zie "Bijlage 6 Kwaliteit" | C6: <MOTIVATIE> | F6: <MOTIVATIE> | I6: <MOTIVATIE>
A7: ='Beoordelen Demo'!A15 -> Casus 3. TOETSROOSTER | C7: Score: | F7: Score: | I7: Score:
A8: ='Beoordelen Demo'!A16 -> Zie "Bijlage 6 Kwaliteit" | C8: <MOTIVATIE> | F8: <MOTIVATIE> | I8: <MOTIVATIE>
A9: ='Beoordelen Demo'!A21 -> Casus 4. MAATWERKTRAJECT | C9: Score: | F9: Score: | I9: Score:
A10: ='Beoordelen Demo'!A22 -> Zie "Bijlage 6 Kwaliteit" | C10: <MOTIVATIE> | F10: <MOTIVATIE> | I10: <MOTIVATIE>
A11: ='Beoordelen Demo'!A27 -> Casus 5. OUDERSPREEKUUR/ 10 MINUTEN GESPREKKEN/ ROL OUDERS | C11: Score: | F11: Score: | I11: Score:
A12: ='Beoordelen Demo'!A28 -> Zie "Bijlage 6 Kwaliteit" | C12: <MOTIVATIE> | F12: <MOTIVATIE> | I12: <MOTIVATIE>
A13: ='Beoordelen Demo'!A33 -> Casus 6. DECANEN | C13: Score: | F13: Score: | I13: Score:
A14: ='Beoordelen Demo'!A34 -> Zie "Bijlage 6 Kwaliteit" | C14: <MOTIVATIE> | F14: <MOTIVATIE> | I14: <MOTIVATIE>
A15: ='Beoordelen Demo'!A39 -> Casus 7. LEIDINGGEVENDEN | C15: Score: | F15: Score: | I15: Score:
A16: ='Beoordelen Demo'!A40 -> Zie "Bijlage 6 Kwaliteit" | C16: <MOTIVATIE> | F16: <MOTIVATIE> | I16: <MOTIVATIE>
A17: ='Beoordelen Demo'!A45 -> Casus 8. FUNCTIONEEL BEHEER | C17: Score: | F17: Score: | I17: Score:
A18: ='Beoordelen Demo'!A46 -> Zie "Bijlage 6 Kwaliteit" | C18: <MOTIVATIE> | F18: <MOTIVATIE> | I18: <MOTIVATIE>
A19: ='Beoordelen Demo'!A51 -> Casus 8. Beantwoording A | C19: Score: | F19: Score: | I19: Score:
A20: ='Beoordelen Demo'!A52 -> Zie "Bijlage 6 Kwaliteit" | C20: <MOTIVATIE> | F20: <MOTIVATIE> | I20: <MOTIVATIE>
A21: ='Beoordelen Demo'!A57 -> Casus 8. Beantwoording B | C21: Score: | F21: Score: | I21: Score:
A22: ='Beoordelen Demo'!A58 -> Zie "Bijlage 6 Kwaliteit" | C22: <MOTIVATIE> | F22: <MOTIVATIE> | I22: <MOTIVATIE>
A23: ='Beoordelen Demo'!A63 -> Casus 8. Beantwoording C | C23: Score: | F23: Score: | I23: Score:
A24: ='Beoordelen Demo'!A64 -> Zie "Bijlage 6 Kwaliteit" | C24: <MOTIVATIE> | F24: <MOTIVATIE> | I24: <MOTIVATIE>

Sheet Beoordelaar 4
A1: Beoordelaar 4: <<>> | C1: ='Beoordelaar 1'!C1 -> Inschrijver 1 | F1: ='Beoordelaar 1'!F1 -> Inschrijver 2 | I1: ='Beoordelaar 1'!I1 -> Inschrijver 3
C2: Score: | F2: Score: | I2: Score:
A3: ='Beoordelen Demo'!A3 -> Casus 1. BASISROOSTER | C3: Score: | F3: Score: | I3: Score:
A4: ='Beoordelen Demo'!A4 -> Zie "Bijlage 6 Kwaliteit" | C4: <MOTIVATIE> | F4: <MOTIVATIE> | I4: <MOTIVATIE>
A5: ='Beoordelen Demo'!A9 -> Casus 2. KEUZEWERKTIJD UREN | C5: Score: | F5: Score: | I5: Score:
A6: ='Beoordelen Demo'!A10 -> Zie "Bijlage 6 Kwaliteit" | C6: <MOTIVATIE> | F6: <MOTIVATIE> | I6: <MOTIVATIE>
A7: ='Beoordelen Demo'!A15 -> Casus 3. TOETSROOSTER | C7: Score: | F7: Score: | I7: Score:
A8: ='Beoordelen Demo'!A16 -> Zie "Bijlage 6 Kwaliteit" | C8: <MOTIVATIE> | F8: <MOTIVATIE> | I8: <MOTIVATIE>
A9: ='Beoordelen Demo'!A21 -> Casus 4. MAATWERKTRAJECT | C9: Score: | F9: Score: | I9: Score:
A10: ='Beoordelen Demo'!A22 -> Zie "Bijlage 6 Kwaliteit" | C10: <MOTIVATIE> | F10: <MOTIVATIE> | I10: <MOTIVATIE>
A11: ='Beoordelen Demo'!A27 -> Casus 5. OUDERSPREEKUUR/ 10 MINUTEN GESPREKKEN/ ROL OUDERS | C11: Score: | F11: Score: | I11: Score:
A12: ='Beoordelen Demo'!A28 -> Zie "Bijlage 6 Kwaliteit" | C12: <MOTIVATIE> | F12: <MOTIVATIE> | I12: <MOTIVATIE>
A13: ='Beoordelen Demo'!A33 -> Casus 6. DECANEN | C13: Score: | F13: Score: | I13: Score:
A14: ='Beoordelen Demo'!A34 -> Zie "Bijlage 6 Kwaliteit" | C14: <MOTIVATIE> | F14: <MOTIVATIE> | I14: <MOTIVATIE>
A15: ='Beoordelen Demo'!A39 -> Casus 7. LEIDINGGEVENDEN | C15: Score: | F15: Score: | I15: Score:
A16: ='Beoordelen Demo'!A40 -> Zie "Bijlage 6 Kwaliteit" | C16: <MOTIVATIE> | F16: <MOTIVATIE> | I16: <MOTIVATIE>
A17: ='Beoordelen Demo'!A45 -> Casus 8. FUNCTIONEEL BEHEER | C17: Score: | F17: Score: | I17: Score:
A18: ='Beoordelen Demo'!A46 -> Zie "Bijlage 6 Kwaliteit" | C18: <MOTIVATIE> | F18: <MOTIVATIE> | I18: <MOTIVATIE>
A19: ='Beoordelen Demo'!A51 -> Casus 8. Beantwoording A | C19: Score: | F19: Score: | I19: Score:
A20: ='Beoordelen Demo'!A52 -> Zie "Bijlage 6 Kwaliteit" | C20: <MOTIVATIE> | F20: <MOTIVATIE> | I20: <MOTIVATIE>
A21: ='Beoordelen Demo'!A57 -> Casus 8. Beantwoording B | C21: Score: | F21: Score: | I21: Score:
A22: ='Beoordelen Demo'!A58 -> Zie "Bijlage 6 Kwaliteit" | C22: <MOTIVATIE> | F22: <MOTIVATIE> | I22: <MOTIVATIE>
A23: ='Beoordelen Demo'!A63 -> Casus 8. Beantwoording C | C23: Score: | F23: Score: | I23: Score:
A24: ='Beoordelen Demo'!A64 -> Zie "Bijlage 6 Kwaliteit" | C24: <MOTIVATIE> | F24: <MOTIVATIE> | I24: <MOTIVATIE>

Sheet Beoordelaar 5
A1: Beoordelaar 5: <<>> | C1: Inschrijver 1 | F1: Inschrijver 2 | I1: Inschrijver 3
C2: Score: | F2: Score: | I2: Score:
A3: ='Beoordelen Demo'!A3 -> Casus 1. BASISROOSTER | C3: Score: | F3: Score: | I3: Score:
A4: ='Beoordelen Demo'!A4 -> Zie "Bijlage 6 Kwaliteit" | C4: <MOTIVATIE> | F4: <MOTIVATIE> | I4: <MOTIVATIE>
A5: ='Beoordelen Demo'!A9 -> Casus 2. KEUZEWERKTIJD UREN | C5: Score: | F5: Score: | I5: Score:
A6: ='Beoordelen Demo'!A10 -> Zie "Bijlage 6 Kwaliteit" | C6: <MOTIVATIE> | F6: <MOTIVATIE> | I6: <MOTIVATIE>
A7: ='Beoordelen Demo'!A15 -> Casus 3. TOETSROOSTER | C7: Score: | F7: Score: | I7: Score:
A8: ='Beoordelen Demo'!A16 -> Zie "Bijlage 6 Kwaliteit" | C8: <MOTIVATIE> | F8: <MOTIVATIE> | I8: <MOTIVATIE>
A9: ='Beoordelen Demo'!A21 -> Casus 4. MAATWERKTRAJECT | C9: Score: | F9: Score: | I9: Score:
A10: ='Beoordelen Demo'!A22 -> Zie "Bijlage 6 Kwaliteit" | C10: <MOTIVATIE> | F10: <MOTIVATIE> | I10: <MOTIVATIE>
A11: ='Beoordelen Demo'!A27 -> Casus 5. OUDERSPREEKUUR/ 10 MINUTEN GESPREKKEN/ ROL OUDERS | C11: Score: | F11: Score: | I11: Score:
A12: ='Beoordelen Demo'!A28 -> Zie "Bijlage 6 Kwaliteit" | C12: <MOTIVATIE> | F12: <MOTIVATIE> | I12: <MOTIVATIE>
A13: ='Beoordelen Demo'!A33 -> Casus 6. DECANEN | C13: Score: | F13: Score: | I13: Score:
A14: ='Beoordelen Demo'!A34 -> Zie "Bijlage 6 Kwaliteit" | C14: <MOTIVATIE> | F14: <MOTIVATIE> | I14: <MOTIVATIE>
A15: ='Beoordelen Demo'!A39 -> Casus 7. LEIDINGGEVENDEN | C15: Score: | F15: Score: | I15: Score:
A16: ='Beoordelen Demo'!A40 -> Zie "Bijlage 6 Kwaliteit" | C16: <MOTIVATIE> | F16: <MOTIVATIE> | I16: <MOTIVATIE>
A17: ='Beoordelen Demo'!A45 -> Casus 8. FUNCTIONEEL BEHEER | C17: Score: | F17: Score: | I17: Score:
A18: ='Beoordelen Demo'!A46 -> Zie "Bijlage 6 Kwaliteit" | C18: <MOTIVATIE> | F18: <MOTIVATIE> | I18: <MOTIVATIE>
A19: ='Beoordelen Demo'!A51 -> Casus 8. Beantwoording A | C19: Score: | F19: Score: | I19: Score:
A20: ='Beoordelen Demo'!A52 -> Zie "Bijlage 6 Kwaliteit" | C20: <MOTIVATIE> | F20: <MOTIVATIE> | I20: <MOTIVATIE>
A21: ='Beoordelen Demo'!A57 -> Casus 8. Beantwoording B | C21: Score: | F21: Score: | I21: Score:
A22: ='Beoordelen Demo'!A58 -> Zie "Bijlage 6 Kwaliteit" | C22: <MOTIVATIE> | F22: <MOTIVATIE> | I22: <MOTIVATIE>
A23: ='Beoordelen Demo'!A63 -> Casus 8. Beantwoording C | C23: Score: | F23: Score: | I23: Score:
A24: ='Beoordelen Demo'!A64 -> Zie "Bijlage 6 Kwaliteit" | C24: <MOTIVATIE> | F24: <MOTIVATIE> | I24: <MOTIVATIE>

Sheet Consensus
A1: Totaalwaardes 2. Demonstratie applicatie
A2: ='Beoordelen Demo'!A2 -> 2. DEMONSTRATIE AANGEBODEN ROOSTERPAKKET | D2: ='Beoordelaar 1'!C1 -> Inschrijver 1 | E2: Motivatie consensus | G2: ='Beoordelaar 1'!F1 -> Inschrijver 2 | H2: Motivatie consensus | J2: ='Beoordelaar 1'!I1 -> Inschrijver 3 | K2: Motivatie consensus
A3: ='Beoordelen Demo'!A3 -> Casus 1. BASISROOSTER | B3: Beoordelaar 1 | D3: ='Beoordelaar 1'!C3 -> Score: | E3: <<MOTIVATIE>> | G3: ='Beoordelaar 1'!F3 -> Score: | H3: <<MOTIVATIE>> | J3: ='Beoordelaar 1'!I3 -> Score: | K3: <<MOTIVATIE>>
B4: Beoordelaar 2 | D4: ='Beoordelaar 2'!C3 -> Score: | G4: ='Beoordelaar 2'!F3 -> Score: | J4: ='Beoordelaar 2'!I3 -> Score:
B5: Beoordelaar 3 | D5: ='Beoordelaar 3'!C3 -> Score: | G5: ='Beoordelaar 3'!F3 -> Score: | J5: ='Beoordelaar 3'!I3 -> Score:
B6: Beoordelaar 4 | D6: ='Beoordelaar 4'!C3 -> Score: | G6: ='Beoordelaar 4'!F3 -> Score: | J6: ='Beoordelaar 4'!I3 -> Score:
B7: Beoordelaar 5 | D7: ='Beoordelaar 5'!C3 -> Score: | G7: ='Beoordelaar 5'!F3 -> Score: | J7: ='Beoordelaar 5'!I3 -> Score:
A8: Consensus | D8: Score: | G8: SCORE: | J8: Score:
D9: =IF(D8="Uitmuntend","€ 45.000",IF(D8="Goed","€ 36.000",IF(D8="Voldoende","€ 0",IF(D8="Matig","- € 90.000",IF(D8="Onvoldoende","KO"," "))))) | G9: =IF(G8="Uitmuntend","€ 45.000",IF(G8="Goed","€ 36.000",IF(G8="Voldoende","€ 0",IF(G8="Matig","- € 90.000",IF(G8="Onvoldoende","KO"," "))))) | J9: =IF(J8="Uitmuntend","€ 45.000",IF(J8="Goed","€ 36.000",IF(J8="Voldoende","€ 0",IF(J8="Matig","- € 90.000",IF(J8="Onvoldoende","KO"," ")))))
A10: ='Beoordelen Demo'!A9 -> Casus 2. KEUZEWERKTIJD UREN | B10: =B3 -> Beoordelaar 1 | D10: ='Beoordelaar 1'!C5 -> Score: | E10: <<MOTIVATIE>> | G10: ='Beoordelaar 1'!F5 -> Score: | H10: <<MOTIVATIE>> | J10: ='Beoordelaar 1'!I5 -> Score: | K10: <<MOTIVATIE>>
B11: =B4 -> Beoordelaar 2 | D11: ='Beoordelaar 2'!C5 -> Score: | G11: ='Beoordelaar 2'!F5 -> Score: | J11: ='Beoordelaar 2'!I5 -> Score:
B12: =B5 -> Beoordelaar 3 | D12: ='Beoordelaar 3'!C5 -> Score: | G12: ='Beoordelaar 3'!F5 -> Score: | J12: ='Beoordelaar 3'!I5 -> Score:
B13: =B6 -> Beoordelaar 4 | D13: ='Beoordelaar 4'!C5 -> Score: | G13: ='Beoordelaar 4'!F5 -> Score: | J13: ='Beoordelaar 4'!I5 -> Score:
B14: =B7 -> Beoordelaar 5 | D14: ='Beoordelaar 5'!C5 -> Score: | G14: ='Beoordelaar 5'!F5 -> Score: | J14: ='Beoordelaar 5'!I5 -> Score:
A15: Consensus | D15: Score: | G15: SCORE: | J15: Score:
D16: =IF(D15="Uitmuntend","€ 4.500",IF(D15="Goed","€ 3.600",IF(D15="Voldoende","€ 0",IF(D15="Matig","- € 9.000",IF(D15="Onvoldoende","KO"," "))))) | G16: =IF(G15="Uitmuntend","€ 4.500",IF(G15="Goed","€ 3.600",IF(G15="Voldoende","€ 0",IF(G15="Matig","- € 9.000",IF(G15="Onvoldoende","KO"," "))))) | J16: =IF(J15="Uitmuntend","€ 4.500",IF(J15="Goed","€ 3.600",IF(J15="Voldoende","€ 0",IF(J15="Matig","- € 9.000",IF(J15="Onvoldoende","KO"," ")))))
A17: ='Beoordelen Demo'!A15 -> Casus 3. TOETSROOSTER | B17: =B3 -> Beoordelaar 1 | D17: ='Beoordelaar 1'!C7 -> Score: | E17: <<MOTIVATIE>> | G17: ='Beoordelaar 1'!F7 -> Score: | H17: <<MOTIVATIE>> | J17: ='Beoordelaar 1'!I7 -> Score: | K17: <<MOTIVATIE>>
B18: =B4 -> Beoordelaar 2 | D18: ='Beoordelaar 2'!C7 -> Score: | G18: ='Beoordelaar 2'!F7 -> Score: | J18: ='Beoordelaar 2'!I7 -> Score:
B19: =B5 -> Beoordelaar 3 | D19: ='Beoordelaar 3'!C7 -> Score: | G19: ='Beoordelaar 3'!F7 -> Score: | J19: ='Beoordelaar 3'!I7 -> Score:
B20: =B6 -> Beoordelaar 4 | D20: ='Beoordelaar 4'!C7 -> Score: | G20: ='Beoordelaar 4'!F7 -> Score: | J20: ='Beoordelaar 4'!I7 -> Score:
B21: =B7 -> Beoordelaar 5 | D21: ='Beoordelaar 5'!C7 -> Score: | G21: ='Beoordelaar 5'!F7 -> Score: | J21: ='Beoordelaar 5'!I7 -> Score:
A22: Consensus | D22: Score: | G22: SCORE: | J22: Score:
D23: =IF(D22="Uitmuntend","€ 4.500",IF(D22="Goed","€ 3.600",IF(D22="Voldoende","€ 0",IF(D22="Matig","- € 9.000",IF(D22="Onvoldoende","KO"," "))))) | G23: =IF(G22="Uitmuntend","€ 4.500",IF(G22="Goed","€ 3.600",IF(G22="Voldoende","€ 0",IF(G22="Matig","- € 9.000",IF(G22="Onvoldoende","KO"," "))))) | J23: =IF(J22="Uitmuntend","€ 4.500",IF(J22="Goed","€ 3.600",IF(J22="Voldoende","€ 0",IF(J22="Matig","- € 9.000",IF(J22="Onvoldoende","KO"," ")))))
A24: ='Beoordelen Demo'!A21 -> Casus 4. MAATWERKTRAJECT | B24: =B3 -> Beoordelaar 1 | D24: ='Beoordelaar 1'!C9 -> Score: | E24: <<MOTIVATIE>> | G24: ='Beoordelaar 1'!F9 -> Score: | H24: <<MOTIVATIE>> | J24: ='Beoordelaar 1'!I9 -> Score: | K24: <<MOTIVATIE>>
B25: =B4 -> Beoordelaar 2 | D25: ='Beoordelaar 2'!C9 -> Score: | G25: ='Beoordelaar 2'!F9 -> Score: | J25: ='Beoordelaar 2'!I9 -> Score:
B26: =B5 -> Beoordelaar 3 | D26: ='Beoordelaar 3'!C9 -> Score: | G26: ='Beoordelaar 3'!F9 -> Score: | J26: ='Beoordelaar 3'!I9 -> Score:
B27: =B6 -> Beoordelaar 4 | D27: ='Beoordelaar 4'!C9 -> Score: | G27: ='Beoordelaar 4'!F9 -> Score: | J27: ='Beoordelaar 4'!I9 -> Score:
B28: =B7 -> Beoordelaar 5 | D28: ='Beoordelaar 5'!C9 -> Score: | G28: ='Beoordelaar 5'!F9 -> Score: | J28: ='Beoordelaar 5'!I9 -> Score:
A29: Consensus | D29: Score: | G29: SCORE: | J29: Score:
D30: =IF(D29="Uitmuntend","€ 4.500",IF(D29="Goed","€ 3.600",IF(D29="Voldoende","€ 0",IF(D29="Matig","- € 9.000",IF(D29="Onvoldoende","KO"," "))))) | G30: =IF(G29="Uitmuntend","€ 4.500",IF(G29="Goed","€ 3.600",IF(G29="Voldoende","€ 0",IF(G29="Matig","- € 9.000",IF(G29="Onvoldoende","KO"," "))))) | J30: =IF(J29="Uitmuntend","€ 4.500",IF(J29="Goed","€ 3.600",IF(J29="Voldoende","€ 0",IF(J29="Matig","- € 9.000",IF(J29="Onvoldoende","KO"," ")))))
A31: ='Beoordelen Demo'!A27 -> Casus 5. OUDERSPREEKUUR/ 10 MINUTEN GESPREKKEN/ ROL OUDERS | B31: =B3 -> Beoordelaar 1 | D31: ='Beoordelaar 1'!C11 -> Score: | E31: <<MOTIVATIE>> | G31: ='Beoordelaar 1'!F11 -> Score: | H31: <<MOTIVATIE>> | J31: ='Beoordelaar 1'!I11 -> Score: | K31: <<MOTIVATIE>>
B32: =B4 -> Beoordelaar 2 | D32: ='Beoordelaar 2'!C11 -> Score: | G32: ='Beoordelaar 2'!F11 -> Score: | J32: ='Beoordelaar 2'!I11 -> Score:
B33: =B5 -> Beoordelaar 3 | D33: ='Beoordelaar 3'!C11 -> Score: | G33: ='Beoordelaar 3'!F11 -> Score: | J33: ='Beoordelaar 3'!I11 -> Score:
B34: =B6 -> Beoordelaar 4 | D34: ='Beoordelaar 4'!C11 -> Score: | G34: ='Beoordelaar 4'!F11 -> Score: | J34: ='Beoordelaar 4'!I11 -> Score:
B35: =B7 -> Beoordelaar 5 | D35: ='Beoordelaar 5'!C11 -> Score: | G35: ='Beoordelaar 5'!F11 -> Score: | J35: ='Beoordelaar 5'!I11 -> Score:
A36: Consensus | D36: Score: | G36: SCORE: | J36: Score:
D37: =IF(D36="Uitmuntend","€ 4.500",IF(D36="Goed","€ 3.600",IF(D36="Voldoende","€ 0",IF(D36="Matig","- € 9.000",IF(D36="Onvoldoende","KO"," "))))) | G37: =IF(G36="Uitmuntend","€ 4.500",IF(G36="Goed","€ 3.600",IF(G36="Voldoende","€ 0",IF(G36="Matig","- € 9.000",IF(G36="Onvoldoende","KO"," "))))) | J37: =IF(J36="Uitmuntend","€ 4.500",IF(J36="Goed","€ 3.600",IF(J36="Voldoende","€ 0",IF(J36="Matig","- € 9.000",IF(J36="Onvoldoende","KO"," ")))))
A38: ='Beoordelen Demo'!A33 -> Casus 6. DECANEN | B38: =B3 -> Beoordelaar 1 | D38: ='Beoordelaar 1'!C13 -> Score: | E38: <<MOTIVATIE>> | G38: ='Beoordelaar 1'!F13 -> Score: | H38: <<MOTIVATIE>> | J38: ='Beoordelaar 1'!I13 -> Score: | K38: <<MOTIVATIE>>
B39: =B4 -> Beoordelaar 2 | D39: ='Beoordelaar 2'!C13 -> Score: | G39: ='Beoordelaar 2'!F13 -> Score: | J39: ='Beoordelaar 2'!I13 -> Score:
B40: =B5 -> Beoordelaar 3 | D40: ='Beoordelaar 3'!C13 -> Score: | G40: ='Beoordelaar 3'!F13 -> Score: | J40: ='Beoordelaar 3'!I13 -> Score:
...

Sheet Eindscores
A1: Totaalwaarde criterium kwaliteit
A2: Onderdeel | C2: ='[1]Beoordelaar 1'!C1 -> Inschrijver 1 | E2: ='[1]Beoordelaar 1'!F1 -> Inschrijver 2 | G2: ='[1]Beoordelaar 1'!I1 -> Inschrijver 3
A3: 1. BEANTWOORDING OPEN VRAGEN
A4: Formulier D - invulformulier open vraag 7.1.4
A5: ='Beoordelen Demo'!A2 -> 2. DEMONSTRATIE AANGEBODEN ROOSTERPAKKET | C5: =Consensus!D80 -> #VALUE! | E5: =Consensus!G80 -> #VALUE! | G5: =Consensus!J80 -> #VALUE!
A6: Totaal behaalde waarde criterium kwaliteit: | C6: =C3+C5+C4 -> #VALUE! | E6: =E3+E5+E4 -> #VALUE! | G6: =G3+G5+G4 -> #VALUE!
A8: Totaal behaalde waarde criterium prijs:
A10: FICTIEVE EINDWAARDE (prijs -/- kwaliteit): | C10: =C8-C6 -> #VALUE! | E10: =E8-E6 -> #VALUE! | G10: =G8-G6 -> #VALUE!
