Workbook
Name _Fill: #REF!
Name _Fill: #REF!
Name _Fill: #REF!
Name _Fill: #REF!
Name _Key1: #REF!
Name _Key1: #REF!
Name _Key1: #REF!
Name _Key1: #REF!
Name afroep: '[4]9-Additionele kosten'!$A$17:$G$39
Name berichtok: #N/A
Name berichtoke: #N/A
Name berichtoke1: #N/A
Name Berkt: #N/A
Name code: '2-Kengetal'!$A$10:$A$201
Name data: #REF!
Name einde: #N/A
Name Fred: #REF!
Name Gan_R: #N/A
Name gebouw: #REF!
Name glas: #N/A
Name glas: '8-Glasbewassing'!$A$14:$AD$21
Name glassoort: '[7]10-Glasstaat'!$I$2:$J$14
Name Glassoort2: '[8]10-Glasstaat'!$I$2:$J$14
Name han: #REF!
Name han: #REF!
Name han: #REF!
Name han: #REF!
Name hjkjhkj: [9]Totaaloverzicht!$A$10:$L$37
Name KengCode: '[10]2-Kengetal'!$A$9:$M$56
Name Kengetal: '[7]4-Kengetal'!$A$12:$S$64
Name Kengetal: '2-Kengetal'!$A$9:$M$201
Name kengetal2: '[4]2-Kengetal'!$A$10:$A$72
Name Kentalnvb: [11]Kengetal!$A$10:$H$58
Name Lijn: '[10]3-Basis ruimtestaat'!$C:$C
Name lll: '[12]3-Basis ruimtestaat'!$O:$O
Name locatie: '8-Glasbewassing'!$A$16:$A$21
Name mavr: '[13]3-Basis ruimtestaat'!$M:$M
Name naloop: '[13]3-Basis ruimtestaat'!$N:$N
Name objecten: #REF!
Name taak: '[14]3-Basis ruimtestaat'!$F:$F
Name toezicht: #REF!
Name uren_mavr: '3-Basis ruimtestaat'!$L:$L
Name uren_naloop: '3-Basis ruimtestaat'!$M:$M
Name uren_naloopzazofe: '3-Basis ruimtestaat'!$O:$O
Name uren_zazofe: '[15]4-Basis ruimtestaat'!$O:$O
Name uren_zazofe: '3-Basis ruimtestaat'!$N:$N
Name uurt: [16]Uurtarieven!$F$57
Name VloerK: '[17]Basis ruimtestaat'!$W:$W
Name VloerM: '[17]Basis ruimtestaat'!$K:$V

Sheet 1-Contractblad dag
A1: Invoervelden
A3: Naam opdrachtgever | B3: Herman Broerenstichting
A4: Calculatie onderdeel | B4: Contractblad jaarprijs Totaal
A5: Gebouw/plaats | B5: Delft | F5: Berekening prijsverhogingen:
A6: Besteknummer | B6: Calculatie Herman Broerenstichting -2024.01
A7: Naam leverancier | B7: Exploitatie calculatie | F7: Jaar | G7: %
A8: Prijspeil | B8: 45473 | F8: 45658 | G8: 0
A9: Bijzonderheden | B9: Vertrouwelijk | F9: 46023 | G9: 0
F10: 46388 | G10: 0
A11: Jaarprijs schoonmaak excl. btw | C11: =G23+G28+G34+G39+G46+G51 -> 122981.49 | F11: 46753 | G11: 0
A12: Machine kosten excl. btw | C12: =G53 -> 0 | F12: 47119 | G12: 0
A13: Kleinschaligheid toeslag excl. btw | C13: ='8-Glasbewassing'!AD23*(100%+G$8)*(100%+G$9)*(100%+G$10)*(100%+G$11)*(100%+G$12)*(100%+G$13)*(100%+G$14) -> 0 | F13: 47484 | G13: 0
A14: Jaarprijs glas excl. btw | C14: =G76 -> 0 | F14: 47849 | G14: 0
B15: Totaal | C15: =SUM(C11:C14) -> 122981.49
A17: JAARPRIJS SCHOONMAAK
E19: Aantal uren per jaar | F19: Tarief | G19: Prijs per jaar
A20: PRODUCTIE-UREN MAANDAG-VRIJDAG
A21: Gemiddeld uurloon productie
A22: 06:00-21:30 uur maan-/vrijdag | E22: =(SUM(uren_mavr)+SUM(uren_naloop)) -> 3656.0935 | F22: ='5-Opbouw uurtarief productie'!E48*(100%+G$8)*(100%+G$9)*(100%+G$10)*(100%+G$11)*(100%+G$12)*(100%+G$13)*(100%+G$14) -> 30.785294 | G22: =F22*E22 -> 112553.92
G23: =SUM(G21:G22) -> 112553.92
A25: TOEZICHT-UREN MAANDAG-VRIJDAG | C25: Uren per dag | D25: Aantal dagen per jaar | E25: Percentage | F25: Tarief | G25: Prijs per jaar
A26: Gemiddeld uurloon toezicht | I26: Uren per jaar hier invullen
A27: 06:00-21:30 uur maan-/vrijdag | C27: =I27/D27 -> 1.1470097 | D27: 255 | E27: =IF(E22=0,"",I27/E22) -> 0.08 | F27: ='6-Opbouw uurtarief toezicht'!E48*(100%+G$8)*(100%+G$9)*(100%+G$10)*(100%+G$11)*(100%+G$12)*(100%+G$13)*(100%+G$14) -> 35.651355 | G27: =I27*F27 -> 10427.575 | I27: =E22*0.08 -> 292.48748
G28: =SUM(G27:G27) -> 10427.575
E30: Aantal uren per jaar | F30: Tarief | G30: Prijs per jaar
A31: PRODUCTIE-UREN zater- en zondagen
A32: Gemiddeld uurloon productie
A33: 06:00-21:30 uur zater- en zondagen | E33: =(SUM(uren_zazofe))/110*101 -> 0 | F33: ='5-Opbouw uurtarief productie'!E52*(100%+G$8)*(100%+G$9)*(100%+G$10)*(100%+G$11)*(100%+G$12)*(100%+G$13)*(100%+G$14) -> 44.492942 | G33: =F33*E33 -> 0
G34: =SUM(G32:G33) -> 0
A36: TOEZICHT-UREN zater- en zondagen | C36: Uren per dag | D36: Aantal dagen per jaar | E36: Percentage | F36: Tarief | G36: Prijs per jaar
A37: Gemiddeld uurloon toezicht | I37: Uren per jaar hier invullen
A38: 06:00-21:30 uur zater- en zondagen | C38: =I38/D38 -> 0 | D38: 26 | E38: =IF(E33=0,"",I38/E33) | F38: ='6-Opbouw uurtarief toezicht'!E52*(100%+G$8)*(100%+G$9)*(100%+G$10)*(100%+G$11)*(100%+G$12)*(100%+G$13)*(100%+G$14) -> 51.702033 | G38: =I38*F38 -> 0 | I38: =E33*0.08 -> 0
G39: =SUM(G37:G38) -> 0
E42: Aantal uren per jaar | F42: Tarief | G42: Prijs per jaar
A43: PRODUCTIE-UREN feestdagen
A44: Gemiddeld uurloon toezicht
A45: 06:00-21:30 uur feestdagen | E45: =(SUM(uren_zazofe))/110*9 -> 0 | F45: ='5-Opbouw uurtarief productie'!E54*(100%+G$8)*(100%+G$9)*(100%+G$10)*(100%+G$11)*(100%+G$12)*(100%+G$13)*(100%+G$14) -> 71.908236 | G45: =F45*E45 -> 0
G46: =SUM(G44:G45) -> 0
A48: TOEZICHT-UREN feestdagen | C48: Uren per dag | D48: Aantal dagen per jaar | E48: Percentage | F48: Tarief | G48: Prijs per jaar
A49: Gemiddeld uurloon toezicht | I49: Uren per jaar hier invullen
A50: 06:00-21:30 uur feestdagen | C50: =I50/D50 -> 0 | D50: 4 | E50: =IF(E45=0,"",I50/E45) | F50: ='6-Opbouw uurtarief toezicht'!E54*(100%+G$8)*(100%+G$9)*(100%+G$10)*(100%+G$11)*(100%+G$12)*(100%+G$13)*(100%+G$14) -> 83.803389 | G50: =I50*F50 -> 0 | I50: =E45*0.04 -> 0
G51: =SUM(G49:G50) -> 0
A53: MACHINEKOSTEN [zie blad machine investeringen voor kostenopbouw] | G53: ='7-Machine-investeringskosten'!D112 -> 0 | I53: uitgesloten van prijsverhogingen
A56: TOTAAL KOSTEN PER JAAR EXCLUSIEF BTW | G56: =G23+G28+G53+G34+G39+G46+G51 -> 122981.49
A57: B.T.W. | F57: 0.21 | G57: =F57*G56 -> 25826.113
A58: Totale kosten per jaar inclusief B.T.W. | G58: =G57+G56 -> 148807.6
A60: Additionele kosten | G60: ='9-Additionele kosten'!F49 -> 0
A61: B.T.W. | F61: 0.21 | G61: =F61*G60 -> 0
A62: Totale kosten per jaar inclusief B.T.W. | G62: =G61+G60 -> 0
A64: JAARPRIJS GLASBEWASSING
G66: Prijs per jaar
A67: Gevelglas buitenzijde | G67: ='8-Glasbewassing'!E23 -> 0
A68: Gevelglas binnenzijde | G68: ='8-Glasbewassing'!J23 -> 0
A69: Separatieglas tweezijdig gemeten | G69: ='8-Glasbewassing'!O23 -> 0
A70: Entreeglas | G70: ='8-Glasbewassing'!T23 -> 0
A72: ARBEIDSMIDDELEN | G72: Prijs per jaar
A74: Zie 8-Glasbewassing voor opbouw | G74: ='8-Glasbewassing'!Y23 -> 0
A76: TOTAAL KOSTEN PER JAAR EXCLUSIEF BTW | G76: =SUM(G67:G74) -> 0
A77: B.T.W. | F77: 0.21 | G77: =F77*G76 -> 0
A78: Totale kosten per jaar inclusief B.T.W. | G78: =G77+G76 -> 0

Sheet 1-Contractblad locatie
A2: Naam opdrachtgever | B2: ='1-Contractblad dag'!B3 -> Herman Broerenstichting
A3: Calculatie onderdeel | B3: Contractblad jaarprijs Totaal per locatie
A4: Gebouw/plaats | B4: ='1-Contractblad dag'!B5 -> Delft
A5: Besteknummer | B5: ='1-Contractblad dag'!B6 -> Calculatie Herman Broerenstichting -2024.01 | E5: Locatie:
A6: Naam leverancier | B6: ='1-Contractblad dag'!B7 -> Exploitatie calculatie | E6: Verhagenplein 9 (SO/VSO Naaldwijk)
A7: Prijspeil | B7: ='1-Contractblad dag'!B8 -> 45473
A8: Bijzonderheden | B8: Vertrouwelijk
A10: Jaarprijs schoonmaak excl. btw | C10: =G22+G27+G33+G38+G44+G49 -> 39057.417
A11: Machine kosten excl. btw | C11: =G51 -> 0
A12: Kleinschaligheid toeslag | C12: =VLOOKUP(E$6,glas,30,TRUE) -> 0
A13: Jaarprijs glas excl. btw | C13: =G71 -> 0
B14: Totaal | C14: =SUM(C10:C13) -> 39057.417
A16: JAARPRIJS SCHOONMAAK
E18: Aantal uren per jaar | F18: Tarief | G18: Prijs per jaar
A19: PRODUCTIE-UREN MAANDAG-VRIJDAG
A20: Gemiddeld uurloon productie
A21: 06:00-21:30 uur maan-/vrijdag | E21: =((SUMIF('3-Basis ruimtestaat'!C:C,E$6,uren_mavr))+(SUMIF('3-Basis ruimtestaat'!C:C,E$6,uren_naloop))) -> 1161.1306 | F21: ='1-Contractblad dag'!F22 -> 30.785294 | G21: =F21*E21 -> 35745.746
G22: =SUM(G20:G21) -> 35745.746
A24: TOEZICHT-UREN MAANDAG-VRIJDAG | E24: Aantal uren per jaar | F24: Tarief | G24: Prijs per jaar
A25: Gemiddeld uurloon toezicht
A26: 06:00-21:30 uur maan-/vrijdag | E26: =E21*'1-Contractblad dag'!E27 -> 92.890445 | F26: ='1-Contractblad dag'!F27 -> 35.651355 | G26: =F26*E26 -> 3311.6703
G27: =SUM(G26:G26) -> 3311.6703
E29: Aantal uren per jaar | F29: Tarief | G29: Prijs per jaar
A30: PRODUCTIE-UREN zater- en zondagen
A31: Gemiddeld uurloon productie
A32: 06:00-21:30 uur zater- en zondagen | E32: =((SUMIF('3-Basis ruimtestaat'!C:C,E$6,uren_zazofe)))/110*101 -> 0 | F32: ='1-Contractblad dag'!F33 -> 44.492942 | G32: =F32*E32 -> 0
G33: =SUM(G31:G32) -> 0
A35: TOEZICHT-UREN zater- en zondagen | E35: Aantal uren per jaar | F35: Tarief | G35: Prijs per jaar
A36: Gemiddeld uurloon toezicht
A37: 06:00-21:30 uur zater- en zondagen | E37: =IF(E32=0,"",'1-Contractblad dag'!E38*'1-Contractblad locatie'!E32) | F37: ='1-Contractblad dag'!F38 -> 51.702033 | G37: =IF(E32=0,"",F37*E37)
G38: =SUM(G36:G37) -> 0
E40: Aantal uren per jaar | F40: Tarief | G40: Prijs per jaar
A41: PRODUCTIE-UREN feestdagen
A42: Gemiddeld uurloon productie
A43: 06:00-21:30 uur feestdagen | E43: =((SUMIF('3-Basis ruimtestaat'!C:C,E$6,uren_zazofe)))/110*9 -> 0 | F43: ='1-Contractblad dag'!F45 -> 71.908236 | G43: =IF(E43=0,"",F43*E43)
G44: =SUM(G42:G43) -> 0
A46: TOEZICHT-UREN feestdagen | E46: Aantal uren per jaar | F46: Tarief | G46: Prijs per jaar
A47: Gemiddeld uurloon toezicht
A48: 06:00-21:30 uur feestdagen | E48: =IF(E43=0,"",'1-Contractblad dag'!E50*'1-Contractblad locatie'!E43) | F48: ='1-Contractblad dag'!F50 -> 83.803389 | G48: =IF(E43=0,"",F48*E48)
E49: =SUM(E47:E48) -> 0 | G49: =SUM(G47:G48) -> 0
I50: Machinekosten totaal -/- totaal productie uren X productie uren locatie.
A51: MACHINEKOSTEN zijn op basis van totaalkosten evenredig verdeeld op basis van productie uren. | G51: =I51/'1-Contractblad dag'!E22*E21 -> 0 | I51: ='1-Contractblad dag'!G53 -> 0
A55: TOTAAL KOSTEN PER JAAR EXCLUSIEF BTW | G55: =G22+G27+G51+G38+G33+G44+G49 -> 39057.417
A56: B.T.W. | F56: 0.21 | G56: =F56*G55 -> 8202.0575
A57: Totale kosten per jaar inclusief B.T.W. | G57: =G56+G55 -> 47259.474
A59: JAARPRIJS GLASBEWASSING
C61: Frequentie | D61: m2 | E61: tarief | F61: Prijs per beurt | G61: Prijs per jaar
A62: Gevelglas buitenzijde | C62: =VLOOKUP(E$6,glas,3,TRUE) -> 0 | D62: =VLOOKUP(E$6,glas,2,TRUE) -> 0 | E62: =F62/D62 -> #DIV/0! | F62: =G62/C62 -> #DIV/0! | G62: =VLOOKUP(E$6,glas,5,TRUE) -> 0
A63: Gevelglas binnenzijde | C63: =VLOOKUP(E$6,glas,8,TRUE) -> 0 | D63: =VLOOKUP(E$6,glas,7,TRUE) -> 0 | E63: =F63/D63 -> #DIV/0! | F63: =G63/C63 -> #DIV/0! | G63: =VLOOKUP(E$6,glas,10,TRUE) -> 0
A64: Separatieglas tweezijdig gemeten | C64: =VLOOKUP(E$6,glas,13,TRUE) -> 0 | D64: =VLOOKUP(E$6,glas,12,TRUE) -> 0 | E64: =F64/D64 -> #DIV/0! | F64: =G64/C64 -> #DIV/0! | G64: =VLOOKUP(E$6,glas,15,TRUE) -> 0
A65: Entreeglas | C65: =VLOOKUP(E$6,glas,18,TRUE) -> 0 | D65: =VLOOKUP(E$6,glas,17,TRUE) -> 0 | E65: =F65/D65 -> #DIV/0! | F65: =G65/C65 -> #DIV/0! | G65: =VLOOKUP(E$6,glas,20,TRUE) -> 0
A67: ARBEIDSMIDDELEN | G67: Prijs per jaar
A69: Zie 8-Glasbewassing voor opbouw | G69: =VLOOKUP(E$6,glas,25,TRUE) -> 0
A71: TOTAAL KOSTEN PER JAAR EXCLUSIEF BTW | G71: =SUM(G62:G69) -> 0
A72: B.T.W. | F72: 0.21 | G72: =F72*G71 -> 0
A73: Totale kosten per jaar inclusief B.T.W. | G73: =G72+G71 -> 0

Sheet 2-Kengetal
A2: ='1-Contractblad dag'!A3 -> Naam opdrachtgever | B2: ='1-Contractblad dag'!B3 -> Herman Broerenstichting
A3: ='1-Contractblad dag'!A4 -> Calculatie onderdeel | B3: Kengetallenoverzicht schoonmaakonderhoud
A4: ='1-Contractblad dag'!A5 -> Gebouw/plaats | B4: ='1-Contractblad dag'!B5 -> Delft | I4: Gewogenprestatie | J4: ='3-Basis ruimtestaat'!AA204 -> 272.4311
A5: ='1-Contractblad dag'!A6 -> Besteknummer | B5: ='1-Contractblad dag'!B6 -> Calculatie Herman Broerenstichting -2024.01
A6: ='1-Contractblad dag'!A7 -> Naam leverancier | B6: ='1-Contractblad dag'!B7 -> Exploitatie calculatie
A8: PROGR.CODE | B8: FREQ. PER JAAR | C8: RUIMTECATEGORIE | D8: FREQ. OMSCHRIJVING | E8: KENGETAL BASIS-BEURT | F8: KENGETAL NALOOP-BEURT | G8: KENGETAL ZA ZO FSTDG | H8: KENGETAL NALOOP-BEURT ZA ZO FSTDG | I8: PRESTATIE NORM | J8: M2 VLOER | K8: VERHOUDING VLOEROPP. | L8: OPMERKING | M8: VSR | O8: Basis kengetal
O9: 1.4 | P9: hier evt aanpassen
A10: 1010 | B10: 10 | C10: Administratieve ruimten | D10: 10 x per jaar | E10: =E26/255*B10*1.5 -> 0.044470588 | I10: =IF(E10=0,0,B10/(E10+F10+G10+H10)) -> 224.86772 | J10: =SUMIF('3-Basis ruimtestaat'!J:J,A10,'3-Basis ruimtestaat'!I:I) -> 0 | K10: =IF(J10=0,"",J10/$J$202) | M10: B
A11: 1012 | B11: 12 | C11: Administratieve ruimten | D11: 12 x per jaar | E11: =E26/255*B11*1.5 -> 0.053364706 | I11: =IF(E11=0,0,B11/(E11+F11+G11+H11)) -> 224.86772 | J11: =SUMIF('3-Basis ruimtestaat'!J:J,A11,'3-Basis ruimtestaat'!I:I) -> 0 | K11: =IF(J11=0,"",J11/$J$202) | M11: B
A12: 1040 | B12: 40 | C12: Administratieve ruimten | D12: 1 x per week (40 weken p/j) | E12: =E26/255*B12*1.3 -> 0.15416471 | I12: =IF(E12=0,0,B12/(E12+F12+G12+H12)) -> 259.46276 | J12: =SUMIF('3-Basis ruimtestaat'!J:J,A12,'3-Basis ruimtestaat'!I:I) -> 0 | K12: =IF(J12=0,"",J12/$J$202) | M12: B
A13: 1052 | B13: 52 | C13: Administratieve ruimten | D13: 1 x per week | E13: =E26/255*B13*1.4 -> 0.21583059 | I13: =IF(E13=0,0,B13/(E13+F13+G13+H13)) -> 240.92971 | J13: =SUMIF('3-Basis ruimtestaat'!J:J,A13,'3-Basis ruimtestaat'!I:I) -> 0 | K13: =IF(J13=0,"",J13/$J$202) | M13: B
A14: 1080 | B14: 80 | C14: Administratieve ruimten | D14: 2 x per week (40 weken p/j) | E14: =E26/255*B14*1.2 -> 0.28461176 | I14: =IF(E14=0,0,B14/(E14+F14+G14+H14)) -> 281.08466 | J14: =SUMIF('3-Basis ruimtestaat'!J:J,A14,'3-Basis ruimtestaat'!I:I) -> 0 | K14: =IF(J14=0,"",J14/$J$202) | M14: B
A15: 1104 | B15: 104 | C15: Administratieve ruimten | D15: 2 x per week | E15: =E26/255*B15*1.2 -> 0.36999529 | I15: =IF(E15=0,0,B15/(E15+F15+G15+H15)) -> 281.08466 | J15: =SUMIF('3-Basis ruimtestaat'!J:J,A15,'3-Basis ruimtestaat'!I:I) -> 0 | K15: =IF(J15=0,"",J15/$J$202) | M15: B
A16: 1120 | B16: 120 | C16: Administratieve ruimten | D16: 3 x per week (40 weken p/j) | E16: =E26/255*B16*1.2 -> 0.42691765 | I16: =IF(E16=0,0,B16/(E16+F16+G16+H16)) -> 281.08466 | J16: =SUMIF('3-Basis ruimtestaat'!J:J,A16,'3-Basis ruimtestaat'!I:I) -> 0 | K16: =IF(J16=0,"",J16/$J$202) | M16: B
A17: 1130 | B17: 130 | C17: Administratieve ruimten | D17: om de dag | E17: =E26/255*B17*1.1 -> 0.42395294 | I17: =IF(E17=0,0,B17/(E17+F17+G17+H17)) -> 306.63781 | J17: =SUMIF('3-Basis ruimtestaat'!J:J,A17,'3-Basis ruimtestaat'!I:I) -> 0 | K17: =IF(J17=0,"",J17/$J$202) | M17: B
A18: 1135 | B18: 135 | C18: Administratieve ruimten | D18: 3 x p/w 45 weken p/j | E18: =E26/255*B18*1.1 -> 0.44025882 | I18: =IF(E18=0,0,B18/(E18+F18+G18+H18)) -> 306.63781 | J18: =SUMIF('3-Basis ruimtestaat'!J:J,A18,'3-Basis ruimtestaat'!I:I) -> 0 | K18: =IF(J18=0,"",J18/$J$202) | M18: B
A19: 1156 | B19: 156 | C19: Administratieve ruimten | D19: 3 x per week | E19: =E26/255*B19*1.1 -> 0.50874353 | I19: =IF(E19=0,0,B19/(E19+F19+G19+H19)) -> 306.63781 | J19: =SUMIF('3-Basis ruimtestaat'!J:J,A19,'3-Basis ruimtestaat'!I:I) -> 0 | K19: =IF(J19=0,"",J19/$J$202) | M19: B
A20: 1160 | B20: 160 | C20: Administratieve ruimten | D20: 4 x per week (40 weken p/j) | E20: =E26/255*B20 -> 0.47435294 | I20: =IF(E20=0,0,B20/(E20+F20+G20+H20)) -> 337.30159 | J20: =SUMIF('3-Basis ruimtestaat'!J:J,A20,'3-Basis ruimtestaat'!I:I) -> 0 | K20: =IF(J20=0,"",J20/$J$202) | M20: B
A21: 1200 | B21: 200 | C21: Administratieve ruimten | D21: 5 x per week (40 weken p/j) | E21: =E26/255*B21 -> 0.59294118 | I21: =IF(E21=0,0,B21/(E21+F21+G21+H21)) -> 337.30159 | J21: =SUMIF('3-Basis ruimtestaat'!J:J,A21,'3-Basis ruimtestaat'!I:I) -> 481.16 | K21: =IF(J21=0,"",J21/$J$202) -> 0.093511016 | M21: B
A22: 1206 | B22: 206 | C22: Administratieve ruimten | D22: 5 x per week (40 weken p/j) + 6 dagen | E22: =E26/255*B22 -> 0.61072941 | I22: =IF(E22=0,0,B22/(E22+F22+G22+H22)) -> 337.30159 | J22: =SUMIF('3-Basis ruimtestaat'!J:J,A22,'3-Basis ruimtestaat'!I:I) -> 128.26 | K22: =IF(J22=0,"",J22/$J$202) -> 0.024926683 | M22: B
A23: 1210 | B23: 210 | C23: Administratieve ruimten | D23: 5 x per week (42 weken p/j) | E23: =E26/255*B23 -> 0.62258824 | I23: =IF(E23=0,0,B23/(E23+F23+G23+H23)) -> 337.30159 | J23: =SUMIF('3-Basis ruimtestaat'!J:J,A23,'3-Basis ruimtestaat'!I:I) -> 0 | K23: =IF(J23=0,"",J23/$J$202) | M23: B
A24: 1230 | B24: 230 | C24: Administratieve ruimten | D24: 5 x per week (46 weken p/j) | E24: =E26/255*B24 -> 0.68188235 | I24: =IF(E24=0,0,B24/(E24+F24+G24+H24)) -> 337.30159 | J24: =SUMIF('3-Basis ruimtestaat'!J:J,A24,'3-Basis ruimtestaat'!I:I) -> 0 | K24: =IF(J24=0,"",J24/$J$202) | M24: B
A25: 1245 | B25: 245 | C25: Administratieve ruimten | D25: 5 x per week (49 weken p/j) | E25: =E26/255*B25 -> 0.72635294 | I25: =IF(E25=0,0,B25/(E25+F25+G25+H25)) -> 337.30159 | J25: =SUMIF('3-Basis ruimtestaat'!J:J,A25,'3-Basis ruimtestaat'!I:I) -> 0 | K25: =IF(J25=0,"",J25/$J$202) | M25: B
A26: 1255 | B26: 255 | C26: Administratieve ruimten | D26: 5 x per week | E26: =O26*$O$9 -> 0.756 | I26: =IF(E26=0,0,B26/(E26+F26+G26+H26)) -> 337.30159 | J26: =SUMIF('3-Basis ruimtestaat'!J:J,A26,'3-Basis ruimtestaat'!I:I) -> 0 | K26: =IF(J26=0,"",J26/$J$202) | M26: B | O26: 0.54
A27: 1365 | B27: 365 | C27: Administratieve ruimten | D27: 7 dagen per week | E27: =E26 -> 0.756 | I27: =IF(E27=0,0,B27/(E27+F27+G27+H27)) -> 482.80423 | J27: =SUMIF('3-Basis ruimtestaat'!J:J,A27,'3-Basis ruimtestaat'!I:I) -> 0 | K27: =IF(J27=0,"",J27/$J$202) | M27: B
A28: 2010 | B28: 10 | C28: Sanitaire ruimten | D28: 10 x per jaar | E28: =E43/255*B28*1.5 -> 0.26418824 | I28: =IF(E28=0,0,B28/(E28+F28+G28+H28)) -> 37.851799 | J28: =SUMIF('3-Basis ruimtestaat'!J:J,A28,'3-Basis ruimtestaat'!I:I) -> 0 | K28: =IF(J28=0,"",J28/$J$202) | M28: S
A29: 2012 | B29: 12 | C29: Sanitaire ruimten | D29: 12 x per jaar | E29: =E43/255*B29*1.5 -> 0.31702588 | I29: =IF(E29=0,0,B29/(E29+F29+G29+H29)) -> 37.851799 | J29: =SUMIF('3-Basis ruimtestaat'!J:J,A29,'3-Basis ruimtestaat'!I:I) -> 0 | K29: =IF(J29=0,"",J29/$J$202) | M29: S
A30: 2040 | B30: 40 | C30: Sanitaire ruimten | D30: 1 x per week (40 weken p/j) | E30: =E43/255*B30*1.3 -> 0.91585255 | I30: =IF(E30=0,0,B30/(E30+F30+G30+H30)) -> 43.675153 | J30: =SUMIF('3-Basis ruimtestaat'!J:J,A30,'3-Basis ruimtestaat'!I:I) -> 0 | K30: =IF(J30=0,"",J30/$J$202) | M30: S
A31: 2052 | B31: 52 | C31: Sanitaire ruimten | D31: 1 x per week | E31: =E43/255*B31*1.4 -> 1.2821936 | I31: =IF(E31=0,0,B31/(E31+F31+G31+H31)) -> 40.555499 | J31: =SUMIF('3-Basis ruimtestaat'!J:J,A31,'3-Basis ruimtestaat'!I:I) -> 0 | K31: =IF(J31=0,"",J31/$J$202) | M31: S
A32: 2080 | B32: 80 | C32: Sanitaire ruimten | D32: 2 x per week (40 weken p/j) | E32: =E43/255*B32*1.2 -> 1.6908047 | I32: =IF(E32=0,0,B32/(E32+F32+G32+H32)) -> 47.314749 | J32: =SUMIF('3-Basis ruimtestaat'!J:J,A32,'3-Basis ruimtestaat'!I:I) -> 0 | K32: =IF(J32=0,"",J32/$J$202) | M32: S
A33: 2104 | B33: 104 | C33: Sanitaire ruimten | D33: 2 x per week | E33: =E43/255*B33*1.2 -> 2.1980461 | I33: =IF(E33=0,0,B33/(E33+F33+G33+H33)) -> 47.314749 | J33: =SUMIF('3-Basis ruimtestaat'!J:J,A33,'3-Basis ruimtestaat'!I:I) -> 0 | K33: =IF(J33=0,"",J33/$J$202) | M33: S
A34: 2120 | B34: 120 | C34: Sanitaire ruimten | D34: 3 x per week (40 weken p/j) | E34: =E43/255*B34*1.2 -> 2.5362071 | I34: =IF(E34=0,0,B34/(E34+F34+G34+H34)) -> 47.314749 | J34: =SUMIF('3-Basis ruimtestaat'!J:J,A34,'3-Basis ruimtestaat'!I:I) -> 0 | K34: =IF(J34=0,"",J34/$J$202) | M34: S
A35: 2130 | B35: 130 | C35: Sanitaire ruimten | D35: om de dag | E35: =E43/255*B35*1.1 -> 2.5185945 | I35: =IF(E35=0,0,B35/(E35+F35+G35+H35)) -> 51.61609 | J35: =SUMIF('3-Basis ruimtestaat'!J:J,A35,'3-Basis ruimtestaat'!I:I) -> 0 | K35: =IF(J35=0,"",J35/$J$202) | M35: S
A36: 2156 | B36: 156 | C36: Sanitaire ruimten | D36: 3 x per week | E36: =E43/255*B36*1.1 -> 3.0223134 | I36: =IF(E36=0,0,B36/(E36+F36+G36+H36)) -> 51.61609 | J36: =SUMIF('3-Basis ruimtestaat'!J:J,A36,'3-Basis ruimtestaat'!I:I) -> 0 | K36: =IF(J36=0,"",J36/$J$202) | M36: S
A37: 2160 | B37: 160 | C37: Sanitaire ruimten | D37: 4 x per week (40 weken p/j) | E37: =E43/255*B37 -> 2.8180078 | I37: =IF(E37=0,0,B37/(E37+F37+G37+H37)) -> 56.777699 | J37: =SUMIF('3-Basis ruimtestaat'!J:J,A37,'3-Basis ruimtestaat'!I:I) -> 0 | K37: =IF(J37=0,"",J37/$J$202) | M37: S
A38: 2200 | B38: 200 | C38: Sanitaire ruimten | D38: 5 x per week (40 weken p/j) | E38: =E43/255*B38 -> 3.5225098 | I38: =IF(E38=0,0,B38/(E38+F38+G38+H38)) -> 56.777699 | J38: =SUMIF('3-Basis ruimtestaat'!J:J,A38,'3-Basis ruimtestaat'!I:I) -> 188.78 | K38: =IF(J38=0,"",J38/$J$202) -> 0.03668844 | M38: S
A39: 2206 | B39: 206 | C39: Sanitaire ruimten | D39: 5 x per week (40 weken p/j) + 6 dagen | E39: =E43/255*B39 -> 3.6281851 | I39: =IF(E39=0,0,B39/(E39+F39+G39+H39)) -> 56.777699 | J39: =SUMIF('3-Basis ruimtestaat'!J:J,A39,'3-Basis ruimtestaat'!I:I) -> 9.64 | K39: =IF(J39=0,"",J39/$J$202) -> 0.0018734853 | M39: S
A40: 2210 | B40: 210 | C40: Sanitaire ruimten | D40: 5 x per week (42 weken p/j) | E40: =E43/255*B40 -> 3.6986353 | I40: =IF(E40=0,0,B40/(E40+F40+G40+H40)) -> 56.777699 | J40: =SUMIF('3-Basis ruimtestaat'!J:J,A40,'3-Basis ruimtestaat'!I:I) -> 0 | K40: =IF(J40=0,"",J40/$J$202) | M40: S
A41: 2230 | B41: 230 | C41: Sanitaire ruimten | D41: 5 x per week (46 weken p/j) | E41: =E43/255*B41 -> 4.0508863 | I41: =IF(E41=0,0,B41/(E41+F41+G41+H41)) -> 56.777699 | J41: =SUMIF('3-Basis ruimtestaat'!J:J,A41,'3-Basis ruimtestaat'!I:I) -> 0 | K41: =IF(J41=0,"",J41/$J$202) | M41: S
A42: 2245 | B42: 245 | C42: Sanitaire ruimten | D42: 5 x per week (49 weken p/j) | E42: =E43/255*B42 -> 4.3150745 | I42: =IF(E42=0,0,B42/(E42+F42+G42+H42)) -> 56.777699 | J42: =SUMIF('3-Basis ruimtestaat'!J:J,A42,'3-Basis ruimtestaat'!I:I) -> 0 | K42: =IF(J42=0,"",J42/$J$202) | M42: S
A43: 2255 | B43: 255 | C43: Sanitaire ruimten | D43: 5 x per week | E43: =O43*$O$9 -> 4.4912 | I43: =IF(E43=0,0,B43/(E43+F43+G43+H43)) -> 56.777699 | J43: =SUMIF('3-Basis ruimtestaat'!J:J,A43,'3-Basis ruimtestaat'!I:I) -> 0 | K43: =IF(J43=0,"",J43/$J$202) | M43: S | O43: 3.208
A44: 2315 | B44: 315 | C44: Sanitaire ruimten | D44: 7 dagen p/w (45 weken p/j) | E44: =E43/255*225 -> 3.9628235 | I44: =IF(E44=0,0,B44/(E44+F44+G44+H44)) -> 79.488778 | J44: =SUMIF('3-Basis ruimtestaat'!J:J,A44,'3-Basis ruimtestaat'!I:I) -> 0 | K44: =IF(J44=0,"",J44/$J$202) | M44: S
A45: 2365 | B45: 365 | C45: Sanitaire ruimten | D45: 7 dagen per week | E45: =E43 -> 4.4912 | I45: =IF(E45=0,0,B45/(E45+F45+G45+H45)) -> 81.270039 | J45: =SUMIF('3-Basis ruimtestaat'!J:J,A45,'3-Basis ruimtestaat'!I:I) -> 0 | K45: =IF(J45=0,"",J45/$J$202) | M45: S
A46: 2450 | B46: 450 | C46: Sanitaire ruimten | D46: 5 x p/w (45 weken p/j) + 1 x naloop p/d | E46: =E41 -> 4.0508863 | I46: =IF(E46=0,0,B46/(E46+F46+G46+H46)) -> 111.0868 | J46: =SUMIF('3-Basis ruimtestaat'!J:J,A46,'3-Basis ruimtestaat'!I:I) -> 0 | K46: =IF(J46=0,"",J46/$J$202) | M46: S
A47: 2490 | B47: 490 | C47: Sanitaire ruimten | D47: 5 x p/w (49 weken p/j) + 1 x naloop p/d | E47: =E42 -> 4.3150745 | I47: =IF(E47=0,0,B47/(E47+F47+G47+H47)) -> 113.5554 | J47: =SUMIF('3-Basis ruimtestaat'!J:J,A47,'3-Basis ruimtestaat'!I:I) -> 0 | K47: =IF(J47=0,"",J47/$J$202) | M47: S
A48: 2510 | B48: 510 | C48: Sanitaire ruimten | D48: 2 x per dag | E48: =E43 -> 4.4912 | I48: =IF(E48=0,0,B48/(E48+F48+G48+H48)) -> 113.5554 | J48: =SUMIF('3-Basis ruimtestaat'!J:J,A48,'3-Basis ruimtestaat'!I:I) -> 0 | K48: =IF(J48=0,"",J48/$J$202) | M48: S
A49: 2675 | B49: 675 | C49: Sanitaire ruimten | D49: 5 x p/w (45 weken p/j) + 2 x naloop | E49: =E41 -> 4.0508863 | I49: =IF(E49=0,0,B49/(E49+F49+G49+H49)) -> 166.6302 | J49: =SUMIF('3-Basis ruimtestaat'!J:J,A49,'3-Basis ruimtestaat'!I:I) -> 0 | K49: =IF(J49=0,"",J49/$J$202) | M49: S
A50: 21020 | B50: 1020 | C50: Sanitaire ruimten | D50: 4 x per dag | E50: =E43 -> 4.4912 | I50: =IF(E50=0,0,B50/(E50+F50+G50+H50)) -> 227.11079 | J50: =SUMIF('3-Basis ruimtestaat'!J:J,A50,'3-Basis ruimtestaat'!I:I) -> 0 | K50: =IF(J50=0,"",J50/$J$202) | M50: S
A51: 3010 | B51: 10 | C51: Verkeersruimten | D51: 10 x per jaar | E51: =E66/255*B51*1.5 -> 0.0308 | I51: =IF(E51=0,0,B51/(E51+F51+G51+H51)) -> 324.67532 | J51: =SUMIF('3-Basis ruimtestaat'!J:J,A51,'3-Basis ruimtestaat'!I:I) -> 3.26 | K51: =IF(J51=0,"",J51/$J$202) -> 0.00063356454 | M51: V
A52: 3012 | B52: 12 | C52: Verkeersruimten | D52: 12 x per jaar | E52: =E66/255*B52*1.5 -> 0.03696 | I52: =IF(E52=0,0,B52/(E52+F52+G52+H52)) -> 324.67532 | J52: =SUMIF('3-Basis ruimtestaat'!J:J,A52,'3-Basis ruimtestaat'!I:I) -> 0 | K52: =IF(J52=0,"",J52/$J$202) | M52: V
A53: 3040 | B53: 40 | C53: Verkeersruimten | D53: 1 x per week (40 weken p/j) | E53: =E66/255*B53*1.3 -> 0.10677333 | I53: =IF(E53=0,0,B53/(E53+F53+G53+H53)) -> 374.62537 | J53: =SUMIF('3-Basis ruimtestaat'!J:J,A53,'3-Basis ruimtestaat'!I:I) -> 0 | K53: =IF(J53=0,"",J53/$J$202) | M53: V
A54: 3052 | B54: 52 | C54: Verkeersruimten | D54: 1 x per week | E54: =E66/255*B54*1.4 -> 0.14948267 | I54: =IF(E54=0,0,B54/(E54+F54+G54+H54)) -> 347.86642 | J54: =SUMIF('3-Basis ruimtestaat'!J:J,A54,'3-Basis ruimtestaat'!I:I) -> 0 | K54: =IF(J54=0,"",J54/$J$202) | M54: V
A55: 3080 | B55: 80 | C55: Verkeersruimten | D55: 2 x per week (40 weken p/j) | E55: =E66/255*B55*1.2 -> 0.19712 | I55: =IF(E55=0,0,B55/(E55+F55+G55+H55)) -> 405.84416 | J55: =SUMIF('3-Basis ruimtestaat'!J:J,A55,'3-Basis ruimtestaat'!I:I) -> 0 | K55: =IF(J55=0,"",J55/$J$202) | M55: V
A56: 3104 | B56: 104 | C56: Verkeersruimten | D56: 2 x per week | E56: =E66/255*B56*1.2 -> 0.256256 | I56: =IF(E56=0,0,B56/(E56+F56+G56+H56)) -> 405.84416 | J56: =SUMIF('3-Basis ruimtestaat'!J:J,A56,'3-Basis ruimtestaat'!I:I) -> 0 | K56: =IF(J56=0,"",J56/$J$202) | M56: V
A57: 3120 | B57: 120 | C57: Verkeersruimten | D57: 3 x per week (40 weken p/j) | E57: =E66/255*B57*1.2 -> 0.29568 | I57: =IF(E57=0,0,B57/(E57+F57+G57+H57)) -> 405.84416 | J57: =SUMIF('3-Basis ruimtestaat'!J:J,A57,'3-Basis ruimtestaat'!I:I) -> 0 | K57: =IF(J57=0,"",J57/$J$202) | M57: V
A58: 3130 | B58: 130 | C58: Verkeersruimten | D58: om de dag | E58: =E66/255*B58*1.1 -> 0.29362667 | I58: =IF(E58=0,0,B58/(E58+F58+G58+H58)) -> 442.73908 | J58: =SUMIF('3-Basis ruimtestaat'!J:J,A58,'3-Basis ruimtestaat'!I:I) -> 0 | K58: =IF(J58=0,"",J58/$J$202) | M58: V
A59: 3156 | B59: 156 | C59: Verkeersruimten | D59: 3 x per week | E59: =E66/255*B59*1.1 -> 0.352352 | I59: =IF(E59=0,0,B59/(E59+F59+G59+H59)) -> 442.73908 | J59: =SUMIF('3-Basis ruimtestaat'!J:J,A59,'3-Basis ruimtestaat'!I:I) -> 0 | K59: =IF(J59=0,"",J59/$J$202) | M59: V
A60: 3160 | B60: 160 | C60: Verkeersruimten | D60: 4 x per week (40 weken p/j) | E60: =E66/255*B60 -> 0.32853333 | I60: =IF(E60=0,0,B60/(E60+F60+G60+H60)) -> 487.01299 | J60: =SUMIF('3-Basis ruimtestaat'!J:J,A60,'3-Basis ruimtestaat'!I:I) -> 0 | K60: =IF(J60=0,"",J60/$J$202) | M60: V
A61: 3200 | B61: 200 | C61: Verkeersruimten | D61: 5 x per week (40 weken p/j) | E61: =E66/255*B61 -> 0.41066667 | I61: =IF(E61=0,0,B61/(E61+F61+G61+H61)) -> 487.01299 | J61: =SUMIF('3-Basis ruimtestaat'!J:J,A61,'3-Basis ruimtestaat'!I:I) -> 1391.36 | K61: =IF(J61=0,"",J61/$J$202) -> 0.27040379 | M61: V
A62: 3206 | B62: 206 | C62: Verkeersruimten | D62: 5 x per week (40 weken p/j) + 6 dagen | E62: =E66/255*B62*1.05 -> 0.444136 | I62: =IF(E62=0,0,B62/(E62+F62+G62+H62)) -> 463.82189 | J62: =SUMIF('3-Basis ruimtestaat'!J:J,A62,'3-Basis ruimtestaat'!I:I) -> 90.64 | K62: =IF(J62=0,"",J62/$J$202) -> 0.017615426 | M62: V
A63: 3210 | B63: 210 | C63: Verkeersruimten | D63: 5 x per week (42 weken p/j) | E63: =E66/255*B63 -> 0.4312 | I63: =IF(E63=0,0,B63/(E63+F63+G63+H63)) -> 487.01299 | J63: =SUMIF('3-Basis ruimtestaat'!J:J,A63,'3-Basis ruimtestaat'!I:I) -> 0 | K63: =IF(J63=0,"",J63/$J$202) | M63: V
A64: 3230 | B64: 230 | C64: Verkeersruimten | D64: 5 x per week (46 weken p/j) | E64: =E66/255*B64 -> 0.47226667 | I64: =IF(E64=0,0,B64/(E64+F64+G64+H64)) -> 487.01299 | J64: =SUMIF('3-Basis ruimtestaat'!J:J,A64,'3-Basis ruimtestaat'!I:I) -> 0 | K64: =IF(J64=0,"",J64/$J$202) | M64: V
A65: 3245 | B65: 245 | C65: Verkeersruimten | D65: 5 x per week (49 weken p/j) | E65: =E66/255*B65 -> 0.50306667 | I65: =IF(E65=0,0,B65/(E65+F65+G65+H65)) -> 487.01299 | J65: =SUMIF('3-Basis ruimtestaat'!J:J,A65,'3-Basis ruimtestaat'!I:I) -> 0 | K65: =IF(J65=0,"",J65/$J$202) | M65: V
A66: 3255 | B66: 255 | C66: Verkeersruimten | D66: 5 x per week | E66: =O66*$O$9 -> 0.5236 | I66: =IF(E66=0,0,B66/(E66+F66+G66+H66)) -> 487.01299 | J66: =SUMIF('3-Basis ruimtestaat'!J:J,A66,'3-Basis ruimtestaat'!I:I) -> 0 | K66: =IF(J66=0,"",J66/$J$202) | M66: V | O66: 0.374
A67: 3365 | B67: 365 | C67: Verkeersruimten | D67: 7 dagen per week | E67: =E66 -> 0.5236 | I67: =IF(E67=0,0,B67/(E67+F67+G67+H67)) -> 697.09702 | J67: =SUMIF('3-Basis ruimtestaat'!J:J,A67,'3-Basis ruimtestaat'!I:I) -> 0 | K67: =IF(J67=0,"",J67/$J$202) | M67: V
A68: 4010 | B68: 10 | C68: Pantry | D68: 10 x per jaar | E68: =E83/255*B68*1.5 -> 0.092564706 | I68: =IF(E68=0,0,B68/(E68+F68+G68+H68)) -> 108.03254 | J68: =SUMIF('3-Basis ruimtestaat'!J:J,A68,'3-Basis ruimtestaat'!I:I) -> 0 | K68: =IF(J68=0,"",J68/$J$202) | M68: V
A69: 4012 | B69: 12 | C69: Pantry | D69: 12 x per jaar | E69: =E83/255*B69*1.5 -> 0.11107765 | I69: =IF(E69=0,0,B69/(E69+F69+G69+H69)) -> 108.03254 | J69: =SUMIF('3-Basis ruimtestaat'!J:J,A69,'3-Basis ruimtestaat'!I:I) -> 0 | K69: =IF(J69=0,"",J69/$J$202) | M69: V
A70: 4040 | B70: 40 | C70: Pantry | D70: 1 x per week (40 weken p/j) | E70: =E83/255*B70*1.3 -> 0.32089098 | I70: =IF(E70=0,0,B70/(E70+F70+G70+H70)) -> 124.65293 | J70: =SUMIF('3-Basis ruimtestaat'!J:J,A70,'3-Basis ruimtestaat'!I:I) -> 0 | K70: =IF(J70=0,"",J70/$J$202) | M70: V
A71: 4052 | B71: 52 | C71: Pantry | D71: 1 x per week | E71: =E83/255*B71*1.4 -> 0.44924737 | I71: =IF(E71=0,0,B71/(E71+F71+G71+H71)) -> 115.74915 | J71: =SUMIF('3-Basis ruimtestaat'!J:J,A71,'3-Basis ruimtestaat'!I:I) -> 0 | K71: =IF(J71=0,"",J71/$J$202) | M71: V
A72: 4080 | B72: 80 | C72: Pantry | D72: 2 x per week (40 weken p/j) | E72: =E83/255*B72*1.2 -> 0.59241412 | I72: =IF(E72=0,0,B72/(E72+F72+G72+H72)) -> 135.04067 | J72: =SUMIF('3-Basis ruimtestaat'!J:J,A72,'3-Basis ruimtestaat'!I:I) -> 0 | K72: =IF(J72=0,"",J72/$J$202) | M72: V
A73: 4104 | B73: 104 | C73: Pantry | D73: 2 x per week | E73: =E83/255*B73*1.2 -> 0.77013835 | I73: =IF(E73=0,0,B73/(E73+F73+G73+H73)) -> 135.04067 | J73: =SUMIF('3-Basis ruimtestaat'!J:J,A73,'3-Basis ruimtestaat'!I:I) -> 0 | K73: =IF(J73=0,"",J73/$J$202) | M73: V
A74: 4120 | B74: 120 | C74: Pantry | D74: 3 x per week (40 weken p/j) | E74: =E83/255*B74*1.2 -> 0.88862118 | I74: =IF(E74=0,0,B74/(E74+F74+G74+H74)) -> 135.04067 | J74: =SUMIF('3-Basis ruimtestaat'!J:J,A74,'3-Basis ruimtestaat'!I:I) -> 0 | K74: =IF(J74=0,"",J74/$J$202) | M74: V
A75: 4130 | B75: 130 | C75: Pantry | D75: om de dag | E75: =E83/255*B75*1.1 -> 0.8824502 | I75: =IF(E75=0,0,B75/(E75+F75+G75+H75)) -> 147.3171 | J75: =SUMIF('3-Basis ruimtestaat'!J:J,A75,'3-Basis ruimtestaat'!I:I) -> 0 | K75: =IF(J75=0,"",J75/$J$202) | M75: V
A76: 4156 | B76: 156 | C76: Pantry | D76: 3 x per week | E76: =E83/255*B76*1.1 -> 1.0589402 | I76: =IF(E76=0,0,B76/(E76+F76+G76+H76)) -> 147.3171 | J76: =SUMIF('3-Basis ruimtestaat'!J:J,A76,'3-Basis ruimtestaat'!I:I) -> 0 | K76: =IF(J76=0,"",J76/$J$202) | M76: V
A77: 4160 | B77: 160 | C77: Pantry | D77: 4 x per week (40 weken p/j) | E77: =E83/255*B77 -> 0.98735686 | I77: =IF(E77=0,0,B77/(E77+F77+G77+H77)) -> 162.04881 | J77: =SUMIF('3-Basis ruimtestaat'!J:J,A77,'3-Basis ruimtestaat'!I:I) -> 0 | K77: =IF(J77=0,"",J77/$J$202) | M77: V
A78: 4200 | B78: 200 | C78: Pantry | D78: 5 x per week (40 weken p/j) | E78: =E83/255*B78 -> 1.2341961 | I78: =IF(E78=0,0,B78/(E78+F78+G78+H78)) -> 162.04881 | J78: =SUMIF('3-Basis ruimtestaat'!J:J,A78,'3-Basis ruimtestaat'!I:I) -> 5 | K78: =IF(J78=0,"",J78/$J$202) -> 0.00097172475 | M78: V
A79: 4206 | B79: 206 | C79: Pantry | D79: 5 x per week (40 weken p/j) + 6 dagen | E79: =E83/255*B79*1.05 -> 1.3347831 | I79: =IF(E79=0,0,B79/(E79+F79+G79+H79)) -> 154.3322 | J79: =SUMIF('3-Basis ruimtestaat'!J:J,A79,'3-Basis ruimtestaat'!I:I) -> 5.3 | K79: =IF(J79=0,"",J79/$J$202) -> 0.0010300282 | M79: V
A80: 4210 | B80: 210 | C80: Pantry | D80: 5 x per week (42 weken p/j) | E80: =E83/255*B80 -> 1.2959059 | I80: =IF(E80=0,0,B80/(E80+F80+G80+H80)) -> 162.04881 | J80: =SUMIF('3-Basis ruimtestaat'!J:J,A80,'3-Basis ruimtestaat'!I:I) -> 0 | K80: =IF(J80=0,"",J80/$J$202) | M80: V
A81: 4225 | B81: 225 | C81: Pantry | D81: 5 x per week (45 weken p/j) | E81: =E83/255*B81 -> 1.3884706 | I81: =IF(E81=0,0,B81/(E81+F81+G81+H81)) -> 162.04881 | J81: =SUMIF('3-Basis ruimtestaat'!J:J,A81,'3-Basis ruimtestaat'!I:I) -> 0 | K81: =IF(J81=0,"",J81/$J$202) | M81: V
A82: 4245 | B82: 245 | C82: Pantry | D82: 5 x per week (49 weken p/j) | E82: =E83/255*B82 -> 1.5118902 | I82: =IF(E82=0,0,B82/(E82+F82+G82+H82)) -> 162.04881 | J82: =SUMIF('3-Basis ruimtestaat'!J:J,A82,'3-Basis ruimtestaat'!I:I) -> 0 | K82: =IF(J82=0,"",J82/$J$202) | M82: V
A83: 4255 | B83: 255 | C83: Pantry | D83: 5 x per week | E83: =O83*$O$9 -> 1.5736 | I83: =IF(E83=0,0,B83/(E83+F83+G83+H83)) -> 162.04881 | J83: =SUMIF('3-Basis ruimtestaat'!J:J,A83,'3-Basis ruimtestaat'!I:I) -> 0 | K83: =IF(J83=0,"",J83/$J$202) | M83: V | O83: 1.124
A84: 4365 | B84: 365 | C84: Pantry | D84: 7 dagen per week | E84: =E83 -> 1.5736 | I84: =IF(E84=0,0,B84/(E84+F84+G84+H84)) -> 231.95221 | J84: =SUMIF('3-Basis ruimtestaat'!J:J,A84,'3-Basis ruimtestaat'!I:I) -> 0 | K84: =IF(J84=0,"",J84/$J$202) | M84: V
A85: 5010 | B85: 10 | C85: Sporthal/gymzaal | D85: 10 x per jaar | E85: =E100/255*B85*1.5 -> 0.028576471 | I85: =IF(E85=0,0,B85/(E85+F85+G85+H85)) -> 349.93825 | J85: =SUMIF('3-Basis ruimtestaat'!J:J,A85,'3-Basis ruimtestaat'!I:I) -> 0 | K85: =IF(J85=0,"",J85/$J$202) | M85: V
A86: 5012 | B86: 12 | C86: Sporthal/gymzaal | D86: 12 x per jaar | E86: =E100/255*B86*1.5 -> 0.034291765 | I86: =IF(E86=0,0,B86/(E86+F86+G86+H86)) -> 349.93825 | J86: =SUMIF('3-Basis ruimtestaat'!J:J,A86,'3-Basis ruimtestaat'!I:I) -> 0 | K86: =IF(J86=0,"",J86/$J$202) | M86: V
A87: 5040 | B87: 40 | C87: Sporthal/gymzaal | D87: 1 x per week (40 weken p/j) | E87: =E100/255*B87*1.3 -> 0.099065098 | I87: =IF(E87=0,0,B87/(E87+F87+G87+H87)) -> 403.7749 | J87: =SUMIF('3-Basis ruimtestaat'!J:J,A87,'3-Basis ruimtestaat'!I:I) -> 0 | K87: =IF(J87=0,"",J87/$J$202) | M87: V
A88: 5052 | B88: 52 | C88: Sporthal/gymzaal | D88: 1 x per week | E88: =E100/255*B88*1.4 -> 0.13869114 | I88: =IF(E88=0,0,B88/(E88+F88+G88+H88)) -> 374.93384 | J88: =SUMIF('3-Basis ruimtestaat'!J:J,A88,'3-Basis ruimtestaat'!I:I) -> 0 | K88: =IF(J88=0,"",J88/$J$202) | M88: V
A89: 5080 | B89: 80 | C89: Sporthal/gymzaal | D89: 2 x per week (40 weken p/j) | E89: =E100/255*B89*1.2 -> 0.18288941 | I89: =IF(E89=0,0,B89/(E89+F89+G89+H89)) -> 437.42281 | J89: =SUMIF('3-Basis ruimtestaat'!J:J,A89,'3-Basis ruimtestaat'!I:I) -> 0 | K89: =IF(J89=0,"",J89/$J$202) | M89: V
A90: 5104 | B90: 104 | C90: Sporthal/gymzaal | D90: 2 x per week | E90: =E100/255*B90*1.2 -> 0.23775624 | I90: =IF(E90=0,0,B90/(E90+F90+G90+H90)) -> 437.42281 | J90: =SUMIF('3-Basis ruimtestaat'!J:J,A90,'3-Basis ruimtestaat'!I:I) -> 0 | K90: =IF(J90=0,"",J90/$J$202) | M90: V
A91: 5120 | B91: 120 | C91: Sporthal/gymzaal | D91: 3 x per week (40 weken p/j) | E91: =E100/255*B91*1.2 -> 0.27433412 | I91: =IF(E91=0,0,B91/(E91+F91+G91+H91)) -> 437.42281 | J91: =SUMIF('3-Basis ruimtestaat'!J:J,A91,'3-Basis ruimtestaat'!I:I) -> 0 | K91: =IF(J91=0,"",J91/$J$202) | M91: V
A92: 5130 | B92: 130 | C92: Sporthal/gymzaal | D92: om de dag | E92: =E100/255*B92*1.1 -> 0.27242902 | I92: =IF(E92=0,0,B92/(E92+F92+G92+H92)) -> 477.18852 | J92: =SUMIF('3-Basis ruimtestaat'!J:J,A92,'3-Basis ruimtestaat'!I:I) -> 0 | K92: =IF(J92=0,"",J92/$J$202) | M92: V
A93: 5156 | B93: 156 | C93: Sporthal/gymzaal | D93: 3 x per week | E93: =E100/255*B93*1.1 -> 0.32691482 | I93: =IF(E93=0,0,B93/(E93+F93+G93+H93)) -> 477.18852 | J93: =SUMIF('3-Basis ruimtestaat'!J:J,A93,'3-Basis ruimtestaat'!I:I) -> 0 | K93: =IF(J93=0,"",J93/$J$202) | M93: V
A94: 5160 | B94: 160 | C94: Sporthal/gymzaal | D94: 4 x per week (40 weken p/j) | E94: =E100/255*B94 -> 0.30481569 | I94: =IF(E94=0,0,B94/(E94+F94+G94+H94)) -> 524.90737 | J94: =SUMIF('3-Basis ruimtestaat'!J:J,A94,'3-Basis ruimtestaat'!I:I) -> 0 | K94: =IF(J94=0,"",J94/$J$202) | M94: V
A95: 5200 | B95: 200 | C95: Sporthal/gymzaal | D95: 5 x per week (40 weken p/j) | E95: =E100/255*B95 -> 0.38101961 | I95: =IF(E95=0,0,B95/(E95+F95+G95+H95)) -> 524.90737 | J95: =SUMIF('3-Basis ruimtestaat'!J:J,A95,'3-Basis ruimtestaat'!I:I) -> 326.08 | K95: =IF(J95=0,"",J95/$J$202) -> 0.063372002 | M95: V
A96: 5208 | B96: 208 | C96: Sporthal/gymzaal | D96: 4 x per week | E96: =E100/255*B96*1.05 -> 0.41607341 | I96: =IF(E96=0,0,B96/(E96+F96+G96+H96)) -> 499.91178 | J96: =SUMIF('3-Basis ruimtestaat'!J:J,A96,'3-Basis ruimtestaat'!I:I) -> 0 | K96: =IF(J96=0,"",J96/$J$202) | M96: V
A97: 5210 | B97: 210 | C97: Sporthal/gymzaal | D97: 5 x per week (42 weken p/j) | E97: =E100/255*B97 -> 0.40007059 | I97: =IF(E97=0,0,B97/(E97+F97+G97+H97)) -> 524.90737 | J97: =SUMIF('3-Basis ruimtestaat'!J:J,A97,'3-Basis ruimtestaat'!I:I) -> 0 | K97: =IF(J97=0,"",J97/$J$202) | M97: V
A98: 5230 | B98: 230 | C98: Sporthal/gymzaal | D98: 5 x per week (46 weken p/j) | E98: =E100/255*B98 -> 0.43817255 | I98: =IF(E98=0,0,B98/(E98+F98+G98+H98)) -> 524.90737 | J98: =SUMIF('3-Basis ruimtestaat'!J:J,A98,'3-Basis ruimtestaat'!I:I) -> 0 | K98: =IF(J98=0,"",J98/$J$202) | M98: V
A99: 5245 | B99: 245 | C99: Sporthal/gymzaal | D99: 5 x per week (49 weken p/j) | E99: =E100/255*B99 -> 0.46674902 | I99: =IF(E99=0,0,B99/(E99+F99+G99+H99)) -> 524.90737 | J99: =SUMIF('3-Basis ruimtestaat'!J:J,A99,'3-Basis ruimtestaat'!I:I) -> 0 | K99: =IF(J99=0,"",J99/$J$202) | M99: V
A100: 5255 | B100: 255 | C100: Sporthal/gymzaal | D100: 5 x per week | E100: =O100*$O$9 -> 0.4858 | I100: =IF(E100=0,0,B100/(E100+F100+G100+H100)) -> 524.90737 | J100: =SUMIF('3-Basis ruimtestaat'!J:J,A100,'3-Basis ruimtestaat'!I:I) -> 0 | K100: =IF(J100=0,"",J100/$J$202) | M100: V | O100: 0.347
A101: 5365 | B101: 365 | C101: Sporthal/gymzaal | D101: 7 dagen per week | E101: =E100 -> 0.4858 | I101: =IF(E101=0,0,B101/(E101+F101+G101+H101)) -> 751.338 | J101: =SUMIF('3-Basis ruimtestaat'!J:J,A101,'3-Basis ruimtestaat'!I:I) -> 0 | K101: =IF(J101=0,"",J101/$J$202) | M101: V
A102: 6010 | B102: 10 | C102: Entree | D102: 10 x per jaar | E102: =E117/255*B102*1.5 -> 0.16470588 | I102: =IF(E102=0,0,B102/(E102+F102+G102+H102)) -> 60.714286 | J102: =SUMIF('3-Basis ruimtestaat'!J:J,A102,'3-Basis ruimtestaat'!I:I) -> 0 | K102: =IF(J102=0,"",J102/$J$202) | M102: V
...

Sheet 3-Basis ruimtestaat
A1: 1 | B1: INVOER VLELDEN
A2: 2
A3: 3 | B3: ='1-Contractblad dag'!A3 -> Naam opdrachtgever | C3: ='1-Contractblad dag'!B3 -> Herman Broerenstichting
A4: 4 | B4: ='1-Contractblad dag'!A4 -> Calculatie onderdeel | C4: Ruimtestaat
A5: 5 | B5: ='1-Contractblad dag'!A5 -> Gebouw/plaats | C5: ='1-Contractblad dag'!B5 -> Delft
A6: 6 | B6: ='1-Contractblad dag'!A6 -> Besteknummer | C6: ='1-Contractblad dag'!B6 -> Calculatie Herman Broerenstichting -2024.01
A7: 7 | B7: ='1-Contractblad dag'!A7 -> Naam leverancier | C7: ='1-Contractblad dag'!B7 -> Exploitatie calculatie
A8: 8
A9: 9 | B9: Plaats | C9: LOCATIE | D9: VERD. | E9: RUIMTE NR | F9: RUIMTE OMSCHRIJVING (OPDRACHTGEVER) | G9: RUIMTECATEGORIE | H9: VLOER SOORT | I9: M2 VLOER | J9: PROGR. CODE | K9: FREQ. NOTATIE | L9: UREN P/JR MA-VR | M9: UREN P/JR NALOOP MA/Vr | N9: UREN P/JR ZA ZO FSTDG | O9: UREN P/JR NALOOP ZA ZO FSTDG | P9: KEN-GETAL MA-VR | Q9: KEN-GETAL NALOOP | R9: KEN-GETAL ZA ZO FSTDG | S9: KEN-GETAL NALOOP ZA ZO FSTDG | T9: VSR CODE | U9: Corectie factor MA VR | V9: Corectie factor NL MA VR | W9: Corectie factor ZA ZO FSTDG | X9: Corectie factor NL ZA ZO FSTDG | Y9: Opmerking
A10: 10 | B10: Delft | C10: Clara van Sparwoudestraat 1 (VSO Delft) | D10: 0 | E10: V001 | F10: Tochthal | G10: Verkeersruimte | H10: Plavuis en mat | I10: 9.9 | J10: 6206 | K10: =SUM(IF(J10="",0,VLOOKUP(J10,Kengetal,2))) -> 206 | L10: =P10*I10*U10 -> 22.393412 | M10: =Q10*I10*V10 -> 0 | N10: =R10*I10*W10 -> 0 | O10: =S10*I10*X10 -> 0 | P10: =IF($J10="",0,VLOOKUP($J10,Kengetal,5,FALSE)) -> 2.2619608 | Q10: =IF($J10="",0,VLOOKUP($J10,Kengetal,6,FALSE)) -> 0 | R10: =IF($J10="",0,VLOOKUP($J10,Kengetal,7,FALSE)) -> 0 | S10: =IF($J10="",0,VLOOKUP($J10,Kengetal,8,FALSE)) -> 0 | T10: =IF(J10="","",VLOOKUP(J10,Kengetal,13,FALSE)) -> V | U10: 1 | V10: 1 | W10: 1 | X10: 1 | Z10: =I10*K10 -> 2039.4 | AA10: =L10+M10+N10+O10 -> 22.393412
A11: 11 | B11: Delft | C11: Clara van Sparwoudestraat 1 (VSO Delft) | D11: 0 | E11: V003 | F11: Hal en trap | G11: Verkeersruimte | H11: Plavuis/hout | I11: 76.69 | J11: 3206 | K11: =SUM(IF(J11="",0,VLOOKUP(J11,Kengetal,2))) -> 206 | L11: =P11*I11*U11 -> 34.06079 | M11: =Q11*I11*V11 -> 0 | N11: =R11*I11*W11 -> 0 | O11: =S11*I11*X11 -> 0 | P11: =IF($J11="",0,VLOOKUP($J11,Kengetal,5,FALSE)) -> 0.444136 | Q11: =IF($J11="",0,VLOOKUP($J11,Kengetal,6,FALSE)) -> 0 | R11: =IF($J11="",0,VLOOKUP($J11,Kengetal,7,FALSE)) -> 0 | S11: =IF($J11="",0,VLOOKUP($J11,Kengetal,8,FALSE)) -> 0 | T11: =IF(J11="","",VLOOKUP(J11,Kengetal,13,FALSE)) -> V | U11: 1 | V11: 1 | W11: 1 | X11: 1 | Z11: =I11*K11 -> 15798.14 | AA11: =L11+M11+N11+O11 -> 34.06079
A12: 12 | B12: Delft | C12: Clara van Sparwoudestraat 1 (VSO Delft) | D12: 0 | E12: B004 | F12: Receptie | G12: Bureaukamer | H12: Marmoleum | I12: 24.94 | J12: 1206 | K12: =SUM(IF(J12="",0,VLOOKUP(J12,Kengetal,2))) -> 206 | L12: =P12*I12*U12 -> 15.231592 | M12: =Q12*I12*V12 -> 0 | N12: =R12*I12*W12 -> 0 | O12: =S12*I12*X12 -> 0 | P12: =IF($J12="",0,VLOOKUP($J12,Kengetal,5,FALSE)) -> 0.61072941 | Q12: =IF($J12="",0,VLOOKUP($J12,Kengetal,6,FALSE)) -> 0 | R12: =IF($J12="",0,VLOOKUP($J12,Kengetal,7,FALSE)) -> 0 | S12: =IF($J12="",0,VLOOKUP($J12,Kengetal,8,FALSE)) -> 0 | T12: =IF(J12="","",VLOOKUP(J12,Kengetal,13,FALSE)) -> B | U12: 1 | V12: 1 | W12: 1 | X12: 1 | Z12: =I12*K12 -> 5137.64 | AA12: =L12+M12+N12+O12 -> 15.231592
A13: 13 | B13: Delft | C13: Clara van Sparwoudestraat 1 (VSO Delft) | D13: 0 | E13: B005 | F13: Locatiedirecteur | G13: Bureaukamer | H13: Marmoleum | I13: 15.34 | J13: 1200 | K13: =SUM(IF(J13="",0,VLOOKUP(J13,Kengetal,2))) -> 200 | L13: =P13*I13*U13 -> 9.0957176 | M13: =Q13*I13*V13 -> 0 | N13: =R13*I13*W13 -> 0 | O13: =S13*I13*X13 -> 0 | P13: =IF($J13="",0,VLOOKUP($J13,Kengetal,5,FALSE)) -> 0.59294118 | Q13: =IF($J13="",0,VLOOKUP($J13,Kengetal,6,FALSE)) -> 0 | R13: =IF($J13="",0,VLOOKUP($J13,Kengetal,7,FALSE)) -> 0 | S13: =IF($J13="",0,VLOOKUP($J13,Kengetal,8,FALSE)) -> 0 | T13: =IF(J13="","",VLOOKUP(J13,Kengetal,13,FALSE)) -> B | U13: 1 | V13: 1 | W13: 1 | X13: 1 | Z13: =I13*K13 -> 3068 | AA13: =L13+M13+N13+O13 -> 9.0957176
A14: 14 | B14: Delft | C14: Clara van Sparwoudestraat 1 (VSO Delft) | D14: 0 | E14: V006 | F14: Gang | G14: Verkeersruimte | H14: Marmoleum | I14: 98.85 | J14: 3200 | K14: =SUM(IF(J14="",0,VLOOKUP(J14,Kengetal,2))) -> 200 | L14: =P14*I14*U14 -> 40.5944 | M14: =Q14*I14*V14 -> 0 | N14: =R14*I14*W14 -> 0 | O14: =S14*I14*X14 -> 0 | P14: =IF($J14="",0,VLOOKUP($J14,Kengetal,5,FALSE)) -> 0.41066667 | Q14: =IF($J14="",0,VLOOKUP($J14,Kengetal,6,FALSE)) -> 0 | R14: =IF($J14="",0,VLOOKUP($J14,Kengetal,7,FALSE)) -> 0 | S14: =IF($J14="",0,VLOOKUP($J14,Kengetal,8,FALSE)) -> 0 | T14: =IF(J14="","",VLOOKUP(J14,Kengetal,13,FALSE)) -> V | U14: 1 | V14: 1 | W14: 1 | X14: 1 | Z14: =I14*K14 -> 19770 | AA14: =L14+M14+N14+O14 -> 40.5944
A15: 15 | B15: Delft | C15: Clara van Sparwoudestraat 1 (VSO Delft) | D15: 0 | E15: B007 | F15: Flexplekken | G15: Bureaukamer | H15: Marmoleum | I15: 25.33 | J15: 1206 | K15: =SUM(IF(J15="",0,VLOOKUP(J15,Kengetal,2))) -> 206 | L15: =P15*I15*U15 -> 15.469776 | M15: =Q15*I15*V15 -> 0 | N15: =R15*I15*W15 -> 0 | O15: =S15*I15*X15 -> 0 | P15: =IF($J15="",0,VLOOKUP($J15,Kengetal,5,FALSE)) -> 0.61072941 | Q15: =IF($J15="",0,VLOOKUP($J15,Kengetal,6,FALSE)) -> 0 | R15: =IF($J15="",0,VLOOKUP($J15,Kengetal,7,FALSE)) -> 0 | S15: =IF($J15="",0,VLOOKUP($J15,Kengetal,8,FALSE)) -> 0 | T15: =IF(J15="","",VLOOKUP(J15,Kengetal,13,FALSE)) -> B | U15: 1 | V15: 1 | W15: 1 | X15: 1 | Z15: =I15*K15 -> 5217.98 | AA15: =L15+M15+N15+O15 -> 15.469776
A16: 16 | B16: Delft | C16: Clara van Sparwoudestraat 1 (VSO Delft) | D16: 0 | E16: B008 | F16: Kantoor | G16: Bureaukamer | H16: Marmoleum | I16: 15.4 | J16: 1200 | K16: =SUM(IF(J16="",0,VLOOKUP(J16,Kengetal,2))) -> 200 | L16: =P16*I16*U16 -> 9.1312941 | M16: =Q16*I16*V16 -> 0 | N16: =R16*I16*W16 -> 0 | O16: =S16*I16*X16 -> 0 | P16: =IF($J16="",0,VLOOKUP($J16,Kengetal,5,FALSE)) -> 0.59294118 | Q16: =IF($J16="",0,VLOOKUP($J16,Kengetal,6,FALSE)) -> 0 | R16: =IF($J16="",0,VLOOKUP($J16,Kengetal,7,FALSE)) -> 0 | S16: =IF($J16="",0,VLOOKUP($J16,Kengetal,8,FALSE)) -> 0 | T16: =IF(J16="","",VLOOKUP(J16,Kengetal,13,FALSE)) -> B | U16: 1 | V16: 1 | W16: 1 | X16: 1 | Z16: =I16*K16 -> 3080 | AA16: =L16+M16+N16+O16 -> 9.1312941
A17: 17 | B17: Delft | C17: Clara van Sparwoudestraat 1 (VSO Delft) | D17: 0 | E17: B009 | F17: Team Orthotheek | G17: Bureaukamer | H17: Marmoleum | I17: 32.72 | J17: 1200 | K17: =SUM(IF(J17="",0,VLOOKUP(J17,Kengetal,2))) -> 200 | L17: =P17*I17*U17 -> 19.401035 | M17: =Q17*I17*V17 -> 0 | N17: =R17*I17*W17 -> 0 | O17: =S17*I17*X17 -> 0 | P17: =IF($J17="",0,VLOOKUP($J17,Kengetal,5,FALSE)) -> 0.59294118 | Q17: =IF($J17="",0,VLOOKUP($J17,Kengetal,6,FALSE)) -> 0 | R17: =IF($J17="",0,VLOOKUP($J17,Kengetal,7,FALSE)) -> 0 | S17: =IF($J17="",0,VLOOKUP($J17,Kengetal,8,FALSE)) -> 0 | T17: =IF(J17="","",VLOOKUP(J17,Kengetal,13,FALSE)) -> B | U17: 1 | V17: 1 | W17: 1 | X17: 1 | Z17: =I17*K17 -> 6544 | AA17: =L17+M17+N17+O17 -> 19.401035
A18: 20 | B18: Delft | C18: Clara van Sparwoudestraat 1 (VSO Delft) | D18: 0 | E18: B010 | F18: Spreekkamer | G18: Bureaukamer | H18: Marmoleum | I18: 14.85 | J18: 1200 | K18: =SUM(IF(J18="",0,VLOOKUP(J18,Kengetal,2))) -> 200 | L18: =P18*I18*U18 -> 8.8051765 | M18: =Q18*I18*V18 -> 0 | N18: =R18*I18*W18 -> 0 | O18: =S18*I18*X18 -> 0 | P18: =IF($J18="",0,VLOOKUP($J18,Kengetal,5,FALSE)) -> 0.59294118 | Q18: =IF($J18="",0,VLOOKUP($J18,Kengetal,6,FALSE)) -> 0 | R18: =IF($J18="",0,VLOOKUP($J18,Kengetal,7,FALSE)) -> 0 | S18: =IF($J18="",0,VLOOKUP($J18,Kengetal,8,FALSE)) -> 0 | T18: =IF(J18="","",VLOOKUP(J18,Kengetal,13,FALSE)) -> B | U18: 1 | V18: 1 | W18: 1 | X18: 1 | Z18: =I18*K18 -> 2970 | AA18: =L18+M18+N18+O18 -> 8.8051765
A19: 21 | B19: Delft | C19: Clara van Sparwoudestraat 1 (VSO Delft) | D19: 0 | E19: S011 | F19: Sanitair | G19: Sanitair | H19: Gietvloer | I19: 2.52 | J19: 2200 | K19: =SUM(IF(J19="",0,VLOOKUP(J19,Kengetal,2))) -> 200 | L19: =P19*I19*U19 -> 8.8767247 | M19: =Q19*I19*V19 -> 0 | N19: =R19*I19*W19 -> 0 | O19: =S19*I19*X19 -> 0 | P19: =IF($J19="",0,VLOOKUP($J19,Kengetal,5,FALSE)) -> 3.5225098 | Q19: =IF($J19="",0,VLOOKUP($J19,Kengetal,6,FALSE)) -> 0 | R19: =IF($J19="",0,VLOOKUP($J19,Kengetal,7,FALSE)) -> 0 | S19: =IF($J19="",0,VLOOKUP($J19,Kengetal,8,FALSE)) -> 0 | T19: =IF(J19="","",VLOOKUP(J19,Kengetal,13,FALSE)) -> S | U19: 1 | V19: 1 | W19: 1 | X19: 1 | Z19: =I19*K19 -> 504 | AA19: =L19+M19+N19+O19 -> 8.8767247
A20: 23 | B20: Delft | C20: Clara van Sparwoudestraat 1 (VSO Delft) | D20: 0 | E20: S012 | F20: Sanitair | G20: Sanitair | H20: Marmoleum | I20: 2.52 | J20: 2200 | K20: =SUM(IF(J20="",0,VLOOKUP(J20,Kengetal,2))) -> 200 | L20: =P20*I20*U20 -> 8.8767247 | M20: =Q20*I20*V20 -> 0 | N20: =R20*I20*W20 -> 0 | O20: =S20*I20*X20 -> 0 | P20: =IF($J20="",0,VLOOKUP($J20,Kengetal,5,FALSE)) -> 3.5225098 | Q20: =IF($J20="",0,VLOOKUP($J20,Kengetal,6,FALSE)) -> 0 | R20: =IF($J20="",0,VLOOKUP($J20,Kengetal,7,FALSE)) -> 0 | S20: =IF($J20="",0,VLOOKUP($J20,Kengetal,8,FALSE)) -> 0 | T20: =IF(J20="","",VLOOKUP(J20,Kengetal,13,FALSE)) -> S | U20: 1 | V20: 1 | W20: 1 | X20: 1 | Z20: =I20*K20 -> 504 | AA20: =L20+M20+N20+O20 -> 8.8767247
A21: 24 | B21: Delft | C21: Clara van Sparwoudestraat 1 (VSO Delft) | D21: 0 | E21: B013 | F21: Fac. Medewerker | G21: Bureaukamer | H21: Marmoleum | I21: 10.82 | J21: 1200 | K21: =SUM(IF(J21="",0,VLOOKUP(J21,Kengetal,2))) -> 200 | L21: =P21*I21*U21 -> 6.4156235 | M21: =Q21*I21*V21 -> 0 | N21: =R21*I21*W21 -> 0 | O21: =S21*I21*X21 -> 0 | P21: =IF($J21="",0,VLOOKUP($J21,Kengetal,5,FALSE)) -> 0.59294118 | Q21: =IF($J21="",0,VLOOKUP($J21,Kengetal,6,FALSE)) -> 0 | R21: =IF($J21="",0,VLOOKUP($J21,Kengetal,7,FALSE)) -> 0 | S21: =IF($J21="",0,VLOOKUP($J21,Kengetal,8,FALSE)) -> 0 | T21: =IF(J21="","",VLOOKUP(J21,Kengetal,13,FALSE)) -> B | U21: 1 | V21: 1 | W21: 1 | X21: 1 | Z21: =I21*K21 -> 2164 | AA21: =L21+M21+N21+O21 -> 6.4156235
... A40: 41 | B40: Delft | C40: Clara van Sparwoudestraat 1 (VSO Delft) | D40: 0 | E40: S034 | F40: Toilet | G40: Sanitair | H40: Gietvloer | I40: 1.1 | J40: 2200 | K40: =SUM(IF(J40="",0,VLOOKUP(J40,Kengetal,2))) -> 200 | L40: =P40*I40*U40 -> 3.8747608 | M40: =Q40*I40*V40 -> 0 | N40: =R40*I40*W40 -> 0 | O40: =S40*I40*X40 -> 0 | P40: =IF($J40="",0,VLOOKUP($J40,Kengetal,5,FALSE)) -> 3.5225098 | Q40: =IF($J40="",0,VLOOKUP($J40,Kengetal,6,FALSE)) -> 0 | R40: =IF($J40="",0,VLOOKUP($J40,Kengetal,7,FALSE)) -> 0 | S40: =IF($J40="",0,VLOOKUP($J40,Kengetal,8,FALSE)) -> 0 | T40: =IF(J40="","",VLOOKUP(J40,Kengetal,13,FALSE)) -> S | U40: 1 | V40: 1 | W40: 1 | X40: 1 | Z40: =I40*K40 -> 220 | AA40: =L40+M40+N40+O40 -> 3.8747608
B41: Delft | C41: Clara van Sparwoudestraat 1 (VSO Delft) | D41: 0 | E41: S035 | F41: Toilet | G41: Sanitair | H41: Gietvloer | I41: 1.1 | J41: 2200 | K41: =SUM(IF(J41="",0,VLOOKUP(J41,Kengetal,2))) -> 200 | L41: =P41*I41*U41 -> 3.8747608 | M41: =Q41*I41*V41 -> 0 | N41: =R41*I41*W41 -> 0 | O41: =S41*I41*X41 -> 0 | P41: =IF($J41="",0,VLOOKUP($J41,Kengetal,5,FALSE)) -> 3.5225098 | Q41: =IF($J41="",0,VLOOKUP($J41,Kengetal,6,FALSE)) -> 0 | R41: =IF($J41="",0,VLOOKUP($J41,Kengetal,7,FALSE)) -> 0 | S41: =IF($J41="",0,VLOOKUP($J41,Kengetal,8,FALSE)) -> 0 | T41: =IF(J41="","",VLOOKUP(J41,Kengetal,13,FALSE)) -> S | U41: 1 | V41: 1 | W41: 1 | X41: 1 | Z41: =I41*K41 -> 220 | AA41: =L41+M41+N41+O41 -> 3.8747608
B42: Delft | C42: Clara van Sparwoudestraat 1 (VSO Delft) | D42: 0 | E42: S036 | F42: Toilet | G42: Sanitair | H42: Gietvloer | I42: 1.1 | J42: 2200 | K42: =SUM(IF(J42="",0,VLOOKUP(J42,Kengetal,2))) -> 200 | L42: =P42*I42*U42 -> 3.8747608 | M42: =Q42*I42*V42 -> 0 | N42: =R42*I42*W42 -> 0 | O42: =S42*I42*X42 -> 0 | P42: =IF($J42="",0,VLOOKUP($J42,Kengetal,5,FALSE)) -> 3.5225098 | Q42: =IF($J42="",0,VLOOKUP($J42,Kengetal,6,FALSE)) -> 0 | R42: =IF($J42="",0,VLOOKUP($J42,Kengetal,7,FALSE)) -> 0 | S42: =IF($J42="",0,VLOOKUP($J42,Kengetal,8,FALSE)) -> 0 | T42: =IF(J42="","",VLOOKUP(J42,Kengetal,13,FALSE)) -> S | U42: 1 | V42: 1 | W42: 1 | X42: 1 | Z42: =I42*K42 -> 220 | AA42: =L42+M42+N42+O42 -> 3.8747608
B43: Delft | C43: Clara van Sparwoudestraat 1 (VSO Delft) | D43: 0 | E43: S037 | F43: Toilet | G43: Sanitair | H43: Gietvloer | I43: 1.1 | J43: 2200 | K43: =SUM(IF(J43="",0,VLOOKUP(J43,Kengetal,2))) -> 200 | L43: =P43*I43*U43 -> 3.8747608 | M43: =Q43*I43*V43 -> 0 | N43: =R43*I43*W43 -> 0 | O43: =S43*I43*X43 -> 0 | P43: =IF($J43="",0,VLOOKUP($J43,Kengetal,5,FALSE)) -> 3.5225098 | Q43: =IF($J43="",0,VLOOKUP($J43,Kengetal,6,FALSE)) -> 0 | R43: =IF($J43="",0,VLOOKUP($J43,Kengetal,7,FALSE)) -> 0 | S43: =IF($J43="",0,VLOOKUP($J43,Kengetal,8,FALSE)) -> 0 | T43: =IF(J43="","",VLOOKUP(J43,Kengetal,13,FALSE)) -> S | U43: 1 | V43: 1 | W43: 1 | X43: 1 | Z43: =I43*K43 -> 220 | AA43: =L43+M43+N43+O43 -> 3.8747608
B44: Delft | C44: Clara van Sparwoudestraat 1 (VSO Delft) | D44: 0 | E44: L038 | F44: Praktijklokaal | G44: Leslokaal | H44: Marmoleum | I44: 41.65 | J44: 7200 | K44: =SUM(IF(J44="",0,VLOOKUP(J44,Kengetal,2))) -> 200 | L44: =P44*I44*U44 -> 30.641333 | M44: =Q44*I44*V44 -> 0 | N44: =R44*I44*W44 -> 0 | O44: =S44*I44*X44 -> 0 | P44: =IF($J44="",0,VLOOKUP($J44,Kengetal,5,FALSE)) -> 0.73568627 | Q44: =IF($J44="",0,VLOOKUP($J44,Kengetal,6,FALSE)) -> 0 | R44: =IF($J44="",0,VLOOKUP($J44,Kengetal,7,FALSE)) -> 0 | S44: =IF($J44="",0,VLOOKUP($J44,Kengetal,8,FALSE)) -> 0 | T44: =IF(J44="","",VLOOKUP(J44,Kengetal,13,FALSE)) -> V | U44: 1 | V44: 1 | W44: 1 | X44: 1 | Z44: =I44*K44 -> 8330 | AA44: =L44+M44+N44+O44 -> 30.641333
B45: Delft | C45: Clara van Sparwoudestraat 1 (VSO Delft) | D45: 0 | E45: V039 | F45: Berging | G45: Verkeersruimte | H45: Marmoleum | I45: 2.68 | J45: 9010 | K45: =SUM(IF(J45="",0,VLOOKUP(J45,Kengetal,2))) -> 10 | L45: =P45*I45*U45 -> 0.16001176 | M45: =Q45*I45*V45 -> 0 | N45: =R45*I45*W45 -> 0 | O45: =S45*I45*X45 -> 0 | P45: =IF($J45="",0,VLOOKUP($J45,Kengetal,5,FALSE)) -> 0.059705882 | Q45: =IF($J45="",0,VLOOKUP($J45,Kengetal,6,FALSE)) -> 0 | R45: =IF($J45="",0,VLOOKUP($J45,Kengetal,7,FALSE)) -> 0 | S45: =IF($J45="",0,VLOOKUP($J45,Kengetal,8,FALSE)) -> 0 | T45: =IF(J45="","",VLOOKUP(J45,Kengetal,13,FALSE)) -> VP | U45: 1 | V45: 1 | W45: 1 | X45: 1 | Z45: =I45*K45 -> 26.8 | AA45: =L45+M45+N45+O45 -> 0.16001176
B46: Delft | C46: Clara van Sparwoudestraat 1 (VSO Delft) | D46: 0 | E46: V040 | F46: Aula | G46: Verkeersruimte | H46: Marmoleum | I46: 126 | J46: 3200 | K46: =SUM(IF(J46="",0,VLOOKUP(J46,Kengetal,2))) -> 200 | L46: =P46*I46*U46 -> 51.744 | M46: =Q46*I46*V46 -> 0 | N46: =R46*I46*W46 -> 0 | O46: =S46*I46*X46 -> 0 | P46: =IF($J46="",0,VLOOKUP($J46,Kengetal,5,FALSE)) -> 0.41066667 | Q46: =IF($J46="",0,VLOOKUP($J46,Kengetal,6,FALSE)) -> 0 | R46: =IF($J46="",0,VLOOKUP($J46,Kengetal,7,FALSE)) -> 0 | S46: =IF($J46="",0,VLOOKUP($J46,Kengetal,8,FALSE)) -> 0 | T46: =IF(J46="","",VLOOKUP(J46,Kengetal,13,FALSE)) -> V | U46: 1 | V46: 1 | W46: 1 | X46: 1 | Z46: =I46*K46 -> 25200 | AA46: =L46+M46+N46+O46 -> 51.744
B47: Delft | C47: Clara van Sparwoudestraat 1 (VSO Delft) | D47: 0 | E47: V041 | F47: Praktijkruimte keuken | G47: Verkeersruimte | H47: Gietvloer | I47: 47.44 | J47: 9010 | K47: =SUM(IF(J47="",0,VLOOKUP(J47,Kengetal,2))) -> 10 | L47: =P47*I47*U47 -> 2.8324471 | M47: =Q47*I47*V47 -> 0 | N47: =R47*I47*W47 -> 0 | O47: =S47*I47*X47 -> 0 | P47: =IF($J47="",0,VLOOKUP($J47,Kengetal,5,FALSE)) -> 0.059705882 | Q47: =IF($J47="",0,VLOOKUP($J47,Kengetal,6,FALSE)) -> 0 | R47: =IF($J47="",0,VLOOKUP($J47,Kengetal,7,FALSE)) -> 0 | S47: =IF($J47="",0,VLOOKUP($J47,Kengetal,8,FALSE)) -> 0 | T47: =IF(J47="","",VLOOKUP(J47,Kengetal,13,FALSE)) -> VP | U47: 1 | V47: 1 | W47: 1 | X47: 1 | Z47: =I47*K47 -> 474.4 | AA47: =L47+M47+N47+O47 -> 2.8324471
B48: Delft | C48: Clara van Sparwoudestraat 1 (VSO Delft) | D48: 0 | E48: V042 | F48: Uitgiftebalie | G48: Verkeersruimte | H48: Gietvloer | I48: 20.97 | J48: 3200 | K48: =SUM(IF(J48="",0,VLOOKUP(J48,Kengetal,2))) -> 200 | L48: =P48*I48*U48 -> 8.61168 | M48: =Q48*I48*V48 -> 0 | N48: =R48*I48*W48 -> 0 | O48: =S48*I48*X48 -> 0 | P48: =IF($J48="",0,VLOOKUP($J48,Kengetal,5,FALSE)) -> 0.41066667 | Q48: =IF($J48="",0,VLOOKUP($J48,Kengetal,6,FALSE)) -> 0 | R48: =IF($J48="",0,VLOOKUP($J48,Kengetal,7,FALSE)) -> 0 | S48: =IF($J48="",0,VLOOKUP($J48,Kengetal,8,FALSE)) -> 0 | T48: =IF(J48="","",VLOOKUP(J48,Kengetal,13,FALSE)) -> V | U48: 1 | V48: 1 | W48: 1 | X48: 1 | Z48: =I48*K48 -> 4194 | AA48: =L48+M48+N48+O48 -> 8.61168
B49: Delft | C49: Clara van Sparwoudestraat 1 (VSO Delft) | D49: 0 | E49: V043 | F49: Spoelkeuken | G49: Verkeersruimte | H49: Gietvloer | I49: 12.83 | J49: 9010 | K49: =SUM(IF(J49="",0,VLOOKUP(J49,Kengetal,2))) -> 10 | L49: =P49*I49*U49 -> 0.76602647 | M49: =Q49*I49*V49 -> 0 | N49: =R49*I49*W49 -> 0 | O49: =S49*I49*X49 -> 0 | P49: =IF($J49="",0,VLOOKUP($J49,Kengetal,5,FALSE)) -> 0.059705882 | Q49: =IF($J49="",0,VLOOKUP($J49,Kengetal,6,FALSE)) -> 0 | R49: =IF($J49="",0,VLOOKUP($J49,Kengetal,7,FALSE)) -> 0 | S49: =IF($J49="",0,VLOOKUP($J49,Kengetal,8,FALSE)) -> 0 | T49: =IF(J49="","",VLOOKUP(J49,Kengetal,13,FALSE)) -> VP | U49: 1 | V49: 1 | W49: 1 | X49: 1 | Z49: =I49*K49 -> 128.3 | AA49: =L49+M49+N49+O49 -> 0.76602647
B50: Delft | C50: Clara van Sparwoudestraat 1 (VSO Delft) | D50: 0 | E50: V044 | F50: Magazijn | G50: Verkeersruimte | H50: Marmoleum | I50: 9.15 | J50: 9010 | K50: =SUM(IF(J50="",0,VLOOKUP(J50,Kengetal,2))) -> 10 | L50: =P50*I50*U50 -> 0.54630882 | M50: =Q50*I50*V50 -> 0 | N50: =R50*I50*W50 -> 0 | O50: =S50*I50*X50 -> 0 | P50: =IF($J50="",0,VLOOKUP($J50,Kengetal,5,FALSE)) -> 0.059705882 | Q50: =IF($J50="",0,VLOOKUP($J50,Kengetal,6,FALSE)) -> 0 | R50: =IF($J50="",0,VLOOKUP($J50,Kengetal,7,FALSE)) -> 0 | S50: =IF($J50="",0,VLOOKUP($J50,Kengetal,8,FALSE)) -> 0 | T50: =IF(J50="","",VLOOKUP(J50,Kengetal,13,FALSE)) -> VP | U50: 1 | V50: 1 | W50: 1 | X50: 1 | Z50: =I50*K50 -> 91.5 | AA50: =L50+M50+N50+O50 -> 0.54630882
B51: Delft | C51: Clara van Sparwoudestraat 1 (VSO Delft) | D51: 0 | E51: V045 | F51: Gang | G51: Verkeersruimte | H51: Marmoleum | I51: 110.84 | J51: 3200 | K51: =SUM(IF(J51="",0,VLOOKUP(J51,Kengetal,2))) -> 200 | L51: =P51*I51*U51 -> 45.518293 | M51: =Q51*I51*V51 -> 0 | N51: =R51*I51*W51 -> 0 | O51: =S51*I51*X51 -> 0 | P51: =IF($J51="",0,VLOOKUP($J51,Kengetal,5,FALSE)) -> 0.41066667 | Q51: =IF($J51="",0,VLOOKUP($J51,Kengetal,6,FALSE)) -> 0 | R51: =IF($J51="",0,VLOOKUP($J51,Kengetal,7,FALSE)) -> 0 | S51: =IF($J51="",0,VLOOKUP($J51,Kengetal,8,FALSE)) -> 0 | T51: =IF(J51="","",VLOOKUP(J51,Kengetal,13,FALSE)) -> V | U51: 1 | V51: 1 | W51: 1 | X51: 1 | Z51: =I51*K51 -> 22168 | AA51: =L51+M51+N51+O51 -> 45.518293
B52: Delft | C52: Clara van Sparwoudestraat 1 (VSO Delft) | D52: 0 | E52: V047 | F52: Gang | G52: Verkeersruimte | H52: Marmoleum | I52: 84.52 | J52: 3200 | K52: =SUM(IF(J52="",0,VLOOKUP(J52,Kengetal,2))) -> 200 | L52: =P52*I52*U52 -> 34.709547 | M52: =Q52*I52*V52 -> 0 | N52: =R52*I52*W52 -> 0 | O52: =S52*I52*X52 -> 0 | P52: =IF($J52="",0,VLOOKUP($J52,Kengetal,5,FALSE)) -> 0.41066667 | Q52: =IF($J52="",0,VLOOKUP($J52,Kengetal,6,FALSE)) -> 0 | R52: =IF($J52="",0,VLOOKUP($J52,Kengetal,7,FALSE)) -> 0 | S52: =IF($J52="",0,VLOOKUP($J52,Kengetal,8,FALSE)) -> 0 | T52: =IF(J52="","",VLOOKUP(J52,Kengetal,13,FALSE)) -> V | U52: 1 | V52: 1 | W52: 1 | X52: 1 | Z52: =I52*K52 -> 16904 | AA52: =L52+M52+N52+O52 -> 34.709547
... B131: Naaldwijk | C131: Verhagenplein 9 (SO/VSO Naaldwijk) | D131: 0 | E131: L015 | F131: Groepslokaal | G131: Leslokaal | H131: Marmoleum | I131: 59.45 | J131: 7200 | K131: =SUM(IF(J131="",0,VLOOKUP(J131,Kengetal,2))) -> 200 | L131: =P131*I131*U131 -> 43.736549 | M131: =Q131*I131*V131 -> 0 | N131: =R131*I131*W131 -> 0 | O131: =S131*I131*X131 -> 0 | P131: =IF($J131="",0,VLOOKUP($J131,Kengetal,5,FALSE)) -> 0.73568627 | Q131: =IF($J131="",0,VLOOKUP($J131,Kengetal,6,FALSE)) -> 0 | R131: =IF($J131="",0,VLOOKUP($J131,Kengetal,7,FALSE)) -> 0 | S131: =IF($J131="",0,VLOOKUP($J131,Kengetal,8,FALSE)) -> 0 | T131: =IF(J131="","",VLOOKUP(J131,Kengetal,13,FALSE)) -> V | U131: 1 | V131: 1 | W131: 1 | X131: 1 | Z131: =I131*K131 -> 11890 | AA131: =L131+M131+N131+O131 -> 43.736549
B132: Naaldwijk | C132: Verhagenplein 9 (SO/VSO Naaldwijk) | D132: 0 | E132: V016 | F132: Tuinkas | G132: Verkeersruimte | H132: Dhgt | I132: 12.22 | J132: nvt | K132: =SUM(IF(J132="",0,VLOOKUP(J132,Kengetal,2))) -> 0 | L132: =P132*I132*U132 -> 0 | M132: =Q132*I132*V132 -> 0 | N132: =R132*I132*W132 -> 0 | O132: =S132*I132*X132 -> 0 | P132: =IF($J132="",0,VLOOKUP($J132,Kengetal,5,FALSE)) -> 0 | Q132: =IF($J132="",0,VLOOKUP($J132,Kengetal,6,FALSE)) -> 0 | R132: =IF($J132="",0,VLOOKUP($J132,Kengetal,7,FALSE)) -> 0 | S132: =IF($J132="",0,VLOOKUP($J132,Kengetal,8,FALSE)) -> 0 | T132: =IF(J132="","",VLOOKUP(J132,Kengetal,13,FALSE)) -> 0 | U132: 1 | V132: 1 | W132: 1 | X132: 1 | Z132: =I132*K132 -> 0 | AA132: =L132+M132+N132+O132 -> 0
B133: Naaldwijk | C133: Verhagenplein 9 (SO/VSO Naaldwijk) | D133: 0 | E133: V017 | F133: Gang + trap | G133: Verkeersruimte | H133: Marmoleum | I133: 25.57 | J133: 3200 | K133: =SUM(IF(J133="",0,VLOOKUP(J133,Kengetal,2))) -> 200 | L133: =P133*I133*U133 -> 10.500747 | M133: =Q133*I133*V133 -> 0 | N133: =R133*I133*W133 -> 0 | O133: =S133*I133*X133 -> 0 | P133: =IF($J133="",0,VLOOKUP($J133,Kengetal,5,FALSE)) -> 0.41066667 | Q133: =IF($J133="",0,VLOOKUP($J133,Kengetal,6,FALSE)) -> 0 | R133: =IF($J133="",0,VLOOKUP($J133,Kengetal,7,FALSE)) -> 0 | S133: =IF($J133="",0,VLOOKUP($J133,Kengetal,8,FALSE)) -> 0 | T133: =IF(J133="","",VLOOKUP(J133,Kengetal,13,FALSE)) -> V | U133: 1 | V133: 1 | W133: 1 | X133: 1 | Z133: =I133*K133 -> 5114 | AA133: =L133+M133+N133+O133 -> 10.500747
B134: Naaldwijk | C134: Verhagenplein 9 (SO/VSO Naaldwijk) | D134: 0 | E134: S018 | F134: Douche gymleraar | G134: Sanitair | H134: Dhgt | I134: 2.53 | J134: 2200 | K134: =SUM(IF(J134="",0,VLOOKUP(J134,Kengetal,2))) -> 200 | L134: =P134*I134*U134 -> 8.9119498 | M134: =Q134*I134*V134 -> 0 | N134: =R134*I134*W134 -> 0 | O134: =S134*I134*X134 -> 0 | P134: =IF($J134="",0,VLOOKUP($J134,Kengetal,5,FALSE)) -> 3.5225098 | Q134: =IF($J134="",0,VLOOKUP($J134,Kengetal,6,FALSE)) -> 0 | R134: =IF($J134="",0,VLOOKUP($J134,Kengetal,7,FALSE)) -> 0 | S134: =IF($J134="",0,VLOOKUP($J134,Kengetal,8,FALSE)) -> 0 | T134: =IF(J134="","",VLOOKUP(J134,Kengetal,13,FALSE)) -> S | U134: 1 | V134: 1 | W134: 1 | X134: 1 | Z134: =I134*K134 -> 506 | AA134: =L134+M134+N134+O134 -> 8.9119498
B135: Naaldwijk | C135: Verhagenplein 9 (SO/VSO Naaldwijk) | D135: 0 | E135: V019 | F135: Kleedruimte | G135: Verkeersruimte | H135: Dhgt | I135: 15.48 | J135: 3200 | K135: =SUM(IF(J135="",0,VLOOKUP(J135,Kengetal,2))) -> 200 | L135: =P135*I135*U135 -> 6.35712 | M135: =Q135*I135*V135 -> 0 | N135: =R135*I135*W135 -> 0 | O135: =S135*I135*X135 -> 0 | P135: =IF($J135="",0,VLOOKUP($J135,Kengetal,5,FALSE)) -> 0.41066667 | Q135: =IF($J135="",0,VLOOKUP($J135,Kengetal,6,FALSE)) -> 0 | R135: =IF($J135="",0,VLOOKUP($J135,Kengetal,7,FALSE)) -> 0 | S135: =IF($J135="",0,VLOOKUP($J135,Kengetal,8,FALSE)) -> 0 | T135: =IF(J135="","",VLOOKUP(J135,Kengetal,13,FALSE)) -> V | U135: 1 | V135: 1 | W135: 1 | X135: 1 | Z135: =I135*K135 -> 3096 | AA135: =L135+M135+N135+O135 -> 6.35712
B136: Naaldwijk | C136: Verhagenplein 9 (SO/VSO Naaldwijk) | D136: 0 | E136: S020 | F136: Toilet | G136: Sanitair | H136: Dhgt | I136: 1.48 | J136: 2200 | K136: =SUM(IF(J136="",0,VLOOKUP(J136,Kengetal,2))) -> 200 | L136: =P136*I136*U136 -> 5.2133145 | M136: =Q136*I136*V136 -> 0 | N136: =R136*I136*W136 -> 0 | O136: =S136*I136*X136 -> 0 | P136: =IF($J136="",0,VLOOKUP($J136,Kengetal,5,FALSE)) -> 3.5225098 | Q136: =IF($J136="",0,VLOOKUP($J136,Kengetal,6,FALSE)) -> 0 | R136: =IF($J136="",0,VLOOKUP($J136,Kengetal,7,FALSE)) -> 0 | S136: =IF($J136="",0,VLOOKUP($J136,Kengetal,8,FALSE)) -> 0 | T136: =IF(J136="","",VLOOKUP(J136,Kengetal,13,FALSE)) -> S | U136: 1 | V136: 1 | W136: 1 | X136: 1 | Z136: =I136*K136 -> 296 | AA136: =L136+M136+N136+O136 -> 5.2133145
B137: Naaldwijk | C137: Verhagenplein 9 (SO/VSO Naaldwijk) | D137: 0 | E137: S021 | F137: Doucheruimte | G137: Sanitair | H137: Dhgt | I137: 12.27 | J137: 2200 | K137: =SUM(IF(J137="",0,VLOOKUP(J137,Kengetal,2))) -> 200 | L137: =P137*I137*U137 -> 43.221195 | M137: =Q137*I137*V137 -> 0 | N137: =R137*I137*W137 -> 0 | O137: =S137*I137*X137 -> 0 | P137: =IF($J137="",0,VLOOKUP($J137,Kengetal,5,FALSE)) -> 3.5225098 | Q137: =IF($J137="",0,VLOOKUP($J137,Kengetal,6,FALSE)) -> 0 | R137: =IF($J137="",0,VLOOKUP($J137,Kengetal,7,FALSE)) -> 0 | S137: =IF($J137="",0,VLOOKUP($J137,Kengetal,8,FALSE)) -> 0 | T137: =IF(J137="","",VLOOKUP(J137,Kengetal,13,FALSE)) -> S | U137: 1 | V137: 1 | W137: 1 | X137: 1 | Z137: =I137*K137 -> 2454 | AA137: =L137+M137+N137+O137 -> 43.221195
B138: Naaldwijk | C138: Verhagenplein 9 (SO/VSO Naaldwijk) | D138: 0 | E138: V022 | F138: Kleedruimte | G138: Verkeersruimte | H138: Dhgt | I138: 15.52 | J138: 3200 | K138: =SUM(IF(J138="",0,VLOOKUP(J138,Kengetal,2))) -> 200 | L138: =P138*I138*U138 -> 6.3735467 | M138: =Q138*I138*V138 -> 0 | N138: =R138*I138*W138 -> 0 | O138: =S138*I138*X138 -> 0 | P138: =IF($J138="",0,VLOOKUP($J138,Kengetal,5,FALSE)) -> 0.41066667 | Q138: =IF($J138="",0,VLOOKUP($J138,Kengetal,6,FALSE)) -> 0 | R138: =IF($J138="",0,VLOOKUP($J138,Kengetal,7,FALSE)) -> 0 | S138: =IF($J138="",0,VLOOKUP($J138,Kengetal,8,FALSE)) -> 0 | T138: =IF(J138="","",VLOOKUP(J138,Kengetal,13,FALSE)) -> V | U138: 1 | V138: 1 | W138: 1 | X138: 1 | Z138: =I138*K138 -> 3104 | AA138: =L138+M138+N138+O138 -> 6.3735467
B139: Naaldwijk | C139: Verhagenplein 9 (SO/VSO Naaldwijk) | D139: 0 | E139: S024 | F139: Toilet | G139: Sanitair | H139: Dhgt | I139: 1.19 | J139: 2200 | K139: =SUM(IF(J139="",0,VLOOKUP(J139,Kengetal,2))) -> 200 | L139: =P139*I139*U139 -> 4.1917867 | M139: =Q139*I139*V139 -> 0 | N139: =R139*I139*W139 -> 0 | O139: =S139*I139*X139 -> 0 | P139: =IF($J139="",0,VLOOKUP($J139,Kengetal,5,FALSE)) -> 3.5225098 | Q139: =IF($J139="",0,VLOOKUP($J139,Kengetal,6,FALSE)) -> 0 | R139: =IF($J139="",0,VLOOKUP($J139,Kengetal,7,FALSE)) -> 0 | S139: =IF($J139="",0,VLOOKUP($J139,Kengetal,8,FALSE)) -> 0 | T139: =IF(J139="","",VLOOKUP(J139,Kengetal,13,FALSE)) -> S | U139: 1 | V139: 1 | W139: 1 | X139: 1 | Z139: =I139*K139 -> 238 | AA139: =L139+M139+N139+O139 -> 4.1917867
B140: Naaldwijk | C140: Verhagenplein 9 (SO/VSO Naaldwijk) | D140: 0 | E140: S025 | F140: Doucheruimte | G140: Sanitair | H140: Dhgt | I140: 12.3 | J140: 2200 | K140: =SUM(IF(J140="",0,VLOOKUP(J140,Kengetal,2))) -> 200 | L140: =P140*I140*U140 -> 43.326871 | M140: =Q140*I140*V140 -> 0 | N140: =R140*I140*W140 -> 0 | O140: =S140*I140*X140 -> 0 | P140: =IF($J140="",0,VLOOKUP($J140,Kengetal,5,FALSE)) -> 3.5225098 | Q140: =IF($J140="",0,VLOOKUP($J140,Kengetal,6,FALSE)) -> 0 | R140: =IF($J140="",0,VLOOKUP($J140,Kengetal,7,FALSE)) -> 0 | S140: =IF($J140="",0,VLOOKUP($J140,Kengetal,8,FALSE)) -> 0 | T140: =IF(J140="","",VLOOKUP(J140,Kengetal,13,FALSE)) -> S | U140: 1 | V140: 1 | W140: 1 | X140: 1 | Z140: =I140*K140 -> 2460 | AA140: =L140+M140+N140+O140 -> 43.326871
B141: Naaldwijk | C141: Verhagenplein 9 (SO/VSO Naaldwijk) | D141: 0 | E141: V026 | F141: Tochthal | G141: Verkeersruimte | H141: Inloopmat | I141: 6.83 | J141: 6200 | K141: =SUM(IF(J141="",0,VLOOKUP(J141,Kengetal,2))) -> 200 | L141: =P141*I141*U141 -> 14.999216 | M141: =Q141*I141*V141 -> 0 | N141: =R141*I141*W141 -> 0 | O141: =S141*I141*X141 -> 0 | P141: =IF($J141="",0,VLOOKUP($J141,Kengetal,5,FALSE)) -> 2.1960784 | Q141: =IF($J141="",0,VLOOKUP($J141,Kengetal,6,FALSE)) -> 0 | R141: =IF($J141="",0,VLOOKUP($J141,Kengetal,7,FALSE)) -> 0 | S141: =IF($J141="",0,VLOOKUP($J141,Kengetal,8,FALSE)) -> 0 | T141: =IF(J141="","",VLOOKUP(J141,Kengetal,13,FALSE)) -> V | U141: 1 | V141: 1 | W141: 1 | X141: 1 | Z141: =I141*K141 -> 1366 | AA141: =L141+M141+N141+O141 -> 14.999216
B142: Naaldwijk | C142: Verhagenplein 9 (SO/VSO Naaldwijk) | D142: 0 | E142: S028 | F142: MIVA | G142: Sanitair | H142: Dhgt | I142: 4.07 | J142: 2200 | K142: =SUM(IF(J142="",0,VLOOKUP(J142,Kengetal,2))) -> 200 | L142: =P142*I142*U142 -> 14.336615 | M142: =Q142*I142*V142 -> 0 | N142: =R142*I142*W142 -> 0 | O142: =S142*I142*X142 -> 0 | P142: =IF($J142="",0,VLOOKUP($J142,Kengetal,5,FALSE)) -> 3.5225098 | Q142: =IF($J142="",0,VLOOKUP($J142,Kengetal,6,FALSE)) -> 0 | R142: =IF($J142="",0,VLOOKUP($J142,Kengetal,7,FALSE)) -> 0 | S142: =IF($J142="",0,VLOOKUP($J142,Kengetal,8,FALSE)) -> 0 | T142: =IF(J142="","",VLOOKUP(J142,Kengetal,13,FALSE)) -> S | U142: 1 | V142: 1 | W142: 1 | X142: 1 | Z142: =I142*K142 -> 814 | AA142: =L142+M142+N142+O142 -> 14.336615
B143: Naaldwijk | C143: Verhagenplein 9 (SO/VSO Naaldwijk) | D143: 0 | E143: S029 | F143: Toiletten | G143: Sanitair | H143: Dhgt | I143: 9.62 | J143: 2200 | K143: =SUM(IF(J143="",0,VLOOKUP(J143,Kengetal,2))) -> 200 | L143: =P143*I143*U143 -> 33.886544 | M143: =Q143*I143*V143 -> 0 | N143: =R143*I143*W143 -> 0 | O143: =S143*I143*X143 -> 0 | P143: =IF($J143="",0,VLOOKUP($J143,Kengetal,5,FALSE)) -> 3.5225098 | Q143: =IF($J143="",0,VLOOKUP($J143,Kengetal,6,FALSE)) -> 0 | R143: =IF($J143="",0,VLOOKUP($J143,Kengetal,7,FALSE)) -> 0 | S143: =IF($J143="",0,VLOOKUP($J143,Kengetal,8,FALSE)) -> 0 | T143: =IF(J143="","",VLOOKUP(J143,Kengetal,13,FALSE)) -> S | U143: 1 | V143: 1 | W143: 1 | X143: 1 | Z143: =I143*K143 -> 1924 | AA143: =L143+M143+N143+O143 -> 33.886544
B144: Naaldwijk | C144: Verhagenplein 9 (SO/VSO Naaldwijk) | D144: 0 | E144: L030 | F144: Groepslokaal | G144: Leslokaal | H144: Marmoleum | I144: 55.57 | J144: 7200 | K144: =SUM(IF(J144="",0,VLOOKUP(J144,Kengetal,2))) -> 200 | L144: =P144*I144*U144 -> 40.882086 | M144: =Q144*I144*V144 -> 0 | N144: =R144*I144*W144 -> 0 | O144: =S144*I144*X144 -> 0 | P144: =IF($J144="",0,VLOOKUP($J144,Kengetal,5,FALSE)) -> 0.73568627 | Q144: =IF($J144="",0,VLOOKUP($J144,Kengetal,6,FALSE)) -> 0 | R144: =IF($J144="",0,VLOOKUP($J144,Kengetal,7,FALSE)) -> 0 | S144: =IF($J144="",0,VLOOKUP($J144,Kengetal,8,FALSE)) -> 0 | T144: =IF(J144="","",VLOOKUP(J144,Kengetal,13,FALSE)) -> V | U144: 1 | V144: 1 | W144: 1 | X144: 1 | Z144: =I144*K144 -> 11114 | AA144: =L144+M144+N144+O144 -> 40.882086
... B199: Monster | C199: Hazelaarstraat 46 Monster | D199: 1 | E199: B111 | F199: Kantoor | G199: Bureaukamer | H199: Tapijttegel | I199: 34.33 | J199: 1200 | K199: =SUM(IF(J199="",0,VLOOKUP(J199,Kengetal,2))) -> 200 | L199: =P199*I199*U199 -> 20.355671 | M199: =Q199*I199*V199 -> 0 | N199: =R199*I199*W199 -> 0 | O199: =S199*I199*X199 -> 0 | P199: =IF($J199="",0,VLOOKUP($J199,Kengetal,5,FALSE)) -> 0.59294118 | Q199: =IF($J199="",0,VLOOKUP($J199,Kengetal,6,FALSE)) -> 0 | R199: =IF($J199="",0,VLOOKUP($J199,Kengetal,7,FALSE)) -> 0 | S199: =IF($J199="",0,VLOOKUP($J199,Kengetal,8,FALSE)) -> 0 | T199: =IF(J199="","",VLOOKUP(J199,Kengetal,13,FALSE)) -> B | U199: 1 | V199: 1 | W199: 1 | X199: 1 | Z199: =I199*K199 -> 6866 | AA199: =L199+M199+N199+O199 -> 20.355671
K200: =SUM(IF(J200="",0,VLOOKUP(J200,Kengetal,2))) -> 0 | L200: =P200*I200*U200 -> 0 | M200: =Q200*I200*V200 -> 0 | N200: =R200*I200*W200 -> 0 | O200: =S200*I200*X200 -> 0 | P200: =IF($J200="",0,VLOOKUP($J200,Kengetal,5,FALSE)) -> 0 | Q200: =IF($J200="",0,VLOOKUP($J200,Kengetal,6,FALSE)) -> 0 | R200: =IF($J200="",0,VLOOKUP($J200,Kengetal,7,FALSE)) -> 0 | S200: =IF($J200="",0,VLOOKUP($J200,Kengetal,8,FALSE)) -> 0 | T200: =IF(J200="","",VLOOKUP(J200,Kengetal,13,FALSE)) | U200: 1 | V200: 1 | W200: 1 | X200: 1 | Z200: =I200*K200 -> 0 | AA200: =L200+M200+N200+O200 -> 0
Z202: =SUM(Z10:Z201) -> 996033.58 | AA202: =SUM(AA10:AA201) -> 3656.0935
Z204: Gewogen prestatie | AA204: =Z202/AA202 -> 272.4311

Sheet 4-Premies en opslagen
A1: Invoervelden
A3: ='1-Contractblad dag'!A3 -> Naam opdrachtgever | B3: ='1-Contractblad dag'!B3 -> Herman Broerenstichting
A4: ='1-Contractblad dag'!A4 -> Calculatie onderdeel | B4: ='1-Contractblad dag'!B4 -> Contractblad jaarprijs Totaal
A5: ='1-Contractblad dag'!A5 -> Gebouw/plaats | B5: ='1-Contractblad dag'!B5 -> Delft
A6: ='1-Contractblad dag'!A6 -> Besteknummer | B6: ='1-Contractblad dag'!B6 -> Calculatie Herman Broerenstichting -2024.01
A7: ='1-Contractblad dag'!A7 -> Naam leverancier | B7: ='1-Contractblad dag'!B7 -> Exploitatie calculatie
A8: ='1-Contractblad dag'!A8 -> Prijspeil | B8: ='1-Contractblad dag'!B8 -> 45473
A9: ='1-Contractblad dag'!A9 -> Bijzonderheden | B9: Vertrouwlijk
A11: Sociale verzekeringen productie | E11: Sociale verzekeringen toezicht
C13: Bedrijfsgemiddelde | G13: Bedrijfsgemiddelde
A14: WIA Basispremie | C14: 0.058 | E14: WIA Basispremie | G14: =C14 -> 0.058
A15: WGA | C15: 0.0179 | E15: WGA | G15: =C15 -> 0.0179
A16: ZW-flex | C16: 0.067 | E16: ZW-flex | G16: =C16 -> 0.067
A17: Totaal | C17: =SUM(C14:C16) -> 0.1429 | E17: Totaal | G17: =SUM(G14:G16) -> 0.1429
A19: WW premie- Algemeen Werkeloosheidsfonds (Awf) | C19: 0.0345 | E19: WW premie- Algemeen Werkeloosheidsfonds (Awf) | G19: =C19 -> 0.0345
A20: Transitievergoeding | C20: 0.0082 | E20: Transitievergoeding | G20: =C20 -> 0.0082
A21: Zorgverzekeringswet (Zvw) | C21: 0.0538 | E21: Zorgverzekeringswet (Zvw) | G21: =C21 -> 0.0538
A22: OP/NP | C22: =C35 -> 0.039559925 | E22: OP/NP | G22: =G35 -> 0.04227927
A23: Kinderopvang | C23: 0.005 | E23: Kinderopvang | G23: =C23 -> 0.005
A24: RAS premie | C24: 0.0075 | E24: RAS premie | G24: =C24 -> 0.0075
A25: Totaal opslag sociale lasten | C25: =SUM(C17:C24) -> 0.29145992 | E25: Totaal opslag sociale lasten | G25: =SUM(G17:G24) -> 0.29417927
A27: Sociale verzekeringen - Ouderdomspensioen (OP/NP) | E27: Sociale verzekeringen - Ouderdomspensioen (OP/NP)
C29: werkgeversdeel | G29: werkgeversdeel
A30: SV uurloon inclusief toeslagen | C30: ='5-Opbouw uurtarief productie'!E22 -> 16.940237 | E30: SV uurloon inclusief toeslagen | G30: ='6-Opbouw uurtarief toezicht'!E22 -> 19.79543
A31: Franchise OP-premie per uur | B31: Let op -/- bedrag | C31: -5.99 | E31: Franchise OP-premie per uur | F31: Let op -/- bedrag | G31: -6.12
A32: Grondslag loon voor berekening OP premie | C32: =C30+C31 -> 10.950237 | E32: Grondslag loon voor berekening OP premie | G32: =G30+G31 -> 13.67543
A33: Premie Ouderdomspensioen (OP) | C33: 0.0612 | E33: Premie Ouderdomspensioen (OP) | G33: 0.0612
A35: Effectieve OP premie | C35: =(C32/C30)*C33 -> 0.039559925 | E35: Effectieve OP premie | G35: =(G32/G30)*G33 -> 0.04227927
A37: Berekening werkbaredagen
B39: Schoonmaak
A40: Aantal kalenderdagen | B40: 365
A41: Weekenddagen | B41: 104
A42: Werkdagen per jaar | B42: =B40-B41 -> 261
A44: Nat. feestdagen, kort verzuim, bijz. CAO | B44: 9
A45: Vakantiedagen | B45: 26
A46: Ziektedagen | B46: 11
A47: Vorstverlet
A48: Werkbare dagen per jaar | B48: =B42-SUM(B44:B47) -> 215
A50: Nat. feestdagen, kort verzuim, bijz CAO | B50: =IF(B44=0,0,B44/$B$48) -> 0.041860465
A51: Vakantiedagen | B51: =IF(B45=0,0,B45/$B$48) -> 0.12093023
A52: Ziektedagen | B52: =IF(B46=0,0,B46/$B$48) -> 0.051162791
A53: Vorstverlet | B53: =IF(B47=0,0,B47/$B$48) -> 0
A54: Totaal % opslag werkbare dagen | B54: =SUM(B50:B53) -> 0.21395349
A56: Het aantal werkbaredagen per jaar is een gemiddelde over 5 jaar. Er vindt geen periodieke verrekening plaats inverband met schrikkeljaren.

Sheet 5-Opbouw uurtarief productie
A1: Invoervelden
A3: ='1-Contractblad dag'!A3 -> Naam opdrachtgever | B3: ='1-Contractblad dag'!B3 -> Herman Broerenstichting
A4: ='1-Contractblad dag'!A4 -> Calculatie onderdeel | B4: 6-Opbouw uurtarief productie
A5: ='1-Contractblad dag'!A5 -> Gebouw/plaats | B5: ='1-Contractblad dag'!B5 -> Delft
A6: ='1-Contractblad dag'!A6 -> Besteknummer | B6: ='1-Contractblad dag'!B6 -> Calculatie Herman Broerenstichting -2024.01
A7: ='1-Contractblad dag'!A7 -> Naam leverancier | B7: ='1-Contractblad dag'!B7 -> Exploitatie calculatie
A8: ='1-Contractblad dag'!A8 -> Prijspeil | B8: ='1-Contractblad dag'!B8 -> 45473
A9: ='1-Contractblad dag'!A9 -> Bijzonderheden | B9: ='1-Contractblad dag'!B9 -> Vertrouwelijk
P10: Prijsverhogingen per jaar, Gebruikte tarieven 30 juni 2024.
A11: Tariefopbouw schoonmaak | E11: Gemiddeld tarief ma t/m vr | H11: Medewerker | I11: Uurlonen per 30 juni 2024 | P11: 2025 | Q11: =P11+1 -> 2026 | R11: =Q11+1 -> 2027 | S11: =R11+1 -> 2028 | T11: =S11+1 -> 2029 | U11: =T11+1 -> 2030
I12: 1 | J12: 2 | K12: 3 | L12: 4 | M12: 5 | N12: 6 | P12: 1 | Q12: 1 | R12: 1 | S12: 1 | T12: 1 | U12: 1
A13: Gemiddeld basisuurloon | E13: =SUM(I47:N47) -> 15.616 | H13: 17 jaar en jonger | I13: =P13*$P$12*$Q$12*$R$12*$S$12*$T$12*$U$12 -> 10.94 | J13: =Q13*$P$12*$Q$12*$R$12*$S$12*$T$12*$U$12 -> 11.49 | K13: =R13*$P$12*$Q$12*$R$12*$S$12*$T$12*$U$12 -> 12.02 | L13: =S13*$P$12*$Q$12*$R$12*$S$12*$T$12*$U$12 -> 12.63 | M13: =T13*$P$12*$Q$12*$R$12*$S$12*$T$12*$U$12 -> 13.12 | N13: =U13*$P$12*$Q$12*$R$12*$S$12*$T$12*$U$12 -> 13.78 | P13: 10.94 | Q13: 11.49 | R13: 12.02 | S13: 12.63 | T13: 13.12 | U13: 13.78
A14: Specialistentoeslag | C14: Projectgebonden! | H14: 18 jaar | I14: =P14*$P$12*$Q$12*$R$12*$S$12*$T$12*$U$12 -> 11.62 | J14: =Q14*$P$12*$Q$12*$R$12*$S$12*$T$12*$U$12 -> 12.21 | K14: =R14*$P$12*$Q$12*$R$12*$S$12*$T$12*$U$12 -> 12.77 | L14: =S14*$P$12*$Q$12*$R$12*$S$12*$T$12*$U$12 -> 13.42 | M14: =T14*$P$12*$Q$12*$R$12*$S$12*$T$12*$U$12 -> 13.93 | N14: =U14*$P$12*$Q$12*$R$12*$S$12*$T$12*$U$12 -> 14.64 | P14: 11.62 | Q14: 12.21 | R14: 12.77 | S14: 13.42 | T14: 13.93 | U14: 14.64
A15: Gevarentoeslag (indien van toepassing) | H15: 19 jaar | I15: =P15*$P$12*$Q$12*$R$12*$S$12*$T$12*$U$12 -> 12.3 | J15: =Q15*$P$12*$Q$12*$R$12*$S$12*$T$12*$U$12 -> 12.92 | K15: =R15*$P$12*$Q$12*$R$12*$S$12*$T$12*$U$12 -> 13.51 | L15: =S15*$P$12*$Q$12*$R$12*$S$12*$T$12*$U$12 -> 14.2 | M15: =T15*$P$12*$Q$12*$R$12*$S$12*$T$12*$U$12 -> 14.75 | N15: =U15*$P$12*$Q$12*$R$12*$S$12*$T$12*$U$12 -> 15.49 | P15: 12.3 | Q15: 12.92 | R15: 13.51 | S15: 14.2 | T15: 14.75 | U15: 15.49
A16: Bruto uurloon | E16: =SUM(E13:E15) -> 15.616
A18: Vakantietoeslag | C18: 0.08 | E18: =$C18*E16 -> 1.24928 | H18: Vakvolwassen 1 dienstjaar | I18: =P18*$P$12*$Q$12*$R$12*$S$12*$T$12*$U$12 -> 14.15 | J18: =Q18*$P$12*$Q$12*$R$12*$S$12*$T$12*$U$12 -> 14.87 | K18: =R18*$P$12*$Q$12*$R$12*$S$12*$T$12*$U$12 -> 15.55 | L18: =S18*$P$12*$Q$12*$R$12*$S$12*$T$12*$U$12 -> 16.34 | M18: =T18*$P$12*$Q$12*$R$12*$S$12*$T$12*$U$12 -> 16.97 | N18: =U18*$P$12*$Q$12*$R$12*$S$12*$T$12*$U$12 -> 17.83 | P18: 14.15 | Q18: 14.87 | R18: 15.55 | S18: 16.34 | T18: 16.97 | U18: 17.83
A19: Structurele eindejaarsuitkering | C19: 0.05 | E19: =$C19*E16 -> 0.7808 | H19: Vakvolwassen 2 dienstjaren | I19: =P19*$P$12*$Q$12*$R$12*$S$12*$T$12*$U$12 -> 14.68 | J19: =Q19*$P$12*$Q$12*$R$12*$S$12*$T$12*$U$12 -> 15.39 | K19: =R19*$P$12*$Q$12*$R$12*$S$12*$T$12*$U$12 -> 16.12 | L19: =S19*$P$12*$Q$12*$R$12*$S$12*$T$12*$U$12 -> 16.91 | M19: =T19*$P$12*$Q$12*$R$12*$S$12*$T$12*$U$12 -> 17.55 | N19: =U19*$P$12*$Q$12*$R$12*$S$12*$T$12*$U$12 -> 18.45 | P19: 14.68 | Q19: 15.39 | R19: 16.12 | S19: 16.91 | T19: 17.55 | U19: 18.45
A20: Bruto uurloon inclusief toeslagen | E20: =SUM(E16:E19) -> 17.64608 | F20: =IF(E20=0,0,E20/E$48) -> 0.57319835 | H20: Vakvolwassen 3 dienstjaren | I20: =P20*$P$12*$Q$12*$R$12*$S$12*$T$12*$U$12 -> 15.12 | J20: =Q20*$P$12*$Q$12*$R$12*$S$12*$T$12*$U$12 -> 15.9 | K20: =R20*$P$12*$Q$12*$R$12*$S$12*$T$12*$U$12 -> 16.63 | L20: =S20*$P$12*$Q$12*$R$12*$S$12*$T$12*$U$12 -> 17.46 | M20: =T20*$P$12*$Q$12*$R$12*$S$12*$T$12*$U$12 -> 18.14 | N20: =U20*$P$12*$Q$12*$R$12*$S$12*$T$12*$U$12 -> 19.05 | P20: 15.12 | Q20: 15.9 | R20: 16.63 | S20: 17.46 | T20: 18.14 | U20: 19.05
H21: Vakvolwassen 4 dienstjaren | I21: =P21*$P$12*$Q$12*$R$12*$S$12*$T$12*$U$12 -> 15.6 | J21: =Q21*$P$12*$Q$12*$R$12*$S$12*$T$12*$U$12 -> 16.4 | K21: =R21*$P$12*$Q$12*$R$12*$S$12*$T$12*$U$12 -> 17.19 | L21: =S21*$P$12*$Q$12*$R$12*$S$12*$T$12*$U$12 -> 18.01 | M21: =T21*$P$12*$Q$12*$R$12*$S$12*$T$12*$U$12 -> 18.71 | N21: =U21*$P$12*$Q$12*$R$12*$S$12*$T$12*$U$12 -> 19.67 | P21: 15.6 | Q21: 16.4 | R21: 17.19 | S21: 18.01 | T21: 18.71 | U21: 19.67
A22: SV-loon grondslag voor berekening sociale verzekeringen | E22: =E20*0.96 -> 16.940237
A23: Premies Sociale Verzekeringen | C23: [zie premies en opslagen] | E23: =E22*'4-Premies en opslagen'!C25 -> 4.9374001 | H23: Medewerker | I23: Percentage per loongroep voor gemiddeld tarief
A24: Subtotaal loonkosten per uur inclusief sociale verzekeringen | E24: =E23+E20 -> 22.58348 | F24: =IF(E24=0,0,E24/E$48) -> 0.73358012 | I24: 1 | J24: 2 | K24: 3 | L24: 4 | M24: 5 | N24: 6
H25: 17 jaar en jonger
A26: Opslag niet werkbare dagen | C26: [zie premies en opslagen] | E26: =E24*'4-Premies en opslagen'!B54 -> 4.8318144 | H26: 18 jaar
A27: Totaal loonkosten per uur | E27: =SUM(E24:E26) -> 27.415294 | F27: =IF(E27=0,0,E27/E$48) -> 0.89053215 | H27: 19 jaar
A29: Materiaal/- en middelen | C29: Projectgebonden! | E29: 0.34 | F29: 0
A30: Werkkleding en uitrusting | C30: Projectgebonden! | E30: 0.15 | F30: 0 | H30: Vakvolwassen 1 dienstjaar
H31: Vakvolwassen 2 dienstjaren
H32: Vakvolwassen 3 dienstjaren | I32: 0.05
A33: Totaal directe kosten | E33: =SUM(E27:E32) -> 27.905294 | F33: =IF(E33=0,0,E33/E$48) -> 0.90644884 | H33: Vakvolwassen 4 dienstjaren | I33: 0.9 | J33: 0.05
H34: Totaal per loongroepen | I34: =SUM(I25:I33) -> 0.95 | J34: =SUM(J25:J33) -> 0.05 | K34: =SUM(K25:K33) -> 0 | L34: =SUM(L25:L33) -> 0 | M34: =SUM(M25:M33) -> 0 | N34: =SUM(N25:N33) -> 0 | O34: =SUM(I34:N34) -> 1
A35: Indirect toezicht | E35: 0.37 | F35: =E35/$E$48 -> 0.012018725
A36: Managementkosten | E36: 0.23 | F36: =E36/$E$48 -> 0.0074710996 | H36: Medewerker | I36: Opbouw gemiddeld tarief
A37: P.Z. kosten | E37: 0.28 | F37: =E37/$E$48 -> 0.0090952516 | I37: 1 | J37: 2 | K37: 3 | L37: 4 | M37: 5 | N37: 6
A38: Opleiding | E38: 0.28 | F38: =E38/$E$48 -> 0.0090952516 | H38: 17 jaar en jonger | I38: =I25*I13 -> 0 | J38: =J25*J13 -> 0 | K38: =K25*K13 -> 0 | L38: =L25*L13 -> 0 | M38: =M25*M13 -> 0 | N38: =N25*N13 -> 0
A39: Administratiekosten | E39: 0.28 | F39: =E39/$E$48 -> 0.0090952516 | H39: 18 jaar | I39: =I26*I14 -> 0 | J39: =J26*J14 -> 0 | K39: =K26*K14 -> 0 | L39: =L26*L14 -> 0 | M39: =M26*M14 -> 0 | N39: =N26*N14 -> 0
A40: Huisvestingskosten | E40: 0.17 | F40: =E40/$E$48 -> 0.0055221171 | H40: 19 jaar | I40: =I27*I15 -> 0 | J40: =J27*J15 -> 0 | K40: =K27*K15 -> 0 | L40: =L27*L15 -> 0 | M40: =M27*M15 -> 0 | N40: =N27*N15 -> 0
A41: Reiskosten/autokosten | C41: Projectgebonden! | F41: =E41/$E$48 -> 0
A42: Kosten verzuimbegeleiding | E42: 0.2 | F42: =E42/$E$48 -> 0.0064966083
F43: =E43/$E$48 -> 0 | H43: Vakvolwassen 1 dienstjaar | I43: =I30*I18 -> 0 | J43: =J30*J18 -> 0 | K43: =K30*K18 -> 0 | L43: =L30*L18 -> 0 | M43: =M30*M18 -> 0 | N43: =N30*N18 -> 0
A44: Totaal indirecte kosten | E44: =SUM(E33:E43) -> 29.715294 | F44: =IF(E44=0,0,E44/E$48) -> 0.96524315 | H44: Vakvolwassen 2 dienstjaren | I44: =I31*I19 -> 0 | J44: =J31*J19 -> 0 | K44: =K31*K19 -> 0 | L44: =L31*L19 -> 0 | M44: =M31*M19 -> 0 | N44: =N31*N19 -> 0
H45: Vakvolwassen 3 dienstjaren | I45: =I32*I20 -> 0.756 | J45: =J32*J20 -> 0 | K45: =K32*K20 -> 0 | L45: =L32*L20 -> 0 | M45: =M32*M20 -> 0 | N45: =N32*N20 -> 0
A46: Risico en winst | E46: 1.07 | F46: =(IF(E46=0,0,E46/E$48)) -> 0.034756854 | H46: Vakvolwassen 4 dienstjaren | I46: =I33*I21 -> 14.04 | J46: =J33*J21 -> 0.82 | K46: =K33*K21 -> 0 | L46: =L33*L21 -> 0 | M46: =M33*M21 -> 0 | N46: =N33*N21 -> 0
H47: Totaal per loongroepen | I47: =SUM(I38:I46) -> 14.796 | J47: =SUM(J38:J46) -> 0.82 | K47: =SUM(K38:K46) -> 0 | L47: =SUM(L38:L46) -> 0 | M47: =SUM(M38:M46) -> 0 | N47: =SUM(N38:N46) -> 0
A48: Totaal eindtarief normale werktijden [06.00-21.30 uur] | E48: =SUM(E44:E47) -> 30.785294 | F48: =SUM(F44:F47) -> 1
A50: Totaal eindtarief [incl. 30% toeslag] | E50: =(E$27*1.3)+($E$48-$E$27) -> 39.009883
A52: Totaal eindtarief weekenden [incl. 50% toeslag] | E52: =(E$27*1.5)+($E$48-$E$27) -> 44.492942
A54: Totaal eindtarief feestdagen [incl. 150% toeslag] | E54: =(E$27*2.5)+($E$48-$E$27) -> 71.908236

Sheet 6-Opbouw uurtarief toezicht
A1: Invoervelden
A3: ='1-Contractblad dag'!A3 -> Naam opdrachtgever | B3: ='1-Contractblad dag'!B3 -> Herman Broerenstichting
A4: ='1-Contractblad dag'!A4 -> Calculatie onderdeel | B4: =MID(CELL("bestandsnaam",$C$9),SEARCH("]",CELL("bestandsnaam",$C$9),1)+1,256) -> 6-Opbouw uurtarief toezicht
A5: ='1-Contractblad dag'!A5 -> Gebouw/plaats | B5: ='1-Contractblad dag'!B5 -> Delft
A6: ='1-Contractblad dag'!A6 -> Besteknummer | B6: ='1-Contractblad dag'!B6 -> Calculatie Herman Broerenstichting -2024.01
A7: ='1-Contractblad dag'!A7 -> Naam leverancier | B7: ='1-Contractblad dag'!B7 -> Exploitatie calculatie
A8: ='1-Contractblad dag'!A8 -> Prijspeil | B8: ='1-Contractblad dag'!B8 -> 45473
A9: ='1-Contractblad dag'!A9 -> Bijzonderheden | B9: ='1-Contractblad dag'!B9 -> Vertrouwelijk
A11: Tariefopbouw toezicht | E11: Gemiddeld tarief ma t/m vr | H11: Medewerker | I11: Uurlonen per 30 juni 2024
I12: 1 | J12: 2 | K12: 3 | L12: 4 | M12: 5 | N12: 6
A13: Gemiddeld basisuurloon toezicht | E13: =SUM(I35:N35) -> 18.248
A14: Specialistentoeslag | C14: Projectgebonden! | H14: Vakvolwassen 1 dienstjaar | I14: ='5-Opbouw uurtarief productie'!I18 -> 14.15 | J14: ='5-Opbouw uurtarief productie'!J18 -> 14.87 | K14: ='5-Opbouw uurtarief productie'!K18 -> 15.55 | L14: ='5-Opbouw uurtarief productie'!L18 -> 16.34 | M14: ='5-Opbouw uurtarief productie'!M18 -> 16.97 | N14: ='5-Opbouw uurtarief productie'!N18 -> 17.83
A15: Gevarentoeslag (indien van toepassing) | H15: Vakvolwassen 2 dienstjaren | I15: ='5-Opbouw uurtarief productie'!I19 -> 14.68 | J15: ='5-Opbouw uurtarief productie'!J19 -> 15.39 | K15: ='5-Opbouw uurtarief productie'!K19 -> 16.12 | L15: ='5-Opbouw uurtarief productie'!L19 -> 16.91 | M15: ='5-Opbouw uurtarief productie'!M19 -> 17.55 | N15: ='5-Opbouw uurtarief productie'!N19 -> 18.45
A16: Bruto uurloon | E16: =SUM(E13:E15) -> 18.248 | H16: Vakvolwassen 3 dienstjaren | I16: ='5-Opbouw uurtarief productie'!I20 -> 15.12 | J16: ='5-Opbouw uurtarief productie'!J20 -> 15.9 | K16: ='5-Opbouw uurtarief productie'!K20 -> 16.63 | L16: ='5-Opbouw uurtarief productie'!L20 -> 17.46 | M16: ='5-Opbouw uurtarief productie'!M20 -> 18.14 | N16: ='5-Opbouw uurtarief productie'!N20 -> 19.05
H17: Vakvolwassen 4 dienstjaren | I17: ='5-Opbouw uurtarief productie'!I21 -> 15.6 | J17: ='5-Opbouw uurtarief productie'!J21 -> 16.4 | K17: ='5-Opbouw uurtarief productie'!K21 -> 17.19 | L17: ='5-Opbouw uurtarief productie'!L21 -> 18.01 | M17: ='5-Opbouw uurtarief productie'!M21 -> 18.71 | N17: ='5-Opbouw uurtarief productie'!N21 -> 19.67
A18: Vakantietoeslag | C18: ='5-Opbouw uurtarief productie'!C18 -> 0.08 | E18: =$C18*E16 -> 1.45984
A19: Structurele eindejaarsuitkering | C19: ='5-Opbouw uurtarief productie'!C19 -> 0.05 | E19: =$C19*E16 -> 0.9124 | H19: Medewerker | I19: Percentage per loongroep voor gemiddeld tarief
A20: Bruto uurloon inclusief toeslagen | E20: =SUM(E16:E19) -> 20.62024 | F20: =IF(E20=0,0,E20/E$48) -> 0.57838586 | I20: 1 | J20: 2 | K20: 3 | L20: 4 | M20: 5 | N20: 6
A22: SV-loon grondslag voor berekening sociale verzekeringen | E22: =E20*0.96 -> 19.79543 | H22: Vakvolwassen 1 dienstjaar
A23: Premies Sociale Verzekeringen | C23: [zie premies en opslagen] | E23: =E22*'4-Premies en opslagen'!G25 -> 5.8234053 | H23: Vakvolwassen 2 dienstjaren
A24: Subtotaal loonkosten per uur inclusief sociale verzekeringen | E24: =E23+E20 -> 26.443645 | F24: =IF(E24=0,0,E24/E$48) -> 0.74172903 | H24: Vakvolwassen 3 dienstjaren
H25: Vakvolwassen 4 dienstjaren | J25: 0.2 | M25: 0.8
A26: Opslag niet werkbare dagen | C26: [zie premies en opslagen] | E26: =E24*'4-Premies en opslagen'!B54 -> 5.6577101 | H26: Totaal per loongroepen | I26: =SUM(I21:I25) -> 0 | J26: =SUM(J21:J25) -> 0.2 | K26: =SUM(K21:K25) -> 0 | L26: =SUM(L21:L25) -> 0 | M26: =SUM(M21:M25) -> 0.8 | N26: =SUM(N21:N25) -> 0 | O26: =SUM(I26:N26) -> 1
A27: Totaal loonkosten per uur | E27: =SUM(E24:E26) -> 32.101355 | F27: =IF(E27=0,0,E27/E$48) -> 0.90042454
H28: Medewerker | I28: Opbouw gemiddeld tarief
A29: Materiaal/- en middelen | C29: Projectgebonden! | E29: ='5-Opbouw uurtarief productie'!E29 -> 0.34 | F29: 0 | I29: 1 | J29: 2 | K29: 3 | L29: 4 | M29: 5 | N29: 6
A30: Werkkleding en uitrusting | C30: Projectgebonden! | E30: ='5-Opbouw uurtarief productie'!E30 -> 0.15 | F30: 0
H31: Vakvolwassen 1 dienstjaar | I31: =I22*I14 -> 0 | J31: =J22*J14 -> 0 | K31: =K22*K14 -> 0 | L31: =L22*L14 -> 0 | M31: =M22*M14 -> 0 | N31: =N22*N14 -> 0
H32: Vakvolwassen 2 dienstjaren | I32: =I23*I15 -> 0 | J32: =J23*J15 -> 0 | K32: =K23*K15 -> 0 | L32: =L23*L15 -> 0 | M32: =M23*M15 -> 0 | N32: =N23*N15 -> 0
A33: Totaal directe kosten | E33: =SUM(E27:E32) -> 32.591355 | F33: =IF(E33=0,0,E33/E$48) -> 0.91416876 | H33: Vakvolwassen 3 dienstjaren | I33: =I24*I16 -> 0 | J33: =J24*J16 -> 0 | K33: =K24*K16 -> 0 | L33: =L24*L16 -> 0 | M33: =M24*M16 -> 0 | N33: =N24*N16 -> 0
H34: Vakvolwassen 4 dienstjaren | I34: =I25*I17 -> 0 | J34: =J25*J17 -> 3.28 | K34: =K25*K17 -> 0 | L34: =L25*L17 -> 0 | M34: =M25*M17 -> 14.968 | N34: =N25*N17 -> 0
A35: Indirect toezicht | E35: ='5-Opbouw uurtarief productie'!E35 -> 0.37 | F35: =E35/$E$48 -> 0.010378287 | H35: Totaal per loongroepen | I35: =SUM(I30:I34) -> 0 | J35: =SUM(J30:J34) -> 3.28 | K35: =SUM(K30:K34) -> 0 | L35: =SUM(L30:L34) -> 0 | M35: =SUM(M30:M34) -> 14.968 | N35: =SUM(N30:N34) -> 0
A36: Managementkosten | E36: ='5-Opbouw uurtarief productie'!E36 -> 0.23 | F36: =E36/$E$48 -> 0.0064513676
A37: P.Z. kosten | E37: ='5-Opbouw uurtarief productie'!E37 -> 0.28 | F37: =E37/$E$48 -> 0.0078538388
A38: Opleiding | E38: ='5-Opbouw uurtarief productie'!E38 -> 0.28 | F38: =E38/$E$48 -> 0.0078538388
A39: Administratiekosten | E39: ='5-Opbouw uurtarief productie'!E39 -> 0.28 | F39: =E39/$E$48 -> 0.0078538388
A40: Huisvestingskosten | E40: ='5-Opbouw uurtarief productie'!E40 -> 0.17 | F40: =E40/$E$48 -> 0.0047684022
A41: Reiskosten/autokosten | C41: Projectgebonden! | E41: ='5-Opbouw uurtarief productie'!E41 -> 0 | F41: =E41/$E$48 -> 0
A42: Kosten verzuimbegeleiding | E42: ='5-Opbouw uurtarief productie'!E42 -> 0.2 | F42: =E42/$E$48 -> 0.0056098849
A44: Totaal indirecte kosten | E44: =SUM(E33:E43) -> 34.401355 | F44: =IF(E44=0,0,E44/E$48) -> 0.96493822
A46: Risico en winst | E46: 1.25 | F46: =(IF(E46=0,0,E46/E$48)) -> 0.035061781
A48: Totaal eindtarief normale werktijden [06.00-21.30 uur] | E48: =SUM(E44:E47) -> 35.651355 | F48: =SUM(F44:F47) -> 1
A50: Totaal eindtarief [incl. 30% toeslag] | E50: =(E$27*1.3)+($E$48-$E$27) -> 45.281762
A52: Totaal eindtarief weekenden [incl. 50% toeslag] | E52: =(E$27*1.5)+($E$48-$E$27) -> 51.702033
A54: Totaal eindtarief feestdagen [incl. 150% toeslag] | E54: =(E$27*2.5)+($E$48-$E$27) -> 83.803389

Sheet 7-Machine-investeringskosten
A3: ='1-Contractblad dag'!A3 -> Naam opdrachtgever | B3: ='1-Contractblad dag'!B3 -> Herman Broerenstichting
A4: ='1-Contractblad dag'!A4 -> Calculatie onderdeel | B4: Machine investeringskosten
A5: ='1-Contractblad dag'!A5 -> Gebouw/plaats | B5: ='1-Contractblad dag'!B5 -> Delft
A6: ='1-Contractblad dag'!A6 -> Besteknummer | B6: ='1-Contractblad dag'!B6 -> Calculatie Herman Broerenstichting -2024.01
A7: ='1-Contractblad dag'!A7 -> Naam leverancier | B7: ='1-Contractblad dag'!B7 -> Exploitatie calculatie
A8: ='1-Contractblad dag'!A8 -> Prijspeil | B8: ='1-Contractblad dag'!B8 -> 45473
A10: Machine investeringkosten
A12: Machine
A13: Omschrijving
A15: Kosten bij koop (excl. btw) | D15: Kostprijs
A16: Catalogusprijs
A17: Korting
A18: Netto aanschafprijs | D18: =D16-D17 -> 0
A19: Afschrijvingstermijn in jaren
A20: Restwaarde | D20: =D16*0.1 -> 0
A22: Kosten bij koop per jaar
A23: Afschrijvingskosten per jaar | D23: =IF(D19=0,0,(D18-D20)/D19) -> 0
A24: Onderhoudskosten per jaar* | D24: 0
A25: Renteverlies per jaar | C25: 0.0125 | D25: =C25*D18 -> 0
A26: Verzekeringskosten per jaar | C26: 0.0215 | D26: =C26*D18 -> 0
A28: Totaal kosten bij koop per jaar per machine | D28: =SUM(D23:D27) -> 0
A30: Inzet van het aantal machines [stuks] | C30: 0 | D30: =C30*D28 -> 0
A32: Machine
A33: Omschrijving
A35: Kosten bij koop (excl. btw) | D35: Kostprijs
A36: Catalogusprijs | D36: 0
A37: Korting
A38: Netto aanschafprijs | D38: =D36-D37 -> 0
A39: Afschrijvingstermijn in jaren
A40: Restwaarde | D40: =D36*0.1 -> 0
A42: Kosten bij koop per jaar
A43: Afschrijvingskosten per jaar | D43: =IF(D39=0,0,(D38-D40)/D39) -> 0
A44: Onderhoudskosten per jaar* | D44: 0
A45: Renteverlies per jaar | C45: =C25 -> 0.0125 | D45: =C45*D38 -> 0
A46: Verzekeringskosten per jaar | C46: =C26 -> 0.0215 | D46: =C46*D38 -> 0
A48: Totaal kosten bij koop per jaar per machine | D48: =SUM(D43:D47) -> 0
A50: Inzet van het aantal machines [stuks] | C50: 0 | D50: =C50*D48 -> 0
A52: Machine
A53: Omschrijving
A55: Kosten bij koop (excl. btw) | D55: Kostprijs
A56: Catalogusprijs | D56: 0
A57: Korting
A58: Netto aanschafprijs | D58: =D56-D57 -> 0
A59: Afschrijvingstermijn in jaren
A60: Restwaarde | D60: =D56*0.1 -> 0
A62: Kosten bij koop per jaar
A63: Afschrijvingskosten per jaar | D63: =IF(D59=0,0,(D58-D60)/D59) -> 0
A64: Onderhoudskosten per jaar* | D64: 0
A65: Renteverlies per jaar | C65: =C45 -> 0.0125 | D65: =C65*D58 -> 0
A66: Verzekeringskosten per jaar | C66: =C46 -> 0.0215 | D66: =C66*D58 -> 0
A68: Totaal kosten bij koop per jaar per machine | D68: =SUM(D63:D67) -> 0
A70: Inzet van het aantal machines [stuks] | C70: 0 | D70: =C70*D68 -> 0
A72: Machine
A73: Omschrijving
A75: Kosten bij koop (excl. btw) | D75: Kostprijs
A76: Catalogusprijs
A77: Korting
A78: Netto aanschafprijs | D78: =D76-D77 -> 0
A79: Afschrijvingstermijn in jaren
A80: Restwaarde | D80: =D76*0.1 -> 0
A82: Kosten bij koop per jaar
A83: Afschrijvingskosten per jaar | D83: =IF(D79=0,0,(D78-D80)/D79) -> 0
A84: Onderhoudskosten per jaar*
A85: Renteverlies per jaar | C85: =C65 -> 0.0125 | D85: =C85*D78 -> 0
A86: Verzekeringskosten per jaar | C86: =C66 -> 0.0215 | D86: =C86*D78 -> 0
A88: Totaal kosten bij koop per jaar per machine | D88: =SUM(D83:D87) -> 0
A90: Inzet van het aantal machines [stuks] | D90: =C90*D88 -> 0
A92: Machine
A93: Omschrijving
A95: Kosten bij koop (excl. btw) | D95: Kostprijs
A96: Catalogusprijs
A97: Korting
A98: Netto aanschafprijs | D98: =D96-D97 -> 0
A99: Afschrijvingstermijn in jaren | D99: 5
A100: Restwaarde
A102: Kosten bij koop per jaar
A103: Afschrijvingskosten per jaar | D103: =IF(D99=0,0,(D98-D100)/D99) -> 0
A104: Onderhoudskosten per jaar*
A105: Renteverlies per jaar | C105: =C85 -> 0.0125 | D105: =C105*D98 -> 0
A106: Verzekeringskosten per jaar | C106: =C86 -> 0.0215 | D106: =C106*D98 -> 0
A108: Totaal kosten bij koop per jaar per machine | D108: =SUM(D103:D107) -> 0
A110: Inzet van het aantal machines [stuks] | C110: 0 | D110: =C110*D108 -> 0
A112: Toelichting: | C112: Totaal | D112: =D110+D90+D70+D50+D30 -> 0
A113: Alle kosten aanbieden inclusief de benodigde hulpstukken/borstels, etc.
A114: Onderhoudskosten aanbieden inclusief de kosten van reparaties en/of inzet van vervangende apparatuur.
A115: Alle prijzen aanbieden exclusief btw.
A117: Invoervelden

Sheet 8-Glasbewassing
G2: prijsverhoging
A3: ='1-Contractblad dag'!A3 -> Naam opdrachtgever | B3: ='1-Contractblad dag'!B3 -> Herman Broerenstichting | G3: ='1-Contractblad dag'!G8 -> 0 | H3: niets invullen
A4: ='1-Contractblad dag'!A4 -> Calculatie onderdeel | B4: Glasbewassing | G4: ='1-Contractblad dag'!G9 -> 0 | H4: niets invullen
A5: ='1-Contractblad dag'!A5 -> Gebouw/plaats | B5: ='1-Contractblad dag'!B5 -> Delft | G5: ='1-Contractblad dag'!G10 -> 0 | H5: niets invullen
A6: ='1-Contractblad dag'!A6 -> Besteknummer | B6: ='1-Contractblad dag'!B6 -> Calculatie Herman Broerenstichting -2024.01 | G6: ='1-Contractblad dag'!G11 -> 0 | H6: niets invullen
A7: ='1-Contractblad dag'!A7 -> Naam leverancier | B7: ='1-Contractblad dag'!B7 -> Exploitatie calculatie | G7: ='1-Contractblad dag'!G12 -> 0 | H7: niets invullen
A8: ='1-Contractblad dag'!A8 -> Prijspeil | B8: ='1-Contractblad dag'!B8 -> 45473 | G8: ='1-Contractblad dag'!G13 -> 0 | H8: niets invullen
A9: ='1-Contractblad dag'!A9 -> Bijzonderheden | B9: Uitvoering normale werktijden: maandag t/m vrijdag [06.00 en 21.30 uur] | G9: ='1-Contractblad dag'!G14 -> 0 | H9: niets invullen
A12: Prijsvorming Glasbewassing | AA12: Kleinschaligheidsberekening
A13: 1 | B13: 2 | C13: 3 | D13: 4 | E13: 5 | F13: 6 | G13: 7 | H13: 8 | I13: 9 | J13: 10 | K13: 11 | L13: 12 | M13: 13 | N13: 14 | O13: 15 | P13: 16 | Q13: 17 | R13: 18 | S13: 19 | T13: 20 | U13: 21 | V13: 22 | W13: 23 | X13: 24 | Y13: 25
A14: Locatie: | B14: m2 Buitengevelglas (incl. kozijnen) | C14: Frequentie | D14: Tarief | E14: Totaal | G14: m2 Binnengevelglas (incl. kozijnen) | H14: Frequentie | I14: Tarief | J14: Totaal | L14: m2 Separatieglas tweezijdig gemeten (incl. kozijnen) (incl. buitezijde liftschacht) | M14: Frequentie | N14: Tarief | O14: Totaal | Q14: Extra | R14: Frequentie | S14: Tarief | T14: Totaal | V14: Extra | W14: Frequentie | X14: Tarief | Y14: Totaal | AA14: Uren per jaar | AB14: Frequentie p/j | AC14: Minimale uren p/d | AD14: Kleinschaligheidstoeslag
A16: Borneostraat 2 (SO Delft) | B16: 273.71 | C16: 0 | D16: 0.58 | E16: =D16*C16*B16*(100%+$G$3)*(100%+$G$4)*(100%+$G$5)*(100%+$G$6)*(100%+$G$7)*(100%+$G$8)*(100%+$G$9) -> 0 | G16: 262.11 | H16: 0 | I16: 0.6 | J16: =I16*H16*G16*(100%+$G$3)*(100%+$G$4)*(100%+$G$5)*(100%+$G$6)*(100%+$G$7)*(100%+$G$8)*(100%+$G$9) -> 0 | L16: 142.8 | M16: 0 | N16: 0.52 | O16: =N16*M16*L16*(100%+$G$3)*(100%+$G$4)*(100%+$G$5)*(100%+$G$6)*(100%+$G$7)*(100%+$G$8)*(100%+$G$9) -> 0 | S16: 0 | T16: =S16*R16*Q16*(100%+$G$3)*(100%+$G$4)*(100%+$G$5)*(100%+$G$6)*(100%+$G$7)*(100%+$G$8)*(100%+$G$9) -> 0 | X16: 0 | Y16: =X16*W16*(100%+$G$3)*(100%+$G$4)*(100%+$G$5)*(100%+$G$6)*(100%+$G$7)*(100%+$G$8)*(100%+$G$9) -> 0 | AA16: =((SUMIF('3-Basis ruimtestaat'!C:C,A16,uren_mavr))+(SUMIF('3-Basis ruimtestaat'!C:C,A16,uren_naloop))) -> 620.43129 | AB16: 200 | AC16: =IF(AA16=0,"",AA16/AB16) -> 3.1021565 | AD16: =IF(AC16<$AC$15,$AC$15-AC16)*'1-Contractblad dag'!$I$23*AB16 -> 0
A17: Clara van Sparwoudestraat 1 (VSO Delft) | C17: 0 | D17: =D16 -> 0.58 | E17: =D17*C17*B17*(100%+$G$3)*(100%+$G$4)*(100%+$G$5)*(100%+$G$6)*(100%+$G$7)*(100%+$G$8)*(100%+$G$9) -> 0 | H17: 0 | I17: =I16 -> 0.6 | J17: =I17*H17*G17*(100%+$G$3)*(100%+$G$4)*(100%+$G$5)*(100%+$G$6)*(100%+$G$7)*(100%+$G$8)*(100%+$G$9) -> 0 | M17: 0 | N17: =N16 -> 0.52 | O17: =N17*M17*L17*(100%+$G$3)*(100%+$G$4)*(100%+$G$5)*(100%+$G$6)*(100%+$G$7)*(100%+$G$8)*(100%+$G$9) -> 0 | S17: 0 | T17: =S17*R17*Q17*(100%+$G$3)*(100%+$G$4)*(100%+$G$5)*(100%+$G$6)*(100%+$G$7)*(100%+$G$8)*(100%+$G$9) -> 0 | X17: 0 | Y17: =X17*W17*(100%+$G$3)*(100%+$G$4)*(100%+$G$5)*(100%+$G$6)*(100%+$G$7)*(100%+$G$8)*(100%+$G$9) -> 0 | AA17: =((SUMIF('3-Basis ruimtestaat'!C:C,A17,uren_mavr))+(SUMIF('3-Basis ruimtestaat'!C:C,A17,uren_naloop))) -> 1220.4649 | AB17: 200 | AC17: =IF(AA17=0,"",AA17/AB17) -> 6.1023245 | AD17: =IF(AC17<$AC$15,$AC$15-AC17)*'1-Contractblad dag'!$I$23*AB17 -> 0
A18: Hazelaarstraat 46 Monster | C18: 0 | D18: =D17 -> 0.58 | E18: =D18*C18*B18*(100%+$G$3)*(100%+$G$4)*(100%+$G$5)*(100%+$G$6)*(100%+$G$7)*(100%+$G$8)*(100%+$G$9) -> 0 | H18: 0 | I18: =I17 -> 0.6 | J18: =I18*H18*G18*(100%+$G$3)*(100%+$G$4)*(100%+$G$5)*(100%+$G$6)*(100%+$G$7)*(100%+$G$8)*(100%+$G$9) -> 0 | L18: 56 | M18: 0 | N18: =N17 -> 0.52 | O18: =N18*M18*L18*(100%+$G$3)*(100%+$G$4)*(100%+$G$5)*(100%+$G$6)*(100%+$G$7)*(100%+$G$8)*(100%+$G$9) -> 0 | S18: 0 | T18: =S18*R18*Q18*(100%+$G$3)*(100%+$G$4)*(100%+$G$5)*(100%+$G$6)*(100%+$G$7)*(100%+$G$8)*(100%+$G$9) -> 0 | X18: 0 | Y18: =X18*W18*(100%+$G$3)*(100%+$G$4)*(100%+$G$5)*(100%+$G$6)*(100%+$G$7)*(100%+$G$8)*(100%+$G$9) -> 0 | AA18: =((SUMIF('3-Basis ruimtestaat'!C:C,A18,uren_mavr))+(SUMIF('3-Basis ruimtestaat'!C:C,A18,uren_naloop))) -> 654.06675 | AB18: 200 | AC18: =IF(AA18=0,"",AA18/AB18) -> 3.2703337 | AD18: =IF(AC18<$AC$15,$AC$15-AC18)*'1-Contractblad dag'!$I$23*AB18 -> 0
A19: Verhagenplein 9 (SO/VSO Naaldwijk) | C19: 0 | D19: =D18 -> 0.58 | E19: =D19*C19*B19*(100%+$G$3)*(100%+$G$4)*(100%+$G$5)*(100%+$G$6)*(100%+$G$7)*(100%+$G$8)*(100%+$G$9) -> 0 | H19: 0 | I19: =I18 -> 0.6 | J19: =I19*H19*G19*(100%+$G$3)*(100%+$G$4)*(100%+$G$5)*(100%+$G$6)*(100%+$G$7)*(100%+$G$8)*(100%+$G$9) -> 0 | M19: 0 | N19: =N18 -> 0.52 | O19: =N19*M19*L19*(100%+$G$3)*(100%+$G$4)*(100%+$G$5)*(100%+$G$6)*(100%+$G$7)*(100%+$G$8)*(100%+$G$9) -> 0 | S19: 0 | T19: =S19*R19*Q19*(100%+$G$3)*(100%+$G$4)*(100%+$G$5)*(100%+$G$6)*(100%+$G$7)*(100%+$G$8)*(100%+$G$9) -> 0 | X19: 0 | Y19: =X19*W19*(100%+$G$3)*(100%+$G$4)*(100%+$G$5)*(100%+$G$6)*(100%+$G$7)*(100%+$G$8)*(100%+$G$9) -> 0 | AA19: =((SUMIF('3-Basis ruimtestaat'!C:C,A19,uren_mavr))+(SUMIF('3-Basis ruimtestaat'!C:C,A19,uren_naloop))) -> 1161.1306 | AB19: 200 | AC19: =IF(AA19=0,"",AA19/AB19) -> 5.8056528 | AD19: =IF(AC19<$AC$15,$AC$15-AC19)*'1-Contractblad dag'!$I$23*AB19 -> 0
D20: =D17 -> 0.58 | E20: =D20*C20*B20*(100%+$G$3)*(100%+$G$4)*(100%+$G$5)*(100%+$G$6)*(100%+$G$7)*(100%+$G$8)*(100%+$G$9) -> 0 | I20: =I17 -> 0.6 | J20: =I20*H20*G20*(100%+$G$3)*(100%+$G$4)*(100%+$G$5)*(100%+$G$6)*(100%+$G$7)*(100%+$G$8)*(100%+$G$9) -> 0 | N20: =N17 -> 0.52 | O20: =N20*M20*L20*(100%+$G$3)*(100%+$G$4)*(100%+$G$5)*(100%+$G$6)*(100%+$G$7)*(100%+$G$8)*(100%+$G$9) -> 0 | S20: 0 | T20: =S20*R20*Q20*(100%+$G$3)*(100%+$G$4)*(100%+$G$5)*(100%+$G$6)*(100%+$G$7)*(100%+$G$8)*(100%+$G$9) -> 0 | X20: 0 | Y20: =X20*W20*(100%+$G$3)*(100%+$G$4)*(100%+$G$5)*(100%+$G$6)*(100%+$G$7)*(100%+$G$8)*(100%+$G$9) -> 0 | AA20: =((SUMIF('3-Basis ruimtestaat'!C:C,A20,uren_mavr))+(SUMIF('3-Basis ruimtestaat'!C:C,A20,uren_naloop))) -> 0 | AB20: 255 | AC20: =IF(AA20=0,"",AA20/AB20) | AD20: =IF(AC20<$AC$15,$AC$15-AC20)*'1-Contractblad dag'!$I$23*AB20 -> 0
D21: =D18 -> 0.58 | E21: =D21*C21*B21*(100%+$G$3)*(100%+$G$4)*(100%+$G$5)*(100%+$G$6)*(100%+$G$7)*(100%+$G$8)*(100%+$G$9) -> 0 | I21: =I18 -> 0.6 | J21: =I21*H21*G21*(100%+$G$3)*(100%+$G$4)*(100%+$G$5)*(100%+$G$6)*(100%+$G$7)*(100%+$G$8)*(100%+$G$9) -> 0 | N21: =N18 -> 0.52 | O21: =N21*M21*L21*(100%+$G$3)*(100%+$G$4)*(100%+$G$5)*(100%+$G$6)*(100%+$G$7)*(100%+$G$8)*(100%+$G$9) -> 0 | S21: 0 | T21: =S21*R21*Q21*(100%+$G$3)*(100%+$G$4)*(100%+$G$5)*(100%+$G$6)*(100%+$G$7)*(100%+$G$8)*(100%+$G$9) -> 0 | X21: 0 | Y21: =X21*W21*(100%+$G$3)*(100%+$G$4)*(100%+$G$5)*(100%+$G$6)*(100%+$G$7)*(100%+$G$8)*(100%+$G$9) -> 0 | AA21: =((SUMIF('3-Basis ruimtestaat'!C:C,A21,uren_mavr))+(SUMIF('3-Basis ruimtestaat'!C:C,A21,uren_naloop))) -> 0 | AB21: 255 | AC21: =IF(AA21=0,"",AA21/AB21) | AD21: =IF(AC21<$AC$15,$AC$15-AC21)*'1-Contractblad dag'!$I$23*AB21 -> 0
B23: =SUM(B16:B22) -> 273.71 | E23: =SUM(E16:E22) -> 0 | G23: =SUM(G16:G22) -> 262.11 | I23: =SUM(I16:I22) -> 3.6 | J23: =SUM(J16:J22) -> 0 | L23: =SUM(L16:L22) -> 198.8 | N23: =SUM(N16:N22) -> 3.12 | O23: =SUM(O16:O22) -> 0 | Q23: =SUM(Q16:Q22) -> 0 | T23: =SUM(T16:T22) -> 0 | V23: =SUM(V16:V22) -> 0 | Y23: =SUM(Y16:Y22) -> 0 | AA23: =SUM(AA16:AA21) -> 3656.0935 | AC23: =SUM(AC16:AC21) -> 18.280468 | AD23: =SUM(AD16:AD21) -> 0

Sheet 9-Additionele kosten
A3: ='1-Contractblad dag'!A3 -> Naam opdrachtgever | B3: ='1-Contractblad dag'!B3 -> Herman Broerenstichting
A4: ='1-Contractblad dag'!A4 -> Calculatie onderdeel | B4: Afroepprijzen | G4: prijsverhoging
A5: ='1-Contractblad dag'!A5 -> Gebouw/plaats | B5: ='1-Contractblad dag'!B5 -> Delft | G5: ='1-Contractblad dag'!G8 -> 0 | H5: niets invullen
A6: ='1-Contractblad dag'!A6 -> Besteknummer | B6: ='1-Contractblad dag'!B6 -> Calculatie Herman Broerenstichting -2024.01 | G6: ='1-Contractblad dag'!G9 -> 0 | H6: niets invullen
A7: ='1-Contractblad dag'!A7 -> Naam leverancier | B7: ='1-Contractblad dag'!B7 -> Exploitatie calculatie | G7: ='1-Contractblad dag'!G10 -> 0 | H7: niets invullen
A8: ='1-Contractblad dag'!A8 -> Prijspeil | B8: ='1-Contractblad dag'!B8 -> 45473 | G8: ='1-Contractblad dag'!G11 -> 0 | H8: niets invullen
A9: ='1-Contractblad dag'!A9 -> Bijzonderheden | B9: Uitvoering normale werktijden: maandag t/m vrijdag [06.00 en 21.30 uur] | G9: ='1-Contractblad dag'!G12 -> 0 | H9: niets invullen
G10: ='1-Contractblad dag'!G13 -> 0 | H10: niets invullen
G11: ='1-Contractblad dag'!G14 -> 0 | H11: niets invullen
A12: Prijsvorming Afroep werkzaamheden
C14: Prijs p/m2 of per stuk excl. Btw
A15: Activiteit | B15: Per m2/stuk/keer | C15: prijs p/m2/stuk/keer | D15: frequentie | E15: tarief | F15: Totaal
A16: Lino-/marmoleum strippen en conserveren | B16: m2 | D16: 1 | F16: =E16*D16 -> 0
A17: Lino-/marmoleum sprayen | B17: m2 | D17: 1 | F17: =E17*D17 -> 0
A18: Steen/PVC schrobben | B18: m2 | D18: 1 | F18: =E18*D18 -> 0
A19: Tapijt sproeiextraheren | B19: m2 | D19: 1 | F19: =E19*D19 -> 0
A20: Tapijt poederreiniging | B20: m2 | D20: 1 | F20: =E20*D20 -> 0
A21: Tapijt koolzuurreinging | B21: m2 | D21: 1 | F21: =E21*D21 -> 0
A22: Stoelen stoffering koolzuurreiniging | B22: per stoel | D22: 4 | F22: =E22*D22 -> 0
A23: Stoelen stoffering shamponeren | B23: per stoel | D23: 2 | F23: =E23*D23 -> 0
A24: Stoelen stoffering poederreinging | B24: per stoel | D24: 1 | F24: =E24*D24 -> 0
A25: Reinigen koelkast inclusief in- en uitruimen | B25: per koelkast | D25: 1 | F25: =E25*D25 -> 0
A26: Vitrage wassen | B26: m2 | D26: 1 | F26: =E26*D26 -> 0
A27: Overgordijnen wassen | B27: m2 | D27: 1 | F27: =E27*D27 -> 0
... A30: Verticale lammellen nat reinigen | B30: m2 | D30: 1 | F30: =E30*D30 -> 0
D31: 1 | F31: =E31*D31 -> 0
D32: 1 | F32: =E32*D32 -> 0
D33: 1 | F33: =E33*D33 -> 0
D34: 1 | F34: =E34*D34 -> 0
D35: 1 | F35: =E35*D35 -> 0
D36: 1 | F36: =E36*D36 -> 0
F37: =E37*D37 -> 0
F38: =E38*D38 -> 0
F39: =E39*D39 -> 0
F40: =E40*D40 -> 0
F41: =E41*D41 -> 0
F42: =E42*D42 -> 0
F43: =E43*D43 -> 0
F44: =E44*D44 -> 0
F45: =E45*D45 -> 0
F46: =E46*D46 -> 0
F47: =E47*D47 -> 0
A49: Opmerking: | F49: =SUM(F16:F48)*(100%+$G$5)*(100%+$G$6)*(100%+$G$7)*(100%+$G$8)*(100%+$G$9)*(100%+$G$10)*(100%+$G$11) -> 0
A50: Alle prijzen zijn inclusief materialen en middelen, voorrijkosten en overige bijkomende kosten.
A51: Alle prijzen zijn exclusief btw
A52: Uitvoering op normale werktijden: maandag t/m vrijdag [06.00 en 21.30 uur]
