Workbook
Name _Fill: #REF!
Name _Fill: #REF!
Name _Fill: #REF!
Name _Fill: #REF!
Name _Key1: #REF!
Name _Key1: #REF!
Name _Key1: #REF!
Name _Key1: #REF!
Name afroep: '[4]9-Additionele kosten'!$A$17:$G$39
Name berichtok: #N/A
Name berichtoke: #N/A
Name berichtoke1: #N/A
Name Berkt: #N/A
Name code: '2-Kengetal'!$A$10:$A$201
Name data: #REF!
Name einde: #N/A
Name Fred: #REF!
Name Gan_R: #N/A
Name gebouw: #REF!
Name glas: #N/A
Name glas: '8-Glasbewassing'!$A$14:$AD$21
Name glassoort: '[7]10-Glasstaat'!$I$2:$J$14
Name Glassoort2: '[8]10-Glasstaat'!$I$2:$J$14
Name han: #REF!
Name han: #REF!
Name han: #REF!
Name han: #REF!
Name hjkjhkj: [9]Totaaloverzicht!$A$10:$L$37
Name KengCode: '[10]2-Kengetal'!$A$9:$M$56
Name Kengetal: '[7]4-Kengetal'!$A$12:$S$64
Name Kengetal: '2-Kengetal'!$A$9:$M$201
Name kengetal2: '[4]2-Kengetal'!$A$10:$A$72
Name Kentalnvb: [11]Kengetal!$A$10:$H$58
Name Lijn: '[10]3-Basis ruimtestaat'!$C:$C
Name lll: '[12]3-Basis ruimtestaat'!$O:$O
Name locatie: '8-Glasbewassing'!$A$16:$A$21
Name mavr: '[13]3-Basis ruimtestaat'!$M:$M
Name naloop: '[13]3-Basis ruimtestaat'!$N:$N
Name objecten: #REF!
Name taak: '[14]3-Basis ruimtestaat'!$F:$F
Name toezicht: #REF!
Name uren_mavr: '3-Basis ruimtestaat'!$L:$L
Name uren_naloop: '3-Basis ruimtestaat'!$M:$M
Name uren_naloopzazofe: '3-Basis ruimtestaat'!$O:$O
Name uren_zazofe: '[15]4-Basis ruimtestaat'!$O:$O
Name uren_zazofe: '3-Basis ruimtestaat'!$N:$N
Name uurt: [16]Uurtarieven!$F$57
Name VloerK: '[17]Basis ruimtestaat'!$W:$W
Name VloerM: '[17]Basis ruimtestaat'!$K:$V

Sheet 1-Contractblad dag
A1: Invoervelden
A3: Naam opdrachtgever | B3: Herman Broerenstichting
A4: Calculatie onderdeel | B4: Contractblad jaarprijs Totaal
A5: Gebouw/plaats | B5: Delft | F5: Berekening prijsverhogingen:
A6: Besteknummer | B6: Calculatie Herman Broerenstichting -2024.01
A7: Naam leverancier | B7: Exploitatie calculatie | F7: Jaar | G7: %
A8: Prijspeil | B8: 45473 | F8: 45658 | G8: 0
A9: Bijzonderheden | B9: Vertrouwelijk | F9: 46023 | G9: 0
F10: 46388 | G10: 0
A11: Jaarprijs schoonmaak excl. btw | C11: =G23+G28+G34+G39+G46+G51 -> 122981.49 | F11: 46753 | G11: 0
A12: Machine kosten excl. btw | C12: =G53 -> 0 | F12: 47119 | G12: 0
A13: Kleinschaligheid toeslag excl. btw | C13: ='8-Glasbewassing'!AD23*(100%+G$8)*(100%+G$9)*(100%+G$10)*(100%+G$11)*(100%+G$12)*(100%+G$13)*(100%+G$14) -> 0 | F13: 47484 | G13: 0
A14: Jaarprijs glas excl. btw | C14: =G76 -> 0 | F14: 47849 | G14: 0
B15: Totaal | C15: =SUM(C11:C14) -> 122981.49
A17: JAARPRIJS SCHOONMAAK
E19: Aantal uren per jaar | F19: Tarief | G19: Prijs per jaar
A20: PRODUCTIE-UREN MAANDAG-VRIJDAG
A21: Gemiddeld uurloon productie
A22: 06:00-21:30 uur maan-/vrijdag | E22: =(SUM(uren_mavr)+SUM(uren_naloop)) -> 3656.0935 | F22: ='5-Opbouw uurtarief productie'!E48*(100%+G$8)*(100%+G$9)*(100%+G$10)*(100%+G$11)*(100%+G$12)*(100%+G$13)*(100%+G$14) -> 30.785294 | G22: =F22*E22 -> 112553.92
G23: =SUM(G21:G22) -> 112553.92
A25: TOEZICHT-UREN MAANDAG-VRIJDAG | C25: Uren per dag | D25: Aantal dagen per jaar | E25: Percentage | F25: Tarief | G25: Prijs per jaar
A26: Gemiddeld uurloon toezicht | I26: Uren per jaar hier invullen
A27: 06:00-21:30 uur maan-/vrijdag | C27: =I27/D27 -> 1.1470097 | D27: 255 | E27: =IF(E22=0,"",I27/E22) -> 0.08 | F27: ='6-Opbouw uurtarief toezicht'!E48*(100%+G$8)*(100%+G$9)*(100%+G$10)*(100%+G$11)*(100%+G$12)*(100%+G$13)*(100%+G$14) -> 35.651355 | G27: =I27*F27 -> 10427.575 | I27: =E22*0.08 -> 292.48748
G28: =SUM(G27:G27) -> 10427.575
E30: Aantal uren per jaar | F30: Tarief | G30: Prijs per jaar
A31: PRODUCTIE-UREN zater- en zondagen
A32: Gemiddeld uurloon productie
A33: 06:00-21:30 uur zater- en zondagen | E33: =(SUM(uren_zazofe))/110*101 -> 0 | F33: ='5-Opbouw uurtarief productie'!E52*(100%+G$8)*(100%+G$9)*(100%+G$10)*(100%+G$11)*(100%+G$12)*(100%+G$13)*(100%+G$14) -> 44.492942 | G33: =F33*E33 -> 0
G34: =SUM(G32:G33) -> 0
A36: TOEZICHT-UREN zater- en zondagen | C36: Uren per dag | D36: Aantal dagen per jaar | E36: Percentage | F36: Tarief | G36: Prijs per jaar
A37: Gemiddeld uurloon toezicht | I37: Uren per jaar hier invullen
A38: 06:00-21:30 uur zater- en zondagen | C38: =I38/D38 -> 0 | D38: 26 | E38: =IF(E33=0,"",I38/E33) | F38: ='6-Opbouw uurtarief toezicht'!E52*(100%+G$8)*(100%+G$9)*(100%+G$10)*(100%+G$11)*(100%+G$12)*(100%+G$13)*(100%+G$14) -> 51.702033 | G38: =I38*F38 -> 0 | I38: =E33*0.08 -> 0
G39: =SUM(G37:G38) -> 0
E42: Aantal uren per jaar | F42: Tarief | G42: Prijs per jaar
A43: PRODUCTIE-UREN feestdagen
A44: Gemiddeld uurloon toezicht
A45: 06:00-21:30 uur feestdagen | E45: =(SUM(uren_zazofe))/110*9 -> 0 | F45: ='5-Opbouw uurtarief productie'!E54*(100%+G$8)*(100%+G$9)*(100%+G$10)*(100%+G$11)*(100%+G$12)*(100%+G$13)*(100%+G$14) -> 71.908236 | G45: =F45*E45 -> 0
G46: =SUM(G44:G45) -> 0
A48: TOEZICHT-UREN feestdagen | C48: Uren per dag | D48: Aantal dagen per jaar | E48: Percentage | F48: Tarief | G48: Prijs per jaar
A49: Gemiddeld uurloon toezicht | I49: Uren per jaar hier invullen
...

Sheet 1-Contractblad locatie
A2: Naam opdrachtgever | B2: ='1-Contractblad dag'!B3 -> Herman Broerenstichting
A3: Calculatie onderdeel | B3: Contractblad jaarprijs Totaal per locatie
A4: Gebouw/plaats | B4: ='1-Contractblad dag'!B5 -> Delft
A5: Besteknummer | B5: ='1-Contractblad dag'!B6 -> Calculatie Herman Broerenstichting -2024.01 | E5: Locatie:
A6: Naam leverancier | B6: ='1-Contractblad dag'!B7 -> Exploitatie calculatie | E6: Verhagenplein 9 (SO/VSO Naaldwijk)
A7: Prijspeil | B7: ='1-Contractblad dag'!B8 -> 45473
A8: Bijzonderheden | B8: Vertrouwelijk
A10: Jaarprijs schoonmaak excl. btw | C10: =G22+G27+G33+G38+G44+G49 -> 39057.417
A11: Machine kosten excl. btw | C11: =G51 -> 0
A12: Kleinschaligheid toeslag | C12: =VLOOKUP(E$6,glas,30,TRUE) -> 0
A13: Jaarprijs glas excl. btw | C13: =G71 -> 0
B14: Totaal | C14: =SUM(C10:C13) -> 39057.417
A16: JAARPRIJS SCHOONMAAK
E18: Aantal uren per jaar | F18: Tarief | G18: Prijs per jaar
A19: PRODUCTIE-UREN MAANDAG-VRIJDAG
A20: Gemiddeld uurloon productie
A21: 06:00-21:30 uur maan-/vrijdag | E21: =((SUMIF('3-Basis ruimtestaat'!C:C,E$6,uren_mavr))+(SUMIF('3-Basis ruimtestaat'!C:C,E$6,uren_naloop))) -> 1161.1306 | F21: ='1-Contractblad dag'!F22 -> 30.785294 | G21: =F21*E21 -> 35745.746
G22: =SUM(G20:G21) -> 35745.746
A24: TOEZICHT-UREN MAANDAG-VRIJDAG | E24: Aantal uren per jaar | F24: Tarief | G24: Prijs per jaar
A25: Gemiddeld uurloon toezicht
A26: 06:00-21:30 uur maan-/vrijdag | E26: =E21*'1-Contractblad dag'!E27 -> 92.890445 | F26: ='1-Contractblad dag'!F27 -> 35.651355 | G26: =F26*E26 -> 3311.6703
G27: =SUM(G26:G26) -> 3311.6703
E29: Aantal uren per jaar | F29: Tarief | G29: Prijs per jaar
A30: PRODUCTIE-UREN zater- en zondagen
A31: Gemiddeld uurloon productie
A32: 06:00-21:30 uur zater- en zondagen | E32: =((SUMIF('3-Basis ruimtestaat'!C:C,E$6,uren_zazofe)))/110*101 -> 0 | F32: ='1-Contractblad dag'!F33 -> 44.492942 | G32: =F32*E32 -> 0
G33: =SUM(G31:G32) -> 0
A35: TOEZICHT-UREN zater- en zondagen | E35: Aantal uren per jaar | F35: Tarief | G35: Prijs per jaar
A36: Gemiddeld uurloon toezicht
A37: 06:00-21:30 uur zater- en zondagen | E37: =IF(E32=0,"",'1-Contractblad dag'!E38*'1-Contractblad locatie'!E32) | F37: ='1-Contractblad dag'!F38 -> 51.702033 | G37: =IF(E32=0,"",F37*E37)
G38: =SUM(G36:G37) -> 0
E40: Aantal uren per jaar | F40: Tarief | G40: Prijs per jaar
A41: PRODUCTIE-UREN feestdagen
A42: Gemiddeld uurloon productie
A43: 06:00-21:30 uur feestdagen | E43: =((SUMIF('3-Basis ruimtestaat'!C:C,E$6,uren_zazofe)))/110*9 -> 0 | F43: ='1-Contractblad dag'!F45 -> 71.908236 | G43: =IF(E43=0,"",F43*E43)
G44: =SUM(G42:G43) -> 0
A46: TOEZICHT-UREN feestdagen | E46: Aantal uren per jaar | F46: Tarief | G46: Prijs per jaar
A47: Gemiddeld uurloon toezicht
A48: 06:00-21:30 uur feestdagen | E48: =IF(E43=0,"",'1-Contractblad dag'!E50*'1-Contractblad locatie'!E43) | F48: ='1-Contractblad dag'!F50 -> 83.803389 | G48: =IF(E43=0,"",F48*E48)
E49: =SUM(E47:E48) -> 0 | G49: =SUM(G47:G48) -> 0
...

Sheet 2-Kengetal
A2: ='1-Contractblad dag'!A3 -> Naam opdrachtgever | B2: ='1-Contractblad dag'!B3 -> Herman Broerenstichting
A3: ='1-Contractblad dag'!A4 -> Calculatie onderdeel | B3: Kengetallenoverzicht schoonmaakonderhoud
A4: ='1-Contractblad dag'!A5 -> Gebouw/plaats | B4: ='1-Contractblad dag'!B5 -> Delft | I4: Gewogenprestatie | J4: ='3-Basis ruimtestaat'!AA204 -> 272.4311
A5: ='1-Contractblad dag'!A6 -> Besteknummer | B5: ='1-Contractblad dag'!B6 -> Calculatie Herman Broerenstichting -2024.01
A6: ='1-Contractblad dag'!A7 -> Naam leverancier | B6: ='1-Contractblad dag'!B7 -> Exploitatie calculatie
A8: PROGR.CODE | B8: FREQ. PER JAAR | C8: RUIMTECATEGORIE | D8: FREQ. OMSCHRIJVING | E8: KENGETAL BASIS-BEURT | F8: KENGETAL NALOOP-BEURT | G8: KENGETAL ZA ZO FSTDG | H8: KENGETAL NALOOP-BEURT ZA ZO FSTDG | I8: PRESTATIE NORM | J8: M2 VLOER | K8: VERHOUDING VLOEROPP. | L8: OPMERKING | M8: VSR | O8: Basis kengetal
O9: 1.4 | P9: hier evt aanpassen
A10: 1010 | B10: 10 | C10: Administratieve ruimten | D10: 10 x per jaar | E10: =E26/255*B10*1.5 -> 0.044470588 | I10: =IF(E10=0,0,B10/(E10+F10+G10+H10)) -> 224.86772 | J10: =SUMIF('3-Basis ruimtestaat'!J:J,A10,'3-Basis ruimtestaat'!I:I) -> 0 | K10: =IF(J10=0,"",J10/$J$202) | M10: B
A11: 1012 | B11: 12 | C11: Administratieve ruimten | D11: 12 x per jaar | E11: =E26/255*B11*1.5 -> 0.053364706 | I11: =IF(E11=0,0,B11/(E11+F11+G11+H11)) -> 224.86772 | J11: =SUMIF('3-Basis ruimtestaat'!J:J,A11,'3-Basis ruimtestaat'!I:I) -> 0 | K11: =IF(J11=0,"",J11/$J$202) | M11: B
A12: 1040 | B12: 40 | C12: Administratieve ruimten | D12: 1 x per week (40 weken p/j) | E12: =E26/255*B12*1.3 -> 0.15416471 | I12: =IF(E12=0,0,B12/(E12+F12+G12+H12)) -> 259.46276 | J12: =SUMIF('3-Basis ruimtestaat'!J:J,A12,'3-Basis ruimtestaat'!I:I) -> 0 | K12: =IF(J12=0,"",J12/$J$202) | M12: B
A13: 1052 | B13: 52 | C13: Administratieve ruimten | D13: 1 x per week | E13: =E26/255*B13*1.4 -> 0.21583059 | I13: =IF(E13=0,0,B13/(E13+F13+G13+H13)) -> 240.92971 | J13: =SUMIF('3-Basis ruimtestaat'!J:J,A13,'3-Basis ruimtestaat'!I:I) -> 0 | K13: =IF(J13=0,"",J13/$J$202) | M13: B
A14: 1080 | B14: 80 | C14: Administratieve ruimten | D14: 2 x per week (40 weken p/j) | E14: =E26/255*B14*1.2 -> 0.28461176 | I14: =IF(E14=0,0,B14/(E14+F14+G14+H14)) -> 281.08466 | J14: =SUMIF('3-Basis ruimtestaat'!J:J,A14,'3-Basis ruimtestaat'!I:I) -> 0 | K14: =IF(J14=0,"",J14/$J$202) | M14: B
A15: 1104 | B15: 104 | C15: Administratieve ruimten | D15: 2 x per week | E15: =E26/255*B15*1.2 -> 0.36999529 | I15: =IF(E15=0,0,B15/(E15+F15+G15+H15)) -> 281.08466 | J15: =SUMIF('3-Basis ruimtestaat'!J:J,A15,'3-Basis ruimtestaat'!I:I) -> 0 | K15: =IF(J15=0,"",J15/$J$202) | M15: B
A16: 1120 | B16: 120 | C16: Administratieve ruimten | D16: 3 x per week (40 weken p/j) | E16: =E26/255*B16*1.2 -> 0.42691765 | I16: =IF(E16=0,0,B16/(E16+F16+G16+H16)) -> 281.08466 | J16: =SUMIF('3-Basis ruimtestaat'!J:J,A16,'3-Basis ruimtestaat'!I:I) -> 0 | K16: =IF(J16=0,"",J16/$J$202) | M16: B
A17: 1130 | B17: 130 | C17: Administratieve ruimten | D17: om de dag | E17: =E26/255*B17*1.1 -> 0.42395294 | I17: =IF(E17=0,0,B17/(E17+F17+G17+H17)) -> 306.63781 | J17: =SUMIF('3-Basis ruimtestaat'!J:J,A17,'3-Basis ruimtestaat'!I:I) -> 0 | K17: =IF(J17=0,"",J17/$J$202) | M17: B
A18: 1135 | B18: 135 | C18: Administratieve ruimten | D18: 3 x p/w 45 weken p/j | E18: =E26/255*B18*1.1 -> 0.44025882 | I18: =IF(E18=0,0,B18/(E18+F18+G18+H18)) -> 306.63781 | J18: =SUMIF('3-Basis ruimtestaat'!J:J,A18,'3-Basis ruimtestaat'!I:I) -> 0 | K18: =IF(J18=0,"",J18/$J$202) | M18: B
A19: 1156 | B19: 156 | C19: Administratieve ruimten | D19: 3 x per week | E19: =E26/255*B19*1.1 -> 0.50874353 | I19: =IF(E19=0,0,B19/(E19+F19+G19+H19)) -> 306.63781 | J19: =SUMIF('3-Basis ruimtestaat'!J:J,A19,'3-Basis ruimtestaat'!I:I) -> 0 | K19: =IF(J19=0,"",J19/$J$202) | M19: B
A20: 1160 | B20: 160 | C20: Administratieve ruimten | D20: 4 x per week (40 weken p/j) | E20: =E26/255*B20 -> 0.47435294 | I20: =IF(E20=0,0,B20/(E20+F20+G20+H20)) -> 337.30159 | J20: =SUMIF('3-Basis ruimtestaat'!J:J,A20,'3-Basis ruimtestaat'!I:I) -> 0 | K20: =IF(J20=0,"",J20/$J$202) | M20: B
A21: 1200 | B21: 200 | C21: Administratieve ruimten | D21: 5 x per week (40 weken p/j) | E21: =E26/255*B21 -> 0.59294118 | I21: =IF(E21=0,0,B21/(E21+F21+G21+H21)) -> 337.30159 | J21: =SUMIF('3-Basis ruimtestaat'!J:J,A21,'3-Basis ruimtestaat'!I:I) -> 481.16 | K21: =IF(J21=0,"",J21/$J$202) -> 0.093511016 | M21: B
A22: 1206 | B22: 206 | C22: Administratieve ruimten | D22: 5 x per week (40 weken p/j) + 6 dagen | E22: =E26/255*B22 -> 0.61072941 | I22: =IF(E22=0,0,B22/(E22+F22+G22+H22)) -> 337.30159 | J22: =SUMIF('3-Basis ruimtestaat'!J:J,A22,'3-Basis ruimtestaat'!I:I) -> 128.26 | K22: =IF(J22=0,"",J22/$J$202) -> 0.024926683 | M22: B
A23: 1210 | B23: 210 | C23: Administratieve ruimten | D23: 5 x per week (42 weken p/j) | E23: =E26/255*B23 -> 0.62258824 | I23: =IF(E23=0,0,B23/(E23+F23+G23+H23)) -> 337.30159 | J23: =SUMIF('3-Basis ruimtestaat'!J:J,A23,'3-Basis ruimtestaat'!I:I) -> 0 | K23: =IF(J23=0,"",J23/$J$202) | M23: B
A24: 1230 | B24: 230 | C24: Administratieve ruimten | D24: 5 x per week (46 weken p/j) | E24: =E26/255*B24 -> 0.68188235 | I24: =IF(E24=0,0,B24/(E24+F24+G24+H24)) -> 337.30159 | J24: =SUMIF('3-Basis ruimtestaat'!J:J,A24,'3-Basis ruimtestaat'!I:I) -> 0 | K24: =IF(J24=0,"",J24/$J$202) | M24: B
A25: 1245 | B25: 245 | C25: Administratieve ruimten | D25: 5 x per week (49 weken p/j) | E25: =E26/255*B25 -> 0.72635294 | I25: =IF(E25=0,0,B25/(E25+F25+G25+H25)) -> 337.30159 | J25: =SUMIF('3-Basis ruimtestaat'!J:J,A25,'3-Basis ruimtestaat'!I:I) -> 0 | K25: =IF(J25=0,"",J25/$J$202) | M25: B
A26: 1255 | B26: 255 | C26: Administratieve ruimten | D26: 5 x per week | E26: =O26*$O$9 -> 0.756 | I26: =IF(E26=0,0,B26/(E26+F26+G26+H26)) -> 337.30159 | J26: =SUMIF('3-Basis ruimtestaat'!J:J,A26,'3-Basis ruimtestaat'!I:I) -> 0 | K26: =IF(J26=0,"",J26/$J$202) | M26: B | O26: 0.54
A27: 1365 | B27: 365 | C27: Administratieve ruimten | D27: 7 dagen per week | E27: =E26 -> 0.756 | I27: =IF(E27=0,0,B27/(E27+F27+G27+H27)) -> 482.80423 | J27: =SUMIF('3-Basis ruimtestaat'!J:J,A27,'3-Basis ruimtestaat'!I:I) -> 0 | K27: =IF(J27=0,"",J27/$J$202) | M27: B
A28: 2010 | B28: 10 | C28: Sanitaire ruimten | D28: 10 x per jaar | E28: =E43/255*B28*1.5 -> 0.26418824 | I28: =IF(E28=0,0,B28/(E28+F28+G28+H28)) -> 37.851799 | J28: =SUMIF('3-Basis ruimtestaat'!J:J,A28,'3-Basis ruimtestaat'!I:I) -> 0 | K28: =IF(J28=0,"",J28/$J$202) | M28: S
A29: 2012 | B29: 12 | C29: Sanitaire ruimten | D29: 12 x per jaar | E29: =E43/255*B29*1.5 -> 0.31702588 | I29: =IF(E29=0,0,B29/(E29+F29+G29+H29)) -> 37.851799 | J29: =SUMIF('3-Basis ruimtestaat'!J:J,A29,'3-Basis ruimtestaat'!I:I) -> 0 | K29: =IF(J29=0,"",J29/$J$202) | M29: S
A30: 2040 | B30: 40 | C30: Sanitaire ruimten | D30: 1 x per week (40 weken p/j) | E30: =E43/255*B30*1.3 -> 0.91585255 | I30: =IF(E30=0,0,B30/(E30+F30+G30+H30)) -> 43.675153 | J30: =SUMIF('3-Basis ruimtestaat'!J:J,A30,'3-Basis ruimtestaat'!I:I) -> 0 | K30: =IF(J30=0,"",J30/$J$202) | M30: S
A31: 2052 | B31: 52 | C31: Sanitaire ruimten | D31: 1 x per week | E31: =E43/255*B31*1.4 -> 1.2821936 | I31: =IF(E31=0,0,B31/(E31+F31+G31+H31)) -> 40.555499 | J31: =SUMIF('3-Basis ruimtestaat'!J:J,A31,'3-Basis ruimtestaat'!I:I) -> 0 | K31: =IF(J31=0,"",J31/$J$202) | M31: S
A32: 2080 | B32: 80 | C32: Sanitaire ruimten | D32: 2 x per week (40 weken p/j) | E32: =E43/255*B32*1.2 -> 1.6908047 | I32: =IF(E32=0,0,B32/(E32+F32+G32+H32)) -> 47.314749 | J32: =SUMIF('3-Basis ruimtestaat'!J:J,A32,'3-Basis ruimtestaat'!I:I) -> 0 | K32: =IF(J32=0,"",J32/$J$202) | M32: S
A33: 2104 | B33: 104 | C33: Sanitaire ruimten | D33: 2 x per week | E33: =E43/255*B33*1.2 -> 2.1980461 | I33: =IF(E33=0,0,B33/(E33+F33+G33+H33)) -> 47.314749 | J33: =SUMIF('3-Basis ruimtestaat'!J:J,A33,'3-Basis ruimtestaat'!I:I) -> 0 | K33: =IF(J33=0,"",J33/$J$202) | M33: S
A34: 2120 | B34: 120 | C34: Sanitaire ruimten | D34: 3 x per week (40 weken p/j) | E34: =E43/255*B34*1.2 -> 2.5362071 | I34: =IF(E34=0,0,B34/(E34+F34+G34+H34)) -> 47.314749 | J34: =SUMIF('3-Basis ruimtestaat'!J:J,A34,'3-Basis ruimtestaat'!I:I) -> 0 | K34: =IF(J34=0,"",J34/$J$202) | M34: S
A35: 2130 | B35: 130 | C35: Sanitaire ruimten | D35: om de dag | E35: =E43/255*B35*1.1 -> 2.5185945 | I35: =IF(E35=0,0,B35/(E35+F35+G35+H35)) -> 51.61609 | J35: =SUMIF('3-Basis ruimtestaat'!J:J,A35,'3-Basis ruimtestaat'!I:I) -> 0 | K35: =IF(J35=0,"",J35/$J$202) | M35: S
A36: 2156 | B36: 156 | C36: Sanitaire ruimten | D36: 3 x per week | E36: =E43/255*B36*1.1 -> 3.0223134 | I36: =IF(E36=0,0,B36/(E36+F36+G36+H36)) -> 51.61609 | J36: =SUMIF('3-Basis ruimtestaat'!J:J,A36,'3-Basis ruimtestaat'!I:I) -> 0 | K36: =IF(J36=0,"",J36/$J$202) | M36: S
A37: 2160 | B37: 160 | C37: Sanitaire ruimten | D37: 4 x per week (40 weken p/j) | E37: =E43/255*B37 -> 2.8180078 | I37: =IF(E37=0,0,B37/(E37+F37+G37+H37)) -> 56.777699 | J37: =SUMIF('3-Basis ruimtestaat'!J:J,A37,'3-Basis ruimtestaat'!I:I) -> 0 | K37: =IF(J37=0,"",J37/$J$202) | M37: S
A38: 2200 | B38: 200 | C38: Sanitaire ruimten | D38: 5 x per week (40 weken p/j) | E38: =E43/255*B38 -> 3.5225098 | I38: =IF(E38=0,0,B38/(E38+F38+G38+H38)) -> 56.777699 | J38: =SUMIF('3-Basis ruimtestaat'!J:J,A38,'3-Basis ruimtestaat'!I:I) -> 188.78 | K38: =IF(J38=0,"",J38/$J$202) -> 0.03668844 | M38: S
A39: 2206 | B39: 206 | C39: Sanitaire ruimten | D39: 5 x per week (40 weken p/j) + 6 dagen | E39: =E43/255*B39 -> 3.6281851 | I39: =IF(E39=0,0,B39/(E39+F39+G39+H39)) -> 56.777699 | J39: =SUMIF('3-Basis ruimtestaat'!J:J,A39,'3-Basis ruimtestaat'!I:I) -> 9.64 | K39: =IF(J39=0,"",J39/$J$202) -> 0.0018734853 | M39: S
A40: 2210 | B40: 210 | C40: Sanitaire ruimten | D40: 5 x per week (42 weken p/j) | E40: =E43/255*B40 -> 3.6986353 | I40: =IF(E40=0,0,B40/(E40+F40+G40+H40)) -> 56.777699 | J40: =SUMIF('3-Basis ruimtestaat'!J:J,A40,'3-Basis ruimtestaat'!I:I) -> 0 | K40: =IF(J40=0,"",J40/$J$202) | M40: S
A41: 2230 | B41: 230 | C41: Sanitaire ruimten | D41: 5 x per week (46 weken p/j) | E41: =E43/255*B41 -> 4.0508863 | I41: =IF(E41=0,0,B41/(E41+F41+G41+H41)) -> 56.777699 | J41: =SUMIF('3-Basis ruimtestaat'!J:J,A41,'3-Basis ruimtestaat'!I:I) -> 0 | K41: =IF(J41=0,"",J41/$J$202) | M41: S
A42: 2245 | B42: 245 | C42: Sanitaire ruimten | D42: 5 x per week (49 weken p/j) | E42: =E43/255*B42 -> 4.3150745 | I42: =IF(E42=0,0,B42/(E42+F42+G42+H42)) -> 56.777699 | J42: =SUMIF('3-Basis ruimtestaat'!J:J,A42,'3-Basis ruimtestaat'!I:I) -> 0 | K42: =IF(J42=0,"",J42/$J$202) | M42: S
...

Sheet 3-Basis ruimtestaat
A1: 1 | B1: INVOER VLELDEN
A2: 2
A3: 3 | B3: ='1-Contractblad dag'!A3 -> Naam opdrachtgever | C3: ='1-Contractblad dag'!B3 -> Herman Broerenstichting
A4: 4 | B4: ='1-Contractblad dag'!A4 -> Calculatie onderdeel | C4: Ruimtestaat
A5: 5 | B5: ='1-Contractblad dag'!A5 -> Gebouw/plaats | C5: ='1-Contractblad dag'!B5 -> Delft
A6: 6 | B6: ='1-Contractblad dag'!A6 -> Besteknummer | C6: ='1-Contractblad dag'!B6 -> Calculatie Herman Broerenstichting -2024.01
A7: 7 | B7: ='1-Contractblad dag'!A7 -> Naam leverancier | C7: ='1-Contractblad dag'!B7 -> Exploitatie calculatie
A8: 8
A9: 9 | B9: Plaats | C9: LOCATIE | D9: VERD. | E9: RUIMTE NR | F9: RUIMTE OMSCHRIJVING (OPDRACHTGEVER) | G9: RUIMTECATEGORIE | H9: VLOER SOORT | I9: M2 VLOER | J9: PROGR. CODE | K9: FREQ. NOTATIE | L9: UREN P/JR MA-VR | M9: UREN P/JR NALOOP MA/Vr | N9: UREN P/JR ZA ZO FSTDG | O9: UREN P/JR NALOOP ZA ZO FSTDG | P9: KEN-GETAL MA-VR | Q9: KEN-GETAL NALOOP | R9: KEN-GETAL ZA ZO FSTDG | S9: KEN-GETAL NALOOP ZA ZO FSTDG | T9: VSR CODE | U9: Corectie factor MA VR | V9: Corectie factor NL MA VR | W9: Corectie factor ZA ZO FSTDG | X9: Corectie factor NL ZA ZO FSTDG | Y9: Opmerking
A10: 10 | B10: Delft | C10: Clara van Sparwoudestraat 1 (VSO Delft) | D10: 0 | E10: V001 | F10: Tochthal | G10: Verkeersruimte | H10: Plavuis en mat | I10: 9.9 | J10: 6206 | K10: =SUM(IF(J10="",0,VLOOKUP(J10,Kengetal,2))) -> 206 | L10: =P10*I10*U10 -> 22.393412 | M10: =Q10*I10*V10 -> 0 | N10: =R10*I10*W10 -> 0 | O10: =S10*I10*X10 -> 0 | P10: =IF($J10="",0,VLOOKUP($J10,Kengetal,5,FALSE)) -> 2.2619608 | Q10: =IF($J10="",0,VLOOKUP($J10,Kengetal,6,FALSE)) -> 0 | R10: =IF($J10="",0,VLOOKUP($J10,Kengetal,7,FALSE)) -> 0 | S10: =IF($J10="",0,VLOOKUP($J10,Kengetal,8,FALSE)) -> 0 | T10: =IF(J10="","",VLOOKUP(J10,Kengetal,13,FALSE)) -> V | U10: 1 | V10: 1 | W10: 1 | X10: 1 | Z10: =I10*K10 -> 2039.4 | AA10: =L10+M10+N10+O10 -> 22.393412
A11: 11 | B11: Delft | C11: Clara van Sparwoudestraat 1 (VSO Delft) | D11: 0 | E11: V003 | F11: Hal en trap | G11: Verkeersruimte | H11: Plavuis/hout | I11: 76.69 | J11: 3206 | K11: =SUM(IF(J11="",0,VLOOKUP(J11,Kengetal,2))) -> 206 | L11: =P11*I11*U11 -> 34.06079 | M11: =Q11*I11*V11 -> 0 | N11: =R11*I11*W11 -> 0 | O11: =S11*I11*X11 -> 0 | P11: =IF($J11="",0,VLOOKUP($J11,Kengetal,5,FALSE)) -> 0.444136 | Q11: =IF($J11="",0,VLOOKUP($J11,Kengetal,6,FALSE)) -> 0 | R11: =IF($J11="",0,VLOOKUP($J11,Kengetal,7,FALSE)) -> 0 | S11: =IF($J11="",0,VLOOKUP($J11,Kengetal,8,FALSE)) -> 0 | T11: =IF(J11="","",VLOOKUP(J11,Kengetal,13,FALSE)) -> V | U11: 1 | V11: 1 | W11: 1 | X11: 1 | Z11: =I11*K11 -> 15798.14 | AA11: =L11+M11+N11+O11 -> 34.06079
A12: 12 | B12: Delft | C12: Clara van Sparwoudestraat 1 (VSO Delft) | D12: 0 | E12: B004 | F12: Receptie | G12: Bureaukamer | H12: Marmoleum | I12: 24.94 | J12: 1206 | K12: =SUM(IF(J12="",0,VLOOKUP(J12,Kengetal,2))) -> 206 | L12: =P12*I12*U12 -> 15.231592 | M12: =Q12*I12*V12 -> 0 | N12: =R12*I12*W12 -> 0 | O12: =S12*I12*X12 -> 0 | P12: =IF($J12="",0,VLOOKUP($J12,Kengetal,5,FALSE)) -> 0.61072941 | Q12: =IF($J12="",0,VLOOKUP($J12,Kengetal,6,FALSE)) -> 0 | R12: =IF($J12="",0,VLOOKUP($J12,Kengetal,7,FALSE)) -> 0 | S12: =IF($J12="",0,VLOOKUP($J12,Kengetal,8,FALSE)) -> 0 | T12: =IF(J12="","",VLOOKUP(J12,Kengetal,13,FALSE)) -> B | U12: 1 | V12: 1 | W12: 1 | X12: 1 | Z12: =I12*K12 -> 5137.64 | AA12: =L12+M12+N12+O12 -> 15.231592
A13: 13 | B13: Delft | C13: Clara van Sparwoudestraat 1 (VSO Delft) | D13: 0 | E13: B005 | F13: Locatiedirecteur | G13: Bureaukamer | H13: Marmoleum | I13: 15.34 | J13: 1200 | K13: =SUM(IF(J13="",0,VLOOKUP(J13,Kengetal,2))) -> 200 | L13: =P13*I13*U13 -> 9.0957176 | M13: =Q13*I13*V13 -> 0 | N13: =R13*I13*W13 -> 0 | O13: =S13*I13*X13 -> 0 | P13: =IF($J13="",0,VLOOKUP($J13,Kengetal,5,FALSE)) -> 0.59294118 | Q13: =IF($J13="",0,VLOOKUP($J13,Kengetal,6,FALSE)) -> 0 | R13: =IF($J13="",0,VLOOKUP($J13,Kengetal,7,FALSE)) -> 0 | S13: =IF($J13="",0,VLOOKUP($J13,Kengetal,8,FALSE)) -> 0 | T13: =IF(J13="","",VLOOKUP(J13,Kengetal,13,FALSE)) -> B | U13: 1 | V13: 1 | W13: 1 | X13: 1 | Z13: =I13*K13 -> 3068 | AA13: =L13+M13+N13+O13 -> 9.0957176
A14: 14 | B14: Delft | C14: Clara van Sparwoudestraat 1 (VSO Delft) | D14: 0 | E14: V006 | F14: Gang | G14: Verkeersruimte | H14: Marmoleum | I14: 98.85 | J14: 3200 | K14: =SUM(IF(J14="",0,VLOOKUP(J14,Kengetal,2))) -> 200 | L14: =P14*I14*U14 -> 40.5944 | M14: =Q14*I14*V14 -> 0 | N14: =R14*I14*W14 -> 0 | O14: =S14*I14*X14 -> 0 | P14: =IF($J14="",0,VLOOKUP($J14,Kengetal,5,FALSE)) -> 0.41066667 | Q14: =IF($J14="",0,VLOOKUP($J14,Kengetal,6,FALSE)) -> 0 | R14: =IF($J14="",0,VLOOKUP($J14,Kengetal,7,FALSE)) -> 0 | S14: =IF($J14="",0,VLOOKUP($J14,Kengetal,8,FALSE)) -> 0 | T14: =IF(J14="","",VLOOKUP(J14,Kengetal,13,FALSE)) -> V | U14: 1 | V14: 1 | W14: 1 | X14: 1 | Z14: =I14*K14 -> 19770 | AA14: =L14+M14+N14+O14 -> 40.5944
A15: 15 | B15: Delft | C15: Clara van Sparwoudestraat 1 (VSO Delft) | D15: 0 | E15: B007 | F15: Flexplekken | G15: Bureaukamer | H15: Marmoleum | I15: 25.33 | J15: 1206 | K15: =SUM(IF(J15="",0,VLOOKUP(J15,Kengetal,2))) -> 206 | L15: =P15*I15*U15 -> 15.469776 | M15: =Q15*I15*V15 -> 0 | N15: =R15*I15*W15 -> 0 | O15: =S15*I15*X15 -> 0 | P15: =IF($J15="",0,VLOOKUP($J15,Kengetal,5,FALSE)) -> 0.61072941 | Q15: =IF($J15="",0,VLOOKUP($J15,Kengetal,6,FALSE)) -> 0 | R15: =IF($J15="",0,VLOOKUP($J15,Kengetal,7,FALSE)) -> 0 | S15: =IF($J15="",0,VLOOKUP($J15,Kengetal,8,FALSE)) -> 0 | T15: =IF(J15="","",VLOOKUP(J15,Kengetal,13,FALSE)) -> B | U15: 1 | V15: 1 | W15: 1 | X15: 1 | Z15: =I15*K15 -> 5217.98 | AA15: =L15+M15+N15+O15 -> 15.469776
A16: 16 | B16: Delft | C16: Clara van Sparwoudestraat 1 (VSO Delft) | D16: 0 | E16: B008 | F16: Kantoor | G16: Bureaukamer | H16: Marmoleum | I16: 15.4 | J16: 1200 | K16: =SUM(IF(J16="",0,VLOOKUP(J16,Kengetal,2))) -> 200 | L16: =P16*I16*U16 -> 9.1312941 | M16: =Q16*I16*V16 -> 0 | N16: =R16*I16*W16 -> 0 | O16: =S16*I16*X16 -> 0 | P16: =IF($J16="",0,VLOOKUP($J16,Kengetal,5,FALSE)) -> 0.59294118 | Q16: =IF($J16="",0,VLOOKUP($J16,Kengetal,6,FALSE)) -> 0 | R16: =IF($J16="",0,VLOOKUP($J16,Kengetal,7,FALSE)) -> 0 | S16: =IF($J16="",0,VLOOKUP($J16,Kengetal,8,FALSE)) -> 0 | T16: =IF(J16="","",VLOOKUP(J16,Kengetal,13,FALSE)) -> B | U16: 1 | V16: 1 | W16: 1 | X16: 1 | Z16: =I16*K16 -> 3080 | AA16: =L16+M16+N16+O16 -> 9.1312941
A17: 17 | B17: Delft | C17: Clara van Sparwoudestraat 1 (VSO Delft) | D17: 0 | E17: B009 | F17: Team Orthotheek | G17: Bureaukamer | H17: Marmoleum | I17: 32.72 | J17: 1200 | K17: =SUM(IF(J17="",0,VLOOKUP(J17,Kengetal,2))) -> 200 | L17: =P17*I17*U17 -> 19.401035 | M17: =Q17*I17*V17 -> 0 | N17: =R17*I17*W17 -> 0 | O17: =S17*I17*X17 -> 0 | P17: =IF($J17="",0,VLOOKUP($J17,Kengetal,5,FALSE)) -> 0.59294118 | Q17: =IF($J17="",0,VLOOKUP($J17,Kengetal,6,FALSE)) -> 0 | R17: =IF($J17="",0,VLOOKUP($J17,Kengetal,7,FALSE)) -> 0 | S17: =IF($J17="",0,VLOOKUP($J17,Kengetal,8,FALSE)) -> 0 | T17: =IF(J17="","",VLOOKUP(J17,Kengetal,13,FALSE)) -> B | U17: 1 | V17: 1 | W17: 1 | X17: 1 | Z17: =I17*K17 -> 6544 | AA17: =L17+M17+N17+O17 -> 19.401035
A18: 20 | B18: Delft | C18: Clara van Sparwoudestraat 1 (VSO Delft) | D18: 0 | E18: B010 | F18: Spreekkamer | G18: Bureaukamer | H18: Marmoleum | I18: 14.85 | J18: 1200 | K18: =SUM(IF(J18="",0,VLOOKUP(J18,Kengetal,2))) -> 200 | L18: =P18*I18*U18 -> 8.8051765 | M18: =Q18*I18*V18 -> 0 | N18: =R18*I18*W18 -> 0 | O18: =S18*I18*X18 -> 0 | P18: =IF($J18="",0,VLOOKUP($J18,Kengetal,5,FALSE)) -> 0.59294118 | Q18: =IF($J18="",0,VLOOKUP($J18,Kengetal,6,FALSE)) -> 0 | R18: =IF($J18="",0,VLOOKUP($J18,Kengetal,7,FALSE)) -> 0 | S18: =IF($J18="",0,VLOOKUP($J18,Kengetal,8,FALSE)) -> 0 | T18: =IF(J18="","",VLOOKUP(J18,Kengetal,13,FALSE)) -> B | U18: 1 | V18: 1 | W18: 1 | X18: 1 | Z18: =I18*K18 -> 2970 | AA18: =L18+M18+N18+O18 -> 8.8051765
A19: 21 | B19: Delft | C19: Clara van Sparwoudestraat 1 (VSO Delft) | D19: 0 | E19: S011 | F19: Sanitair | G19: Sanitair | H19: Gietvloer | I19: 2.52 | J19: 2200 | K19: =SUM(IF(J19="",0,VLOOKUP(J19,Kengetal,2))) -> 200 | L19: =P19*I19*U19 -> 8.8767247 | M19: =Q19*I19*V19 -> 0 | N19: =R19*I19*W19 -> 0 | O19: =S19*I19*X19 -> 0 | P19: =IF($J19="",0,VLOOKUP($J19,Kengetal,5,FALSE)) -> 3.5225098 | Q19: =IF($J19="",0,VLOOKUP($J19,Kengetal,6,FALSE)) -> 0 | R19: =IF($J19="",0,VLOOKUP($J19,Kengetal,7,FALSE)) -> 0 | S19: =IF($J19="",0,VLOOKUP($J19,Kengetal,8,FALSE)) -> 0 | T19: =IF(J19="","",VLOOKUP(J19,Kengetal,13,FALSE)) -> S | U19: 1 | V19: 1 | W19: 1 | X19: 1 | Z19: =I19*K19 -> 504 | AA19: =L19+M19+N19+O19 -> 8.8767247
A20: 23 | B20: Delft | C20: Clara van Sparwoudestraat 1 (VSO Delft) | D20: 0 | E20: S012 | F20: Sanitair | G20: Sanitair | H20: Marmoleum | I20: 2.52 | J20: 2200 | K20: =SUM(IF(J20="",0,VLOOKUP(J20,Kengetal,2))) -> 200 | L20: =P20*I20*U20 -> 8.8767247 | M20: =Q20*I20*V20 -> 0 | N20: =R20*I20*W20 -> 0 | O20: =S20*I20*X20 -> 0 | P20: =IF($J20="",0,VLOOKUP($J20,Kengetal,5,FALSE)) -> 3.5225098 | Q20: =IF($J20="",0,VLOOKUP($J20,Kengetal,6,FALSE)) -> 0 | R20: =IF($J20="",0,VLOOKUP($J20,Kengetal,7,FALSE)) -> 0 | S20: =IF($J20="",0,VLOOKUP($J20,Kengetal,8,FALSE)) -> 0 | T20: =IF(J20="","",VLOOKUP(J20,Kengetal,13,FALSE)) -> S | U20: 1 | V20: 1 | W20: 1 | X20: 1 | Z20: =I20*K20 -> 504 | AA20: =L20+M20+N20+O20 -> 8.8767247
A21: 24 | B21: Delft | C21: Clara van Sparwoudestraat 1 (VSO Delft) | D21: 0 | E21: B013 | F21: Fac. Medewerker | G21: Bureaukamer | H21: Marmoleum | I21: 10.82 | J21: 1200 | K21: =SUM(IF(J21="",0,VLOOKUP(J21,Kengetal,2))) -> 200 | L21: =P21*I21*U21 -> 6.4156235 | M21: =Q21*I21*V21 -> 0 | N21: =R21*I21*W21 -> 0 | O21: =S21*I21*X21 -> 0 | P21: =IF($J21="",0,VLOOKUP($J21,Kengetal,5,FALSE)) -> 0.59294118 | Q21: =IF($J21="",0,VLOOKUP($J21,Kengetal,6,FALSE)) -> 0 | R21: =IF($J21="",0,VLOOKUP($J21,Kengetal,7,FALSE)) -> 0 | S21: =IF($J21="",0,VLOOKUP($J21,Kengetal,8,FALSE)) -> 0 | T21: =IF(J21="","",VLOOKUP(J21,Kengetal,13,FALSE)) -> B | U21: 1 | V21: 1 | W21: 1 | X21: 1 | Z21: =I21*K21 -> 2164 | AA21: =L21+M21+N21+O21 -> 6.4156235
... A40: 41 | B40: Delft | C40: Clara van Sparwoudestraat 1 (VSO Delft) | D40: 0 | E40: S034 | F40: Toilet | G40: Sanitair | H40: Gietvloer | I40: 1.1 | J40: 2200 | K40: =SUM(IF(J40="",0,VLOOKUP(J40,Kengetal,2))) -> 200 | L40: =P40*I40*U40 -> 3.8747608 | M40: =Q40*I40*V40 -> 0 | N40: =R40*I40*W40 -> 0 | O40: =S40*I40*X40 -> 0 | P40: =IF($J40="",0,VLOOKUP($J40,Kengetal,5,FALSE)) -> 3.5225098 | Q40: =IF($J40="",0,VLOOKUP($J40,Kengetal,6,FALSE)) -> 0 | R40: =IF($J40="",0,VLOOKUP($J40,Kengetal,7,FALSE)) -> 0 | S40: =IF($J40="",0,VLOOKUP($J40,Kengetal,8,FALSE)) -> 0 | T40: =IF(J40="","",VLOOKUP(J40,Kengetal,13,FALSE)) -> S | U40: 1 | V40: 1 | W40: 1 | X40: 1 | Z40: =I40*K40 -> 220 | AA40: =L40+M40+N40+O40 -> 3.8747608
B41: Delft | C41: Clara van Sparwoudestraat 1 (VSO Delft) | D41: 0 | E41: S035 | F41: Toilet | G41: Sanitair | H41: Gietvloer | I41: 1.1 | J41: 2200 | K41: =SUM(IF(J41="",0,VLOOKUP(J41,Kengetal,2))) -> 200 | L41: =P41*I41*U41 -> 3.8747608 | M41: =Q41*I41*V41 -> 0 | N41: =R41*I41*W41 -> 0 | O41: =S41*I41*X41 -> 0 | P41: =IF($J41="",0,VLOOKUP($J41,Kengetal,5,FALSE)) -> 3.5225098 | Q41: =IF($J41="",0,VLOOKUP($J41,Kengetal,6,FALSE)) -> 0 | R41: =IF($J41="",0,VLOOKUP($J41,Kengetal,7,FALSE)) -> 0 | S41: =IF($J41="",0,VLOOKUP($J41,Kengetal,8,FALSE)) -> 0 | T41: =IF(J41="","",VLOOKUP(J41,Kengetal,13,FALSE)) -> S | U41: 1 | V41: 1 | W41: 1 | X41: 1 | Z41: =I41*K41 -> 220 | AA41: =L41+M41+N41+O41 -> 3.8747608
B42: Delft | C42: Clara van Sparwoudestraat 1 (VSO Delft) | D42: 0 | E42: S036 | F42: Toilet | G42: Sanitair | H42: Gietvloer | I42: 1.1 | J42: 2200 | K42: =SUM(IF(J42="",0,VLOOKUP(J42,Kengetal,2))) -> 200 | L42: =P42*I42*U42 -> 3.8747608 | M42: =Q42*I42*V42 -> 0 | N42: =R42*I42*W42 -> 0 | O42: =S42*I42*X42 -> 0 | P42: =IF($J42="",0,VLOOKUP($J42,Kengetal,5,FALSE)) -> 3.5225098 | Q42: =IF($J42="",0,VLOOKUP($J42,Kengetal,6,FALSE)) -> 0 | R42: =IF($J42="",0,VLOOKUP($J42,Kengetal,7,FALSE)) -> 0 | S42: =IF($J42="",0,VLOOKUP($J42,Kengetal,8,FALSE)) -> 0 | T42: =IF(J42="","",VLOOKUP(J42,Kengetal,13,FALSE)) -> S | U42: 1 | V42: 1 | W42: 1 | X42: 1 | Z42: =I42*K42 -> 220 | AA42: =L42+M42+N42+O42 -> 3.8747608
B43: Delft | C43: Clara van Sparwoudestraat 1 (VSO Delft) | D43: 0 | E43: S037 | F43: Toilet | G43: Sanitair | H43: Gietvloer | I43: 1.1 | J43: 2200 | K43: =SUM(IF(J43="",0,VLOOKUP(J43,Kengetal,2))) -> 200 | L43: =P43*I43*U43 -> 3.8747608 | M43: =Q43*I43*V43 -> 0 | N43: =R43*I43*W43 -> 0 | O43: =S43*I43*X43 -> 0 | P43: =IF($J43="",0,VLOOKUP($J43,Kengetal,5,FALSE)) -> 3.5225098 | Q43: =IF($J43="",0,VLOOKUP($J43,Kengetal,6,FALSE)) -> 0 | R43: =IF($J43="",0,VLOOKUP($J43,Kengetal,7,FALSE)) -> 0 | S43: =IF($J43="",0,VLOOKUP($J43,Kengetal,8,FALSE)) -> 0 | T43: =IF(J43="","",VLOOKUP(J43,Kengetal,13,FALSE)) -> S | U43: 1 | V43: 1 | W43: 1 | X43: 1 | Z43: =I43*K43 -> 220 | AA43: =L43+M43+N43+O43 -> 3.8747608
B44: Delft | C44: Clara van Sparwoudestraat 1 (VSO Delft) | D44: 0 | E44: L038 | F44: Praktijklokaal | G44: Leslokaal | H44: Marmoleum | I44: 41.65 | J44: 7200 | K44: =SUM(IF(J44="",0,VLOOKUP(J44,Kengetal,2))) -> 200 | L44: =P44*I44*U44 -> 30.641333 | M44: =Q44*I44*V44 -> 0 | N44: =R44*I44*W44 -> 0 | O44: =S44*I44*X44 -> 0 | P44: =IF($J44="",0,VLOOKUP($J44,Kengetal,5,FALSE)) -> 0.73568627 | Q44: =IF($J44="",0,VLOOKUP($J44,Kengetal,6,FALSE)) -> 0 | R44: =IF($J44="",0,VLOOKUP($J44,Kengetal,7,FALSE)) -> 0 | S44: =IF($J44="",0,VLOOKUP($J44,Kengetal,8,FALSE)) -> 0 | T44: =IF(J44="","",VLOOKUP(J44,Kengetal,13,FALSE)) -> V | U44: 1 | V44: 1 | W44: 1 | X44: 1 | Z44: =I44*K44 -> 8330 | AA44: =L44+M44+N44+O44 -> 30.641333
B45: Delft | C45: Clara van Sparwoudestraat 1 (VSO Delft) | D45: 0 | E45: V039 | F45: Berging | G45: Verkeersruimte | H45: Marmoleum | I45: 2.68 | J45: 9010 | K45: =SUM(IF(J45="",0,VLOOKUP(J45,Kengetal,2))) -> 10 | L45: =P45*I45*U45 -> 0.16001176 | M45: =Q45*I45*V45 -> 0 | N45: =R45*I45*W45 -> 0 | O45: =S45*I45*X45 -> 0 | P45: =IF($J45="",0,VLOOKUP($J45,Kengetal,5,FALSE)) -> 0.059705882 | Q45: =IF($J45="",0,VLOOKUP($J45,Kengetal,6,FALSE)) -> 0 | R45: =IF($J45="",0,VLOOKUP($J45,Kengetal,7,FALSE)) -> 0 | S45: =IF($J45="",0,VLOOKUP($J45,Kengetal,8,FALSE)) -> 0 | T45: =IF(J45="","",VLOOKUP(J45,Kengetal,13,FALSE)) -> VP | U45: 1 | V45: 1 | W45: 1 | X45: 1 | Z45: =I45*K45 -> 26.8 | AA45: =L45+M45+N45+O45 -> 0.16001176
B46: Delft | C46: Clara van Sparwoudestraat 1 (VSO Delft) | D46: 0 | E46: V040 | F46: Aula | G46: Verkeersruimte | H46: Marmoleum | I46: 126 | J46: 3200 | K46: =SUM(IF(J46="",0,VLOOKUP(J46,Kengetal,2))) -> 200 | L46: =P46*I46*U46 -> 51.744 | M46: =Q46*I46*V46 -> 0 | N46: =R46*I46*W46 -> 0 | O46: =S46*I46*X46 -> 0 | P46: =IF($J46="",0,VLOOKUP($J46,Kengetal,5,FALSE)) -> 0.41066667 | Q46: =IF($J46="",0,VLOOKUP($J46,Kengetal,6,FALSE)) -> 0 | R46: =IF($J46="",0,VLOOKUP($J46,Kengetal,7,FALSE)) -> 0 | S46: =IF($J46="",0,VLOOKUP($J46,Kengetal,8,FALSE)) -> 0 | T46: =IF(J46="","",VLOOKUP(J46,Kengetal,13,FALSE)) -> V | U46: 1 | V46: 1 | W46: 1 | X46: 1 | Z46: =I46*K46 -> 25200 | AA46: =L46+M46+N46+O46 -> 51.744
B47: Delft | C47: Clara van Sparwoudestraat 1 (VSO Delft) | D47: 0 | E47: V041 | F47: Praktijkruimte keuken | G47: Verkeersruimte | H47: Gietvloer | I47: 47.44 | J47: 9010 | K47: =SUM(IF(J47="",0,VLOOKUP(J47,Kengetal,2))) -> 10 | L47: =P47*I47*U47 -> 2.8324471 | M47: =Q47*I47*V47 -> 0 | N47: =R47*I47*W47 -> 0 | O47: =S47*I47*X47 -> 0 | P47: =IF($J47="",0,VLOOKUP($J47,Kengetal,5,FALSE)) -> 0.059705882 | Q47: =IF($J47="",0,VLOOKUP($J47,Kengetal,6,FALSE)) -> 0 | R47: =IF($J47="",0,VLOOKUP($J47,Kengetal,7,FALSE)) -> 0 | S47: =IF($J47="",0,VLOOKUP($J47,Kengetal,8,FALSE)) -> 0 | T47: =IF(J47="","",VLOOKUP(J47,Kengetal,13,FALSE)) -> VP | U47: 1 | V47: 1 | W47: 1 | X47: 1 | Z47: =I47*K47 -> 474.4 | AA47: =L47+M47+N47+O47 -> 2.8324471
B48: Delft | C48: Clara van Sparwoudestraat 1 (VSO Delft) | D48: 0 | E48: V042 | F48: Uitgiftebalie | G48: Verkeersruimte | H48: Gietvloer | I48: 20.97 | J48: 3200 | K48: =SUM(IF(J48="",0,VLOOKUP(J48,Kengetal,2))) -> 200 | L48: =P48*I48*U48 -> 8.61168 | M48: =Q48*I48*V48 -> 0 | N48: =R48*I48*W48 -> 0 | O48: =S48*I48*X48 -> 0 | P48: =IF($J48="",0,VLOOKUP($J48,Kengetal,5,FALSE)) -> 0.41066667 | Q48: =IF($J48="",0,VLOOKUP($J48,Kengetal,6,FALSE)) -> 0 | R48: =IF($J48="",0,VLOOKUP($J48,Kengetal,7,FALSE)) -> 0 | S48: =IF($J48="",0,VLOOKUP($J48,Kengetal,8,FALSE)) -> 0 | T48: =IF(J48="","",VLOOKUP(J48,Kengetal,13,FALSE)) -> V | U48: 1 | V48: 1 | W48: 1 | X48: 1 | Z48: =I48*K48 -> 4194 | AA48: =L48+M48+N48+O48 -> 8.61168
B49: Delft | C49: Clara van Sparwoudestraat 1 (VSO Delft) | D49: 0 | E49: V043 | F49: Spoelkeuken | G49: Verkeersruimte | H49: Gietvloer | I49: 12.83 | J49: 9010 | K49: =SUM(IF(J49="",0,VLOOKUP(J49,Kengetal,2))) -> 10 | L49: =P49*I49*U49 -> 0.76602647 | M49: =Q49*I49*V49 -> 0 | N49: =R49*I49*W49 -> 0 | O49: =S49*I49*X49 -> 0 | P49: =IF($J49="",0,VLOOKUP($J49,Kengetal,5,FALSE)) -> 0.059705882 | Q49: =IF($J49="",0,VLOOKUP($J49,Kengetal,6,FALSE)) -> 0 | R49: =IF($J49="",0,VLOOKUP($J49,Kengetal,7,FALSE)) -> 0 | S49: =IF($J49="",0,VLOOKUP($J49,Kengetal,8,FALSE)) -> 0 | T49: =IF(J49="","",VLOOKUP(J49,Kengetal,13,FALSE)) -> VP | U49: 1 | V49: 1 | W49: 1 | X49: 1 | Z49: =I49*K49 -> 128.3 | AA49: =L49+M49+N49+O49 -> 0.76602647
B50: Delft | C50: Clara van Sparwoudestraat 1 (VSO Delft) | D50: 0 | E50: V044 | F50: Magazijn | G50: Verkeersruimte | H50: Marmoleum | I50: 9.15 | J50: 9010 | K50: =SUM(IF(J50="",0,VLOOKUP(J50,Kengetal,2))) -> 10 | L50: =P50*I50*U50 -> 0.54630882 | M50: =Q50*I50*V50 -> 0 | N50: =R50*I50*W50 -> 0 | O50: =S50*I50*X50 -> 0 | P50: =IF($J50="",0,VLOOKUP($J50,Kengetal,5,FALSE)) -> 0.059705882 | Q50: =IF($J50="",0,VLOOKUP($J50,Kengetal,6,FALSE)) -> 0 | R50: =IF($J50="",0,VLOOKUP($J50,Kengetal,7,FALSE)) -> 0 | S50: =IF($J50="",0,VLOOKUP($J50,Kengetal,8,FALSE)) -> 0 | T50: =IF(J50="","",VLOOKUP(J50,Kengetal,13,FALSE)) -> VP | U50: 1 | V50: 1 | W50: 1 | X50: 1 | Z50: =I50*K50 -> 91.5 | AA50: =L50+M50+N50+O50 -> 0.54630882
B51: Delft | C51: Clara van Sparwoudestraat 1 (VSO Delft) | D51: 0 | E51: V045 | F51: Gang | G51: Verkeersruimte | H51: Marmoleum | I51: 110.84 | J51: 3200 | K51: =SUM(IF(J51="",0,VLOOKUP(J51,Kengetal,2))) -> 200 | L51: =P51*I51*U51 -> 45.518293 | M51: =Q51*I51*V51 -> 0 | N51: =R51*I51*W51 -> 0 | O51: =S51*I51*X51 -> 0 | P51: =IF($J51="",0,VLOOKUP($J51,Kengetal,5,FALSE)) -> 0.41066667 | Q51: =IF($J51="",0,VLOOKUP($J51,Kengetal,6,FALSE)) -> 0 | R51: =IF($J51="",0,VLOOKUP($J51,Kengetal,7,FALSE)) -> 0 | S51: =IF($J51="",0,VLOOKUP($J51,Kengetal,8,FALSE)) -> 0 | T51: =IF(J51="","",VLOOKUP(J51,Kengetal,13,FALSE)) -> V | U51: 1 | V51: 1 | W51: 1 | X51: 1 | Z51: =I51*K51 -> 22168 | AA51: =L51+M51+N51+O51 -> 45.518293
B52: Delft | C52: Clara van Sparwoudestraat 1 (VSO Delft) | D52: 0 | E52: V047 | F52: Gang | G52: Verkeersruimte | H52: Marmoleum | I52: 84.52 | J52: 3200 | K52: =SUM(IF(J52="",0,VLOOKUP(J52,Kengetal,2))) -> 200 | L52: =P52*I52*U52 -> 34.709547 | M52: =Q52*I52*V52 -> 0 | N52: =R52*I52*W52 -> 0 | O52: =S52*I52*X52 -> 0 | P52: =IF($J52="",0,VLOOKUP($J52,Kengetal,5,FALSE)) -> 0.41066667 | Q52: =IF($J52="",0,VLOOKUP($J52,Kengetal,6,FALSE)) -> 0 | R52: =IF($J52="",0,VLOOKUP($J52,Kengetal,7,FALSE)) -> 0 | S52: =IF($J52="",0,VLOOKUP($J52,Kengetal,8,FALSE)) -> 0 | T52: =IF(J52="","",VLOOKUP(J52,Kengetal,13,FALSE)) -> V | U52: 1 | V52: 1 | W52: 1 | X52: 1 | Z52: =I52*K52 -> 16904 | AA52: =L52+M52+N52+O52 -> 34.709547
... B131: Naaldwijk | C131: Verhagenplein 9 (SO/VSO Naaldwijk) | D131: 0 | E131: L015 | F131: Groepslokaal | G131: Leslokaal | H131: Marmoleum | I131: 59.45 | J131: 7200 | K131: =SUM(IF(J131="",0,VLOOKUP(J131,Kengetal,2))) -> 200 | L131: =P131*I131*U131 -> 43.736549 | M131: =Q131*I131*V131 -> 0 | N131: =R131*I131*W131 -> 0 | O131: =S131*I131*X131 -> 0 | P131: =IF($J131="",0,VLOOKUP($J131,Kengetal,5,FALSE)) -> 0.73568627 | Q131: =IF($J131="",0,VLOOKUP($J131,Kengetal,6,FALSE)) -> 0 | R131: =IF($J131="",0,VLOOKUP($J131,Kengetal,7,FALSE)) -> 0 | S131: =IF($J131="",0,VLOOKUP($J131,Kengetal,8,FALSE)) -> 0 | T131: =IF(J131="","",VLOOKUP(J131,Kengetal,13,FALSE)) -> V | U131: 1 | V131: 1 | W131: 1 | X131: 1 | Z131: =I131*K131 -> 11890 | AA131: =L131+M131+N131+O131 -> 43.736549
B132: Naaldwijk | C132: Verhagenplein 9 (SO/VSO Naaldwijk) | D132: 0 | E132: V016 | F132: Tuinkas | G132: Verkeersruimte | H132: Dhgt | I132: 12.22 | J132: nvt | K132: =SUM(IF(J132="",0,VLOOKUP(J132,Kengetal,2))) -> 0 | L132: =P132*I132*U132 -> 0 | M132: =Q132*I132*V132 -> 0 | N132: =R132*I132*W132 -> 0 | O132: =S132*I132*X132 -> 0 | P132: =IF($J132="",0,VLOOKUP($J132,Kengetal,5,FALSE)) -> 0 | Q132: =IF($J132="",0,VLOOKUP($J132,Kengetal,6,FALSE)) -> 0 | R132: =IF($J132="",0,VLOOKUP($J132,Kengetal,7,FALSE)) -> 0 | S132: =IF($J132="",0,VLOOKUP($J132,Kengetal,8,FALSE)) -> 0 | T132: =IF(J132="","",VLOOKUP(J132,Kengetal,13,FALSE)) -> 0 | U132: 1 | V132: 1 | W132: 1 | X132: 1 | Z132: =I132*K132 -> 0 | AA132: =L132+M132+N132+O132 -> 0
B133: Naaldwijk | C133: Verhagenplein 9 (SO/VSO Naaldwijk) | D133: 0 | E133: V017 | F133: Gang + trap | G133: Verkeersruimte | H133: Marmoleum | I133: 25.57 | J133: 3200 | K133: =SUM(IF(J133="",0,VLOOKUP(J133,Kengetal,2))) -> 200 | L133: =P133*I133*U133 -> 10.500747 | M133: =Q133*I133*V133 -> 0 | N133: =R133*I133*W133 -> 0 | O133: =S133*I133*X133 -> 0 | P133: =IF($J133="",0,VLOOKUP($J133,Kengetal,5,FALSE)) -> 0.41066667 | Q133: =IF($J133="",0,VLOOKUP($J133,Kengetal,6,FALSE)) -> 0 | R133: =IF($J133="",0,VLOOKUP($J133,Kengetal,7,FALSE)) -> 0 | S133: =IF($J133="",0,VLOOKUP($J133,Kengetal,8,FALSE)) -> 0 | T133: =IF(J133="","",VLOOKUP(J133,Kengetal,13,FALSE)) -> V | U133: 1 | V133: 1 | W133: 1 | X133: 1 | Z133: =I133*K133 -> 5114 | AA133: =L133+M133+N133+O133 -> 10.500747
B134: Naaldwijk | C134: Verhagenplein 9 (SO/VSO Naaldwijk) | D134: 0 | E134: S018 | F134: Douche gymleraar | G134: Sanitair | H134: Dhgt | I134: 2.53 | J134: 2200 | K134: =SUM(IF(J134="",0,VLOOKUP(J134,Kengetal,2))) -> 200 | L134: =P134*I134*U134 -> 8.9119498 | M134: =Q134*I134*V134 -> 0 | N134: =R134*I134*W134 -> 0 | O134: =S134*I134*X134 -> 0 | P134: =IF($J134="",0,VLOOKUP($J134,Kengetal,5,FALSE)) -> 3.5225098 | Q134: =IF($J134="",0,VLOOKUP($J134,Kengetal,6,FALSE)) -> 0 | R134: =IF($J134="",0,VLOOKUP($J134,Kengetal,7,FALSE)) -> 0 | S134: =IF($J134="",0,VLOOKUP($J134,Kengetal,8,FALSE)) -> 0 | T134: =IF(J134="","",VLOOKUP(J134,Kengetal,13,FALSE)) -> S | U134: 1 | V134: 1 | W134: 1 | X134: 1 | Z134: =I134*K134 -> 506 | AA134: =L134+M134+N134+O134 -> 8.9119498
B135: Naaldwijk | C135: Verhagenplein 9 (SO/VSO Naaldwijk) | D135: 0 | E135: V019 | F135: Kleedruimte | G135: Verkeersruimte | H135: Dhgt | I135: 15.48 | J135: 3200 | K135: =SUM(IF(J135="",0,VLOOKUP(J135,Kengetal,2))) -> 200 | L135: =P135*I135*U135 -> 6.35712 | M135: =Q135*I135*V135 -> 0 | N135: =R135*I135*W135 -> 0 | O135: =S135*I135*X135 -> 0 | P135: =IF($J135="",0,VLOOKUP($J135,Kengetal,5,FALSE)) -> 0.41066667 | Q135: =IF($J135="",0,VLOOKUP($J135,Kengetal,6,FALSE)) -> 0 | R135: =IF($J135="",0,VLOOKUP($J135,Kengetal,7,FALSE)) -> 0 | S135: =IF($J135="",0,VLOOKUP($J135,Kengetal,8,FALSE)) -> 0 | T135: =IF(J135="","",VLOOKUP(J135,Kengetal,13,FALSE)) -> V | U135: 1 | V135: 1 | W135: 1 | X135: 1 | Z135: =I135*K135 -> 3096 | AA135: =L135+M135+N135+O135 -> 6.35712
B136: Naaldwijk | C136: Verhagenplein 9 (SO/VSO Naaldwijk) | D136: 0 | E136: S020 | F136: Toilet | G136: Sanitair | H136: Dhgt | I136: 1.48 | J136: 2200 | K136: =SUM(IF(J136="",0,VLOOKUP(J136,Kengetal,2))) -> 200 | L136: =P136*I136*U136 -> 5.2133145 | M136: =Q136*I136*V136 -> 0 | N136: =R136*I136*W136 -> 0 | O136: =S136*I136*X136 -> 0 | P136: =IF($J136="",0,VLOOKUP($J136,Kengetal,5,FALSE)) -> 3.5225098 | Q136: =IF($J136="",0,VLOOKUP($J136,Kengetal,6,FALSE)) -> 0 | R136: =IF($J136="",0,VLOOKUP($J136,Kengetal,7,FALSE)) -> 0 | S136: =IF($J136="",0,VLOOKUP($J136,Kengetal,8,FALSE)) -> 0 | T136: =IF(J136="","",VLOOKUP(J136,Kengetal,13,FALSE)) -> S | U136: 1 | V136: 1 | W136: 1 | X136: 1 | Z136: =I136*K136 -> 296 | AA136: =L136+M136+N136+O136 -> 5.2133145
...

Sheet 4-Premies en opslagen
A1: Invoervelden
A3: ='1-Contractblad dag'!A3 -> Naam opdrachtgever | B3: ='1-Contractblad dag'!B3 -> Herman Broerenstichting
A4: ='1-Contractblad dag'!A4 -> Calculatie onderdeel | B4: ='1-Contractblad dag'!B4 -> Contractblad jaarprijs Totaal
A5: ='1-Contractblad dag'!A5 -> Gebouw/plaats | B5: ='1-Contractblad dag'!B5 -> Delft
A6: ='1-Contractblad dag'!A6 -> Besteknummer | B6: ='1-Contractblad dag'!B6 -> Calculatie Herman Broerenstichting -2024.01
A7: ='1-Contractblad dag'!A7 -> Naam leverancier | B7: ='1-Contractblad dag'!B7 -> Exploitatie calculatie
A8: ='1-Contractblad dag'!A8 -> Prijspeil | B8: ='1-Contractblad dag'!B8 -> 45473
A9: ='1-Contractblad dag'!A9 -> Bijzonderheden | B9: Vertrouwlijk
A11: Sociale verzekeringen productie | E11: Sociale verzekeringen toezicht
C13: Bedrijfsgemiddelde | G13: Bedrijfsgemiddelde
A14: WIA Basispremie | C14: 0.058 | E14: WIA Basispremie | G14: =C14 -> 0.058
A15: WGA | C15: 0.0179 | E15: WGA | G15: =C15 -> 0.0179
A16: ZW-flex | C16: 0.067 | E16: ZW-flex | G16: =C16 -> 0.067
A17: Totaal | C17: =SUM(C14:C16) -> 0.1429 | E17: Totaal | G17: =SUM(G14:G16) -> 0.1429
A19: WW premie- Algemeen Werkeloosheidsfonds (Awf) | C19: 0.0345 | E19: WW premie- Algemeen Werkeloosheidsfonds (Awf) | G19: =C19 -> 0.0345
A20: Transitievergoeding | C20: 0.0082 | E20: Transitievergoeding | G20: =C20 -> 0.0082
A21: Zorgverzekeringswet (Zvw) | C21: 0.0538 | E21: Zorgverzekeringswet (Zvw) | G21: =C21 -> 0.0538
A22: OP/NP | C22: =C35 -> 0.039559925 | E22: OP/NP | G22: =G35 -> 0.04227927
A23: Kinderopvang | C23: 0.005 | E23: Kinderopvang | G23: =C23 -> 0.005
A24: RAS premie | C24: 0.0075 | E24: RAS premie | G24: =C24 -> 0.0075
A25: Totaal opslag sociale lasten | C25: =SUM(C17:C24) -> 0.29145992 | E25: Totaal opslag sociale lasten | G25: =SUM(G17:G24) -> 0.29417927
A27: Sociale verzekeringen - Ouderdomspensioen (OP/NP) | E27: Sociale verzekeringen - Ouderdomspensioen (OP/NP)
C29: werkgeversdeel | G29: werkgeversdeel
A30: SV uurloon inclusief toeslagen | C30: ='5-Opbouw uurtarief productie'!E22 -> 16.940237 | E30: SV uurloon inclusief toeslagen | G30: ='6-Opbouw uurtarief toezicht'!E22 -> 19.79543
A31: Franchise OP-premie per uur | B31: Let op -/- bedrag | C31: -5.99 | E31: Franchise OP-premie per uur | F31: Let op -/- bedrag | G31: -6.12
A32: Grondslag loon voor berekening OP premie | C32: =C30+C31 -> 10.950237 | E32: Grondslag loon voor berekening OP premie | G32: =G30+G31 -> 13.67543
A33: Premie Ouderdomspensioen (OP) | C33: 0.0612 | E33: Premie Ouderdomspensioen (OP) | G33: 0.0612
A35: Effectieve OP premie | C35: =(C32/C30)*C33 -> 0.039559925 | E35: Effectieve OP premie | G35: =(G32/G30)*G33 -> 0.04227927
A37: Berekening werkbaredagen
B39: Schoonmaak
A40: Aantal kalenderdagen | B40: 365
A41: Weekenddagen | B41: 104
A42: Werkdagen per jaar | B42: =B40-B41 -> 261
A44: Nat. feestdagen, kort verzuim, bijz. CAO | B44: 9
A45: Vakantiedagen | B45: 26
A46: Ziektedagen | B46: 11
A47: Vorstverlet
A48: Werkbare dagen per jaar | B48: =B42-SUM(B44:B47) -> 215
A50: Nat. feestdagen, kort verzuim, bijz CAO | B50: =IF(B44=0,0,B44/$B$48) -> 0.041860465
A51: Vakantiedagen | B51: =IF(B45=0,0,B45/$B$48) -> 0.12093023
...

Sheet 5-Opbouw uurtarief productie
A1: Invoervelden
A3: ='1-Contractblad dag'!A3 -> Naam opdrachtgever | B3: ='1-Contractblad dag'!B3 -> Herman Broerenstichting
A4: ='1-Contractblad dag'!A4 -> Calculatie onderdeel | B4: 6-Opbouw uurtarief productie
A5: ='1-Contractblad dag'!A5 -> Gebouw/plaats | B5: ='1-Contractblad dag'!B5 -> Delft
A6: ='1-Contractblad dag'!A6 -> Besteknummer | B6: ='1-Contractblad dag'!B6 -> Calculatie Herman Broerenstichting -2024.01
A7: ='1-Contractblad dag'!A7 -> Naam leverancier | B7: ='1-Contractblad dag'!B7 -> Exploitatie calculatie
A8: ='1-Contractblad dag'!A8 -> Prijspeil | B8: ='1-Contractblad dag'!B8 -> 45473
A9: ='1-Contractblad dag'!A9 -> Bijzonderheden | B9: ='1-Contractblad dag'!B9 -> Vertrouwelijk
P10: Prijsverhogingen per jaar, Gebruikte tarieven 30 juni 2024.
A11: Tariefopbouw schoonmaak | E11: Gemiddeld tarief ma t/m vr | H11: Medewerker | I11: Uurlonen per 30 juni 2024 | P11: 2025 | Q11: =P11+1 -> 2026 | R11: =Q11+1 -> 2027 | S11: =R11+1 -> 2028 | T11: =S11+1 -> 2029 | U11: =T11+1 -> 2030
I12: 1 | J12: 2 | K12: 3 | L12: 4 | M12: 5 | N12: 6 | P12: 1 | Q12: 1 | R12: 1 | S12: 1 | T12: 1 | U12: 1
A13: Gemiddeld basisuurloon | E13: =SUM(I47:N47) -> 15.616 | H13: 17 jaar en jonger | I13: =P13*$P$12*$Q$12*$R$12*$S$12*$T$12*$U$12 -> 10.94 | J13: =Q13*$P$12*$Q$12*$R$12*$S$12*$T$12*$U$12 -> 11.49 | K13: =R13*$P$12*$Q$12*$R$12*$S$12*$T$12*$U$12 -> 12.02 | L13: =S13*$P$12*$Q$12*$R$12*$S$12*$T$12*$U$12 -> 12.63 | M13: =T13*$P$12*$Q$12*$R$12*$S$12*$T$12*$U$12 -> 13.12 | N13: =U13*$P$12*$Q$12*$R$12*$S$12*$T$12*$U$12 -> 13.78 | P13: 10.94 | Q13: 11.49 | R13: 12.02 | S13: 12.63 | T13: 13.12 | U13: 13.78
A14: Specialistentoeslag | C14: Projectgebonden! | H14: 18 jaar | I14: =P14*$P$12*$Q$12*$R$12*$S$12*$T$12*$U$12 -> 11.62 | J14: =Q14*$P$12*$Q$12*$R$12*$S$12*$T$12*$U$12 -> 12.21 | K14: =R14*$P$12*$Q$12*$R$12*$S$12*$T$12*$U$12 -> 12.77 | L14: =S14*$P$12*$Q$12*$R$12*$S$12*$T$12*$U$12 -> 13.42 | M14: =T14*$P$12*$Q$12*$R$12*$S$12*$T$12*$U$12 -> 13.93 | N14: =U14*$P$12*$Q$12*$R$12*$S$12*$T$12*$U$12 -> 14.64 | P14: 11.62 | Q14: 12.21 | R14: 12.77 | S14: 13.42 | T14: 13.93 | U14: 14.64
A15: Gevarentoeslag (indien van toepassing) | H15: 19 jaar | I15: =P15*$P$12*$Q$12*$R$12*$S$12*$T$12*$U$12 -> 12.3 | J15: =Q15*$P$12*$Q$12*$R$12*$S$12*$T$12*$U$12 -> 12.92 | K15: =R15*$P$12*$Q$12*$R$12*$S$12*$T$12*$U$12 -> 13.51 | L15: =S15*$P$12*$Q$12*$R$12*$S$12*$T$12*$U$12 -> 14.2 | M15: =T15*$P$12*$Q$12*$R$12*$S$12*$T$12*$U$12 -> 14.75 | N15: =U15*$P$12*$Q$12*$R$12*$S$12*$T$12*$U$12 -> 15.49 | P15: 12.3 | Q15: 12.92 | R15: 13.51 | S15: 14.2 | T15: 14.75 | U15: 15.49
A16: Bruto uurloon | E16: =SUM(E13:E15) -> 15.616
A18: Vakantietoeslag | C18: 0.08 | E18: =$C18*E16 -> 1.24928 | H18: Vakvolwassen 1 dienstjaar | I18: =P18*$P$12*$Q$12*$R$12*$S$12*$T$12*$U$12 -> 14.15 | J18: =Q18*$P$12*$Q$12*$R$12*$S$12*$T$12*$U$12 -> 14.87 | K18: =R18*$P$12*$Q$12*$R$12*$S$12*$T$12*$U$12 -> 15.55 | L18: =S18*$P$12*$Q$12*$R$12*$S$12*$T$12*$U$12 -> 16.34 | M18: =T18*$P$12*$Q$12*$R$12*$S$12*$T$12*$U$12 -> 16.97 | N18: =U18*$P$12*$Q$12*$R$12*$S$12*$T$12*$U$12 -> 17.83 | P18: 14.15 | Q18: 14.87 | R18: 15.55 | S18: 16.34 | T18: 16.97 | U18: 17.83
A19: Structurele eindejaarsuitkering | C19: 0.05 | E19: =$C19*E16 -> 0.7808 | H19: Vakvolwassen 2 dienstjaren | I19: =P19*$P$12*$Q$12*$R$12*$S$12*$T$12*$U$12 -> 14.68 | J19: =Q19*$P$12*$Q$12*$R$12*$S$12*$T$12*$U$12 -> 15.39 | K19: =R19*$P$12*$Q$12*$R$12*$S$12*$T$12*$U$12 -> 16.12 | L19: =S19*$P$12*$Q$12*$R$12*$S$12*$T$12*$U$12 -> 16.91 | M19: =T19*$P$12*$Q$12*$R$12*$S$12*$T$12*$U$12 -> 17.55 | N19: =U19*$P$12*$Q$12*$R$12*$S$12*$T$12*$U$12 -> 18.45 | P19: 14.68 | Q19: 15.39 | R19: 16.12 | S19: 16.91 | T19: 17.55 | U19: 18.45
A20: Bruto uurloon inclusief toeslagen | E20: =SUM(E16:E19) -> 17.64608 | F20: =IF(E20=0,0,E20/E$48) -> 0.57319835 | H20: Vakvolwassen 3 dienstjaren | I20: =P20*$P$12*$Q$12*$R$12*$S$12*$T$12*$U$12 -> 15.12 | J20: =Q20*$P$12*$Q$12*$R$12*$S$12*$T$12*$U$12 -> 15.9 | K20: =R20*$P$12*$Q$12*$R$12*$S$12*$T$12*$U$12 -> 16.63 | L20: =S20*$P$12*$Q$12*$R$12*$S$12*$T$12*$U$12 -> 17.46 | M20: =T20*$P$12*$Q$12*$R$12*$S$12*$T$12*$U$12 -> 18.14 | N20: =U20*$P$12*$Q$12*$R$12*$S$12*$T$12*$U$12 -> 19.05 | P20: 15.12 | Q20: 15.9 | R20: 16.63 | S20: 17.46 | T20: 18.14 | U20: 19.05
H21: Vakvolwassen 4 dienstjaren | I21: =P21*$P$12*$Q$12*$R$12*$S$12*$T$12*$U$12 -> 15.6 | J21: =Q21*$P$12*$Q$12*$R$12*$S$12*$T$12*$U$12 -> 16.4 | K21: =R21*$P$12*$Q$12*$R$12*$S$12*$T$12*$U$12 -> 17.19 | L21: =S21*$P$12*$Q$12*$R$12*$S$12*$T$12*$U$12 -> 18.01 | M21: =T21*$P$12*$Q$12*$R$12*$S$12*$T$12*$U$12 -> 18.71 | N21: =U21*$P$12*$Q$12*$R$12*$S$12*$T$12*$U$12 -> 19.67 | P21: 15.6 | Q21: 16.4 | R21: 17.19 | S21: 18.01 | T21: 18.71 | U21: 19.67
A22: SV-loon grondslag voor berekening sociale verzekeringen | E22: =E20*0.96 -> 16.940237
A23: Premies Sociale Verzekeringen | C23: [zie premies en opslagen] | E23: =E22*'4-Premies en opslagen'!C25 -> 4.9374001 | H23: Medewerker | I23: Percentage per loongroep voor gemiddeld tarief
A24: Subtotaal loonkosten per uur inclusief sociale verzekeringen | E24: =E23+E20 -> 22.58348 | F24: =IF(E24=0,0,E24/E$48) -> 0.73358012 | I24: 1 | J24: 2 | K24: 3 | L24: 4 | M24: 5 | N24: 6
H25: 17 jaar en jonger
A26: Opslag niet werkbare dagen | C26: [zie premies en opslagen] | E26: =E24*'4-Premies en opslagen'!B54 -> 4.8318144 | H26: 18 jaar
A27: Totaal loonkosten per uur | E27: =SUM(E24:E26) -> 27.415294 | F27: =IF(E27=0,0,E27/E$48) -> 0.89053215 | H27: 19 jaar
A29: Materiaal/- en middelen | C29: Projectgebonden! | E29: 0.34 | F29: 0
A30: Werkkleding en uitrusting | C30: Projectgebonden! | E30: 0.15 | F30: 0 | H30: Vakvolwassen 1 dienstjaar
H31: Vakvolwassen 2 dienstjaren
H32: Vakvolwassen 3 dienstjaren | I32: 0.05
A33: Totaal directe kosten | E33: =SUM(E27:E32) -> 27.905294 | F33: =IF(E33=0,0,E33/E$48) -> 0.90644884 | H33: Vakvolwassen 4 dienstjaren | I33: 0.9 | J33: 0.05
H34: Totaal per loongroepen | I34: =SUM(I25:I33) -> 0.95 | J34: =SUM(J25:J33) -> 0.05 | K34: =SUM(K25:K33) -> 0 | L34: =SUM(L25:L33) -> 0 | M34: =SUM(M25:M33) -> 0 | N34: =SUM(N25:N33) -> 0 | O34: =SUM(I34:N34) -> 1
A35: Indirect toezicht | E35: 0.37 | F35: =E35/$E$48 -> 0.012018725
A36: Managementkosten | E36: 0.23 | F36: =E36/$E$48 -> 0.0074710996 | H36: Medewerker | I36: Opbouw gemiddeld tarief
A37: P.Z. kosten | E37: 0.28 | F37: =E37/$E$48 -> 0.0090952516 | I37: 1 | J37: 2 | K37: 3 | L37: 4 | M37: 5 | N37: 6
A38: Opleiding | E38: 0.28 | F38: =E38/$E$48 -> 0.0090952516 | H38: 17 jaar en jonger | I38: =I25*I13 -> 0 | J38: =J25*J13 -> 0 | K38: =K25*K13 -> 0 | L38: =L25*L13 -> 0 | M38: =M25*M13 -> 0 | N38: =N25*N13 -> 0
A39: Administratiekosten | E39: 0.28 | F39: =E39/$E$48 -> 0.0090952516 | H39: 18 jaar | I39: =I26*I14 -> 0 | J39: =J26*J14 -> 0 | K39: =K26*K14 -> 0 | L39: =L26*L14 -> 0 | M39: =M26*M14 -> 0 | N39: =N26*N14 -> 0
A40: Huisvestingskosten | E40: 0.17 | F40: =E40/$E$48 -> 0.0055221171 | H40: 19 jaar | I40: =I27*I15 -> 0 | J40: =J27*J15 -> 0 | K40: =K27*K15 -> 0 | L40: =L27*L15 -> 0 | M40: =M27*M15 -> 0 | N40: =N27*N15 -> 0
A41: Reiskosten/autokosten | C41: Projectgebonden! | F41: =E41/$E$48 -> 0
A42: Kosten verzuimbegeleiding | E42: 0.2 | F42: =E42/$E$48 -> 0.0064966083
F43: =E43/$E$48 -> 0 | H43: Vakvolwassen 1 dienstjaar | I43: =I30*I18 -> 0 | J43: =J30*J18 -> 0 | K43: =K30*K18 -> 0 | L43: =L30*L18 -> 0 | M43: =M30*M18 -> 0 | N43: =N30*N18 -> 0
...

Sheet 6-Opbouw uurtarief toezicht
A1: Invoervelden
A3: ='1-Contractblad dag'!A3 -> Naam opdrachtgever | B3: ='1-Contractblad dag'!B3 -> Herman Broerenstichting
A4: ='1-Contractblad dag'!A4 -> Calculatie onderdeel | B4: =MID(CELL("bestandsnaam",$C$9),SEARCH("]",CELL("bestandsnaam",$C$9),1)+1,256) -> 6-Opbouw uurtarief toezicht
A5: ='1-Contractblad dag'!A5 -> Gebouw/plaats | B5: ='1-Contractblad dag'!B5 -> Delft
A6: ='1-Contractblad dag'!A6 -> Besteknummer | B6: ='1-Contractblad dag'!B6 -> Calculatie Herman Broerenstichting -2024.01
A7: ='1-Contractblad dag'!A7 -> Naam leverancier | B7: ='1-Contractblad dag'!B7 -> Exploitatie calculatie
A8: ='1-Contractblad dag'!A8 -> Prijspeil | B8: ='1-Contractblad dag'!B8 -> 45473
A9: ='1-Contractblad dag'!A9 -> Bijzonderheden | B9: ='1-Contractblad dag'!B9 -> Vertrouwelijk
A11: Tariefopbouw toezicht | E11: Gemiddeld tarief ma t/m vr | H11: Medewerker | I11: Uurlonen per 30 juni 2024
I12: 1 | J12: 2 | K12: 3 | L12: 4 | M12: 5 | N12: 6
A13: Gemiddeld basisuurloon toezicht | E13: =SUM(I35:N35) -> 18.248
A14: Specialistentoeslag | C14: Projectgebonden! | H14: Vakvolwassen 1 dienstjaar | I14: ='5-Opbouw uurtarief productie'!I18 -> 14.15 | J14: ='5-Opbouw uurtarief productie'!J18 -> 14.87 | K14: ='5-Opbouw uurtarief productie'!K18 -> 15.55 | L14: ='5-Opbouw uurtarief productie'!L18 -> 16.34 | M14: ='5-Opbouw uurtarief productie'!M18 -> 16.97 | N14: ='5-Opbouw uurtarief productie'!N18 -> 17.83
A15: Gevarentoeslag (indien van toepassing) | H15: Vakvolwassen 2 dienstjaren | I15: ='5-Opbouw uurtarief productie'!I19 -> 14.68 | J15: ='5-Opbouw uurtarief productie'!J19 -> 15.39 | K15: ='5-Opbouw uurtarief productie'!K19 -> 16.12 | L15: ='5-Opbouw uurtarief productie'!L19 -> 16.91 | M15: ='5-Opbouw uurtarief productie'!M19 -> 17.55 | N15: ='5-Opbouw uurtarief productie'!N19 -> 18.45
A16: Bruto uurloon | E16: =SUM(E13:E15) -> 18.248 | H16: Vakvolwassen 3 dienstjaren | I16: ='5-Opbouw uurtarief productie'!I20 -> 15.12 | J16: ='5-Opbouw uurtarief productie'!J20 -> 15.9 | K16: ='5-Opbouw uurtarief productie'!K20 -> 16.63 | L16: ='5-Opbouw uurtarief productie'!L20 -> 17.46 | M16: ='5-Opbouw uurtarief productie'!M20 -> 18.14 | N16: ='5-Opbouw uurtarief productie'!N20 -> 19.05
H17: Vakvolwassen 4 dienstjaren | I17: ='5-Opbouw uurtarief productie'!I21 -> 15.6 | J17: ='5-Opbouw uurtarief productie'!J21 -> 16.4 | K17: ='5-Opbouw uurtarief productie'!K21 -> 17.19 | L17: ='5-Opbouw uurtarief productie'!L21 -> 18.01 | M17: ='5-Opbouw uurtarief productie'!M21 -> 18.71 | N17: ='5-Opbouw uurtarief productie'!N21 -> 19.67
A18: Vakantietoeslag | C18: ='5-Opbouw uurtarief productie'!C18 -> 0.08 | E18: =$C18*E16 -> 1.45984
A19: Structurele eindejaarsuitkering | C19: ='5-Opbouw uurtarief productie'!C19 -> 0.05 | E19: =$C19*E16 -> 0.9124 | H19: Medewerker | I19: Percentage per loongroep voor gemiddeld tarief
A20: Bruto uurloon inclusief toeslagen | E20: =SUM(E16:E19) -> 20.62024 | F20: =IF(E20=0,0,E20/E$48) -> 0.57838586 | I20: 1 | J20: 2 | K20: 3 | L20: 4 | M20: 5 | N20: 6
A22: SV-loon grondslag voor berekening sociale verzekeringen | E22: =E20*0.96 -> 19.79543 | H22: Vakvolwassen 1 dienstjaar
A23: Premies Sociale Verzekeringen | C23: [zie premies en opslagen] | E23: =E22*'4-Premies en opslagen'!G25 -> 5.8234053 | H23: Vakvolwassen 2 dienstjaren
A24: Subtotaal loonkosten per uur inclusief sociale verzekeringen | E24: =E23+E20 -> 26.443645 | F24: =IF(E24=0,0,E24/E$48) -> 0.74172903 | H24: Vakvolwassen 3 dienstjaren
H25: Vakvolwassen 4 dienstjaren | J25: 0.2 | M25: 0.8
A26: Opslag niet werkbare dagen | C26: [zie premies en opslagen] | E26: =E24*'4-Premies en opslagen'!B54 -> 5.6577101 | H26: Totaal per loongroepen | I26: =SUM(I21:I25) -> 0 | J26: =SUM(J21:J25) -> 0.2 | K26: =SUM(K21:K25) -> 0 | L26: =SUM(L21:L25) -> 0 | M26: =SUM(M21:M25) -> 0.8 | N26: =SUM(N21:N25) -> 0 | O26: =SUM(I26:N26) -> 1
A27: Totaal loonkosten per uur | E27: =SUM(E24:E26) -> 32.101355 | F27: =IF(E27=0,0,E27/E$48) -> 0.90042454
H28: Medewerker | I28: Opbouw gemiddeld tarief
A29: Materiaal/- en middelen | C29: Projectgebonden! | E29: ='5-Opbouw uurtarief productie'!E29 -> 0.34 | F29: 0 | I29: 1 | J29: 2 | K29: 3 | L29: 4 | M29: 5 | N29: 6
A30: Werkkleding en uitrusting | C30: Projectgebonden! | E30: ='5-Opbouw uurtarief productie'!E30 -> 0.15 | F30: 0
H31: Vakvolwassen 1 dienstjaar | I31: =I22*I14 -> 0 | J31: =J22*J14 -> 0 | K31: =K22*K14 -> 0 | L31: =L22*L14 -> 0 | M31: =M22*M14 -> 0 | N31: =N22*N14 -> 0
H32: Vakvolwassen 2 dienstjaren | I32: =I23*I15 -> 0 | J32: =J23*J15 -> 0 | K32: =K23*K15 -> 0 | L32: =L23*L15 -> 0 | M32: =M23*M15 -> 0 | N32: =N23*N15 -> 0
A33: Totaal directe kosten | E33: =SUM(E27:E32) -> 32.591355 | F33: =IF(E33=0,0,E33/E$48) -> 0.91416876 | H33: Vakvolwassen 3 dienstjaren | I33: =I24*I16 -> 0 | J33: =J24*J16 -> 0 | K33: =K24*K16 -> 0 | L33: =L24*L16 -> 0 | M33: =M24*M16 -> 0 | N33: =N24*N16 -> 0
H34: Vakvolwassen 4 dienstjaren | I34: =I25*I17 -> 0 | J34: =J25*J17 -> 3.28 | K34: =K25*K17 -> 0 | L34: =L25*L17 -> 0 | M34: =M25*M17 -> 14.968 | N34: =N25*N17 -> 0
A35: Indirect toezicht | E35: ='5-Opbouw uurtarief productie'!E35 -> 0.37 | F35: =E35/$E$48 -> 0.010378287 | H35: Totaal per loongroepen | I35: =SUM(I30:I34) -> 0 | J35: =SUM(J30:J34) -> 3.28 | K35: =SUM(K30:K34) -> 0 | L35: =SUM(L30:L34) -> 0 | M35: =SUM(M30:M34) -> 14.968 | N35: =SUM(N30:N34) -> 0
A36: Managementkosten | E36: ='5-Opbouw uurtarief productie'!E36 -> 0.23 | F36: =E36/$E$48 -> 0.0064513676
A37: P.Z. kosten | E37: ='5-Opbouw uurtarief productie'!E37 -> 0.28 | F37: =E37/$E$48 -> 0.0078538388
A38: Opleiding | E38: ='5-Opbouw uurtarief productie'!E38 -> 0.28 | F38: =E38/$E$48 -> 0.0078538388
A39: Administratiekosten | E39: ='5-Opbouw uurtarief productie'!E39 -> 0.28 | F39: =E39/$E$48 -> 0.0078538388
A40: Huisvestingskosten | E40: ='5-Opbouw uurtarief productie'!E40 -> 0.17 | F40: =E40/$E$48 -> 0.0047684022
A41: Reiskosten/autokosten | C41: Projectgebonden! | E41: ='5-Opbouw uurtarief productie'!E41 -> 0 | F41: =E41/$E$48 -> 0
A42: Kosten verzuimbegeleiding | E42: ='5-Opbouw uurtarief productie'!E42 -> 0.2 | F42: =E42/$E$48 -> 0.0056098849
A44: Totaal indirecte kosten | E44: =SUM(E33:E43) -> 34.401355 | F44: =IF(E44=0,0,E44/E$48) -> 0.96493822
...

Sheet 7-Machine-investeringskosten
A3: ='1-Contractblad dag'!A3 -> Naam opdrachtgever | B3: ='1-Contractblad dag'!B3 -> Herman Broerenstichting
A4: ='1-Contractblad dag'!A4 -> Calculatie onderdeel | B4: Machine investeringskosten
A5: ='1-Contractblad dag'!A5 -> Gebouw/plaats | B5: ='1-Contractblad dag'!B5 -> Delft
A6: ='1-Contractblad dag'!A6 -> Besteknummer | B6: ='1-Contractblad dag'!B6 -> Calculatie Herman Broerenstichting -2024.01
A7: ='1-Contractblad dag'!A7 -> Naam leverancier | B7: ='1-Contractblad dag'!B7 -> Exploitatie calculatie
A8: ='1-Contractblad dag'!A8 -> Prijspeil | B8: ='1-Contractblad dag'!B8 -> 45473
A10: Machine investeringkosten
A12: Machine
A13: Omschrijving
A15: Kosten bij koop (excl. btw) | D15: Kostprijs
A16: Catalogusprijs
A17: Korting
A18: Netto aanschafprijs | D18: =D16-D17 -> 0
A19: Afschrijvingstermijn in jaren
