Workbook
Name Print_Area: Totaalblad!#REF!

Sheet Basisgegevens
A1: Basisgegevens Contract
A3: Aanbestedende Dienst
A4: Naam Opdrachtgever | B4: Digidact
A5: Vestigingsplaats Opdrachtgever
A6: Kvk-nummer
A7: Naam tekenbevoegde opdrachtgever voor contract
A8: Functie:
A10: Alpha Adviesbureau
A11: Contactpersoon | B11: Mitchel Vos
A12: Telefoonnummer | B12: 06 196 613 99
A13: Email adres | B13: mvos@alpha-adviesbureau.nl
A15: Inschrijver
A16: Volledige naam Inschrijver (Handelsnaam KvK)
A17: Vestigingsplaats Inschrijver (KvK)
A18: KvK-nummer
A19: Tekenbevoegde voor overeenkomt
A20: Functie
A22: Contactpersoon offerte
A23: Telefoonnummer Kantoor
A24: Postadres Kantoor
A25: PC + Woonplaats Kantoor
A26: Mobielnummer contactpersoon offerte
A27: E-mail adres contactpersoon offerte

Sheet Totaalblad
B1: Prijzenblad t.b.v. de gunning
B2: Instructie
B6: Onderdeel ICT Hardware | C6: Fictieve uitgave | D6: Kortings/opslagpercentage | E6: Kortingsbedrag | F6: Vergelijkingsprijs
A7: 1.1 | B7: ='1. Apple'!B3 -> iPad | C7: 1770000 | D7: ='1. Apple'!C9 -> 0 | E7: =SUM(C7*D7) -> 0 | F7: =SUM(C7-E7) -> 1770000
A8: 1.2 | B8: ='1. Apple'!B11 -> iPad Pro | C8: 55000 | D8: ='1. Apple'!C17 -> 0 | E8: =SUM(C8*D8) -> 0 | F8: =SUM(C8-E8) -> 55000
A9: 1.3 | B9: ='1. Apple'!B19 -> Macbooks | C9: 4750 | D9: ='1. Apple'!C24 -> 0 | E9: =SUM(C9*D9) -> 0 | F9: =SUM(C9-E9) -> 4750
A10: 1.4 | B10: ='1. Apple'!B26 -> Apple TV | C10: 105000 | D10: ='1. Apple'!C30 -> 0 | E10: =SUM(C10*D10) -> 0 | F10: =SUM(C10-E10) -> 105000
A11: 1.5 | B11: ='1. Apple'!B32 -> Oplaadkasten iPads | C11: 40000 | D11: ='1. Apple'!C41 -> 0 | E11: =SUM(C11*D11) -> 0 | F11: =SUM(C11+E11) -> 40000
A12: 2.1 | B12: ='2a. Accessoires Overig'!B3 -> Accessoires Overige merken | C12: 10000 | D12: ='2a. Accessoires Overig'!B7 -> 0 | E12: =SUM(C12*D12) -> 0 | F12: =SUM(C12+E12) -> 10000
A13: 2.2 | B13: ='2b. Accessoires Apple'!B3 -> Accessoires Apple | C13: 10000 | D13: ='2b. Accessoires Apple'!B7 -> 0 | E13: =SUM(C13*D13) -> 0 | F13: =SUM(C13-E13) -> 10000
B14: Onderdeel overige leveringen/diensten | F14: Vergelijkingsprijs
A15: 3.1 | B15: ='3. Reparatietarieven'!B3 -> Reparatietarieven | F15: ='3. Reparatietarieven'!E8 -> 5000
A16: 4.1 | B16: ='4. Overige diensten'!B3 -> Overige diensten | F16: ='4. Overige diensten'!E7 -> 0
D18: Totaal vergelijkingsprijs | F18: =SUM(F7:F13)+F15+F16 -> 1999750

Sheet 1. Apple
B1: Apple
A3: 1.1 | B3: iPad
B4: Technische Specificatie | C4: Omschrijving
B5: Model | C5: Leverancier kan de meest actuele iPad leveren. De opdrachtgever maakt bij de aanschaf een keuze voor het model binnen deze overeenkomst.
B6: Opslag | C6: Minimaal 64 Gb
B7: Kleuren | C7: Alle beschikbare kleuren
B8: Prijzen iPad
B9: Let op: kortingspercentage
A11: 1.2 | B11: iPad Pro
B12: Technische Specificatie | C12: Omschrijving
B13: Model | C13: Leverancier kan de meest actuele iPad Pro leveren. De opdrachtgever maakt bij de aanschaf een keuze voor het model binnen deze overeenkomst.
B14: Opslag | C14: Minimaal 128 Gb
B15: Kleuren | C15: Alle beschikbare kleuren
B16: Prijzen iPad Pro
B17: Let op: kortingspercentage
A19: 1.3 | B19: Macbooks
B20: Technische Specificatie | C20: Omschrijving
B21: Model | C21: Leverancier kan de meest actuele Macbooks leveren. De opdrachtgever maakt bij de aanschaf een keuze voor het model binnen deze overeenkomst.
B22: Kleuren | C22: Alle beschikbare kleuren
B23: Prijzen Macbooks
B24: Let op: kortingspercentage
A26: 1.4 | B26: Apple TV
B27: Technische Specificatie | C27: Omschrijving
B28: Model | C28: Leverancier kan de meest actuele Apple TV leveren. De opdrachtgever maakt bij de aanschaf een keuze voor het model binnen deze overeenkomst.
B29: Prijzen Apple TV
B30: Let op: kortingspercentage
A32: 1.5 | B32: Oplaadkasten iPads
B33: Technische Specificatie | C33: Omschrijving
B34: Omvang/grote | C34: Leverbaar in verschillende oplaadkasten: minimaal 10 en 20 iPads.
B35: Afsluitbaar | C35: De oplaadkast is afsluitbaar met een slot.
B36: Inclusief hoes | C36: De iPads passen inclusief hoes in de oplaadkast.
B37: Stroom | C37: Oplaadkast is voorzien van een 220V stopcontact (geaard en gezekerd).
B38: Aansluitingen | C38: Lightning aansluiting. Er dient een mogelijkheid te zijn om een verwisselbare aansluitkoppelstuk op de aansluiting te plaatsen, minimaal USB C.
B39: Kabels | C39: De kabels zijn volledig weggewerkt in de oplaadkast.
B40: Prijzen Oplaadkast
B41: Let op: opslagpercentage (minimaal 3%)

Sheet 2a. Accessoires Overig
B1: Accessoires Overige merken
A3: 2.1 | B3: Accessoires Overige merken
B4: De opdrachtgever heeft de mogelijkheid om accessoires voor de alle Devices bij te bestellen tegen een vast opslagpercentage. Onder accessoires wordt verstaan maar niet beperkt tot: toetsenborden, muizen, beschermhoesen, dockingstations etc.
B5: De accessoires kunnen besteld worden in de webshop van de leverancier, met de opgegeven opslagpercentage. Het minimale opslagpercentage is 3%.
B6: Let op: opslagpercentage (minimaal 3%)

Sheet 2b. Accessoires Apple
B1: Accessoires Apple
A3: 2.2 | B3: Accessoires Apple
B4: De opdrachtgever heeft de mogelijkheid om accessoires voor de alle Devices bij te bestellen tegen een vast kortingspercentage. Onder accessoires wordt verstaan maar niet beperkt tot: toetsenborden, muizen, beschermhoesen, dockingstations etc.
B5: De accessoires kunnen besteld worden in de webshop van de leverancier, met de opgegeven kortingspercentage.
B6: Let op: kortingspercentage

Sheet 3. Reparatietarieven
A1: Reparatietarieven
A3: 3.1 | B3: Reparatietarieven | C3: Fictieve aantallen / eenheden | D3: Uurtarief | E3: Totaal
B4: Uurtarief reparatiewerkzaamheden | C4: 50 | E4: =SUM(C4*D4) -> 0
B5: Onderzoekskosten | C5: 50 | E5: =SUM(C5*D5) -> 0
C6: Fictieve inkoopwaarde | D6: Opslagpercentage
B7: Opslagpercentage onderdelen | C7: 5000 | E7: =SUM(C7*D7)+C7 -> 5000
D8: Totaal | E8: =SUM(E4:E7) -> 5000

Sheet 4. Overige diensten
A1: Overige diensten (optioneel)
A3: 4.1 | B3: Overige diensten | C3: Fictief aantal | D3: Prijs per stuk | E3: Totaal
B4: Uitpakken en afvoeren verpakkingsmateriaal | C4: 50 | E4: =SUM(C4*D4) -> 0
B5: Labelen (onuitwisbare sticker) gekoppeld aan CMDB; | C5: 50 | E5: =SUM(C5*D5) -> 0
B6: Volledig werkend opleveren | C6: 50 | E6: =SUM(C6*D6) -> 0
D7: Totaal | E7: =SUM(E4:E6) -> 0
