Workbook

Sheet Voorblad
B2: Tabblad: Voorblad
B3: Europese Openbare aanbesteding "2-in-1 systeem Objectenregistratie en Basis Beheersysteem Openbare Ruimte"
B4: Kenmerk: AL23100/ TenderNed kenmerk: 416584
B5: Datum: 15-06-2023/ Versie: 1.0
B6: Naam Inschrijver: | C6: Invullen op voorblad

Sheet Instructie
B2: Tabblad: Instructie
B3: =Voorblad!$B$3 -> Europese Openbare aanbesteding "2-in-1 systeem Objectenregistratie en Basis Beheersysteem Openbare Ruimte"
B4: Nr. | C4: Invulinstructie
B5: 1 | C5: Inschrijver dient uitsluitend de geel gearceerde cellen te voorzien van de gevraagde informatie. Om de werking van het prijzenblad te laten zien staat er nu fictief 1,00 euro of het getal 1 in. Dit kan Inschrijver zelf aanpassen.
B6: 2 | C6: De in te vullen bedragen zijn gebaseerd op de in Offerteaanvraag en bijlagen vermelde informatie.
B7: 3 | C7: Inschrijvers dienen alle gevraagde prijzen volledig in te vullen met gebruikmaking van dit prijzenblad. Tabblad [Totale kosten] dient Inschrijver rechtsgeldig te ondertekenen en separaat in te dienen (naast een excel-versie).
B8: 4 | C8: De prijzen dienen alle kosten te bevatten die nodig zijn voor het uitvoeren van de werkzaamheden, inclusief overhead, uitvoeringskosten, reiskosten, algemene kosten, winst en risico, afschrijvingskosten en dergelijke. Kosten welke niet in de template zijn opgenomen kunnen niet bij de Opdrachtgever in rekening worden gebracht.
B9: 5 | C9: De prijsopgave dient in Euro’s en exclusief BTW te geschieden.
B10: 6 | C10: Het indienen van negatieve prijzen, prijzen onder de onderdrempel of boven de bovendrempel (per prijsitem) (indien van toepassing) is niet toegestaan op straffe van uitsluiting. Zie tabblad [additionele kosten] en tabblad [Totale kosten].
B11: 7 | C11: De opgegeven prijzen dienen op maximaal twee cijfers achter de komma te worden afgerond.
B12: 8 | C12: Abnormaal lage prijzen kunnen door Opdrachtgever gecontroleerd/nagevraagd worden, conform artikel 2.116 Aw kan de Inschrijving ongeldig worden verklaard.
B13: 9 | C13: Het verkeerd interpreteren van het prijzenblad komt voor verantwoordelijkheid van Inschrijver. Vragen omtrent dit prijzenblad kunnen gesteld worden, conform de mogelijkheden die staan beschreven in de Offerteaanvraag.
B14: 10 | C14: Het aanbrengen van wijzigingen of het doen van aanvullingen (tenzij Opdrachtgever expliciet hier toestemming voor heeft gegeven) in de prijzenbladen kan tot ongeldigverklaring van uw Inschrijving leiden en derhalve tot uitsluiting.
B15: 11 | C15: Het niet volledig invullen van deze bijlage kan tot ongeldigverklaring van uw Inschrijving en derhalve tot uitsluiting leiden.
B16: Toelichting tabbladen
B17: 12 | C17: Tabblad [Voorblad]: Inschrijver dient eenmalig zijn naam in te vullen in het tabblad 'voorblad'.
B18: 13 | C18: Tabblad [Instructie]: Dit tabblad, in dit tabblad wordt een algemene toelichting en een toelichting op de verschillende onderdelen per tabblad benoemd.
B19: 14 | C19: Tabblad [Eenmalige kosten]: in dit tabblad zijn de eenmalige kosten opgenomen.
B20: 15 | C20: Tabblad [Structurele kosten]: in dit tabblad zijn de variabele kosten opgenomen.
B21: 16 | C21: Tabblad [Additionele kosten]: in dit tabblad zijn verschillende functieprofielen opgenomen, waarbij de Inschrijver per functieprofiel een uurtarief dient op te geven. De uurtarieven gaan uit van een fictief aantal uren (voor de weging). Inschrijver kan hier geen rechten aan ontlenen.
B22: 17 | C22: Tabblad [Totaal]: dit tabblad wordt automatisch gevuld, Inschrijver hoeft deze niet te vullen.

Sheet Eenmalige kosten
B2: Tabblad Eenmalige kosten
B3: =Voorblad!B3 -> Europese Openbare aanbesteding "2-in-1 systeem Objectenregistratie en Basis Beheersysteem Openbare Ruimte"
B4: =Voorblad!B4 -> Kenmerk: AL23100/ TenderNed kenmerk: 416584
B5: =Voorblad!B5 -> Datum: 15-06-2023/ Versie: 1.0
B6: Naam Inschrijver: | C6: =Voorblad!C6 -> Invullen op voorblad
B8: Prijsitem 1 Project- en implementatiekosten | C8: Bedrag excl. BTW
B9: Toelichting: Gebruiksklaar opleveren van het Systeem. Dit betekent op hoofdlijnen: de aanschaf, implementatie, doorontwikkeling en gebruiksrecht van een Objectenregistratie en Basis beheersysteem conform IMBOR 2022. Inschrijver dient dit af te prijzen met inachtneming van paragraaf 1.3 [Soll- Beschrijving van de gewenste omgeving] van de Offerteaanvraag. | C9: 1
B10: Subtotaal prijsitem 1 | C10: =C9 -> 1
B12: Prijsitem 2 Opleidingen | C12: Bedrag excl. BTW
B13: Toelichting: Zie paragraaf 1.3 [Soll- Beschrijving van de gewenste omgeving] van de Offerteaanvraag. Dit betekent op hoofdlijnen: • Opleiding voor functioneel beheerders; • Opleiding voor gegevensbeheerders. | C13: 1
B14: Subtotaal prijsitem 2 | C14: =C13 -> 1
B16: Prijsitem 3 Koppelingen | C16: Bedrag excl. BTW
B17: Toelichting: Zie figuur 2 [Architectuur Integrale beheeromgeving met objectenregistratie en basis beheersysteem] van de Offerteaanvraag.
B18: 3a. Gegevensuitwisseling tussen Systeem en Geovoorziening (Neuron BGT) via horizontaal berichtenverkeer. | C18: 1
B19: 3b. Gegevensuitwisseling tussen Systeem en ontwerpomgeving conform NLCS en IMBOR en tussen Systeem en Revisieomgeving. | C19: 1
B20: 3c. Gegevensuitwisseling tussen Systeem en zaaksysteem en documentmanagement (huidig is Djuma). | C20: 1
B21: 3d Gegevensuitwisseling tussen Systeem en Externe applicatie ABSweb voor het beheer van speelvoorzieningen. | C21: 1
B22: 3e. Gegevensuitwisseling tussen Systeem en Externe applicatie LMS voor beheer van openbare verlichting. | C22: 1
B23: 3f. Gegevensuitwisseling tussen Objectenregistratie en SAM voor het beheer van gemalen. | C23: 1
B24: 3g. Gegevensuitwisseling tussen Objectenregistratie en het telemetriesysteem H2GO. | C24: 1
B25: 3h. Gegevensuitwisseling tussen Systeem en landelijke portalen gwsw.nl, pdok.nl en SENSRnet. | C25: 1
B26: 3i. Gegevensuitwisseling tussen Systeem en interne raadpleegomgeving Vertex. | C26: 1
B27: 3j. Gegevensuitwisseling tussen Systeem en landelijke omgeving voor de registratie van boven- en ondergrondse netten (WIBON (eventueel via een tussenpartij). | C27: 1
B28: Subtotaal prijsitem 3 | C28: =SUM(C18:C27) -> 10
B29: TOTAAL EENMALIGE KOSTEN EXCL. BTW (Optelsom van subtotaal prijsitem 1 t/m subtotaal prijsitem 3. | C29: =C10+C14+C28 -> 12

Sheet Structurele kosten
B2: Tabblad Structurele kosten
B3: =Voorblad!B3 -> Europese Openbare aanbesteding "2-in-1 systeem Objectenregistratie en Basis Beheersysteem Openbare Ruimte"
B4: =Voorblad!B4 -> Kenmerk: AL23100/ TenderNed kenmerk: 416584
B5: =Voorblad!B5 -> Datum: 15-06-2023/ Versie: 1.0
B6: Naam Inschrijver: | C6: =Voorblad!C6 -> Invullen op voorblad
B8: Prijsitem 4 Structurele kosten Systeem | C8: Prijs/ maand excl. BTW | D8: Maanden | E8: Bedrag excl. BTW
B9: Toelichting: Deze kosten zijn incl. software/licenties en beheer en onderhoud van het Systeem (de Objectenregistratie en het Basis beheersysteem), dit is incl. support, hostingskosten, instructie gebruikers. Deze structurele kosten mogen na de initiële looptijd van 4 jaar jaarlijks geïndexeerd worden conform Gibit. | C9: 1 | D9: 120 | E9: =C9*D9 -> 120
B10: Subtotaal prijsitem 4 | E10: =E9 -> 120
B12: Prijsitem 5 Structurele kosten koppelingen | C12: Prijs/ maand excl. BTW | D12: Maanden | E12: Bedrag excl. BTW
B13: Toelichting: Dit betreft de maandelijkse kosten voor het beheer en onderhoud van de koppelingen welke staan gespecificeerd in tabblad eenmalige kosten. | C13: 1 | D13: 120 | E13: =C13*D13 -> 120
B14: Subtotaal prijsitem 5 | E14: =E13 -> 120
B15: TOTAAL STRUCTURELE KOSTEN LOOPTIJD 120 MAANDEN EXCL. BTW (Optelsom van subtotaal prijsitem 4 t/m subtotaal prijsitem 5). | E15: =E10+E14 -> 240

Sheet Additionele kosten
B2: Tabblad Additionele kosten
B3: =Voorblad!B3 -> Europese Openbare aanbesteding "2-in-1 systeem Objectenregistratie en Basis Beheersysteem Openbare Ruimte"
B4: =Voorblad!B4 -> Kenmerk: AL23100/ TenderNed kenmerk: 416584
B5: =Voorblad!B5 -> Datum: 15-06-2023/ Versie: 1.0
B6: Naam Inschrijver: | C6: =Voorblad!C6 -> Invullen op voorblad
B8: Prijsitem 6 Dienstverlening | C8: Aantal fictieve uren | D8: Uurtarief excl. BTW | E8: Totale fictieve kosten, looptijd 120 maanden, excl. BTW (TCO)
B9: Toelichting: Bij elke functie gaat het om senior functieprofielen (meer dan 5 jaar relevante werkervaring). Onderstaande uurtarieven zijn van toepassing op mogelijk toekomstig meerwerk voor bijvoorbeeld koppelingen welke op termijn gerealiseerd dienen te worden/ verdere doorontwikkeling. Het aantal fictieve uren zijn zoals het woord al zegt 'fictief, het aantal uur kan meer of minder worden (werken als wegingsfactor voor de TCO-berekening voor de looptijd van 120 maanden) . Prijsplafond max. € 135,00 excl. BTW per uur voor onderstaande functieprofielen. Deze tarieven mogen na de initiële looptijd van 4 jaar jaarlijks conform GIBIT geïndexeerd worden.
B10: 6a. Consultant | C10: 200 | D10: 1 | E10: =C10*D10 -> 200
B11: 6b. Projectleider | C11: 100 | D11: 1 | E11: =C11*D11 -> 100
B12: 6c. Adviseur | C12: 100 | D12: 1 | E12: =C12*D12 -> 100
B13: Subtotaal prijsitem 6 | E13: =SUM(E10:E12) -> 400
B14: TOTAAL FICTIEVE ADDITIONELE KOSTEN EXCL. BTW | E14: =E13 -> 400

Sheet Totale kosten
B2: Tabblad Totale kosten
B3: =Voorblad!B3 -> Europese Openbare aanbesteding "2-in-1 systeem Objectenregistratie en Basis Beheersysteem Openbare Ruimte"
B4: =Voorblad!B4 -> Kenmerk: AL23100/ TenderNed kenmerk: 416584
B5: =Voorblad!B5 -> Datum: 15-06-2023/ Versie: 1.0
B6: Naam Inschrijver: | C6: =Voorblad!C6 -> Invullen op voorblad
B8: Prijsitem | C8: Type kosten | D8: Totale kosten, looptijd 120 maanden, excl. BTW
B9: ='Eenmalige kosten'!B8 -> Prijsitem 1 Project- en implementatiekosten | C9: Eenmalige kosten | D9: ='Eenmalige kosten'!C10 -> 1
B10: ='Eenmalige kosten'!B12 -> Prijsitem 2 Opleidingen | C10: Eenmalige kosten | D10: ='Eenmalige kosten'!C14 -> 1
B11: ='Eenmalige kosten'!B16 -> Prijsitem 3 Koppelingen | C11: Eenmalige kosten | D11: ='Eenmalige kosten'!C28 -> 10
B12: ='Structurele kosten'!B8 -> Prijsitem 4 Structurele kosten Systeem | C12: Structurele kosten | D12: ='Structurele kosten'!E10 -> 120
B13: ='Structurele kosten'!B12 -> Prijsitem 5 Structurele kosten koppelingen | C13: Structurele kosten | D13: ='Structurele kosten'!E14 -> 120
D14: =SUM(D9:D13) -> 252
B16: ='Additionele kosten'!B8 -> Prijsitem 6 Dienstverlening | C16: Additionele kosten | D16: ='Additionele kosten'!E13 -> 400 | E16: 54000 | F16: Prijsplafond prijsitems 6
B17: Totale Inschrijfprijs | D17: =D14+D16 -> 652
B19: Rechtsgeldige ondertekening Inschrijver Toelichting: (dit blad als. Pdf indienen) en daarnaast een excel versie met alle tabbladen.
B20: Naam:
B21: Functie:
B22: Datum:
B23: Handtekening:
