Workbook

Sheet 0. Gunningsmatrix
A1: Gunningscriterium | C1: Domein | D1: %weging op totaal 100% | E1: Maximale punten | F1: Initiële score | G1: Gewogen punten)*
A2: 1 | B2: Kwaliteit | C2: Zaakdomein | D2: 0.15 | E2: ='2. Wensen'!J63 -> 650 | F2: ='2. Wensen'!Q63 -> 0 | G2: =(F2/E2)*D2*100 -> 0
C3: Locatiedomein | D3: 0.15 | E3: ='2. Wensen'!K63 -> 160 | F3: ='2. Wensen'!R63 -> 0 | G3: =(F3/E3)*D3*100 -> 0
C4: Documentdomein | D4: 0.1 | E4: ='2. Wensen'!L63 -> 140 | F4: ='2. Wensen'!S63 -> 0 | G4: =(F4/E4)*D4*100 -> 0
C5: Toezichtdomein | D5: 0.15 | E5: ='2. Wensen'!M63 -> 280 | F5: ='2. Wensen'!T63 -> 0 | G5: =(F5/E5)*D5*100 -> 0
C6: Gebruik | D6: 0.2 | E6: ='2. Wensen'!N63 -> 720 | F6: ='2. Wensen'!U63 -> 0 | G6: =(F6/E6)*D6*100 -> 0
C7: Overig | D7: 0.05 | E7: ='2. Wensen'!O63 -> 220 | F7: ='2. Wensen'!V63 -> 0 | G7: =(F7/E7)*D7*100 -> 0
C8: Totaal Kwaliteit | D8: =+SUM(D2:D7) -> 0.8 | G8: =+SUM(G2:G7) -> 0
A9: 2 | B9: Prijs | C9: Exploitatiekosten | D9: 0.2 | E9: 20 | F9: =IF('3. Prijsopgave'!D14<>"",('3. Prijsopgave'!C14-'3. Prijsopgave'!D14)/('3. Prijsopgave'!C14-'3. Prijsopgave'!B14)*E9,"") | G9: =F9
A10: Totaal score | D10: =D8+D9 -> 1 | G10: =IF(G9<>"",G8+G9,"")
A11: )* De definitieve score wordt bepaald door de beoordelingscommissie, zie het Beschrijvend document voor het beoordelingsproces.
B13: Voortgang)**
B14: Tabblad 0. Gunningsmatrix: | D14: Tabblad wordt automatisch ingevuld
B15: Tabblad 1. Eisen: | D15: =IF('1. Eisen'!I80>0,"Niet volledig ingevuld","Volledig ingevuld") -> Niet volledig ingevuld
B16: Tabblad 2. Wensen: | D16: =IF('2. Wensen'!I63>0,"Niet volledig ingevuld","Volledig ingevuld") -> Niet volledig ingevuld
B17: Tabblad 3. Prijsopgave: | D17: =IF('3. Prijsopgave'!D14="","Niet volledig ingevuld","Volledig ingevuld") -> Niet volledig ingevuld
B18: Tabblad 4. Projectkosten: | D18: Tabblad wordt automatisch ingevuld
B19: Tabblad 5. Exploitatiekosten: | D19: Tabblad wordt automatisch ingevuld
B20: )** Zie tabblad Invulinstructie voor een toelichting op het invullen van dit invulformulier.

Sheet 1. Eisen
A1: Nr. | B1: Domein | C1: Pnt | D1: Beschrijving eis | E1: Oplossing voldoet? | F1: Initiële uitkomst | G1: Verificatie? | I1: Leeg
A2: E01 | B2: Zaakdomein | C2: KO | D2: De Oplossing ondersteunt zaakgericht werken volgens het Informatiemodel Zaken (RGBZ) van de GEMMA, versie 1.0 of hoger. Eis wordt ondersteund bij inschrijving. | F2: =IF(E2="","",IF(E2="Nee","Knock-Out","Voldoet")) | G2: =IF(E2="","",IF(E2="Ja","Ja","Nee")) | I2: =IF(E2="",1,0) -> 1
A3: E02 | B3: Zaakdomein | C3: KO | D3: De Oplossing ondersteunt zaakgericht werken volgens Informatiemodel Zaaktypecatalogus 2 (ImZTC2) van de GEMMA, versie 2.1 of hoger. Eis wordt ondersteund bij inschrijving. | F3: =IF(E3="","",IF(E3="Nee","Knock-Out","Voldoet")) | G3: =IF(E3="","",IF(E3="Ja","Ja","Nee")) | I3: =IF(E3="",1,0) -> 1
A4: E03 | B4: Zaakdomein | C4: KO | D4: De Oplossing ondersteunt CHECKLISTITEM als attribuut van objecttype STATUSTYPE, zoals beschreven in ImZTC2, versie 2.1 of hoger. Eis wordt ondersteund bij inschrijving. | F4: =IF(E4="","",IF(E4="Nee","Knock-Out","Voldoet")) | G4: =IF(E4="","",IF(E4="Ja","Ja","Nee")) | I4: =IF(E4="",1,0) -> 1
A5: E04 | B5: Zaakdomein | C5: KO | D5: De Oplossing ondersteunt PRODUCT/DIENST als groepsattribuut van objecttype ZAAKTYPE, zoals beschreven in ImZTC2, versie 2.1 of hoger. Eis wordt ondersteund bij inschrijving. | F5: =IF(E5="","",IF(E5="Nee","Knock-Out","Voldoet")) | G5: =IF(E5="","",IF(E5="Ja","Ja","Nee")) | I5: =IF(E5="",1,0) -> 1
A6: E05 | B6: Zaakdomein | C6: KO | D6: De Oplossing bevat een standaard set van zaaktypes, gebaseerd op de zaaktype catalogus voor de Omgevingswet die is gepubliceerd door het programma 'Aan de slag met de Omgevingswet' (zie https://omgevingswet.wiki/bin/view/Zaaktypecatalogi/CAT_97oa2kKoeuKy8/). Eis wordt ondersteund bij inschrijving. | F6: =IF(E6="","",IF(E6="Nee","Knock-Out","Voldoet")) | G6: =IF(E6="","",IF(E6="Ja","Ja","Nee")) | I6: =IF(E6="",1,0) -> 1
A7: E06 | B7: Zaakdomein | C7: KO | D7: De Oplossing ondersteunt het inrichten van eigen zaaktypen door Opdrachtgever, binnen de mogelijkheden die het ImZTC2 biedt. Eis wordt ondersteund bij inschrijving. | F7: =IF(E7="","",IF(E7="Nee","Knock-Out","Voldoet")) | G7: =IF(E7="","",IF(E7="Ja","Ja","Nee")) | I7: =IF(E7="",1,0) -> 1
A8: E07 | B8: Zaakdomein | C8: KO | D8: De Oplossing ondersteunt het aanpassen van de standaard set van zaaktypes door opdrachtgever, op alle attributen uit het ImZTC2, door een geautoriseerde gebruiker. Eis wordt ondersteund bij inschrijving. | F8: =IF(E8="","",IF(E8="Nee","Knock-Out","Voldoet")) | G8: =IF(E8="","",IF(E8="Ja","Ja","Nee")) | I8: =IF(E8="",1,0) -> 1
A9: E08 | D9: Vervallen
A10: E09 | B10: Zaakdomein | C10: KO | D10: Voor het behandelen van zaken en taken heeft de behandelaar de beschikking over het instrument: - Fiattering. Dit instrumenten kan als taak worden toegewezen aan een gebruiker. Relevante documenten uit de zaak kunnen worden gekoppeld aan de taak en de taak kan worden voorzien van schriftelijke instructie en een reactie. De taak wordt toegevoegd aan de werkvoorraad van de toegewezen behandelaar of behandelgroep. Eis wordt ondersteund bij inschrijving. | F10: =IF(E10="","",IF(E10="Nee","Knock-Out","Voldoet")) | G10: =IF(E10="","",IF(E10="Ja","Ja","Nee")) | I10: =IF(E10="",1,0) -> 1
A11: E10 | D11: Vervallen
A12: E11 | B12: Zaakdomein | C12: KO | D12: Bij het aanmaken van een vervolgzaak of deelzaak worden automatisch de toegangsrechten overgenomen uit de aanleidende zaak of hoofdzaak. Eis wordt ondersteund bij inschrijving. | F12: =IF(E12="","",IF(E12="Nee","Knock-Out","Voldoet")) | G12: Nee | I12: =IF(E12="",1,0) -> 1
A13: E12 | B13: Zaakdomein | C13: KO | D13: De Oplossing ondersteunt het aanmaken en publiceren van webformulieren: - Op basis van een ingestuurd webformulier wordt automatisch een zaak aangemaakt in de applicatie, inclusief bijbehorende attributen en documenten die worden overgenomen van het webformulier. - Deze webformulieren kunnen worden ingericht en beheerd voor alle zaaktypen, door een geautoriseerde Gebruiker van Opdrachtgever. Eis wordt ondersteund bij inschrijving. | F13: =IF(E13="","",IF(E13="Nee","Knock-Out","Voldoet")) | G13: =IF(E13="","",IF(E13="Ja","Ja","Nee")) | I13: =IF(E13="",1,0) -> 1
A14: E13 | B14: Zaakdomein | C14: KO | D14: De Oplossing ondersteunt het relateren van objecten uit het Locatiedomein aan een zaak, bijvoorbeeld een Locatieobject of Contactpersoon. Attributen uit het locatiedomein die nodig zijn voor de afhandeling van een zaak, bijvoorbeeld bevoegd gezag of contactgegevens, worden automatisch overgenomen in de zaak. Attributen die automatisch zijn overgenomen kunnen worden geblokkeerd voor handmatig wijzigen, maar kunnen ook open blijven staan voor handmatig wijzigen. Eis wordt ondersteund bij inschrijving. | F14: =IF(E14="","",IF(E14="Nee","Knock-Out","Voldoet")) | G14: =IF(E14="","",IF(E14="Ja","Ja","Nee")) | I14: =IF(E14="",1,0) -> 1
A15: E14 | B15: Zaakdomein | C15: KO | D15: De Oplossing ondersteunt het in bulk laden van zaken die worden aangeboden in een gestructureerd formaat (bijvoorbeeld csv), door een geautoriseerde gebruiker. Bulk laden is beschikbaar voor alle zaaktypes en voor alle attributen van deze zaaktypes. Eis wordt ondersteund bij livegang. | F15: =IF(E15="","",IF(E15="Nee","Knock-Out","Voldoet")) | G15: Nee | I15: =IF(E15="",1,0) -> 1
A16: E15 | B16: Zaakdomein | C16: KO | D16: De Oplossing ondersteunt het wijzigen van behandelaar van een lopende zaak, door een geautoriseerde gebruiker. Eis wordt ondersteund bij inschrijving. | F16: =IF(E16="","",IF(E16="Nee","Knock-Out","Voldoet")) | G16: =IF(E16="","",IF(E16="Ja","Ja","Nee")) | I16: =IF(E16="",1,0) -> 1
A17: E16 | B17: Zaakdomein | C17: KO | D17: De Oplossing ondersteunt het wijzigen van het zaaktype en product van een lopende zaak door geautoriseerde gebruiker, tot en met status 'Inhoudelijke behandeling'. Eis wordt ondersteund bij inschrijving. | F17: =IF(E17="","",IF(E17="Nee","Knock-Out","Voldoet")) | G17: Nee | I17: =IF(E17="",1,0) -> 1
A18: E17 | B18: Zaakdomein | C18: KO | D18: De Oplossing geeft een integraal beeld van de werkvoorraad voor een individuele gebruiker of voor een groep gebruikers, met voortgang en termijn van zaken en onderliggende deelzaken en taken. Eis wordt ondersteund bij inschrijving. | F18: =IF(E18="","",IF(E18="Nee","Knock-Out","Voldoet")) | G18: =IF(E18="","",IF(E18="Ja","Ja","Nee")) | I18: =IF(E18="",1,0) -> 1
A19: E18 | B19: Zaakdomein | C19: KO | D19: Voor het behandelen van zaken heeft de behandelaar de beschikking over de instrumenten: - Opschorten van de zaak (aanvraag is niet compleet, verzoek om aanvullende informatie verstuurd, of andere reden). - Verlengen van de termijn van een zaak of taak (behandeltermijn wordt verlengd, al dan niet conform wettelijke normen). Instrumenten zijn in alle zaak statussen, tot status 'zaak afgerond', beschikbaar. Voor het opschorten van de zaak wordt zowel de vaste termijn als de variabele termijn van opschorting ondersteund. Eis wordt ondersteund bij inschrijving. | F19: =IF(E19="","",IF(E19="Nee","Knock-Out","Voldoet")) | G19: =IF(E19="","",IF(E19="Ja","Ja","Nee")) | I19: =IF(E19="",1,0) -> 1
A20: E19 | B20: Zaakdomein | C20: KO | D20: De Oplossing ondersteunt in het versturen van e-mail vanuit de zaak, relevante zaak documenten kunnen worden toegevoegd en worden aan de ontvanger van de e-mail aangeboden in een beveiligde omgeving, waar de ontvanger de documenten kan ophalen. De e-mail wordt automatisch geregistreerd in het zaakdossier. Een reactie mail (Reply) wordt automatisch gekoppeld aan de zaak en opgeslagen in het zaakdossier. Eis wordt ondersteund bij inschrijving. | F20: =IF(E20="","",IF(E20="Nee","Knock-Out","Voldoet")) | G20: =IF(E20="","",IF(E20="Ja","Ja","Nee")) | I20: =IF(E20="",1,0) -> 1
A21: E20 | B21: Zaakdomein | C21: KO | D21: De Oplossing ondersteunt termijnbewaking op termijnen van zaken, statusovergangen, en uitgezette acties (collegiale toets, fiattering, intern/extern advies, etc.). Het overzicht van de werkvoorraad geeft inzicht in deze termijnbewaking. Eis wordt ondersteund bij inschrijving. | F21: =IF(E21="","",IF(E21="Nee","Knock-Out","Voldoet")) | G21: =IF(E21="","",IF(E21="Ja","Ja","Nee")) | I21: =IF(E21="",1,0) -> 1
A22: E21 | D22: Vervallen
A23: E22 | B23: Zaakdomein | C23: KO | D23: De bevindingen van een toezicht zaak worden automatisch als Bevinding objecten, met bijbehorende Checklist afname object, toegevoegd aan het locatiedomein voor het betreffende Locatieobject, voor beide situaties: - Als de bevindingen worden aangeboden op het koppelvlak met een externe Mobiel toezicht applicatie. - Als de bevindingen worden gegenereerd met de Mobiel toezicht functie van het Zaaksysteem. Eis wordt ondersteund bij livegang. | F23: =IF(E23="","",IF(E23="Nee","Knock-Out","Voldoet")) | G23: =IF(E23="","",IF(E23="Ja","Ja","Nee")) | I23: =IF(E23="",1,0) -> 1
A24: E23 | B24: Zaakdomein | C24: KO | D24: Voor het behandelen van zaken en taken heeft de behandelaar de beschikking over het instrument: - Collegiale toets Dit instrument kan als taak worden toegewezen aan een gebruiker. Relevante documenten uit de zaak kunnen worden gekoppeld aan de taak en de taak kan worden voorzien van schriftelijke instructie en een reactie. De taak wordt toegevoegd aan de werkvoorraad van de toegewezen behandelaar of behandelgroep. Eis wordt ondersteund bij inschrijving. | F24: =IF(E24="","",IF(E24="Nee","Knock-Out","Voldoet")) | G24: =IF(E24="","",IF(E24="Ja","Ja","Nee")) | I24: =IF(E24="",1,0) -> 1
A25: E24 | D25: Vervallen
A26: E25 | B26: Zaakdomein | C26: KO | D26: Voor het behandelen van zaken heeft de behandelaar de beschikking over het instrument: - Extern advies Dit instrument kan als taak worden toegewezen aan een externe behandelaar. Relevante documenten uit de zaak kunnen worden gekoppeld aan de taak en de taak kan worden voorzien van schriftelijke instructie. De taak wordt automatisch per mail verstuurd aan de externe behandelaar, een reactie per mail wordt automatisch gekoppeld aan de zaak en opgeslagen in het zaakdossier. Onder de Omgevingswet is het mogelijk om de samenwerking vanuit de zaak af te handelen via DSO Samenwerkingsvoorziening. Eis wordt ondersteund bij inschrijving. | F26: =IF(E26="","",IF(E26="Nee","Knock-Out","Voldoet")) | G26: =IF(E26="","",IF(E26="Ja","Ja","Nee")) | I26: =IF(E26="",1,0) -> 1
A27: E26 | B27: Zaakdomein | C27: KO | D27: Onder objecttype EIGENSCHAP, zoals beschreven in ImZTC2, kunnen tenminste 25 EIGENSCHAPPEN per zaaktype vrij worden gedefinieerd. Eis wordt ondersteund bij inschrijving. | F27: =IF(E27="","",IF(E27="Nee","Knock-Out","Voldoet")) | G27: =IF(E27="","",IF(E27="Ja","Ja","Nee")) | I27: =IF(E27="",1,0) -> 1
A28: E27 | B28: Zaakdomein | C28: KO | D28: Instrumenten die ter beschikking staan van de behandelaar van een zaak of taak, kunnen meervoudig worden ingezet binnen een taak en binnen dezelfde status van een zaak. Eis wordt ondersteund bij inschrijving. | F28: =IF(E28="","",IF(E28="Nee","Knock-Out","Voldoet")) | G28: =IF(E28="","",IF(E28="Ja","Ja","Nee")) | I28: =IF(E28="",1,0) -> 1
A29: E28 | B29: Zaakdomein | C29: KO | D29: De Oplossing ondersteunt het handmatig aanmaken van een deel- of vervolgzaak. Relevante informatie en relevante documenten worden overgenomen uit de aanleidende zaak. Eis wordt ondersteund bij inschrijving. | F29: =IF(E29="","",IF(E29="Nee","Knock-Out","Voldoet")) | G29: =IF(E29="","",IF(E29="Ja","Ja","Nee")) | I29: =IF(E29="",1,0) -> 1
A30: E29 | B30: Zaakdomein | C30: KO | D30: Voor het behandelen van zaken heeft de behandelaar de beschikking over het instrument: - Intern advies. Dit instrument wordt als zaak toegewezen aan een gebruiker. Relevante documenten kunnen worden gekoppeld aan de zaak en de zaak kan worden voorzien van schriftelijke instructie en reactie. De zaak wordt toegevoegd aan de werkvoorraad van de toegewezen behandelaar. Eis wordt ondersteund bij inschrijving. | F30: =IF(E30="","",IF(E30="Nee","Knock-Out","Voldoet")) | G30: =IF(E30="","",IF(E30="Ja","Ja","Nee")) | I30: =IF(E30="",1,0) -> 1
A31: E30 | B31: Zaakdomein | C31: KO | D31: Bij het aanmaken van een deelzaak of vervolgzaak wordt de zaakrelatie automatisch vastgelegd door de Oplossing. Eis wordt ondersteund bij inschrijving. | F31: =IF(E31="","",IF(E31="Nee","Knock-Out","Voldoet")) | G31: =IF(E31="","",IF(E31="Ja","Ja","Nee")) | I31: =IF(E31="",1,0) -> 1
A32: E31 | B32: Zaakdomein | C32: KO | D32: Het is mogelijk om een zaakrelatie handmatig aan te leggen en te verwijderen tussen twee bestaande zaken. Eis wordt ondersteund bij inschrijving. | F32: =IF(E32="","",IF(E32="Nee","Knock-Out","Voldoet")) | G32: =IF(E32="","",IF(E32="Ja","Ja","Nee")) | I32: =IF(E32="",1,0) -> 1
A33: E32 | B33: Zaakdomein | C33: KO | D33: Voor het behandelen van zaken heeft de behandelaar de beschikking over het instrument: - Wijzigen van de termijn van een zaak. De behandelaar is hierbij vrij om een nieuwe termijn te kiezen voor de zaak. Eis wordt ondersteund bij inschrijving. | F33: =IF(E33="","",IF(E33="Nee","Knock-Out","Voldoet")) | G33: =IF(E33="","",IF(E33="Ja","Ja","Nee")) | I33: =IF(E33="",1,0) -> 1
A34: E33 | B34: Zaakdomein | C34: KO | D34: De Oplossing ondersteunt het versturen van notificaties aan de zaakbehandelaar, voor zaken die op naam zijn gezet, een termijn die verloopt, en documenten die zijn toegevoegd aan het zaakdossier. Notificatie kunnen aan en uit worden gezet. Eis wordt ondersteund bij inschrijving. | F34: =IF(E34="","",IF(E34="Nee","Knock-Out","Voldoet")) | G34: =IF(E34="","",IF(E34="Ja","Ja","Nee")) | I34: =IF(E34="",1,0) -> 1
A35: E34 | B35: Locatiedomein | C35: KO | D35: De Oplossing ondersteunt het informatiemodel Locatiedomein, zoals vastgelegd in bijlage C. Eis wordt ondersteund bij inschrijving. | F35: =IF(E35="","",IF(E35="Nee","Knock-Out","Voldoet")) | G35: =IF(E35="","",IF(E35="Ja","Ja","Nee")) | I35: =IF(E35="",1,0) -> 1
A36: E35 | B36: Locatiedomein | C36: KO | D36: Aanvullend aan de beschrijving van het informatiemodel locatiedomein in bijlage C, kunnen door een geautoriseerde gebruiker, extra attributen en extra objecttypen met attributen worden geconfigureerd, zonder de standaard software aan te passen. Hierbij is er geen beperking in aantal objecttypen of attributen. Eis wordt ondersteund bij inschrijving. | F36: =IF(E36="","",IF(E36="Nee","Knock-Out","Voldoet")) | G36: =IF(E36="","",IF(E36="Ja","Ja","Nee")) | I36: =IF(E36="",1,0) -> 1
A37: E36 | B37: Documentdomein | C37: KO | D37: De Oplossing voldoet aan NEN-ISO 16175-1:2020. Eis wordt ondersteund bij inschrijving. | F37: =IF(E37="","",IF(E37="Nee","Knock-Out","Voldoet")) | G37: =IF(E37="","",IF(E37="Ja","Ja","Nee")) | I37: =IF(E37="",1,0) -> 1
A38: E37 | B38: Documentdomein | C38: KO | D38: De Oplossing voldoet aan de Archiefwet. Eis wordt ondersteund bij inschrijving. | F38: =IF(E38="","",IF(E38="Nee","Knock-Out","Voldoet")) | G38: =IF(E38="","",IF(E38="Ja","Ja","Nee")) | I38: =IF(E38="",1,0) -> 1
A39: E38 | B39: Documentdomein | C39: KO | D39: De Oplossing voldoet aan de MDTO (Metagegevens voor Duurzaam Toegankelijke Overheidsinformatie) standaard voor toewijzen van metadata aan documenten. Eis wordt ondersteund bij inschrijving. | F39: =IF(E39="","",IF(E39="Nee","Knock-Out","Voldoet")) | G39: =IF(E39="","",IF(E39="Ja","Ja","Nee"))
A40: E39a | B40: Documentdomein | C40: KO | D40: Voor het opslaan van bestanden ondersteunt de Oplossing zowel de voorkeursformaten als de acceptabele formaten die zijn vastgesteld door het Nationaal Archief. Zie ook: https://www.nationaalarchief.nl/sites/default/files/field-file/voorkeursformaten_nationaal_archief-v1.0.pdf Eis wordt ondersteund bij inschrijving. | F40: =IF(E40="","",IF(E40="Nee","Knock-Out","Voldoet")) | G40: Nee | I40: =IF(E40="",1,0) -> 1
A41: E39b | B41: Documentdomein | C41: KO | D41: De Oplossing ondersteunt het opslaan, raadplegen en bewerken van bestanden met een bestandsgrootte tot 1GB. Eis wordt ondersteund bij inschrijving. | F41: =IF(E41="","",IF(E41="Nee","Knock-Out","Voldoet")) | G41: Nee | I41: =IF(E41="",1,0) -> 1
A42: E40 | B42: Documentdomein | C42: KO | D42: De Oplossing registreert documenten behorende tot dezelfde zaak automatisch in het bijbehorende zaakdossier. Eis wordt ondersteund bij inschrijving. | F42: =IF(E42="","",IF(E42="Nee","Knock-Out","Voldoet")) | G42: =IF(E42="","",IF(E42="Ja","Ja","Nee")) | I42: =IF(E42="",1,0) -> 1
A43: E41 | B43: Documentdomein | C43: KO | D43: De Oplossing ondersteunt het uploaden van documenten behorende bij een zaak, naar het bijbehorende zaakdossier. Eis wordt ondersteund bij inschrijving. | F43: =IF(E43="","",IF(E43="Nee","Knock-Out","Voldoet")) | G43: =IF(E43="","",IF(E43="Ja","Ja","Nee")) | I43: =IF(E43="",1,0) -> 1
A44: E42 | B44: Documentdomein | C44: KO | D44: De Oplossing ondersteunt het uploaden van e-mails met bijlagen behorende bij een zaak, naar het bijbehorende zaakdossier. Eis wordt ondersteund bij inschrijving. | F44: =IF(E44="","",IF(E44="Nee","Knock-Out","Voldoet")) | G44: =IF(E44="","",IF(E44="Ja","Ja","Nee")) | I44: =IF(E44="",1,0) -> 1
A45: E43 | B45: Documentdomein | C45: KO | D45: De Oplossing werkt samen met de MS365 implementatie van Opdrachtgever voor het opstellen, wijzigen en opslaan van documenten: - Als een Office document wordt geopend in de Oplossing, wordt de corresponderende Office applicatie automatisch opgestart voor het raadplegen en bewerken van het document. - Wijzigingen aan het document worden automatisch opgeslagen in het zaakdossier, als nieuwe versie van het document. - Deze functionaliteit werk in ieder geval voor Word, Excel en PowerPoint documenten. Eis wordt ondersteund bij inschrijving. | F45: =IF(E45="","",IF(E45="Nee","Knock-Out","Voldoet")) | G45: =IF(E45="","",IF(E45="Ja","Ja","Nee")) | I45: =IF(E45="",1,0) -> 1
A46: E44 | B46: Documentdomein | C46: KO | D46: De Oplossing ondersteunt het automatisch omzetten van bestanden naar het PDF/A formaat. Automatische omzetting wordt toegepast op alle bestanden binnen de Oplossing. Eis wordt ondersteund bij inschrijving. | F46: =IF(E46="","",IF(E46="Nee","Knock-Out","Voldoet")) | G46: =IF(E46="","",IF(E46="Ja","Ja","Nee")) | I46: =IF(E46="",1,0) -> 1
A47: E45 | B47: Gebruik | C47: KO | D47: De Oplossing betreft voor eindgebruikers een web gebaseerde toepassing die beschikbaar is op desktop, laptop, en tablet (iPad en Android) - De Oplossing past zich aan (schaalt) naar het device waarop het wordt gebruikt. - Zonder kwaliteit in te leveren op leesbaarheid van tekst. - Met behoud van alle functionaliteiten. Eis wordt ondersteund bij inschrijving. | F47: =IF(E47="","",IF(E47="Nee","Knock-Out","Voldoet")) | G47: =IF(E47="","",IF(E47="Ja","Ja","Nee")) | I47: =IF(E47="",1,0) -> 1
A48: E46 | B48: Gebruik | C48: KO | D48: De Oplossing heeft een Nederlandstalige gebruikersinterface. Eis wordt ondersteund bij inschrijving. | F48: =IF(E48="","",IF(E48="Nee","Knock-Out","Voldoet")) | G48: =IF(E48="","",IF(E48="Ja","Ja","Nee")) | I48: =IF(E48="",1,0) -> 1
A49: E47 | B49: Gebruik | C49: KO | D49: De Oplossing ondersteunt het opnemen van een URL als kenmerk van een zaak of object in het Locatiedomein. Deze URL's zijn aanklikbaar voor het openen van de URL met een webbrowser buiten het Zaaksysteem. Eis wordt ondersteund bij inschrijving. | F49: =IF(E49="","",IF(E49="Nee","Knock-Out","Voldoet")) | G49: =IF(E49="","",IF(E49="Ja","Ja","Nee")) | I49: =IF(E49="",1,0) -> 1
A50: E48 | B50: Gebruik | C50: KO | D50: De Oplossing beschikt over een uniforme gebruikersinterface voor alle onderdelen van de Oplossing. Eis wordt ondersteund bij inschrijving. | F50: =IF(E50="","",IF(E50="Nee","Knock-Out","Voldoet")) | G50: =IF(E50="","",IF(E50="Ja","Ja","Nee")) | I50: =IF(E50="",1,0) -> 1
A51: E49 | B51: Gebruik | C51: KO | D51: De Oplossing ondersteunt het inrichten van een keuzemenu (pull down menu) voor invulvelden met een beperkt aantal mogelijke invul waarden. Eis wordt ondersteund bij inschrijving. | F51: =IF(E51="","",IF(E51="Nee","Knock-Out","Voldoet")) | G51: =IF(E51="","",IF(E51="Ja","Ja","Nee")) | I51: =IF(E51="",1,0) -> 1
A52: E50 | B52: Gebruik | C52: KO | D52: De Oplossing gebruikt standaard Nederlandse notatie: - Datum: dd-mm-jjjj - Tijd: 24-uurs notatie, 14:20 - Getal: 12.345,10 Eis wordt ondersteund bij inschrijving. | F52: =IF(E52="","",IF(E52="Nee","Knock-Out","Voldoet")) | G52: =IF(E52="","",IF(E52="Ja","Ja","Nee")) | I52: =IF(E52="",1,0) -> 1
A53: E51 | B53: Gebruik | C53: KO | D53: De Oplossing beschikt over een uitgebreide zoekfunctie over alle beschikbare data in het Zaaksysteem, inclusief metadata. Eis wordt ondersteund bij inschrijving. | F53: =IF(E53="","",IF(E53="Nee","Knock-Out","Voldoet")) | G53: =IF(E53="","",IF(E53="Ja","Ja","Nee")) | I53: =IF(E53="",1,0) -> 1
A54: E52 | B54: Overig | C54: KO | D54: De Oplossing voldoet aan de Algemene verordening gegevensbescherming (AVG). Eis wordt ondersteund bij livegang. | F54: =IF(E54="","",IF(E54="Nee","Knock-Out","Voldoet")) | G54: Nee | I54: =IF(E54="",1,0) -> 1
A55: E53 | B55: Overig | C55: KO | D55: De Oplossing voldoet aan de Baseline Informatiebeveiliging Overheid (BIO). Eis wordt ondersteund bij livegang. | F55: =IF(E55="","",IF(E55="Nee","Knock-Out","Voldoet")) | G55: Nee | I55: =IF(E55="",1,0) -> 1
A56: E54 | B56: Overig | C56: KO | D56: Aanvullend aan de BIO voldoet de Oplossing specifiek aan de informatiebeveiligingseisen die zijn opgenomen in bijlage D, en Opdrachtnemer toont dit aan na definitieve gunning. Eis wordt ondersteund bij livegang. | F56: =IF(E56="","",IF(E56="Nee","Knock-Out","Voldoet")) | G56: Nee | I56: =IF(E56="",1,0) -> 1
A57: E55 | B57: Overig | C57: KO | D57: De Oplossing ondersteunt de VNG API standaarden voor zaakgericht werken (ZGW-API), voor het aanmaken, aanpassen, verwijderen en raadplegen van gegevens in de applicatie. Eis wordt ondersteund bij livegang. | F57: =IF(E57="","",IF(E57="Nee","Knock-Out","Voldoet")) | G57: Nee | I57: =IF(E57="",1,0) -> 1
A58: E56 | B58: Overig | C58: KO | D58: De Oplossing ondersteunt de volledige koppeling DSO - Samenwerkingsvoorziening (SWF), waaronder het starten, stoppen, wijzigen, verwijderen en ontvangen van een samenwerking, alsmede het opslaan en opvragen van documenten. - Voor ontvangen samenwerkingsverzoeken wordt automatisch een zaak van het juiste zaaktype aangemaakt, relevante attributen en documenten worden overgenomen in de zaak. - Het starten van een samenwerking kan vanuit een zaak, relevante attributen en documenten uit de zaak worden toegevoegd aan het samenwerkingsverzoek. - De afhandeling van ontvangen en geïnitieerde samenwerkingen gebeurt vanuit de zaak. Zie ook bijlage B. Eis wordt ondersteund bij inschrijving. | F58: =IF(E58="","",IF(E58="Nee","Knock-Out","Voldoet")) | G58: =IF(E58="","",IF(E58="Ja","Ja","Nee")) | I58: =IF(E58="",1,0) -> 1
A59: E57 | B59: Overig | C59: KO | D59: De Oplossing ondersteunt koppeling met Decentrale Regelgeving en Officiële Publicaties (DROP), zie bijlage B. Eis wordt ondersteund bij inschrijving. | F59: =IF(E59="","",IF(E59="Nee","Knock-Out","Voldoet")) | G59: Nee | I59: =IF(E59="",1,0) -> 1
A60: E58 | B60: Overig | C60: KO | D60: De Oplossing ondersteunt koppeling met Basisregistratie Handelsregister (NHR), voor bevraging van het handelsregister met afnemersindicatie. Zie bijlage B. Eis wordt ondersteund bij inschrijving. | F60: =IF(E60="","",IF(E60="Nee","Knock-Out","Voldoet")) | G60: Nee | I60: =IF(E60="",1,0) -> 1
A61: E59 | B61: Overig | C61: KO | D61: De Oplossing ondersteunt koppeling met Basisregistratie Adressen en Gebouwen (BAG), zie bijlage B. Eis wordt ondersteund bij inschrijving. | F61: =IF(E61="","",IF(E61="Nee","Knock-Out","Voldoet")) | G61: =IF(E61="","",IF(E61="Ja","Ja","Nee")) | I61: =IF(E61="",1,0) -> 1
A62: E60 | B62: Overig | C62: KO | D62: De Oplossing ondersteunt koppeling met Azure Datawarehouse (DWH) gebaseerd op Azure SQL Server, zie bijlage B. Eis wordt ondersteund bij livegang. | F62: =IF(E62="","",IF(E62="Nee","Knock-Out","Voldoet")) | G62: Nee | I62: =IF(E62="",1,0) -> 1
A63: E61 | B63: Overig | C63: KO | D63: De Oplossing ondersteunt koppeling met de Mobiel toezicht applicatie, zie bijlage B: - Bevindingen die worden teruggekoppeld vanuit de Mobiel toezicht applicatie worden gerelateerd aan de betreffende toezichtzaak en aan het Locatieobject (zie bijlage C). - Deze bevindingen kunnen handmatig worden aangepast, en aanvullende bevindingen kunnen worden toegevoegd door de zaakbehandelaar. - De resulterende bevindingen kunnen worden gebruikt voor het automatisch genereren van een inspectierapport, met sjabloongenerator Xential. Eis wordt ondersteund 3 maanden na schriftelijke aanvraag van de koppeling, in het geval Opdrachtgever kiest voor een separate Mobiel toezicht applicatie. | F63: =IF(E63="","",IF(E63="Nee","Knock-Out","Voldoet")) | G63: Nee | I63: =IF(E63="",1,0) -> 1
A64: E62 | B64: Overig | C64: KO | D64: De Oplossing ondersteunt koppeling met Xential, zie bijlage B: - Vanuit de Oplossing wordt een specifiek sjabloon in Xential aangeroepen. - Alle beschikbare zaakinformatie wordt meegegeven in de aanroep. - Het resulterende document wordt voorzien van de juiste metadata, waaronder naam, titel en documenttype. Eis wordt ondersteund bij livegang. | F64: =IF(E64="","",IF(E64="Nee","Knock-Out","Voldoet")) | G64: Nee | I64: =IF(E64="",1,0) -> 1
A65: E63 | B65: Overig | C65: KO | D65: De Oplossing ondersteunt koppeling met Digimak, zie bijlage B. Eis wordt ondersteund 3 maanden na schriftelijke aanvraag van de koppeling, echter niet eerder dan drie maanden na beschikbaarheid van het koppelvlak vanuit Digimak. | F65: =IF(E65="","",IF(E65="Nee","Knock-Out","Voldoet")) | G65: Nee | I65: =IF(E65="",1,0) -> 1
A66: E64 | B66: Overig | C66: KO | D66: Afhankelijk van verdere ontwikkelingen rondom het Platform Open Overheidsinformatie (PLOOI), als onderdeel van de Wet Open Overheid, zal de Oplossing ook een koppelingen met PLOOI ondersteunen. Zie bijlage B voor een nadere beschrijving van dit koppelvlak. Eis wordt ondersteund 3 maanden na schriftelijke aanvraag van de koppeling, echter niet eerder dan drie maanden na beschikbaarheid van het koppelvlak vanuit PLOOI. | F66: =IF(E66="","",IF(E66="Nee","Knock-Out","Voldoet")) | G66: Nee | I66: =IF(E66="",1,0) -> 1
A67: E65 | B67: Overig | C67: KO | D67: Toegangsrechten (lezen, schrijven) zijn in te stellen per zaaktype, en zijn te beperken tot de zaakbehandelaar. Eis wordt ondersteund bij inschrijving. | F67: =IF(E67="","",IF(E67="Nee","Knock-Out","Voldoet")) | G67: Nee | I67: =IF(E67="",1,0) -> 1
A68: E66 | B68: Overig | C68: KO | D68: Oplossing voldoet aan de verplichte standaarden (pas toe of leg uit) van het Forum Standaardisatie. Eis wordt ondersteund bij inschrijving. | F68: =IF(E68="","",IF(E68="Nee","Knock-Out","Voldoet")) | G68: Nee | I68: =IF(E68="",1,0) -> 1
A69: E67 | B69: Overig | C69: KO | D69: Voor de authenticatie van de gebruikers is er ondersteuning voor Single Sign-On welke werkt met op basis van SAML (SHA-2) voor Azure Entra-ID gebruikers. Gebruikers die werken op werkplekken van de veiligheidsregio’s worden hiermee automatisch ingelogd zonder inlog-prompt en dit werkt identiek voor gebruikers die op werkplekken gebruik maken van Windows Hello for Business. Eis wordt ondersteund bij inschrijving. | F69: =IF(E69="","",IF(E69="Nee","Knock-Out","Voldoet")) | G69: Nee | I69: =IF(E69="",1,0) -> 1
A70: E68 | B70: Overig | C70: KO | D70: De Oplossing beschikt over een activiteiten log van de zaak, wie heeft wat wanneer gedaan, die voor de zaakbehandelaar te raadplegen is. Eis wordt ondersteund bij inschrijving. | F70: =IF(E70="","",IF(E70="Nee","Knock-Out","Voldoet")) | G70: =IF(E70="","",IF(E70="Ja","Ja","Nee")) | I70: =IF(E70="",1,0) -> 1
A71: E69 | B71: Overig | C71: KO | D71: De Oplossing is in staat om minimaal 20 andere applicaties te koppelen voor gegevens uitwisseling via REST API. Eis wordt ondersteund bij inschrijving. | F71: =IF(E71="","",IF(E71="Nee","Knock-Out","Voldoet")) | G71: Nee | I71: =IF(E71="",1,0) -> 1
A72: E70 | B72: Overig | C72: KO | D72: De Oplossing ondersteunt koppeling met eDepot, zie bijlage B. Eis wordt ondersteund 3 maanden na schriftelijke aanvraag van de koppeling. | F72: =IF(E72="","",IF(E72="Nee","Knock-Out","Voldoet")) | G72: Nee | I72: =IF(E72="",1,0) -> 1
A73: E71 | B73: Overig | C73: KO | D73: De Oplossing ondersteunt de volledige koppeling (inclusief Digikoppeling) met de Berichtenbox voor bedrijven en overheidsinstellingen, voor het ontvangen en versturen van berichten: - Ontvangen van berichten worden omgezet naar een zaak en toegewezen aan de juiste oplosgroep. - Verzenden van berichten kan vanuit een zaak. Zie ook bijlage B. Eis wordt ondersteund bij inschrijving. | F73: =IF(E73="","",IF(E73="Nee","Knock-Out","Voldoet")) | G73: Nee | I73: =IF(E73="",1,0) -> 1
A74: E72 | B74: Overig | C74: KO | D74: De Oplossing ondersteunt de volledige koppeling met iBabs voor het ontvangen en verturen van vergaderstukken, zie bijlage B. Eis wordt ondersteund bij livegang. | F74: =IF(E74="","",IF(E74="Nee","Knock-Out","Voldoet")) | G74: Nee | I74: =IF(E74="",1,0) -> 1
A75: E73 | B75: Overig | C75: KO | D75: De Oplossing ondersteunt koppeling met Vind-IM (i-Navigator voor Veiligheidsregio’s), zie bijlage B. Eis wordt ondersteund 3 maanden na schriftelijke aanvraag van de koppeling. | F75: =IF(E75="","",IF(E75="Nee","Knock-Out","Voldoet")) | G75: Nee | I75: =IF(E75="",1,0) -> 1
A76: E74 | B76: Overig | C76: KO | D76: De Oplossing ondersteunt het gebruik van diakritische tekens in adressen, naamgeving en documentnamen. Eis wordt ondersteund bij inschrijving. | F76: =IF(E76="","",IF(E76="Nee","Knock-Out","Voldoet")) | G76: =IF(E76="","",IF(E76="Ja","Ja","Nee")) | I76: =IF(E76="",1,0) -> 1
A77: E75 | B77: Overig | C77: KO | D77: De Oplossing ondersteunt de volgende veldtypen voor kenmerken van zaken en objecten: boolean (tick box), alfanumeriek, numeriek, decimaal, datum. Eis wordt ondersteund bij inschrijving. | F77: =IF(E77="","",IF(E77="Nee","Knock-Out","Voldoet")) | G77: =IF(E77="","",IF(E77="Ja","Ja","Nee")) | I77: =IF(E77="",1,0) -> 1
A78: E76 | B78: Overig | C78: KO | D78: De Oplossing betreft een SaaS (Software as a Service) oplossing die web-gebaseerd toegang geeft vanuit de werkomgeving van Opdrachtgever: Windows 11, Microsoft Edge browser, Office365 zowel web als de volledige desktopversie 64 bit. Eis wordt ondersteund bij inschrijving. | F78: =IF(E78="","",IF(E78="Nee","Knock-Out","Voldoet")) | G78: Nee | I78: =IF(E78="",1,0) -> 1
I80: =SUM(I2:I78) -> 72

Sheet 2. Wensen
A1: Nr. | B1: Domein | C1: Pnt | D1: Beschrijving wens | E1: Oplossing voldoet? | F1: Initiële score | G1: Verificatie? | I1: Leeg | J1: Zaakdomein | K1: Locatiedomein | L1: Documentdomein | M1: Toezichtdomein | N1: Gebruik | O1: Overig | Q1: Zaakdomein | R1: Locatiedomein | S1: Documentdomein | T1: Toezichtdomein | U1: Gebruik | V1: Overig
A2: W01 | B2: Zaakdomein | C2: 80 | D2: Bij het versturen van een mail met bestanden, ondersteunt de Oplossing het uitwisselen van de bestanden via een weblink naar een beveiligde transfer omgeving waar de bestanden kunnen worden opgehaald door de ontvanger van de mail. De ontvanger kan de bestanden in bulk downloaden. | F2: =IF(E2="Bij inschrijving",C2,IF(E2="Bij livegang",0.4*C2,IF(E2="Niet",0,""))) | G2: =IF(E2="","",IF(E2="Bij inschrijving","Ja","Nee")) | I2: =IF(E2="",1,0) -> 1 | J2: =IF($B2=J$1,$C2,0) -> 80 | K2: =IF($B2=K$1,$C2,0) -> 0 | L2: =IF($B2=L$1,$C2,0) -> 0 | M2: =IF($B2=M$1,$C2,0) -> 0 | N2: =IF($B2=N$1,$C2,0) -> 0 | O2: =IF($B2=O$1,$C2,0) -> 0 | Q2: =IF($B2=Q$1,$F2,0) | R2: =IF($B2=R$1,$F2,0) -> 0 | S2: =IF($B2=S$1,$F2,0) -> 0 | T2: =IF($B2=T$1,$F2,0) -> 0 | U2: =IF($B2=U$1,$F2,0) -> 0 | V2: =IF($B2=V$1,$F2,0) -> 0
A3: W02 | B3: Zaakdomein | C3: 40 | D3: De Oplossing ondersteunt een sjabloonfunctie voor e-mails die vanuit de Oplossing worden verstuurd. Relevante zaakinformatie wordt automatisch overgenomen in de te versturen mail. | F3: =IF(E3="Bij inschrijving",C3,IF(E3="Bij livegang",0.4*C3,IF(E3="Niet",0,""))) | G3: =IF(E3="","",IF(E3="Bij inschrijving","Ja","Nee")) | I3: =IF(E3="",1,0) -> 1 | J3: =IF($B3=J$1,$C3,0) -> 40 | K3: =IF($B3=K$1,$C3,0) -> 0 | L3: =IF($B3=L$1,$C3,0) -> 0 | M3: =IF($B3=M$1,$C3,0) -> 0 | N3: =IF($B3=N$1,$C3,0) -> 0 | O3: =IF($B3=O$1,$C3,0) -> 0 | Q3: =IF($B3=Q$1,$F3,0) | R3: =IF($B3=R$1,$F3,0) -> 0 | S3: =IF($B3=S$1,$F3,0) -> 0 | T3: =IF($B3=T$1,$F3,0) -> 0 | U3: =IF($B3=U$1,$F3,0) -> 0 | V3: =IF($B3=V$1,$F3,0) -> 0
A4: W03 | B4: Zaakdomein | C4: 40 | D4: De Oplossing geeft voor gebruikers een overzicht van zaken voor een specifiek Locatieobject, inclusief de samenhang tussen gerelateerde zaken. Voor verdieping kan gebruiker doorklikken naar de inhoud van een zaak. | F4: =IF(E4="Bij inschrijving",C4,IF(E4="Bij livegang",0.4*C4,IF(E4="Niet",0,""))) | G4: =IF(E4="","",IF(E4="Bij inschrijving","Ja","Nee")) | I4: =IF(E4="",1,0) -> 1 | J4: =IF($B4=J$1,$C4,0) -> 40 | K4: =IF($B4=K$1,$C4,0) -> 0 | L4: =IF($B4=L$1,$C4,0) -> 0 | M4: =IF($B4=M$1,$C4,0) -> 0 | N4: =IF($B4=N$1,$C4,0) -> 0 | O4: =IF($B4=O$1,$C4,0) -> 0 | Q4: =IF($B4=Q$1,$F4,0) | R4: =IF($B4=R$1,$F4,0) -> 0 | S4: =IF($B4=S$1,$F4,0) -> 0 | T4: =IF($B4=T$1,$F4,0) -> 0 | U4: =IF($B4=U$1,$F4,0) -> 0 | V4: =IF($B4=V$1,$F4,0) -> 0
A5: W04 | B5: Zaakdomein | C5: 40 | D5: De Oplossing ondersteunt het automatisch toekennen van een zaak aan een behandelaar, op basis van specifieke kenmerken. | F5: =IF(E5="Bij inschrijving",C5,IF(E5="Bij livegang",0.4*C5,IF(E5="Niet",0,""))) | G5: =IF(E5="","",IF(E5="Bij inschrijving","Ja","Nee")) | I5: =IF(E5="",1,0) -> 1 | J5: =IF($B5=J$1,$C5,0) -> 40 | K5: =IF($B5=K$1,$C5,0) -> 0 | L5: =IF($B5=L$1,$C5,0) -> 0 | M5: =IF($B5=M$1,$C5,0) -> 0 | N5: =IF($B5=N$1,$C5,0) -> 0 | O5: =IF($B5=O$1,$C5,0) -> 0 | Q5: =IF($B5=Q$1,$F5,0) | R5: =IF($B5=R$1,$F5,0) -> 0 | S5: =IF($B5=S$1,$F5,0) -> 0 | T5: =IF($B5=T$1,$F5,0) -> 0 | U5: =IF($B5=U$1,$F5,0) -> 0 | V5: =IF($B5=V$1,$F5,0) -> 0
A6: W05 | B6: Zaakdomein | C6: 40 | D6: De Oplossing ondersteunt het handmatig aanmaken van een zaak vanuit het Locatieobject. Het Locatieobject wordt automatisch gekoppeld aan de zaak. | F6: =IF(E6="Bij inschrijving",C6,IF(E6="Bij livegang",0.4*C6,IF(E6="Niet",0,""))) | G6: =IF(E6="","",IF(E6="Bij inschrijving","Ja","Nee")) | I6: =IF(E6="",1,0) -> 1 | J6: =IF($B6=J$1,$C6,0) -> 40 | K6: =IF($B6=K$1,$C6,0) -> 0 | L6: =IF($B6=L$1,$C6,0) -> 0 | M6: =IF($B6=M$1,$C6,0) -> 0 | N6: =IF($B6=N$1,$C6,0) -> 0 | O6: =IF($B6=O$1,$C6,0) -> 0 | Q6: =IF($B6=Q$1,$F6,0) | R6: =IF($B6=R$1,$F6,0) -> 0 | S6: =IF($B6=S$1,$F6,0) -> 0 | T6: =IF($B6=T$1,$F6,0) -> 0 | U6: =IF($B6=U$1,$F6,0) -> 0 | V6: =IF($B6=V$1,$F6,0) -> 0
A7: W06 | B7: Zaakdomein | C7: 40 | D7: Bij het aanmaken van een deelzaak of vervolgzaak wordt relevante informatie automatisch overgenomen uit de aanleidende zaak. Door het selecteren van relevante documenten uit de aanleidende zaak, worden deze toegevoegd aan de deelzaak of vervolgzaak. | F7: =IF(E7="Bij inschrijving",C7,IF(E7="Bij livegang",0.4*C7,IF(E7="Niet",0,""))) | G7: =IF(E7="","",IF(E7="Bij inschrijving","Ja","Nee")) | I7: =IF(E7="",1,0) -> 1 | J7: =IF($B7=J$1,$C7,0) -> 40 | K7: =IF($B7=K$1,$C7,0) -> 0 | L7: =IF($B7=L$1,$C7,0) -> 0 | M7: =IF($B7=M$1,$C7,0) -> 0 | N7: =IF($B7=N$1,$C7,0) -> 0 | O7: =IF($B7=O$1,$C7,0) -> 0 | Q7: =IF($B7=Q$1,$F7,0) | R7: =IF($B7=R$1,$F7,0) -> 0 | S7: =IF($B7=S$1,$F7,0) -> 0 | T7: =IF($B7=T$1,$F7,0) -> 0 | U7: =IF($B7=U$1,$F7,0) -> 0 | V7: =IF($B7=V$1,$F7,0) -> 0
A8: W07 | B8: Zaakdomein | C8: 40 | D8: De Oplossing ondersteunt het zoeken in zaken van een specifiek Locatieobject. | F8: =IF(E8="Bij inschrijving",C8,IF(E8="Bij livegang",0.4*C8,IF(E8="Niet",0,""))) | G8: =IF(E8="","",IF(E8="Bij inschrijving","Ja","Nee")) | I8: =IF(E8="",1,0) -> 1 | J8: =IF($B8=J$1,$C8,0) -> 40 | K8: =IF($B8=K$1,$C8,0) -> 0 | L8: =IF($B8=L$1,$C8,0) -> 0 | M8: =IF($B8=M$1,$C8,0) -> 0 | N8: =IF($B8=N$1,$C8,0) -> 0 | O8: =IF($B8=O$1,$C8,0) -> 0 | Q8: =IF($B8=Q$1,$F8,0) | R8: =IF($B8=R$1,$F8,0) -> 0 | S8: =IF($B8=S$1,$F8,0) -> 0 | T8: =IF($B8=T$1,$F8,0) -> 0 | U8: =IF($B8=U$1,$F8,0) -> 0 | V8: =IF($B8=V$1,$F8,0) -> 0
A9: W08 | B9: Zaakdomein | C9: 40 | D9: De Oplossing ondersteunt het vanuit de zaak publiceren op de website van Opdrachtgever: - Inclusief begeleidende tekst die als kenmerk in de zaak is opgenomen. - Inclusief documenten, die worden geselecteerd voor publicatie op basis van document type. - Publicatie wordt geëffectueerd op in de zaak opgenomen publicatie datum. - Eenmaal gepubliceerd, kan de publicatie ook weer verwijderd worden door een daarvoor geautoriseerde gebruiker. | F9: =IF(E9="Bij inschrijving",C9,IF(E9="Bij livegang",0.4*C9,IF(E9="Niet",0,""))) | G9: Nee | I9: =IF(E9="",1,0) -> 1 | J9: =IF($B9=J$1,$C9,0) -> 40 | K9: =IF($B9=K$1,$C9,0) -> 0 | L9: =IF($B9=L$1,$C9,0) -> 0 | M9: =IF($B9=M$1,$C9,0) -> 0 | N9: =IF($B9=N$1,$C9,0) -> 0 | O9: =IF($B9=O$1,$C9,0) -> 0 | Q9: =IF($B9=Q$1,$F9,0) | R9: =IF($B9=R$1,$F9,0) -> 0 | S9: =IF($B9=S$1,$F9,0) -> 0 | T9: =IF($B9=T$1,$F9,0) -> 0 | U9: =IF($B9=U$1,$F9,0) -> 0 | V9: =IF($B9=V$1,$F9,0) -> 0
A10: W09 | B10: Zaakdomein | C10: 40 | D10: De Oplossing ondersteunt het versturen van een mail (nieuwe mail of forward van ontvangen mail) van buiten het zaaksysteem (bijvoorbeeld vanuit Outlook) naar een zaak: - Mail wordt geadresseerd aan het zaaksysteem. - De zaak wordt geïdentificeerd door bijvoorbeeld het zaaknummer op te nemen in het onderwerp. - De mail wordt als nieuwe ontvangen document opgeslagen in het zaakdossier van de betreffende zaak. - De zaakidentificatie moet eenvoudig, niet gevoelig voor fouten, kunnen worden toegevoegd door de opsteller van de mail. | F10: =IF(E10="Bij inschrijving",C10,IF(E10="Bij livegang",0.4*C10,IF(E10="Niet",0,""))) | G10: =IF(E10="","",IF(E10="Bij inschrijving","Ja","Nee")) | I10: =IF(E10="",1,0) -> 1 | J10: =IF($B10=J$1,$C10,0) -> 40 | K10: =IF($B10=K$1,$C10,0) -> 0 | L10: =IF($B10=L$1,$C10,0) -> 0 | M10: =IF($B10=M$1,$C10,0) -> 0 | N10: =IF($B10=N$1,$C10,0) -> 0 | O10: =IF($B10=O$1,$C10,0) -> 0 | Q10: =IF($B10=Q$1,$F10,0) | R10: =IF($B10=R$1,$F10,0) -> 0 | S10: =IF($B10=S$1,$F10,0) -> 0 | T10: =IF($B10=T$1,$F10,0) -> 0 | U10: =IF($B10=U$1,$F10,0) -> 0 | V10: =IF($B10=V$1,$F10,0) -> 0
A11: W10 | B11: Zaakdomein | C11: 40 | D11: De Oplossing ondersteunt in het vastleggen van notities in de zaak, relevant voor bijvoorbeeld een vervolg- of deelzaak, via een notitie invoerveld dat als instrument vanuit de zaak kan worden aangeroepen. | F11: =IF(E11="Bij inschrijving",C11,IF(E11="Bij livegang",0.4*C11,IF(E11="Niet",0,""))) | G11: =IF(E11="","",IF(E11="Bij inschrijving","Ja","Nee")) | I11: =IF(E11="",1,0) -> 1 | J11: =IF($B11=J$1,$C11,0) -> 40 | K11: =IF($B11=K$1,$C11,0) -> 0 | L11: =IF($B11=L$1,$C11,0) -> 0 | M11: =IF($B11=M$1,$C11,0) -> 0 | N11: =IF($B11=N$1,$C11,0) -> 0 | O11: =IF($B11=O$1,$C11,0) -> 0 | Q11: =IF($B11=Q$1,$F11,0) | R11: =IF($B11=R$1,$F11,0) -> 0 | S11: =IF($B11=S$1,$F11,0) -> 0 | T11: =IF($B11=T$1,$F11,0) -> 0 | U11: =IF($B11=U$1,$F11,0) -> 0 | V11: =IF($B11=V$1,$F11,0) -> 0
A12: W11 | B12: Zaakdomein | C12: 40 | D12: De Oplossing ondersteunt het plannen van zaken met een startdatum in de toekomst. Zaken met een startdatum in de toekomst kunnen worden uitgefilterd (niet zichtbaar gemaakt) in de werkvoorraad. | F12: =IF(E12="Bij inschrijving",C12,IF(E12="Bij livegang",0.4*C12,IF(E12="Niet",0,""))) | G12: =IF(E12="","",IF(E12="Bij inschrijving","Ja","Nee")) | I12: =IF(E12="",1,0) -> 1 | J12: =IF($B12=J$1,$C12,0) -> 40 | K12: =IF($B12=K$1,$C12,0) -> 0 | L12: =IF($B12=L$1,$C12,0) -> 0 | M12: =IF($B12=M$1,$C12,0) -> 0 | N12: =IF($B12=N$1,$C12,0) -> 0 | O12: =IF($B12=O$1,$C12,0) -> 0 | Q12: =IF($B12=Q$1,$F12,0) | R12: =IF($B12=R$1,$F12,0) -> 0 | S12: =IF($B12=S$1,$F12,0) -> 0 | T12: =IF($B12=T$1,$F12,0) -> 0 | U12: =IF($B12=U$1,$F12,0) -> 0 | V12: =IF($B12=V$1,$F12,0) -> 0
A13: W12 | B13: Zaakdomein | C13: 40 | D13: De Oplossing ondersteunt de MS365 functie voor het tegelijkertijd samenwerken aan documenten, voor documenten die zijn opgeslagen in zaakdossiers en worden geopend vanuit de Oplossing. | F13: =IF(E13="Bij inschrijving",C13,IF(E13="Bij livegang",0.4*C13,IF(E13="Niet",0,""))) | G13: =IF(E13="","",IF(E13="Bij inschrijving","Ja","Nee")) | I13: =IF(E13="",1,0) -> 1 | J13: =IF($B13=J$1,$C13,0) -> 40 | K13: =IF($B13=K$1,$C13,0) -> 0 | L13: =IF($B13=L$1,$C13,0) -> 0 | M13: =IF($B13=M$1,$C13,0) -> 0 | N13: =IF($B13=N$1,$C13,0) -> 0 | O13: =IF($B13=O$1,$C13,0) -> 0 | Q13: =IF($B13=Q$1,$F13,0) | R13: =IF($B13=R$1,$F13,0) -> 0 | S13: =IF($B13=S$1,$F13,0) -> 0 | T13: =IF($B13=T$1,$F13,0) -> 0 | U13: =IF($B13=U$1,$F13,0) -> 0 | V13: =IF($B13=V$1,$F13,0) -> 0
A14: W13 | B14: Zaakdomein | C14: 20 | D14: Aanvullend op de beschrijving in ImZTC2, ondersteunt de Oplossing het attribuut DOORLOOPTIJD BEHANDELING als onderdeel van groepsattribuut PRODUCT/DIENST, met definitie gelijk aan DOORLOOPTIJD BEHANDELING als attribuut van ZAAKTYPE, echter met kardinaliteit 0-1. | F14: =IF(E14="Bij inschrijving",C14,IF(E14="Bij livegang",0.4*C14,IF(E14="Niet",0,""))) | G14: =IF(E14="","",IF(E14="Bij inschrijving","Ja","Nee")) | I14: =IF(E14="",1,0) -> 1 | J14: =IF($B14=J$1,$C14,0) -> 20 | K14: =IF($B14=K$1,$C14,0) -> 0 | L14: =IF($B14=L$1,$C14,0) -> 0 | M14: =IF($B14=M$1,$C14,0) -> 0 | N14: =IF($B14=N$1,$C14,0) -> 0 | O14: =IF($B14=O$1,$C14,0) -> 0 | Q14: =IF($B14=Q$1,$F14,0) | R14: =IF($B14=R$1,$F14,0) -> 0 | S14: =IF($B14=S$1,$F14,0) -> 0 | T14: =IF($B14=T$1,$F14,0) -> 0 | U14: =IF($B14=U$1,$F14,0) -> 0 | V14: =IF($B14=V$1,$F14,0) -> 0
A15: W14 | B15: Zaakdomein | C15: 20 | D15: Indien attribuut DOORLOOPTIJD op niveau PRODUCT/DIENST en op niveau ZAAKTYPE is gedefinieerd, is DOORLOOPTIJD BEHANDELING op niveau PRODUCT/DIENST leidend voor een zaak. | F15: =IF(E15="Bij inschrijving",C15,IF(E15="Bij livegang",0.4*C15,IF(E15="Niet",0,""))) | G15: =IF(E15="","",IF(E15="Bij inschrijving","Ja","Nee")) | I15: =IF(E15="",1,0) -> 1 | J15: =IF($B15=J$1,$C15,0) -> 20 | K15: =IF($B15=K$1,$C15,0) -> 0 | L15: =IF($B15=L$1,$C15,0) -> 0 | M15: =IF($B15=M$1,$C15,0) -> 0 | N15: =IF($B15=N$1,$C15,0) -> 0 | O15: =IF($B15=O$1,$C15,0) -> 0 | Q15: =IF($B15=Q$1,$F15,0) | R15: =IF($B15=R$1,$F15,0) -> 0 | S15: =IF($B15=S$1,$F15,0) -> 0 | T15: =IF($B15=T$1,$F15,0) -> 0 | U15: =IF($B15=U$1,$F15,0) -> 0 | V15: =IF($B15=V$1,$F15,0) -> 0
A16: W15 | B16: Zaakdomein | C16: 20 | D16: De Oplossing ondersteunt het automatisch versturen van een mail met ontvangstbevestiging of ander bericht, op basis van een statusovergang van de zaak en de waarde van kenmerken. | F16: =IF(E16="Bij inschrijving",C16,IF(E16="Bij livegang",0.4*C16,IF(E16="Niet",0,""))) | G16: =IF(E16="","",IF(E16="Bij inschrijving","Ja","Nee")) | I16: =IF(E16="",1,0) -> 1 | J16: =IF($B16=J$1,$C16,0) -> 20 | K16: =IF($B16=K$1,$C16,0) -> 0 | L16: =IF($B16=L$1,$C16,0) -> 0 | M16: =IF($B16=M$1,$C16,0) -> 0 | N16: =IF($B16=N$1,$C16,0) -> 0 | O16: =IF($B16=O$1,$C16,0) -> 0 | Q16: =IF($B16=Q$1,$F16,0) | R16: =IF($B16=R$1,$F16,0) -> 0 | S16: =IF($B16=S$1,$F16,0) -> 0 | T16: =IF($B16=T$1,$F16,0) -> 0 | U16: =IF($B16=U$1,$F16,0) -> 0 | V16: =IF($B16=V$1,$F16,0) -> 0
A17: W16 | B17: Zaakdomein | C17: 20 | D17: De Oplossing ondersteunt het automatisch aanmaken van een vervolgzaak op basis van het resultaat of ander kenmerk van een zaak. Relevante informatie wordt automatisch overgenomen uit de aanleidende zaak. | F17: =IF(E17="Bij inschrijving",C17,IF(E17="Bij livegang",0.4*C17,IF(E17="Niet",0,""))) | G17: Nee | I17: =IF(E17="",1,0) -> 1 | J17: =IF($B17=J$1,$C17,0) -> 20 | K17: =IF($B17=K$1,$C17,0) -> 0 | L17: =IF($B17=L$1,$C17,0) -> 0 | M17: =IF($B17=M$1,$C17,0) -> 0 | N17: =IF($B17=N$1,$C17,0) -> 0 | O17: =IF($B17=O$1,$C17,0) -> 0 | Q17: =IF($B17=Q$1,$F17,0) | R17: =IF($B17=R$1,$F17,0) -> 0 | S17: =IF($B17=S$1,$F17,0) -> 0 | T17: =IF($B17=T$1,$F17,0) -> 0 | U17: =IF($B17=U$1,$F17,0) -> 0 | V17: =IF($B17=V$1,$F17,0) -> 0
A18: W17 | B18: Zaakdomein | C18: 20 | D18: Bij het afronden van een deelzaak of een taak (instrument) ondersteunt de Oplossing een notificatie hiervan in de hoofdzaak. | F18: =IF(E18="Bij inschrijving",C18,IF(E18="Bij livegang",0.4*C18,IF(E18="Niet",0,""))) | G18: =IF(E18="","",IF(E18="Bij inschrijving","Ja","Nee")) | I18: =IF(E18="",1,0) -> 1 | J18: =IF($B18=J$1,$C18,0) -> 20 | K18: =IF($B18=K$1,$C18,0) -> 0 | L18: =IF($B18=L$1,$C18,0) -> 0 | M18: =IF($B18=M$1,$C18,0) -> 0 | N18: =IF($B18=N$1,$C18,0) -> 0 | O18: =IF($B18=O$1,$C18,0) -> 0 | Q18: =IF($B18=Q$1,$F18,0) | R18: =IF($B18=R$1,$F18,0) -> 0 | S18: =IF($B18=S$1,$F18,0) -> 0 | T18: =IF($B18=T$1,$F18,0) -> 0 | U18: =IF($B18=U$1,$F18,0) -> 0 | V18: =IF($B18=V$1,$F18,0) -> 0
A19: W18 | B19: Zaakdomein | C19: 20 | D19: Per zaak kunnen meerdere attributen van het type PRODUCT/DIENST worden geselecteerd. | F19: =IF(E19="Bij inschrijving",C19,IF(E19="Bij livegang",0.4*C19,IF(E19="Niet",0,""))) | G19: =IF(E19="","",IF(E19="Bij inschrijving","Ja","Nee")) | I19: =IF(E19="",1,0) -> 1 | J19: =IF($B19=J$1,$C19,0) -> 20 | K19: =IF($B19=K$1,$C19,0) -> 0 | L19: =IF($B19=L$1,$C19,0) -> 0 | M19: =IF($B19=M$1,$C19,0) -> 0 | N19: =IF($B19=N$1,$C19,0) -> 0 | O19: =IF($B19=O$1,$C19,0) -> 0 | Q19: =IF($B19=Q$1,$F19,0) | R19: =IF($B19=R$1,$F19,0) -> 0 | S19: =IF($B19=S$1,$F19,0) -> 0 | T19: =IF($B19=T$1,$F19,0) -> 0 | U19: =IF($B19=U$1,$F19,0) -> 0 | V19: =IF($B19=V$1,$F19,0) -> 0
A20: W19 | B20: Zaakdomein | C20: 10 | D20: Voor het behandelen van zaken heeft de behandelaar de mogelijkheid om een zaak voortijdig te beëindigen, met als achtergrond: - Zaak ingetrokken. - Administratieve fout. De zaak wordt voortijdig afgesloten met mogelijkheid tot kennisgeving aan betrokkenen via notificatie in het systeem of per e-mail, die automatisch wordt verstuurd vanuit het Zaaksysteem. Het bijbehorende resultaat wordt toegewezen aan de zaak. | F20: =IF(E20="Bij inschrijving",C20,IF(E20="Bij livegang",0.4*C20,IF(E20="Niet",0,""))) | G20: =IF(E20="","",IF(E20="Bij inschrijving","Ja","Nee")) | I20: =IF(E20="",1,0) -> 1 | J20: =IF($B20=J$1,$C20,0) -> 10 | K20: =IF($B20=K$1,$C20,0) -> 0 | L20: =IF($B20=L$1,$C20,0) -> 0 | M20: =IF($B20=M$1,$C20,0) -> 0 | N20: =IF($B20=N$1,$C20,0) -> 0 | O20: =IF($B20=O$1,$C20,0) -> 0 | Q20: =IF($B20=Q$1,$F20,0) | R20: =IF($B20=R$1,$F20,0) -> 0 | S20: =IF($B20=S$1,$F20,0) -> 0 | T20: =IF($B20=T$1,$F20,0) -> 0 | U20: =IF($B20=U$1,$F20,0) -> 0 | V20: =IF($B20=V$1,$F20,0) -> 0
A21: W20 | B21: Locatiedomein | C21: 40 | D21: De Oplossing geeft een compleet overzicht voor een Locatieobject: kenmerken van het Locatieobject, lopende zaken, overtredingen, geografie. - Dit overzicht is door een gebruiker op te roepen vanuit, en wordt getoond in, het Zaaksysteem. - Voor verdieping kan gebruiker doorklikken naar de inhoud van zaken en overtredingen. | F21: =IF(E21="Bij inschrijving",C21,IF(E21="Bij livegang",0.4*C21,IF(E21="Niet",0,""))) | G21: =IF(E21="","",IF(E21="Bij inschrijving","Ja","Nee")) | I21: =IF(E21="",1,0) -> 1 | J21: =IF($B21=J$1,$C21,0) -> 0 | K21: =IF($B21=K$1,$C21,0) -> 40 | L21: =IF($B21=L$1,$C21,0) -> 0 | M21: =IF($B21=M$1,$C21,0) -> 0 | N21: =IF($B21=N$1,$C21,0) -> 0 | O21: =IF($B21=O$1,$C21,0) -> 0 | Q21: =IF($B21=Q$1,$F21,0) -> 0 | R21: =IF($B21=R$1,$F21,0) | S21: =IF($B21=S$1,$F21,0) -> 0 | T21: =IF($B21=T$1,$F21,0) -> 0 | U21: =IF($B21=U$1,$F21,0) -> 0 | V21: =IF($B21=V$1,$F21,0) -> 0
A22: W21 | B22: Locatiedomein | C22: 40 | D22: De Oplossing ondersteunt het relateren van objecten uit het Locatiedomein aan andere objecten uit het Locatiedomein. Dit wordt ondersteund voor zowel het relateren van objecten van een verschillend objecttype, als voor objecten van hetzelfde objecttype. | F22: =IF(E22="Bij inschrijving",C22,IF(E22="Bij livegang",0.4*C22,IF(E22="Niet",0,""))) | G22: =IF(E22="","",IF(E22="Bij inschrijving","Ja","Nee")) | I22: =IF(E22="",1,0) -> 1 | J22: =IF($B22=J$1,$C22,0) -> 0 | K22: =IF($B22=K$1,$C22,0) -> 40 | L22: =IF($B22=L$1,$C22,0) -> 0 | M22: =IF($B22=M$1,$C22,0) -> 0 | N22: =IF($B22=N$1,$C22,0) -> 0 | O22: =IF($B22=O$1,$C22,0) -> 0 | Q22: =IF($B22=Q$1,$F22,0) -> 0 | R22: =IF($B22=R$1,$F22,0) | S22: =IF($B22=S$1,$F22,0) -> 0 | T22: =IF($B22=T$1,$F22,0) -> 0 | U22: =IF($B22=U$1,$F22,0) -> 0 | V22: =IF($B22=V$1,$F22,0) -> 0
A23: W22 | B23: Locatiedomein | C23: 40 | D23: De geografische functie van de Oplossing ondersteunt het intekenen van de geografie van een Locatieobject: - Zowel een punt als polygoon kan worden ingetekend. - De geografie wordt automatisch opgeslagen bij het betreffende Locatieobject in het Locatiedomein. | F23: =IF(E23="Bij inschrijving",C23,IF(E23="Bij livegang",0.4*C23,IF(E23="Niet",0,""))) | G23: =IF(E23="","",IF(E23="Bij inschrijving","Ja","Nee")) | I23: =IF(E23="",1,0) -> 1 | J23: =IF($B23=J$1,$C23,0) -> 0 | K23: =IF($B23=K$1,$C23,0) -> 40 | L23: =IF($B23=L$1,$C23,0) -> 0 | M23: =IF($B23=M$1,$C23,0) -> 0 | N23: =IF($B23=N$1,$C23,0) -> 0 | O23: =IF($B23=O$1,$C23,0) -> 0 | Q23: =IF($B23=Q$1,$F23,0) -> 0 | R23: =IF($B23=R$1,$F23,0) | S23: =IF($B23=S$1,$F23,0) -> 0 | T23: =IF($B23=T$1,$F23,0) -> 0 | U23: =IF($B23=U$1,$F23,0) -> 0 | V23: =IF($B23=V$1,$F23,0) -> 0
A24: W23 | B24: Locatiedomein | C24: 20 | D24: De Oplossing ondersteunt in het bevragen van verplichte basisregistraties (zie bijlage B), en het automatisch invullen van attributen in het Locatiedomein en het Zaakdomein op basis van de uitkomst. Attributen die automatisch worden gevuld kunnen worden geblokkeerd voor handmatig wijzigen. | F24: =IF(E24="Bij inschrijving",C24,IF(E24="Bij livegang",0.4*C24,IF(E24="Niet",0,""))) | G24: =IF(E24="","",IF(E24="Bij inschrijving","Ja","Nee")) | I24: =IF(E24="",1,0) -> 1 | J24: =IF($B24=J$1,$C24,0) -> 0 | K24: =IF($B24=K$1,$C24,0) -> 20 | L24: =IF($B24=L$1,$C24,0) -> 0 | M24: =IF($B24=M$1,$C24,0) -> 0 | N24: =IF($B24=N$1,$C24,0) -> 0 | O24: =IF($B24=O$1,$C24,0) -> 0 | Q24: =IF($B24=Q$1,$F24,0) -> 0 | R24: =IF($B24=R$1,$F24,0) | S24: =IF($B24=S$1,$F24,0) -> 0 | T24: =IF($B24=T$1,$F24,0) -> 0 | U24: =IF($B24=U$1,$F24,0) -> 0 | V24: =IF($B24=V$1,$F24,0) -> 0
A25: W24 | B25: Locatiedomein | C25: 20 | D25: De Oplossing is in staat om de geometrie (polygoon) van een Locatieobject vast te leggen. | F25: =IF(E25="Bij inschrijving",C25,IF(E25="Bij livegang",0.4*C25,IF(E25="Niet",0,""))) | G25: =IF(E25="","",IF(E25="Bij inschrijving","Ja","Nee")) | I25: =IF(E25="",1,0) -> 1 | J25: =IF($B25=J$1,$C25,0) -> 0 | K25: =IF($B25=K$1,$C25,0) -> 20 | L25: =IF($B25=L$1,$C25,0) -> 0 | M25: =IF($B25=M$1,$C25,0) -> 0 | N25: =IF($B25=N$1,$C25,0) -> 0 | O25: =IF($B25=O$1,$C25,0) -> 0 | Q25: =IF($B25=Q$1,$F25,0) -> 0 | R25: =IF($B25=R$1,$F25,0) | S25: =IF($B25=S$1,$F25,0) -> 0 | T25: =IF($B25=T$1,$F25,0) -> 0 | U25: =IF($B25=U$1,$F25,0) -> 0 | V25: =IF($B25=V$1,$F25,0) -> 0
A26: W25 | B26: Documentdomein | C26: 60 | D26: Metadata kan automatisch worden toegewezen aan documenten, op basis van toewijzingsregels die door een geautoriseerd gebruiker worden ingericht en beheerd. | F26: =IF(E26="Bij inschrijving",C26,IF(E26="Bij livegang",0.4*C26,IF(E26="Niet",0,""))) | G26: =IF(E26="","",IF(E26="Bij inschrijving","Ja","Nee")) | I26: =IF(E26="",1,0) -> 1 | J26: =IF($B26=J$1,$C26,0) -> 0 | K26: =IF($B26=K$1,$C26,0) -> 0 | L26: =IF($B26=L$1,$C26,0) -> 60 | M26: =IF($B26=M$1,$C26,0) -> 0 | N26: =IF($B26=N$1,$C26,0) -> 0 | O26: =IF($B26=O$1,$C26,0) -> 0 | Q26: =IF($B26=Q$1,$F26,0) -> 0 | R26: =IF($B26=R$1,$F26,0) -> 0 | S26: =IF($B26=S$1,$F26,0) | T26: =IF($B26=T$1,$F26,0) -> 0 | U26: =IF($B26=U$1,$F26,0) -> 0 | V26: =IF($B26=V$1,$F26,0) -> 0
A27: W26 | B27: Documentdomein | C27: 40 | D27: Bij het openen van een PDF vanuit de Oplossing, gebruikt de Oplossing de voorkeursapplicatie die is ingesteld door de gebruik in zijn werkomgeving. In het geval van Bluebeam als voorkeurs applicatie, worden wijzigingen aan het document automatisch opgeslagen in het zaakdossier, als nieuwe versie van het document. | F27: =IF(E27="Bij inschrijving",C27,IF(E27="Bij livegang",0.4*C27,IF(E27="Niet",0,""))) | G27: Nee | I27: =IF(E27="",1,0) -> 1 | J27: =IF($B27=J$1,$C27,0) -> 0 | K27: =IF($B27=K$1,$C27,0) -> 0 | L27: =IF($B27=L$1,$C27,0) -> 40 | M27: =IF($B27=M$1,$C27,0) -> 0 | N27: =IF($B27=N$1,$C27,0) -> 0 | O27: =IF($B27=O$1,$C27,0) -> 0 | Q27: =IF($B27=Q$1,$F27,0) -> 0 | R27: =IF($B27=R$1,$F27,0) -> 0 | S27: =IF($B27=S$1,$F27,0) | T27: =IF($B27=T$1,$F27,0) -> 0 | U27: =IF($B27=U$1,$F27,0) -> 0 | V27: =IF($B27=V$1,$F27,0) -> 0
A28: W27 | B28: Documentdomein | C28: 40 | D28: De Oplossing ondersteunt het koppelen van een fotobestand uit een zaakdossier aan een Bevinding object in het Locatiedomein. | F28: =IF(E28="Bij inschrijving",C28,IF(E28="Bij livegang",0.4*C28,IF(E28="Niet",0,""))) | G28: =IF(E28="","",IF(E28="Bij inschrijving","Ja","Nee")) | J28: =IF($B28=J$1,$C28,0) -> 0 | K28: =IF($B28=K$1,$C28,0) -> 0 | L28: =IF($B28=L$1,$C28,0) -> 40 | M28: =IF($B28=M$1,$C28,0) -> 0 | N28: =IF($B28=N$1,$C28,0) -> 0 | O28: =IF($B28=O$1,$C28,0) -> 0 | Q28: =IF($B28=Q$1,$F28,0) -> 0 | R28: =IF($B28=R$1,$F28,0) -> 0 | S28: =IF($B28=S$1,$F28,0) | T28: =IF($B28=T$1,$F28,0) -> 0 | U28: =IF($B28=U$1,$F28,0) -> 0 | V28: =IF($B28=V$1,$F28,0) -> 0
A29: W28 | B29: Gebruik | C29: 60 | D29: De Oplossing beschikt over een sorteer functie op de volgende onderdelen: - Documenten in het zaakdossier. - Zoekresultaat in het Documentdomein. - Zoekresultaat in het Locatiedomein. - Zoekresultaat in het Zaakdomein. - Werkvoorraad. Deze onderdelen kunnen worden gesorteerd op specifieke kenmerken die betrekking hebben op de onderdelen, bijvoorbeeld documenttype, objecttype, adres, zaaktype, aanmaak datum, besluitdatum, zaakstatus, resultaat, thema. Sorteren op datum resulteert in chronologische weergave, sorteren op overige kenmerken resulteert in alfabetische weergave. | F29: =IF(E29="Bij inschrijving",C29,IF(E29="Bij livegang",0.4*C29,IF(E29="Niet",0,""))) | G29: =IF(E29="","",IF(E29="Bij inschrijving","Ja","Nee")) | I29: =IF(E29="",1,0) -> 1 | J29: =IF($B29=J$1,$C29,0) -> 0 | K29: =IF($B29=K$1,$C29,0) -> 0 | L29: =IF($B29=L$1,$C29,0) -> 0 | M29: =IF($B29=M$1,$C29,0) -> 0 | N29: =IF($B29=N$1,$C29,0) -> 60 | O29: =IF($B29=O$1,$C29,0) -> 0 | Q29: =IF($B29=Q$1,$F29,0) -> 0 | R29: =IF($B29=R$1,$F29,0) -> 0 | S29: =IF($B29=S$1,$F29,0) -> 0 | T29: =IF($B29=T$1,$F29,0) -> 0 | U29: =IF($B29=U$1,$F29,0) | V29: =IF($B29=V$1,$F29,0) -> 0
A30: W29 | B30: Toezichtdomein | C30: 40 | D30: De Oplossing ondersteunt het opstellen en onderhouden van standaard vragen door een geautoriseerde Gebruiker van Opdrachtgever: - Standaard vragen worden als Toezichtvraag object opgeslagen in het Locatiedomein (zie bijlage C). | F30: =IF(E30="Bij inschrijving",C30,IF(E30="Bij livegang",0.4*C30,IF(E30="Niet",0,""))) | G30: =IF(E30="","",IF(E30="Bij inschrijving","Ja","Nee")) | I30: =IF(E30="",1,0) -> 1 | J30: =IF($B30=J$1,$C30,0) -> 0 | K30: =IF($B30=K$1,$C30,0) -> 0 | L30: =IF($B30=L$1,$C30,0) -> 0 | M30: =IF($B30=M$1,$C30,0) -> 40 | N30: =IF($B30=N$1,$C30,0) -> 0 | O30: =IF($B30=O$1,$C30,0) -> 0 | Q30: =IF($B30=Q$1,$F30,0) -> 0 | R30: =IF($B30=R$1,$F30,0) -> 0 | S30: =IF($B30=S$1,$F30,0) -> 0 | T30: =IF($B30=T$1,$F30,0) | U30: =IF($B30=U$1,$F30,0) -> 0 | V30: =IF($B30=V$1,$F30,0) -> 0
A31: W30 | B31: Toezichtdomein | C31: 40 | D31: De Oplossing ondersteunt het opstellen en onderhouden van meerdere standaard vragenlijsten door een geautoriseerde Gebruiker van Opdrachtgever, bijvoorbeeld op basis van de gebruiksfunctie van het Locatieobject: - Standaard vragenlijsten worden als Checklist template object opgeslagen in het Locatiedomein (zie bijlage C). - Standaard vragenlijsten worden opgebouwd door Toezichtvraag objecten te relateren aan het Checklist template object (zie bijlage C). - Per standaard vragenlijst kan de volgorde waarin standaard vragen worden gepresenteerd aan de toezichthouder bij het afhandelen van de vragenlijst, door de opsteller van de standaard vragenlijst worden ingesteld. - Een Toezichtvraag object kan worden gerelateerd aan meerdere Checklist template objecten (zie bijlage C). | F31: =IF(E31="Bij inschrijving",C31,IF(E31="Bij livegang",0.4*C31,IF(E31="Niet",0,""))) | G31: =IF(E31="","",IF(E31="Bij inschrijving","Ja","Nee")) | I31: =IF(E31="",1,0) -> 1 | J31: =IF($B31=J$1,$C31,0) -> 0 | K31: =IF($B31=K$1,$C31,0) -> 0 | L31: =IF($B31=L$1,$C31,0) -> 0 | M31: =IF($B31=M$1,$C31,0) -> 40 | N31: =IF($B31=N$1,$C31,0) -> 0 | O31: =IF($B31=O$1,$C31,0) -> 0 | Q31: =IF($B31=Q$1,$F31,0) -> 0 | R31: =IF($B31=R$1,$F31,0) -> 0 | S31: =IF($B31=S$1,$F31,0) -> 0 | T31: =IF($B31=T$1,$F31,0) | U31: =IF($B31=U$1,$F31,0) -> 0 | V31: =IF($B31=V$1,$F31,0) -> 0
A32: W31 | B32: Toezichtdomein | C32: 40 | D32: Standaard vragen die zijn toegewezen aan een specifieke standaard vragenlijst, kunnen tijdelijk uit worden gezet (on hold) voor die specifieke standaard vragenlijst: - De vraag is dan nog steeds onderdeel van de vragenlijst, maar voor die specifieke vragenlijst niet zichtbaar voor de toezichthouder tijdens een inspectie. - Deze setting heeft geen invloed op andere standaard vragenlijsten waar dezelfde standaard vraag aan is gerelateerd. - In de Bevinding objecten die worden opgeslagen is duidelijk dat vragen die zijn uitgezet voor inspectie, niet zijn behandeld. | F32: =IF(E32="Bij inschrijving",C32,IF(E32="Bij livegang",0.4*C32,IF(E32="Niet",0,""))) | G32: =IF(E32="","",IF(E32="Bij inschrijving","Ja","Nee")) | I32: =IF(E32="",1,0) -> 1 | J32: =IF($B32=J$1,$C32,0) -> 0 | K32: =IF($B32=K$1,$C32,0) -> 0 | L32: =IF($B32=L$1,$C32,0) -> 0 | M32: =IF($B32=M$1,$C32,0) -> 40 | N32: =IF($B32=N$1,$C32,0) -> 0 | O32: =IF($B32=O$1,$C32,0) -> 0 | Q32: =IF($B32=Q$1,$F32,0) -> 0 | R32: =IF($B32=R$1,$F32,0) -> 0 | S32: =IF($B32=S$1,$F32,0) -> 0 | T32: =IF($B32=T$1,$F32,0) | U32: =IF($B32=U$1,$F32,0) -> 0 | V32: =IF($B32=V$1,$F32,0) -> 0
A33: W32 | B33: Toezichtdomein | C33: 40 | D33: Voor het uitvoeren van een inspectie worden één of meerdere standaard vragenlijsten afgehandeld in een toezicht zaak: - De standaard vragenlijsten worden geselecteerd vanuit de toezicht zaak. - Per geselecteerde standaard vragenlijst wordt een Checklist afname object aangemaakt in het Locatiedomein (zie bijlage C). - Het Checklist afname object wordt gerelateerd aan de toezicht zaak, aan het Locatieobject, en aan het Checklist template object (zie bijlage C). | F33: =IF(E33="Bij inschrijving",C33,IF(E33="Bij livegang",0.4*C33,IF(E33="Niet",0,""))) | G33: =IF(E33="","",IF(E33="Bij inschrijving","Ja","Nee")) | I33: =IF(E33="",1,0) -> 1 | J33: =IF($B33=J$1,$C33,0) -> 0 | K33: =IF($B33=K$1,$C33,0) -> 0 | L33: =IF($B33=L$1,$C33,0) -> 0 | M33: =IF($B33=M$1,$C33,0) -> 40 | N33: =IF($B33=N$1,$C33,0) -> 0 | O33: =IF($B33=O$1,$C33,0) -> 0 | Q33: =IF($B33=Q$1,$F33,0) -> 0 | R33: =IF($B33=R$1,$F33,0) -> 0 | S33: =IF($B33=S$1,$F33,0) -> 0 | T33: =IF($B33=T$1,$F33,0) | U33: =IF($B33=U$1,$F33,0) -> 0 | V33: =IF($B33=V$1,$F33,0) -> 0
A34: W33 | B34: Toezichtdomein | C34: 40 | D34: Voor het afhandelen van een standaard vragenlijst worden de standaard vragen van deze vragenlijst in één scroll-baar overzicht gepresenteerd aan de toezichthouder die de inspectie uitvoert: - Dit overzicht toont de standaard vragen, gerangschikt onder elkaar, één vraag per regel van het overzicht, met volgorde van vragen die is ingesteld voor de standaard vragenlijst. - In dat overzicht kan per vraag worden aangegeven of er een overtreding is geconstateerd, ja/nee. - Ongeacht of er een overtreding is geconstateerd kan de toezichthouder per vraag een waarneming, een toelichting en foto's toevoegen aan de bevinding. | F34: =IF(E34="Bij inschrijving",C34,IF(E34="Bij livegang",0.4*C34,IF(E34="Niet",0,""))) | G34: =IF(E34="","",IF(E34="Bij inschrijving","Ja","Nee")) | I34: =IF(E34="",1,0) -> 1 | J34: =IF($B34=J$1,$C34,0) -> 0 | K34: =IF($B34=K$1,$C34,0) -> 0 | L34: =IF($B34=L$1,$C34,0) -> 0 | M34: =IF($B34=M$1,$C34,0) -> 40 | N34: =IF($B34=N$1,$C34,0) -> 0 | O34: =IF($B34=O$1,$C34,0) -> 0 | Q34: =IF($B34=Q$1,$F34,0) -> 0 | R34: =IF($B34=R$1,$F34,0) -> 0 | S34: =IF($B34=S$1,$F34,0) -> 0 | T34: =IF($B34=T$1,$F34,0) | U34: =IF($B34=U$1,$F34,0) -> 0 | V34: =IF($B34=V$1,$F34,0) -> 0
A35: W34 | B35: Toezichtdomein | C35: 40 | D35: Voor elke vraag die onderdeel is van een Checklist afname wordt een Bevinding opject aangemaakt in het Locatiedomein (zie bijlage C): - Het Bevinding objecten wordt gerelateerd aan de toezicht zaak, aan het Locatieobject, aan de Toezichtvraag object, en aan de Checklist afname object (zie bijlage C). | F35: =IF(E35="Bij inschrijving",C35,IF(E35="Bij livegang",0.4*C35,IF(E35="Niet",0,""))) | G35: =IF(E35="","",IF(E35="Bij inschrijving","Ja","Nee")) | I35: =IF(E35="",1,0) -> 1 | J35: =IF($B35=J$1,$C35,0) -> 0 | K35: =IF($B35=K$1,$C35,0) -> 0 | L35: =IF($B35=L$1,$C35,0) -> 0 | M35: =IF($B35=M$1,$C35,0) -> 40 | N35: =IF($B35=N$1,$C35,0) -> 0 | O35: =IF($B35=O$1,$C35,0) -> 0 | Q35: =IF($B35=Q$1,$F35,0) -> 0 | R35: =IF($B35=R$1,$F35,0) -> 0 | S35: =IF($B35=S$1,$F35,0) -> 0 | T35: =IF($B35=T$1,$F35,0) | U35: =IF($B35=U$1,$F35,0) -> 0 | V35: =IF($B35=V$1,$F35,0) -> 0
A36: W35 | B36: Toezichtdomein | C36: 40 | D36: De Oplossing ondersteunt een zelfscan functie waarbij bedrijven zelf de vragenlijst invullen: - De zelfscan wordt als onderdeel van een zaak afgehandeld. - De zelfscan betreft een standaard vragenlijst die is gedefinieerd in het Zaaksysteem. - Alle standaard vragenlijsten zijn beschikbaar voor de selfscan functie. - Eén zelfscan betreft één standaard vragenlijst. - De zelfscan wordt per mail verstuurd naar het bedrijf, met een weblink naar een webformulier waar de zelfscan wordt uitgevoerd. - De Oplossing stuurt automatisch een herinnering als de zelfscan niet tijdig wordt ingevuld. - De ingevulde zelfscan wordt automatisch verwerkt in het bevindingen register van het Zaaksysteem. | F36: =IF(E36="Bij inschrijving",C36,IF(E36="Bij livegang",0.4*C36,IF(E36="Niet",0,""))) | G36: =IF(E36="","",IF(E36="Bij inschrijving","Ja","Nee")) | I36: =IF(E36="",1,0) -> 1 | J36: =IF($B36=J$1,$C36,0) -> 0 | K36: =IF($B36=K$1,$C36,0) -> 0 | L36: =IF($B36=L$1,$C36,0) -> 0 | M36: =IF($B36=M$1,$C36,0) -> 40 | N36: =IF($B36=N$1,$C36,0) -> 0 | O36: =IF($B36=O$1,$C36,0) -> 0 | Q36: =IF($B36=Q$1,$F36,0) -> 0 | R36: =IF($B36=R$1,$F36,0) -> 0 | S36: =IF($B36=S$1,$F36,0) -> 0 | T36: =IF($B36=T$1,$F36,0) | U36: =IF($B36=U$1,$F36,0) -> 0 | V36: =IF($B36=V$1,$F36,0) -> 0
A37: W36 | B37: Gebruik | C37: 60 | D37: De Oplossing beschikt over een filter functie op de volgende onderdelen: - Documenten in het zaakdossier. - Zoekresultaat in het Documentdomein. - Zoekresultaat in het Locatiedomein. - Zoekresultaat in het Zaakdomein. - Werkvoorraad. Deze onderdelen kunnen worden gefilterd op specifieke kenmerken die betrekking hebben op de onderdelen, bijvoorbeeld documenttype, objecttype, adres, zaaktype, aanmaak datum, besluitdatum, zaakstatus, resultaat, thema. | F37: =IF(E37="Bij inschrijving",C37,IF(E37="Bij livegang",0.4*C37,IF(E37="Niet",0,""))) | G37: =IF(E37="","",IF(E37="Bij inschrijving","Ja","Nee")) | I37: =IF(E37="",1,0) -> 1 | J37: =IF($B37=J$1,$C37,0) -> 0 | K37: =IF($B37=K$1,$C37,0) -> 0 | L37: =IF($B37=L$1,$C37,0) -> 0 | M37: =IF($B37=M$1,$C37,0) -> 0 | N37: =IF($B37=N$1,$C37,0) -> 60 | O37: =IF($B37=O$1,$C37,0) -> 0 | Q37: =IF($B37=Q$1,$F37,0) -> 0 | R37: =IF($B37=R$1,$F37,0) -> 0 | S37: =IF($B37=S$1,$F37,0) -> 0 | T37: =IF($B37=T$1,$F37,0) -> 0 | U37: =IF($B37=U$1,$F37,0) | V37: =IF($B37=V$1,$F37,0) -> 0
A38: W37 | B38: Gebruik | C38: 60 | D38: De Oplossing ondersteunt het opnemen van Opdrachtgever specifieke tekstuele ondersteuning voor het gebruik van de Oplossing, op plaatsen waar dat relevant is voor gebruikers, waaronder: - Werkinstructies voor het afhandelen van de status van een zaak. - Uitleg over het gebruik van kenmerken in het Zaakdomein en het Locatiedomein. | F38: =IF(E38="Bij inschrijving",C38,IF(E38="Bij livegang",0.4*C38,IF(E38="Niet",0,""))) | G38: =IF(E38="","",IF(E38="Bij inschrijving","Ja","Nee")) | I38: =IF(E38="",1,0) -> 1 | J38: =IF($B38=J$1,$C38,0) -> 0 | K38: =IF($B38=K$1,$C38,0) -> 0 | L38: =IF($B38=L$1,$C38,0) -> 0 | M38: =IF($B38=M$1,$C38,0) -> 0 | N38: =IF($B38=N$1,$C38,0) -> 60 | O38: =IF($B38=O$1,$C38,0) -> 0 | Q38: =IF($B38=Q$1,$F38,0) -> 0 | R38: =IF($B38=R$1,$F38,0) -> 0 | S38: =IF($B38=S$1,$F38,0) -> 0 | T38: =IF($B38=T$1,$F38,0) -> 0 | U38: =IF($B38=U$1,$F38,0) | V38: =IF($B38=V$1,$F38,0) -> 0
A39: W38 | B39: Gebruik | C39: 60 | D39: De Oplossing ondersteunt een drag-and-drop functie voor het toevoegen van documenten aan het zaakdossier. Deze functionaliteit werk ook voor het rechtstreeks van Outlook toevoegen van mails met bijlagen aan het zaakdossier. | F39: =IF(E39="Bij inschrijving",C39,IF(E39="Bij livegang",0.4*C39,IF(E39="Niet",0,""))) | G39: =IF(E39="","",IF(E39="Bij inschrijving","Ja","Nee")) | J39: =IF($B39=J$1,$C39,0) -> 0 | K39: =IF($B39=K$1,$C39,0) -> 0 | L39: =IF($B39=L$1,$C39,0) -> 0 | M39: =IF($B39=M$1,$C39,0) -> 0 | N39: =IF($B39=N$1,$C39,0) -> 60 | O39: =IF($B39=O$1,$C39,0) -> 0 | Q39: =IF($B39=Q$1,$F39,0) -> 0 | R39: =IF($B39=R$1,$F39,0) -> 0 | S39: =IF($B39=S$1,$F39,0) -> 0 | T39: =IF($B39=T$1,$F39,0) -> 0 | U39: =IF($B39=U$1,$F39,0) | V39: =IF($B39=V$1,$F39,0) -> 0
A40: W39 | B40: Gebruik | C40: 40 | D40: De Oplossing ondersteunt de landelijke handhavingstrategie voor toezicht en handhaving, zoals bijgevoegd in de aanbestedingsstukken. De volgende onderdelen zijn hierbij standaard functionaliteit van de Oplossing: a. Gebruiker kan in een toezichtzaak het gedrag van de overtreder vastleggen (waarden A/B/C/D), en hierbij een motivatie vastleggen. b. Gebruiker kan in een toezichtzaak per overtreding, ernst van de overtreding vastleggen (waarden 1/2/3/4), en hierbij een motivatie vastleggen. c. Gebruiker kan in een toezichtzaak per overtreding, een correctie vastleggen voor zowel het gedrag als de ernst van de overtreding (-1/0/+1), en hierbij een motivatie vastleggen. d. Op basis van de ernst, gedrag, correctie wordt de sanctie automatisch bepaald, zwaarst wegende overtreding is leidend. e. De uitkomst kan ter toetsing en fiattering worden voorgelegd aan andere gebruikers. f. Op basis van de uitkomst worden automatisch relevante vervolgzaken aangemaakt. g. De sanctie wordt automatisch vastgelegd in het locatiedomein voor het bewuste Locatieobject. | F40: =IF(E40="Bij inschrijving",C40,IF(E40="Bij livegang",0.4*C40,IF(E40="Niet",0,""))) | G40: =IF(E40="","",IF(E40="Bij inschrijving","Ja","Nee")) | I40: =IF(E40="",1,0) -> 1 | J40: =IF($B40=J$1,$C40,0) -> 0 | K40: =IF($B40=K$1,$C40,0) -> 0 | L40: =IF($B40=L$1,$C40,0) -> 0 | M40: =IF($B40=M$1,$C40,0) -> 0 | N40: =IF($B40=N$1,$C40,0) -> 40 | O40: =IF($B40=O$1,$C40,0) -> 0 | Q40: =IF($B40=Q$1,$F40,0) -> 0 | R40: =IF($B40=R$1,$F40,0) -> 0 | S40: =IF($B40=S$1,$F40,0) -> 0 | T40: =IF($B40=T$1,$F40,0) -> 0 | U40: =IF($B40=U$1,$F40,0) | V40: =IF($B40=V$1,$F40,0) -> 0
A41: W40 | B41: Gebruik | C41: 40 | D41: Gebruikers kunnen zelf hun startscherm aanpassen aan voor hun functie relevante instrumenten en overzichten. De aanpassingen worden automatisch bewaard en bij een volgende inlogsessie toegepast. | F41: =IF(E41="Bij inschrijving",C41,IF(E41="Bij livegang",0.4*C41,IF(E41="Niet",0,""))) | G41: =IF(E41="","",IF(E41="Bij inschrijving","Ja","Nee")) | I41: =IF(E41="",1,0) -> 1 | J41: =IF($B41=J$1,$C41,0) -> 0 | K41: =IF($B41=K$1,$C41,0) -> 0 | L41: =IF($B41=L$1,$C41,0) -> 0 | M41: =IF($B41=M$1,$C41,0) -> 0 | N41: =IF($B41=N$1,$C41,0) -> 40 | O41: =IF($B41=O$1,$C41,0) -> 0 | Q41: =IF($B41=Q$1,$F41,0) -> 0 | R41: =IF($B41=R$1,$F41,0) -> 0 | S41: =IF($B41=S$1,$F41,0) -> 0 | T41: =IF($B41=T$1,$F41,0) -> 0 | U41: =IF($B41=U$1,$F41,0) | V41: =IF($B41=V$1,$F41,0) -> 0
A42: W41a | B42: Gebruik | C42: 40 | D42: Binnen de zoekfunctie van de Oplossing wordt de gebruiker ondersteunt in de manier van zoeken, bijvoorbeeld met gebruik van suggesties, fuzzy search etc. | F42: =IF(E42="Bij inschrijving",C42,IF(E42="Bij livegang",0.4*C42,IF(E42="Niet",0,""))) | G42: Nee | I42: =IF(E42="",1,0) -> 1 | J42: =IF($B42=J$1,$C42,0) -> 0 | K42: =IF($B42=K$1,$C42,0) -> 0 | L42: =IF($B42=L$1,$C42,0) -> 0 | M42: =IF($B42=M$1,$C42,0) -> 0 | N42: =IF($B42=N$1,$C42,0) -> 40 | O42: =IF($B42=O$1,$C42,0) -> 0 | Q42: =IF($B42=Q$1,$F42,0) -> 0 | R42: =IF($B42=R$1,$F42,0) -> 0 | S42: =IF($B42=S$1,$F42,0) -> 0 | T42: =IF($B42=T$1,$F42,0) -> 0 | U42: =IF($B42=U$1,$F42,0) | V42: =IF($B42=V$1,$F42,0) -> 0
A43: W41b | B43: Gebruik | C43: 40 | D43: De Oplossing beschikt over een 'full text search' functie op documenten in het Zaaksysteem. De zoekfunctie zoekt ook in bijlagen van e-mails. | F43: =IF(E43="Bij inschrijving",C43,IF(E43="Bij livegang",0.4*C43,IF(E43="Niet",0,""))) | G43: =IF(E43="","",IF(E43="Bij inschrijving","Ja","Nee")) | I43: =IF(E43="",1,0) -> 1 | J43: =IF($B43=J$1,$C43,0) -> 0 | K43: =IF($B43=K$1,$C43,0) -> 0 | L43: =IF($B43=L$1,$C43,0) -> 0 | M43: =IF($B43=M$1,$C43,0) -> 0 | N43: =IF($B43=N$1,$C43,0) -> 40 | O43: =IF($B43=O$1,$C43,0) -> 0 | Q43: =IF($B43=Q$1,$F43,0) -> 0 | R43: =IF($B43=R$1,$F43,0) -> 0 | S43: =IF($B43=S$1,$F43,0) -> 0 | T43: =IF($B43=T$1,$F43,0) -> 0 | U43: =IF($B43=U$1,$F43,0) | V43: =IF($B43=V$1,$F43,0) -> 0
A44: W42 | B44: Gebruik | C44: 40 | D44: De Oplossing heeft een geografische functie waarmee objecten uit het locatiedomein, maar ook zaken, als punt of polygoon worden getoond op een geografische kaart. Getoonde objecten en zaken kunnen hierbij worden opgevraagd door deze aan te klikken op de geografische kaart (volgens WFS standaard). | F44: =IF(E44="Bij inschrijving",C44,IF(E44="Bij livegang",0.4*C44,IF(E44="Niet",0,""))) | G44: =IF(E44="","",IF(E44="Bij inschrijving","Ja","Nee")) | I44: =IF(E44="",1,0) -> 1 | J44: =IF($B44=J$1,$C44,0) -> 0 | K44: =IF($B44=K$1,$C44,0) -> 0 | L44: =IF($B44=L$1,$C44,0) -> 0 | M44: =IF($B44=M$1,$C44,0) -> 0 | N44: =IF($B44=N$1,$C44,0) -> 40 | O44: =IF($B44=O$1,$C44,0) -> 0 | Q44: =IF($B44=Q$1,$F44,0) -> 0 | R44: =IF($B44=R$1,$F44,0) -> 0 | S44: =IF($B44=S$1,$F44,0) -> 0 | T44: =IF($B44=T$1,$F44,0) -> 0 | U44: =IF($B44=U$1,$F44,0) | V44: =IF($B44=V$1,$F44,0) -> 0
A45: W43 | B45: Gebruik | C45: 40 | D45: De Oplossing ondersteunt verplichte invulvelden, niet verplichte invulvelden en het blokkeren voor wijzigen van vooringevulde invulvelden. | F45: =IF(E45="Bij inschrijving",C45,IF(E45="Bij livegang",0.4*C45,IF(E45="Niet",0,""))) | G45: =IF(E45="","",IF(E45="Bij inschrijving","Ja","Nee")) | I45: =IF(E45="",1,0) -> 1 | J45: =IF($B45=J$1,$C45,0) -> 0 | K45: =IF($B45=K$1,$C45,0) -> 0 | L45: =IF($B45=L$1,$C45,0) -> 0 | M45: =IF($B45=M$1,$C45,0) -> 0 | N45: =IF($B45=N$1,$C45,0) -> 40 | O45: =IF($B45=O$1,$C45,0) -> 0 | Q45: =IF($B45=Q$1,$F45,0) -> 0 | R45: =IF($B45=R$1,$F45,0) -> 0 | S45: =IF($B45=S$1,$F45,0) -> 0 | T45: =IF($B45=T$1,$F45,0) -> 0 | U45: =IF($B45=U$1,$F45,0) | V45: =IF($B45=V$1,$F45,0) -> 0
A46: W44 | B46: Gebruik | C46: 40 | D46: De Oplossing ondersteunt directe toegang tot specifieke objecten en zaken, met een URL van buiten de applicatie. Deze functie is beschikbaar voor alle zaaktypen en voor alle objecttypen. | F46: =IF(E46="Bij inschrijving",C46,IF(E46="Bij livegang",0.4*C46,IF(E46="Niet",0,""))) | G46: =IF(E46="","",IF(E46="Bij inschrijving","Ja","Nee")) | I46: =IF(E46="",1,0) -> 1 | J46: =IF($B46=J$1,$C46,0) -> 0 | K46: =IF($B46=K$1,$C46,0) -> 0 | L46: =IF($B46=L$1,$C46,0) -> 0 | M46: =IF($B46=M$1,$C46,0) -> 0 | N46: =IF($B46=N$1,$C46,0) -> 40 | O46: =IF($B46=O$1,$C46,0) -> 0 | Q46: =IF($B46=Q$1,$F46,0) -> 0 | R46: =IF($B46=R$1,$F46,0) -> 0 | S46: =IF($B46=S$1,$F46,0) -> 0 | T46: =IF($B46=T$1,$F46,0) -> 0 | U46: =IF($B46=U$1,$F46,0) | V46: =IF($B46=V$1,$F46,0) -> 0
A47: W45 | B47: Gebruik | C47: 40 | D47: De Oplossing ondersteunt toegankelijkheidsvoorzieningen voor gebruikers met een gezichtsbeperking of kleurenblindheid, volgens de webrichtlijnen versie 2 van het W3C. | F47: =IF(E47="Bij inschrijving",C47,IF(E47="Bij livegang",0.4*C47,IF(E47="Niet",0,""))) | G47: =IF(E47="","",IF(E47="Bij inschrijving","Ja","Nee")) | I47: =IF(E47="",1,0) -> 1 | J47: =IF($B47=J$1,$C47,0) -> 0 | K47: =IF($B47=K$1,$C47,0) -> 0 | L47: =IF($B47=L$1,$C47,0) -> 0 | M47: =IF($B47=M$1,$C47,0) -> 0 | N47: =IF($B47=N$1,$C47,0) -> 40 | O47: =IF($B47=O$1,$C47,0) -> 0 | Q47: =IF($B47=Q$1,$F47,0) -> 0 | R47: =IF($B47=R$1,$F47,0) -> 0 | S47: =IF($B47=S$1,$F47,0) -> 0 | T47: =IF($B47=T$1,$F47,0) -> 0 | U47: =IF($B47=U$1,$F47,0) | V47: =IF($B47=V$1,$F47,0) -> 0
A48: W46 | B48: Gebruik | C48: 40 | D48: De Oplossing is beschikbaar op de mobiele telefoon (IOS en Android), waarbij de Oplossing zich aanpast (schaalt) naar het device waarop het wordt gebruikt. | F48: =IF(E48="Bij inschrijving",C48,IF(E48="Bij livegang",0.4*C48,IF(E48="Niet",0,""))) | G48: =IF(E48="","",IF(E48="Bij inschrijving","Ja","Nee")) | I48: =IF(E48="",1,0) -> 1 | J48: =IF($B48=J$1,$C48,0) -> 0 | K48: =IF($B48=K$1,$C48,0) -> 0 | L48: =IF($B48=L$1,$C48,0) -> 0 | M48: =IF($B48=M$1,$C48,0) -> 0 | N48: =IF($B48=N$1,$C48,0) -> 40 | O48: =IF($B48=O$1,$C48,0) -> 0 | Q48: =IF($B48=Q$1,$F48,0) -> 0 | R48: =IF($B48=R$1,$F48,0) -> 0 | S48: =IF($B48=S$1,$F48,0) -> 0 | T48: =IF($B48=T$1,$F48,0) -> 0 | U48: =IF($B48=U$1,$F48,0) | V48: =IF($B48=V$1,$F48,0) -> 0
A49: W47 | B49: Gebruik | C49: 20 | D49: De Oplossing maakt voor de gebruiker zichtbaar onderscheid tussen verplichte invulvelden, niet verplichte invulvelden en velden die geblokkeerd zijn voor wijzigen. | F49: =IF(E49="Bij inschrijving",C49,IF(E49="Bij livegang",0.4*C49,IF(E49="Niet",0,""))) | G49: =IF(E49="","",IF(E49="Bij inschrijving","Ja","Nee")) | I49: =IF(E49="",1,0) -> 1 | J49: =IF($B49=J$1,$C49,0) -> 0 | K49: =IF($B49=K$1,$C49,0) -> 0 | L49: =IF($B49=L$1,$C49,0) -> 0 | M49: =IF($B49=M$1,$C49,0) -> 0 | N49: =IF($B49=N$1,$C49,0) -> 20 | O49: =IF($B49=O$1,$C49,0) -> 0 | Q49: =IF($B49=Q$1,$F49,0) -> 0 | R49: =IF($B49=R$1,$F49,0) -> 0 | S49: =IF($B49=S$1,$F49,0) -> 0 | T49: =IF($B49=T$1,$F49,0) -> 0 | U49: =IF($B49=U$1,$F49,0) | V49: =IF($B49=V$1,$F49,0) -> 0
A50: W48 | B50: Gebruik | C50: 20 | D50: De Oplossing ondersteunt het gebruik van standaard toets combinaties voor functies als kopiëren en plakken van tekst. | F50: =IF(E50="Bij inschrijving",C50,IF(E50="Bij livegang",0.4*C50,IF(E50="Niet",0,""))) | G50: =IF(E50="","",IF(E50="Bij inschrijving","Ja","Nee")) | I50: =IF(E50="",1,0) -> 1 | J50: =IF($B50=J$1,$C50,0) -> 0 | K50: =IF($B50=K$1,$C50,0) -> 0 | L50: =IF($B50=L$1,$C50,0) -> 0 | M50: =IF($B50=M$1,$C50,0) -> 0 | N50: =IF($B50=N$1,$C50,0) -> 20 | O50: =IF($B50=O$1,$C50,0) -> 0 | Q50: =IF($B50=Q$1,$F50,0) -> 0 | R50: =IF($B50=R$1,$F50,0) -> 0 | S50: =IF($B50=S$1,$F50,0) -> 0 | T50: =IF($B50=T$1,$F50,0) -> 0 | U50: =IF($B50=U$1,$F50,0) | V50: =IF($B50=V$1,$F50,0) -> 0
A51: W49 | B51: Gebruik | C51: 20 | D51: Zoekfilters en -voorkeuren kunnen door een gebruiker worden opgeslagen voor eigen gebruik op een later moment. | F51: =IF(E51="Bij inschrijving",C51,IF(E51="Bij livegang",0.4*C51,IF(E51="Niet",0,""))) | G51: =IF(E51="","",IF(E51="Bij inschrijving","Ja","Nee")) | I51: =IF(E51="",1,0) -> 1 | J51: =IF($B51=J$1,$C51,0) -> 0 | K51: =IF($B51=K$1,$C51,0) -> 0 | L51: =IF($B51=L$1,$C51,0) -> 0 | M51: =IF($B51=M$1,$C51,0) -> 0 | N51: =IF($B51=N$1,$C51,0) -> 20 | O51: =IF($B51=O$1,$C51,0) -> 0 | Q51: =IF($B51=Q$1,$F51,0) -> 0 | R51: =IF($B51=R$1,$F51,0) -> 0 | S51: =IF($B51=S$1,$F51,0) -> 0 | T51: =IF($B51=T$1,$F51,0) -> 0 | U51: =IF($B51=U$1,$F51,0) | V51: =IF($B51=V$1,$F51,0) -> 0
A52: W50 | B52: Gebruik | C52: 20 | D52: Voor het opstellen van een mail die vanuit de applicatie wordt verstuurd, ondersteunt de Oplossing het opmaken van tekst, waaronder: - Vetgedrukt en cursief. - Bullet en genummerde lijsten. | F52: =IF(E52="Bij inschrijving",C52,IF(E52="Bij livegang",0.4*C52,IF(E52="Niet",0,""))) | G52: =IF(E52="","",IF(E52="Bij inschrijving","Ja","Nee")) | I52: =IF(E52="",1,0) -> 1 | J52: =IF($B52=J$1,$C52,0) -> 0 | K52: =IF($B52=K$1,$C52,0) -> 0 | L52: =IF($B52=L$1,$C52,0) -> 0 | M52: =IF($B52=M$1,$C52,0) -> 0 | N52: =IF($B52=N$1,$C52,0) -> 20 | O52: =IF($B52=O$1,$C52,0) -> 0 | Q52: =IF($B52=Q$1,$F52,0) -> 0 | R52: =IF($B52=R$1,$F52,0) -> 0 | S52: =IF($B52=S$1,$F52,0) -> 0 | T52: =IF($B52=T$1,$F52,0) -> 0 | U52: =IF($B52=U$1,$F52,0) | V52: =IF($B52=V$1,$F52,0) -> 0
A53: W51 | B53: Gebruik | C53: 20 | D53: Voor het opstellen van een mail die vanuit de applicatie wordt verstuurd, ondersteunt de Oplossing het opnemen van een afbeelding in de tekst van de mail (niet als attachment). | F53: =IF(E53="Bij inschrijving",C53,IF(E53="Bij livegang",0.4*C53,IF(E53="Niet",0,""))) | G53: =IF(E53="","",IF(E53="Bij inschrijving","Ja","Nee")) | J53: =IF($B53=J$1,$C53,0) -> 0 | K53: =IF($B53=K$1,$C53,0) -> 0 | L53: =IF($B53=L$1,$C53,0) -> 0 | M53: =IF($B53=M$1,$C53,0) -> 0 | N53: =IF($B53=N$1,$C53,0) -> 20 | O53: =IF($B53=O$1,$C53,0) -> 0 | Q53: =IF($B53=Q$1,$F53,0) -> 0 | R53: =IF($B53=R$1,$F53,0) -> 0 | S53: =IF($B53=S$1,$F53,0) -> 0 | T53: =IF($B53=T$1,$F53,0) -> 0 | U53: =IF($B53=U$1,$F53,0) | V53: =IF($B53=V$1,$F53,0) -> 0
A54: W52 | B54: Gebruik | C54: 20 | D54: De MS365 functie voor samenwerken aan documenten is ook beschikbaar voor samenwerken met ketenpartners, die geen gebruikersaccount hebben voor het zaaksyseem. Authenticatie wordt in dit geval verzorgd middels de MS365 authenticatie voor het delen van documenten. | F54: =IF(E54="Bij inschrijving",C54,IF(E54="Bij livegang",0.4*C54,IF(E54="Niet",0,""))) | G54: =IF(E54="","",IF(E54="Bij inschrijving","Ja","Nee")) | I54: =IF(E54="",1,0) -> 1 | J54: =IF($B54=J$1,$C54,0) -> 0 | K54: =IF($B54=K$1,$C54,0) -> 0 | L54: =IF($B54=L$1,$C54,0) -> 0 | M54: =IF($B54=M$1,$C54,0) -> 0 | N54: =IF($B54=N$1,$C54,0) -> 20 | O54: =IF($B54=O$1,$C54,0) -> 0 | Q54: =IF($B54=Q$1,$F54,0) -> 0 | R54: =IF($B54=R$1,$F54,0) -> 0 | S54: =IF($B54=S$1,$F54,0) -> 0 | T54: =IF($B54=T$1,$F54,0) -> 0 | U54: =IF($B54=U$1,$F54,0) | V54: =IF($B54=V$1,$F54,0) -> 0
A55: W53 | B55: Overig | C55: 60 | D55: De Oplossing kan documenten voorzien van een rechtsgeldige elektronische ondertekening. | F55: =IF(E55="Bij inschrijving",C55,IF(E55="Bij livegang",0.4*C55,IF(E55="Niet",0,""))) | G55: =IF(E55="","",IF(E55="Bij inschrijving","Ja","Nee")) | I55: =IF(E55="",1,0) -> 1 | J55: =IF($B55=J$1,$C55,0) -> 0 | K55: =IF($B55=K$1,$C55,0) -> 0 | L55: =IF($B55=L$1,$C55,0) -> 0 | M55: =IF($B55=M$1,$C55,0) -> 0 | N55: =IF($B55=N$1,$C55,0) -> 0 | O55: =IF($B55=O$1,$C55,0) -> 60 | Q55: =IF($B55=Q$1,$F55,0) -> 0 | R55: =IF($B55=R$1,$F55,0) -> 0 | S55: =IF($B55=S$1,$F55,0) -> 0 | T55: =IF($B55=T$1,$F55,0) -> 0 | U55: =IF($B55=U$1,$F55,0) -> 0 | V55: =IF($B55=V$1,$F55,0)
A56: W54 | B56: Overig | C56: 60 | D56: De Oplossing heeft een centrale functie voor functioneel beheerders om gegevensuitwisseling (in- en uitgaande koppelberichten) te monitoren. Hierbij is het ook mogelijk om foute berichten te herstellen en opnieuw te versturen / ontvangen. | F56: =IF(E56="Bij inschrijving",C56,IF(E56="Bij livegang",0.4*C56,IF(E56="Niet",0,""))) | G56: Nee | I56: =IF(E56="",1,0) -> 1 | J56: =IF($B56=J$1,$C56,0) -> 0 | K56: =IF($B56=K$1,$C56,0) -> 0 | L56: =IF($B56=L$1,$C56,0) -> 0 | M56: =IF($B56=M$1,$C56,0) -> 0 | N56: =IF($B56=N$1,$C56,0) -> 0 | O56: =IF($B56=O$1,$C56,0) -> 60 | Q56: =IF($B56=Q$1,$F56,0) -> 0 | R56: =IF($B56=R$1,$F56,0) -> 0 | S56: =IF($B56=S$1,$F56,0) -> 0 | T56: =IF($B56=T$1,$F56,0) -> 0 | U56: =IF($B56=U$1,$F56,0) -> 0 | V56: =IF($B56=V$1,$F56,0)
A57: W55 | B57: Overig | C57: 40 | D57: Oplossing voldoet aan de aanbevolen standaarden van het Forum Standaardisatie. | F57: =IF(E57="Bij inschrijving",C57,IF(E57="Bij livegang",0.4*C57,IF(E57="Niet",0,""))) | G57: Nee | I57: =IF(E57="",1,0) -> 1 | J57: =IF($B57=J$1,$C57,0) -> 0 | K57: =IF($B57=K$1,$C57,0) -> 0 | L57: =IF($B57=L$1,$C57,0) -> 0 | M57: =IF($B57=M$1,$C57,0) -> 0 | N57: =IF($B57=N$1,$C57,0) -> 0 | O57: =IF($B57=O$1,$C57,0) -> 40 | Q57: =IF($B57=Q$1,$F57,0) -> 0 | R57: =IF($B57=R$1,$F57,0) -> 0 | S57: =IF($B57=S$1,$F57,0) -> 0 | T57: =IF($B57=T$1,$F57,0) -> 0 | U57: =IF($B57=U$1,$F57,0) -> 0 | V57: =IF($B57=V$1,$F57,0)
A58: W56 | B58: Overig | C58: 20 | D58: De Oplossing gebruikt voor gebruikers begrijpelijke foutmeldingen. | F58: =IF(E58="Bij inschrijving",C58,IF(E58="Bij livegang",0.4*C58,IF(E58="Niet",0,""))) | G58: =IF(E58="","",IF(E58="Bij inschrijving","Ja","Nee")) | I58: =IF(E58="",1,0) -> 1 | J58: =IF($B58=J$1,$C58,0) -> 0 | K58: =IF($B58=K$1,$C58,0) -> 0 | L58: =IF($B58=L$1,$C58,0) -> 0 | M58: =IF($B58=M$1,$C58,0) -> 0 | N58: =IF($B58=N$1,$C58,0) -> 0 | O58: =IF($B58=O$1,$C58,0) -> 20 | Q58: =IF($B58=Q$1,$F58,0) -> 0 | R58: =IF($B58=R$1,$F58,0) -> 0 | S58: =IF($B58=S$1,$F58,0) -> 0 | T58: =IF($B58=T$1,$F58,0) -> 0 | U58: =IF($B58=U$1,$F58,0) -> 0 | V58: =IF($B58=V$1,$F58,0)
A59: W57 | D59: Vervallen
A60: W58 | B60: Overig | C60: 20 | D60: De Oplossing is in staat om bulk mutaties door te voeren op metadata en kenmerken, op basis van een gestructureerd formaat (bijvoorbeeld csv). Bulk mutaties kunnen worden uitgevoerd door een geautoriseerde gebruiker van de opdrachtgever. | F60: =IF(E60="Bij inschrijving",C60,IF(E60="Bij livegang",0.4*C60,IF(E60="Niet",0,""))) | G60: Nee | I60: =IF(E60="",1,0) -> 1 | J60: =IF($B60=J$1,$C60,0) -> 0 | K60: =IF($B60=K$1,$C60,0) -> 0 | L60: =IF($B60=L$1,$C60,0) -> 0 | M60: =IF($B60=M$1,$C60,0) -> 0 | N60: =IF($B60=N$1,$C60,0) -> 0 | O60: =IF($B60=O$1,$C60,0) -> 20 | Q60: =IF($B60=Q$1,$F60,0) -> 0 | R60: =IF($B60=R$1,$F60,0) -> 0 | S60: =IF($B60=S$1,$F60,0) -> 0 | T60: =IF($B60=T$1,$F60,0) -> 0 | U60: =IF($B60=U$1,$F60,0) -> 0 | V60: =IF($B60=V$1,$F60,0)
A61: W59 | B61: Overig | C61: 20 | D61: De elektronische ondertekening is beschikbaar voor ondertekening door externe partijen, voor het ondertekenen van documenten in het zaakdossier. - De externe partij wordt gevraagd voor ondertekening via een portaalfunctie. - Het ondertekende document wordt automatisch opgeslagen in het zaakdossier. | F61: =IF(E61="Bij inschrijving",C61,IF(E61="Bij livegang",0.4*C61,IF(E61="Niet",0,""))) | G61: =IF(E61="","",IF(E61="Bij inschrijving","Ja","Nee")) | I61: =IF(E61="",1,0) -> 1 | J61: =IF($B61=J$1,$C61,0) -> 0 | K61: =IF($B61=K$1,$C61,0) -> 0 | L61: =IF($B61=L$1,$C61,0) -> 0 | M61: =IF($B61=M$1,$C61,0) -> 0 | N61: =IF($B61=N$1,$C61,0) -> 0 | O61: =IF($B61=O$1,$C61,0) -> 20 | Q61: =IF($B61=Q$1,$F61,0) -> 0 | R61: =IF($B61=R$1,$F61,0) -> 0 | S61: =IF($B61=S$1,$F61,0) -> 0 | T61: =IF($B61=T$1,$F61,0) -> 0 | U61: =IF($B61=U$1,$F61,0) -> 0 | V61: =IF($B61=V$1,$F61,0)
I63: =SUM(I2:I61) -> 56 | J63: =SUM(J2:J61) -> 650 | K63: =SUM(K2:K61) -> 160 | L63: =SUM(L2:L61) -> 140 | M63: =SUM(M2:M61) -> 280 | N63: =SUM(N2:N61) -> 720 | O63: =SUM(O2:O61) -> 220 | Q63: =SUM(Q2:Q61) -> 0 | R63: =SUM(R2:R61) -> 0 | S63: =SUM(S2:S61) -> 0 | T63: =SUM(T2:T61) -> 0 | U63: =SUM(U2:U61) -> 0 | V63: =SUM(V2:V61) -> 0

Sheet 3. Prijsopgave
A1: Consultancy | B1: Bodem | C1: Plafond | D1: Tarief)* | E1: Toelichting
A2: Consultancy tarief per uur | B2: 110 | C2: 130 | E2: Geldig voor de looptijd van de Overeenkomst.
A4: Licentiekosten | B4: Bodem | C4: Plafond | D4: Tarief)* | E4: Toelichting
A5: Licentiekosten Raadplegende gebruiker, per gebruiker, per maand | B5: 0 | C5: 0 | D5: 0 | E5: Geen licentiekosten voor Raadplegende gebruikers)**.
A6: Licentiekosten Gebruiker (niet zijnde Raadplegende gebruiker), per gebruiker per maand | B6: 24 | C6: 35 | E6: Licentiekosten voor gebruikers die wijzigingen kunnen aanbrengen in het systeem.
A8: Aanvullende exploitatiekosten | B8: Bodem | C8: Plafond | D8: Tarief)* | E8: Toelichting
A9: Kosten Test omgeving, per jaar | B9: 8000 | C9: 20000 | E9: Vaste kosten per jaar. Prijsopgave geldt tevens voor een optionele Aanvullende omgeving.
A10: Overige exploitatiekosten, per jaar | B10: 0 | C10: 15000 | E10: Vaste kosten per jaar.
A12: Overzicht | B12: Bodem | C12: Plafond | D12: Kosten | E12: Toelichting
A13: Maximale projectkosten leverancier | B13: - | C13: - | D13: =IF(D2<>"",'4. Projectkosten'!C11,"") | E13: Op basis van prijsopgave consultancy tarief. Zie tabblad '4. Projectkosten' voor een toelichting.
A14: Exploitatiekosten leverancier, per jaar | B14: ='5. Exploitatiekosten'!$B$3*B6*12+'5. Exploitatiekosten'!$B$5*B2+B9+B10 -> 113000 | C14: ='5. Exploitatiekosten'!$B$3*C6*12+'5. Exploitatiekosten'!$B$5*C2+C9+C10 -> 179000 | D14: =IF(D2<>"",IF(D5<>"",IF(D6<>"",IF(D9<>"",IF(D10<>"",'5. Exploitatiekosten'!C7,""),""),""),""),"") | E14: Prijsopgave buiten de bandbreedte voor jaarlijkse exploitatiekosten, wordt uitgesloten van de aanbesteding.
A15: )* Voor elk onderdeel geldt een bandbreedte waar de inschrijving binnen moet blijven, zie hiervoor kolommen Bodem en Plafond. Een prijsopgave buiten de bandbreedte voor dat onderdeel, voor één of meer onderdelen, leidt tot uitsluiting. Tarieven zijn exlusief BTW en zijn geldig voor de looptijd van de Overeenkomst, met indexatie volgens Overeenkomst.
A16: )** Een Gebruiker die beperkt is tot het raadplegen van Data in de Applicatie. Deze Gebruiker is geautoriseerd voor lezen en niet voor het aanbrengen van wijzigingen in de Data.

Sheet 4. Projectkosten
A1: Omschrijving kostenpost projectkosten | B1: Maximale aantal uren | C1: Maximale kosten, excl. BTW | D1: Toelichting
A2: Technische oplevering | B2: n.v.t. | C2: 5000 | D2: - Per individuele kostenpost: Werkelijk gemaakte kosten worden afgerekend op basis van nacalculatie. - Per individuele kostenpost: Kolom 'Maximale kosten' geeft de maximale kosten die in rekening kunnen worden gebracht. - Per individuele kostenpost: Een ongebruikt budget t.o.v. de 'Maximale kosten' kan niet worden gebruikt voor een andere kostenpost. - Uren worden afgerekend tegen consultancy tarief uit tabblad '3. Prijsopgave'. - Prijzen zijn exclusief BTW.
A3: Standaard koppelingen | B3: 0 | C3: 0
A4: Maatwerk koppelingen | B4: 300 | C4: =IF('3. Prijsopgave'!D$2<>"",B4*'3. Prijsopgave'!D$2,"")
A5: Consultancy functionele inrichting | B5: 200 | C5: =IF('3. Prijsopgave'!D$2<>"",B5*'3. Prijsopgave'!D$2,"")
A6: Datamigratie | B6: 400 | C6: =IF('3. Prijsopgave'!D$2<>"",B6*'3. Prijsopgave'!D$2,"")
A7: Opleiden 4 FB-ers | B7: =3*8 -> 24 | C7: =IF('3. Prijsopgave'!D$2<>"",B7*'3. Prijsopgave'!D$2,"")
A8: Opleiden 20 Key users | B8: =3*8*2 -> 48 | C8: =IF('3. Prijsopgave'!D$2<>"",B8*'3. Prijsopgave'!D$2,"")
A9: Documentatie | B9: 160 | C9: =IF('3. Prijsopgave'!D$2<>"",B9*'3. Prijsopgave'!D$2,"")
A10: Overige projectkosten | B10: n.v.t. | C10: 15000
A11: Maximale projectkosten leverancier | C11: =SUM(C2:C10) -> 20000

Sheet 5. Exploitatiekosten
A1: Exploitatiekosten leverancier | B1: Aantal | C1: Kosten/jaar, exclusief BTW | D1: Toelichting
A2: Licentiekosten Raadplegende gebruikers | B2: 30 | C2: =B2*'3. Prijsopgave'!D5 -> 0 | D2: Geen licentiekosten voor Raadplegende gebruiker.
A3: Licentiekosten Gebruikers, anders dan Raadplegende gebruikers)* | B3: 250 | C3: =IF('3. Prijsopgave'!D6<>"",B3*'3. Prijsopgave'!D6*12,"") | D3: Volgens prijsopgave licentiekosten Gebruiker in tabblad 3.
A4: Test omgeving | B4: - | C4: =IF('3. Prijsopgave'!D9<>"",'3. Prijsopgave'!D9,"") | D4: Volgens prijsopgave in tabblad 3.
A5: Meerwerk)** | B5: 300 | C5: =IF('3. Prijsopgave'!D2<>"",B5*'3. Prijsopgave'!D2,"") | D5: Uren worden afgerekend tegen consultancy tarief uit prijsopgave in tabblad 3.
A6: Overige kosten leverancier | B6: - | C6: =IF('3. Prijsopgave'!D10<>"",'3. Prijsopgave'!D10,"") | D6: Volgens prijsopgave overige exploitatiekosten in tabblad 3.
A7: Totale jaarlijkse kosten leverancier | C7: =SUM(C3:C6) -> 0
A8: )* Werkelijke kosten worden bepaald op basis van nacalculatie, per maand worden licentiekosten in rekening gebracht voor Gebruikers (anders dan Raadplegende gebruikers) die in de bewuste maand minimaal één keer hebben ingelogd.
A9: )** Werkelijke kosten worden bepaald op basis van nacalculatie, alleen de uren die zijn gebruikt als meerwerk kunnen in rekening worden gebracht.

Sheet Invulinstructie
A1: Tabblad | B1: Invulinstructie invulformulier
A2: 0. Gunningsmatrix | B2: De Gunningsmatrix geeft een berekening van de totaalscore van inschrijver. De definitieve score wordt bepaald door de beoordelingscommissie, op basis van de verificatie van eisen en wensen. Zie het Beschrijvend document voor het beoordelingsproces.
A3: 1. Eisen | B3: Geef in kolom E, voor elke geformuleerde eis, aan of de oplossing voldoet. Mogelijke invulwaarden: - Ja. - Nee. Het peilmoment dat de oplossing moet voldoen is per eis duidelijk aangegeven: - Bij inschrijving. - Bij technische acceptatie. - Bij livegang. - 3 maanden na schriftelijke aanvraag van een optioneel verplichte koppeling. Voldoet een eis niet, dat betekent een knock-out voor de aanbesteding. Kolom G geeft aan of de eis onderdeel zal uitmaken van een eventuele verificatie van de oplossing.
A4: 2. Wensen | B4: Geef in kolom E, voor elke geformuleerde wens, aan of de oplossing voldoet. Mogelijke invulwaarden: - Bij inschrijving. - Bij livegang. - Niet. Op basis van de waarde wordt automatisch de initiële score berekend (kolom F). Zie het Beschrijvend document voor een toelichting op de scoringsmethode voor wensen. Kolom G geeft aan of de wens onderdeel zal uitmaken van een eventuele verificatie van de oplossing.
A5: 3. Prijsopgave | B5: Inschrijver wordt gevraagd om een prijsopgave in te vullen voor 4 onderdelen: - Consultancy tarief. - Licentiekosten Gebruiker (niet zijnde Raadplegende gebruiker). - Kosten Test-omgeving. - Overige exploitatiekosten. Voor elk onderdeel geldt een bandbreedte waar de inschrijving binnen moet blijven, zie hiervoor kolommen Bodem en Plafond. Een prijsopgave buiten de bandbreedte voor dat onderdeel, voor één of meer onderdelen, leidt tot uitsluiting.
A6: 4. Projectkosten | B6: De projectkosten worden automatisch berekend op basis van de prijsopgave in tabblad 3. Tabblad 4 geeft per kostenpost van het implementatieproject de maximale kosten die Opdrachtnemer in rekening mag brengen voor die kostenpost. Voor elke kostenpost geldt dat alleen de werkelijke kosten in rekening worden gebracht, op basis van nacalculatie, met een maximum zoals vermeld in kolom Maximale kosten. Voor de kostenposten Technische oplevering en Overige projectkosten geldt een absoluut maximum voor de kosten, voor de overige kostenposten geldt per kostenpost een maximaal aantal uren dat in rekening kan worden gebracht voor die kostenpost, tegen het consultancy tarief uit de prijsopgave in tabblad 3.
A7: 5. Exploitatiekosten | B7: De exploitatiekosten worden automatisch berekend op basis van de prijsopgave op tabblad 3. Tabblad 5 geeft een overzicht van de jaarlijkse exploitatiekosten: - Voor de kostenposten Test-omgeving en Overige kosten leverancier geldt een vast tarief, volgens de prijsopgave in tabblad 5. - Voor Raadplegende gebruikers worden geen kosten in rekening gebracht. - Licentiekosten Gebruikers (anders dan Raadplegende gebruikers) worden afgerekend op basis van nacalculatie, volgens tarief in prijsopgave op tabblad 3. Per maand worden alleen Gebruikers (anders dan Raadplegende gebruikers) in rekening gebracht die in de bewuste maand minimaal één maal hebben ingelogd in de Oplossing. In het prijsblad worden de exploitatiekosten gebaseerd op 250 Gebruikers (anders dan Raadplegende gebruikers), het werkelijke aantal gebruikers in een maand kan hoger of lager uitvallen. Afrekening van de kosten is op basis van het werkelijke aantal Gebruikers (anders dan Raadplegende gebruikers). - Meerwerk wordt afgerekend op basis van nacalculatie, volgens het consultancy tarief in de prijsopgave op tabblad 3. In het prijsblad worden de exploitatiekosten gebaseerd op 300 uur meerwerk per jaar, het werkelijke aantal uren meerwerk in een jaar kan hoger of lager uitvallen. Afrekening van de kosten is op basis van een goedgekeurde opdracht van Opdrachtgever en op basis van werkelijke aantal uren meerwerk. - Inschrijver dient ervoor te zorgen dat alle kosten die samenhangen met de scope van dienstverlening uit het Beschrijvend document zijn meegenomen in de prijsopgave op tabblad 3. Buiten genoemde kostenposten mogen geen exploitatiekosten in rekening worden gebracht door Opdrachtnemer.
