Workbook

Sheet Over de ander
A1: Beoordelingsformulier ROK Kunstwerken (in te vullen door OG en ON)
A3: In te vullen door OG: | F3: In te vullen door ON:
A4: Naam Opdrachtgever | C4: HDSR | F4: Naam Opdrachtnemer
A5: Contactpersoon bij OG: | F5: Contactpersoon bij ON:
A6: Ingevuld op te plaats: | F6: Ingevuld op te plaats:
A8: Projectnaam: | F8: ROK kunstwerken
A9: Periode waarover beoordeeld wordt:
A10: Nadere overeenkomsten | F10: 1.
F11: 2.
F12: 3.
F13: 4.
F14: 5.
F15: 6.
A19: Procedure: | F19: 1 op 1
A20: Evaluatie: | F20: Tussentijdse / Eindevaluatie
D23: Deel A - Contractniveau/Algemeen
C25: Prestatie-indicator contractafspraken
A26: Hoe beoordeel je: | D26: Zeer goed | E26: Goed | F26: Matig | G26: slecht | H26: N.v.t. | I26: Toelichting:
A27: 1. het geleverde ten opzichte van de contractafspraken m.b.t. de aan- bieding en Plan van Aanpak (PMP). | I27: 1. Invullen in separaat formulier
A29: 2. het geleverde ten opzichte van de contractafspraken m.b.t. samenwerking en spelregels. | I29: 2. Invullen in separaat formulier
A31: 3. het geleverde ten opzichte van de contractafspraken m.b.t. continuiteit dienstverlening. | I31: 3. Invullen in separaat formulier
A33: 4. het geleverde ten opzichte van de contractafspraken m.b.t. project overstijgende samenwerking. | I33: 4. Invullen in separaat formulier
A35: 5. de verbeteracties die worden voorgesteld wanneer niet voldaan wordt aan de contractafspraken. | I35: 5. Invullen in separaat formulier
C39: Prestatie-indicator service
A40: Hoe beoordeel je: | D40: Zeer goed | E40: Goed | F40: Matig | G40: slecht | H40: N.v.t. | I40: Toelichting:
A41: 6. de bereikbaarheid (telefonisch, per mail) van de Opdrachtnemer of Opdrachtgever? | I41: 6. Invullen in separaat formulier
A43: 7. de reactietermijn en afhandeling van gemaakte afspraken en terugkoppeling. | I43: 7. Invullen in separaat formulier
C47: Prestatie-indicator voortgang en financieel
A48: Hoe beoordeel je: | D48: Zeer goed | E48: Goed | F48: Matig | G48: slecht | H48: N.v.t. | I48: Toelichting:
A49: 8. de offertes/contractwijzigingen/ wijzigingen (VtW's) | I49: 8. Invullen in separaat formulier
A51: 9. de factuur/VGR | I51: 9. Invullen in separaat formulier
D56: Deel B - Opdrachtniveau
A58: Hoe beoordeel je het proces en de kwaliteit van de geleverde (concept-)producten/diensten?
D59: Zeer goed | E59: Goed | F59: Matig | G59: slecht | H59: N.v.t. | I59: Toelichting:
A60: 10. Proces tot standkoming (concept) producten: | I60: 10. Invullen in separaat formulier
A65: 11. Kwaliteit eindproduct: Leesbaarheid, volledigheid, geschiktheid om het werk mee te maken (gevalideerd en geverifieerd) | I65: 11. Invullen in separaat formulier
A72: Hoe beoordeel je de houding ten aanzien van de planning?
D73: Zeer goed | E73: Goed | F73: Matig | G73: slecht | H73: N.v.t. | I73: Toelichting:
A74: 12. Zijn de afgesproken mijlpalen en opleverdata gehaald? | I74: 12. Invullen in separaat formulier
A79: Hoe beoordeel je het inhoudelijke werkproces?
...

Sheet Over jezelf (zelfreflectie)
A1: Beoordelingsformulier ROK Kunstwerken (in te vullen door OG en ON)
C2: ZELFREFLECTIE FORMULIER; HOE DENK JE ZELF DAT JE HET DOET
A3: In te vullen door OG: | F3: In te vullen door ON:
A4: Naam Opdrachtgever | F4: Naam Opdrachtnemer
A5: Contactpersoon bij OG: | F5: Contactpersoon bij ON:
A6: Ingevuld op te plaats: | F6: Ingevuld op te plaats:
A8: Projectnaam: | F8: ROK Kunstwerken
A9: Periode waarover beoordeeld wordt:
A10: Deel projecten: | F10: 1. | H10: (STE)
F11: 2.
F12: 3.
F13: 4.
F14: 5.
F15: 6.
A19: Procedure: | F19: 1 op 1 uitvraag
A20: Evaluatie: | F20: Tussentijdse / Eindevaluatie
D23: Deel A - Contractniveau/Algemeen
C25: Prestatie-indicator contractafspraken
A26: Hoe beoordeel je: | D26: Zeer goed | E26: Goed | F26: Matig | G26: slecht | H26: N.v.t. | I26: Toelichting:
A27: 1. het geleverde ten opzichte van de contractafspraken m.b.t. de aan- bieding en Plan van Aanpak (PMP). | I27: nvt
A29: 2. het geleverde ten opzichte van de contractafspraken m.b.t. samenwerking en spelregels. | I29: nvt
A31: 3. het geleverde ten opzichte van de contractafspraken m.b.t. continuiteit dienstverlening. | I31: nvt
A33: 4. het geleverde ten opzichte van de contractafspraken m.b.t. project overstijgende samenwerking. | I33: nvt
A35: 5. de verbeteracties die worden voorgesteld wanneer niet voldaan wordt aan de contractafspraken. | I35: nvt
C39: Prestatie-indicator service
A40: Hoe beoordeel je: | D40: Zeer goed | E40: Goed | F40: Matig | G40: slecht | H40: N.v.t. | I40: Toelichting:
A41: 6. de bereikbaarheid (telefonisch, per mail) van de Opdrachtnemer of Opdrachtgever? | I41: nvt
A43: 7. de reactietermijn en afhandeling van gemaakte afspraken en terugkoppeling. | I43: nvt
C47: Prestatie-indicator voortgang en financieel
A48: Hoe beoordeel je: | D48: Zeer goed | E48: Goed | F48: Matig | G48: slecht | H48: N.v.t. | I48: Toelichting:
A49: 8. de offertes/contractwijzigingen/ wijzigingen (VtW's) | I49: nvt
A51: 9. de factuur/VGR | I51: nvt
D56: Deel B - Opdrachtniveau
A58: Hoe beoordeel je het proces en de kwaliteit van de geleverde (concept-)producten/diensten?
D59: Zeer goed | E59: Goed | F59: Matig | G59: slecht | H59: N.v.t. | I59: Toelichting:
A60: 10. Proces tot standkoming (concept) producten: | I60: nvt
A65: 11. Kwaliteit eindproduct: Leesbaarheid, volledigheid, geschiktheid om het werk mee te maken (gevalideerd en geverifieerd) | I65: nvt
A72: Hoe beoordeel je de houding ten aanzien van de planning?
D73: Zeer goed | E73: Goed | F73: Matig | G73: slecht | H73: N.v.t. | I73: Toelichting:
A74: 12. Zijn de afgesproken mijlpalen en opleverdata gehaald? | I74: nvt
...

Sheet Blad2
A1: Over de ander | B1: Zeer goed | C1: Goed | D1: Matig | E1: slecht | F1: N.v.t. | G1: over jezelf | H1: Zeer goed | I1: Goed | J1: Matig | K1: slecht | L1: N.v.t.
B2: FALSE | C2: FALSE | D2: FALSE | E2: FALSE | F2: FALSE | H2: FALSE | I2: FALSE | J2: FALSE | K2: FALSE | L2: FALSE
B3: FALSE | C3: FALSE | D3: FALSE | E3: FALSE | F3: FALSE | H3: FALSE | I3: FALSE | J3: FALSE | K3: FALSE | L3: FALSE
B4: FALSE | C4: FALSE | D4: FALSE | E4: FALSE | F4: FALSE | H4: FALSE | I4: FALSE | J4: FALSE | K4: FALSE | L4: FALSE
B5: FALSE | C5: FALSE | D5: FALSE | E5: FALSE | F5: FALSE | H5: FALSE | I5: FALSE | J5: FALSE | K5: FALSE | L5: FALSE
B6: FALSE | C6: FALSE | D6: FALSE | E6: FALSE | F6: FALSE | H6: FALSE | I6: FALSE | J6: FALSE | K6: FALSE | L6: FALSE
B7: FALSE | C7: FALSE | D7: FALSE | E7: FALSE | F7: FALSE | H7: FALSE | I7: FALSE | J7: FALSE | K7: FALSE | L7: FALSE
B8: FALSE | C8: FALSE | D8: FALSE | E8: FALSE | F8: FALSE | H8: FALSE | I8: FALSE | J8: FALSE | K8: FALSE | L8: FALSE
B9: FALSE | C9: FALSE | D9: FALSE | E9: FALSE | F9: FALSE | H9: FALSE | I9: FALSE | J9: FALSE | K9: FALSE | L9: FALSE
B10: FALSE | C10: FALSE | D10: FALSE | E10: FALSE | F10: FALSE | H10: FALSE | I10: FALSE | J10: FALSE | K10: FALSE | L10: FALSE
B11: FALSE | C11: FALSE | D11: FALSE | E11: FALSE | F11: FALSE | H11: FALSE | I11: FALSE | J11: FALSE | K11: FALSE | L11: FALSE
B12: FALSE | C12: FALSE | D12: FALSE | E12: FALSE | F12: FALSE | H12: FALSE | I12: FALSE | J12: FALSE | K12: FALSE | L12: FALSE
B13: FALSE | C13: FALSE | D13: FALSE | E13: FALSE | F13: FALSE | H13: FALSE | I13: FALSE | J13: FALSE | K13: FALSE | L13: FALSE
... B20: FALSE | C20: FALSE | D20: FALSE | E20: FALSE | F20: FALSE | H20: FALSE | I20: FALSE | J20: FALSE | K20: FALSE | L20: FALSE
B22: =IF(B2=TRUE,1,0) -> 0 | C22: =IF(C2=TRUE,1,0) -> 0 | D22: =IF(D2=TRUE,1,0) -> 0 | E22: =IF(E2=TRUE,1,0) -> 0 | F22: =IF(F2=TRUE,1,0) -> 0 | G22: =IF(SUM(B22:F22)>1,1,0) -> 0 | H22: =IF(H2=TRUE,1,0) -> 0 | I22: =IF(I2=TRUE,1,0) -> 0 | J22: =IF(J2=TRUE,1,0) -> 0 | K22: =IF(K2=TRUE,1,0) -> 0 | L22: =IF(L2=TRUE,1,0) -> 0 | M22: =IF(SUM(H22:L22)>1,1,0) -> 0
B23: =IF(B3=TRUE,1,0) -> 0 | C23: =IF(C3=TRUE,1,0) -> 0 | D23: =IF(D3=TRUE,1,0) -> 0 | E23: =IF(E3=TRUE,1,0) -> 0 | F23: =IF(F3=TRUE,1,0) -> 0 | G23: =IF(SUM(B23:F23)>1,1,0) -> 0 | H23: =IF(H3=TRUE,1,0) -> 0 | I23: =IF(I3=TRUE,1,0) -> 0 | J23: =IF(J3=TRUE,1,0) -> 0 | K23: =IF(K3=TRUE,1,0) -> 0 | L23: =IF(L3=TRUE,1,0) -> 0 | M23: =IF(SUM(H23:L23)>1,1,0) -> 0
B24: =IF(B4=TRUE,1,0) -> 0 | C24: =IF(C4=TRUE,1,0) -> 0 | D24: =IF(D4=TRUE,1,0) -> 0 | E24: =IF(E4=TRUE,1,0) -> 0 | F24: =IF(F4=TRUE,1,0) -> 0 | G24: =IF(SUM(B24:F24)>1,1,0) -> 0 | H24: =IF(H4=TRUE,1,0) -> 0 | I24: =IF(I4=TRUE,1,0) -> 0 | J24: =IF(J4=TRUE,1,0) -> 0 | K24: =IF(K4=TRUE,1,0) -> 0 | L24: =IF(L4=TRUE,1,0) -> 0 | M24: =IF(SUM(H24:L24)>1,1,0) -> 0
B25: =IF(B5=TRUE,1,0) -> 0 | C25: =IF(C5=TRUE,1,0) -> 0 | D25: =IF(D5=TRUE,1,0) -> 0 | E25: =IF(E5=TRUE,1,0) -> 0 | F25: =IF(F5=TRUE,1,0) -> 0 | G25: =IF(SUM(B25:F25)>1,1,0) -> 0 | H25: =IF(H5=TRUE,1,0) -> 0 | I25: =IF(I5=TRUE,1,0) -> 0 | J25: =IF(J5=TRUE,1,0) -> 0 | K25: =IF(K5=TRUE,1,0) -> 0 | L25: =IF(L5=TRUE,1,0) -> 0 | M25: =IF(SUM(H25:L25)>1,1,0) -> 0
B26: =IF(B6=TRUE,1,0) -> 0 | C26: =IF(C6=TRUE,1,0) -> 0 | D26: =IF(D6=TRUE,1,0) -> 0 | E26: =IF(E6=TRUE,1,0) -> 0 | F26: =IF(F6=TRUE,1,0) -> 0 | G26: =IF(SUM(B26:F26)>1,1,0) -> 0 | H26: =IF(H6=TRUE,1,0) -> 0 | I26: =IF(I6=TRUE,1,0) -> 0 | J26: =IF(J6=TRUE,1,0) -> 0 | K26: =IF(K6=TRUE,1,0) -> 0 | L26: =IF(L6=TRUE,1,0) -> 0 | M26: =IF(SUM(H26:L26)>1,1,0) -> 0
B27: =IF(B7=TRUE,1,0) -> 0 | C27: =IF(C7=TRUE,1,0) -> 0 | D27: =IF(D7=TRUE,1,0) -> 0 | E27: =IF(E7=TRUE,1,0) -> 0 | F27: =IF(F7=TRUE,1,0) -> 0 | G27: =IF(SUM(B27:F27)>1,1,0) -> 0 | H27: =IF(H7=TRUE,1,0) -> 0 | I27: =IF(I7=TRUE,1,0) -> 0 | J27: =IF(J7=TRUE,1,0) -> 0 | K27: =IF(K7=TRUE,1,0) -> 0 | L27: =IF(L7=TRUE,1,0) -> 0 | M27: =IF(SUM(H27:L27)>1,1,0) -> 0
B28: =IF(B8=TRUE,1,0) -> 0 | C28: =IF(C8=TRUE,1,0) -> 0 | D28: =IF(D8=TRUE,1,0) -> 0 | E28: =IF(E8=TRUE,1,0) -> 0 | F28: =IF(F8=TRUE,1,0) -> 0 | G28: =IF(SUM(B28:F28)>1,1,0) -> 0 | H28: =IF(H8=TRUE,1,0) -> 0 | I28: =IF(I8=TRUE,1,0) -> 0 | J28: =IF(J8=TRUE,1,0) -> 0 | K28: =IF(K8=TRUE,1,0) -> 0 | L28: =IF(L8=TRUE,1,0) -> 0 | M28: =IF(SUM(H28:L28)>1,1,0) -> 0
B29: =IF(B9=TRUE,1,0) -> 0 | C29: =IF(C9=TRUE,1,0) -> 0 | D29: =IF(D9=TRUE,1,0) -> 0 | E29: =IF(E9=TRUE,1,0) -> 0 | F29: =IF(F9=TRUE,1,0) -> 0 | G29: =IF(SUM(B29:F29)>1,1,0) -> 0 | H29: =IF(H9=TRUE,1,0) -> 0 | I29: =IF(I9=TRUE,1,0) -> 0 | J29: =IF(J9=TRUE,1,0) -> 0 | K29: =IF(K9=TRUE,1,0) -> 0 | L29: =IF(L9=TRUE,1,0) -> 0 | M29: =IF(SUM(H29:L29)>1,1,0) -> 0
B30: =IF(B10=TRUE,1,0) -> 0 | C30: =IF(C10=TRUE,1,0) -> 0 | D30: =IF(D10=TRUE,1,0) -> 0 | E30: =IF(E10=TRUE,1,0) -> 0 | F30: =IF(F10=TRUE,1,0) -> 0 | G30: =IF(SUM(B30:F30)>1,1,0) -> 0 | H30: =IF(H10=TRUE,1,0) -> 0 | I30: =IF(I10=TRUE,1,0) -> 0 | J30: =IF(J10=TRUE,1,0) -> 0 | K30: =IF(K10=TRUE,1,0) -> 0 | L30: =IF(L10=TRUE,1,0) -> 0 | M30: =IF(SUM(H30:L30)>1,1,0) -> 0
B31: =IF(B11=TRUE,1,0) -> 0 | C31: =IF(C11=TRUE,1,0) -> 0 | D31: =IF(D11=TRUE,1,0) -> 0 | E31: =IF(E11=TRUE,1,0) -> 0 | F31: =IF(F11=TRUE,1,0) -> 0 | G31: =IF(SUM(B31:F31)>1,1,0) -> 0 | H31: =IF(H11=TRUE,1,0) -> 0 | I31: =IF(I11=TRUE,1,0) -> 0 | J31: =IF(J11=TRUE,1,0) -> 0 | K31: =IF(K11=TRUE,1,0) -> 0 | L31: =IF(L11=TRUE,1,0) -> 0 | M31: =IF(SUM(H31:L31)>1,1,0) -> 0
B32: =IF(B12=TRUE,1,0) -> 0 | C32: =IF(C12=TRUE,1,0) -> 0 | D32: =IF(D12=TRUE,1,0) -> 0 | E32: =IF(E12=TRUE,1,0) -> 0 | F32: =IF(F12=TRUE,1,0) -> 0 | G32: =IF(SUM(B32:F32)>1,1,0) -> 0 | H32: =IF(H12=TRUE,1,0) -> 0 | I32: =IF(I12=TRUE,1,0) -> 0 | J32: =IF(J12=TRUE,1,0) -> 0 | K32: =IF(K12=TRUE,1,0) -> 0 | L32: =IF(L12=TRUE,1,0) -> 0 | M32: =IF(SUM(H32:L32)>1,1,0) -> 0
B33: =IF(B13=TRUE,1,0) -> 0 | C33: =IF(C13=TRUE,1,0) -> 0 | D33: =IF(D13=TRUE,1,0) -> 0 | E33: =IF(E13=TRUE,1,0) -> 0 | F33: =IF(F13=TRUE,1,0) -> 0 | G33: =IF(SUM(B33:F33)>1,1,0) -> 0 | H33: =IF(H13=TRUE,1,0) -> 0 | I33: =IF(I13=TRUE,1,0) -> 0 | J33: =IF(J13=TRUE,1,0) -> 0 | K33: =IF(K13=TRUE,1,0) -> 0 | L33: =IF(L13=TRUE,1,0) -> 0 | M33: =IF(SUM(H33:L33)>1,1,0) -> 0
... B40: =IF(B20=TRUE,1,0) -> 0 | C40: =IF(C20=TRUE,1,0) -> 0 | D40: =IF(D20=TRUE,1,0) -> 0 | E40: =IF(E20=TRUE,1,0) -> 0 | F40: =IF(F20=TRUE,1,0) -> 0 | G40: =IF(SUM(B40:F40)>1,1,0) -> 0 | H40: =IF(H20=TRUE,1,0) -> 0 | I40: =IF(I20=TRUE,1,0) -> 0 | J40: =IF(J20=TRUE,1,0) -> 0 | K40: =IF(K20=TRUE,1,0) -> 0 | L40: =IF(L20=TRUE,1,0) -> 0 | M40: =IF(SUM(H40:L40)>1,1,0) -> 0
G41: =SUM(G22:G40) -> 0 | M41: =SUM(M22:M40) -> 0
