Workbook
Name _Hlk39130726: '1-Uitgangspunten'!$A$16
Name _Toc106114456: '1-Uitgangspunten'!$A$2
Name _Toc106114457: '1-Uitgangspunten'!$A$5
Name _Toc106114458: '1-Uitgangspunten'!$A$9
Name _Toc106114459: '1-Uitgangspunten'!$A$13
Name _Toc518445846: '1-Uitgangspunten'!$A$17
Name berichtok: '2-Kosten per locatie'!berichtok
Name berichtok: '2-Kosten per locatie'!berichtok
Name berichtoke: '2-Kosten per locatie'!berichtoke
Name berichtoke: '2-Kosten per locatie'!berichtoke
Name berichtoke1: '2-Kosten per locatie'!berichtoke1
Name berichtoke1: '2-Kosten per locatie'!berichtoke1
Name Berkt: '2-Kosten per locatie'!Berkt
Name Berkt: '2-Kosten per locatie'!Berkt
Name einde: '2-Kosten per locatie'!einde
Name einde: '2-Kosten per locatie'!einde
Name Gan_R: '2-Kosten per locatie'!Gan_R
Name Gan_R: '2-Kosten per locatie'!Gan_R

Sheet 1-Uitgangspunten
A1: Naam opdrachtgever | B1: ='2-Kosten per locatie'!B3 -> Stichting Christelijk Onderwijs Haaglanden
A2: Calculatie onderdeel | B2: =MID(CELL("bestandsnaam",$B$11),SEARCH("]",CELL("bestandsnaam",$B$11),1)+1,256) -> 1-Uitgangspunten
A3: Gebouw/plaats | B3: ='2-Kosten per locatie'!B5 -> Den Haag
A4: Referentie nummer | B4: ='2-Kosten per locatie'!B6 -> SCOH-EA-DK-RT-2023

Sheet 2-Kosten per locatie
A1: Invoervelden | E1: Minimale taakgrootte | H1: EINDTOTAAL KOSTEN PER JAAR EXCLUSIEF BTW INSCHRIJVINGSBEDRAG | N1: =R27 -> #DIV/0!
E2: 0 | F2: uur per dag | H2: B.T.W. | M2: 0.21 | N2: =M2*N1 -> #DIV/0!
A3: Naam opdrachtgever | B3: Stichting Christelijk Onderwijs Haaglanden | H3: Totale kosten per jaar inclusief B.T.W. | N3: =N1+N2 -> #DIV/0!
A4: Calculatie onderdeel | B4: =MID(CELL("bestandsnaam",$B$11),SEARCH("]",CELL("bestandsnaam",$B$11),1)+1,256) -> 2-Kosten per locatie | E4: Toezicht percentage
A5: Gebouw/plaats | B5: Den Haag | E5: 0 | F5: per prod. Uur | H5: MAXIMALE BOVENGRENS PLAFONDBEDRAG INSCHRIJVINGSBEDRAG | N5: 460000
A6: Referentie nummer | B6: SCOH-EA-DK-RT-2023 | H6: MAXIMALE ONDERGRENS INSCHRIJVINGSBEDRAG | N6: 415000
A7: Naam dienstverlener
A8: Prijspeil | B8: 45292
A9: Perceel | B9: 3
A10: Versie | B10: Aanbesteding 23-10-2023
A12: Locatie | B12: Totaal m2 | C12: Locatie factor | D12: Hoogste frequentie ma t/m vr | E12: Hoogste frequentie ma t/m vr naloop | F12: ma t/m vr | G12: ma t/m vr naloop | H12: Uren minimale taakgrootte ma t/m vrij | I12: Uren minimale taakgrootte ma t/m vrij naloop | J12: Toezicht uren per jaar ma t/m vr | K12: Toezicht uren per jaar ma t/m vr naloop | L12: Kosten productie per jaar ma t/m vr incl minimale taakgrootte | M12: Kosten productie per jaar ma t/m vr naloop incl minimale taakgrootte | N12: Kosten toezicht per jaar ma t/m vr | O12: Kosten toezicht per jaar ma t/m vr naloop | P12: Kosten Additioneel per jaar | Q12: Kosten glasbewassing per jaar | R12: Totaal kosten per jaar excl. btw | S12: Totaal kosten per maand excl. btw
A13: CBS Comenius Colenso | B13: =SUMIF('4-Basis ruimtestaat'!B:B,'2-Kosten per locatie'!A13,'4-Basis ruimtestaat'!J:J) -> 968.39 | C13: 1 | D13: =_xlfn.MAXIFS('4-Basis ruimtestaat'!L:L,'4-Basis ruimtestaat'!B:B,'2-Kosten per locatie'!A13) -> 200 | E13: =_xlfn.MAXIFS('4-Basis ruimtestaat'!M:M,'4-Basis ruimtestaat'!B:B,'2-Kosten per locatie'!A13) -> 0 | F13: =SUMIF('4-Basis ruimtestaat'!B:B,'2-Kosten per locatie'!A13,'4-Basis ruimtestaat'!N:N) -> #DIV/0! | G13: =SUMIF('4-Basis ruimtestaat'!B:B,'2-Kosten per locatie'!A13,'4-Basis ruimtestaat'!O:O) -> 0 | H13: =IF(F13<(D13*$E$2),D13*$E$2-F13,0) -> #DIV/0! | I13: =IF(G13<(E13*$E$2),E13*$E$2-G13,0) -> 0 | J13: =F13*$E$5 -> #DIV/0! | K13: =G13*$E$5 -> 0 | L13: =(F13+H13)*'6-Opbouw uurtarief productie'!$E$47 -> #DIV/0! | M13: =(G13+I13)*'6-Opbouw uurtarief productie'!$E$47 -> #DIV/0! | N13: =J13*'7-Opbouw uurtarief toezicht'!$E$47 -> #DIV/0! | O13: =K13*'7-Opbouw uurtarief toezicht'!$E$47 -> #DIV/0! | P13: =SUMIF('8-Additionele kosten'!A:A,A13,'8-Additionele kosten'!F:F) -> 0 | Q13: =SUMIF('10-Glasbewassing'!A:A,A13,'10-Glasbewassing'!G:G) -> 0 | R13: =SUM(L13:Q13) -> #DIV/0! | S13: =R13/12 -> #DIV/0!
A14: CBS Comenius Viljoen | B14: =SUMIF('4-Basis ruimtestaat'!B:B,'2-Kosten per locatie'!A14,'4-Basis ruimtestaat'!J:J) -> 547.32 | C14: 1 | D14: =_xlfn.MAXIFS('4-Basis ruimtestaat'!L:L,'4-Basis ruimtestaat'!B:B,'2-Kosten per locatie'!A14) -> 200 | E14: =_xlfn.MAXIFS('4-Basis ruimtestaat'!M:M,'4-Basis ruimtestaat'!B:B,'2-Kosten per locatie'!A14) -> 0 | F14: =SUMIF('4-Basis ruimtestaat'!B:B,'2-Kosten per locatie'!A14,'4-Basis ruimtestaat'!N:N) -> #DIV/0! | G14: =SUMIF('4-Basis ruimtestaat'!B:B,'2-Kosten per locatie'!A14,'4-Basis ruimtestaat'!O:O) -> 0 | H14: =IF(F14<(D14*$E$2),D14*$E$2-F14,0) -> #DIV/0! | I14: =IF(G14<(E14*$E$2),E14*$E$2-G14,0) -> 0 | J14: =F14*$E$5 -> #DIV/0! | K14: =G14*$E$5 -> 0 | L14: =(F14+H14)*'6-Opbouw uurtarief productie'!$E$47 -> #DIV/0! | M14: =(G14+I14)*'6-Opbouw uurtarief productie'!$E$47 -> #DIV/0! | N14: =J14*'7-Opbouw uurtarief toezicht'!$E$47 -> #DIV/0! | O14: =K14*'7-Opbouw uurtarief toezicht'!$E$47 -> #DIV/0! | P14: =SUMIF('8-Additionele kosten'!A:A,A14,'8-Additionele kosten'!F:F) -> 0 | Q14: =SUMIF('10-Glasbewassing'!A:A,A14,'10-Glasbewassing'!G:G) -> 0 | R14: =SUM(L14:Q14) -> #DIV/0! | S14: =R14/12 -> #DIV/0!
A15: De Vuurtoren incl. Peuterspeelzaal De Matroosjes | B15: =SUMIF('4-Basis ruimtestaat'!B:B,'2-Kosten per locatie'!A15,'4-Basis ruimtestaat'!J:J) -> 1602.77 | C15: 1 | D15: =_xlfn.MAXIFS('4-Basis ruimtestaat'!L:L,'4-Basis ruimtestaat'!B:B,'2-Kosten per locatie'!A15) -> 200 | E15: =_xlfn.MAXIFS('4-Basis ruimtestaat'!M:M,'4-Basis ruimtestaat'!B:B,'2-Kosten per locatie'!A15) -> 0 | F15: =SUMIF('4-Basis ruimtestaat'!B:B,'2-Kosten per locatie'!A15,'4-Basis ruimtestaat'!N:N) -> #DIV/0! | G15: =SUMIF('4-Basis ruimtestaat'!B:B,'2-Kosten per locatie'!A15,'4-Basis ruimtestaat'!O:O) -> 0 | H15: =IF(F15<(D15*$E$2),D15*$E$2-F15,0) -> #DIV/0! | I15: =IF(G15<(E15*$E$2),E15*$E$2-G15,0) -> 0 | J15: =F15*$E$5 -> #DIV/0! | K15: =G15*$E$5 -> 0 | L15: =(F15+H15)*'6-Opbouw uurtarief productie'!$E$47 -> #DIV/0! | M15: =(G15+I15)*'6-Opbouw uurtarief productie'!$E$47 -> #DIV/0! | N15: =J15*'7-Opbouw uurtarief toezicht'!$E$47 -> #DIV/0! | O15: =K15*'7-Opbouw uurtarief toezicht'!$E$47 -> #DIV/0! | P15: =SUMIF('8-Additionele kosten'!A:A,A15,'8-Additionele kosten'!F:F) -> 0 | Q15: =SUMIF('10-Glasbewassing'!A:A,A15,'10-Glasbewassing'!G:G) -> 0 | R15: =SUM(L15:Q15) -> #DIV/0! | S15: =R15/12 -> #DIV/0!
A16: Dr. J.A. Gerth van Wijkschool | B16: =SUMIF('4-Basis ruimtestaat'!B:B,'2-Kosten per locatie'!A16,'4-Basis ruimtestaat'!J:J) -> 2611 | C16: 1 | D16: =_xlfn.MAXIFS('4-Basis ruimtestaat'!L:L,'4-Basis ruimtestaat'!B:B,'2-Kosten per locatie'!A16) -> 200 | E16: =_xlfn.MAXIFS('4-Basis ruimtestaat'!M:M,'4-Basis ruimtestaat'!B:B,'2-Kosten per locatie'!A16) -> 0 | F16: =SUMIF('4-Basis ruimtestaat'!B:B,'2-Kosten per locatie'!A16,'4-Basis ruimtestaat'!N:N) -> #DIV/0! | G16: =SUMIF('4-Basis ruimtestaat'!B:B,'2-Kosten per locatie'!A16,'4-Basis ruimtestaat'!O:O) -> 0 | H16: =IF(F16<(D16*$E$2),D16*$E$2-F16,0) -> #DIV/0! | I16: =IF(G16<(E16*$E$2),E16*$E$2-G16,0) -> 0 | J16: =F16*$E$5 -> #DIV/0! | K16: =G16*$E$5 -> 0 | L16: =(F16+H16)*'6-Opbouw uurtarief productie'!$E$47 -> #DIV/0! | M16: =(G16+I16)*'6-Opbouw uurtarief productie'!$E$47 -> #DIV/0! | N16: =J16*'7-Opbouw uurtarief toezicht'!$E$47 -> #DIV/0! | O16: =K16*'7-Opbouw uurtarief toezicht'!$E$47 -> #DIV/0! | P16: =SUMIF('8-Additionele kosten'!A:A,A16,'8-Additionele kosten'!F:F) -> 0 | Q16: =SUMIF('10-Glasbewassing'!A:A,A16,'10-Glasbewassing'!G:G) -> 0 | R16: =SUM(L16:Q16) -> #DIV/0! | S16: =R16/12 -> #DIV/0!
A17: Dr. J.A. Gerth van Wijkschool DAK | B17: =SUMIF('4-Basis ruimtestaat'!B:B,'2-Kosten per locatie'!A17,'4-Basis ruimtestaat'!J:J) -> 399 | C17: 1 | D17: =_xlfn.MAXIFS('4-Basis ruimtestaat'!L:L,'4-Basis ruimtestaat'!B:B,'2-Kosten per locatie'!A17) -> 255 | E17: =_xlfn.MAXIFS('4-Basis ruimtestaat'!M:M,'4-Basis ruimtestaat'!B:B,'2-Kosten per locatie'!A17) -> 0 | F17: =SUMIF('4-Basis ruimtestaat'!B:B,'2-Kosten per locatie'!A17,'4-Basis ruimtestaat'!N:N) -> #DIV/0! | G17: =SUMIF('4-Basis ruimtestaat'!B:B,'2-Kosten per locatie'!A17,'4-Basis ruimtestaat'!O:O) -> 0 | H17: =IF(F17<(D17*$E$2),D17*$E$2-F17,0) -> #DIV/0! | I17: =IF(G17<(E17*$E$2),E17*$E$2-G17,0) -> 0 | J17: =F17*$E$5 -> #DIV/0! | K17: =G17*$E$5 -> 0 | L17: =(F17+H17)*'6-Opbouw uurtarief productie'!$E$47 -> #DIV/0! | M17: =(G17+I17)*'6-Opbouw uurtarief productie'!$E$47 -> #DIV/0! | N17: =J17*'7-Opbouw uurtarief toezicht'!$E$47 -> #DIV/0! | O17: =K17*'7-Opbouw uurtarief toezicht'!$E$47 -> #DIV/0! | P17: =SUMIF('8-Additionele kosten'!A:A,A17,'8-Additionele kosten'!F:F) -> 0 | Q17: in totaal | R17: =SUM(L17:Q17) -> #DIV/0! | S17: =R17/12 -> #DIV/0!
A18: KC Wondersteboven | B18: =SUMIF('4-Basis ruimtestaat'!B:B,'2-Kosten per locatie'!A18,'4-Basis ruimtestaat'!J:J) -> 1328.8 | C18: 1 | D18: =_xlfn.MAXIFS('4-Basis ruimtestaat'!L:L,'4-Basis ruimtestaat'!B:B,'2-Kosten per locatie'!A18) -> 200 | E18: =_xlfn.MAXIFS('4-Basis ruimtestaat'!M:M,'4-Basis ruimtestaat'!B:B,'2-Kosten per locatie'!A18) -> 0 | F18: =SUMIF('4-Basis ruimtestaat'!B:B,'2-Kosten per locatie'!A18,'4-Basis ruimtestaat'!N:N) -> #DIV/0! | G18: =SUMIF('4-Basis ruimtestaat'!B:B,'2-Kosten per locatie'!A18,'4-Basis ruimtestaat'!O:O) -> 0 | H18: =IF(F18<(D18*$E$2),D18*$E$2-F18,0) -> #DIV/0! | I18: =IF(G18<(E18*$E$2),E18*$E$2-G18,0) -> 0 | J18: =F18*$E$5 -> #DIV/0! | K18: =G18*$E$5 -> 0 | L18: =(F18+H18)*'6-Opbouw uurtarief productie'!$E$47 -> #DIV/0! | M18: =(G18+I18)*'6-Opbouw uurtarief productie'!$E$47 -> #DIV/0! | N18: =J18*'7-Opbouw uurtarief toezicht'!$E$47 -> #DIV/0! | O18: =K18*'7-Opbouw uurtarief toezicht'!$E$47 -> #DIV/0! | P18: =SUMIF('8-Additionele kosten'!A:A,A18,'8-Additionele kosten'!F:F) -> 0 | Q18: =SUMIF('10-Glasbewassing'!A:A,A18,'10-Glasbewassing'!G:G) -> 0 | R18: =SUM(L18:Q18) -> #DIV/0! | S18: =R18/12 -> #DIV/0!
A19: Meester Schabergschool incl. Peuterspeelzaal De Peuterheuvel | B19: =SUMIF('4-Basis ruimtestaat'!B:B,'2-Kosten per locatie'!A19,'4-Basis ruimtestaat'!J:J) -> 1179.45 | C19: 1 | D19: =_xlfn.MAXIFS('4-Basis ruimtestaat'!L:L,'4-Basis ruimtestaat'!B:B,'2-Kosten per locatie'!A19) -> 200 | E19: =_xlfn.MAXIFS('4-Basis ruimtestaat'!M:M,'4-Basis ruimtestaat'!B:B,'2-Kosten per locatie'!A19) -> 0 | F19: =SUMIF('4-Basis ruimtestaat'!B:B,'2-Kosten per locatie'!A19,'4-Basis ruimtestaat'!N:N) -> #DIV/0! | G19: =SUMIF('4-Basis ruimtestaat'!B:B,'2-Kosten per locatie'!A19,'4-Basis ruimtestaat'!O:O) -> 0 | H19: =IF(F19<(D19*$E$2),D19*$E$2-F19,0) -> #DIV/0! | I19: =IF(G19<(E19*$E$2),E19*$E$2-G19,0) -> 0 | J19: =F19*$E$5 -> #DIV/0! | K19: =G19*$E$5 -> 0 | L19: =(F19+H19)*'6-Opbouw uurtarief productie'!$E$47 -> #DIV/0! | M19: =(G19+I19)*'6-Opbouw uurtarief productie'!$E$47 -> #DIV/0! | N19: =J19*'7-Opbouw uurtarief toezicht'!$E$47 -> #DIV/0! | O19: =K19*'7-Opbouw uurtarief toezicht'!$E$47 -> #DIV/0! | P19: =SUMIF('8-Additionele kosten'!A:A,A19,'8-Additionele kosten'!F:F) -> 0 | Q19: =SUMIF('10-Glasbewassing'!A:A,A19,'10-Glasbewassing'!G:G) -> 0 | R19: =SUM(L19:Q19) -> #DIV/0! | S19: =R19/12 -> #DIV/0!
A20: O.G. Heldringsschool incl. Peuterspeelzaal Vogelijntje | B20: =SUMIF('4-Basis ruimtestaat'!B:B,'2-Kosten per locatie'!A20,'4-Basis ruimtestaat'!J:J) -> 2775.79 | C20: 1 | D20: =_xlfn.MAXIFS('4-Basis ruimtestaat'!L:L,'4-Basis ruimtestaat'!B:B,'2-Kosten per locatie'!A20) -> 200 | E20: =_xlfn.MAXIFS('4-Basis ruimtestaat'!M:M,'4-Basis ruimtestaat'!B:B,'2-Kosten per locatie'!A20) -> 0 | F20: =SUMIF('4-Basis ruimtestaat'!B:B,'2-Kosten per locatie'!A20,'4-Basis ruimtestaat'!N:N) -> #DIV/0! | G20: =SUMIF('4-Basis ruimtestaat'!B:B,'2-Kosten per locatie'!A20,'4-Basis ruimtestaat'!O:O) -> 0 | H20: =IF(F20<(D20*$E$2),D20*$E$2-F20,0) -> #DIV/0! | I20: =IF(G20<(E20*$E$2),E20*$E$2-G20,0) -> 0 | J20: =F20*$E$5 -> #DIV/0! | K20: =G20*$E$5 -> 0 | L20: =(F20+H20)*'6-Opbouw uurtarief productie'!$E$47 -> #DIV/0! | M20: =(G20+I20)*'6-Opbouw uurtarief productie'!$E$47 -> #DIV/0! | N20: =J20*'7-Opbouw uurtarief toezicht'!$E$47 -> #DIV/0! | O20: =K20*'7-Opbouw uurtarief toezicht'!$E$47 -> #DIV/0! | P20: =SUMIF('8-Additionele kosten'!A:A,A20,'8-Additionele kosten'!F:F) -> 0 | Q20: =SUMIF('10-Glasbewassing'!A:A,A20,'10-Glasbewassing'!G:G) -> 0 | R20: =SUM(L20:Q20) -> #DIV/0! | S20: =R20/12 -> #DIV/0!
A21: P. Oosterleeschool | B21: =SUMIF('4-Basis ruimtestaat'!B:B,'2-Kosten per locatie'!A21,'4-Basis ruimtestaat'!J:J) -> 3168.51 | C21: 1 | D21: =_xlfn.MAXIFS('4-Basis ruimtestaat'!L:L,'4-Basis ruimtestaat'!B:B,'2-Kosten per locatie'!A21) -> 200 | E21: =_xlfn.MAXIFS('4-Basis ruimtestaat'!M:M,'4-Basis ruimtestaat'!B:B,'2-Kosten per locatie'!A21) -> 0 | F21: =SUMIF('4-Basis ruimtestaat'!B:B,'2-Kosten per locatie'!A21,'4-Basis ruimtestaat'!N:N) -> #DIV/0! | G21: =SUMIF('4-Basis ruimtestaat'!B:B,'2-Kosten per locatie'!A21,'4-Basis ruimtestaat'!O:O) -> 0 | H21: =IF(F21<(D21*$E$2),D21*$E$2-F21,0) -> #DIV/0! | I21: =IF(G21<(E21*$E$2),E21*$E$2-G21,0) -> 0 | J21: =F21*$E$5 -> #DIV/0! | K21: =G21*$E$5 -> 0 | L21: =(F21+H21)*'6-Opbouw uurtarief productie'!$E$47 -> #DIV/0! | M21: =(G21+I21)*'6-Opbouw uurtarief productie'!$E$47 -> #DIV/0! | N21: =J21*'7-Opbouw uurtarief toezicht'!$E$47 -> #DIV/0! | O21: =K21*'7-Opbouw uurtarief toezicht'!$E$47 -> #DIV/0! | P21: =SUMIF('8-Additionele kosten'!A:A,A21,'8-Additionele kosten'!F:F) -> 0 | Q21: =SUMIF('10-Glasbewassing'!A:A,A21,'10-Glasbewassing'!G:G) -> 0 | R21: =SUM(L21:Q21) -> #DIV/0! | S21: =R21/12 -> #DIV/0!
A22: Prinsehaghe incl. Peuterspeelzaal De Kleine Prins | B22: =SUMIF('4-Basis ruimtestaat'!B:B,'2-Kosten per locatie'!A22,'4-Basis ruimtestaat'!J:J) -> 2204.78 | C22: 1 | D22: =_xlfn.MAXIFS('4-Basis ruimtestaat'!L:L,'4-Basis ruimtestaat'!B:B,'2-Kosten per locatie'!A22) -> 200 | E22: =_xlfn.MAXIFS('4-Basis ruimtestaat'!M:M,'4-Basis ruimtestaat'!B:B,'2-Kosten per locatie'!A22) -> 0 | F22: =SUMIF('4-Basis ruimtestaat'!B:B,'2-Kosten per locatie'!A22,'4-Basis ruimtestaat'!N:N) -> #DIV/0! | G22: =SUMIF('4-Basis ruimtestaat'!B:B,'2-Kosten per locatie'!A22,'4-Basis ruimtestaat'!O:O) -> 0 | H22: =IF(F22<(D22*$E$2),D22*$E$2-F22,0) -> #DIV/0! | I22: =IF(G22<(E22*$E$2),E22*$E$2-G22,0) -> 0 | J22: =F22*$E$5 -> #DIV/0! | K22: =G22*$E$5 -> 0 | L22: =(F22+H22)*'6-Opbouw uurtarief productie'!$E$47 -> #DIV/0! | M22: =(G22+I22)*'6-Opbouw uurtarief productie'!$E$47 -> #DIV/0! | N22: =J22*'7-Opbouw uurtarief toezicht'!$E$47 -> #DIV/0! | O22: =K22*'7-Opbouw uurtarief toezicht'!$E$47 -> #DIV/0! | P22: =SUMIF('8-Additionele kosten'!A:A,A22,'8-Additionele kosten'!F:F) -> 0 | Q22: =SUMIF('10-Glasbewassing'!A:A,A22,'10-Glasbewassing'!G:G) -> 0 | R22: =SUM(L22:Q22) -> #DIV/0! | S22: =R22/12 -> #DIV/0!
A23: Prof. Mr. A. Anemaschool incl. Peuterspeelzaal Het Anemaatje | B23: =SUMIF('4-Basis ruimtestaat'!B:B,'2-Kosten per locatie'!A23,'4-Basis ruimtestaat'!J:J) -> 3163.41 | C23: 1 | D23: =_xlfn.MAXIFS('4-Basis ruimtestaat'!L:L,'4-Basis ruimtestaat'!B:B,'2-Kosten per locatie'!A23) -> 200 | E23: =_xlfn.MAXIFS('4-Basis ruimtestaat'!M:M,'4-Basis ruimtestaat'!B:B,'2-Kosten per locatie'!A23) -> 0 | F23: =SUMIF('4-Basis ruimtestaat'!B:B,'2-Kosten per locatie'!A23,'4-Basis ruimtestaat'!N:N) -> #DIV/0! | G23: =SUMIF('4-Basis ruimtestaat'!B:B,'2-Kosten per locatie'!A23,'4-Basis ruimtestaat'!O:O) -> 0 | H23: =IF(F23<(D23*$E$2),D23*$E$2-F23,0) -> #DIV/0! | I23: =IF(G23<(E23*$E$2),E23*$E$2-G23,0) -> 0 | J23: =F23*$E$5 -> #DIV/0! | K23: =G23*$E$5 -> 0 | L23: =(F23+H23)*'6-Opbouw uurtarief productie'!$E$47 -> #DIV/0! | M23: =(G23+I23)*'6-Opbouw uurtarief productie'!$E$47 -> #DIV/0! | N23: =J23*'7-Opbouw uurtarief toezicht'!$E$47 -> #DIV/0! | O23: =K23*'7-Opbouw uurtarief toezicht'!$E$47 -> #DIV/0! | P23: =SUMIF('8-Additionele kosten'!A:A,A23,'8-Additionele kosten'!F:F) -> 0 | Q23: =SUMIF('10-Glasbewassing'!A:A,A23,'10-Glasbewassing'!G:G) -> 0 | R23: =SUM(L23:Q23) -> #DIV/0! | S23: =R23/12 -> #DIV/0!
A24: SBO Rehobothschool | B24: =SUMIF('4-Basis ruimtestaat'!B:B,'2-Kosten per locatie'!A24,'4-Basis ruimtestaat'!J:J) -> 1763.09 | C24: 1 | D24: =_xlfn.MAXIFS('4-Basis ruimtestaat'!L:L,'4-Basis ruimtestaat'!B:B,'2-Kosten per locatie'!A24) -> 200 | E24: =_xlfn.MAXIFS('4-Basis ruimtestaat'!M:M,'4-Basis ruimtestaat'!B:B,'2-Kosten per locatie'!A24) -> 0 | F24: =SUMIF('4-Basis ruimtestaat'!B:B,'2-Kosten per locatie'!A24,'4-Basis ruimtestaat'!N:N) -> #DIV/0! | G24: =SUMIF('4-Basis ruimtestaat'!B:B,'2-Kosten per locatie'!A24,'4-Basis ruimtestaat'!O:O) -> 0 | H24: =IF(F24<(D24*$E$2),D24*$E$2-F24,0) -> #DIV/0! | I24: =IF(G24<(E24*$E$2),E24*$E$2-G24,0) -> 0 | J24: =F24*$E$5 -> #DIV/0! | K24: =G24*$E$5 -> 0 | L24: =(F24+H24)*'6-Opbouw uurtarief productie'!$E$47 -> #DIV/0! | M24: =(G24+I24)*'6-Opbouw uurtarief productie'!$E$47 -> #DIV/0! | N24: =J24*'7-Opbouw uurtarief toezicht'!$E$47 -> #DIV/0! | O24: =K24*'7-Opbouw uurtarief toezicht'!$E$47 -> #DIV/0! | P24: =SUMIF('8-Additionele kosten'!A:A,A24,'8-Additionele kosten'!F:F) -> 0 | Q24: =SUMIF('10-Glasbewassing'!A:A,A24,'10-Glasbewassing'!G:G) -> 0 | R24: =SUM(L24:Q24) -> #DIV/0! | S24: =R24/12 -> #DIV/0!
A25: Waalse Louise de Colignyschool | B25: =SUMIF('4-Basis ruimtestaat'!B:B,'2-Kosten per locatie'!A25,'4-Basis ruimtestaat'!J:J) -> 1737.98 | C25: 1 | D25: =_xlfn.MAXIFS('4-Basis ruimtestaat'!L:L,'4-Basis ruimtestaat'!B:B,'2-Kosten per locatie'!A25) -> 200 | E25: =_xlfn.MAXIFS('4-Basis ruimtestaat'!M:M,'4-Basis ruimtestaat'!B:B,'2-Kosten per locatie'!A25) -> 0 | F25: =SUMIF('4-Basis ruimtestaat'!B:B,'2-Kosten per locatie'!A25,'4-Basis ruimtestaat'!N:N) -> #DIV/0! | G25: =SUMIF('4-Basis ruimtestaat'!B:B,'2-Kosten per locatie'!A25,'4-Basis ruimtestaat'!O:O) -> 0 | H25: =IF(F25<(D25*$E$2),D25*$E$2-F25,0) -> #DIV/0! | I25: =IF(G25<(E25*$E$2),E25*$E$2-G25,0) -> 0 | J25: =F25*$E$5 -> #DIV/0! | K25: =G25*$E$5 -> 0 | L25: =(F25+H25)*'6-Opbouw uurtarief productie'!$E$47 -> #DIV/0! | M25: =(G25+I25)*'6-Opbouw uurtarief productie'!$E$47 -> #DIV/0! | N25: =J25*'7-Opbouw uurtarief toezicht'!$E$47 -> #DIV/0! | O25: =K25*'7-Opbouw uurtarief toezicht'!$E$47 -> #DIV/0! | P25: =SUMIF('8-Additionele kosten'!A:A,A25,'8-Additionele kosten'!F:F) -> 0 | Q25: =SUMIF('10-Glasbewassing'!A:A,A25,'10-Glasbewassing'!G:G) -> 0 | R25: =SUM(L25:Q25) -> #DIV/0! | S25: =R25/12 -> #DIV/0!
A26: Algemeen | B26: =SUMIF('4-Basis ruimtestaat'!B:B,'2-Kosten per locatie'!A26,'4-Basis ruimtestaat'!J:J) -> 0 | C26: 1 | D26: =_xlfn.MAXIFS('4-Basis ruimtestaat'!L:L,'4-Basis ruimtestaat'!B:B,'2-Kosten per locatie'!A26) -> 0 | E26: =_xlfn.MAXIFS('4-Basis ruimtestaat'!M:M,'4-Basis ruimtestaat'!B:B,'2-Kosten per locatie'!A26) -> 0 | F26: =SUMIF('4-Basis ruimtestaat'!B:B,'2-Kosten per locatie'!A26,'4-Basis ruimtestaat'!N:N)*C26 -> 0 | G26: =SUMIF('4-Basis ruimtestaat'!B:B,'2-Kosten per locatie'!A26,'4-Basis ruimtestaat'!O:O)*C26 -> 0 | H26: =IF(F26<(D26*$E$2),D26*$E$2-F26,0) -> 0 | I26: =IF(G26<(E26*$E$2),E26*$E$2-G26,0) -> 0 | J26: =F26*$E$5 -> 0 | K26: =G26*$E$5 -> 0 | L26: =(F26+H26)*'6-Opbouw uurtarief productie'!$E$47 -> #DIV/0! | M26: =(G26+I26)*'6-Opbouw uurtarief productie'!$E$47 -> #DIV/0! | N26: =J26*'7-Opbouw uurtarief toezicht'!$E$47 -> #DIV/0! | O26: =K26*'7-Opbouw uurtarief toezicht'!$E$47 -> #DIV/0! | P26: =SUMIF('8-Additionele kosten'!A:A,A26,'8-Additionele kosten'!F:F) -> 0 | Q26: =SUMIF('10-Glasbewassing'!A:A,A26,'10-Glasbewassing'!G:G) -> 0 | R26: =SUM(L26:Q26) -> #DIV/0! | S26: =R26/12 -> #DIV/0!
A27: Totaal | B27: =SUM(B13:B26) -> 23450.29 | F27: =SUM(F13:F26) -> #DIV/0! | G27: =SUM(G13:G26) -> 0 | H27: =SUM(H13:H26) -> #DIV/0! | I27: =SUM(I13:I26) -> 0 | J27: =SUM(J13:J26) -> #DIV/0! | K27: =SUM(K13:K26) -> 0 | L27: =SUM(L13:L26) -> #DIV/0! | M27: =SUM(M13:M26) -> #DIV/0! | ... S27: =SUM(S13:S26) -> #DIV/0!

Sheet 3-Productie normen
A1: Invoervelden
A3: ='2-Kosten per locatie'!A3 -> Naam opdrachtgever | B3: ='2-Kosten per locatie'!B3 -> Stichting Christelijk Onderwijs Haaglanden
A4: ='2-Kosten per locatie'!A4 -> Calculatie onderdeel | B4: =MID(CELL("bestandsnaam",$B$7),SEARCH("]",CELL("bestandsnaam",$B$7),1)+1,256) -> 3-Productie normen
A5: ='2-Kosten per locatie'!A5 -> Gebouw/plaats | B5: ='2-Kosten per locatie'!B5 -> Den Haag
A6: ='2-Kosten per locatie'!A6 -> Referentie nummer | B6: ='2-Kosten per locatie'!B6 -> SCOH-EA-DK-RT-2023 | E6: Gewogen prestatie | G6: =SUM('4-Basis ruimtestaat'!U:U)/SUM('4-Basis ruimtestaat'!N:O) -> #DIV/0! | H6: m2/uur
A8: Frequentie van uitvoering (per jaar): | B8: 40 | C8: 80 | D8: 120 | E8: 160 | F8: 200 | G8: 255 | J8: 0
A9: Ruimtecategorie | B9: Prestatienorm in aantal m2 per uur | I9: M2 Totaal | J9: Naloop opslag ma-vr | L9: VSR Code
A10: Administratieve ruimten | I10: =SUMIF('4-Basis ruimtestaat'!H:H,'3-Productie normen'!A10,'4-Basis ruimtestaat'!J:J) -> 1373.03 | L10: B
A11: Doucheruimten | I11: =SUMIF('4-Basis ruimtestaat'!H:H,'3-Productie normen'!A11,'4-Basis ruimtestaat'!J:J) -> 56.4 | L11: S
A12: Entree | I12: =SUMIF('4-Basis ruimtestaat'!H:H,'3-Productie normen'!A12,'4-Basis ruimtestaat'!J:J) -> 231.37 | L12: V
A13: Gangen en hallen | I13: =SUMIF('4-Basis ruimtestaat'!H:H,'3-Productie normen'!A13,'4-Basis ruimtestaat'!J:J) -> 5065.6 | L13: V
A14: Gemeenschappeliljke ruimten | I14: =SUMIF('4-Basis ruimtestaat'!H:H,'3-Productie normen'!A14,'4-Basis ruimtestaat'!J:J) -> 799.28 | L14: V
A15: Gymzaal | I15: =SUMIF('4-Basis ruimtestaat'!H:H,'3-Productie normen'!A15,'4-Basis ruimtestaat'!J:J) -> 2197.94 | L15: L
A16: Kleedruimten | I16: =SUMIF('4-Basis ruimtestaat'!H:H,'3-Productie normen'!A16,'4-Basis ruimtestaat'!J:J) -> 337.04 | L16: V
A17: Leslokaal bovenbouw | I17: =SUMIF('4-Basis ruimtestaat'!H:H,'3-Productie normen'!A17,'4-Basis ruimtestaat'!J:J) -> 3906.48 | L17: V
A18: Leslokaal onderbouw | I18: =SUMIF('4-Basis ruimtestaat'!H:H,'3-Productie normen'!A18,'4-Basis ruimtestaat'!J:J) -> 5066.95 | L18: V
A19: Liften | I19: =SUMIF('4-Basis ruimtestaat'!H:H,'3-Productie normen'!A19,'4-Basis ruimtestaat'!J:J) -> 1.87 | L19: V
A20: Pantry/keuken | I20: =SUMIF('4-Basis ruimtestaat'!H:H,'3-Productie normen'!A20,'4-Basis ruimtestaat'!J:J) -> 85.41 | L20: V
A21: Peuterspeelzaal | I21: =SUMIF('4-Basis ruimtestaat'!H:H,'3-Productie normen'!A21,'4-Basis ruimtestaat'!J:J) -> 1329.79 | L21: V
... A24: Trappenhuizen | I24: =SUMIF('4-Basis ruimtestaat'!H:H,'3-Productie normen'!A24,'4-Basis ruimtestaat'!J:J) -> 376.08 | L24: V
I25: =SUMIF('4-Basis ruimtestaat'!H:H,'3-Productie normen'!A25,'4-Basis ruimtestaat'!J:J) -> 0
A26: Nio | I26: =SUMIF('4-Basis ruimtestaat'!H:H,'3-Productie normen'!A26,'4-Basis ruimtestaat'!J:J) -> 2323.3
A28: Totaal | I28: =SUM(I10:I27) -> 24689.66
A30: Kolom voor matrix | B30: 2 | C30: 3 | D30: 4 | E30: 5 | F30: 6 | G30: 7
A32: Frequentie verklaring | B32: Freq | C32: Kolom
A33: 1 x per week (40 weken) | B33: 40 | C33: 2
A34: 2 x per week (40 weken) | B34: 80 | C34: 3
A35: 3 x per week (40 weken) | B35: 120 | C35: 4
A36: 4 x per week (40 weken) | B36: 160 | C36: 5
A37: 5 x per week (40 weken) | B37: 200 | C37: 6
A38: 5 x per week (51 weken) | B38: 255 | C38: 7

Sheet 4-Basis ruimtestaat
A1: 1 | B1: Invoervelden
A2: =A1+1 -> 2
A3: =A2+1 -> 3 | B3: ='2-Kosten per locatie'!A3 -> Naam opdrachtgever | C3: ='2-Kosten per locatie'!B3 -> Stichting Christelijk Onderwijs Haaglanden
A4: =A3+1 -> 4 | B4: ='2-Kosten per locatie'!A4 -> Calculatie onderdeel | C4: =MID(CELL("bestandsnaam",$E$9),SEARCH("]",CELL("bestandsnaam",$E$9),1)+1,256) -> 4-Basis ruimtestaat
A5: =A4+1 -> 5 | B5: ='2-Kosten per locatie'!A5 -> Gebouw/plaats | C5: ='2-Kosten per locatie'!B5 -> Den Haag
A6: =A5+1 -> 6 | B6: ='2-Kosten per locatie'!A6 -> Referentie nummer | C6: ='2-Kosten per locatie'!B6 -> SCOH-EA-DK-RT-2023 | Q6: % van reguliere norm
A7: =A6+1 -> 7 | B7: ='2-Kosten per locatie'!A7 -> Naam dienstverlener | C7: ='2-Kosten per locatie'!B7 -> 0
A8: =A7+1 -> 8 | Q8: ='3-Productie normen'!J8 -> 0
A9: =A8+1 -> 9 | B9: Gebouw | C9: Locatie | D9: Adres | E9: Verdieping | F9: Ruimte nummer | G9: Ruimteomschrijving opdrachtgever | H9: Ruimte categorie | I9: Vloer soort | J9: M2 vloer | K9: Totaal frequentie | L9: Freq. ma-vr | M9: Freq. ma-vr naloop | N9: Uren p/j ma t/m vrij | O9: Uren p/j ma t/m vrij naloop | P9: Norm ma t/m vr | Q9: Naloop opslag ma-vr | R9: VSR code | S9: Bijzonderheden / opmerkingen | U9: M2 per jaar
A10: =A9+1 -> 10 | B10: Prof. Mr. A. Anemaschool incl. Peuterspeelzaal Het Anemaatje | D10: Einstede 4 | E10: BG | F10: 1 | G10: Verkeersruimten | H10: Gangen en hallen | I10: pvc | J10: 119 | K10: =SUM(L10:M10) -> 200 | L10: 200 | N10: =IF(L10="nio",0,IF(L10>0,L10*J10/P10,0)) -> #DIV/0! | O10: =IF(M10>0,M10*J10/Q10,0) -> 0 | P10: =IF(L10="nio",0,IF(L10>0,VLOOKUP(H10,'3-Productie normen'!A:J,VLOOKUP(L10,'3-Productie normen'!$B$33:$C$38,2,FALSE),FALSE)))/VLOOKUP(B10,'2-Kosten per locatie'!$A$12:$C$27,3,FALSE) -> 0 | Q10: =IF(M10>0,P10*$Q$8,0) -> 0 | R10: =VLOOKUP(H10,'3-Productie normen'!A:L,12,FALSE) -> V | U10: =K10*J10 -> 23800
A11: =A10+1 -> 11 | B11: Prof. Mr. A. Anemaschool incl. Peuterspeelzaal Het Anemaatje | D11: Einstede 4 | E11: BG | F11: 2 | G11: Leslokaal onderbouw | H11: Leslokaal onderbouw | I11: pvc | J11: 39 | K11: =SUM(L11:M11) -> 200 | L11: 200 | N11: =IF(L11="nio",0,IF(L11>0,L11*J11/P11,0)) -> #DIV/0! | O11: =IF(M11>0,M11*J11/Q11,0) -> 0 | P11: =IF(L11="nio",0,IF(L11>0,VLOOKUP(H11,'3-Productie normen'!A:J,VLOOKUP(L11,'3-Productie normen'!$B$33:$C$38,2,FALSE),FALSE)))/VLOOKUP(B11,'2-Kosten per locatie'!$A$12:$C$27,3,FALSE) -> 0 | Q11: =IF(M11>0,P11*$Q$8,0) -> 0 | R11: =VLOOKUP(H11,'3-Productie normen'!A:L,12,FALSE) -> V | U11: =K11*J11 -> 7800
A12: =A11+1 -> 12 | B12: Prof. Mr. A. Anemaschool incl. Peuterspeelzaal Het Anemaatje | D12: Einstede 4 | E12: BG | F12: 3 | G12: Administratieve ruimten | H12: Administratieve ruimten | I12: pvc | J12: 18 | K12: =SUM(L12:M12) -> 200 | L12: 200 | N12: =IF(L12="nio",0,IF(L12>0,L12*J12/P12,0)) -> #DIV/0! | O12: =IF(M12>0,M12*J12/Q12,0) -> 0 | P12: =IF(L12="nio",0,IF(L12>0,VLOOKUP(H12,'3-Productie normen'!A:J,VLOOKUP(L12,'3-Productie normen'!$B$33:$C$38,2,FALSE),FALSE)))/VLOOKUP(B12,'2-Kosten per locatie'!$A$12:$C$27,3,FALSE) -> 0 | Q12: =IF(M12>0,P12*$Q$8,0) -> 0 | R12: =VLOOKUP(H12,'3-Productie normen'!A:L,12,FALSE) -> B | U12: =K12*J12 -> 3600
A13: =A12+1 -> 13 | B13: Prof. Mr. A. Anemaschool incl. Peuterspeelzaal Het Anemaatje | D13: Einstede 4 | E13: BG | F13: 4 | G13: Gemeenschappelijke ruimten | H13: Gemeenschappeliljke ruimten | I13: pvc | J13: 6 | K13: =SUM(L13:M13) -> 200 | L13: 200 | N13: =IF(L13="nio",0,IF(L13>0,L13*J13/P13,0)) -> #DIV/0! | O13: =IF(M13>0,M13*J13/Q13,0) -> 0 | P13: =IF(L13="nio",0,IF(L13>0,VLOOKUP(H13,'3-Productie normen'!A:J,VLOOKUP(L13,'3-Productie normen'!$B$33:$C$38,2,FALSE),FALSE)))/VLOOKUP(B13,'2-Kosten per locatie'!$A$12:$C$27,3,FALSE) -> 0 | Q13: =IF(M13>0,P13*$Q$8,0) -> 0 | R13: =VLOOKUP(H13,'3-Productie normen'!A:L,12,FALSE) -> V | U13: =K13*J13 -> 1200
A14: =A13+1 -> 14 | B14: Prof. Mr. A. Anemaschool incl. Peuterspeelzaal Het Anemaatje | D14: Einstede 4 | E14: BG | F14: 5 | G14: Berging/opslag | H14: Nio | I14: pvc | J14: 10 | K14: =SUM(L14:M14) -> 0 | L14: Nio | N14: =IF(L14="nio",0,IF(L14>0,L14*J14/P14,0)) -> 0 | O14: =IF(M14>0,M14*J14/Q14,0) -> 0 | P14: =IF(L14="nio",0,IF(L14>0,VLOOKUP(H14,'3-Productie normen'!A:J,VLOOKUP(L14,'3-Productie normen'!$B$33:$C$38,2,FALSE),FALSE)))/VLOOKUP(B14,'2-Kosten per locatie'!$A$12:$C$27,3,FALSE) -> 0 | Q14: =IF(M14>0,P14*$Q$8,0) -> 0 | R14: =VLOOKUP(H14,'3-Productie normen'!A:L,12,FALSE) -> 0 | U14: =K14*J14 -> 0
A15: =A14+1 -> 15 | B15: Prof. Mr. A. Anemaschool incl. Peuterspeelzaal Het Anemaatje | D15: Einstede 4 | E15: BG | F15: 6 | G15: Berging/opslag | H15: Nio | I15: pvc | J15: 3 | K15: =SUM(L15:M15) -> 0 | L15: Nio | N15: =IF(L15="nio",0,IF(L15>0,L15*J15/P15,0)) -> 0 | O15: =IF(M15>0,M15*J15/Q15,0) -> 0 | P15: =IF(L15="nio",0,IF(L15>0,VLOOKUP(H15,'3-Productie normen'!A:J,VLOOKUP(L15,'3-Productie normen'!$B$33:$C$38,2,FALSE),FALSE)))/VLOOKUP(B15,'2-Kosten per locatie'!$A$12:$C$27,3,FALSE) -> 0 | Q15: =IF(M15>0,P15*$Q$8,0) -> 0 | R15: =VLOOKUP(H15,'3-Productie normen'!A:L,12,FALSE) -> 0 | U15: =K15*J15 -> 0
A16: =A15+1 -> 16 | B16: Prof. Mr. A. Anemaschool incl. Peuterspeelzaal Het Anemaatje | D16: Einstede 4 | E16: BG | F16: 7 | G16: Speellokaal | H16: Speellokaal | I16: pvc | J16: 148 | K16: =SUM(L16:M16) -> 200 | L16: 200 | N16: =IF(L16="nio",0,IF(L16>0,L16*J16/P16,0)) -> #DIV/0! | O16: =IF(M16>0,M16*J16/Q16,0) -> 0 | P16: =IF(L16="nio",0,IF(L16>0,VLOOKUP(H16,'3-Productie normen'!A:J,VLOOKUP(L16,'3-Productie normen'!$B$33:$C$38,2,FALSE),FALSE)))/VLOOKUP(B16,'2-Kosten per locatie'!$A$12:$C$27,3,FALSE) -> 0 | Q16: =IF(M16>0,P16*$Q$8,0) -> 0 | R16: =VLOOKUP(H16,'3-Productie normen'!A:L,12,FALSE) -> V | U16: =K16*J16 -> 29600
A17: =A16+1 -> 17 | B17: Prof. Mr. A. Anemaschool incl. Peuterspeelzaal Het Anemaatje | D17: Einstede 4 | E17: BG | F17: 8 | G17: Berging/opslag | H17: Nio | I17: pvc | J17: 6 | K17: =SUM(L17:M17) -> 0 | L17: Nio | N17: =IF(L17="nio",0,IF(L17>0,L17*J17/P17,0)) -> 0 | O17: =IF(M17>0,M17*J17/Q17,0) -> 0 | P17: =IF(L17="nio",0,IF(L17>0,VLOOKUP(H17,'3-Productie normen'!A:J,VLOOKUP(L17,'3-Productie normen'!$B$33:$C$38,2,FALSE),FALSE)))/VLOOKUP(B17,'2-Kosten per locatie'!$A$12:$C$27,3,FALSE) -> 0 | Q17: =IF(M17>0,P17*$Q$8,0) -> 0 | R17: =VLOOKUP(H17,'3-Productie normen'!A:L,12,FALSE) -> 0 | U17: =K17*J17 -> 0
A18: =A17+1 -> 18 | B18: Prof. Mr. A. Anemaschool incl. Peuterspeelzaal Het Anemaatje | D18: Einstede 4 | E18: BG | F18: 9 | G18: Berging/opslag | H18: Nio | I18: pvc | J18: 6 | K18: =SUM(L18:M18) -> 0 | L18: Nio | N18: =IF(L18="nio",0,IF(L18>0,L18*J18/P18,0)) -> 0 | O18: =IF(M18>0,M18*J18/Q18,0) -> 0 | P18: =IF(L18="nio",0,IF(L18>0,VLOOKUP(H18,'3-Productie normen'!A:J,VLOOKUP(L18,'3-Productie normen'!$B$33:$C$38,2,FALSE),FALSE)))/VLOOKUP(B18,'2-Kosten per locatie'!$A$12:$C$27,3,FALSE) -> 0 | Q18: =IF(M18>0,P18*$Q$8,0) -> 0 | R18: =VLOOKUP(H18,'3-Productie normen'!A:L,12,FALSE) -> 0 | U18: =K18*J18 -> 0
A19: =A18+1 -> 19 | B19: Prof. Mr. A. Anemaschool incl. Peuterspeelzaal Het Anemaatje | D19: Einstede 4 | E19: BG | F19: 10 | G19: Verkeersruimten | H19: Gangen en hallen | I19: pvc | J19: 73 | K19: =SUM(L19:M19) -> 200 | L19: 200 | N19: =IF(L19="nio",0,IF(L19>0,L19*J19/P19,0)) -> #DIV/0! | O19: =IF(M19>0,M19*J19/Q19,0) -> 0 | P19: =IF(L19="nio",0,IF(L19>0,VLOOKUP(H19,'3-Productie normen'!A:J,VLOOKUP(L19,'3-Productie normen'!$B$33:$C$38,2,FALSE),FALSE)))/VLOOKUP(B19,'2-Kosten per locatie'!$A$12:$C$27,3,FALSE) -> 0 | Q19: =IF(M19>0,P19*$Q$8,0) -> 0 | R19: =VLOOKUP(H19,'3-Productie normen'!A:L,12,FALSE) -> V | U19: =K19*J19 -> 14600
A20: =A19+1 -> 20 | B20: Prof. Mr. A. Anemaschool incl. Peuterspeelzaal Het Anemaatje | D20: Einstede 4 | E20: BG | F20: 11 | G20: Verkeersruimten | H20: Gangen en hallen | I20: pvc | J20: 45 | K20: =SUM(L20:M20) -> 200 | L20: 200 | N20: =IF(L20="nio",0,IF(L20>0,L20*J20/P20,0)) -> #DIV/0! | O20: =IF(M20>0,M20*J20/Q20,0) -> 0 | P20: =IF(L20="nio",0,IF(L20>0,VLOOKUP(H20,'3-Productie normen'!A:J,VLOOKUP(L20,'3-Productie normen'!$B$33:$C$38,2,FALSE),FALSE)))/VLOOKUP(B20,'2-Kosten per locatie'!$A$12:$C$27,3,FALSE) -> 0 | Q20: =IF(M20>0,P20*$Q$8,0) -> 0 | R20: =VLOOKUP(H20,'3-Productie normen'!A:L,12,FALSE) -> V | U20: =K20*J20 -> 9000
A21: =A20+1 -> 21 | B21: Prof. Mr. A. Anemaschool incl. Peuterspeelzaal Het Anemaatje | D21: Einstede 4 | E21: BG | F21: 12 | G21: Leslokaal onderbouw | H21: Leslokaal onderbouw | I21: pvc | J21: 61 | K21: =SUM(L21:M21) -> 200 | L21: 200 | N21: =IF(L21="nio",0,IF(L21>0,L21*J21/P21,0)) -> #DIV/0! | O21: =IF(M21>0,M21*J21/Q21,0) -> 0 | P21: =IF(L21="nio",0,IF(L21>0,VLOOKUP(H21,'3-Productie normen'!A:J,VLOOKUP(L21,'3-Productie normen'!$B$33:$C$38,2,FALSE),FALSE)))/VLOOKUP(B21,'2-Kosten per locatie'!$A$12:$C$27,3,FALSE) -> 0 | Q21: =IF(M21>0,P21*$Q$8,0) -> 0 | R21: =VLOOKUP(H21,'3-Productie normen'!A:L,12,FALSE) -> V | U21: =K21*J21 -> 12200
A22: =A21+1 -> 22 | B22: Prof. Mr. A. Anemaschool incl. Peuterspeelzaal Het Anemaatje | D22: Einstede 4 | E22: BG | F22: 13 | G22: Leslokaal onderbouw | H22: Leslokaal onderbouw | I22: pvc | J22: 61 | K22: =SUM(L22:M22) -> 200 | L22: 200 | N22: =IF(L22="nio",0,IF(L22>0,L22*J22/P22,0)) -> #DIV/0! | O22: =IF(M22>0,M22*J22/Q22,0) -> 0 | P22: =IF(L22="nio",0,IF(L22>0,VLOOKUP(H22,'3-Productie normen'!A:J,VLOOKUP(L22,'3-Productie normen'!$B$33:$C$38,2,FALSE),FALSE)))/VLOOKUP(B22,'2-Kosten per locatie'!$A$12:$C$27,3,FALSE) -> 0 | Q22: =IF(M22>0,P22*$Q$8,0) -> 0 | R22: =VLOOKUP(H22,'3-Productie normen'!A:L,12,FALSE) -> V | U22: =K22*J22 -> 12200
A23: =A22+1 -> 23 | B23: Prof. Mr. A. Anemaschool incl. Peuterspeelzaal Het Anemaatje | D23: Einstede 4 | E23: BG | F23: 14 | G23: Leslokaal onderbouw | H23: Leslokaal onderbouw | I23: pvc | J23: 61 | K23: =SUM(L23:M23) -> 200 | L23: 200 | N23: =IF(L23="nio",0,IF(L23>0,L23*J23/P23,0)) -> #DIV/0! | O23: =IF(M23>0,M23*J23/Q23,0) -> 0 | P23: =IF(L23="nio",0,IF(L23>0,VLOOKUP(H23,'3-Productie normen'!A:J,VLOOKUP(L23,'3-Productie normen'!$B$33:$C$38,2,FALSE),FALSE)))/VLOOKUP(B23,'2-Kosten per locatie'!$A$12:$C$27,3,FALSE) -> 0 | Q23: =IF(M23>0,P23*$Q$8,0) -> 0 | R23: =VLOOKUP(H23,'3-Productie normen'!A:L,12,FALSE) -> V | U23: =K23*J23 -> 12200
A24: =A23+1 -> 24 | B24: Prof. Mr. A. Anemaschool incl. Peuterspeelzaal Het Anemaatje | D24: Einstede 4 | E24: BG | F24: 15 | G24: Leslokaal onderbouw | H24: Leslokaal onderbouw | I24: pvc | J24: 61 | K24: =SUM(L24:M24) -> 200 | L24: 200 | N24: =IF(L24="nio",0,IF(L24>0,L24*J24/P24,0)) -> #DIV/0! | O24: =IF(M24>0,M24*J24/Q24,0) -> 0 | P24: =IF(L24="nio",0,IF(L24>0,VLOOKUP(H24,'3-Productie normen'!A:J,VLOOKUP(L24,'3-Productie normen'!$B$33:$C$38,2,FALSE),FALSE)))/VLOOKUP(B24,'2-Kosten per locatie'!$A$12:$C$27,3,FALSE) -> 0 | Q24: =IF(M24>0,P24*$Q$8,0) -> 0 | R24: =VLOOKUP(H24,'3-Productie normen'!A:L,12,FALSE) -> V | U24: =K24*J24 -> 12200
A25: =A24+1 -> 25 | B25: Prof. Mr. A. Anemaschool incl. Peuterspeelzaal Het Anemaatje | D25: Einstede 4 | E25: BG | F25: 016p | G25: Peuterspeelzaal | H25: Peuterspeelzaal | I25: pvc | J25: 70 | K25: =SUM(L25:M25) -> 200 | L25: 200 | N25: =IF(L25="nio",0,IF(L25>0,L25*J25/P25,0)) -> #DIV/0! | O25: =IF(M25>0,M25*J25/Q25,0) -> 0 | P25: =IF(L25="nio",0,IF(L25>0,VLOOKUP(H25,'3-Productie normen'!A:J,VLOOKUP(L25,'3-Productie normen'!$B$33:$C$38,2,FALSE),FALSE)))/VLOOKUP(B25,'2-Kosten per locatie'!$A$12:$C$27,3,FALSE) -> 0 | Q25: =IF(M25>0,P25*$Q$8,0) -> 0 | R25: =VLOOKUP(H25,'3-Productie normen'!A:L,12,FALSE) -> V | U25: =K25*J25 -> 14000
A26: =A25+1 -> 26 | B26: Prof. Mr. A. Anemaschool incl. Peuterspeelzaal Het Anemaatje | D26: Einstede 4 | E26: BG | F26: 17 | G26: Leslokaal onderbouw | H26: Leslokaal onderbouw | I26: pvc | J26: 62 | K26: =SUM(L26:M26) -> 200 | L26: 200 | N26: =IF(L26="nio",0,IF(L26>0,L26*J26/P26,0)) -> #DIV/0! | O26: =IF(M26>0,M26*J26/Q26,0) -> 0 | P26: =IF(L26="nio",0,IF(L26>0,VLOOKUP(H26,'3-Productie normen'!A:J,VLOOKUP(L26,'3-Productie normen'!$B$33:$C$38,2,FALSE),FALSE)))/VLOOKUP(B26,'2-Kosten per locatie'!$A$12:$C$27,3,FALSE) -> 0 | Q26: =IF(M26>0,P26*$Q$8,0) -> 0 | R26: =VLOOKUP(H26,'3-Productie normen'!A:L,12,FALSE) -> V | U26: =K26*J26 -> 12400
A27: =A26+1 -> 27 | B27: Prof. Mr. A. Anemaschool incl. Peuterspeelzaal Het Anemaatje | D27: Einstede 4 | E27: BG | F27: 18 | G27: Leslokaal onderbouw | H27: Leslokaal onderbouw | I27: pvc | J27: 62 | K27: =SUM(L27:M27) -> 200 | L27: 200 | N27: =IF(L27="nio",0,IF(L27>0,L27*J27/P27,0)) -> #DIV/0! | O27: =IF(M27>0,M27*J27/Q27,0) -> 0 | P27: =IF(L27="nio",0,IF(L27>0,VLOOKUP(H27,'3-Productie normen'!A:J,VLOOKUP(L27,'3-Productie normen'!$B$33:$C$38,2,FALSE),FALSE)))/VLOOKUP(B27,'2-Kosten per locatie'!$A$12:$C$27,3,FALSE) -> 0 | Q27: =IF(M27>0,P27*$Q$8,0) -> 0 | R27: =VLOOKUP(H27,'3-Productie normen'!A:L,12,FALSE) -> V | U27: =K27*J27 -> 12400
A28: =A27+1 -> 28 | B28: Prof. Mr. A. Anemaschool incl. Peuterspeelzaal Het Anemaatje | D28: Einstede 4 | E28: BG | F28: 19 | G28: Leslokaal onderbouw | H28: Leslokaal onderbouw | I28: pvc | J28: 53 | K28: =SUM(L28:M28) -> 200 | L28: 200 | N28: =IF(L28="nio",0,IF(L28>0,L28*J28/P28,0)) -> #DIV/0! | O28: =IF(M28>0,M28*J28/Q28,0) -> 0 | P28: =IF(L28="nio",0,IF(L28>0,VLOOKUP(H28,'3-Productie normen'!A:J,VLOOKUP(L28,'3-Productie normen'!$B$33:$C$38,2,FALSE),FALSE)))/VLOOKUP(B28,'2-Kosten per locatie'!$A$12:$C$27,3,FALSE) -> 0 | Q28: =IF(M28>0,P28*$Q$8,0) -> 0 | R28: =VLOOKUP(H28,'3-Productie normen'!A:L,12,FALSE) -> V | U28: =K28*J28 -> 10600
A29: =A28+1 -> 29 | B29: Prof. Mr. A. Anemaschool incl. Peuterspeelzaal Het Anemaatje | D29: Einstede 4 | E29: BG | F29: 20 | G29: Leslokaal onderbouw | H29: Leslokaal onderbouw | I29: pvc | J29: 53 | K29: =SUM(L29:M29) -> 200 | L29: 200 | N29: =IF(L29="nio",0,IF(L29>0,L29*J29/P29,0)) -> #DIV/0! | O29: =IF(M29>0,M29*J29/Q29,0) -> 0 | P29: =IF(L29="nio",0,IF(L29>0,VLOOKUP(H29,'3-Productie normen'!A:J,VLOOKUP(L29,'3-Productie normen'!$B$33:$C$38,2,FALSE),FALSE)))/VLOOKUP(B29,'2-Kosten per locatie'!$A$12:$C$27,3,FALSE) -> 0 | Q29: =IF(M29>0,P29*$Q$8,0) -> 0 | R29: =VLOOKUP(H29,'3-Productie normen'!A:L,12,FALSE) -> V | U29: =K29*J29 -> 10600
A30: =A29+1 -> 30 | B30: Prof. Mr. A. Anemaschool incl. Peuterspeelzaal Het Anemaatje | D30: Einstede 4 | E30: BG | F30: 21 | G30: Leslokaal onderbouw | H30: Leslokaal onderbouw | I30: pvc | J30: 53 | K30: =SUM(L30:M30) -> 200 | L30: 200 | N30: =IF(L30="nio",0,IF(L30>0,L30*J30/P30,0)) -> #DIV/0! | O30: =IF(M30>0,M30*J30/Q30,0) -> 0 | P30: =IF(L30="nio",0,IF(L30>0,VLOOKUP(H30,'3-Productie normen'!A:J,VLOOKUP(L30,'3-Productie normen'!$B$33:$C$38,2,FALSE),FALSE)))/VLOOKUP(B30,'2-Kosten per locatie'!$A$12:$C$27,3,FALSE) -> 0 | Q30: =IF(M30>0,P30*$Q$8,0) -> 0 | R30: =VLOOKUP(H30,'3-Productie normen'!A:L,12,FALSE) -> V | U30: =K30*J30 -> 10600
A31: =A30+1 -> 31 | B31: Prof. Mr. A. Anemaschool incl. Peuterspeelzaal Het Anemaatje | D31: Einstede 4 | E31: BG | F31: 22 | G31: Leslokaal onderbouw | H31: Leslokaal onderbouw | I31: pvc | J31: 53 | K31: =SUM(L31:M31) -> 200 | L31: 200 | N31: =IF(L31="nio",0,IF(L31>0,L31*J31/P31,0)) -> #DIV/0! | O31: =IF(M31>0,M31*J31/Q31,0) -> 0 | P31: =IF(L31="nio",0,IF(L31>0,VLOOKUP(H31,'3-Productie normen'!A:J,VLOOKUP(L31,'3-Productie normen'!$B$33:$C$38,2,FALSE),FALSE)))/VLOOKUP(B31,'2-Kosten per locatie'!$A$12:$C$27,3,FALSE) -> 0 | Q31: =IF(M31>0,P31*$Q$8,0) -> 0 | R31: =VLOOKUP(H31,'3-Productie normen'!A:L,12,FALSE) -> V | U31: =K31*J31 -> 10600
A32: =A31+1 -> 32 | B32: Prof. Mr. A. Anemaschool incl. Peuterspeelzaal Het Anemaatje | D32: Einstede 4 | E32: BG | F32: 23 | G32: Verkeersruimten | H32: Gangen en hallen | I32: pvc | J32: 4 | K32: =SUM(L32:M32) -> 200 | L32: 200 | N32: =IF(L32="nio",0,IF(L32>0,L32*J32/P32,0)) -> #DIV/0! | O32: =IF(M32>0,M32*J32/Q32,0) -> 0 | P32: =IF(L32="nio",0,IF(L32>0,VLOOKUP(H32,'3-Productie normen'!A:J,VLOOKUP(L32,'3-Productie normen'!$B$33:$C$38,2,FALSE),FALSE)))/VLOOKUP(B32,'2-Kosten per locatie'!$A$12:$C$27,3,FALSE) -> 0 | Q32: =IF(M32>0,P32*$Q$8,0) -> 0 | R32: =VLOOKUP(H32,'3-Productie normen'!A:L,12,FALSE) -> V | U32: =K32*J32 -> 800
A33: =A32+1 -> 33 | B33: Prof. Mr. A. Anemaschool incl. Peuterspeelzaal Het Anemaatje | D33: Einstede 4 | E33: BG | F33: 24 | G33: Berging/opslag | H33: Nio | I33: pvc | J33: 6 | K33: =SUM(L33:M33) -> 0 | L33: Nio | N33: =IF(L33="nio",0,IF(L33>0,L33*J33/P33,0)) -> 0 | O33: =IF(M33>0,M33*J33/Q33,0) -> 0 | P33: =IF(L33="nio",0,IF(L33>0,VLOOKUP(H33,'3-Productie normen'!A:J,VLOOKUP(L33,'3-Productie normen'!$B$33:$C$38,2,FALSE),FALSE)))/VLOOKUP(B33,'2-Kosten per locatie'!$A$12:$C$27,3,FALSE) -> 0 | Q33: =IF(M33>0,P33*$Q$8,0) -> 0 | R33: =VLOOKUP(H33,'3-Productie normen'!A:L,12,FALSE) -> 0 | U33: =K33*J33 -> 0
A34: =A33+1 -> 34 | B34: Prof. Mr. A. Anemaschool incl. Peuterspeelzaal Het Anemaatje | D34: Einstede 4 | E34: BG | F34: 25 | G34: Verkeersruimten | H34: Gangen en hallen | I34: pvc | J34: 35 | K34: =SUM(L34:M34) -> 200 | L34: 200 | N34: =IF(L34="nio",0,IF(L34>0,L34*J34/P34,0)) -> #DIV/0! | O34: =IF(M34>0,M34*J34/Q34,0) -> 0 | P34: =IF(L34="nio",0,IF(L34>0,VLOOKUP(H34,'3-Productie normen'!A:J,VLOOKUP(L34,'3-Productie normen'!$B$33:$C$38,2,FALSE),FALSE)))/VLOOKUP(B34,'2-Kosten per locatie'!$A$12:$C$27,3,FALSE) -> 0 | Q34: =IF(M34>0,P34*$Q$8,0) -> 0 | R34: =VLOOKUP(H34,'3-Productie normen'!A:L,12,FALSE) -> V | U34: =K34*J34 -> 7000
A35: =A34+1 -> 35 | B35: Prof. Mr. A. Anemaschool incl. Peuterspeelzaal Het Anemaatje | D35: Einstede 4 | E35: BG | F35: 26 | G35: Verkeersruimten | H35: Gangen en hallen | I35: pvc | J35: 80 | K35: =SUM(L35:M35) -> 200 | L35: 200 | N35: =IF(L35="nio",0,IF(L35>0,L35*J35/P35,0)) -> #DIV/0! | O35: =IF(M35>0,M35*J35/Q35,0) -> 0 | P35: =IF(L35="nio",0,IF(L35>0,VLOOKUP(H35,'3-Productie normen'!A:J,VLOOKUP(L35,'3-Productie normen'!$B$33:$C$38,2,FALSE),FALSE)))/VLOOKUP(B35,'2-Kosten per locatie'!$A$12:$C$27,3,FALSE) -> 0 | Q35: =IF(M35>0,P35*$Q$8,0) -> 0 | R35: =VLOOKUP(H35,'3-Productie normen'!A:L,12,FALSE) -> V | U35: =K35*J35 -> 16000
A36: =A35+1 -> 36 | B36: Prof. Mr. A. Anemaschool incl. Peuterspeelzaal Het Anemaatje | D36: Einstede 4 | E36: BG | F36: 27 | G36: Gemeenschappelijke ruimten | H36: Gemeenschappeliljke ruimten | I36: pvc | J36: 60 | K36: =SUM(L36:M36) -> 200 | L36: 200 | N36: =IF(L36="nio",0,IF(L36>0,L36*J36/P36,0)) -> #DIV/0! | O36: =IF(M36>0,M36*J36/Q36,0) -> 0 | P36: =IF(L36="nio",0,IF(L36>0,VLOOKUP(H36,'3-Productie normen'!A:J,VLOOKUP(L36,'3-Productie normen'!$B$33:$C$38,2,FALSE),FALSE)))/VLOOKUP(B36,'2-Kosten per locatie'!$A$12:$C$27,3,FALSE) -> 0 | Q36: =IF(M36>0,P36*$Q$8,0) -> 0 | R36: =VLOOKUP(H36,'3-Productie normen'!A:L,12,FALSE) -> V | U36: =K36*J36 -> 12000
A37: =A36+1 -> 37 | B37: Prof. Mr. A. Anemaschool incl. Peuterspeelzaal Het Anemaatje | D37: Einstede 4 | E37: BG | F37: 28 | G37: Berging/opslag | H37: Nio | I37: pvc | J37: 29 | K37: =SUM(L37:M37) -> 0 | L37: Nio | N37: =IF(L37="nio",0,IF(L37>0,L37*J37/P37,0)) -> 0 | O37: =IF(M37>0,M37*J37/Q37,0) -> 0 | P37: =IF(L37="nio",0,IF(L37>0,VLOOKUP(H37,'3-Productie normen'!A:J,VLOOKUP(L37,'3-Productie normen'!$B$33:$C$38,2,FALSE),FALSE)))/VLOOKUP(B37,'2-Kosten per locatie'!$A$12:$C$27,3,FALSE) -> 0 | Q37: =IF(M37>0,P37*$Q$8,0) -> 0 | R37: =VLOOKUP(H37,'3-Productie normen'!A:L,12,FALSE) -> 0 | U37: =K37*J37 -> 0
A38: =A37+1 -> 38 | B38: Prof. Mr. A. Anemaschool incl. Peuterspeelzaal Het Anemaatje | D38: Einstede 4 | E38: BG | F38: 29 | G38: Berging/opslag | H38: Nio | I38: pvc | J38: 12 | K38: =SUM(L38:M38) -> 0 | L38: Nio | N38: =IF(L38="nio",0,IF(L38>0,L38*J38/P38,0)) -> 0 | O38: =IF(M38>0,M38*J38/Q38,0) -> 0 | P38: =IF(L38="nio",0,IF(L38>0,VLOOKUP(H38,'3-Productie normen'!A:J,VLOOKUP(L38,'3-Productie normen'!$B$33:$C$38,2,FALSE),FALSE)))/VLOOKUP(B38,'2-Kosten per locatie'!$A$12:$C$27,3,FALSE) -> 0 | Q38: =IF(M38>0,P38*$Q$8,0) -> 0 | R38: =VLOOKUP(H38,'3-Productie normen'!A:L,12,FALSE) -> 0 | U38: =K38*J38 -> 0
A39: =A38+1 -> 39 | B39: Prof. Mr. A. Anemaschool incl. Peuterspeelzaal Het Anemaatje | D39: Einstede 4 | E39: BG | F39: 016n | G39: Leslokaal | H39: leslokaal onderbouw | I39: pvc | J39: 42 | K39: =SUM(L39:M39) -> 200 | L39: 200 | N39: =IF(L39="nio",0,IF(L39>0,L39*J39/P39,0)) -> #DIV/0! | O39: =IF(M39>0,M39*J39/Q39,0) -> 0 | P39: =IF(L39="nio",0,IF(L39>0,VLOOKUP(H39,'3-Productie normen'!A:J,VLOOKUP(L39,'3-Productie normen'!$B$33:$C$38,2,FALSE),FALSE)))/VLOOKUP(B39,'2-Kosten per locatie'!$A$12:$C$27,3,FALSE) -> 0 | Q39: =IF(M39>0,P39*$Q$8,0) -> 0 | R39: =VLOOKUP(H39,'3-Productie normen'!A:L,12,FALSE) -> V | U39: =K39*J39 -> 8400
A40: =A39+1 -> 40 | B40: Prof. Mr. A. Anemaschool incl. Peuterspeelzaal Het Anemaatje | D40: Einstede 4 | E40: BG | F40: 017n | G40: Leslokaal | H40: leslokaal onderbouw | I40: pvc | J40: 42 | K40: =SUM(L40:M40) -> 200 | L40: 200 | N40: =IF(L40="nio",0,IF(L40>0,L40*J40/P40,0)) -> #DIV/0! | O40: =IF(M40>0,M40*J40/Q40,0) -> 0 | P40: =IF(L40="nio",0,IF(L40>0,VLOOKUP(H40,'3-Productie normen'!A:J,VLOOKUP(L40,'3-Productie normen'!$B$33:$C$38,2,FALSE),FALSE)))/VLOOKUP(B40,'2-Kosten per locatie'!$A$12:$C$27,3,FALSE) -> 0 | Q40: =IF(M40>0,P40*$Q$8,0) -> 0 | R40: =VLOOKUP(H40,'3-Productie normen'!A:L,12,FALSE) -> V | U40: =K40*J40 -> 8400
...

Sheet 5-Premies en opslagen
A1: Invoervelden
A3: ='2-Kosten per locatie'!A3 -> Naam opdrachtgever | B3: ='2-Kosten per locatie'!B3 -> Stichting Christelijk Onderwijs Haaglanden
A4: ='2-Kosten per locatie'!A4 -> Calculatie onderdeel | B4: =MID(CELL("bestandsnaam",$C$9),SEARCH("]",CELL("bestandsnaam",$C$9),1)+1,256) -> 5-Premies en opslagen
A5: ='2-Kosten per locatie'!A5 -> Gebouw/plaats | B5: ='2-Kosten per locatie'!B5 -> Den Haag
A6: ='2-Kosten per locatie'!A6 -> Referentie nummer | B6: ='2-Kosten per locatie'!B6 -> SCOH-EA-DK-RT-2023
A7: ='2-Kosten per locatie'!A7 -> Naam dienstverlener | B7: ='2-Kosten per locatie'!B7 -> 0
A8: ='2-Kosten per locatie'!A8 -> Prijspeil | B8: ='2-Kosten per locatie'!B8 -> 45292
A10: Sociale verzekeringen
C12: Bedrijfsgemiddelde
A13: WIA Basispremie | C13: 0
A14: WGA | C14: 0
A15: ZW-flex | C15: 0
A16: Totaal | C16: =SUM(C13:C15) -> 0
A18: WW premie- Algemeen Werkeloosheidsfonds (Awf) | C18: 0
A19: Transitievergoeding | C19: 0
A20: Zorgverzekeringswet (Zvw) | C20: 0
A21: OP/NP | C21: =C34 -> #DIV/0!
A22: Kinderopvang | C22: 0
A23: RAS premie | C23: 0
A24: Totaal opslag sociale lasten | C24: =SUM(C16:C23) -> #DIV/0!
A26: Sociale verzekeringen - Ouderdomspensioen (OP/NP)
C28: werkgeversdeel
A29: SV uurloon inclusief toeslagen | C29: ='6-Opbouw uurtarief productie'!E21 -> 0
A30: Franchise OP-premie per uur | B30: Let op -/- bedrag | C30: 0
A31: Grondslag loon voor berekening OP premie | C31: =C29+C30 -> 0
A32: Premie Ouderdomspensioen (OP) | C32: 0
A34: Effectieve OP premie | C34: =(C31/C29)*C32 -> #DIV/0!
A36: Berekening werkbare dagen
B38: Schoonmaak
A39: Aantal kalenderdagen | B39: 365
A40: Weekenddagen | B40: 104
A41: Werkdagen per jaar | B41: =B39-B40 -> 261
A43: Nat. feestdagen, kort verzuim, bijz. CAO | B43: 0
A44: Vakantiedagen | B44: 0
A45: Ziektedagen | B45: 0
A46: Vorstverlet
A47: Werkbare dagen per jaar | B47: =B41-SUM(B43:B46) -> 261
A49: Nat. feestdagen, kort verzuim, bijz CAO | B49: =IF(B43=0,0,B43/$B$47) -> 0
A50: Vakantiedagen | B50: =IF(B44=0,0,B44/$B$47) -> 0
A51: Ziektedagen | B51: =IF(B45=0,0,B45/$B$47) -> 0
...

Sheet 6-Opbouw uurtarief productie
A1: Invoervelden
A3: ='2-Kosten per locatie'!A3 -> Naam opdrachtgever | B3: ='2-Kosten per locatie'!B3 -> Stichting Christelijk Onderwijs Haaglanden
A4: ='2-Kosten per locatie'!A4 -> Calculatie onderdeel | B4: =MID(CELL("bestandsnaam",$C$9),SEARCH("]",CELL("bestandsnaam",$C$9),1)+1,256) -> 6-Opbouw uurtarief productie
A5: ='2-Kosten per locatie'!A5 -> Gebouw/plaats | B5: ='2-Kosten per locatie'!B5 -> Den Haag
A6: ='2-Kosten per locatie'!A6 -> Referentie nummer | B6: ='2-Kosten per locatie'!B6 -> SCOH-EA-DK-RT-2023
A7: ='2-Kosten per locatie'!A7 -> Naam dienstverlener | B7: ='2-Kosten per locatie'!B7 -> 0
A8: ='2-Kosten per locatie'!A8 -> Prijspeil | B8: ='2-Kosten per locatie'!B8 -> 45292
A10: Tariefopbouw schoonmaak | E10: Gemiddeld tarief ma t/m vr | H10: Medewerker | I10: Uurlonen 1 januari 2024
I11: 1 | J11: 2 | K11: 3 | L11: 4 | M11: 5 | N11: 6
A12: Basisuurloon | E12: =SUM(I43:N43) -> 0 | H12: 17 jaar en jonger
A13: Specialistentoeslag | C13: Projectgebonden! | E13: 0 | H13: 18 jaar
A14: Suppletiekosten toeslag | E14: 0 | H14: 19 jaar
A15: Bruto uurloon | E15: =SUM(E12:E14) -> 0 | H15: Vakvolwassen 0 dienstjaren
H16: Vakvolwassen 1 dienstjaar
A17: Vakantietoeslag | C17: 0 | E17: =$C17*E15 -> 0 | H17: Vakvolwassen 2 dienstjaren
A18: Structurele eindejaarsuitkering | C18: 0 | E18: =$C18*E15 -> 0 | H18: Vakvolwassen 3 dienstjaren
A19: Bruto uurloon inclusief toeslagen | E19: =SUM(E15:E18) -> 0 | F19: =IF(E19=0,0,E19/E$47) -> 0 | H19: Vakvolwassen 4 dienstjaren
A21: SV-loon grondslag voor berekening sociale verzekeringen | E21: =E19*0.96 -> 0 | H21: Medewerker | I21: Percentage per loongroep voor gemiddeld tarief
A22: Premies Sociale Verzekeringen | C22: [zie premies en opslagen] | E22: =E21*'5-Premies en opslagen'!$C24 -> #DIV/0! | I22: 1 | J22: 2 | K22: 3 | L22: 4 | M22: 5 | N22: 6
A23: Subtotaal loonkosten per uur inclusief sociale verzekeringen | E23: =E22+E19 -> #DIV/0! | F23: =IF(E23=0,0,E23/E$47) -> #DIV/0! | H23: 17 jaar en jonger
H24: 18 jaar
A25: Opslag niet werkbare dagen | C25: [zie premies en opslagen] | E25: =E23*'5-Premies en opslagen'!$B53 -> #DIV/0! | H25: 19 jaar
A26: Totaal loonkosten per uur | E26: =SUM(E23:E25) -> #DIV/0! | F26: =IF(E26=0,0,E26/E$47) -> #DIV/0! | H26: Vakvolwassen 0 dienstjaren
H27: Vakvolwassen 1 dienstjaar
A28: Materiaal/- en middelen | C28: Projectgebonden! | E28: 0 | F28: 0 | H28: Vakvolwassen 2 dienstjaren
A29: Werkkleding en uitrusting | C29: Projectgebonden! | E29: 0 | F29: 0 | H29: Vakvolwassen 3 dienstjaren
A30: Machinekosten | E30: 0 | H30: Vakvolwassen 4 dienstjaren
H31: Totaal per loongroepen | I31: =SUM(I23:I30) -> 0 | J31: =SUM(J23:J30) -> 0 | K31: =SUM(K23:K30) -> 0 | L31: =SUM(L23:L30) -> 0 | M31: =SUM(M23:M30) -> 0 | N31: =SUM(N23:N30) -> 0 | O31: =SUM(I31:N31) -> 0
A32: Totaal directe kosten | E32: =SUM(E26:E31) -> #DIV/0! | F32: =IF(E32=0,0,E32/E$47) -> #DIV/0!
H33: Medewerker | I33: Opbouw gemiddeld tarief
A34: Indirect toezicht | E34: 0 | F34: =E34/$E$47 -> #DIV/0! | I34: 1 | J34: 2 | K34: 3 | L34: 4 | M34: 5 | N34: 6
A35: Managementkosten | E35: 0 | F35: =E35/$E$47 -> #DIV/0! | H35: 17 jaar en jonger | I35: =I23*I12 -> 0 | J35: =J23*J12 -> 0 | K35: =K23*K12 -> 0 | L35: =L23*L12 -> 0 | M35: =M23*M12 -> 0 | N35: =N23*N12 -> 0
A36: P.Z. kosten | E36: 0 | F36: =E36/$E$47 -> #DIV/0! | H36: 18 jaar | I36: =I24*I13 -> 0 | J36: =J24*J13 -> 0 | K36: =K24*K13 -> 0 | L36: =L24*L13 -> 0 | M36: =M24*M13 -> 0 | N36: =N24*N13 -> 0
A37: Opleiding | E37: 0 | F37: =E37/$E$47 -> #DIV/0! | H37: 19 jaar | I37: =I25*I14 -> 0 | J37: =J25*J14 -> 0 | K37: =K25*K14 -> 0 | L37: =L25*L14 -> 0 | M37: =M25*M14 -> 0 | N37: =N25*N14 -> 0
A38: Administratiekosten | E38: 0 | F38: =E38/$E$47 -> #DIV/0! | H38: Vakvolwassen 0 dienstjaren | I38: =I26*I15 -> 0 | J38: =J26*J15 -> 0 | K38: =K26*K15 -> 0 | L38: =L26*L15 -> 0 | M38: =M26*M15 -> 0 | N38: =N26*N15 -> 0
A39: Huisvestingskosten | E39: 0 | F39: =E39/$E$47 -> #DIV/0! | H39: Vakvolwassen 1 dienstjaar | I39: =I27*I16 -> 0 | J39: =J27*J16 -> 0 | K39: =K27*K16 -> 0 | L39: =L27*L16 -> 0 | M39: =M27*M16 -> 0 | N39: =N27*N16 -> 0
A40: Reiskosten/autokosten | C40: Projectgebonden! | E40: 0 | F40: =E40/$E$47 -> #DIV/0! | H40: Vakvolwassen 2 dienstjaren | I40: =I28*I17 -> 0 | J40: =J28*J17 -> 0 | K40: =K28*K17 -> 0 | L40: =L28*L17 -> 0 | M40: =M28*M17 -> 0 | N40: =N28*N17 -> 0
A41: Kosten verzuimbegeleiding | E41: 0 | F41: =E41/$E$47 -> #DIV/0! | H41: Vakvolwassen 3 dienstjaren | I41: =I29*I18 -> 0 | J41: =J29*J18 -> 0 | K41: =K29*K18 -> 0 | L41: =L29*L18 -> 0 | M41: =M29*M18 -> 0 | N41: =N29*N18 -> 0
E42: 0 | F42: =E42/$E$47 -> #DIV/0! | H42: Vakvolwassen 4 dienstjaren | I42: =I30*I19 -> 0 | J42: =J30*J19 -> 0 | K42: =K30*K19 -> 0 | L42: =L30*L19 -> 0 | M42: =M30*M19 -> 0 | N42: =N30*N19 -> 0
A43: Totaal indirecte kosten | E43: =SUM(E32:E42) -> #DIV/0! | F43: =IF(E43=0,0,E43/E$47) -> #DIV/0! | H43: Totaal per loongroepen | I43: =SUM(I35:I42) -> 0 | J43: =SUM(J35:J42) -> 0 | K43: =SUM(K35:K42) -> 0 | L43: =SUM(L35:L42) -> 0 | M43: =SUM(M35:M42) -> 0 | N43: =SUM(N35:N42) -> 0
...

Sheet 7-Opbouw uurtarief toezicht
A1: Invoervelden
A3: ='2-Kosten per locatie'!A3 -> Naam opdrachtgever | B3: ='2-Kosten per locatie'!B3 -> Stichting Christelijk Onderwijs Haaglanden
A4: ='2-Kosten per locatie'!A4 -> Calculatie onderdeel | B4: =MID(CELL("bestandsnaam",$C$9),SEARCH("]",CELL("bestandsnaam",$C$9),1)+1,256) -> 7-Opbouw uurtarief toezicht
A5: ='2-Kosten per locatie'!A5 -> Gebouw/plaats | B5: ='2-Kosten per locatie'!B5 -> Den Haag
A6: ='2-Kosten per locatie'!A6 -> Referentie nummer | B6: ='2-Kosten per locatie'!B6 -> SCOH-EA-DK-RT-2023
A7: ='2-Kosten per locatie'!A7 -> Naam dienstverlener | B7: ='2-Kosten per locatie'!B7 -> 0
A8: ='2-Kosten per locatie'!A8 -> Prijspeil | B8: ='2-Kosten per locatie'!B8 -> 45292
A10: Tariefopbouw toezicht | E10: Gemiddeld tarief ma t/m vr | H10: Medewerker | I10: Uurlonen 1 januari 2024
I11: 1 | J11: 2 | K11: 3 | L11: 4 | M11: 5 | N11: 6
A12: Basisuurloon | E12: =SUM(I34:N34) -> 0 | H12: Vakvolwassen 0 dienstjaren
A13: Specialistentoeslag | C13: Projectgebonden! | E13: 0 | H13: Vakvolwassen 1 dienstjaar
A14: Suppletiekosten toeslag | E14: 0 | H14: Vakvolwassen 2 dienstjaren
A15: Bruto uurloon | E15: =SUM(E12:E14) -> 0 | H15: Vakvolwassen 3 dienstjaren
H16: Vakvolwassen 4 dienstjaren
A17: Vakantietoeslag | C17: 0 | E17: =$C17*E15 -> 0
A18: Structurele eindejaarsuitkering | C18: 0 | E18: =$C18*E15 -> 0 | H18: Medewerker | I18: Percentage per loongroep voor gemiddeld tarief
A19: Bruto uurloon inclusief toeslagen | E19: =SUM(E15:E18) -> 0 | F19: =IF(E19=0,0,E19/E$47) -> 0 | I19: 1 | J19: 2 | K19: 3 | L19: 4 | M19: 5 | N19: 6
H20: Vakvolwassen 0 dienstjaren
A21: SV-loon grondslag voor berekening sociale verzekeringen | E21: =E19*0.96 -> 0 | H21: Vakvolwassen 1 dienstjaar
A22: Premies Sociale Verzekeringen | C22: [zie premies en opslagen] | E22: =E21*'5-Premies en opslagen'!$C24 -> #DIV/0! | H22: Vakvolwassen 2 dienstjaren
A23: Subtotaal loonkosten per uur inclusief sociale verzekeringen | E23: =E22+E19 -> #DIV/0! | F23: =IF(E23=0,0,E23/E$47) -> #DIV/0! | H23: Vakvolwassen 3 dienstjaren
H24: Vakvolwassen 4 dienstjaren
A25: Opslag niet werkbare dagen | C25: [zie premies en opslagen] | E25: =E23*'5-Premies en opslagen'!$B53 -> #DIV/0! | H25: Totaal per loongroepen | I25: =SUM(I20:I24) -> 0 | J25: =SUM(J20:J24) -> 0 | K25: =SUM(K20:K24) -> 0 | L25: =SUM(L20:L24) -> 0 | M25: =SUM(M20:M24) -> 0 | N25: =SUM(N20:N24) -> 0 | O25: =SUM(I25:N25) -> 0
A26: Totaal loonkosten per uur | E26: =SUM(E23:E25) -> #DIV/0! | F26: =IF(E26=0,0,E26/E$47) -> #DIV/0!
H27: Medewerker | I27: Opbouw gemiddeld tarief
A28: Materiaal/- en middelen | C28: Projectgebonden! | E28: 0 | F28: 0 | I28: 1 | J28: 2 | K28: 3 | L28: 4 | M28: 5 | N28: 6
A29: Werkkleding en uitrusting | C29: Projectgebonden! | E29: 0 | F29: 0 | H29: Vakvolwassen 0 dienstjaren | I29: =I20*I12 -> 0 | J29: =J20*J12 -> 0 | K29: =K20*K12 -> 0 | L29: =L20*L12 -> 0 | M29: =M20*M12 -> 0 | N29: =N20*N12 -> 0
H30: Vakvolwassen 1 dienstjaar | I30: =I21*I13 -> 0 | J30: =J21*J13 -> 0 | K30: =K21*K13 -> 0 | L30: =L21*L13 -> 0 | M30: =M21*M13 -> 0 | N30: =N21*N13 -> 0
H31: Vakvolwassen 2 dienstjaren | I31: =I22*I14 -> 0 | J31: =J22*J14 -> 0 | K31: =K22*K14 -> 0 | L31: =L22*L14 -> 0 | M31: =M22*M14 -> 0 | N31: =N22*N14 -> 0
A32: Totaal directe kosten | E32: =SUM(E26:E31) -> #DIV/0! | F32: =IF(E32=0,0,E32/E$47) -> #DIV/0! | H32: Vakvolwassen 3 dienstjaren | I32: =I23*I15 -> 0 | J32: =J23*J15 -> 0 | K32: =K23*K15 -> 0 | L32: =L23*L15 -> 0 | M32: =M23*M15 -> 0 | N32: =N23*N15 -> 0
H33: Vakvolwassen 4 dienstjaren | I33: =I24*I16 -> 0 | J33: =J24*J16 -> 0 | K33: =K24*K16 -> 0 | L33: =L24*L16 -> 0 | M33: =M24*M16 -> 0 | N33: =N24*N16 -> 0
A34: Indirect toezicht | E34: 0 | F34: =E34/$E$47 -> #DIV/0! | H34: Totaal per loongroepen | I34: =SUM(I29:I33) -> 0 | J34: =SUM(J29:J33) -> 0 | K34: =SUM(K29:K33) -> 0 | L34: =SUM(L29:L33) -> 0 | M34: =SUM(M29:M33) -> 0 | N34: =SUM(N29:N33) -> 0
A35: Managementkosten | E35: 0 | F35: =E35/$E$47 -> #DIV/0!
A36: P.Z. kosten | E36: 0 | F36: =E36/$E$47 -> #DIV/0!
A37: Opleiding | E37: 0 | F37: =E37/$E$47 -> #DIV/0!
A38: Administratiekosten | E38: 0 | F38: =E38/$E$47 -> #DIV/0!
A39: Huisvestingskosten | E39: 0 | F39: =E39/$E$47 -> #DIV/0!
A40: Reiskosten/autokosten | C40: Projectgebonden! | E40: 0 | F40: =E40/$E$47 -> #DIV/0!
A41: Kosten verzuimbegeleiding | E41: 0 | F41: =E41/$E$47 -> #DIV/0!
E42: 0
...

Sheet 8-Additionele kosten
A1: Invoervelden
A3: ='2-Kosten per locatie'!A3 -> Naam opdrachtgever | B3: ='2-Kosten per locatie'!B3 -> Stichting Christelijk Onderwijs Haaglanden
A4: ='2-Kosten per locatie'!A4 -> Calculatie onderdeel | B4: =MID(CELL("bestandsnaam",$C$9),SEARCH("]",CELL("bestandsnaam",$C$9),1)+1,256) -> 8-Additionele kosten
A5: ='2-Kosten per locatie'!A5 -> Gebouw/plaats | B5: ='2-Kosten per locatie'!B5 -> Den Haag
A6: ='2-Kosten per locatie'!A6 -> Referentie nummer | B6: ='2-Kosten per locatie'!B6 -> SCOH-EA-DK-RT-2023
A7: ='2-Kosten per locatie'!A7 -> Naam dienstverlener | B7: ='2-Kosten per locatie'!B7 -> 0
A8: ='2-Kosten per locatie'!A8 -> Prijspeil | B8: ='2-Kosten per locatie'!B8 -> 45292
A10: Locatie | B10: Omschrijving werkzaamheden | C10: Aantal | D10: frequentie per jaar | E10: prijs per m2 | F10: kosten per jaar
A11: Prinsehaghe incl. Peuterspeelzaal De Kleine Prins | B11: Conserveren ruimtenr. 34 (keuken/concerge) | C11: 15.71 | D11: 1 | F11: =E11*D11*C11 -> 0
A14: Totaal | F14: =SUM(F10:F13) -> 0

Sheet 9-Afroepprijs
A1: Invoervelden
A3: ='2-Kosten per locatie'!A3 -> Naam opdrachtgever | B3: ='2-Kosten per locatie'!B3 -> Stichting Christelijk Onderwijs Haaglanden
A4: ='2-Kosten per locatie'!A4 -> Calculatie onderdeel | B4: =MID(CELL("bestandsnaam",$C$9),SEARCH("]",CELL("bestandsnaam",$C$9),1)+1,256) -> 9-Afroepprijs
A5: ='2-Kosten per locatie'!A5 -> Gebouw/plaats | B5: ='2-Kosten per locatie'!B5 -> Den Haag
A6: ='2-Kosten per locatie'!A6 -> Referentie nummer | B6: ='2-Kosten per locatie'!B6 -> SCOH-EA-DK-RT-2023
A7: ='2-Kosten per locatie'!A7 -> Naam dienstverlener | B7: ='2-Kosten per locatie'!B7 -> 0
A8: ='2-Kosten per locatie'!A8 -> Prijspeil | B8: ='2-Kosten per locatie'!B8 -> 45292
A10: Vloerenonderhoud (inclusief uit-/inruimen van het meubilair)
C12: Prijs p/m² excl. btw
A13: Activiteit | B13: Toelichting | C13: 0-100m² | D13: 101-500m² | E13: 501-1000m² | F13: > 1000m²
A14: Lino-/marmoleum top-coaten | B14: 2 lagen | C14: 0 | D14: 0 | E14: 0 | F14: 0
A15: Lino-/marmoleum re-coaten | B15: 2 lagen | C15: 0 | D15: 0 | E15: 0 | F15: 0
A16: Lino-/marmoleum sprayen | B16: geheel | C16: 0 | D16: 0 | E16: 0 | F16: 0
A17: Steen/PVC schrobben | C17: 0 | D17: 0 | E17: 0 | F17: 0
A18: Tapijt sproeiextraheren | C18: 0 | D18: 0 | E18: 0 | F18: 0
A20: Reinigen raambekleding
A22: Activiteit | B22: Toelichting | E22: Prijs p/m² onder 100m² excl. btw | F22: Prijs p/m² boven 100m² excl. btw
A23: Vitrage | B23: Methode en eindresultaat omschrijven. | E23: 0 | F23: 0
A24: Overgordijnen | B24: Methode en eindresultaat omschrijven. | E24: 0 | F24: 0
A25: Verticale lamellen stof | B25: Methode en eindresultaat omschrijven. | E25: 0 | F25: 0
A26: Verticale lamellen metaal/kunststof | B26: Methode en eindresultaat omschrijven. | E26: 0 | F26: 0
A27: Horizontale lamellen | B27: Methode en eindresultaat omschrijven. | E27: 0 | F27: 0
A29: Luchtroosters in ramen | B29: Uitzuigen/reinigen | E29: 0 | F29: 0
A31: Regietarieven
A33: Activiteit | B33: Toelichting | F33: Prijs p/uur excl. btw
A34: Schoonmaakonderhoud | B34: Maandag - Vrijdag | F34: 0
A35: Schoonmaakonderhoud | B35: Zaterdag - zondag (incl. 50% toeslag conform cao) | F35: 0
A36: Schoonmaakonderhoud | B36: Feestdagen (incl. 150% toeslag conform cao) | F36: 0
A37: Glazenwasserswerkzaamheden | B37: Maandag - Vrijdag | F37: 0
A39: Gladheid bestrijding
A40: Tijdstip van uitvoering | B40: Prijs p/uur excl. btw
A41: tarief ma-vr (06.00-21.30 uur) | B41: 0
A42: tarief ma-vr nacht (21.30-06.00 uur) | B42: 0
A44: Opmerking:
A45: Alle prijzen inclusief materialen en middelen, voorrijkosten en overige bijkomende kosten.
A46: Mits anders aangegeven is de uitvoering op reguliere werktijden: maandag t/m vrijdag [06.00 en 21.30 uur]

Sheet 10-Glasbewassing
A1: Invoervelden
D2: Glassoort | E2: M² prijs
A3: ='2-Kosten per locatie'!A3 -> Naam opdrachtgever | B3: ='2-Kosten per locatie'!B3 -> Stichting Christelijk Onderwijs Haaglanden | D3: Buitenzijde
A4: ='2-Kosten per locatie'!A4 -> Calculatie onderdeel | B4: =MID(CELL("bestandsnaam",$C$9),SEARCH("]",CELL("bestandsnaam",$C$9),1)+1,256) -> 10-Glasbewassing | D4: Binnenzijde
A5: ='2-Kosten per locatie'!A5 -> Gebouw/plaats | B5: ='2-Kosten per locatie'!B5 -> Den Haag | D5: Separatieglas dubbelzijdig
A6: ='2-Kosten per locatie'!A6 -> Referentie nummer | B6: ='2-Kosten per locatie'!B6 -> SCOH-EA-DK-RT-2023 | D6: Dakramen dubbelzijdig
A7: ='2-Kosten per locatie'!A7 -> Naam dienstverlener | B7: ='2-Kosten per locatie'!B7 -> 0
A8: ='2-Kosten per locatie'!A8 -> Prijspeil | B8: ='2-Kosten per locatie'!B8 -> 45292
