Workbook

Sheet 0. KPI Dashboard
B2: Gemeente Hilversum
B3: 0. | D3: KPI Dashboard
B5: Datum | C5: : | D5: 45236
B6: Versie | C6: : | D6: 1.0
B7: Opgesteld door | C7: : | D7: Gemeente Hilversum
B11: KPI | E11: Code | F11: KPI / PI | G11: Definitie | H11: Weeg factor | J11: Maand
J12: 1 | K12: 2 | L12: 3 | M12: 4 | N12: 5 | O12: 6 | P12: 7 | Q12: 8 | R12: 9 | S12: 10 | T12: 11 | U12: 12
B13: Binnenklimaat | D13: =#REF! -> #REF! | E13: BK1 | F13: Klachten | G13: Het aantal geregistreerde klachten met betrekking tot het binnenklimaat die gerelateerd kunnen worden aan de prestaties van de aan de opdrachtnemer toebedeelde assets. Klachten van AFM, uit Topdesk als meting. | H13: 15 | L13: X | O13: X | R13: X | U13: X
D14: =#REF! -> #REF! | E14: BK2 | F14: Conditie | G14: De conditie van de aan de opdrachtnemer toebedeelde installaties, beoordeeld volgens de NEN2767-methodiek. | H14: 5 | U14: X
D15: =#REF! -> #REF! | E15: BK | F15: KPI Binnenklimaat | H15: =SUM(H13:H14) -> 20
B16: Bedrijfscontinuïteit | D16: =#REF! -> #REF! | E16: BC1 | F16: Werkzaamheden volgens planning | G16: Het aantal onderhoudswerkzaamheden welke volgens de eerder afgegeven planning zijn uitgevoerd, in verhouding tot het aantal geplande werkzaamheden in diezelfde periode. | H16: 7.5 | L16: X | O16: X | R16: X | U16: X
D17: =#REF! -> #REF! | E17: BC2 | F17: Aantal storingen | G17: Het aantal geregistreerde storingen met betrekking tot de aan de opdrachtnemer toebedeelde assets. | H17: 12.5 | L17: X | O17: X | R17: X | U17: X
D18: =#REF! -> #REF! | E18: BC3 | F18: Functiehersteltijd | G18: Het aantal storingen die binnen de bepaalde functiehersteltijd voor de desbetreffende asset zijn verholpen | H18: 10 | L18: X | O18: X | R18: X | U18: X
D19: =#REF! -> #REF! | E19: BC | F19: KPI Bedrijfscontinuïteit | H19: =SUM(H16:H18) -> 30
B20: Ontzorging | D20: =#REF! -> #REF! | E20: O1 | F20: Samenwerking | G20: het beoordelen van de samenwerking tussen opdrachtgever en opdrachtnemer in relatie tot de afspraken uit de SLA en alle bijlagen. | H20: 10 | O20: X | U20: X
D21: =#REF! -> #REF! | E21: O2 | F21: Rapportages | G21: Het tijdig en volgens het gewenste format aanleveren van de gevraagde rapportages. | H21: 10 | L21: X | O21: X | R21: X | U21: X
D22: =#REF! -> #REF! | E22: O3 | F22: Verbetervoorstellen | G22: het tijdig en volgens het gewenste format aanleveren van verbetervoorstellen volgens de eisen uit de SLA en alle bijlagen. | H22: 5 | O22: X | U22: X
D23: =#REF! -> #REF! | E23: O | F23: KPI Ontzorging | H23: =SUM(H20:H22) -> 25
B24: Wet- en regelgeving | D24: =#REF! -> #REF! | E24: =E30 -> 0 | F24: KPI Wet- en regelgeving | G24: Het voldoen aan alle geldende wet- en regelgeving | H24: 15 | L24: X | O24: X | R24: X | U24: X
B25: Wet- en regelgeving | D25: =#REF! -> #REF! | E25: W&R | F25: KPI Wet- en regelgeving | G25: Het voldoen aan alle geldende wet- en regelgeving | H25: 15
B26: Energiebesparing | D26: =#REF! -> #REF! | E26: EB1 | F26: KPI Energiebesparing | G26: De mate waarin opdrachtnemer bijdraagt aan het besparen van energie door het correct uitvoeren van beheer- en onderhoud aan de hem toebedeelde assets. | H26: 5 | O26: X | U26: X
D27: =#REF! -> #REF! | E27: EB2 | F27: KPI Optimalisatie energieverbruik | G27: De mate waarin opdrachtnemer de aan hem toebedeelde assets analyseert en het functioneren van de installatie verbeterd waardoor het onnodig energiegebruik tot een minimum beperkt wordt. | H27: 5 | O27: X | U27: X
D28: =#REF! -> #REF! | E28: EB | F28: KPI Energiebesparing | H28: =SUM(H26:H27) -> 10
H30: =H19+H28+H23+H24+H15 -> 100

Sheet 1. BK1
B2: Gemeente Hilversum
B3: 1. | D3: KPI BK1
B5: Datum | C5: : | D5: 45236
B6: Versie | C6: : | D6: 1.0
B7: Opgesteld door | C7: : | D7: Gemeente Hilversum
B11: KPI | C11: BK1: Klachten | J11: SCORE
B12: Doel | C12: Het minimaliseren van het aantal klachten van gebruikers. | J12: 9 | K12: 8 | L12: 7 | M12: 6 | N12: 5 | O12: 4
B13: Omschrijving | C13: Het totaal aantal klachten die door de gebruikers gemeld zijn en waarbij de oorzaak van de klacht gerelateerd kan worden aan het (niet) functioneren van de asset(s) binnen de inkoopovereenkomst. | J13: 0 | K13: 2 | L13: 4 | M13: 6 | N13: 8 | O13: >8
B14: Scope | C14: Alle assets binnen de inkoopovereenkomst
B15: Meting | C15: Klachtenregistratie in de systemen (Topdesk en het systeem van de opdrachtnemer).
B16: Verantwoordelijke meting | C16: Opdrachtnemer.
B17: Actie gericht | C17: Als de gewenste KPI-score niet behaald wordt stelt de opdrachtnemer een actieplan op met een analyse van de klachten, adviezen en verbeteracties, rapporteert dit aan de opdrachtgever en voert dit uit.
B18: Tijdgebonden | C18: De meting vindt 1x per kwartaal plaats, over het afgelopen kwartaal.
B19: Score | C19: Het totaal aantal terechte klachten binnen de meetperiode, in relatie tot het maximaal aantal toegestane terechte klachten binnen dezelfde meetperiode.
B25: Periode | C25: Aantal Klachten | D25: Norm Aantal klachten 2024 | E25: % | F25: Behaalde punten | G25: Opmerking/ verbeteractie | H25: Behaalde punten gemiddeld
B26: Q1 2024 | D26: 4 | E26: =C26/D26 -> 0 | F26: {=_xlfn.IFS(C26="","",C26<=1,$J$12,C26<=3,$K$12,C26<=5,$L$12,C26<=7,$M$12,C26=8,$N$12,C26>=8,$O$12)} | H26: =IF(F26="","",ROUND(AVERAGE(F26),0))
B27: Q2 2024 | D27: 4 | E27: =C27/D27 -> 0 | F27: {=_xlfn.IFS(C27="","",C27<=1,$J$12,C27<=3,$K$12,C27<=5,$L$12,C27<=7,$M$12,C27=8,$N$12,C27>=8,$O$12)} | H27: =IF(F27="","",ROUND(AVERAGE(F26:F27),0))
B28: Q3 2024 | D28: 4 | E28: =C28/D28 -> 0 | F28: {=_xlfn.IFS(C28="","",C28<=1,$J$12,C28<=3,$K$12,C28<=5,$L$12,C28<=7,$M$12,C28=8,$N$12,C28>=8,$O$12)} | H28: =IF(F28="","",ROUND(AVERAGE(F26:F28),0))
B29: Q4 2024 | D29: 4 | E29: =C29/D29 -> 0 | F29: {=_xlfn.IFS(C29="","",C29<=1,$J$12,C29<=3,$K$12,C29<=5,$L$12,C29<=7,$M$12,C29=8,$N$12,C29>=8,$O$12)} | H29: =IF(F29="","",ROUND(AVERAGE(F26:F29),0))
B30: Q1 2025 | D30: 4 | E30: =C30/D30 -> 0 | F30: {=_xlfn.IFS(C30="","",C30<=1,$J$12,C30<=3,$K$12,C30<=5,$L$12,C30<=7,$M$12,C30=8,$N$12,C30>=8,$O$12)} | H30: =IF(F30="","",ROUND(AVERAGE(F27:F30),0))
B31: Q2 2025 | D31: 4 | E31: =C31/D31 -> 0 | F31: {=_xlfn.IFS(C31="","",C31<=1,$J$12,C31<=3,$K$12,C31<=5,$L$12,C31<=7,$M$12,C31=8,$N$12,C31>=8,$O$12)} | H31: =IF(F31="","",ROUND(AVERAGE(F28:F31),0))
B32: Q3 2025 | D32: 4 | E32: =C32/D32 -> 0 | F32: {=_xlfn.IFS(C32="","",C32<=1,$J$12,C32<=3,$K$12,C32<=5,$L$12,C32<=7,$M$12,C32=8,$N$12,C32>=8,$O$12)} | H32: =IF(F32="","",ROUND(AVERAGE(F29:F32),0))
B33: Q4 2025 | D33: 4 | E33: =C33/D33 -> 0 | F33: {=_xlfn.IFS(C33="","",C33<=1,$J$12,C33<=3,$K$12,C33<=5,$L$12,C33<=7,$M$12,C33=8,$N$12,C33>=8,$O$12)} | H33: =IF(F33="","",ROUND(AVERAGE(F30:F33),0))

Sheet 2. BK2
B2: Gemeente Hilversum
B3: 2. | D3: KPI BK2
B5: Datum | C5: : | D5: 45236
B6: Versie | C6: : | D6: 1.0
B7: Opgesteld door | C7: : | D7: Gemeente Hilversum
B11: KPI | C11: BK2: Conditie | J11: SCORE
B12: Doel | C12: Het in stand houden van de assets | J12: 9 | K12: 8 | L12: 7 | M12: 6 | N12: 5 | O12: 4
B13: Omschrijving | C13: De actuele conditiescore, volgens de NEN2767, van de assets waarop een meting is verricht en de conditiescore waaraan de assets op het moment van meten aan moeten voldoen. | J13: > 98% | K13: > 96% | L13: > 94% | M13: > 92% | N13: >= 90% | O13: < 90%
B14: Scope | C14: Alle assets binnen de inkoopovereenkomst
B15: Meting | C15: De opdrachtgever (of een door de opdrachtgever aangestelde onafhankelijke derde) meet periodiek en steekproefgewijs de conditie van de assets conform de NEN2767 methodiek. Per meting wordt de conditie van circa 25% van het totaal aantal assets (zoals vastgelegd in de Asset database) gemeten.
B16: Verantwoordelijke meting | C16: Opdrachtgever
B17: Actie gericht | C17: Als de gewenste KPI-score niet behaald wordt stelt de opdrachtnemer een actieplan op met verbeteracties, rapporteert dit aan de opdrachtgever en voert dit uit.
B18: Tijdgebonden | C18: De meting vindt 1x per kalenderjaar plaats.
B19: Score | C19: Het aantal assets waarbij de conditiescore voldoet aan de gestelde eisen, in relatie tot het aantal assets waarop een conditiemeting is verricht. Dit wordt uitgedrukt in het percentage van de assets dat voldoet aan de gestelde eisen.
B25: Periode | C25: Aantal geïnspecteerde elementen (assetregels) | D25: Aantal elementen (assetregels) voldoet aan gestelde eis | E25: Percentage voldoet aan gestelde eis | F25: Opmerking/verbeteractie | G25: Behaalde (%) punten | H25: Behaalde punten gemiddeld
B26: Q1 2024 | E26: =IF(OR(C26="",D26=""),"",(D26/C26)) | G26: {=_xlfn.IFS(E26="","",E26>=98%,$J$12,E26>=96%,$K$12,E26>=94%,$L$12,E26>=92%,$M$12,E26>=90%,$N$12,E26<=90%,$O$12)} | H26: =IF(G26="","",ROUND(AVERAGE(G26),0))
B27: Q2 2024 | E27: =IF(OR(C27="",D27=""),"",(D27/C27)) | G27: {=_xlfn.IFS(E27="","",E27>=98%,$J$12,E27>=96%,$K$12,E27>=94%,$L$12,E27>=92%,$M$12,E27>=90%,$N$12,E27<=90%,$O$12)} | H27: =IF(G27="","",ROUND(AVERAGE(G26:G27),0))
B28: Q3 2024 | E28: =IF(OR(C28="",D28=""),"",(D28/C28)) | G28: {=_xlfn.IFS(E28="","",E28>=98%,$J$12,E28>=96%,$K$12,E28>=94%,$L$12,E28>=92%,$M$12,E28>=90%,$N$12,E28<=90%,$O$12)} | H28: =IF(G28="","",ROUND(AVERAGE(G26:G28),0))
B29: Q4 2024 | E29: =IF(OR(C29="",D29=""),"",(D29/C29)) | G29: {=_xlfn.IFS(E29="","",E29>=98%,$J$12,E29>=96%,$K$12,E29>=94%,$L$12,E29>=92%,$M$12,E29>=90%,$N$12,E29<=90%,$O$12)} | H29: =IF(G29="","",ROUND(AVERAGE(G26:G29),0))
B30: Q1 2025 | E30: =IF(OR(C30="",D30=""),"",(D30/C30)) | G30: {=_xlfn.IFS(E30="","",E30>=98%,$J$12,E30>=96%,$K$12,E30>=94%,$L$12,E30>=92%,$M$12,E30>=90%,$N$12,E30<=90%,$O$12)} | H30: =IF(G30="","",ROUND(AVERAGE(G27:G30),0))
B31: Q2 2025 | E31: =IF(OR(C31="",D31=""),"",(D31/C31)) | G31: {=_xlfn.IFS(E31="","",E31>=98%,$J$12,E31>=96%,$K$12,E31>=94%,$L$12,E31>=92%,$M$12,E31>=90%,$N$12,E31<=90%,$O$12)} | H31: =IF(G31="","",ROUND(AVERAGE(G28:G31),0))
B32: Q3 2025 | E32: =IF(OR(C32="",D32=""),"",(D32/C32)) | G32: {=_xlfn.IFS(E32="","",E32>=98%,$J$12,E32>=96%,$K$12,E32>=94%,$L$12,E32>=92%,$M$12,E32>=90%,$N$12,E32<=90%,$O$12)} | H32: =IF(G32="","",ROUND(AVERAGE(G29:G32),0))
B33: Q4 2025 | E33: =IF(OR(C33="",D33=""),"",(D33/C33)) | G33: {=_xlfn.IFS(E33="","",E33>=98%,$J$12,E33>=96%,$K$12,E33>=94%,$L$12,E33>=92%,$M$12,E33>=90%,$N$12,E33<=90%,$O$12)} | H33: =IF(G33="","",ROUND(AVERAGE(G30:G33),0))

Sheet 3. BC1
B2: Gemeente Hilversum
B3: 3. | D3: KPI BC1
B5: Datum | C5: : | D5: 45236
B6: Versie | C6: : | D6: 1.0
B7: Opgesteld door | C7: : | D7: Gemeente Hilversum
B11: KPI | C11: BC1: Werkzaamheden volgens planning | J11: SCORE
B12: Doel | C12: Het conform de vastgestelde planning uitvoeren van onderhouds-, certificerings- en keuringswerkzaamheden waarmee de bedrijfsconitunïteit geborgd wordt en er minimale overlast voor de gebruiker is. | J12: 9 | K12: 8 | L12: 7 | M12: 6 | N12: 5 | O12: 4
B13: Omschrijving | C13: Het totaal aantal werkzaamheden welke volgens de opgestelde planning zijn uitgevoerd, in relatie tot het aantal werkzaamheden die door de opdrachtnemer zijn uitgevoerd. | J13: > 98% | K13: > 96% | L13: > 94% | M13: > 92% | N13: >= 90% | O13: < 90%
B14: Scope | C14: Alle onderhouds-, certificerings- en keuringswerkzaamheden, exclusief het oplossen van storingen en klachten.
B15: Meting | C15: Registratie van alle uitgevoerde onderhouds-, certificerings- en keuringswerkzaamheden in het systeem van opdrachtnemer.
B16: Verantwoordelijke meting | C16: Opdrachtnemer.
B17: Actie gericht | C17: Als de gewenste KPI-score niet behaald wordt stelt de opdrachtnemer een actieplan op met verbeteracties, rapporteert deze aan opdrachtgever en voert dit uit.
B18: Tijdgebonden | C18: De meting vindt 1x per kwartaal plaats, over het afgelopen kwartaal.
B19: Score | C19: Het aantal uitgevoerde werkzaamheden volgens planning, in verhouding tot alle geplande werkzaamheden in dezelfde periode. Dit wordt uitgedrukt in een percentage (uitgevoerd volgens planning/aantal geplande werkzaamheden).
B25: Periode | C25: Aantal geplande werkzaamheden | D25: Aantal uitgevoerde werkzaamheden volgens planning | E25: Correctie | F25: Percentage | G25: Behaalde punten | H25: Opmerking/ verbeteractie | I25: Behaalde punten gemiddeld
B26: Q1 2024 | F26: =IF(OR(C26="",D26=""),"",((D26+E26)/C26)) | G26: {=_xlfn.IFS(F26="","",F26>=98%,$J$12,F26>=96%,$K$12,F26>=94%,$L$12,F26>=92%,$M$12,F26>=90%,$N$12,F26<=90%,$O$12)} | I26: =IF(G26="","",ROUND(AVERAGE(G26),0))
B27: Q2 2024 | F27: =IF(OR(C27="",D27=""),"",((D27+E27)/C27)) | G27: {=_xlfn.IFS(F27="","",F27>=98%,$J$12,F27>=96%,$K$12,F27>=94%,$L$12,F27>=92%,$M$12,F27>=90%,$N$12,F27<=90%,$O$12)} | I27: =IF(G27="","",ROUND(AVERAGE(G26:G27),0))
B28: Q3 2024 | F28: =IF(OR(C28="",D28=""),"",((D28+E28)/C28)) | G28: {=_xlfn.IFS(F28="","",F28>=98%,$J$12,F28>=96%,$K$12,F28>=94%,$L$12,F28>=92%,$M$12,F28>=90%,$N$12,F28<=90%,$O$12)} | I28: =IF(G28="","",ROUND(AVERAGE(G26:G28),0))
B29: Q4 2024 | F29: =IF(OR(C29="",D29=""),"",((D29+E29)/C29)) | G29: {=_xlfn.IFS(F29="","",F29>=98%,$J$12,F29>=96%,$K$12,F29>=94%,$L$12,F29>=92%,$M$12,F29>=90%,$N$12,F29<=90%,$O$12)} | I29: =IF(G29="","",ROUND(AVERAGE(G26:G29),0))
B30: Q1 2025 | F30: =IF(OR(C30="",D30=""),"",((D30+E30)/C30)) | G30: {=_xlfn.IFS(F30="","",F30>=98%,$J$12,F30>=96%,$K$12,F30>=94%,$L$12,F30>=92%,$M$12,F30>=90%,$N$12,F30<=90%,$O$12)} | I30: =IF(G30="","",ROUND(AVERAGE(G27:G30),0))
B31: Q2 2025 | F31: =IF(OR(C31="",D31=""),"",((D31+E31)/C31)) | G31: {=_xlfn.IFS(F31="","",F31>=98%,$J$12,F31>=96%,$K$12,F31>=94%,$L$12,F31>=92%,$M$12,F31>=90%,$N$12,F31<=90%,$O$12)} | I31: =IF(G31="","",ROUND(AVERAGE(G28:G31),0))
B32: Q3 2025 | F32: =IF(OR(C32="",D32=""),"",((D32+E32)/C32)) | G32: {=_xlfn.IFS(F32="","",F32>=98%,$J$12,F32>=96%,$K$12,F32>=94%,$L$12,F32>=92%,$M$12,F32>=90%,$N$12,F32<=90%,$O$12)} | I32: =IF(G32="","",ROUND(AVERAGE(G29:G32),0))
B33: Q4 2025 | F33: =IF(OR(C33="",D33=""),"",((D33+E33)/C33)) | G33: {=_xlfn.IFS(F33="","",F33>=98%,$J$12,F33>=96%,$K$12,F33>=94%,$L$12,F33>=92%,$M$12,F33>=90%,$N$12,F33<=90%,$O$12)} | I33: {=_xlfn.IFS(H33="","",H33>=98%,$J$12,H33>=96%,$K$12,H33>=94%,$L$12,H33>=92%,$M$12,H33>=90%,$N$12,H33<=90%,$O$12)}

Sheet 4. BC2
B2: Gemeente Hilversum
B3: 4. | D3: KPI BC2
B5: Datum | C5: : | D5: 45236
B6: Versie | C6: : | D6: 1.0
B7: Opgesteld door | C7: : | D7: Gemeente Hilversum
B11: KPI | C11: BC2: Aantal storingen | J11: SCORE
B12: Doel | C12: Het minimaliseren van het aantal storingen. | J12: 9 | K12: 8 | L12: 7 | M12: 6 | N12: 5 | O12: 4
B13: Omschrijving | C13: Het totaal aantal geregistreerde storingen die binnen de verantwoordelijkheid van de opdrachtnemer vallen. | J13: <= 20 | K13: <= 30 | L13: <= 40 | M13: <= 50 | N13: <= 60 | O13: > 60
B14: Scope | C14: Alle assets binnen de inkoopovereenkomst
B15: Meting | C15: Het totaal aantal geregistreerde storingen die binnen de verantwoordelijkheid van de opdrachtnemer vallen, zoals geregistreerd in de systemen (Topdesk en het systeem van de opdrachtnemer).
B16: Verantwoordelijke meting | C16: Opdrachtnemer.
B17: Actie gericht | C17: Als de gewenste KPI-score niet behaald wordt stelt de opdrachtnemer een actieplan op met een analyse van de storingen, adviezen en verbeteracties, rapporteert dit aan de opdrachtgever en voert dit uit.
B18: Tijdgebonden | C18: De meting vindt 1x per kwartaal plaats, over het afgelopen kwartaal.
B19: Score | C19: Het totaal aantal storingen binnen de meetperiode, in relatie tot het maximaal aantal toegestande storingen binnen dezelfde meetperiode.
B25: Periode | C25: Aantal Storingen | D25: Norm Aantal storingen 2024 | E25: Correctie | F25: Totaal aantal storingen | G25: Behaalde punten | H25: Opmerking/verbeteractie | I25: Behaalde punten gemiddeld
B26: Q1 2024 | C26: 30 | D26: 40 | F26: =IF(C26="","",(C26+E26)) -> 30 | G26: {=_xlfn.IFS(F26="","",F26<=20,$J$12,F26<=30,$K$12,F26<=40,$L$12,F26<=50,$M$12,F26<=60,$N$12,F26>=60,$O$12)} -> 8 | I26: =IF(G26="","",ROUND(AVERAGE(G26),0)) -> 8
B27: Q2 2024 | D27: 40 | F27: =IF(C27="","",(C27+E27)) | G27: {=_xlfn.IFS(F27="","",F27<=20,$J$12,F27<=30,$K$12,F27<=40,$L$12,F27<=50,$M$12,F27<=60,$N$12,F27>=60,$O$12)} | I27: =IF(G27="","",ROUND(AVERAGE(G26:G27),0))
B28: Q3 2024 | D28: 40 | F28: =IF(C28="","",(C28+E28)) | G28: {=_xlfn.IFS(F28="","",F28<=20,$J$12,F28<=30,$K$12,F28<=40,$L$12,F28<=50,$M$12,F28<=60,$N$12,F28>=60,$O$12)} | I28: =IF(G28="","",ROUND(AVERAGE(G26:G28),0))
B29: Q4 2024 | D29: 40 | F29: =IF(C29="","",(C29+E29)) | G29: {=_xlfn.IFS(F29="","",F29<=20,$J$12,F29<=30,$K$12,F29<=40,$L$12,F29<=50,$M$12,F29<=60,$N$12,F29>=60,$O$12)} | I29: =IF(G29="","",ROUND(AVERAGE(G26:G29),0))
B30: Q1 2025 | D30: 40 | F30: =IF(C30="","",(C30+E30)) | G30: {=_xlfn.IFS(F30="","",F30<=20,$J$12,F30<=30,$K$12,F30<=40,$L$12,F30<=50,$M$12,F30<=60,$N$12,F30>=60,$O$12)} | I30: =IF(G30="","",ROUND(AVERAGE(G27:G30),0))
B31: Q2 2025 | D31: 40 | F31: =IF(C31="","",(C31+E31)) | G31: {=_xlfn.IFS(F31="","",F31<=20,$J$12,F31<=30,$K$12,F31<=40,$L$12,F31<=50,$M$12,F31<=60,$N$12,F31>=60,$O$12)} | I31: =IF(G31="","",ROUND(AVERAGE(G28:G31),0))
B32: Q3 2025 | D32: 40 | F32: =IF(C32="","",(C32+E32)) | G32: {=_xlfn.IFS(F32="","",F32<=20,$J$12,F32<=30,$K$12,F32<=40,$L$12,F32<=50,$M$12,F32<=60,$N$12,F32>=60,$O$12)} | I32: =IF(G32="","",ROUND(AVERAGE(G29:G32),0))
B33: Q4 2025 | D33: 40 | F33: =IF(C33="","",(C33+E33)) | G33: {=_xlfn.IFS(F33="","",F33<=20,$J$12,F33<=30,$K$12,F33<=40,$L$12,F33<=50,$M$12,F33<=60,$N$12,F33>=60,$O$12)} | I33: {=_xlfn.IFS(H33="","",H33>=98%,$J$12,H33>=96%,$K$12,H33>=94%,$L$12,H33>=92%,$M$12,H33>=90%,$N$12,H33<=90%,$O$12)}

Sheet 5. BC3
B2: Gemeente Hilversum
B3: 5. | D3: KPI BC3
B5: Datum | C5: : | D5: 45236
B6: Versie | C6: : | D6: 1.0
B7: Opgesteld door | C7: : | D7: Gemeente Hilversum
B11: KPI | C11: BC3: Functiehersteltijd | J11: SCORE
B12: Doel | C12: Het tijdig herstellen van de functie van de asset(s) of installatie waardoor de overlast en risico's van opdrachtgever tot een minimum beperkt worden. | J12: 9 | K12: 8 | L12: 7 | M12: 6 | N12: 5 | O12: 4
B13: Omschrijving | C13: Het binnen de afgesproken tijd herstellen van storingen, waarbij de functie van de asset(s) of installatie tijdelijk hersteld wordt door een (nood) reparatie of er een alternatief wordt geplaatst. | J13: >= 95% | K13: >= 92% | L13: >= 90% | M13: >= 88% | N13: >= 85% | O13: < 85%
B14: Scope | C14: Alle assets binnen de inkoopovereenkomst
B15: Meting | C15: De tijd vanaf het moment dat de storing bij de opdrachtnemer is gemeld, of door de opdrachtnemer is geconstateerd, tot aan het moment dat de functie weer is hersteld.
B16: Verantwoordelijke meting | C16: Opdrachtnemer.
B17: Actie gericht | C17: Als de gewenste KPI-score niet behaald wordt stelt de opdrachtnemer een actieplan op met een analyse van de klachten, adviezen en verbeteracties, rapporteert dit aan de opdrachtgever en voert dit uit.
B18: Tijdgebonden | C18: De meting vindt 1x per kwartaal plaats, over het afgelopen kwartaal.
B19: Score | C19: Het totaal aantal storingen binnen de meetperiode waarbij de vereiste functieherstel is gehaald, in relatie tot het totaal aantal storingen binnen dezelfde periode. Dit wordt uitgedrukt in een percentage van het aantal assets dat voldoet aan de eis.
B25: Periode | C25: Aantal Storingen | D25: Aantal Storingen opgelost binnen functiehersteltijd | E25: Percentage voldoet aan gestelde eis | F25: Correctie | G25: Totaal aantal storingen opgelost binnen functiehersteltijd | H25: Behaalde punten | I25: Opmerking/verbeteractie | J25: Behaalde punten gemiddeld
B26: Q1 2024 | C26: ='4. BC2'!F26 -> 30 | E26: =IF(OR(C26="",D26=""),"",D26/C26) | G26: =IF(D26="","",(D26+F26)/C26) | H26: {=_xlfn.IFS(G26="","",G26>=95%,$J$12,G26>=92%,$K$12,G26>=90%,$L$12,G26>=88%,$M$12,G26>=85%,$N$12,G26<=85%,$O$12)} | J26: =IF(H26="","",ROUND(AVERAGE(H26),0))
B27: Q2 2024 | C27: ='4. BC2'!F27 | E27: =IF(OR(C27="",D27=""),"",D27/C27) | H27: {=_xlfn.IFS(G27="","",G27>=98%,$J$12,G27>=96%,$K$12,G27>=94%,$L$12,G27>=92%,$M$12,G27>=90%,$N$12,G27<=90%,$O$12)} | J27: =IF(H27="","",ROUND(AVERAGE(H26:H27),0))
B28: Q3 2024 | C28: ='4. BC2'!F28 | E28: =IF(OR(C28="",D28=""),"",D28/C28) | H28: {=_xlfn.IFS(G28="","",G28>=98%,$J$12,G28>=96%,$K$12,G28>=94%,$L$12,G28>=92%,$M$12,G28>=90%,$N$12,G28<=90%,$O$12)} | J28: =IF(H28="","",ROUND(AVERAGE(H26:H28),0))
B29: Q4 2024 | C29: ='4. BC2'!F29 | E29: =IF(OR(C29="",D29=""),"",D29/C29) | H29: {=_xlfn.IFS(G29="","",G29>=98%,$J$12,G29>=96%,$K$12,G29>=94%,$L$12,G29>=92%,$M$12,G29>=90%,$N$12,G29<=90%,$O$12)} | J29: =IF(H29="","",ROUND(AVERAGE(H26:H29),0))
B30: Q1 2025 | C30: ='4. BC2'!F30 | E30: =IF(OR(C30="",D30=""),"",D30/C30) | H30: {=_xlfn.IFS(G30="","",G30>=98%,$J$12,G30>=96%,$K$12,G30>=94%,$L$12,G30>=92%,$M$12,G30>=90%,$N$12,G30<=90%,$O$12)} | J30: =IF(H30="","",ROUND(AVERAGE(H27:H30),0))
B31: Q2 2025 | C31: ='4. BC2'!F31 | E31: =IF(OR(C31="",D31=""),"",D31/C31) | H31: {=_xlfn.IFS(G31="","",G31>=98%,$J$12,G31>=96%,$K$12,G31>=94%,$L$12,G31>=92%,$M$12,G31>=90%,$N$12,G31<=90%,$O$12)} | J31: =IF(H31="","",ROUND(AVERAGE(H28:H31),0))
B32: Q3 2025 | C32: ='4. BC2'!F32 | E32: =IF(OR(C32="",D32=""),"",D32/C32) | H32: {=_xlfn.IFS(G32="","",G32>=98%,$J$12,G32>=96%,$K$12,G32>=94%,$L$12,G32>=92%,$M$12,G32>=90%,$N$12,G32<=90%,$O$12)} | J32: =IF(H32="","",ROUND(AVERAGE(H29:H32),0))
B33: Q4 2025 | C33: ='4. BC2'!F33 | E33: =IF(OR(C33="",D33=""),"",D33/C33) | H33: {=_xlfn.IFS(G33="","",G33>=98%,$J$12,G33>=96%,$K$12,G33>=94%,$L$12,G33>=92%,$M$12,G33>=90%,$N$12,G33<=90%,$O$12)} | J33: {=_xlfn.IFS(I33="","",I33>=98%,$J$12,I33>=96%,$K$12,I33>=94%,$L$12,I33>=92%,$M$12,I33>=90%,$N$12,I33<=90%,$O$12)}

Sheet 6. O1
B2: Gemeente Hilversum
B3: 6. | D3: KPI O1
B5: Datum | C5: : | D5: 45236
B6: Versie | C6: : | D6: 1.0
B7: Opgesteld door | C7: : | D7: Gemeente Hilversum
B11: KPI | C11: O1: Samenwerking | J11: SCORE
B12: Doel | C12: Het hebben van een optimale samenwerking waarbij zowel opdrachtgever als opdrachtnemer hetzelfde doel voor ogen hebben | J12: 9 | K12: 8 | L12: 7 | M12: 6 | N12: 4
B13: Omschrijving | C13: Het meten van verschillende samenwerkingsaspecten met gebruik van een beoordelingsformulier. Elk aspect kan worden gescoord van 10 (uitstekend) tot 1 (zeer slecht). | J13: =>9 | K13: 8 | L13: 7 | M13: 6 | N13: <=4
B14: Scope | C14: Alle activiteiten die opdrachtnemer uitvoert voor opdrachtgever binnen de inkoopovereenkomst.
B15: Meting | C15: Verschillende personen binnen de facilitaire organisatie van opdrachtgever vullen het formulier in. het gemiddelde daarvan wordt als score ingevuld per aspect. Opdrachtnemer beoordeelt opdrachtgever volgens hetzelfde beoordelingsformulier. Deze beoordeling is enkel indicatief en toont de perceptie van opdrachtnemer over de samenwerking.
B16: Verantwoordelijke meting | C16: Opdrachtgever
B17: Actie gericht | C17: Als één van de partijen de gewenste score niet haalt, stelt deze partij een actieplan op met verbeteracties en voert deze uit.
B18: Tijdgebonden | C18: De meting vindt 1x per half jaar plaats, over het afgelopen kwartaal.
B19: Score | C19: De score bestaat uit het gemiddelde van de score per aspect volgens het beoordelingsformulier.
C25: Uitstekend | D25: Zeer goed | E25: Goed | F25: Ruim voldoende | G25: Voldoende | H25: Onvoldoende | I25: Ruim onvoldoende | J25: Slecht | K25: Zeer slecht | L25: Totaal behaalde score | M25: Opmerking/verbeteractie
C26: 10 | D26: 9 | E26: 8 | F26: 7 | G26: 6 | H26: 5 | I26: 4 | J26: 3 | K26: 2
B27: Communicatie: tijdigheid en kwalitatief goede informatievoorziening | L27: =IF(ISERROR(AVERAGE(C27:K31)),"",AVERAGE(C27:K31))
B28: Processen
B29: Proactiviteit
B30: Resultaatgerichtheid
B31: Competenties: kwaliteit vertegenwoordiging op operationeel niveau en tactisch niveau
B34: OPDRACHTGEVER
B35: Periode | C35: Behaalde score | D35: Opmerking/ verbeteractie | H35: Behaalde punten gemiddeld
B36: Q1-Q2 2024 | H36: =IF(C36="","",ROUND(AVERAGE(C36),0))
B37: Q3-Q4 2024 | H37: =IF(C37="","",ROUND(AVERAGE(C36:C37),0))
B38: Q1-Q2 2025 | H38: =IF(C38="","",ROUND(AVERAGE(C36:C38),0))
B39: Q3-Q4 2025 | H39: =IF(C39="","",ROUND(AVERAGE(C36:C39),0))
B41: OPDRACHTNEMER
B42: Periode | C42: Behaalde score | D42: Opmerking/ verbeteractie | H42: Behaalde punten gemiddeld
B43: Q1-Q2 2024 | H43: =IF(C43="","",ROUND(AVERAGE(C43),0))
B44: Q3-Q4 2024 | H44: =IF(C44="","",ROUND(AVERAGE(C43:C44),0))
B45: Q1-Q2 2025 | H45: =IF(C45="","",ROUND(AVERAGE(C43:C45),0))
B46: Q3-Q4 2025 | H46: =IF(C46="","",ROUND(AVERAGE(C43:C46),0))

Sheet 7. O2
B2: Gemeente Hilversum
B3: 7. | D3: KPI O2
B5: Datum | C5: : | D5: 45236
B6: Versie | C6: : | D6: 1.0
B7: Opgesteld door | C7: : | D7: Gemeente Hilversum
B11: KPI | C11: O2: Rapportages | J11: SCORE
B12: Doel | C12: Het verkrijgen van rapportages die opdrachtgever informatie verschaffen over de werkzaamheden van opdrachtnemer en opdrachtgever in staat stelt om de dienstverlening aan te sturen. | J12: 9 | K12: 8 | L12: 7 | M12: 6 | N12: 5 | O12: 4
B13: Omschrijving | C13: De rapportages zijn opgesteld volgens de eisen uit de inkoopovereenkomst. De rapportages bevatten informatie waarmee opdrachtgever zowel zijn eigen dienstverlening als de dienstverlening van opdrachtnemer kan verbeteren. | J13: >= 90% | K13: >= 80% | L13: >= 70% | M13: >= 60% | N13: >= 50% | O13: <= 50%
B14: Scope | C14: Alle rapportages zoals vastgelegd in de inkoopovereenkomst.
B15: Meting | C15: Bij elk verstrekt rapport wordt beoordeeld of deze tijdig is aangeleverd en of het rapport de gevraagde informatie bevat. Wanneer één of meerdere rapporten langer dan een maand na de afgesproken datum niet is aangeleverd, wordt de KPI voor het eerstvolgende meetmoment met de laagste score beoordeeld.
B16: Verantwoordelijke meting | C16: Opdrachtgever.
B17: Actie gericht | C17: Als de gewenste score niet wordt behaald stelt opdrachtnemer een nieuwe versie van het rapport op en verstrekt deze aan opdrachtgever. Opdrachtgever beoordeelt dit rapport op eenzelfde wijze.
B18: Tijdgebonden | C18: De meting vindt 1x per kwartaal plaats, hierbij worden de rapporten beoordeeld die in het afgelopen kwartaal aangeleverd moesten worden.
B19: Score | C19: De score bestaat uit een totaal aantal behaalde punten, in relatie tot het maximaal aantal te behalen punten in dat kwartaal.
B25: Periode | C25: Aantal aan te leveren rapportages | D25: Aantal aangeleverde rapportages | E25: Aantal rapportages voldoet aan norm | F25: Correctie | G25: Totaal aantal goedgekeurde rapportages | H25: Behaalde punten | I25: Opmerking/ verbeteractie | J25: Behaalde punten gemiddeld
B26: Q1 2024 | C26: 6 | G26: =IF(D26="","",(E26+F26)/C26) | H26: {=_xlfn.IFS(G26="","",G26>=90%,$J$12,G26>=80%,$K$12,G26>=70%,$L$12,G26>=60%,$M$12,G26>=50%,$N$12,G26<=50%,$O$12)} | J26: =IF(H26="","",ROUND(AVERAGE(H26),0))
B27: Q2 2024 | C27: 10 | G27: =IF(D27="","",(E27+F27)/C27) | H27: {=_xlfn.IFS(G27="","",G27>=90%,$J$12,G27>=80%,$K$12,G27>=70%,$L$12,G27>=60%,$M$12,G27>=50%,$N$12,G27<=50%,$O$12)} | J27: =IF(H27="","",ROUND(AVERAGE(H26:H27),0))
B28: Q3 2024 | C28: 6 | G28: =IF(D28="","",(E28+F28)/C28) | H28: {=_xlfn.IFS(G28="","",G28>=90%,$J$12,G28>=80%,$K$12,G28>=70%,$L$12,G28>=60%,$M$12,G28>=50%,$N$12,G28<=50%,$O$12)} | J28: =IF(H28="","",ROUND(AVERAGE(H26:H28),0))
B29: Q4 2024 | C29: 11 | G29: =IF(D29="","",(E29+F29)/C29) | H29: {=_xlfn.IFS(G29="","",G29>=90%,$J$12,G29>=80%,$K$12,G29>=70%,$L$12,G29>=60%,$M$12,G29>=50%,$N$12,G29<=50%,$O$12)} | J29: =IF(H29="","",ROUND(AVERAGE(H26:H29),0))
B30: Q1 2025 | C30: 6 | G30: =IF(D30="","",(E30+F30)/C30) | H30: {=_xlfn.IFS(G30="","",G30>=90%,$J$12,G30>=80%,$K$12,G30>=70%,$L$12,G30>=60%,$M$12,G30>=50%,$N$12,G30<=50%,$O$12)} | J30: =IF(H30="","",ROUND(AVERAGE(H27:H30),0))
B31: Q2 2025 | C31: 10 | G31: =IF(D31="","",(E31+F31)/C31) | H31: {=_xlfn.IFS(G31="","",G31>=90%,$J$12,G31>=80%,$K$12,G31>=70%,$L$12,G31>=60%,$M$12,G31>=50%,$N$12,G31<=50%,$O$12)} | J31: =IF(H31="","",ROUND(AVERAGE(H28:H31),0))
B32: Q3 2025 | C32: 6 | G32: =IF(D32="","",(E32+F32)/C32) | H32: {=_xlfn.IFS(G32="","",G32>=90%,$J$12,G32>=80%,$K$12,G32>=70%,$L$12,G32>=60%,$M$12,G32>=50%,$N$12,G32<=50%,$O$12)} | J32: =IF(H32="","",ROUND(AVERAGE(H29:H32),0))
B33: Q4 2025 | C33: 11 | G33: =IF(D33="","",(E33+F33)/C33) | H33: {=_xlfn.IFS(G33="","",G33>=90%,$J$12,G33>=80%,$K$12,G33>=70%,$L$12,G33>=60%,$M$12,G33>=50%,$N$12,G33<=50%,$O$12)} | J33: {=_xlfn.IFS(I33="","",I33>=98%,$J$12,I33>=96%,$K$12,I33>=94%,$L$12,I33>=92%,$M$12,I33>=90%,$N$12,I33<=90%,$O$12)}

Sheet 8. O3
B2: Gemeente Hilversum
B3: 8. | D3: KPI O3
B5: Datum | C5: : | D5: 45236
B6: Versie | C6: : | D6: 1.0
B7: Opgesteld door | C7: : | D7: Gemeente Hilversum
B11: KPI | C11: O3: Verbetervoorstellen | J11: SCORE
B12: Doel | C12: Het verkrijgen van nieuwe inzichten over asset(s) en installaties waarmee de prestaties verbeterd kunnen worden of het risico en overlast richting de gebruiker verkleind kan worden. | J12: 9 | K12: 8 | L12: 7 | M12: 6 | N12: 5 | O12: 4
B13: Omschrijving | C13: Het aanleveren van verbetervoorstellen, gericht op het verbeteren van de prestaties van de asset(s), installaties en de algehele dienstverlening. De verbetervoorstellen geven opdrachtgever de mogelijkheid om beslissingen te nemen waarmee de kwaliteit van het beheer- en onderhoud verhoogd wordt en de facilitaire organisatie een betere aansluiting zoekt bij de doelstellingen van de eigen organisatie. | J13: >= 12 | K13: >= 10 | L13: >= 8 | M13: >= 6 | N13: >= 4 | O13: < 4
B14: Scope | C14: Alle activiteiten die opdrachtnemer uitvoert binnen de inkoopovereenkomst.
B15: Meting | C15: Het tijdig aanleveren van het gewenste aantal verbetervoorstellen volgens de eisen uit de inkoopovereenkomst.
B16: Verantwoordelijke meting | C16: Opdrachtgever.
B17: Actie gericht | C17: Als de gewenste KPI-score niet behaald wordt stelt de opdrachtnemer de gewenste verbetervoorstellen op binnen een termijn van één maand na de beoordeling.
B18: Tijdgebonden | C18: De meting vindt 1x per kwartaal plaats, over het afgelopen kwartaal.
B19: Score | C19: Het totaal aantal aangeleverde verbetervoorstellen die voldoen aan de eisen uit de inkoopovereenkomst,
B25: Periode | C25: Voorstelnr | D25: Minimaal 1 voorstel met onderwerp: | E25: Aantal voorstellen per half jaar | F25: Norm aantal voorstellen per half jaar | G25: Verbetervoorstel voldoet aan alle gestelde eisen? (ja=2/nee=0 punten) | H25: Terugverdientijd binnen 5 jaar? (ja=2/nee=0 punten) | I25: Verbetering van functioneren asset en/of installatie? (ja=2/nee=0 punten) | J25: Verbetering bedrijfscontinuïteit? (ja=2/gelijkwaardig=1/nee=0 punten) | K25: Investering / kg CO2 besparing < 2 €/kg = 2 punten 2 - 5 €/kg = 1 punt > 5 €/kg = 0,5 punt | L25: Verbetering comfort (ja=2/gelijkwaardig=1/nee=0 punten) | M25: Verbetering safety (ja=2/gelijkwaardig=1/nee=0 punten) | N25: Opmerking/ verbeteractie | O25: Totaal behaalde punten | P25: Behaalde punten
B26: Q1-Q2 2024 | C26: 1 | F26: 2 | O26: =IF(G26="","",SUM(G26:M26)) | P26: {=_xlfn.IFS(O26="","",O26>=12,$J$12,O26>=10,$K$12,O26>=8,$L$12,O26>=6,$M$12,O26>=4,$N$12,O26<=4,$O$12)}
B27: Q1-Q2 2024 | C27: 2 | F27: 2 | O27: =IF(G27="","",SUM(G27:M27)) | P27: {=_xlfn.IFS(O27="","",O27>=12,$J$12,O27>=10,$K$12,O27>=8,$L$12,O27>=6,$M$12,O27>=4,$N$12,O27<=4,$O$12)}
B28: Q3-Q4 2024 | C28: 1 | F28: 2 | O28: =IF(G28="","",SUM(G28:M28)) | P28: {=_xlfn.IFS(O28="","",O28>=12,$J$12,O28>=10,$K$12,O28>=8,$L$12,O28>=6,$M$12,O28>=4,$N$12,O28<=4,$O$12)}
B29: Q3-Q4 2024 | C29: 2 | F29: 2 | O29: =IF(G29="","",SUM(G29:M29)) | P29: {=_xlfn.IFS(O29="","",O29>=12,$J$12,O29>=10,$K$12,O29>=8,$L$12,O29>=6,$M$12,O29>=4,$N$12,O29<=4,$O$12)}
B30: Q1-Q2 2025 | C30: 1 | F30: 2 | O30: =IF(G30="","",SUM(G30:M30)) | P30: {=_xlfn.IFS(O30="","",O30>=12,$J$12,O30>=10,$K$12,O30>=8,$L$12,O30>=6,$M$12,O30>=4,$N$12,O30<=4,$O$12)}
B31: Q1-Q2 2025 | C31: 2 | F31: 2 | O31: =IF(G31="","",SUM(G31:M31)) | P31: {=_xlfn.IFS(O31="","",O31>=12,$J$12,O31>=10,$K$12,O31>=8,$L$12,O31>=6,$M$12,O31>=4,$N$12,O31<=4,$O$12)}
B32: Q3-Q4 2025 | C32: 1 | F32: 2 | O32: =IF(G32="","",SUM(G32:M32)) | P32: {=_xlfn.IFS(O32="","",O32>=12,$J$12,O32>=10,$K$12,O32>=8,$L$12,O32>=6,$M$12,O32>=4,$N$12,O32<=4,$O$12)}
B33: Q3-Q4 2025 | C33: 2 | F33: 2 | O33: =IF(G33="","",SUM(G33:M33)) | P33: {=_xlfn.IFS(O33="","",O33>=12,$J$12,O33>=10,$K$12,O33>=8,$L$12,O33>=6,$M$12,O33>=4,$N$12,O33<=4,$O$12)}
F34: 2 | O34: =IF(G34="","",SUM(G34:M34)) | P34: {=_xlfn.IFS(O34="","",O34>=12,$J$12,O34>=10,$K$12,O34>=8,$L$12,O34>=6,$M$12,O34>=4,$N$12,O34<=4,$O$12)}
F35: 2 | O35: =IF(G35="","",SUM(G35:M35)) | P35: {=_xlfn.IFS(O35="","",O35>=12,$J$12,O35>=10,$K$12,O35>=8,$L$12,O35>=6,$M$12,O35>=4,$N$12,O35<=4,$O$12)}
F36: 2 | O36: =IF(G36="","",SUM(G36:M36)) | P36: {=_xlfn.IFS(O36="","",O36>=12,$J$12,O36>=10,$K$12,O36>=8,$L$12,O36>=6,$M$12,O36>=4,$N$12,O36<=4,$O$12)}
F37: 2 | O37: =IF(G37="","",SUM(G37:M37)) | P37: {=_xlfn.IFS(O37="","",O37>=12,$J$12,O37>=10,$K$12,O37>=8,$L$12,O37>=6,$M$12,O37>=4,$N$12,O37<=4,$O$12)}
F38: 2 | O38: =IF(G38="","",SUM(G38:M38)) | P38: {=_xlfn.IFS(O38="","",O38>=12,$J$12,O38>=10,$K$12,O38>=8,$L$12,O38>=6,$M$12,O38>=4,$N$12,O38<=4,$O$12)}
F39: 2 | O39: =IF(G39="","",SUM(G39:M39)) | P39: {=_xlfn.IFS(O39="","",O39>=12,$J$12,O39>=10,$K$12,O39>=8,$L$12,O39>=6,$M$12,O39>=4,$N$12,O39<=4,$O$12)}
F40: 2 | O40: =IF(G40="","",SUM(G40:M40)) | P40: {=_xlfn.IFS(O40="","",O40>=12,$J$12,O40>=10,$K$12,O40>=8,$L$12,O40>=6,$M$12,O40>=4,$N$12,O40<=4,$O$12)}
F41: 2 | O41: =IF(G41="","",SUM(G41:M41)) | P41: {=_xlfn.IFS(O41="","",O41>=12,$J$12,O41>=10,$K$12,O41>=8,$L$12,O41>=6,$M$12,O41>=4,$N$12,O41<=4,$O$12)}

Sheet 9. WR1
B2: Gemeente Hilversum
B3: 9. | D3: KPI WR1
B5: Datum | C5: : | D5: 45236
B6: Versie | C6: : | D6: 1.0
B7: Opgesteld door | C7: : | D7: Gemeente Hilversum
B11: KPI | C11: WR1: Wet- en regelgeving | J11: SCORE
B12: Doel | C12: De asset(s), installaties en de dienstverlening van de opdrachtnemer moeten voldoen aan alle geldende wet- en regelgeving. | J12: 9 | K12: 8 | L12: 7 | M12: 6 | N12: 5 | O12: 4
B13: Omschrijving | C13: De actuele status van de geldende wet- en regelgeving waar deze van toepassing is, in relatie tot de verloopdatum van diezelfde status. | J13: >= 98% | K13: >= 96% | L13: >= 94% | M13: >= 92% | N13: >= 90% | O13: < 90%
B14: Scope | C14: Alle assets binnen de inkoopovereenkomst en alle werkzaamheden die door de opdrachtnemer worden verricht.
B15: Meting | C15: Steekproefgewijs wordt de wet- en regelgeving gecontroleerd op de actuele status en of voldaan wordt aan de gestelde eisen.
B16: Verantwoordelijke meting | C16: Opdrachtgever.
B17: Actie gericht | C17: Als de gewenste KPI-score niet behaald wordt stelt de opdrachtnemer een actieplan op met verbeteracties, rapporteert dit aan de opdrachtgever en voert dit uit.
B18: Tijdgebonden | C18: De meting vindt 1x per kwartaal plaats, over het afgelopen kwartaal.
B19: Score | C19: het aantal aspecten dat voldoet aan de gestelde eisen, in relatie tot het totaal aantal aspecten waarop een meting is verricht. Dit wordt uitgedrukt in het percentage van de aspecten dat voldoet aan de gestelde eisen.
B25: Periode | C25: Aantal gecontroleerde wettelijke verplichtingen | D25: Aantal verplichtingen voldoen | E25: Correctie | F25: Percentage voldoet aan gestelde eis | G25: Opmerking/verbeteractie | H25: Behaalde punten | I25: Behaalde punten gemiddeld
B26: Q1 2024 | F26: =IF(OR(C26="",D26=""),"",(D26+E26)/C26) | H26: {=_xlfn.IFS(F26="","",F26>=98%,$J$12,F26>=96%,$K$12,F26>=94%,$L$12,F26>=92%,$M$12,F26>=90%,$N$12,F26<=90%,$O$12)} | I26: =IF(H26="","",ROUND(AVERAGE(H26),0))
B27: Q2 2024 | F27: =IF(D27="","",100%-((C27-D27)/C27)) | H27: {=_xlfn.IFS(G27="","",G27>=98%,$J$12,G27>=96%,$K$12,G27>=94%,$L$12,G27>=92%,$M$12,G27>=90%,$N$12,G27<=90%,$O$12)} | I27: =IF(H27="","",ROUND(AVERAGE(H26:H27),0))
B28: Q3 2024 | F28: =IF(D28="","",100%-((C28-D28)/C28)) | H28: {=_xlfn.IFS(G28="","",G28>=98%,$J$12,G28>=96%,$K$12,G28>=94%,$L$12,G28>=92%,$M$12,G28>=90%,$N$12,G28<=90%,$O$12)} | I28: =IF(H28="","",ROUND(AVERAGE(H26:H28),0))
B29: Q4 2024 | F29: =IF(D29="","",100%-((C29-D29)/C29)) | H29: {=_xlfn.IFS(G29="","",G29>=98%,$J$12,G29>=96%,$K$12,G29>=94%,$L$12,G29>=92%,$M$12,G29>=90%,$N$12,G29<=90%,$O$12)} | I29: =IF(H29="","",ROUND(AVERAGE(H26:H29),0))
B30: Q1 2025 | F30: =IF(D30="","",100%-((C30-D30)/C30)) | H30: {=_xlfn.IFS(G30="","",G30>=98%,$J$12,G30>=96%,$K$12,G30>=94%,$L$12,G30>=92%,$M$12,G30>=90%,$N$12,G30<=90%,$O$12)} | I30: =IF(H30="","",ROUND(AVERAGE(H27:H30),0))
B31: Q2 2025 | F31: =IF(D31="","",100%-((C31-D31)/C31)) | H31: {=_xlfn.IFS(G31="","",G31>=98%,$J$12,G31>=96%,$K$12,G31>=94%,$L$12,G31>=92%,$M$12,G31>=90%,$N$12,G31<=90%,$O$12)} | I31: =IF(H31="","",ROUND(AVERAGE(H28:H31),0))
B32: Q3 2025 | F32: =IF(D32="","",100%-((C32-D32)/C32)) | H32: {=_xlfn.IFS(G32="","",G32>=98%,$J$12,G32>=96%,$K$12,G32>=94%,$L$12,G32>=92%,$M$12,G32>=90%,$N$12,G32<=90%,$O$12)} | I32: =IF(H32="","",ROUND(AVERAGE(H29:H32),0))
B33: Q4 2025 | F33: =IF(D33="","",100%-((C33-D33)/C33)) | H33: {=_xlfn.IFS(G33="","",G33>=98%,$J$12,G33>=96%,$K$12,G33>=94%,$L$12,G33>=92%,$M$12,G33>=90%,$N$12,G33<=90%,$O$12)} | I33: =IF(H33="","",ROUND(AVERAGE(H30:H33),0))

Sheet 10. EB1
B2: Gemeente Hilversum
B3: 10. | D3: KPI EB1
B5: Datum | C5: : | D5: 45236
B6: Versie | C6: : | D6: 1.0
B7: Opgesteld door | C7: : | D7: Gemeente Hilversum
B11: KPI | C11: EB1: Energiebesparing | J11: SCORE
B12: Doel | C12: Het waar mogelijk besparen van energie (elektriciteit, gas en/of warmte) en/of het bewerkstelligen van een besparing op de CO2-uitstoot. | J12: 9 | K12: 8 | L12: 7 | M12: 6 | N12: 5 | O12: 4
B13: Omschrijving | C13: Het aanleveren van het aantal gestelde verbetervoorstellen waarmee energie bespaard kan worden, opgesteld volgens de eisen uit de inkoopovereenkomst. | J13: >= 12 | K13: >= 10 | L13: >= 8 | M13: >= 6 | N13: >= 4 | O13: < 4
B14: Scope | C14: Alle assets binnen de inkoopovereenkomst.
B15: Meting | C15: Na ontvangst van elk verbetervoorstel wordt deze door opdrachtgever beoordeeld of deze voldoet aan de eisen die zijn vastgelegd in de inkoopovereenkomst.
B16: Verantwoordelijke meting | C16: Opdrachtgever.
B17: Actie gericht | C17: Als de verbetervoorstellen niet voldoen aan de gestelde eisen past opdrachtnemer deze aan en dient het aangepaste voorstel opnieuw in bij opdrachtgever. Deze beoordeelt het aangepaste voorstel. Wanneer opdrachtnemer later dan één maand na de deadline voor de gestelde verbetervoorstellen niet het minimale aantal heeft behaald, ontvangt de opdrachtnemer de laagst haalbare KPI-score voor diezelfde periode.
B18: Tijdgebonden | C18: De meting vindt 1x per kwartaal plaats, over het afgelopen kwartaal.
B19: Score | C19: Het aantal verbetervoorstellen dat voldoet aan de gestelde eisen, in relatie tot het aantal ingediende verbetervoorstellen en het minimaal aantal verbetervoorstellen volgens de inkoopovereenkomst.
B25: Periode | C25: Voorstelnr | D25: Minimaal 1 voorstel met onderwerp: | E25: Aantal voorstellen per half jaar | F25: Norm aantal voorstellen per half jaar | G25: Verbetervoorstel voldoet aan alle gestelde eisen? (ja=2/nee=0 punten) | H25: Terugverdientijd binnen 5 jaar? (ja=2/nee=0 punten) | I25: Verbetering van functioneren asset en/of installatie? (ja=2/nee=0 punten) | J25: Verbetering bedrijfscontinuïteit? (ja=2/gelijkwaardig=1/nee=0 punten) | K25: Investering / kg CO2 besparing < 2 €/kg = 2 punten 2 - 5 €/kg = 1 punt > 5 €/kg = 0,5 punt | L25: Verbetering comfort (ja=2/gelijkwaardig=1/nee=0 punten) | M25: Verbetering safety (ja=2/gelijkwaardig=1/nee=0 punten) | N25: Opmerking/ verbeteractie | O25: Totaal behaalde punten | P25: Behaalde punten
B26: Q1-Q2 2024 | C26: 1 | F26: 2 | O26: =IF(G26="","",SUM(G26:M26)) | P26: {=_xlfn.IFS(O26="","",O26>=12,$J$12,O26>=10,$K$12,O26>=8,$L$12,O26>=6,$M$12,O26>=4,$N$12,O26<=4,$O$12)}
B27: Q1-Q2 2024 | C27: 2 | F27: 2 | O27: =IF(G27="","",SUM(G27:M27)) | P27: {=_xlfn.IFS(O27="","",O27>=12,$J$12,O27>=10,$K$12,O27>=8,$L$12,O27>=6,$M$12,O27>=4,$N$12,O27<=4,$O$12)}
B28: Q3-Q4 2024 | C28: 1 | F28: 2 | O28: =IF(G28="","",SUM(G28:M28)) | P28: {=_xlfn.IFS(O28="","",O28>=12,$J$12,O28>=10,$K$12,O28>=8,$L$12,O28>=6,$M$12,O28>=4,$N$12,O28<=4,$O$12)}
B29: Q3-Q4 2024 | C29: 2 | F29: 2 | O29: =IF(G29="","",SUM(G29:M29)) | P29: {=_xlfn.IFS(O29="","",O29>=12,$J$12,O29>=10,$K$12,O29>=8,$L$12,O29>=6,$M$12,O29>=4,$N$12,O29<=4,$O$12)}
B30: Q1-Q2 2025 | C30: 1 | F30: 2 | O30: =IF(G30="","",SUM(G30:M30)) | P30: {=_xlfn.IFS(O30="","",O30>=12,$J$12,O30>=10,$K$12,O30>=8,$L$12,O30>=6,$M$12,O30>=4,$N$12,O30<=4,$O$12)}
B31: Q1-Q2 2025 | C31: 2 | F31: 2 | O31: =IF(G31="","",SUM(G31:M31)) | P31: {=_xlfn.IFS(O31="","",O31>=12,$J$12,O31>=10,$K$12,O31>=8,$L$12,O31>=6,$M$12,O31>=4,$N$12,O31<=4,$O$12)}
B32: Q3-Q4 2025 | C32: 1 | F32: 2 | O32: =IF(G32="","",SUM(G32:M32)) | P32: {=_xlfn.IFS(O32="","",O32>=12,$J$12,O32>=10,$K$12,O32>=8,$L$12,O32>=6,$M$12,O32>=4,$N$12,O32<=4,$O$12)}
B33: Q3-Q4 2025 | C33: 2 | F33: 2 | O33: =IF(G33="","",SUM(G33:M33)) | P33: {=_xlfn.IFS(O33="","",O33>=12,$J$12,O33>=10,$K$12,O33>=8,$L$12,O33>=6,$M$12,O33>=4,$N$12,O33<=4,$O$12)}
F34: 2 | O34: =IF(G34="","",SUM(G34:M34)) | P34: {=_xlfn.IFS(O34="","",O34>=12,$J$12,O34>=10,$K$12,O34>=8,$L$12,O34>=6,$M$12,O34>=4,$N$12,O34<=4,$O$12)}
F35: 2 | O35: =IF(G35="","",SUM(G35:M35)) | P35: {=_xlfn.IFS(O35="","",O35>=12,$J$12,O35>=10,$K$12,O35>=8,$L$12,O35>=6,$M$12,O35>=4,$N$12,O35<=4,$O$12)}
F36: 2 | O36: =IF(G36="","",SUM(G36:M36)) | P36: {=_xlfn.IFS(O36="","",O36>=12,$J$12,O36>=10,$K$12,O36>=8,$L$12,O36>=6,$M$12,O36>=4,$N$12,O36<=4,$O$12)}
F37: 2 | O37: =IF(G37="","",SUM(G37:M37)) | P37: {=_xlfn.IFS(O37="","",O37>=12,$J$12,O37>=10,$K$12,O37>=8,$L$12,O37>=6,$M$12,O37>=4,$N$12,O37<=4,$O$12)}
F38: 2 | O38: =IF(G38="","",SUM(G38:M38)) | P38: {=_xlfn.IFS(O38="","",O38>=12,$J$12,O38>=10,$K$12,O38>=8,$L$12,O38>=6,$M$12,O38>=4,$N$12,O38<=4,$O$12)}
F39: 2 | O39: =IF(G39="","",SUM(G39:M39)) | P39: {=_xlfn.IFS(O39="","",O39>=12,$J$12,O39>=10,$K$12,O39>=8,$L$12,O39>=6,$M$12,O39>=4,$N$12,O39<=4,$O$12)}
F40: 2 | O40: =IF(G40="","",SUM(G40:M40)) | P40: {=_xlfn.IFS(O40="","",O40>=12,$J$12,O40>=10,$K$12,O40>=8,$L$12,O40>=6,$M$12,O40>=4,$N$12,O40<=4,$O$12)}
F41: 2 | O41: =IF(G41="","",SUM(G41:M41)) | P41: {=_xlfn.IFS(O41="","",O41>=12,$J$12,O41>=10,$K$12,O41>=8,$L$12,O41>=6,$M$12,O41>=4,$N$12,O41<=4,$O$12)}

Sheet 11. EB2
B2: Gemeente Hilversum
B3: 11. | D3: KPI EB2
B5: Datum | C5: : | D5: 45236
B6: Versie | C6: : | D6: 1.0
B7: Opgesteld door | C7: : | D7: Gemeente Hilversum
B11: KPI | C11: EB2: Optimalisatie energieverbruik | J11: SCORE
B12: Doel | C12: Het optimaal laten functioneren van de aanwezige assets en installaties waardoor het energiegebruik geoptimaliseerd is. | J12: 9 | K12: 8 | L12: 7 | M12: 6 | N12: 5 | O12: 4
B13: Omschrijving | C13: Het steekproefgewijs controleren van installaties op het optimaal functioneren. Bijvoorbeeld: Of de koelinstallatie de opgegeven COP behaald, of installaties tegelijk verwarmen en koelen, of de stooklijnen correct zijn ingesteld, juiste luchtverplaatsing van de LBK's, etc. | J13: >= 100 | K13: >= 80 | L13: >= 60 | M13: >= 40 | N13: >= 20 | O13: <20
B14: Scope | C14: Alle assets en installaties binnen de inkoopovereenkomst.
B15: Meting | C15: In overleg tussen opdrachtgever en opdrachtnemer worden elk kwartaal enkele installaties gekozen waar opdrachtnemer de functionele controle op uit moet voeren. Na afloop van datzelfde kwartaal moet opdrachtnemer aantonen dat de installaties gecontroleerd en, indien van toepassing, geoptimaliseerd zijn.
B16: Verantwoordelijke meting | C16: Opdrachtnemer.
B17: Actie gericht | C17: Als de gewenste score niet wordt behaald stelt opdrachtnemer een actieplan op met verbeteracties, rapporteert dit aan opdrachtgever en voert dit uit.
B18: Tijdgebonden | C18: De meting vindt 1x per kwartaal plaats, over het afgelopen kwartaal.
B19: Score | C19: De score wordt behaald aan de hand van het aantal uitgevoerde controles en of deze controles inhoudelijk bijdragen aan het realiseren van het doel.
B25: Periode | C25: Aantal gecontroleerde assets | D25: Correctie | E25: Totaal aantal | F25: Opmerking/ verbeteractie | G25: Behaalde punten | H25: Behaalde punten gemiddeld
B26: Q1 2024 | E26: =IF(C26="","",(C26+D26)) | G26: {=_xlfn.IFS(E26="","",E26>=100,$J$12,E26>=80,$K$12,E26>=60,$L$12,E26>=40,$M$12,E26>=20,$N$12,E26<=20,$O$12)} | H26: =IF(G26="","",ROUND(AVERAGE(G26),0))
B27: Q2 2024 | E27: =IF(C27="","",(C27+D27)) | G27: {=_xlfn.IFS(E27="","",E27>=100,$J$12,E27>=80,$K$12,E27>=60,$L$12,E27>=40,$M$12,E27>=20,$N$12,E27<=20,$O$12)} | H27: =IF(G27="","",ROUND(AVERAGE(G26:G27),0))
B28: Q3 2024 | E28: =IF(C28="","",(C28+D28)) | G28: {=_xlfn.IFS(E28="","",E28>=100,$J$12,E28>=80,$K$12,E28>=60,$L$12,E28>=40,$M$12,E28>=20,$N$12,E28<=20,$O$12)} | H28: =IF(G28="","",ROUND(AVERAGE(G26:G28),0))
B29: Q4 2024 | E29: =IF(C29="","",(C29+D29)) | G29: {=_xlfn.IFS(E29="","",E29>=100,$J$12,E29>=80,$K$12,E29>=60,$L$12,E29>=40,$M$12,E29>=20,$N$12,E29<=20,$O$12)} | H29: =IF(G29="","",ROUND(AVERAGE(G26:G29),0))
B30: Q1 2025 | E30: =IF(C30="","",(C30+D30)) | G30: {=_xlfn.IFS(E30="","",E30>=100,$J$12,E30>=80,$K$12,E30>=60,$L$12,E30>=40,$M$12,E30>=20,$N$12,E30<=20,$O$12)} | H30: =IF(G30="","",ROUND(AVERAGE(G27:G30),0))
B31: Q2 2025 | E31: =IF(C31="","",(C31+D31)) | G31: {=_xlfn.IFS(E31="","",E31>=100,$J$12,E31>=80,$K$12,E31>=60,$L$12,E31>=40,$M$12,E31>=20,$N$12,E31<=20,$O$12)} | H31: =IF(G31="","",ROUND(AVERAGE(G28:G31),0))
B32: Q3 2025 | E32: =IF(C32="","",(C32+D32)) | G32: {=_xlfn.IFS(E32="","",E32>=100,$J$12,E32>=80,$K$12,E32>=60,$L$12,E32>=40,$M$12,E32>=20,$N$12,E32<=20,$O$12)} | H32: =IF(G32="","",ROUND(AVERAGE(G29:G32),0))
B33: Q4 2025 | E33: =IF(C33="","",(C33+D33)) | G33: {=_xlfn.IFS(E33="","",E33>=100,$J$12,E33>=80,$K$12,E33>=60,$L$12,E33>=40,$M$12,E33>=20,$N$12,E33<=20,$O$12)} | H33: =IF(G33="","",ROUND(AVERAGE(G30:G33),0))
