Workbook
Name Score: 'Beoordelen open vragen'!$A$9:$A$14

Sheet Beoordelen open vragen
A1: Beoordeling criterium 1 Open vragen
A2: Om de kwaliteit en toegevoegde waarde van de inschrijver(s) te kunnen beoordelen dient inschrijver haar kwaliteit aan te tonen en meerwaarde uit te werken conform onderstaande open vragen.
A3: Open vraag 1 Beschrijving implementatie en samenwerking
A4: Zie bijlage 7.
A5: Open vraag 2 Teamsamenstelling
A6: Zie bijlage 7.
A7: Open vraag 3 Gebruik nieuwe technieken
A8: Zie bijlage 7.
A9: Score:
A10: Uitmuntend
A11: Goed
A12: Voldoende
... A14: Onvoldoende

Sheet Casussen
A1: CASUS 1 en CASUS 2
A2: Om de kwaliteit en toegevoegde waarde van de inschrijver(s) te kunnen beoordelen dient inschrijver haar kwaliteit aan te tonen en meerwaarde uit te werken conform casus 1 en casus 2.
A3: CASUS 1: DOELGROEP DOOR DE STUDENT JOURNEY HEEN LOODSEN
A4: 1. Beschrijf welke behoefte de doelgroep per fase heeft en welke boodschap per fase afgevuurd moet worden.
A5: Zie bijlage 7.
A6: 2. Breng een advies uit over de in te zetten kanalen per fase: wat is de ultieme mix van kanalen/middelen?
A7: Zie bijlage 7.
A8: 3. Beschrijf hoe we kunnen inspelen op trends en ontwikkelingen bij het consumeren van content bij deze jonge doelgroep.
A9: Zie bijlage 7.
A10: 4. Beschrijf hoe je het budget verdeeld. Maak een onderscheid in media-inkoop (verdeeld over de verschillende fases en kanalen), creatie* en bureaukosten.
A11: Zie bijlage 7.
A12: 5. Schrijf een advies over een passende doelstelling per fase en leg uit waar je per fase op stuurt. Dit om dit zorgen dat iedere fase bijdraagt aan het behalen van het uiteindelijke doel (5% meer aanmeldingen voor het nieuwe schooljaar t.o.v. vorig schooljaar).
... A34: Onvoldoende

Sheet Beoordelaar 1
A1: Beoordelaar 1: <<>> | C1: Inschrijver 1 | F1: Inschrijver 2 | I1: Inschrijver 3
A2: Vraag | C2: Score: | F2: Score: | I2: Score:
A3: ='Beoordelen open vragen'!A3 -> Open vraag 1 Beschrijving implementatie en samenwerking | C3: Score: | F3: Score: | I3: Score:
A4: ='Beoordelen open vragen'!A4:A4 -> Zie bijlage 7. | C4: <MOTIVATIE> | F4: <MOTIVATIE> | I4: <MOTIVATIE>
A5: ='Beoordelen open vragen'!A5 -> Open vraag 2 Teamsamenstelling | C5: Score: | F5: Score: | I5: Score:
A6: ='Beoordelen open vragen'!A6:A6 -> Zie bijlage 7. | C6: <MOTIVATIE> | F6: <MOTIVATIE> | I6: <MOTIVATIE>
A7: ='Beoordelen open vragen'!A7 -> Open vraag 3 Gebruik nieuwe technieken | C7: Score: | F7: Score: | I7: Score:
A8: ='Beoordelen open vragen'!A8 -> Zie bijlage 7. | C8: <MOTIVATIE> | F8: <MOTIVATIE> | I8: <MOTIVATIE>
A9: =Casussen!A3 -> CASUS 1: DOELGROEP DOOR DE STUDENT JOURNEY HEEN LOODSEN | C9: Score: | F9: Score: | I9: Score:
A10: =Casussen!A4 -> 1. Beschrijf welke behoefte de doelgroep per fase heeft en welke boodschap per fase afgevuurd moet worden. | C10: Score: | F10: Score: | I10: Score:
A11: =Casussen!A5 -> Zie bijlage 7. | C11: <MOTIVATIE> | F11: <MOTIVATIE> | I11: <MOTIVATIE>
A12: =Casussen!A6 -> 2. Breng een advies uit over de in te zetten kanalen per fase: wat is de ultieme mix van kanalen/middelen? | C12: Score: | F12: Score: | I12: Score:
A13: =Casussen!A7 -> Zie bijlage 7. | C13: <MOTIVATIE> | F13: <MOTIVATIE> | I13: <MOTIVATIE>
A14: =Casussen!A8 -> 3. Beschrijf hoe we kunnen inspelen op trends en ontwikkelingen bij het consumeren van content bij deze jonge doelgroep. | C14: Score: | F14: Score: | I14: Score:
A15: =Casussen!A9 -> Zie bijlage 7. | C15: <MOTIVATIE> | F15: <MOTIVATIE> | I15: <MOTIVATIE>
A16: =Casussen!A10 -> 4. Beschrijf hoe je het budget verdeeld. Maak een onderscheid in media-inkoop (verdeeld over de verschillende fases en kanalen), creatie* en bureaukosten. | C16: Score: | F16: Score: | I16: Score:
A17: =Casussen!A11 -> Zie bijlage 7. | C17: <MOTIVATIE> | F17: <MOTIVATIE> | I17: <MOTIVATIE>
A18: =Casussen!A12 -> 5. Schrijf een advies over een passende doelstelling per fase en leg uit waar je per fase op stuurt. Dit om dit zorgen dat iedere fase bijdraagt aan het behalen van het uiteindelijke doel (5% meer aanmeldingen voor het nieuwe schooljaar t.o.v. vorig schooljaar). | C18: Score: | F18: Score: | I18: Score:
A19: =Casussen!A13 -> Zie bijlage 7. | C19: <MOTIVATIE> | F19: <MOTIVATIE> | I19: <MOTIVATIE>
A20: =Casussen!A14 -> 6. Beschrijf hoe je campagnes doormeet. | C20: Score: | F20: Score: | I20: Score:
... A34: =Casussen!A28 -> Zie bijlage 7. | C34: <MOTIVATIE> | F34: <MOTIVATIE> | I34: <MOTIVATIE>

Sheet Beoordelaar 2
A1: Beoordelaar 2: <<>> | C1: ='Beoordelaar 1'!C1 -> Inschrijver 1 | F1: ='Beoordelaar 1'!F1 -> Inschrijver 2 | I1: ='Beoordelaar 1'!I1 -> Inschrijver 3
A2: Vraag | C2: Score: | F2: Score: | I2: Score:
A3: ='Beoordelen open vragen'!A3 -> Open vraag 1 Beschrijving implementatie en samenwerking | C3: Score: | F3: Score: | I3: Score:
A4: ='Beoordelen open vragen'!A4:A4 -> Zie bijlage 7. | C4: <MOTIVATIE> | F4: <MOTIVATIE> | I4: <MOTIVATIE>
A5: ='Beoordelen open vragen'!A5 -> Open vraag 2 Teamsamenstelling | C5: Score: | F5: Score: | I5: Score:
A6: ='Beoordelen open vragen'!A6:A6 -> Zie bijlage 7. | C6: <MOTIVATIE> | F6: <MOTIVATIE> | I6: <MOTIVATIE>
A7: ='Beoordelen open vragen'!A7 -> Open vraag 3 Gebruik nieuwe technieken | C7: Score: | F7: Score: | I7: Score:
A8: ='Beoordelen open vragen'!A8 -> Zie bijlage 7. | C8: <MOTIVATIE> | F8: <MOTIVATIE> | I8: <MOTIVATIE>
A9: =Casussen!A3 -> CASUS 1: DOELGROEP DOOR DE STUDENT JOURNEY HEEN LOODSEN | C9: Score: | F9: Score: | I9: Score:
A10: =Casussen!A4 -> 1. Beschrijf welke behoefte de doelgroep per fase heeft en welke boodschap per fase afgevuurd moet worden. | C10: Score: | F10: Score: | I10: Score:
A11: =Casussen!A5 -> Zie bijlage 7. | C11: <MOTIVATIE> | F11: <MOTIVATIE> | I11: <MOTIVATIE>
A12: =Casussen!A6 -> 2. Breng een advies uit over de in te zetten kanalen per fase: wat is de ultieme mix van kanalen/middelen? | C12: Score: | F12: Score: | I12: Score:
A13: =Casussen!A7 -> Zie bijlage 7. | C13: <MOTIVATIE> | F13: <MOTIVATIE> | I13: <MOTIVATIE>
A14: =Casussen!A8 -> 3. Beschrijf hoe we kunnen inspelen op trends en ontwikkelingen bij het consumeren van content bij deze jonge doelgroep. | C14: Score: | F14: Score: | I14: Score:
A15: =Casussen!A9 -> Zie bijlage 7. | C15: <MOTIVATIE> | F15: <MOTIVATIE> | I15: <MOTIVATIE>
A16: =Casussen!A10 -> 4. Beschrijf hoe je het budget verdeeld. Maak een onderscheid in media-inkoop (verdeeld over de verschillende fases en kanalen), creatie* en bureaukosten. | C16: Score: | F16: Score: | I16: Score:
A17: =Casussen!A11 -> Zie bijlage 7. | C17: <MOTIVATIE> | F17: <MOTIVATIE> | I17: <MOTIVATIE>
A18: =Casussen!A12 -> 5. Schrijf een advies over een passende doelstelling per fase en leg uit waar je per fase op stuurt. Dit om dit zorgen dat iedere fase bijdraagt aan het behalen van het uiteindelijke doel (5% meer aanmeldingen voor het nieuwe schooljaar t.o.v. vorig schooljaar). | C18: Score: | F18: Score: | I18: Score:
A19: =Casussen!A13 -> Zie bijlage 7. | C19: <MOTIVATIE> | F19: <MOTIVATIE> | I19: <MOTIVATIE>
A20: =Casussen!A14 -> 6. Beschrijf hoe je campagnes doormeet. | C20: Score: | F20: Score: | I20: Score:
... A34: =Casussen!A28 -> Zie bijlage 7. | C34: <MOTIVATIE> | F34: <MOTIVATIE> | I34: <MOTIVATIE>

Sheet Beoordelaar 3
A1: Beoordelaar 3: <<>> | C1: ='Beoordelaar 1'!C1 -> Inschrijver 1 | F1: ='Beoordelaar 1'!F1 -> Inschrijver 2 | I1: ='Beoordelaar 1'!I1 -> Inschrijver 3
A2: Vraag | C2: Score: | F2: Score: | I2: Score:
A3: ='Beoordelen open vragen'!A3 -> Open vraag 1 Beschrijving implementatie en samenwerking | C3: Score: | F3: Score: | I3: Score:
A4: ='Beoordelen open vragen'!A4:A4 -> Zie bijlage 7. | C4: <MOTIVATIE> | F4: <MOTIVATIE> | I4: <MOTIVATIE>
A5: ='Beoordelen open vragen'!A5 -> Open vraag 2 Teamsamenstelling | C5: Score: | F5: Score: | I5: Score:
A6: ='Beoordelen open vragen'!A6:A6 -> Zie bijlage 7. | C6: <MOTIVATIE> | F6: <MOTIVATIE> | I6: <MOTIVATIE>
A7: ='Beoordelen open vragen'!A7 -> Open vraag 3 Gebruik nieuwe technieken | C7: Score: | F7: Score: | I7: Score:
A8: ='Beoordelen open vragen'!A8 -> Zie bijlage 7. | C8: <MOTIVATIE> | F8: <MOTIVATIE> | I8: <MOTIVATIE>
A9: =Casussen!A3 -> CASUS 1: DOELGROEP DOOR DE STUDENT JOURNEY HEEN LOODSEN | C9: Score: | F9: Score: | I9: Score:
A10: =Casussen!A4 -> 1. Beschrijf welke behoefte de doelgroep per fase heeft en welke boodschap per fase afgevuurd moet worden. | C10: Score: | F10: Score: | I10: Score:
A11: =Casussen!A5 -> Zie bijlage 7. | C11: <MOTIVATIE> | F11: <MOTIVATIE> | I11: <MOTIVATIE>
A12: =Casussen!A6 -> 2. Breng een advies uit over de in te zetten kanalen per fase: wat is de ultieme mix van kanalen/middelen? | C12: Score: | F12: Score: | I12: Score:
A13: =Casussen!A7 -> Zie bijlage 7. | C13: <MOTIVATIE> | F13: <MOTIVATIE> | I13: <MOTIVATIE>
A14: =Casussen!A8 -> 3. Beschrijf hoe we kunnen inspelen op trends en ontwikkelingen bij het consumeren van content bij deze jonge doelgroep. | C14: Score: | F14: Score: | I14: Score:
A15: =Casussen!A9 -> Zie bijlage 7. | C15: <MOTIVATIE> | F15: <MOTIVATIE> | I15: <MOTIVATIE>
A16: =Casussen!A10 -> 4. Beschrijf hoe je het budget verdeeld. Maak een onderscheid in media-inkoop (verdeeld over de verschillende fases en kanalen), creatie* en bureaukosten. | C16: Score: | F16: Score: | I16: Score:
A17: =Casussen!A11 -> Zie bijlage 7. | C17: <MOTIVATIE> | F17: <MOTIVATIE> | I17: <MOTIVATIE>
A18: =Casussen!A12 -> 5. Schrijf een advies over een passende doelstelling per fase en leg uit waar je per fase op stuurt. Dit om dit zorgen dat iedere fase bijdraagt aan het behalen van het uiteindelijke doel (5% meer aanmeldingen voor het nieuwe schooljaar t.o.v. vorig schooljaar). | C18: Score: | F18: Score: | I18: Score:
A19: =Casussen!A13 -> Zie bijlage 7. | C19: <MOTIVATIE> | F19: <MOTIVATIE> | I19: <MOTIVATIE>
A20: =Casussen!A14 -> 6. Beschrijf hoe je campagnes doormeet. | C20: Score: | F20: Score: | I20: Score:
... A34: =Casussen!A28 -> Zie bijlage 7. | C34: <MOTIVATIE> | F34: <MOTIVATIE> | I34: <MOTIVATIE>

Sheet Consensus
A1: ='Beoordelen open vragen'!A1 -> Beoordeling criterium 1 Open vragen
A2: Vraag | D2: ='Beoordelaar 1'!C1 -> Inschrijver 1 | G2: ='Beoordelaar 1'!F1 -> Inschrijver 2 | J2: ='Beoordelaar 1'!I1 -> Inschrijver 3
A3: ='Beoordelen open vragen'!A3 -> Open vraag 1 Beschrijving implementatie en samenwerking | B3: Beoordelaar 1 | D3: ='Beoordelaar 1'!C3 -> Score: | E3: <Motivatie> | G3: ='Beoordelaar 1'!F3 -> Score: | H3: <Motivatie> | J3: ='Beoordelaar 1'!I3 -> Score: | K3: <Motivatie>
B4: Beoordelaar 2 | D4: ='Beoordelaar 2'!C3 -> Score: | G4: ='Beoordelaar 2'!F3 -> Score: | J4: ='Beoordelaar 2'!I3 -> Score:
B5: Beoordelaar 3 | D5: ='Beoordelaar 3'!C3 -> Score: | G5: ='Beoordelaar 3'!F3 -> Score: | J5: ='Beoordelaar 3'!I3 -> Score:
A6: Consensus: | D6: Score: | G6: Score: | J6: Score:
B7: Behaalde waarde: | D7: =IF(D6="Onvoldoende","KNOCK OUT",IF(D6="Matig","-€ 30.000",IF(D6="Voldoende","€ 0",IF(D6="Goed","€ 7.650",IF(D6="Uitmuntend","€ 9.000"," "))))) | G7: =IF(G6="Onvoldoende","KNOCK OUT",IF(G6="Matig","-€ 30.000",IF(G6="Voldoende","€ 0",IF(G6="Goed","€ 7.650",IF(G6="Uitmuntend","€ 9.000"," "))))) | J7: =IF(J6="Onvoldoende","KNOCK OUT",IF(J6="Matig","-€ 30.000",IF(J6="Voldoende","€ 0",IF(J6="Goed","€ 7.650",IF(J6="Uitmuntend","€ 9.000"," ")))))
A8: ='Beoordelen open vragen'!A5 -> Open vraag 2 Teamsamenstelling | B8: =$B$3 -> Beoordelaar 1 | D8: ='Beoordelaar 1'!C5 -> Score: | E8: <Motivatie> | G8: ='Beoordelaar 1'!F5 -> Score: | H8: <Motivatie> | J8: ='Beoordelaar 1'!I5 -> Score: | K8: <Motivatie>
B9: =$B$4 -> Beoordelaar 2 | D9: ='Beoordelaar 2'!C5 -> Score: | G9: ='Beoordelaar 2'!F5 -> Score: | J9: ='Beoordelaar 2'!I5 -> Score:
B10: =$B$5 -> Beoordelaar 3 | D10: ='Beoordelaar 3'!C5 -> Score: | G10: ='Beoordelaar 3'!F5 -> Score: | J10: ='Beoordelaar 3'!I5 -> Score:
A11: Consensus: | D11: Score: | G11: Score: | J11: Score:
B12: Behaalde waarde: | D12: =IF(D11="Onvoldoende","KNOCK OUT",IF(D11="Matig","-€ 20.000",IF(D11="Voldoende","€ 0",IF(D11="Goed","€ 7.650",IF(D11="Uitmuntend","€ 9.000"," "))))) | G12: =IF(G11="Onvoldoende","KNOCK OUT",IF(G11="Matig","-€ 20.000",IF(G11="Voldoende","€ 0",IF(G11="Goed","€ 7.650",IF(G11="Uitmuntend","€ 9.000"," "))))) | J12: =IF(J11="Onvoldoende","KNOCK OUT",IF(J11="Matig","-€ 20.000",IF(J11="Voldoende","€ 0",IF(J11="Goed","€ 7.650",IF(J11="Uitmuntend","€ 9.000"," ")))))
A13: ='Beoordelen open vragen'!A7 -> Open vraag 3 Gebruik nieuwe technieken | B13: =$B$3 -> Beoordelaar 1 | D13: ='Beoordelaar 1'!C7 -> Score: | E13: <Motivatie> | G13: ='Beoordelaar 1'!F7 -> Score: | H13: <Motivatie> | J13: ='Beoordelaar 1'!I7 -> Score: | K13: <Motivatie>
B14: =$B$4 -> Beoordelaar 2 | D14: ='Beoordelaar 2'!C7 -> Score: | G14: ='Beoordelaar 2'!F7 -> Score: | J14: ='Beoordelaar 2'!I7 -> Score:
B15: =$B$5 -> Beoordelaar 3 | D15: ='Beoordelaar 3'!C7 -> Score: | G15: ='Beoordelaar 3'!F7 -> Score: | J15: ='Beoordelaar 3'!I7 -> Score:
A16: Consensus: | D16: Score: | G16: Score: | J16: Score:
B17: Behaalde waarde: | D17: =IF(D16="Onvoldoende","KNOCK OUT",IF(D16="Matig","-€ 15.000",IF(D16="Voldoende","€ 0",IF(D16="Goed","€ 3.825",IF(D16="Uitmuntend","€ 4.500"," "))))) | G17: =IF(G16="Onvoldoende","KNOCK OUT",IF(G16="Matig","-€ 15.000",IF(G16="Voldoende","€ 0",IF(G16="Goed","€ 3.825",IF(G16="Uitmuntend","€ 4.500"," "))))) | J17: =IF(J16="Onvoldoende","KNOCK OUT",IF(J16="Matig","-€ 15.000",IF(J16="Voldoende","€ 0",IF(J16="Goed","€ 3.825",IF(J16="Uitmuntend","€ 4.500"," ")))))
A18: =Casussen!A3 -> CASUS 1: DOELGROEP DOOR DE STUDENT JOURNEY HEEN LOODSEN | D18: ='Beoordelaar 1'!C1 -> Inschrijver 1 | G18: ='Beoordelaar 1'!F1 -> Inschrijver 2 | J18: ='Beoordelaar 1'!I1 -> Inschrijver 3
A19: =Casussen!A4 -> 1. Beschrijf welke behoefte de doelgroep per fase heeft en welke boodschap per fase afgevuurd moet worden. | B19: Beoordelaar 1 | D19: ='Beoordelaar 1'!C10 -> Score: | E19: <Motivatie> | G19: ='Beoordelaar 1'!F10 -> Score: | H19: <Motivatie> | J19: ='Beoordelaar 1'!I10 -> Score: | K19: <Motivatie>
B20: Beoordelaar 2 | D20: ='Beoordelaar 2'!C10 -> Score: | G20: ='Beoordelaar 2'!F10 -> Score: | J20: ='Beoordelaar 2'!I10 -> Score:
B21: Beoordelaar 3 | D21: ='Beoordelaar 3'!C10 -> Score: | G21: ='Beoordelaar 3'!F10 -> Score: | J21: ='Beoordelaar 3'!I10 -> Score:
A22: Consensus: | D22: Score: | G22: Score: | J22: Score:
B23: Behaalde waarde: | D23: =IF(D22="Onvoldoende","KNOCK OUT",IF(D22="Matig","-€ 23.437,50",IF(D22="Voldoende","€ 0",IF(D22="Goed","€ 3.984,38",IF(D22="Uitmuntend","€ 4.687,50"," "))))) | G23: =IF(G22="Onvoldoende","KNOCK OUT",IF(G22="Matig","-€ 23.437,50",IF(G22="Voldoende","€ 0",IF(G22="Goed","€ 3.984,38",IF(G22="Uitmuntend","€ 4.687,50"," "))))) | J23: =IF(J22="Onvoldoende","KNOCK OUT",IF(J22="Matig","-€ 23.437,50",IF(J22="Voldoende","€ 0",IF(J22="Goed","€ 3.984,38",IF(J22="Uitmuntend","€ 4.687,50"," ")))))
A24: =Casussen!A6 -> 2. Breng een advies uit over de in te zetten kanalen per fase: wat is de ultieme mix van kanalen/middelen? | B24: =$B$3 -> Beoordelaar 1 | D24: ='Beoordelaar 1'!C12 -> Score: | E24: <Motivatie> | G24: ='Beoordelaar 1'!F12 -> Score: | H24: <Motivatie> | J24: ='Beoordelaar 1'!I12 -> Score: | K24: <Motivatie>
B25: =$B$4 -> Beoordelaar 2 | D25: ='Beoordelaar 2'!C12 -> Score: | G25: ='Beoordelaar 2'!F12 -> Score: | J25: ='Beoordelaar 2'!I12 -> Score:
B26: =$B$5 -> Beoordelaar 3 | D26: ='Beoordelaar 3'!C12 -> Score: | G26: ='Beoordelaar 3'!F12 -> Score: | J26: ='Beoordelaar 3'!I12 -> Score:
A27: Consensus: | D27: Score: | G27: Score: | J27: Score:
B28: Behaalde waarde: | D28: =IF(D27="Onvoldoende","KNOCK OUT",IF(D27="Matig","-€ 23.437,50",IF(D27="Voldoende","€ 0",IF(D27="Goed","€ 3.984,38",IF(D27="Uitmuntend","€ 4.687,50"," "))))) | G28: =IF(G27="Onvoldoende","KNOCK OUT",IF(G27="Matig","-€ 23.437,50",IF(G27="Voldoende","€ 0",IF(G27="Goed","€ 3.984,38",IF(G27="Uitmuntend","€ 4.687,50"," "))))) | J28: =IF(J27="Onvoldoende","KNOCK OUT",IF(J27="Matig","-€ 23.437,50",IF(J27="Voldoende","€ 0",IF(J27="Goed","€ 3.984,38",IF(J27="Uitmuntend","€ 4.687,50"," ")))))
A29: =Casussen!A8 -> 3. Beschrijf hoe we kunnen inspelen op trends en ontwikkelingen bij het consumeren van content bij deze jonge doelgroep. | B29: =$B$3 -> Beoordelaar 1 | D29: ='Beoordelaar 1'!C14 -> Score: | E29: <Motivatie> | G29: ='Beoordelaar 1'!F14 -> Score: | H29: <Motivatie> | J29: ='Beoordelaar 1'!I14 -> Score: | K29: <Motivatie>
B30: =$B$4 -> Beoordelaar 2 | D30: ='Beoordelaar 2'!C14 -> Score: | G30: ='Beoordelaar 2'!F14 -> Score: | J30: ='Beoordelaar 2'!I14 -> Score:
B31: =$B$5 -> Beoordelaar 3 | D31: ='Beoordelaar 3'!C14 -> Score: | G31: ='Beoordelaar 3'!F14 -> Score: | J31: ='Beoordelaar 3'!I14 -> Score:
A32: Consensus: | D32: Score: | G32: Score: | J32: Score:
B33: Behaalde waarde: | D33: =IF(D32="Onvoldoende","KNOCK OUT",IF(D32="Matig","-€ 14.062,50",IF(D32="Voldoende","€ 0",IF(D32="Goed","€ 3.984,38",IF(D32="Uitmuntend","€ 4.687,50"," "))))) | G33: =IF(G32="Onvoldoende","KNOCK OUT",IF(G32="Matig","-€ 14.062,50",IF(G32="Voldoende","€ 0",IF(G32="Goed","€ 3.984,38",IF(G32="Uitmuntend","€ 4.687,50"," "))))) | J33: =IF(J32="Onvoldoende","KNOCK OUT",IF(J32="Matig","-€ 14.062,50",IF(J32="Voldoende","€ 0",IF(J32="Goed","€ 3.984,38",IF(J32="Uitmuntend","€ 4.687,50"," ")))))
A34: =Casussen!A10 -> 4. Beschrijf hoe je het budget verdeeld. Maak een onderscheid in media-inkoop (verdeeld over de verschillende fases en kanalen), creatie* en bureaukosten. | B34: Beoordelaar 1 | D34: ='Beoordelaar 1'!C16 -> Score: | E34: <Motivatie> | G34: ='Beoordelaar 1'!F16 -> Score: | H34: <Motivatie> | J34: ='Beoordelaar 1'!I16 -> Score: | K34: <Motivatie>
B35: Beoordelaar 2 | D35: ='Beoordelaar 2'!C16 -> Score: | G35: ='Beoordelaar 2'!F16 -> Score: | J35: ='Beoordelaar 2'!I16 -> Score:
B36: Beoordelaar 3 | D36: ='Beoordelaar 3'!C16 -> Score: | G36: ='Beoordelaar 3'!F16 -> Score: | J36: ='Beoordelaar 3'!I16 -> Score:
A37: Consensus: | D37: Score: | G37: Score: | J37: Score:
B38: Behaalde waarde: | D38: =IF(D37="Onvoldoende","KNOCK OUT",IF(D37="Matig","-€ 23.437,50",IF(D37="Voldoende","€ 0",IF(D37="Goed","€ 3.984,38",IF(D37="Uitmuntend","€ 4.687,50"," "))))) | G38: =IF(G37="Onvoldoende","KNOCK OUT",IF(G37="Matig","-€ 23.437,50",IF(G37="Voldoende","€ 0",IF(G37="Goed","€ 3.984,38",IF(G37="Uitmuntend","€ 4.687,50"," "))))) | J38: =IF(J37="Onvoldoende","KNOCK OUT",IF(J37="Matig","-€ 23.437,50",IF(J37="Voldoende","€ 0",IF(J37="Goed","€ 3.984,38",IF(J37="Uitmuntend","€ 4.687,50"," ")))))
A39: =Casussen!A12 -> 5. Schrijf een advies over een passende doelstelling per fase en leg uit waar je per fase op stuurt. Dit om dit zorgen dat iedere fase bijdraagt aan het behalen van het uiteindelijke doel (5% meer aanmeldingen voor het nieuwe schooljaar t.o.v. vorig schooljaar). | B39: =$B$3 -> Beoordelaar 1 | D39: ='Beoordelaar 1'!C18 -> Score: | E39: <Motivatie> | G39: ='Beoordelaar 1'!F18 -> Score: | H39: <Motivatie> | J39: ='Beoordelaar 1'!I18 -> Score: | K39: <Motivatie>
B40: =$B$4 -> Beoordelaar 2 | D40: ='Beoordelaar 2'!C18 -> Score: | G40: ='Beoordelaar 2'!F18 -> Score: | J40: ='Beoordelaar 2'!I18 -> Score:
...

Sheet Eindscores
A1: Totaalwaarde criterium kwaliteit
A2: Onderdeel | C2: ='[1]Beoordelaar 1'!C1:D1 -> Inschrijver 1 | E2: ='[1]Beoordelaar 1'!F1 -> Inschrijver 2 | G2: ='[1]Beoordelaar 1'!I1 -> Inschrijver 3
A3: Totaal behaalde waarde criterium kwaliteit: | C3: =Consensus!D80 -> #VALUE! | E3: =Consensus!G80 -> #VALUE! | G3: =Consensus!J80 -> #VALUE!
A5: Totaal behaalde waarde criterium prijs: | C5: 0 | E5: 0 | G5: 0
A7: FICTIEVE EINDWAARDE (prijs -/- kwaliteit): | C7: =C5-C3 -> #VALUE! | E7: =E5-E3 -> #VALUE! | G7: =G5-G3 -> #VALUE!
