Workbook
Name cad: 'Bestand dd 1 januari 2023'!$AA$105
Name Eurokoers: 'General Info'!$C$11
Name ign: 'General Info'!$C$5
Name igo: 'General Info'!$C$6
Name iin: 'General Info'!$C$7
Name iio: 'General Info'!$C$8
Name index: 'Bestand dd 1 januari 2023'!$X$105
Name premieGM: 'General Info'!$C$20
Name premieOW: 'General Info'!$C$21

Sheet General Info
A3: Indexcijfers:
A4: Omschrijving: | B4: Code | C4: Indexcijfer:
A5: Gebouwen TG Nieuw: | B5: ign | C5: 124
A6: Gebouwen TG Oud: | B6: igo | C6: 124
A7: Inventaris TB Nieuw: | B7: iin | C7: 122
A8: Inventaris TB Oud: | B8: iio | C8: 122
A11: Eurokoers | C11: 2.20371
A13: Premietarieven:
A14: Omschrijving: | B14: Code | C14: Tarief in %o:
A18: Jaarpremie per 01-01-2023
A20: premie gem.bezit | D20: incl. 2,5% duurzaamheid
A21: premie onderwijs | D21: incl. 2,5% duurzaamheid

Sheet Polisblad
A1: Specificatie Polisblad d.d. 1 januari 2023
A2: behorende bij Polis no.B0100074183
A3: De Gemeente Hulst
B6: Omschrijving: | D6: Index: | F6: Bedrag in EUR:
D8: TG | E8: TB
A9: 1 | B9: Gemeentelijk Bezit | C9: Gebouwen | D9: =ign -> 124 | F9: ='Bestand dd 1 januari 2023'!K71 -> 79850000
C10: Inventaris: | E10: =iin -> 122 | F10: ='Bestand dd 1 januari 2023'!L71 -> 9850000
A11: 2 | B11: Onderwijs | C11: Gebouwen | D11: =ign -> 124 | F11: ='Bestand dd 1 januari 2023'!K102 -> 95127000
C12: Inventaris: | E12: =iin -> 122 | F12: ='Bestand dd 1 januari 2023'!L102 -> 20554000
B14: Totaal: | F14: =SUM(F9:F13) -> 205381000
B17: Bestand per 01-01-2023 | F17: ='Bestand dd 1 januari 2023'!U105 -> 179929000
B18: Mutaties 2023 | F18: =cad -> 400000
B19: Stand per 31-12-2023 | F19: =SUM(F17:F18) -> 180329000
B20: Indexering per 01-01-2024: | F20: =index -> -400000
B21: Bestand per 01-01-2024 | F21: =SUM(F19:F20) -> 179929000 | H21: =F18+F20 -> 0
B26: Te verrekenen:
B27: termijn 1 januari 2022 tot 1 januari 2023
B29: Jaarpremie per 01-01-2022 | F29: =ROUND(F14*0.5455/1000,2) -> 112035.34

Sheet Bestand dd 1 januari 2023
A1: Specificatie d.d. 1 januari 2023
A2: behorende bij Polis No. B0100074183, Polis ten name van:
A3: De Gemeente Hulst
K5: Stand 1 januari 2023 (na indexering): | P5: Stand 31 december 2023 (hier mutaties invoeren) | S5: Stand per 01-01-2023: | V5: Indexaanpassing 2023: | Y5: Mutaties CAD 2023/2024 | AB5: Risico Informatie:
B6: Adres: | F6: Gebruik: | G6: Functienummer | H6: Gebouwen getaxeerd d.d. | I6: Inventaris getaxeerd d.d. | J6: Taxatierapport nummer | K6: Gebouwen | L6: Inventaris: | M6: Totaal Verz. | N6: Premie in | P6: Gebouwen | Q6: Inventaris: | R6: Totaal | S6: Gebouwen | T6: Inventaris | U6: Totaal | V6: Index | W6: Index | X6: Totaal | AA6: Totaal | AB6: Inbraakmeld- installatie met doormelding ja/nee | AC6: Brandmeld- installatie met doormelding ja/nee | AD6: Sprinkler- installatie met doormelding ja/nee | AE6: Leegstaand ja/nee | AF6: Indien leegstaand: vorm van toezicht aanwezig (bijv. Anti-kraak) ja/nee | AG6: Zonnepanelen ja/nee | AH6: Asbest in gebouw ja/nee | AI6: Omheind met hekwerken ja/nee
B7: Straat: | C7: no. | D7: Plaats: | E7: Postcode | K7: in EUR: | L7: in EUR: | M7: waarde in EUR: | N7: EUR: | P7: in EUR: | Q7: in EUR: | R7: in EUR: | S7: in EUR: | T7: in EUR: | U7: in EUR: | V7: Gebouwen | W7: Inventaris: | X7: Index: | Y7: Gebouwen | Z7: Inventaris: | AA7: CAD:
A9: Gemeentelijk Bezit:
B10: Grote Markt | C10: 21 | D10: Hulst | E10: 4561 EA | F10: Gemeentehuis (Stichting de Fontein), incl. zonnepanelen | G10: 5.010.00.01 | H10: 41802 | I10: 41802 | J10: 1 | K10: =ROUNDUP(P10*ign/igo,-3) -> 16264000 | L10: =ROUNDUP(Q10*iin/iio,-3) -> 1425000 | M10: =SUM(K10:L10) -> 17689000 | N10: =M10*0.5455/1000 -> 9649.3495 | P10: 16264000 | Q10: 1425000 | R10: =SUM(P10:Q10) -> 17689000 | S10: 16264000 | T10: 1425000 | U10: 15708000 | V10: =K10-P10 -> 0 | W10: =L10-Q10 -> 0 | X10: =V10+W10 -> 0 | Y10: =P10-S10 -> 0 | Z10: =Q10-T10 -> 0 | AA10: =SUM(Y10:Z10) -> 0
B11: Hof te Zandeplein | C11: 8-8a | D11: Kloosterzande | E11: 4587 CK | F11: Maakt onderdeel uit van nieuwbouwproject, wordt niet gebruikt en zal binnen enkele jaren worden gesloopt t.g.v. nieuwbouw. | K11: =ROUNDUP(P11*ign/igo,-3) -> 405000 | L11: =ROUNDUP(Q11*iin/iio,-3) -> 0 | M11: =SUM(K11:L11) -> 405000 | N11: =M11*0.5455/1000 -> 220.9275 | P11: 405000 | Q11: 0 | R11: =SUM(P11:Q11) -> 405000 | S11: 405000 | T11: 0 | U11: 0 | V11: =K11-P11 -> 0 | W11: =L11-Q11 -> 0 | X11: =V11+W11 -> 0 | Y11: =P11-S11 -> 0 | Z11: =Q11-T11 -> 0 | AA11: =SUM(Y11:Z11) -> 0
B12: Zandstraat | C12: 7 | D12: Hulst | E12: 4561 | F12: Wijkpost plantoenendienst | G12: 5.300.00.01 | H12: 41806 | I12: 41806 | J12: 3 | K12: =ROUNDUP(P12*ign/igo,-3) -> 74000 | L12: =ROUNDUP(Q12*iin/iio,-3) -> 38000 | M12: =SUM(K12:L12) -> 112000 | N12: =M12*0.5455/1000 -> 61.096 | P12: 74000 | Q12: 38000 | R12: =SUM(P12:Q12) -> 112000 | S12: 74000 | T12: 38000 | U12: 97000 | V12: =K12-P12 -> 0 | W12: =L12-Q12 -> 0 | X12: =V12+W12 -> 0 | Y12: =P12-S12 -> 0 | Z12: =Q12-T12 -> 0 | AA12: =SUM(Y12:Z12) -> 0
B13: Sportlaan | D13: Hulst | E13: 4561 KZ | F13: Vm. Berging KV | G13: 5.300.00.01 | H13: 41806 | J13: 4 | K13: =ROUNDUP(P13*ign/igo,-3) -> 89000 | L13: =ROUNDUP(Q13*iin/iio,-3) -> 0 | M13: =SUM(K13:L13) -> 89000 | N13: =M13*0.5455/1000 -> 48.5495 | P13: 89000 | Q13: 0 | R13: =SUM(P13:Q13) -> 89000 | S13: 89000 | T13: 0 | U13: 79000 | V13: =K13-P13 -> 0 | W13: =L13-Q13 -> 0 | X13: =V13+W13 -> 0 | Y13: =P13-S13 -> 0 | Z13: =Q13-T13 -> 0 | AA13: =SUM(Y13:Z13) -> 0
B14: Wilgenstraat | D14: Vogelwaarde | E14: 4581 AM | F14: Berging technische dienst | G14: 5.300.00.01 | H14: 41968 | J14: 5 | K14: =ROUNDUP(P14*ign/igo,-3) -> 702000 | L14: =ROUNDUP(Q14*iin/iio,-3) -> 20000 | M14: =SUM(K14:L14) -> 722000 | N14: =M14*0.5455/1000 -> 393.851 | P14: 702000 | Q14: 20000 | R14: =SUM(P14:Q14) -> 722000 | S14: 702000 | T14: 20000 | U14: 642000 | V14: =K14-P14 -> 0 | W14: =L14-Q14 -> 0 | X14: =V14+W14 -> 0 | Y14: =P14-S14 -> 0 | Z14: =Q14-T14 -> 0 | AA14: =SUM(Y14:Z14) -> 0
B15: Hof te Zandeplein | C15: 4-6 | D15: Kloosterzande | E15: 4587 CK | F15: Brandweerkazerne + werkplaats (werkplaats staatleeg/brandweerkazerne wordt nog gebruikt) | G15: 6.120.00.04 | H15: 41805 | I15: 41805 | J15: 6 | K15: =ROUNDUP(P15*ign/igo,-3) -> 535000 | L15: 0 | M15: =SUM(K15:L15) -> 535000 | N15: =M15*0.5455/1000 -> 291.8425 | P15: 535000 | Q15: 0 | R15: =SUM(P15:Q15) -> 535000 | S15: 535000 | T15: 0 | U15: 476000 | V15: =K15-P15 -> 0 | W15: =L15-Q15 -> 0 | X15: =V15+W15 -> 0 | Y15: =P15-S15 -> 0 | Z15: =Q15-T15 -> 0 | AA15: =SUM(Y15:Z15) -> 0
B16: Bossestraat/Wilgenstraat | C16: 30 | D16: Vogelwaarde | E16: 4581 BE | F16: Brandweer en gemeentewerkplaats | G16: 6.120.00.04 | H16: 41875 | I16: 41875 | J16: 8 | K16: =ROUNDUP(P16*ign/igo,-3) -> 1279000 | L16: =ROUNDUP(Q16*iin/iio,-3) -> 52000 | M16: =SUM(K16:L16) -> 1331000 | N16: =M16*0.5455/1000 -> 726.0605 | P16: 1279000 | Q16: 52000 | R16: =SUM(P16:Q16) -> 1331000 | S16: 1279000 | T16: 52000 | U16: 1182000 | V16: =K16-P16 -> 0 | W16: =L16-Q16 -> 0 | X16: =V16+W16 -> 0 | Y16: =P16-S16 -> 0 | Z16: =Q16-T16 -> 0 | AA16: =SUM(Y16:Z16) -> 0
B17: Emmastraat | C17: 19 | D17: Kloosterzande | F17: Zwembad de Honte | G17: 6.530.01.02 | H17: 41807 | I17: 41807 | J17: 10 | K17: =ROUNDUP(P17*ign/igo,-3) -> 1545000 | L17: =ROUNDUP(Q17*iin/iio,-3) -> 389000 | M17: =SUM(K17:L17) -> 1934000 | N17: =M17*0.5455/1000 -> 1054.997 | P17: 1545000 | Q17: 389000 | R17: =SUM(P17:Q17) -> 1934000 | S17: 1545000 | T17: 389000 | U17: 1710000 | V17: =K17-P17 -> 0 | W17: =L17-Q17 -> 0 | X17: =V17+W17 -> 0 | Y17: =P17-S17 -> 0 | Z17: =Q17-T17 -> 0 | AA17: =SUM(Y17:Z17) -> 0
B18: Steenstraat | C18: 37 | D18: Hulst | E18: 4561 AR | F18: vm s Landshuis/nieuwe museum | G18: 6.540.00.50 | H18: 44748 | I18: 06-07-2022 | J18: 12 | K18: =ROUNDUP(P18*ign/igo,-3) -> 6627000 | L18: =ROUNDUP(Q18*iin/iio,-3) -> 673000 | M18: =SUM(K18:L18) -> 7300000 | N18: =M18*0.5455/1000 -> 3982.15 | P18: 6627000 | Q18: 673000 | R18: =SUM(P18:Q18) -> 7300000 | S18: 6627000 | T18: 673000 | U18: 5639000 | V18: =K18-P18 -> 0 | W18: =L18-Q18 -> 0 | X18: =V18+W18 -> 0 | Y18: =P18-S18 -> 0 | Z18: =Q18-T18 -> 0 | AA18: =SUM(Y18:Z18) -> 0
B19: Carillon | D19: Hulst | F19: Carillon toren basiliek | G19: 6.541.01.10 | I19: 41787 | J19: 14 | K19: =ROUNDUP(P19*ign/igo,-3) -> 0 | L19: =ROUNDUP(Q19*iin/iio,-3) -> 434000 | M19: =SUM(K19:L19) -> 434000 | N19: =M19*0.5455/1000 -> 236.747 | P19: 0 | Q19: 434000 | R19: =SUM(P19:Q19) -> 434000 | S19: 0 | T19: 434000 | U19: 374000 | V19: =K19-P19 -> 0 | W19: =L19-Q19 -> 0 | X19: =V19+W19 -> 0 | Y19: =P19-S19 -> 0 | Z19: =Q19-T19 -> 0 | AA19: =SUM(Y19:Z19) -> 0
B20: Rapenburg | C20: 49 | D20: Vogelwaarde | E20: 4581 AB | F20: Kerktoren | G20: 6.541.01.11 | H20: 41968 | J20: 16 | K20: =ROUNDUP(P20*ign/igo,-3) -> 779000 | L20: =ROUNDUP(Q20*iin/iio,-3) -> 0 | M20: =SUM(K20:L20) -> 779000 | N20: =M20*0.5455/1000 -> 424.9445 | P20: 779000 | Q20: 0 | R20: =SUM(P20:Q20) -> 779000 | S20: 779000 | T20: 0 | U20: 693000 | V20: =K20-P20 -> 0 | W20: =L20-Q20 -> 0 | X20: =V20+W20 -> 0 | Y20: =P20-S20 -> 0 | Z20: =Q20-T20 -> 0 | AA20: =SUM(Y20:Z20) -> 0
B21: Molenbolwerk | C21: 1 | D21: Hulst | E21: 4561 BR | F21: Korenmolen | G21: 6.541.01.20 | H21: 41787 | J21: 18 | K21: =ROUNDUP(P21*ign/igo,-3) -> 2735000 | L21: =ROUNDUP(Q21*iin/iio,-3) -> 0 | M21: =SUM(K21:L21) -> 2735000 | N21: =M21*0.5455/1000 -> 1491.9425 | P21: 2735000 | Q21: 0 | R21: =SUM(P21:Q21) -> 2735000 | S21: 2735000 | T21: 0 | U21: 2435000 | V21: =K21-P21 -> 0 | W21: =L21-Q21 -> 0 | X21: =V21+W21 -> 0 | Y21: =P21-S21 -> 0 | Z21: =Q21-T21 -> 0 | AA21: =SUM(Y21:Z21) -> 0
B22: Groenendijk | C22: 2 | D22: Kloosterzande | E22: 4587 CV | F22: Molen | G22: 6.541.01.21 | H22: 41640 | J22: 19 | K22: =ROUNDUP(P22*ign/igo,-3) -> 1779000 | L22: =ROUNDUP(Q22*iin/iio,-3) -> 0 | M22: =SUM(K22:L22) -> 1779000 | N22: =M22*0.5455/1000 -> 970.4445 | P22: 1779000 | Q22: 0 | R22: =SUM(P22:Q22) -> 1779000 | S22: 1779000 | T22: 0 | U22: 1583000 | V22: =K22-P22 -> 0 | W22: =L22-Q22 -> 0 | X22: =V22+W22 -> 0 | Y22: =P22-S22 -> 0 | Z22: =Q22-T22 -> 0 | AA22: =SUM(Y22:Z22) -> 0
B23: Fred. Hendrikstraat | C23: 75B | D23: Kuitaart | E23: 4584 LL | F23: molen | H23: 41715 | K23: =ROUNDUP(P23*ign/igo,-3) -> 1499000 | L23: =ROUNDUP(Q23*iin/iio,-3) -> 0 | M23: =SUM(K23:L23) -> 1499000 | N23: =M23*0.5455/1000 -> 817.7045 | P23: 1499000 | Q23: 0 | R23: =SUM(P23:Q23) -> 1499000 | S23: 1499000 | T23: 0 | U23: 1334000 | V23: =K23-P23 -> 0 | W23: =L23-Q23 -> 0 | X23: =V23+W23 -> 0 | Y23: =P23-S23 -> 0 | Z23: =Q23-T23 -> 0 | AA23: =SUM(Y23:Z23) -> 0
B24: Fred. Hendrikstraat | C24: 75B | D24: Kuitaart | E24: 4584 LL | F24: maalderij | H24: 41715 | K24: =ROUNDUP(P24*ign/igo,-3) -> 154000 | L24: =ROUNDUP(Q24*iin/iio,-3) -> 0 | M24: =SUM(K24:L24) -> 154000 | N24: =M24*0.5455/1000 -> 84.007 | P24: 154000 | Q24: 0 | R24: =SUM(P24:Q24) -> 154000 | S24: 154000 | T24: 0 | U24: 137000 | V24: =K24-P24 -> 0 | W24: =L24-Q24 -> 0 | X24: =V24+W24 -> 0 | Y24: =P24-S24 -> 0 | Z24: =Q24-T24 -> 0 | AA24: =SUM(Y24:Z24) -> 0
B25: Emmastraat | C25: 23 | D25: Kloosterzande | E25: 4587 BL | F25: Hontenissehal met horeca | G25: 6.560.03.03 | H25: 41787 | I25: 41787 | J25: 20 | K25: =ROUNDUP(P25*ign/igo,-3) -> 4259000 | L25: =ROUNDUP(Q25*iin/iio,-3) -> 350000 | M25: =SUM(K25:L25) -> 4609000 | N25: =M25*0.5455/1000 -> 2514.2095 | P25: 4259000 | Q25: 350000 | R25: =SUM(P25:Q25) -> 4609000 | S25: 4259000 | T25: 350000 | U25: 4092000 | V25: =K25-P25 -> 0 | W25: =L25-Q25 -> 0 | X25: =V25+W25 -> 0 | Y25: =P25-S25 -> 0 | Z25: =Q25-T25 -> 0 | AA25: =SUM(Y25:Z25) -> 0
B26: Veerstoep | D26: Walsoorden | E26: 4588 | F26: Praathuisje | G26: 6.560.04.01 | H26: 41969 | J26: 21 | K26: =ROUNDUP(P26*ign/igo,-3) -> 27000 | L26: =ROUNDUP(Q26*iin/iio,-3) -> 0 | M26: =SUM(K26:L26) -> 27000 | N26: =M26*0.5455/1000 -> 14.7285 | P26: 27000 | Q26: 0 | R26: =SUM(P26:Q26) -> 27000 | S26: 27000 | T26: 0 | U26: 24000 | V26: =K26-P26 -> 0 | W26: =L26-Q26 -> 0 | X26: =V26+W26 -> 0 | Y26: =P26-S26 -> 0 | Z26: =Q26-T26 -> 0 | AA26: =SUM(Y26:Z26) -> 0
B27: Wilhelminastraat | C27: 43 | D27: St. Jansteen | E27: 4564 AD | F27: Verenigingsgebouw De Warande | G27: 6.630.00.21 | H27: 41968 | J27: 22 | K27: =ROUNDUP(P27*ign/igo,-3) -> 2431000 | L27: =ROUNDUP(Q27*iin/iio,-3) -> 0 | M27: =SUM(K27:L27) -> 2431000 | N27: =M27*0.5455/1000 -> 1326.1105 | P27: 2431000 | Q27: 0 | R27: =SUM(P27:Q27) -> 2431000 | S27: 2431000 | T27: 0 | U27: 2164000 | V27: =K27-P27 -> 0 | W27: =L27-Q27 -> 0 | X27: =V27+W27 -> 0 | Y27: =P27-S27 -> 0 | Z27: =Q27-T27 -> 0 | AA27: =SUM(Y27:Z27) -> 0
B28: Malpertuuslaan | C28: 6 | D28: Clinge | E28: 4567 BM | F28: Verenigingsgebouw Malpertuus | G28: 6.630.00.31 | H28: 41878 | I28: 41878 | J28: 23 | K28: =ROUNDUP(P28*ign/igo,-3) -> 3551000 | L28: =ROUNDUP(Q28*iin/iio,-3) -> 427000 | M28: =SUM(K28:L28) -> 3978000 | N28: =M28*0.5455/1000 -> 2169.999 | P28: 3551000 | Q28: 427000 | R28: =SUM(P28:Q28) -> 3978000 | S28: 3551000 | T28: 427000 | U28: 3529000 | V28: =K28-P28 -> 0 | W28: =L28-Q28 -> 0 | X28: =V28+W28 -> 0 | Y28: =P28-S28 -> 0 | Z28: =Q28-T28 -> 0 | AA28: =SUM(Y28:Z28) -> 0
B29: Hulsterloostraat | C29: 81 | D29: Nieuw Namen | E29: 4568 AB | F29: Verenigingsgebouw De Kauter | G29: 6.630.00.61 | H29: 41878 | I29: 41878 | J29: 24 | K29: =ROUNDUP(P29*ign/igo,-3) -> 2364000 | L29: =ROUNDUP(Q29*iin/iio,-3) -> 374000 | M29: =SUM(K29:L29) -> 2738000 | N29: =M29*0.5455/1000 -> 1493.579 | P29: 2364000 | Q29: 374000 | R29: =SUM(P29:Q29) -> 2738000 | S29: 2364000 | T29: 374000 | U29: 2426000 | V29: =K29-P29 -> 0 | W29: =L29-Q29 -> 0 | X29: =V29+W29 -> 0 | Y29: =P29-S29 -> 0 | Z29: =Q29-T29 -> 0 | AA29: =SUM(Y29:Z29) -> 0
B30: Dorpstraat | D30: Graauw | E30: 4569 | F30: Berging bij begraafplaats | G30: 6.724.00.02 | H30: 41968 | J30: 25 | K30: =ROUNDUP(P30*ign/igo,-3) -> 50000 | L30: =ROUNDUP(Q30*iin/iio,-3) -> 0 | M30: =SUM(K30:L30) -> 50000 | N30: =M30*0.5455/1000 -> 27.275 | P30: 50000 | Q30: 0 | R30: =SUM(P30:Q30) -> 50000 | S30: 50000 | T30: 0 | U30: 44000 | V30: =K30-P30 -> 0 | W30: =L30-Q30 -> 0 | X30: =V30+W30 -> 0 | Y30: =P30-S30 -> 0 | Z30: =Q30-T30 -> 0 | AA30: =SUM(Y30:Z30) -> 0
B31: Tragel | C31: 22 | D31: Hulst | F31: Woonwagen | G31: 6.822.04.02 | H31: 41806 | J31: 27 | K31: =ROUNDUP(P31*ign/igo,-3) -> 111000 | L31: =ROUNDUP(Q31*iin/iio,-3) -> 0 | M31: =SUM(K31:L31) -> 111000 | N31: =M31*0.5455/1000 -> 60.5505 | P31: 111000 | Q31: 0 | R31: =SUM(P31:Q31) -> 111000 | S31: 111000 | T31: 0 | U31: 98000 | V31: =K31-P31 -> 0 | W31: =L31-Q31 -> 0 | X31: =V31+W31 -> 0 | Y31: =P31-S31 -> 0 | Z31: =Q31-T31 -> 0 | AA31: =SUM(Y31:Z31) -> 0
B32: Tragel | D32: Hulst | F32: 10x sanitair + bergingen | G32: 6.822.04.02 | H32: 41797 | J32: 28 | K32: =ROUNDUP(P32*ign/igo,-3) -> 442000 | L32: =ROUNDUP(Q32*iin/iio,-3) -> 0 | M32: =SUM(K32:L32) -> 442000 | N32: =M32*0.5455/1000 -> 241.111 | P32: 442000 | Q32: 0 | R32: =SUM(P32:Q32) -> 442000 | S32: 442000 | T32: 0 | U32: 393000 | V32: =K32-P32 -> 0 | W32: =L32-Q32 -> 0 | X32: =V32+W32 -> 0 | Y32: =P32-S32 -> 0 | Z32: =Q32-T32 -> 0 | AA32: =SUM(Y32:Z32) -> 0
B33: Kamillestraat | D33: Hulst | F33: 10x sanitair + bergingen | G33: 6.822.04.03 | H33: 41797 | J33: 30 | K33: =ROUNDUP(P33*ign/igo,-3) -> 442000 | L33: =ROUNDUP(Q33*iin/iio,-3) -> 0 | M33: =SUM(K33:L33) -> 442000 | N33: =M33*0.5455/1000 -> 241.111 | P33: 442000 | Q33: 0 | R33: =SUM(P33:Q33) -> 442000 | S33: 442000 | T33: 0 | U33: 393000 | V33: =K33-P33 -> 0 | W33: =L33-Q33 -> 0 | X33: =V33+W33 -> 0 | Y33: =P33-S33 -> 0 | Z33: =Q33-T33 -> 0 | AA33: =SUM(Y33:Z33) -> 0
B34: Kamillestraat | C34: 11 | D34: Hulst | F34: Woonwagen | G34: 6.822.04.03 | H34: 41797 | J34: 31 | K34: =ROUNDUP(P34*ign/igo,-3) -> 97000 | L34: =ROUNDUP(Q34*iin/iio,-3) -> 0 | M34: =SUM(K34:L34) -> 97000 | N34: =M34*0.5455/1000 -> 52.9135 | P34: 97000 | Q34: 0 | R34: =SUM(P34:Q34) -> 97000 | S34: 97000 | T34: 0 | U34: 86000 | V34: =K34-P34 -> 0 | W34: =L34-Q34 -> 0 | X34: =V34+W34 -> 0 | Y34: =P34-S34 -> 0 | Z34: =Q34-T34 -> 0 | AA34: =SUM(Y34:Z34) -> 0
B35: Kamillestraat | C35: 7 | D35: Hulst | F35: Woonwagen | G35: 6.822.04.03 | H35: 41797 | J35: 32 | K35: =ROUNDUP(P35*ign/igo,-3) -> 102000 | L35: =ROUNDUP(Q35*iin/iio,-3) -> 0 | M35: =SUM(K35:L35) -> 102000 | N35: =M35*0.5455/1000 -> 55.641 | P35: 102000 | Q35: 0 | R35: =SUM(P35:Q35) -> 102000 | S35: 102000 | T35: 0 | U35: 90000 | V35: =K35-P35 -> 0 | W35: =L35-Q35 -> 0 | X35: =V35+W35 -> 0 | Y35: =P35-S35 -> 0 | Z35: =Q35-T35 -> 0 | AA35: =SUM(Y35:Z35) -> 0
B36: Kamillestraat | C36: 9 | D36: Hulst | F36: Woonwagen | G36: 6.822.04.03 | H36: 41797 | J36: 33 | K36: =ROUNDUP(P36*ign/igo,-3) -> 75000 | L36: =ROUNDUP(Q36*iin/iio,-3) -> 0 | M36: =SUM(K36:L36) -> 75000 | N36: =M36*0.5455/1000 -> 40.9125 | P36: 75000 | Q36: 0 | R36: =SUM(P36:Q36) -> 75000 | S36: 75000 | T36: 0 | U36: 66000 | V36: =K36-P36 -> 0 | W36: =L36-Q36 -> 0 | X36: =V36+W36 -> 0 | Y36: =P36-S36 -> 0 | Z36: =Q36-T36 -> 0 | AA36: =SUM(Y36:Z36) -> 0
B37: Woestijneplein | C37: 12D | D37: Hulst | F37: Woonwagen | H37: 41797 | J37: 35 | K37: =ROUNDUP(P37*ign/igo,-3) -> 111000 | L37: =ROUNDUP(Q37*iin/iio,-3) -> 0 | M37: =SUM(K37:L37) -> 111000 | N37: =M37*0.5455/1000 -> 60.5505 | P37: 111000 | Q37: 0 | R37: =SUM(P37:Q37) -> 111000 | S37: 111000 | T37: 0 | U37: 98000 | V37: =K37-P37 -> 0 | W37: =L37-Q37 -> 0 | X37: =V37+W37 -> 0 | Y37: =P37-S37 -> 0 | Z37: =Q37-T37 -> 0 | AA37: =SUM(Y37:Z37) -> 0
B38: Woestijneplein | D38: Hulst | F38: 8x sanitair + bergingen | G38: 6.822.04.04 | H38: 41797 | J38: 36 | K38: =ROUNDUP(P38*ign/igo,-3) -> 352000 | L38: =ROUNDUP(Q38*iin/iio,-3) -> 0 | M38: =SUM(K38:L38) -> 352000 | N38: =M38*0.5455/1000 -> 192.016 | P38: 352000 | Q38: 0 | R38: =SUM(P38:Q38) -> 352000 | S38: 352000 | T38: 0 | U38: 313000 | V38: =K38-P38 -> 0 | W38: =L38-Q38 -> 0 | X38: =V38+W38 -> 0 | Y38: =P38-S38 -> 0 | Z38: =Q38-T38 -> 0 | AA38: =SUM(Y38:Z38) -> 0
B39: Woestijneplein | C39: 2 | D39: Hulst | F39: woonwagen | H39: 41797 | J39: 37 | K39: =ROUNDUP(P39*ign/igo,-3) -> 104000 | L39: =ROUNDUP(Q39*iin/iio,-3) -> 0 | M39: =SUM(K39:L39) -> 104000 | N39: =M39*0.5455/1000 -> 56.732 | P39: 104000 | Q39: 0 | R39: =SUM(P39:Q39) -> 104000 | S39: 104000 | T39: 0 | U39: 92000 | V39: =K39-P39 -> 0 | W39: =L39-Q39 -> 0 | X39: =V39+W39 -> 0 | Y39: =P39-S39 -> 0 | Z39: =Q39-T39 -> 0 | AA39: =SUM(Y39:Z39) -> 0
B40: James Cookstraat | C40: 8 | D40: Hulst | F40: Woonwagen | G40: 6.822.04.05 | H40: 41797 | J40: 40 | K40: =ROUNDUP(P40*ign/igo,-3) -> 111000 | L40: =ROUNDUP(Q40*iin/iio,-3) -> 0 | M40: =SUM(K40:L40) -> 111000 | N40: =M40*0.5455/1000 -> 60.5505 | P40: 111000 | Q40: 0 | R40: =SUM(P40:Q40) -> 111000 | S40: 111000 | T40: 0 | U40: 98000 | V40: =K40-P40 -> 0 | W40: =L40-Q40 -> 0 | X40: =V40+W40 -> 0 | Y40: =P40-S40 -> 0 | Z40: =Q40-T40 -> 0 | AA40: =SUM(Y40:Z40) -> 0
B41: James Cookstraat | D41: Hulst | F41: 15x sanitair + bergingen | G41: 6.822.04.05 | H41: 41968 | J41: 41 | K41: =ROUNDUP(P41*ign/igo,-3) -> 656000 | L41: =ROUNDUP(Q41*iin/iio,-3) -> 0 | M41: =SUM(K41:L41) -> 656000 | N41: =M41*0.5455/1000 -> 357.848 | P41: 656000 | Q41: 0 | R41: =SUM(P41:Q41) -> 656000 | S41: 656000 | T41: 0 | U41: 584000 | V41: =K41-P41 -> 0 | W41: =L41-Q41 -> 0 | X41: =V41+W41 -> 0 | Y41: =P41-S41 -> 0 | Z41: =Q41-T41 -> 0 | AA41: =SUM(Y41:Z41) -> 0
B42: Lepelstraat | C42: 2 | D42: Kloosterzande | F42: Bergingen | G42: 6.822.04.06 | H42: 41797 | J42: 42 | K42: =ROUNDUP(P42*ign/igo,-3) -> 67000 | L42: =ROUNDUP(Q42*iin/iio,-3) -> 0 | M42: =SUM(K42:L42) -> 67000 | N42: =M42*0.5455/1000 -> 36.5485 | P42: 67000 | Q42: 0 | R42: =SUM(P42:Q42) -> 67000 | S42: 67000 | T42: 0 | U42: 59000 | V42: =K42-P42 -> 0 | W42: =L42-Q42 -> 0 | X42: =V42+W42 -> 0 | Y42: =P42-S42 -> 0 | Z42: =Q42-T42 -> 0 | AA42: =SUM(Y42:Z42) -> 0
...
