Workbook
Name cad: 'Bestand dd 1 januari 2023'!$AA$105
Name Eurokoers: 'General Info'!$C$11
Name ign: 'General Info'!$C$5
Name igo: 'General Info'!$C$6
Name iin: 'General Info'!$C$7
Name iio: 'General Info'!$C$8
Name index: 'Bestand dd 1 januari 2023'!$X$105
Name premieGM: 'General Info'!$C$20
Name premieOW: 'General Info'!$C$21

Sheet General Info
A3: Indexcijfers:
A4: Omschrijving: | B4: Code | C4: Indexcijfer:
A5: Gebouwen TG Nieuw: | B5: ign | C5: 124
A6: Gebouwen TG Oud: | B6: igo | C6: 124
A7: Inventaris TB Nieuw: | B7: iin | C7: 122
A8: Inventaris TB Oud: | B8: iio | C8: 122
A11: Eurokoers | C11: 2.20371
A13: Premietarieven:
A14: Omschrijving: | B14: Code | C14: Tarief in %o:
A18: Jaarpremie per 01-01-2023
A20: premie gem.bezit | D20: incl. 2,5% duurzaamheid
A21: premie onderwijs | D21: incl. 2,5% duurzaamheid

Sheet Polisblad
A1: Specificatie Polisblad d.d. 1 januari 2023
A2: behorende bij Polis no.B0100074183
A3: De Gemeente Hulst
B6: Omschrijving: | D6: Index: | F6: Bedrag in EUR:
D8: TG | E8: TB
A9: 1 | B9: Gemeentelijk Bezit | C9: Gebouwen | D9: =ign -> 124 | F9: ='Bestand dd 1 januari 2023'!K71 -> 79850000
C10: Inventaris: | E10: =iin -> 122 | F10: ='Bestand dd 1 januari 2023'!L71 -> 9850000
A11: 2 | B11: Onderwijs | C11: Gebouwen | D11: =ign -> 124 | F11: ='Bestand dd 1 januari 2023'!K102 -> 95127000
C12: Inventaris: | E12: =iin -> 122 | F12: ='Bestand dd 1 januari 2023'!L102 -> 20554000
B14: Totaal: | F14: =SUM(F9:F13) -> 205381000
B17: Bestand per 01-01-2023 | F17: ='Bestand dd 1 januari 2023'!U105 -> 179929000
B18: Mutaties 2023 | F18: =cad -> 400000
B19: Stand per 31-12-2023 | F19: =SUM(F17:F18) -> 180329000
B20: Indexering per 01-01-2024: | F20: =index -> -400000
B21: Bestand per 01-01-2024 | F21: =SUM(F19:F20) -> 179929000 | H21: =F18+F20 -> 0
B26: Te verrekenen:
B27: termijn 1 januari 2022 tot 1 januari 2023
B29: Jaarpremie per 01-01-2022 | F29: =ROUND(F14*0.5455/1000,2) -> 112035.34

Sheet Bestand dd 1 januari 2023
A1: Specificatie d.d. 1 januari 2023
A2: behorende bij Polis No. B0100074183, Polis ten name van:
A3: De Gemeente Hulst
K5: Stand 1 januari 2023 (na indexering): | P5: Stand 31 december 2023 (hier mutaties invoeren) | S5: Stand per 01-01-2023: | V5: Indexaanpassing 2023: | Y5: Mutaties CAD 2023/2024 | AB5: Risico Informatie:
B6: Adres: | F6: Gebruik: | G6: Functienummer | H6: Gebouwen getaxeerd d.d. | I6: Inventaris getaxeerd d.d. | J6: Taxatierapport nummer | K6: Gebouwen | L6: Inventaris: | M6: Totaal Verz. | N6: Premie in | P6: Gebouwen | Q6: Inventaris: | R6: Totaal | S6: Gebouwen | T6: Inventaris | U6: Totaal | V6: Index | W6: Index | X6: Totaal | AA6: Totaal | AB6: Inbraakmeld- installatie met doormelding ja/nee | AC6: Brandmeld- installatie met doormelding ja/nee | AD6: Sprinkler- installatie met doormelding ja/nee | AE6: Leegstaand ja/nee | AF6: Indien leegstaand: vorm van toezicht aanwezig (bijv. Anti-kraak) ja/nee | AG6: Zonnepanelen ja/nee | AH6: Asbest in gebouw ja/nee | AI6: Omheind met hekwerken ja/nee
B7: Straat: | C7: no. | D7: Plaats: | E7: Postcode | K7: in EUR: | L7: in EUR: | M7: waarde in EUR: | N7: EUR: | P7: in EUR: | Q7: in EUR: | R7: in EUR: | S7: in EUR: | T7: in EUR: | U7: in EUR: | V7: Gebouwen | W7: Inventaris: | X7: Index: | Y7: Gebouwen | Z7: Inventaris: | AA7: CAD:
A9: Gemeentelijk Bezit:
B10: Grote Markt | C10: 21 | D10: Hulst | E10: 4561 EA | F10: Gemeentehuis (Stichting de Fontein), incl. zonnepanelen | G10: 5.010.00.01 | H10: 41802 | I10: 41802 | J10: 1 | K10: =ROUNDUP(P10*ign/igo,-3) -> 16264000 | L10: =ROUNDUP(Q10*iin/iio,-3) -> 1425000 | M10: =SUM(K10:L10) -> 17689000 | N10: =M10*0.5455/1000 -> 9649.3495 | P10: 16264000 | Q10: 1425000 | R10: =SUM(P10:Q10) -> 17689000 | S10: 16264000 | T10: 1425000 | U10: 15708000 | V10: =K10-P10 -> 0 | W10: =L10-Q10 -> 0 | X10: =V10+W10 -> 0 | Y10: =P10-S10 -> 0 | Z10: =Q10-T10 -> 0 | AA10: =SUM(Y10:Z10) -> 0
B11: Hof te Zandeplein | C11: 8-8a | D11: Kloosterzande | E11: 4587 CK | F11: Maakt onderdeel uit van nieuwbouwproject, wordt niet gebruikt en zal binnen enkele jaren worden gesloopt t.g.v. nieuwbouw. | K11: =ROUNDUP(P11*ign/igo,-3) -> 405000 | L11: =ROUNDUP(Q11*iin/iio,-3) -> 0 | M11: =SUM(K11:L11) -> 405000 | N11: =M11*0.5455/1000 -> 220.9275 | P11: 405000 | Q11: 0 | R11: =SUM(P11:Q11) -> 405000 | S11: 405000 | T11: 0 | U11: 0 | V11: =K11-P11 -> 0 | W11: =L11-Q11 -> 0 | X11: =V11+W11 -> 0 | Y11: =P11-S11 -> 0 | Z11: =Q11-T11 -> 0 | AA11: =SUM(Y11:Z11) -> 0
B12: Zandstraat | C12: 7 | D12: Hulst | E12: 4561 | F12: Wijkpost plantoenendienst | G12: 5.300.00.01 | H12: 41806 | I12: 41806 | J12: 3 | K12: =ROUNDUP(P12*ign/igo,-3) -> 74000 | L12: =ROUNDUP(Q12*iin/iio,-3) -> 38000 | M12: =SUM(K12:L12) -> 112000 | N12: =M12*0.5455/1000 -> 61.096 | P12: 74000 | Q12: 38000 | R12: =SUM(P12:Q12) -> 112000 | S12: 74000 | T12: 38000 | U12: 97000 | V12: =K12-P12 -> 0 | W12: =L12-Q12 -> 0 | X12: =V12+W12 -> 0 | Y12: =P12-S12 -> 0 | Z12: =Q12-T12 -> 0 | AA12: =SUM(Y12:Z12) -> 0
B13: Sportlaan | D13: Hulst | E13: 4561 KZ | F13: Vm. Berging KV | G13: 5.300.00.01 | H13: 41806 | J13: 4 | K13: =ROUNDUP(P13*ign/igo,-3) -> 89000 | L13: =ROUNDUP(Q13*iin/iio,-3) -> 0 | M13: =SUM(K13:L13) -> 89000 | N13: =M13*0.5455/1000 -> 48.5495 | P13: 89000 | Q13: 0 | R13: =SUM(P13:Q13) -> 89000 | S13: 89000 | T13: 0 | U13: 79000 | V13: =K13-P13 -> 0 | W13: =L13-Q13 -> 0 | X13: =V13+W13 -> 0 | Y13: =P13-S13 -> 0 | Z13: =Q13-T13 -> 0 | AA13: =SUM(Y13:Z13) -> 0
B14: Wilgenstraat | D14: Vogelwaarde | E14: 4581 AM | F14: Berging technische dienst | G14: 5.300.00.01 | H14: 41968 | J14: 5 | K14: =ROUNDUP(P14*ign/igo,-3) -> 702000 | L14: =ROUNDUP(Q14*iin/iio,-3) -> 20000 | M14: =SUM(K14:L14) -> 722000 | N14: =M14*0.5455/1000 -> 393.851 | P14: 702000 | Q14: 20000 | R14: =SUM(P14:Q14) -> 722000 | S14: 702000 | T14: 20000 | U14: 642000 | V14: =K14-P14 -> 0 | W14: =L14-Q14 -> 0 | X14: =V14+W14 -> 0 | Y14: =P14-S14 -> 0 | Z14: =Q14-T14 -> 0 | AA14: =SUM(Y14:Z14) -> 0
B15: Hof te Zandeplein | C15: 4-6 | D15: Kloosterzande | E15: 4587 CK | F15: Brandweerkazerne + werkplaats (werkplaats staatleeg/brandweerkazerne wordt nog gebruikt) | G15: 6.120.00.04 | H15: 41805 | I15: 41805 | J15: 6 | K15: =ROUNDUP(P15*ign/igo,-3) -> 535000 | L15: 0 | M15: =SUM(K15:L15) -> 535000 | N15: =M15*0.5455/1000 -> 291.8425 | P15: 535000 | Q15: 0 | R15: =SUM(P15:Q15) -> 535000 | S15: 535000 | T15: 0 | U15: 476000 | V15: =K15-P15 -> 0 | W15: =L15-Q15 -> 0 | X15: =V15+W15 -> 0 | Y15: =P15-S15 -> 0 | Z15: =Q15-T15 -> 0 | AA15: =SUM(Y15:Z15) -> 0
B16: Bossestraat/Wilgenstraat | C16: 30 | D16: Vogelwaarde | E16: 4581 BE | F16: Brandweer en gemeentewerkplaats | G16: 6.120.00.04 | H16: 41875 | I16: 41875 | J16: 8 | K16: =ROUNDUP(P16*ign/igo,-3) -> 1279000 | L16: =ROUNDUP(Q16*iin/iio,-3) -> 52000 | M16: =SUM(K16:L16) -> 1331000 | N16: =M16*0.5455/1000 -> 726.0605 | P16: 1279000 | Q16: 52000 | R16: =SUM(P16:Q16) -> 1331000 | S16: 1279000 | T16: 52000 | U16: 1182000 | V16: =K16-P16 -> 0 | W16: =L16-Q16 -> 0 | X16: =V16+W16 -> 0 | Y16: =P16-S16 -> 0 | Z16: =Q16-T16 -> 0 | AA16: =SUM(Y16:Z16) -> 0
B17: Emmastraat | C17: 19 | D17: Kloosterzande | F17: Zwembad de Honte | G17: 6.530.01.02 | H17: 41807 | I17: 41807 | J17: 10 | K17: =ROUNDUP(P17*ign/igo,-3) -> 1545000 | L17: =ROUNDUP(Q17*iin/iio,-3) -> 389000 | M17: =SUM(K17:L17) -> 1934000 | N17: =M17*0.5455/1000 -> 1054.997 | P17: 1545000 | Q17: 389000 | R17: =SUM(P17:Q17) -> 1934000 | S17: 1545000 | T17: 389000 | U17: 1710000 | V17: =K17-P17 -> 0 | W17: =L17-Q17 -> 0 | X17: =V17+W17 -> 0 | Y17: =P17-S17 -> 0 | Z17: =Q17-T17 -> 0 | AA17: =SUM(Y17:Z17) -> 0
B18: Steenstraat | C18: 37 | D18: Hulst | E18: 4561 AR | F18: vm s Landshuis/nieuwe museum | G18: 6.540.00.50 | H18: 44748 | I18: 06-07-2022 | J18: 12 | K18: =ROUNDUP(P18*ign/igo,-3) -> 6627000 | L18: =ROUNDUP(Q18*iin/iio,-3) -> 673000 | M18: =SUM(K18:L18) -> 7300000 | N18: =M18*0.5455/1000 -> 3982.15 | P18: 6627000 | Q18: 673000 | R18: =SUM(P18:Q18) -> 7300000 | S18: 6627000 | T18: 673000 | U18: 5639000 | V18: =K18-P18 -> 0 | W18: =L18-Q18 -> 0 | X18: =V18+W18 -> 0 | Y18: =P18-S18 -> 0 | Z18: =Q18-T18 -> 0 | AA18: =SUM(Y18:Z18) -> 0
B19: Carillon | D19: Hulst | F19: Carillon toren basiliek | G19: 6.541.01.10 | I19: 41787 | J19: 14 | K19: =ROUNDUP(P19*ign/igo,-3) -> 0 | L19: =ROUNDUP(Q19*iin/iio,-3) -> 434000 | M19: =SUM(K19:L19) -> 434000 | N19: =M19*0.5455/1000 -> 236.747 | P19: 0 | Q19: 434000 | R19: =SUM(P19:Q19) -> 434000 | S19: 0 | T19: 434000 | U19: 374000 | V19: =K19-P19 -> 0 | W19: =L19-Q19 -> 0 | X19: =V19+W19 -> 0 | Y19: =P19-S19 -> 0 | Z19: =Q19-T19 -> 0 | AA19: =SUM(Y19:Z19) -> 0
B20: Rapenburg | C20: 49 | D20: Vogelwaarde | E20: 4581 AB | F20: Kerktoren | G20: 6.541.01.11 | H20: 41968 | J20: 16 | K20: =ROUNDUP(P20*ign/igo,-3) -> 779000 | L20: =ROUNDUP(Q20*iin/iio,-3) -> 0 | M20: =SUM(K20:L20) -> 779000 | N20: =M20*0.5455/1000 -> 424.9445 | P20: 779000 | Q20: 0 | R20: =SUM(P20:Q20) -> 779000 | S20: 779000 | T20: 0 | U20: 693000 | V20: =K20-P20 -> 0 | W20: =L20-Q20 -> 0 | X20: =V20+W20 -> 0 | Y20: =P20-S20 -> 0 | Z20: =Q20-T20 -> 0 | AA20: =SUM(Y20:Z20) -> 0
B21: Molenbolwerk | C21: 1 | D21: Hulst | E21: 4561 BR | F21: Korenmolen | G21: 6.541.01.20 | H21: 41787 | J21: 18 | K21: =ROUNDUP(P21*ign/igo,-3) -> 2735000 | L21: =ROUNDUP(Q21*iin/iio,-3) -> 0 | M21: =SUM(K21:L21) -> 2735000 | N21: =M21*0.5455/1000 -> 1491.9425 | P21: 2735000 | Q21: 0 | R21: =SUM(P21:Q21) -> 2735000 | S21: 2735000 | T21: 0 | U21: 2435000 | V21: =K21-P21 -> 0 | W21: =L21-Q21 -> 0 | X21: =V21+W21 -> 0 | Y21: =P21-S21 -> 0 | Z21: =Q21-T21 -> 0 | AA21: =SUM(Y21:Z21) -> 0
B22: Groenendijk | C22: 2 | D22: Kloosterzande | E22: 4587 CV | F22: Molen | G22: 6.541.01.21 | H22: 41640 | J22: 19 | K22: =ROUNDUP(P22*ign/igo,-3) -> 1779000 | L22: =ROUNDUP(Q22*iin/iio,-3) -> 0 | M22: =SUM(K22:L22) -> 1779000 | N22: =M22*0.5455/1000 -> 970.4445 | P22: 1779000 | Q22: 0 | R22: =SUM(P22:Q22) -> 1779000 | S22: 1779000 | T22: 0 | U22: 1583000 | V22: =K22-P22 -> 0 | W22: =L22-Q22 -> 0 | X22: =V22+W22 -> 0 | Y22: =P22-S22 -> 0 | Z22: =Q22-T22 -> 0 | AA22: =SUM(Y22:Z22) -> 0
B23: Fred. Hendrikstraat | C23: 75B | D23: Kuitaart | E23: 4584 LL | F23: molen | H23: 41715 | K23: =ROUNDUP(P23*ign/igo,-3) -> 1499000 | L23: =ROUNDUP(Q23*iin/iio,-3) -> 0 | M23: =SUM(K23:L23) -> 1499000 | N23: =M23*0.5455/1000 -> 817.7045 | P23: 1499000 | Q23: 0 | R23: =SUM(P23:Q23) -> 1499000 | S23: 1499000 | T23: 0 | U23: 1334000 | V23: =K23-P23 -> 0 | W23: =L23-Q23 -> 0 | X23: =V23+W23 -> 0 | Y23: =P23-S23 -> 0 | Z23: =Q23-T23 -> 0 | AA23: =SUM(Y23:Z23) -> 0
B24: Fred. Hendrikstraat | C24: 75B | D24: Kuitaart | E24: 4584 LL | F24: maalderij | H24: 41715 | K24: =ROUNDUP(P24*ign/igo,-3) -> 154000 | L24: =ROUNDUP(Q24*iin/iio,-3) -> 0 | M24: =SUM(K24:L24) -> 154000 | N24: =M24*0.5455/1000 -> 84.007 | P24: 154000 | Q24: 0 | R24: =SUM(P24:Q24) -> 154000 | S24: 154000 | T24: 0 | U24: 137000 | V24: =K24-P24 -> 0 | W24: =L24-Q24 -> 0 | X24: =V24+W24 -> 0 | Y24: =P24-S24 -> 0 | Z24: =Q24-T24 -> 0 | AA24: =SUM(Y24:Z24) -> 0
B25: Emmastraat | C25: 23 | D25: Kloosterzande | E25: 4587 BL | F25: Hontenissehal met horeca | G25: 6.560.03.03 | H25: 41787 | I25: 41787 | J25: 20 | K25: =ROUNDUP(P25*ign/igo,-3) -> 4259000 | L25: =ROUNDUP(Q25*iin/iio,-3) -> 350000 | M25: =SUM(K25:L25) -> 4609000 | N25: =M25*0.5455/1000 -> 2514.2095 | P25: 4259000 | Q25: 350000 | R25: =SUM(P25:Q25) -> 4609000 | S25: 4259000 | T25: 350000 | U25: 4092000 | V25: =K25-P25 -> 0 | W25: =L25-Q25 -> 0 | X25: =V25+W25 -> 0 | Y25: =P25-S25 -> 0 | Z25: =Q25-T25 -> 0 | AA25: =SUM(Y25:Z25) -> 0
B26: Veerstoep | D26: Walsoorden | E26: 4588 | F26: Praathuisje | G26: 6.560.04.01 | H26: 41969 | J26: 21 | K26: =ROUNDUP(P26*ign/igo,-3) -> 27000 | L26: =ROUNDUP(Q26*iin/iio,-3) -> 0 | M26: =SUM(K26:L26) -> 27000 | N26: =M26*0.5455/1000 -> 14.7285 | P26: 27000 | Q26: 0 | R26: =SUM(P26:Q26) -> 27000 | S26: 27000 | T26: 0 | U26: 24000 | V26: =K26-P26 -> 0 | W26: =L26-Q26 -> 0 | X26: =V26+W26 -> 0 | Y26: =P26-S26 -> 0 | Z26: =Q26-T26 -> 0 | AA26: =SUM(Y26:Z26) -> 0
B27: Wilhelminastraat | C27: 43 | D27: St. Jansteen | E27: 4564 AD | F27: Verenigingsgebouw De Warande | G27: 6.630.00.21 | H27: 41968 | J27: 22 | K27: =ROUNDUP(P27*ign/igo,-3) -> 2431000 | L27: =ROUNDUP(Q27*iin/iio,-3) -> 0 | M27: =SUM(K27:L27) -> 2431000 | N27: =M27*0.5455/1000 -> 1326.1105 | P27: 2431000 | Q27: 0 | R27: =SUM(P27:Q27) -> 2431000 | S27: 2431000 | T27: 0 | U27: 2164000 | V27: =K27-P27 -> 0 | W27: =L27-Q27 -> 0 | X27: =V27+W27 -> 0 | Y27: =P27-S27 -> 0 | Z27: =Q27-T27 -> 0 | AA27: =SUM(Y27:Z27) -> 0
B28: Malpertuuslaan | C28: 6 | D28: Clinge | E28: 4567 BM | F28: Verenigingsgebouw Malpertuus | G28: 6.630.00.31 | H28: 41878 | I28: 41878 | J28: 23 | K28: =ROUNDUP(P28*ign/igo,-3) -> 3551000 | L28: =ROUNDUP(Q28*iin/iio,-3) -> 427000 | M28: =SUM(K28:L28) -> 3978000 | N28: =M28*0.5455/1000 -> 2169.999 | P28: 3551000 | Q28: 427000 | R28: =SUM(P28:Q28) -> 3978000 | S28: 3551000 | T28: 427000 | U28: 3529000 | V28: =K28-P28 -> 0 | W28: =L28-Q28 -> 0 | X28: =V28+W28 -> 0 | Y28: =P28-S28 -> 0 | Z28: =Q28-T28 -> 0 | AA28: =SUM(Y28:Z28) -> 0
B29: Hulsterloostraat | C29: 81 | D29: Nieuw Namen | E29: 4568 AB | F29: Verenigingsgebouw De Kauter | G29: 6.630.00.61 | H29: 41878 | I29: 41878 | J29: 24 | K29: =ROUNDUP(P29*ign/igo,-3) -> 2364000 | L29: =ROUNDUP(Q29*iin/iio,-3) -> 374000 | M29: =SUM(K29:L29) -> 2738000 | N29: =M29*0.5455/1000 -> 1493.579 | P29: 2364000 | Q29: 374000 | R29: =SUM(P29:Q29) -> 2738000 | S29: 2364000 | T29: 374000 | U29: 2426000 | V29: =K29-P29 -> 0 | W29: =L29-Q29 -> 0 | X29: =V29+W29 -> 0 | Y29: =P29-S29 -> 0 | Z29: =Q29-T29 -> 0 | AA29: =SUM(Y29:Z29) -> 0
B30: Dorpstraat | D30: Graauw | E30: 4569 | F30: Berging bij begraafplaats | G30: 6.724.00.02 | H30: 41968 | J30: 25 | K30: =ROUNDUP(P30*ign/igo,-3) -> 50000 | L30: =ROUNDUP(Q30*iin/iio,-3) -> 0 | M30: =SUM(K30:L30) -> 50000 | N30: =M30*0.5455/1000 -> 27.275 | P30: 50000 | Q30: 0 | R30: =SUM(P30:Q30) -> 50000 | S30: 50000 | T30: 0 | U30: 44000 | V30: =K30-P30 -> 0 | W30: =L30-Q30 -> 0 | X30: =V30+W30 -> 0 | Y30: =P30-S30 -> 0 | Z30: =Q30-T30 -> 0 | AA30: =SUM(Y30:Z30) -> 0
B31: Tragel | C31: 22 | D31: Hulst | F31: Woonwagen | G31: 6.822.04.02 | H31: 41806 | J31: 27 | K31: =ROUNDUP(P31*ign/igo,-3) -> 111000 | L31: =ROUNDUP(Q31*iin/iio,-3) -> 0 | M31: =SUM(K31:L31) -> 111000 | N31: =M31*0.5455/1000 -> 60.5505 | P31: 111000 | Q31: 0 | R31: =SUM(P31:Q31) -> 111000 | S31: 111000 | T31: 0 | U31: 98000 | V31: =K31-P31 -> 0 | W31: =L31-Q31 -> 0 | X31: =V31+W31 -> 0 | Y31: =P31-S31 -> 0 | Z31: =Q31-T31 -> 0 | AA31: =SUM(Y31:Z31) -> 0
B32: Tragel | D32: Hulst | F32: 10x sanitair + bergingen | G32: 6.822.04.02 | H32: 41797 | J32: 28 | K32: =ROUNDUP(P32*ign/igo,-3) -> 442000 | L32: =ROUNDUP(Q32*iin/iio,-3) -> 0 | M32: =SUM(K32:L32) -> 442000 | N32: =M32*0.5455/1000 -> 241.111 | P32: 442000 | Q32: 0 | R32: =SUM(P32:Q32) -> 442000 | S32: 442000 | T32: 0 | U32: 393000 | V32: =K32-P32 -> 0 | W32: =L32-Q32 -> 0 | X32: =V32+W32 -> 0 | Y32: =P32-S32 -> 0 | Z32: =Q32-T32 -> 0 | AA32: =SUM(Y32:Z32) -> 0
B33: Kamillestraat | D33: Hulst | F33: 10x sanitair + bergingen | G33: 6.822.04.03 | H33: 41797 | J33: 30 | K33: =ROUNDUP(P33*ign/igo,-3) -> 442000 | L33: =ROUNDUP(Q33*iin/iio,-3) -> 0 | M33: =SUM(K33:L33) -> 442000 | N33: =M33*0.5455/1000 -> 241.111 | P33: 442000 | Q33: 0 | R33: =SUM(P33:Q33) -> 442000 | S33: 442000 | T33: 0 | U33: 393000 | V33: =K33-P33 -> 0 | W33: =L33-Q33 -> 0 | X33: =V33+W33 -> 0 | Y33: =P33-S33 -> 0 | Z33: =Q33-T33 -> 0 | AA33: =SUM(Y33:Z33) -> 0
B34: Kamillestraat | C34: 11 | D34: Hulst | F34: Woonwagen | G34: 6.822.04.03 | H34: 41797 | J34: 31 | K34: =ROUNDUP(P34*ign/igo,-3) -> 97000 | L34: =ROUNDUP(Q34*iin/iio,-3) -> 0 | M34: =SUM(K34:L34) -> 97000 | N34: =M34*0.5455/1000 -> 52.9135 | P34: 97000 | Q34: 0 | R34: =SUM(P34:Q34) -> 97000 | S34: 97000 | T34: 0 | U34: 86000 | V34: =K34-P34 -> 0 | W34: =L34-Q34 -> 0 | X34: =V34+W34 -> 0 | Y34: =P34-S34 -> 0 | Z34: =Q34-T34 -> 0 | AA34: =SUM(Y34:Z34) -> 0
B35: Kamillestraat | C35: 7 | D35: Hulst | F35: Woonwagen | G35: 6.822.04.03 | H35: 41797 | J35: 32 | K35: =ROUNDUP(P35*ign/igo,-3) -> 102000 | L35: =ROUNDUP(Q35*iin/iio,-3) -> 0 | M35: =SUM(K35:L35) -> 102000 | N35: =M35*0.5455/1000 -> 55.641 | P35: 102000 | Q35: 0 | R35: =SUM(P35:Q35) -> 102000 | S35: 102000 | T35: 0 | U35: 90000 | V35: =K35-P35 -> 0 | W35: =L35-Q35 -> 0 | X35: =V35+W35 -> 0 | Y35: =P35-S35 -> 0 | Z35: =Q35-T35 -> 0 | AA35: =SUM(Y35:Z35) -> 0
B36: Kamillestraat | C36: 9 | D36: Hulst | F36: Woonwagen | G36: 6.822.04.03 | H36: 41797 | J36: 33 | K36: =ROUNDUP(P36*ign/igo,-3) -> 75000 | L36: =ROUNDUP(Q36*iin/iio,-3) -> 0 | M36: =SUM(K36:L36) -> 75000 | N36: =M36*0.5455/1000 -> 40.9125 | P36: 75000 | Q36: 0 | R36: =SUM(P36:Q36) -> 75000 | S36: 75000 | T36: 0 | U36: 66000 | V36: =K36-P36 -> 0 | W36: =L36-Q36 -> 0 | X36: =V36+W36 -> 0 | Y36: =P36-S36 -> 0 | Z36: =Q36-T36 -> 0 | AA36: =SUM(Y36:Z36) -> 0
B37: Woestijneplein | C37: 12D | D37: Hulst | F37: Woonwagen | H37: 41797 | J37: 35 | K37: =ROUNDUP(P37*ign/igo,-3) -> 111000 | L37: =ROUNDUP(Q37*iin/iio,-3) -> 0 | M37: =SUM(K37:L37) -> 111000 | N37: =M37*0.5455/1000 -> 60.5505 | P37: 111000 | Q37: 0 | R37: =SUM(P37:Q37) -> 111000 | S37: 111000 | T37: 0 | U37: 98000 | V37: =K37-P37 -> 0 | W37: =L37-Q37 -> 0 | X37: =V37+W37 -> 0 | Y37: =P37-S37 -> 0 | Z37: =Q37-T37 -> 0 | AA37: =SUM(Y37:Z37) -> 0
B38: Woestijneplein | D38: Hulst | F38: 8x sanitair + bergingen | G38: 6.822.04.04 | H38: 41797 | J38: 36 | K38: =ROUNDUP(P38*ign/igo,-3) -> 352000 | L38: =ROUNDUP(Q38*iin/iio,-3) -> 0 | M38: =SUM(K38:L38) -> 352000 | N38: =M38*0.5455/1000 -> 192.016 | P38: 352000 | Q38: 0 | R38: =SUM(P38:Q38) -> 352000 | S38: 352000 | T38: 0 | U38: 313000 | V38: =K38-P38 -> 0 | W38: =L38-Q38 -> 0 | X38: =V38+W38 -> 0 | Y38: =P38-S38 -> 0 | Z38: =Q38-T38 -> 0 | AA38: =SUM(Y38:Z38) -> 0
B39: Woestijneplein | C39: 2 | D39: Hulst | F39: woonwagen | H39: 41797 | J39: 37 | K39: =ROUNDUP(P39*ign/igo,-3) -> 104000 | L39: =ROUNDUP(Q39*iin/iio,-3) -> 0 | M39: =SUM(K39:L39) -> 104000 | N39: =M39*0.5455/1000 -> 56.732 | P39: 104000 | Q39: 0 | R39: =SUM(P39:Q39) -> 104000 | S39: 104000 | T39: 0 | U39: 92000 | V39: =K39-P39 -> 0 | W39: =L39-Q39 -> 0 | X39: =V39+W39 -> 0 | Y39: =P39-S39 -> 0 | Z39: =Q39-T39 -> 0 | AA39: =SUM(Y39:Z39) -> 0
B40: James Cookstraat | C40: 8 | D40: Hulst | F40: Woonwagen | G40: 6.822.04.05 | H40: 41797 | J40: 40 | K40: =ROUNDUP(P40*ign/igo,-3) -> 111000 | L40: =ROUNDUP(Q40*iin/iio,-3) -> 0 | M40: =SUM(K40:L40) -> 111000 | N40: =M40*0.5455/1000 -> 60.5505 | P40: 111000 | Q40: 0 | R40: =SUM(P40:Q40) -> 111000 | S40: 111000 | T40: 0 | U40: 98000 | V40: =K40-P40 -> 0 | W40: =L40-Q40 -> 0 | X40: =V40+W40 -> 0 | Y40: =P40-S40 -> 0 | Z40: =Q40-T40 -> 0 | AA40: =SUM(Y40:Z40) -> 0
B41: James Cookstraat | D41: Hulst | F41: 15x sanitair + bergingen | G41: 6.822.04.05 | H41: 41968 | J41: 41 | K41: =ROUNDUP(P41*ign/igo,-3) -> 656000 | L41: =ROUNDUP(Q41*iin/iio,-3) -> 0 | M41: =SUM(K41:L41) -> 656000 | N41: =M41*0.5455/1000 -> 357.848 | P41: 656000 | Q41: 0 | R41: =SUM(P41:Q41) -> 656000 | S41: 656000 | T41: 0 | U41: 584000 | V41: =K41-P41 -> 0 | W41: =L41-Q41 -> 0 | X41: =V41+W41 -> 0 | Y41: =P41-S41 -> 0 | Z41: =Q41-T41 -> 0 | AA41: =SUM(Y41:Z41) -> 0
B42: Lepelstraat | C42: 2 | D42: Kloosterzande | F42: Bergingen | G42: 6.822.04.06 | H42: 41797 | J42: 42 | K42: =ROUNDUP(P42*ign/igo,-3) -> 67000 | L42: =ROUNDUP(Q42*iin/iio,-3) -> 0 | M42: =SUM(K42:L42) -> 67000 | N42: =M42*0.5455/1000 -> 36.5485 | P42: 67000 | Q42: 0 | R42: =SUM(P42:Q42) -> 67000 | S42: 67000 | T42: 0 | U42: 59000 | V42: =K42-P42 -> 0 | W42: =L42-Q42 -> 0 | X42: =V42+W42 -> 0 | Y42: =P42-S42 -> 0 | Z42: =Q42-T42 -> 0 | AA42: =SUM(Y42:Z42) -> 0
B43: Grote Markt | C43: 22 en 24 | D43: Hulst | E43: 4561 EA | F43: Gemeentewinkel | H43: 41786 | J43: 44 | K43: =ROUNDUP(P43*ign/igo,-3) -> 6152000 | L43: =ROUNDUP(Q43*iin/iio,-3) -> 1505000 | M43: =SUM(K43:L43) -> 7657000 | N43: =M43*0.5455/1000 -> 4176.8935 | P43: 6152000 | Q43: 1505000 | R43: =SUM(P43:Q43) -> 7657000 | S43: 6152000 | T43: 1505000 | U43: 6774000 | V43: =K43-P43 -> 0 | W43: =L43-Q43 -> 0 | X43: =V43+W43 -> 0 | Y43: =P43-S43 -> 0 | Z43: =Q43-T43 -> 0 | AA43: =SUM(Y43:Z43) -> 0
B44: Grote Markt | C44: 22 en 24 | D44: Hulst | E44: 4561EA | F44: zonnepanelen op gemeentewinkel | K44: =ROUNDUP(P44*ign/igo,-3) -> 61000 | L44: =ROUNDUP(Q44*iin/iio,-3) -> 0 | M44: =SUM(K44:L44) -> 61000 | N44: =M44*0.5455/1000 -> 33.2755 | P44: 61000 | Q44: 0 | R44: =SUM(P44:Q44) -> 61000 | S44: 61000 | T44: 0 | U44: 54000 | V44: =K44-P44 -> 0 | W44: =L44-Q44 -> 0 | X44: =V44+W44 -> 0 | Y44: =P44-S44 -> 0 | Z44: =Q44-T44 -> 0 | AA44: =SUM(Y44:Z44) -> 0
B45: Meridiaan | C45: 48 | D45: Hulst | E45: 4561 PH | F45: Carnavalsloods | H45: 41807 | J45: 45 | K45: =ROUNDUP(P45*ign/igo,-3) -> 3156000 | L45: =ROUNDUP(Q45*iin/iio,-3) -> 61000 | M45: =SUM(K45:L45) -> 3217000 | N45: =M45*0.5455/1000 -> 1754.8735 | P45: 3156000 | Q45: 61000 | R45: =SUM(P45:Q45) -> 3217000 | S45: 3156000 | T45: 61000 | U45: 2816000 | V45: =K45-P45 -> 0 | W45: =L45-Q45 -> 0 | X45: =V45+W45 -> 0 | Y45: =P45-S45 -> 0 | Z45: =Q45-T45 -> 0 | AA45: =SUM(Y45:Z45) -> 0
B46: Overdamstraat | C46: 21 t/m 41 one | D46: Hulst | F46: appartementen | K46: =ROUNDUP(P46*ign/igo,-3) -> 0 | L46: =ROUNDUP(Q46*iin/iio,-3) -> 0 | M46: =SUM(K46:L46) -> 0 | N46: =M46*0.5455/1000 -> 0 | P46: 0 | Q46: 0 | R46: =SUM(P46:Q46) -> 0 | S46: 0 | T46: 0 | U46: 0 | V46: =K46-P46 -> 0 | W46: =L46-Q46 -> 0 | X46: =V46+W46 -> 0 | Y46: =P46-S46 -> 0 | Z46: =Q46-T46 -> 0 | AA46: =SUM(Y46:Z46) -> 0
B47: Overdamstraat | C47: 15 | D47: Hulst | F47: winkels met boven appartementen | H47: 41807 | J47: 46/47 | K47: =ROUNDUP(P47*ign/igo,-3) -> 459000 | L47: =ROUNDUP(Q47*iin/iio,-3) -> 0 | M47: =SUM(K47:L47) -> 459000 | N47: =M47*0.5455/1000 -> 250.3845 | P47: 459000 | Q47: 0 | R47: =SUM(P47:Q47) -> 459000 | S47: 459000 | T47: 0 | U47: 408000 | V47: =K47-P47 -> 0 | W47: =L47-Q47 -> 0 | X47: =V47+W47 -> 0 | Y47: =P47-S47 -> 0 | Z47: =Q47-T47 -> 0 | AA47: =SUM(Y47:Z47) -> 0
B48: Hof te Zandeplein | C48: 6-8 | D48: Kloosterzande | E48: 4587 CK | F48: Archief/vergaderruimte (pand wordt tzt gesloopt) | H48: 41801 | J48: 48 | K48: =ROUNDUP(P48*ign/igo,-3) -> 340000 | L48: =ROUNDUP(Q48*iin/iio,-3) -> 38000 | M48: =SUM(K48:L48) -> 378000 | N48: =M48*0.5455/1000 -> 206.199 | P48: 340000 | Q48: 38000 | R48: =SUM(P48:Q48) -> 378000 | S48: 340000 | T48: 38000 | U48: 334000 | V48: =K48-P48 -> 0 | W48: =L48-Q48 -> 0 | X48: =V48+W48 -> 0 | Y48: =P48-S48 -> 0 | Z48: =Q48-T48 -> 0 | AA48: =SUM(Y48:Z48) -> 0
B49: v.d. Maelstedeweg | D49: Hulst | E49: 4561 GV | F49: 2 bergingen bij begraafplaats | H49: 41787 | J49: 49 | K49: =ROUNDUP(P49*ign/igo,-3) -> 89000 | L49: =ROUNDUP(Q49*iin/iio,-3) -> 19000 | M49: =SUM(K49:L49) -> 108000 | N49: =M49*0.5455/1000 -> 58.914 | P49: 89000 | Q49: 19000 | R49: =SUM(P49:Q49) -> 108000 | S49: 89000 | T49: 19000 | U49: 95000 | V49: =K49-P49 -> 0 | W49: =L49-Q49 -> 0 | X49: =V49+W49 -> 0 | Y49: =P49-S49 -> 0 | Z49: =Q49-T49 -> 0 | AA49: =SUM(Y49:Z49) -> 0
B50: De Groote Kreek | D50: Hulst | F50: Sport Kooi | H50: 41818 | J50: 50 | K50: =ROUNDUP(P50*ign/igo,-3) -> 50000 | L50: =ROUNDUP(Q50*iin/iio,-3) -> 0 | M50: =SUM(K50:L50) -> 50000 | N50: =M50*0.5455/1000 -> 27.275 | P50: 50000 | Q50: 0 | R50: =SUM(P50:Q50) -> 50000 | S50: 50000 | T50: 0 | U50: 44000 | V50: =K50-P50 -> 0 | W50: =L50-Q50 -> 0 | X50: =V50+W50 -> 0 | Y50: =P50-S50 -> 0 | Z50: =Q50-T50 -> 0 | AA50: =SUM(Y50:Z50) -> 0
B51: Oceanie 2/ Globe 4 | C51: 2 en 4 | D51: Hulst | E51: 4561 PK | F51: Gemeentewerkplaats + stalling | H51: 41786 | I51: 41786 | J51: 51/52 | K51: =ROUNDUP(P51*ign/igo,-3) -> 5874000 | L51: =ROUNDUP(Q51*iin/iio,-3) -> 1241000 | M51: =SUM(K51:L51) -> 7115000 | N51: =M51*0.5455/1000 -> 3881.2325 | P51: 5874000 | Q51: 1241000 | R51: =SUM(P51:Q51) -> 7115000 | S51: 5874000 | T51: 1241000 | U51: 6299000 | V51: =K51-P51 -> 0 | W51: =L51-Q51 -> 0 | X51: =V51+W51 -> 0 | Y51: =P51-S51 -> 0 | Z51: =Q51-T51 -> 0 | AA51: =SUM(Y51:Z51) -> 0
B52: Oceanie 2/ Globe 4 | C52: 2 en 4 | D52: Hullst | E52: 4561 PK | F52: zonnepanelen bij gemeentewerken | K52: =ROUNDUP(P52*ign/igo,-3) -> 186000 | L52: =ROUNDUP(Q52*iin/iio,-3) -> 0 | M52: =SUM(K52:L52) -> 186000 | N52: =M52*0.5455/1000 -> 101.463 | P52: 186000 | Q52: 0 | R52: =SUM(P52:Q52) -> 186000 | S52: 186000 | T52: 0 | U52: 165000 | V52: =K52-P52 -> 0 | W52: =L52-Q52 -> 0 | X52: =V52+W52 -> 0 | Y52: =P52-S52 -> 0 | Z52: =Q52-T52 -> 0 | AA52: =SUM(Y52:Z52) -> 0
B53: Glacisweg | D53: Hulst | E53: 4561 HG | F53: berging bij begraafplaats/kapel | H53: 41797 | J53: 53 | K53: =ROUNDUP(P53*ign/igo,-3) -> 81000 | L53: =ROUNDUP(Q53*iin/iio,-3) -> 0 | M53: =SUM(K53:L53) -> 81000 | N53: =M53*0.5455/1000 -> 44.1855 | P53: 81000 | Q53: 0 | R53: =SUM(P53:Q53) -> 81000 | S53: 81000 | T53: 0 | U53: 72000 | V53: =K53-P53 -> 0 | W53: =L53-Q53 -> 0 | X53: =V53+W53 -> 0 | Y53: =P53-S53 -> 0 | Z53: =Q53-T53 -> 0 | AA53: =SUM(Y53:Z53) -> 0
B54: Havenstraat | C54: 6c | D54: Walsoorden | E54: 4588 KC | F54: motorhonk | H54: 41797 | J54: 58 | K54: =ROUNDUP(P54*ign/igo,-3) -> 80000 | L54: =ROUNDUP(Q54*iin/iio,-3) -> 0 | M54: =SUM(K54:L54) -> 80000 | N54: =M54*0.5455/1000 -> 43.64 | P54: 80000 | Q54: 0 | R54: =SUM(P54:Q54) -> 80000 | S54: 80000 | T54: 0 | U54: 71000 | V54: =K54-P54 -> 0 | W54: =L54-Q54 -> 0 | X54: =V54+W54 -> 0 | Y54: =P54-S54 -> 0 | Z54: =Q54-T54 -> 0 | AA54: =SUM(Y54:Z54) -> 0
B55: Havenstraat | C55: 4 | D55: Walsoorden | E55: 4588 KG | F55: Carnalvalsloods | P55: 450000 | Q55: 50000 | R55: =SUM(P55:Q55) -> 500000
B56: Hulsterweg | C56: 42a | D56: Kloosterzande | E56: 4587 ED | F56: scoutinggebouw | H56: 41795 | J56: 59 | K56: =ROUNDUP(P56*ign/igo,-3) -> 279000 | L56: =ROUNDUP(Q56*iin/iio,-3) -> 0 | M56: =SUM(K56:L56) -> 279000 | N56: =M56*0.5455/1000 -> 152.1945 | P56: 279000 | Q56: 0 | R56: =SUM(P56:Q56) -> 279000 | S56: 279000 | T56: 0 | U56: 248000 | V56: =K56-P56 -> 0 | W56: =L56-Q56 -> 0 | X56: =V56+W56 -> 0 | Y56: =P56-S56 -> 0 | Z56: =Q56-T56 -> 0 | AA56: =SUM(Y56:Z56) -> 0
B57: Sportlaan | C57: 22 t/m26 | D57: Hulst | F57: Cultureel Centrum Den Dullaert | K57: =ROUNDUP(P57*ign/igo,-3) -> 11159000 | L57: =ROUNDUP(Q57*iin/iio,-3) -> 1916000 | M57: =SUM(K57:L57) -> 13075000 | N57: =M57*0.5455/1000 -> 7132.4125 | P57: 11159000 | Q57: 1916000 | R57: =SUM(P57:Q57) -> 13075000 | S57: 11159000 | T57: 1916000 | U57: 11587000 | V57: =K57-P57 -> 0 | W57: =L57-Q57 -> 0 | X57: =V57+W57 -> 0 | Y57: =P57-S57 -> 0 | Z57: =Q57-T57 -> 0 | AA57: =SUM(Y57:Z57) -> 0
B58: Populierenstraat | C58: 39 | D58: Vogelwaarde | E58: 4581 BR | F58: berging bij school Vogelwaarde/feestcom | K58: =ROUNDUP(P58*ign/igo,-3) -> 14000 | L58: =ROUNDUP(Q58*iin/iio,-3) -> 0 | M58: =SUM(K58:L58) -> 14000 | N58: =M58*0.5455/1000 -> 7.637 | P58: 14000 | Q58: 0 | R58: =SUM(P58:Q58) -> 14000 | S58: 14000 | T58: 0 | U58: 12000 | V58: =K58-P58 -> 0 | W58: =L58-Q58 -> 0 | X58: =V58+W58 -> 0 | Y58: =P58-S58 -> 0 | Z58: =Q58-T58 -> 0 | AA58: =SUM(Y58:Z58) -> 0
B59: Sportlaan | C59: 28a | D59: Hulst | F59: aankoop boksschool tbv complex Den Dullaert | K59: =ROUNDUP(P59*ign/igo,-3) -> 147000 | L59: =ROUNDUP(Q59*iin/iio,-3) -> 0 | M59: =SUM(K59:L59) -> 147000 | N59: =M59*0.5455/1000 -> 80.1885 | P59: 147000 | Q59: 0 | R59: =SUM(P59:Q59) -> 147000 | S59: 147000 | T59: 0 | U59: 0 | V59: =K59-P59 -> 0 | W59: =L59-Q59 -> 0 | X59: =V59+W59 -> 0 | Y59: =P59-S59 -> 0 | Z59: =Q59-T59 -> 0 | AA59: =SUM(Y59:Z59) -> 0
B60: Div. adressen (17) | D60: adressen bekend | F60: inventaris tbv vluchtelingen oorlog | K60: =ROUNDUP(P60*ign/igo,-3) -> 0 | L60: =ROUNDUP(Q60*iin/iio,-3) -> 696000 | M60: =SUM(K60:L60) -> 696000 | N60: =M60*0.5455/1000 -> 379.668 | P60: 0 | Q60: 696000 | R60: =SUM(P60:Q60) -> 696000 | S60: 0 | T60: 696000 | U60: 0 | V60: =K60-P60 -> 0 | W60: =L60-Q60 -> 0 | X60: =V60+W60 -> 0 | Y60: =P60-S60 -> 0 | Z60: =Q60-T60 -> 0 | AA60: =SUM(Y60:Z60) -> 0
B61: Sportlaan 28/28a | D61: Hulst | F61: inventaris tbv complex Den Dullaert | K61: =ROUNDUP(P61*ign/igo,-3) -> 0 | L61: =ROUNDUP(Q61*iin/iio,-3) -> 58000 | M61: =SUM(K61:L61) -> 58000 | N61: =M61*0.5455/1000 -> 31.639 | P61: 0 | Q61: 58000 | R61: =SUM(P61:Q61) -> 58000 | S61: 0 | T61: 58000 | U61: 0 | V61: =K61-P61 -> 0 | W61: =L61-Q61 -> 0 | X61: =V61+W61 -> 0 | Y61: =P61-S61 -> 0 | Z61: =Q61-T61 -> 0 | AA61: =SUM(Y61:Z61) -> 0
B62: Tabakstraat | C62: 22 | D62: Hulst | E62: 4561 HW | F62: in gebruik bij derden o.a. vluchtelingewerk | G62: 6.432.00.03 | H62: 41796 | J62: 78 | K62: =ROUNDUP(P62*ign/igo,-3) -> 232000 | L62: =ROUNDUP(Q62*iin/iio,-3) -> 0 | M62: =SUM(K62:L62) -> 232000 | N62: =M62*0.5455/1000 -> 126.556 | P62: 232000 | Q62: 0 | R62: =SUM(P62:Q62) -> 232000 | S62: 232000 | T62: 0 | U62: 206000 | V62: =K62-P62 -> 0 | W62: =L62-Q62 -> 0 | X62: =V62+W62 -> 0 | Y62: =P62-S62 -> 0 | Z62: =Q62-T62 -> 0 | AA62: =SUM(Y62:Z62) -> 0
B63: P. Smuldersstraat | C63: 1 | D63: Kloosterzande | E63: 4587 AG | F63: Multifunctioneel dorpshuis | G63: 6.420.00.03 | H63: 41816 | J63: 61 | K63: =ROUNDUP(P63*ign/igo,-3) -> 1673000 | L63: =ROUNDUP(Q63*iin/iio,-3) -> 134000 | M63: =SUM(K63:L63) -> 1807000 | N63: =M63*0.5455/1000 -> 985.7185 | P63: 1673000 | Q63: 134000 | R63: =SUM(P63:Q63) -> 1807000 | S63: 1673000 | T63: 134000 | U63: 1604000 | V63: =K63-P63 -> 0 | W63: =L63-Q63 -> 0 | X63: =V63+W63 -> 0 | Y63: =P63-S63 -> 0 | Z63: =Q63-T63 -> 0 | AA63: =SUM(Y63:Z63) -> 0
K64: =ROUNDUP(P64*ign/igo,-3) -> 0 | L64: =ROUNDUP(Q64*iin/iio,-3) -> 0 | M64: =SUM(K64:L64) -> 0 | N64: =M64*0.5455/1000 -> 0 | P64: 0 | Q64: 0 | R64: =SUM(P64:Q64) -> 0 | S64: 0 | T64: 0 | U64: 0 | V64: =K64-P64 -> 0 | W64: =L64-Q64 -> 0 | X64: =V64+W64 -> 0 | Y64: =P64-S64 -> 0 | Z64: =Q64-T64 -> 0 | AA64: =SUM(Y64:Z64) -> 0
K65: =ROUNDUP(P65*ign/igo,-3) -> 0 | L65: =ROUNDUP(Q65*iin/iio,-3) -> 0 | M65: =SUM(K65:L65) -> 0 | N65: =M65*0.5455/1000 -> 0 | P65: 0 | Q65: 0 | R65: =SUM(P65:Q65) -> 0 | S65: 0 | T65: 0 | U65: 0 | V65: =K65-P65 -> 0 | W65: =L65-Q65 -> 0 | X65: =V65+W65 -> 0 | Y65: =P65-S65 -> 0 | Z65: =Q65-T65 -> 0 | AA65: =SUM(Y65:Z65) -> 0
K66: =ROUNDUP(P66*ign/igo,-3) -> 0 | L66: =ROUNDUP(Q66*iin/iio,-3) -> 0 | M66: =SUM(K66:L66) -> 0 | N66: =M66*0.5455/1000 -> 0 | P66: 0 | Q66: 0 | R66: =SUM(P66:Q66) -> 0 | S66: 0 | T66: 0 | U66: 0 | V66: =K66-P66 -> 0 | W66: =L66-Q66 -> 0 | X66: =V66+W66 -> 0 | Y66: =P66-S66 -> 0 | Z66: =Q66-T66 -> 0 | AA66: =SUM(Y66:Z66) -> 0
K67: =ROUNDUP(P67*ign/igo,-3) -> 0 | L67: =ROUNDUP(Q67*iin/iio,-3) -> 0 | M67: =SUM(K67:L67) -> 0 | N67: =M67*0.5455/1000 -> 0 | P67: 0 | Q67: 0 | R67: =SUM(P67:Q67) -> 0 | S67: 0 | T67: 0 | U67: 0 | V67: =K67-P67 -> 0 | W67: =L67-Q67 -> 0 | X67: =V67+W67 -> 0 | Y67: =P67-S67 -> 0 | Z67: =Q67-T67 -> 0 | AA67: =SUM(Y67:Z67) -> 0
K68: =ROUNDUP(P68*ign/igo,-3) -> 0 | L68: =ROUNDUP(Q68*iin/iio,-3) -> 0 | M68: =SUM(K68:L68) -> 0 | N68: =M68*0.5455/1000 -> 0 | P68: 0 | Q68: 0 | R68: =SUM(P68:Q68) -> 0 | S68: 0 | T68: 0 | U68: 0 | V68: =K68-P68 -> 0 | W68: =L68-Q68 -> 0 | X68: =V68+W68 -> 0 | Y68: =P68-S68 -> 0 | Z68: =Q68-T68 -> 0 | AA68: =SUM(Y68:Z68) -> 0
K69: =ROUNDUP(P69*ign/igo,-3) -> 0 | L69: =ROUNDUP(Q69*iin/iio,-3) -> 0 | M69: =SUM(K69:L69) -> 0 | N69: =M69*0.5455/1000 -> 0 | P69: 0 | Q69: 0 | R69: =SUM(P69:Q69) -> 0 | S69: 0 | T69: 0 | U69: 0 | V69: =K69-P69 -> 0 | W69: =L69-Q69 -> 0 | X69: =V69+W69 -> 0 | Y69: =P69-S69 -> 0 | Z69: =Q69-T69 -> 0 | AA69: =SUM(Y69:Z69) -> 0
K70: =ROUNDUP(P70*ign/igo,-3) -> 0 | L70: =ROUNDUP(Q70*iin/iio,-3) -> 0 | M70: =SUM(K70:L70) -> 0 | N70: =M70*0.5455/1000 -> 0 | P70: 0 | Q70: 0 | R70: =SUM(P70:Q70) -> 0 | S70: 0 | T70: 0 | U70: 0 | V70: =K70-P70 -> 0 | W70: =L70-Q70 -> 0 | X70: =V70+W70 -> 0 | Y70: =P70-S70 -> 0 | Z70: =Q70-T70 -> 0 | AA70: =SUM(Y70:Z70) -> 0
A71: Totaal Gemeentelijk Bezit: | K71: =SUM(K10:K70) -> 79850000 | L71: =SUM(L10:L70) -> 9850000 | M71: =SUM(M10:M70) -> 89700000 | N71: =SUM(N10:N70) -> 48931.35 | P71: =SUM(P10:P70) -> 80300000 | Q71: =SUM(Q10:Q70) -> 9900000 | R71: =SUM(P71:Q71) -> 90200000 | S71: =SUM(S10:S70) -> 79850000 | T71: =SUM(T10:T70) -> 9850000 | U71: =SUM(U10:U70) -> 77527000 | V71: =SUM(V10:V70) -> 0 | W71: =SUM(W10:W70) -> 0 | X71: =SUM(X10:X70) -> 0 | Y71: =SUM(Y10:Y70) -> 0 | Z71: =SUM(Z10:Z70) -> 0 | AA71: =SUM(AA10:AA70) -> 0
A74: Primair en Voortgezet Onderwijs:
B76: Sportlaan | C76: 18 | D76: Hulst | E76: 4561 KZ | F76: Basisschool "De Wereldboom" | G76: 6.420.00.03 | H76: 41878 | I76: 41878 | J76: 60 | K76: =ROUNDUP(P76*ign/igo,-3) -> 1735000 | L76: =ROUNDUP(Q76*iin/iio,-3) -> 382000 | M76: =SUM(K76:L76) -> 2117000 | N76: =M76*0.5455/1000 -> 1154.8235 | P76: 1735000 | Q76: 382000 | R76: =SUM(P76:Q76) -> 2117000 | S76: 1735000 | T76: 382000 | U76: 1873000 | V76: =K76-P76 -> 0 | W76: =L76-Q76 -> 0 | X76: =V76+W76 -> 0 | Y76: =P76-S76 -> 0 | Z76: =Q76-T76 -> 0 | AA76: =SUM(Y76:Z76) -> 0
B77: Princebolwerk | C77: 2 | D77: Hulst | E77: 4561 EN | F77: St. Willibrordus | G77: 6.422.00.01 | H77: 41968 | I77: 41968 | J77: 62 | K77: =ROUNDUP(P77*ign/igo,-3) -> 4172000 | L77: =ROUNDUP(Q77*iin/iio,-3) -> 982000 | M77: =SUM(K77:L77) -> 5154000 | N77: =M77*0.5455/1000 -> 2811.507 | P77: 4172000 | Q77: 982000 | R77: =SUM(P77:Q77) -> 5154000 | S77: 4172000 | T77: 982000 | U77: 4560000 | V77: =K77-P77 -> 0 | W77: =L77-Q77 -> 0 | X77: =V77+W77 -> 0 | Y77: =P77-S77 -> 0 | Z77: =Q77-T77 -> 0 | AA77: =SUM(Y77:Z77) -> 0
B78: Tabakstraat | C78: 24 | D78: Hulst | F78: Basisschool "De Wereldboom" | G78: 6.422.00.01 | H78: 41878 | I78: 41878 | J78: 63 | K78: =ROUNDUP(P78*ign/igo,-3) -> 1643000 | L78: =ROUNDUP(Q78*iin/iio,-3) -> 316000 | M78: =SUM(K78:L78) -> 1959000 | N78: =M78*0.5455/1000 -> 1068.6345 | P78: 1643000 | Q78: 316000 | R78: =SUM(P78:Q78) -> 1959000 | S78: 1643000 | T78: 316000 | U78: 1734000 | V78: =K78-P78 -> 0 | W78: =L78-Q78 -> 0 | X78: =V78+W78 -> 0 | Y78: =P78-S78 -> 0 | Z78: =Q78-T78 -> 0 | AA78: =SUM(Y78:Z78) -> 0
B79: Vondelstraat | C79: 1 | D79: Hulst | E79: 4561 LN | F79: De Nobelhorst | G79: 6.422.00.01 | H79: 41878 | I79: 41878 | J79: 64 | K79: =ROUNDUP(P79*ign/igo,-3) -> 4706000 | L79: =ROUNDUP(Q79*iin/iio,-3) -> 845000 | M79: =SUM(K79:L79) -> 5551000 | N79: =M79*0.5455/1000 -> 3028.0705 | P79: 4706000 | Q79: 845000 | R79: =SUM(P79:Q79) -> 5551000 | S79: 4706000 | T79: 845000 | U79: 4917000 | V79: =K79-P79 -> 0 | W79: =L79-Q79 -> 0 | X79: =V79+W79 -> 0 | Y79: =P79-S79 -> 0 | Z79: =Q79-T79 -> 0 | AA79: =SUM(Y79:Z79) -> 0
B80: Liniestraat | C80: 98-100 | D80: Hulst | E80: 4561 ZX | F80: Moerschans | G80: 6.422.00.01 | H80: 41878 | I80: 41878 | J80: 65 | K80: =ROUNDUP(P80*ign/igo,-3) -> 4206000 | L80: =ROUNDUP(Q80*iin/iio,-3) -> 936000 | M80: =SUM(K80:L80) -> 5142000 | N80: =M80*0.5455/1000 -> 2804.961 | P80: 4206000 | Q80: 936000 | R80: =SUM(P80:Q80) -> 5142000 | S80: 4206000 | T80: 936000 | U80: 4551000 | V80: =K80-P80 -> 0 | W80: =L80-Q80 -> 0 | X80: =V80+W80 -> 0 | Y80: =P80-S80 -> 0 | Z80: =Q80-T80 -> 0 | AA80: =SUM(Y80:Z80) -> 0
B81: Margrietstraat / Polenlaan | C81: 2 / 8B | D81: Heikant | E81: 4566 AN | F81: Heidepoort | G81: 6.422.00.01 | H81: 41878 | I81: 41878 | J81: 67 | K81: =ROUNDUP(P81*ign/igo,-3) -> 2174000 | L81: 0 | M81: =SUM(K81:L81) -> 2174000 | N81: =M81*0.5455/1000 -> 1185.917 | P81: 2174000 | Q81: 400000 | R81: =SUM(P81:Q81) -> 2574000 | S81: 2174000 | T81: 0 | U81: 1935000 | V81: =K81-P81 -> 0 | W81: =L81-Q81 -> -400000 | X81: =V81+W81 -> -400000 | Y81: =P81-S81 -> 0 | Z81: =Q81-T81 -> 400000 | AA81: =SUM(Y81:Z81) -> 400000
B82: Kon. Julianastraat | C82: 41 | D82: Clinge | E82: 4567 CA | F82: St. Bernardusschool | G82: 6.422.00.01 | H82: 41878 | I82: 41878 | J82: 68 | K82: =ROUNDUP(P82*ign/igo,-3) -> 2703000 | L82: =ROUNDUP(Q82*iin/iio,-3) -> 566000 | M82: =SUM(K82:L82) -> 3269000 | N82: =M82*0.5455/1000 -> 1783.2395 | P82: 2703000 | Q82: 566000 | R82: =SUM(P82:Q82) -> 3269000 | S82: 2703000 | T82: 566000 | U82: 2894000 | V82: =K82-P82 -> 0 | W82: =L82-Q82 -> 0 | X82: =V82+W82 -> 0 | Y82: =P82-S82 -> 0 | Z82: =Q82-T82 -> 0 | AA82: =SUM(Y82:Z82) -> 0
B83: Cuwaertstraat | C83: 2 | D83: Nieuw Namen | E83: 4568 BH | F83: St. Jozefschool | G83: 6.422.00.01 | H83: 41878 | I83: 41878 | J83: 69 | K83: =ROUNDUP(P83*ign/igo,-3) -> 1513000 | L83: =ROUNDUP(Q83*iin/iio,-3) -> 299000 | M83: =SUM(K83:L83) -> 1812000 | N83: =M83*0.5455/1000 -> 988.446 | P83: 1513000 | Q83: 299000 | R83: =SUM(P83:Q83) -> 1812000 | S83: 1513000 | T83: 299000 | U83: 1604000 | V83: =K83-P83 -> 0 | W83: =L83-Q83 -> 0 | X83: =V83+W83 -> 0 | Y83: =P83-S83 -> 0 | Z83: =Q83-T83 -> 0 | AA83: =SUM(Y83:Z83) -> 0
B84: Jacintastraat | C84: 1 | D84: Graauw | E84: 4569 AP | F84: School ter Doest | G84: 6.422.00.01 | H84: 41878 | I84: 41878 | J84: 70 | K84: =ROUNDUP(P84*ign/igo,-3) -> 3810000 | L84: =ROUNDUP(Q84*iin/iio,-3) -> 353000 | M84: =SUM(K84:L84) -> 4163000 | N84: =M84*0.5455/1000 -> 2270.9165 | P84: 3810000 | Q84: 353000 | R84: =SUM(P84:Q84) -> 4163000 | S84: 3810000 | T84: 353000 | U84: 3696000 | V84: =K84-P84 -> 0 | W84: =L84-Q84 -> 0 | X84: =V84+W84 -> 0 | Y84: =P84-S84 -> 0 | Z84: =Q84-T84 -> 0 | AA84: =SUM(Y84:Z84) -> 0
B85: Populierenstraat | C85: 39 | D85: Vogelwaarde | E85: 4581 BR | F85: Scholengemeenschap De Schakel | G85: 6.422.00.01 | H85: 41878 | I85: 41878 | J85: 72 | K85: =ROUNDUP(P85*ign/igo,-3) -> 3978000 | L85: =ROUNDUP(Q85*iin/iio,-3) -> 619000 | M85: =SUM(K85:L85) -> 4597000 | N85: =M85*0.5455/1000 -> 2507.6635 | P85: 3978000 | Q85: 619000 | R85: =SUM(P85:Q85) -> 4597000 | S85: 3978000 | T85: 619000 | U85: 4074000 | V85: =K85-P85 -> 0 | W85: =L85-Q85 -> 0 | X85: =V85+W85 -> 0 | Y85: =P85-S85 -> 0 | Z85: =Q85-T85 -> 0 | AA85: =SUM(Y85:Z85) -> 0
B86: Past W. Willemstraat | C86: 15 | D86: Lamswaarde | E86: 4586 AJ | F86: School De Oostvogel | G86: 6.422.00.01 | H86: 41878 | I86: 41878 | J86: 73 | K86: =ROUNDUP(P86*ign/igo,-3) -> 1658000 | L86: =ROUNDUP(Q86*iin/iio,-3) -> 316000 | M86: =SUM(K86:L86) -> 1974000 | N86: =M86*0.5455/1000 -> 1076.817 | P86: 1658000 | Q86: 316000 | R86: =SUM(P86:Q86) -> 1974000 | S86: 1658000 | T86: 316000 | U86: 1748000 | V86: =K86-P86 -> 0 | W86: =L86-Q86 -> 0 | X86: =V86+W86 -> 0 | Y86: =P86-S86 -> 0 | Z86: =Q86-T86 -> 0 | AA86: =SUM(Y86:Z86) -> 0
B87: Oosthof | C87: 1 | D87: Kloosterzande | E87: 4587 EP | F87: Basisschool het Getij | G87: 6.422.00.01 | H87: 41804 | I87: 41804 | J87: 75 | K87: =ROUNDUP(P87*ign/igo,-3) -> 5085000 | L87: =ROUNDUP(Q87*iin/iio,-3) -> 963000 | M87: =SUM(K87:L87) -> 6048000 | N87: =M87*0.5455/1000 -> 3299.184 | P87: 5085000 | Q87: 963000 | R87: =SUM(P87:Q87) -> 6048000 | S87: 5085000 | T87: 963000 | U87: 5357000 | V87: =K87-P87 -> 0 | W87: =L87-Q87 -> 0 | X87: =V87+W87 -> 0 | Y87: =P87-S87 -> 0 | Z87: =Q87-T87 -> 0 | AA87: =SUM(Y87:Z87) -> 0
B88: F. Hendriklaan | C88: 16 | D88: Hulst | E88: 4561 WE | F88: Praktijkschool | G88: 6.432.00.02 | H88: 41878 | I88: 41878 | J88: 77 | K88: =ROUNDUP(P88*ign/igo,-3) -> 4932000 | L88: =ROUNDUP(Q88*iin/iio,-3) -> 1262000 | M88: =SUM(K88:L88) -> 6194000 | N88: =M88*0.5455/1000 -> 3378.827 | P88: 4932000 | Q88: 1262000 | R88: =SUM(P88:Q88) -> 6194000 | S88: 4932000 | T88: 1262000 | U88: 5479000 | V88: =K88-P88 -> 0 | W88: =L88-Q88 -> 0 | X88: =V88+W88 -> 0 | Y88: =P88-S88 -> 0 | Z88: =Q88-T88 -> 0 | AA88: =SUM(Y88:Z88) -> 0
B89: Koolstraat | C89: 17 | D89: Hulst | E89: 4561 GW | F89: De Brug | G89: 6.432.00.04 | H89: 41878 | I89: 41878 | J89: 79 | K89: =ROUNDUP(P89*ign/igo,-3) -> 2468000 | L89: =ROUNDUP(Q89*iin/iio,-3) -> 486000 | M89: =SUM(K89:L89) -> 2954000 | N89: =M89*0.5455/1000 -> 1611.407 | P89: 2468000 | Q89: 486000 | R89: =SUM(P89:Q89) -> 2954000 | S89: 2468000 | T89: 486000 | U89: 2616000 | V89: =K89-P89 -> 0 | W89: =L89-Q89 -> 0 | X89: =V89+W89 -> 0 | Y89: =P89-S89 -> 0 | Z89: =Q89-T89 -> 0 | AA89: =SUM(Y89:Z89) -> 0
B90: Zoutestraat | C90: 61A | D90: Hulst | E90: 4561 XA | F90: Reynaertcollege | G90: 6.443.00.01 | H90: 41968 | I90: 41968 | J90: 80 | K90: =ROUNDUP(P90*ign/igo,-3) -> 25172000 | L90: =ROUNDUP(Q90*iin/iio,-3) -> 5808000 | M90: =SUM(K90:L90) -> 30980000 | N90: =M90*0.5455/1000 -> 16899.59 | P90: 25172000 | Q90: 5808000 | R90: =SUM(P90:Q90) -> 30980000 | S90: 25172000 | T90: 5808000 | U90: 27419000 | V90: =K90-P90 -> 0 | W90: =L90-Q90 -> 0 | X90: =V90+W90 -> 0 | Y90: =P90-S90 -> 0 | Z90: =Q90-T90 -> 0 | AA90: =SUM(Y90:Z90) -> 0
B91: Gildenstraat | C91: 1 | D91: Hulst | E91: 4561 WZ | F91: Reynaertcollege | G91: 6.443.00.01 | H91: 41968 | I91: 41968 | J91: 81 | K91: =ROUNDUP(P91*ign/igo,-3) -> 17063000 | L91: =ROUNDUP(Q91*iin/iio,-3) -> 5318000 | M91: =SUM(K91:L91) -> 22381000 | N91: =M91*0.5455/1000 -> 12208.835 | P91: 17063000 | Q91: 5318000 | R91: =SUM(P91:Q91) -> 22381000 | S91: 17063000 | T91: 5318000 | U91: 19776000 | V91: =K91-P91 -> 0 | W91: =L91-Q91 -> 0 | X91: =V91+W91 -> 0 | Y91: =P91-S91 -> 0 | Z91: =Q91-T91 -> 0 | AA91: =SUM(Y91:Z91) -> 0
B92: Hengstdijkse Kerkstraat | C92: 15a | D92: Hengstdijk | E92: 4585 AA | F92: Basisschool 't Vogelnest | H92: 41878 | I92: 41878 | J92: 83 | K92: =ROUNDUP(P92*ign/igo,-3) -> 1831000 | L92: =ROUNDUP(Q92*iin/iio,-3) -> 271000 | M92: =SUM(K92:L92) -> 2102000 | N92: =M92*0.5455/1000 -> 1146.641 | P92: 1831000 | Q92: 271000 | R92: =SUM(P92:Q92) -> 2102000 | S92: 1831000 | T92: 271000 | U92: 1863000 | V92: =K92-P92 -> 0 | W92: =L92-Q92 -> 0 | X92: =V92+W92 -> 0 | Y92: =P92-S92 -> 0 | Z92: =Q92-T92 -> 0 | AA92: =SUM(Y92:Z92) -> 0
B93: Badhuisweg | C93: 11 | D93: Sint Jansteen | E93: 4564 AH | F93: Basisschool Inghelosenberghe | K93: =ROUNDUP(P93*ign/igo,-3) -> 6278000 | L93: =ROUNDUP(Q93*iin/iio,-3) -> 832000 | M93: =SUM(K93:L93) -> 7110000 | N93: =M93*0.5455/1000 -> 3878.505 | P93: 6278000 | Q93: 832000 | R93: =SUM(P93:Q93) -> 7110000 | S93: 6278000 | T93: 832000 | U93: 6306000 | V93: =K93-P93 -> 0 | W93: =L93-Q93 -> 0 | X93: =V93+W93 -> 0 | Y93: =P93-S93 -> 0 | Z93: =Q93-T93 -> 0 | AA93: =SUM(Y93:Z93) -> 0
K94: =ROUNDUP(P94*ign/igo,-3) -> 0 | L94: =ROUNDUP(Q94*iin/iio,-3) -> 0 | M94: =SUM(K94:L94) -> 0 | N94: =M94*0.5455/1000 -> 0 | P94: 0 | Q94: 0 | R94: =SUM(P94:Q94) -> 0 | S94: 0 | T94: 0 | U94: 0 | V94: =K94-P94 -> 0 | W94: =L94-Q94 -> 0 | X94: =V94+W94 -> 0 | Y94: =P94-S94 -> 0 | Z94: =Q94-T94 -> 0 | AA94: =SUM(Y94:Z94) -> 0
K95: =ROUNDUP(P95*ign/igo,-3) -> 0 | L95: =ROUNDUP(Q95*iin/iio,-3) -> 0 | M95: =SUM(K95:L95) -> 0 | N95: =M95*0.5455/1000 -> 0 | P95: 0 | Q95: 0 | R95: =SUM(P95:Q95) -> 0 | S95: 0 | T95: 0 | U95: 0 | V95: =K95-P95 -> 0 | W95: =L95-Q95 -> 0 | X95: =V95+W95 -> 0 | Y95: =P95-S95 -> 0 | Z95: =Q95-T95 -> 0 | AA95: =SUM(Y95:Z95) -> 0
K96: =ROUNDUP(P96*ign/igo,-3) -> 0 | L96: =ROUNDUP(Q96*iin/iio,-3) -> 0 | M96: =SUM(K96:L96) -> 0 | N96: =M96*0.5455/1000 -> 0 | P96: 0 | Q96: 0 | R96: =SUM(P96:Q96) -> 0 | S96: 0 | T96: 0 | U96: 0 | V96: =K96-P96 -> 0 | W96: =L96-Q96 -> 0 | X96: =V96+W96 -> 0 | Y96: =P96-S96 -> 0 | Z96: =Q96-T96 -> 0 | AA96: =SUM(Y96:Z96) -> 0
K97: =ROUNDUP(P97*ign/igo,-3) -> 0 | L97: =ROUNDUP(Q97*iin/iio,-3) -> 0 | M97: =SUM(K97:L97) -> 0 | N97: =M97*0.5455/1000 -> 0 | P97: 0 | Q97: 0 | R97: =SUM(P97:Q97) -> 0 | S97: 0 | T97: 0 | U97: 0 | V97: =K97-P97 -> 0 | W97: =L97-Q97 -> 0 | X97: =V97+W97 -> 0 | Y97: =P97-S97 -> 0 | Z97: =Q97-T97 -> 0 | AA97: =SUM(Y97:Z97) -> 0
K98: =ROUNDUP(P98*ign/igo,-3) -> 0 | L98: =ROUNDUP(Q98*iin/iio,-3) -> 0 | M98: =SUM(K98:L98) -> 0 | N98: =M98*0.5455/1000 -> 0 | P98: 0 | Q98: 0 | R98: =SUM(P98:Q98) -> 0 | S98: 0 | T98: 0 | U98: 0 | V98: =K98-P98 -> 0 | W98: =L98-Q98 -> 0 | X98: =V98+W98 -> 0 | Y98: =P98-S98 -> 0 | Z98: =Q98-T98 -> 0 | AA98: =SUM(Y98:Z98) -> 0
K99: =ROUNDUP(P99*ign/igo,-3) -> 0 | L99: =ROUNDUP(Q99*iin/iio,-3) -> 0 | M99: =SUM(K99:L99) -> 0 | N99: =M99*0.5455/1000 -> 0 | P99: 0 | Q99: 0 | R99: =SUM(P99:Q99) -> 0 | S99: 0 | T99: 0 | U99: 0 | V99: =K99-P99 -> 0 | W99: =L99-Q99 -> 0 | X99: =V99+W99 -> 0 | Y99: =P99-S99 -> 0 | Z99: =Q99-T99 -> 0 | AA99: =SUM(Y99:Z99) -> 0
K100: =ROUNDUP(P100*ign/igo,-3) -> 0 | L100: =ROUNDUP(Q100*iin/iio,-3) -> 0 | M100: =SUM(K100:L100) -> 0 | N100: =M100*0.5455/1000 -> 0 | P100: 0 | Q100: 0 | R100: =SUM(P100:Q100) -> 0 | S100: 0 | T100: 0 | U100: 0 | V100: =K100-P100 -> 0 | W100: =L100-Q100 -> 0 | X100: =V100+W100 -> 0 | Y100: =P100-S100 -> 0 | Z100: =Q100-T100 -> 0 | AA100: =SUM(Y100:Z100) -> 0
K101: =ROUNDUP(P101*ign/igo,-3) -> 0 | L101: =ROUNDUP(Q101*iin/iio,-3) -> 0 | M101: =SUM(K101:L101) -> 0 | N101: =M101*0.5455/1000 -> 0 | P101: 0 | Q101: 0 | R101: =SUM(P101:Q101) -> 0 | S101: 0 | T101: 0 | U101: 0 | Y101: =P101-S101 -> 0 | Z101: =Q101-T101 -> 0 | AA101: =SUM(Y101:Z101) -> 0
A102: Totaal Primair en Voortgezet Onderwijs: | K102: =SUM(K76:K101) -> 95127000 | L102: =SUM(L76:L101) -> 20554000 | M102: =SUM(M76:M101) -> 115681000 | N102: =SUM(N76:N101) -> 63103.986 | P102: =SUM(P76:P101) -> 95127000 | Q102: =SUM(Q76:Q101) -> 20954000 | R102: =SUM(P102:Q102) -> 116081000 | S102: =SUM(S76:S101) -> 95127000 | T102: =SUM(T76:T101) -> 20554000 | U102: =SUM(U76:U101) -> 102402000 | V102: =SUM(V76:V101) -> 0 | W102: =SUM(W76:W101) -> -400000 | X102: =SUM(X76:X101) -> -400000 | Y102: =SUM(Y76:Y101) -> 0 | Z102: =SUM(Z76:Z101) -> 400000 | AA102: =SUM(AA76:AA101) -> 400000
A105: Totaal Gemeentelijk Bezit: | K105: =SUM(K71+K102) -> 174977000 | L105: =SUM(L71+L102) -> 30404000 | M105: =SUM(M71+M102) -> 205381000 | N105: =SUM(N71+N102) -> 112035.34 | P105: =SUM(P71+P102) -> 175427000 | Q105: =SUM(Q71+Q102) -> 30854000 | R105: =SUM(R71+R102) -> 206281000 | S105: =SUM(S71+S102) -> 174977000 | T105: =SUM(T71+T102) -> 30404000 | U105: =SUM(U71+U102) -> 179929000 | V105: =SUM(V71+V102) -> 0 | W105: =SUM(W71+W102) -> -400000 | ... AA105: =SUM(AA71+AA102) -> 400000
A110: Instructies voor het bijwerken van dit bestand:
A112: Algemeen:
...
