Workbook

Sheet PDC
B4: Access bandbreedte (Local Access + CPE of Datacenter crossconnect op ODC)
B5: PDC code | C5: PDC omschrijving | D5: Bandbreedte (Gb/s) | E5: Beheerprofiel | F5: Cat III (maandelijks) | G5: Cat IIA migratie (eenmalig)
B6: LA01 | C6: 1Gb/s, Local Access + CPE, Beheerprofiel Standaard | D6: 1 | E6: Standaard | F6: 0 | G6: 0
B7: LA02 | C7: 1Gb/s, Local Access + CPE, Beheerprofiel Hoog | D7: 1 | E7: Hoog | F7: 0 | G7: 0
B8: LA03 | C8: 1Gb/s, Local Access + CPE, Beheerprofiel Non-stop | D8: 1 | E8: Non-stop | F8: Geen behoefte / niet uitvragen
B9: LA11 | C9: 10Gb/s, Local Access + CPE, Beheerprofiel Standaard | D9: 10 | E9: Standaard | F9: 0 | G9: 0
B10: LA12 | C10: 10Gb/s, Local Access + CPE, Beheerprofiel Hoog | D10: 10 | E10: Hoog | F10: 0 | G10: 0
B11: LA13 | C11: 10Gb/s, Local Access + CPE, Beheerprofiel Non-stop | D11: 10 | E11: Non-stop | F11: 0 | G11: 0
B12: LA22 | C12: 100Gb/s, Local Access + CPE, Beheerprofiel Standaard | D12: 100 | E12: Standaard | F12: Geen behoefte / niet uitvragen
B13: LA22 | C13: 100Gb/s, Local Access + CPE, Beheerprofiel Hoog | D13: 100 | E13: Hoog | F13: Prijs locatie afhankelijk
B14: LA23 | C14: 100Gb/s, Local Access + CPE, Beheerprofiel Non-stop | D14: 100 | E14: Non-stop | F14: Prijs locatie afhankelijk
B15: DC11 | C15: 10Gb/s, Datacenter crossconnect op ODC, Beheerprofiel Standaard | D15: 10 | E15: Standaard | F15: Geen behoefte / niet uitvragen
B16: DC12 | C16: 10Gb/s, Datacenter crossconnect op ODC, Beheerprofiel Hoog | D16: 10 | E16: Hoog | F16: 0 | G16: 0
B17: DC13 | C17: 10Gb/s, Datacenter crossconnect op ODC, Beheerprofiel Non-stop | D17: 10 | E17: Non-stop | F17: 0 | G17: 0
B18: DC21 | C18: 100Gb/s, Datacenter crossconnect op ODC, Beheerprofiel Standaard | D18: 100 | E18: Standaard | F18: Geen behoefte / niet uitvragen
B19: DC22 | C19: 100Gb/s, Datacenter crossconnect op ODC, Beheerprofiel Hoog | D19: 100 | E19: Hoog | F19: 0 | G19: 0
B20: DC23 | C20: 100Gb/s, Datacenter crossconnect op ODC, Beheerprofiel Non-stop | D20: 100 | E20: Non-stop | F20: 0 | G20: 0
B23: Access bandbreedte (On-net maken, Inkoop 3e partijen)
B24: PDC code | C24: PDC omschrijving | F24: Cat I tarief
B25: AG01 | C25: On-net maken (glasvezel), opstartkosten | F25: 0
B26: AG02 | C26: On-net maken (glasvezel), graafkosten per meter | F26: 0
B27: AG03 | C27: On-net maken (glasvezel), kosten boren per meter | F27: 0
B28: AG04 | C28: On-net maken (radioverbinding) | F28: 0
B29: PDC code | C29: PDC omschrijving | F29: Cat IV tarief
B30: TP01 | C30: Opslag op eenmalig kosten bij inkoop 3de partij | F30: 0
B31: TP02 | C31: Opslag op maandelijkse kosten bij inkoop 3de partij | F31: 0
B34: Dienst bandbreedte (Aansluitwaarde)
F35: IP VPN / Ethernet | G35: Internet (incl. basis anti-DDoS)
F36: PDC code xx = IP of xx = ET | G36: PDC code xx = IN
C37: Tarief per Gb/s Aansluitwaarde | F37: 0 | G37: 0
B38: PDC code | C38: PDC omschrijving | F38: Cat III (maandelijks) | G38: Cat III (maandelijks)
B39: xx01 | C39: Aansluitwaarde 1 Gb/s | F39: =$F$37 -> 0 | G39: =$G$37 -> 0
B40: xx02 | C40: Aansluitwaarde 2 Gb/s | F40: =2*$F$37 -> 0 | G40: =2*$G$37 -> 0
B41: xx05 | C41: Aansluitwaarde 5 Gb/s | F41: =5*$F$37 -> 0 | G41: =5*$G$37 -> 0
B42: xx10 | C42: Aansluitwaarde 10 Gb/s | F42: =10*$F$37 -> 0 | G42: =10*$G$37 -> 0
B43: xx20 | C43: Aansluitwaarde 20 Gb/s | F43: =20*$F$37 -> 0 | G43: =20*$G$37 -> 0
B44: xx30 | C44: Aansluitwaarde 30 Gb/s | F44: =30*$F$37 -> 0 | G44: =30*$G$37 -> 0
B45: xx40 | C45: Aansluitwaarde 40 Gb/s | F45: =40*$F$37 -> 0 | G45: =40*$G$37 -> 0
B46: xx50 | C46: Aansluitwaarde 50 Gb/s | F46: =50*$F$37 -> 0 | G46: =50*$G$37 -> 0
B47: xx60 | C47: Aansluitwaarde 60 Gb/s | F47: =60*$F$37 -> 0 | G47: =60*$G$37 -> 0
...

Sheet Validatie
B2: Niet aanpassen Validatie waarden
B4: Tabblad Scenario1&2 kolom J | C4: Tabblad Scenario1 kolom K | E4: Tabblad Scenario2 kolom K
B5: On-Net | C5: FttO | E5: FttO
B6: On-Net maken (glasvezel) | C6: FttO (redundant) | E6: FttO (redundant)
B7: On-Net maken (radio) | C7: FttH | E7: FttH
B8: Inkoop bij 3e partij | C8: Radio | E8: Radio
C9: 4G/5G | E9: 4G/5G
C10: Coax | E10: Coax
C11: Koper | E11: Coax + 4G/5G backup
C12: Coax + 4G/5G backup
C13: Koper + 4G/5G backup
B17: Tabblad Locatielijst kolom I en M | C17: Tabblad Locatielijst kolom H | E17: Tabblad Locatielijst kolom L
B18: Ja | C18: =PDC!#REF! -> #REF! | D18: =PDC!#REF! -> #REF! | E18: Vervalt
B19: Nee | C19: =PDC!#REF! -> #REF! | D19: =PDC!#REF! -> #REF! | E19: =PDC!#REF! -> #REF! | F19: =PDC!#REF! -> #REF!
B20: Radio wel, 4G/5G niet | C20: =PDC!#REF! -> #REF! | D20: =PDC!#REF! -> #REF! | E20: =PDC!$C6 -> 1Gb/s, Local Access + CPE, Beheerprofiel Standaard | F20: =PDC!$B6 -> LA01
B21: 4G/5G wel, Radio niet | C21: =PDC!$C6 -> 1Gb/s, Local Access + CPE, Beheerprofiel Standaard | D21: =PDC!$B6 -> LA01 | E21: =PDC!$C7 -> 1Gb/s, Local Access + CPE, Beheerprofiel Hoog | F21: =PDC!$B7 -> LA02
C22: =PDC!$C7 -> 1Gb/s, Local Access + CPE, Beheerprofiel Hoog | D22: =PDC!$B7 -> LA02 | E22: =PDC!$C8 -> 1Gb/s, Local Access + CPE, Beheerprofiel Non-stop | F22: =PDC!$B8 -> LA03
C23: =PDC!$C8 -> 1Gb/s, Local Access + CPE, Beheerprofiel Non-stop | D23: =PDC!$B8 -> LA03 | E23: =PDC!$C9 -> 10Gb/s, Local Access + CPE, Beheerprofiel Standaard | F23: =PDC!$B9 -> LA11
C24: =PDC!$C9 -> 10Gb/s, Local Access + CPE, Beheerprofiel Standaard | D24: =PDC!$B9 -> LA11 | E24: =PDC!$C10 -> 10Gb/s, Local Access + CPE, Beheerprofiel Hoog | F24: =PDC!$B10 -> LA12
C25: =PDC!$C10 -> 10Gb/s, Local Access + CPE, Beheerprofiel Hoog | D25: =PDC!$B10 -> LA12 | E25: =PDC!$C11 -> 10Gb/s, Local Access + CPE, Beheerprofiel Non-stop | F25: =PDC!$B11 -> LA13
C26: =PDC!$C11 -> 10Gb/s, Local Access + CPE, Beheerprofiel Non-stop | D26: =PDC!$B11 -> LA13 | E26: =PDC!$C13 -> 100Gb/s, Local Access + CPE, Beheerprofiel Hoog | F26: =PDC!$B13 -> LA22
C27: =PDC!$C13 -> 100Gb/s, Local Access + CPE, Beheerprofiel Hoog | D27: =PDC!$B13 -> LA22 | E27: =PDC!$C14 -> 100Gb/s, Local Access + CPE, Beheerprofiel Non-stop | F27: =PDC!$B14 -> LA23
C28: =PDC!$C14 -> 100Gb/s, Local Access + CPE, Beheerprofiel Non-stop | D28: =PDC!$B14 -> LA23
