Workbook

Sheet Kortingspercentages
A1: Formulier E3 - Prijzenblad Perceel 3 Lasbenodigdheden
A4: Nr. | B4: Productcategorie | C4: Kortingsgroep | D4: Kortingspercentage
A5: 1.1 | B5: MIG/MAG | C5: Toorts compleet
A6: 1.2 | C6: Spare-part gasmondstuk
A7: 1.3 | C7: Spare-part kontaktbuisjes/contacttip
A8: 1.4 | C8: Spare-part gasverdeler
A9: 1.5 | C9: Spare-part contacttiphouder
A10: 1.6 | C10: Spare-part spiraalinliner
A11: 1.7 | C11: Spare-part tefloninliner
A12: 1.8 | C12: Aandrijfset
A14: 2.1 | B14: TIG | C14: Tig toorts
A15: 2.2 | C15: Kap
A16: 2.3 | C16: Teflon afdichting
A17: 2.4 | C17: Klem nippel
A18: 2.5 | C18: Klemnippelhouder
A19: 2.6 | C19: Gascup
A21: 3.1 | B21: Lastoevoegmateriaal | C21: Lasdraad fijngespoeld RVS per pallet
A22: 3.2 | C22: Lasdraad fijngespoeld staal SG2 per pallet
A23: 3.3 | C23: Lasdraad fijngespoeld RVS per rol á 15 kg
A24: 3.4 | C24: Lasdraad fijngespoeld staal SG2 per rol á 15 kg
A25: 3.5 | C25: Wolfram elektroden paars
A26: 3.6 | C26: Wolfram elektroden groen
A27: 3.7 | C27: Wolfram elektroden grijs
A28: 3.8 | C28: TIG lasdraad rvs 316
A29: 3.9 | C29: TIG lasdraad AlMg
A30: 3.10 | C30: Tig lasdraad SG2
A32: 4.1 | B32: Overige lasbenodigdheden | C32: Aardklem schroefmodel
A33: 4.2 | C33: Puntlassen
A34: 4.3 | C34: Plasmasnijden/snijden
A35: 4.4 | C35: Niet-gecategoriseerde lasmaterialen

Sheet Vergelijkingsprijs
A1: =Kortingspercentages!A1 -> Formulier E3 - Prijzenblad Perceel 3 Lasbenodigdheden
A4: Nr. | B4: Productcategorie | C4: Kortingsgroep | D4: Product | E4: Eenheid waarvoor de prijs voor het in kolom D gespecificeerde Product moet worden opgegeven | F4: Weging | G4: Catalogusprijs exclusief btw | H4: Catalogusprijs exclusief btw x eenheid (= kolom G x kolom E) | I4: Prijs per aangegeven eenheid met korting (kolom H - (kolom H x kortingspercentage dat is opgegegeven in het tabblad 'Kortingspercentages' voor de relevante kortingsgroep) | J4: Gewogen prijs (zijnde kortingsprijs (kolom I) x weging (kolom F))
A5: 1.1 | B5: MIG/MAG | C5: Toorts compleet | D5: Lastoorts mb24kd plus-4 mtr | E5: 1 | F5: 3 | H5: =E5*G5 -> 0 | I5: =H5-H5*Kortingspercentages!$D$5 -> 0 | J5: =I5*F5 -> 0
D6: Lastoorts, MIG SGB 250A - 4 mtr "GT | E6: 1 | F6: 3 | H6: =E6*G6 -> 0 | I6: =H6-H6*Kortingspercentages!$D$5 -> 0 | J6: =I6*F6 -> 0
D7: Mig toorts MB 501 | E7: 1 | F7: 3 | H7: =E7*G7 -> 0 | I7: =H7-H7*Kortingspercentages!$D$5 -> 0 | J7: =I7*F7 -> 0
D8: Mig toorts PAR MB240 - 3-mtr | E8: 1 | F8: 3 | H8: =E8*G8 -> 0 | I8: =H8-H8*Kortingspercentages!$D$5 -> 0 | J8: =I8*F8 -> 0
D9: Mig toorts PAR MB240 - 4-mtr | E9: 1 | F9: 3 | H9: =E9*G9 -> 0 | I9: =H9-H9*Kortingspercentages!$D$5 -> 0 | J9: =I9*F9 -> 0
D10: SB 240 W - 4m Ergo 270/300Amp PARWELD WATERGEKOELD MIG PISTOOL | E10: 1 | F10: 3 | H10: =E10*G10 -> 0 | I10: =H10-H10*Kortingspercentages!$D$5 -> 0 | J10: =I10*F10 -> 0
A11: 1.2 | C11: Spare-part gasmondstuk | D11: Gasmondstuk 10mm | E11: 5 | F11: 3 | H11: =E11*G11 -> 0 | I11: =H11-H11*Kortingspercentages!$D$6 -> 0 | J11: =I11*F11 -> 0
D12: Gasmondstuk 12.5mm - | E12: 5 | F12: 3 | H12: =E12*G12 -> 0 | I12: =H12-H12*Kortingspercentages!$D$6 -> 0 | J12: =I12*F12 -> 0
D13: Gasmondstuk 15.0mm | E13: 5 | F13: 3 | H13: =E13*G13 -> 0 | I13: =H13-H13*Kortingspercentages!$D$6 -> 0 | J13: =I13*F13 -> 0
D14: Gasmondstuk 16-12 mm pb 2416 | E14: 5 | F14: 3 | H14: =E14*G14 -> 0 | I14: =H14-H14*Kortingspercentages!$D$6 -> 0 | J14: =I14*F14 -> 0
D15: Gasmondstuk 16mm | E15: 5 | F15: 3 | H15: =E15*G15 -> 0 | I15: =H15-H15*Kortingspercentages!$D$6 -> 0 | J15: =I15*F15 -> 0
D16: Gasmondstuk 17 mm conisch | E16: 5 | F16: 3 | H16: =E16*G16 -> 0 | I16: =H16-H16*Kortingspercentages!$D$6 -> 0 | J16: =I16*F16 -> 0
D17: Gasmondstuk 17mm | E17: 5 | F17: 3 | H17: =E17*G17 -> 0 | I17: =H17-H17*Kortingspercentages!$D$6 -> 0 | J17: =I17*F17 -> 0
D18: Gasmondstuk conisch 10mm | E18: 5 | F18: 3 | H18: =E18*G18 -> 0 | I18: =H18-H18*Kortingspercentages!$D$6 -> 0 | J18: =I18*F18 -> 0
D19: Gasmondstuk conisch 12 mm | E19: 5 | F19: 3 | H19: =E19*G19 -> 0 | I19: =H19-H19*Kortingspercentages!$D$6 -> 0 | J19: =I19*F19 -> 0
D20: Gasmondstuk kon. 12,5 mm | E20: 5 | F20: 3 | H20: =E20*G20 -> 0 | I20: =H20-H20*Kortingspercentages!$D$6 -> 0 | J20: =I20*F20 -> 0
D21: GASMONDSTUK KUMOWELD KW-24 CIL. | E21: 5 | F21: 3 | H21: =E21*G21 -> 0 | I21: =H21-H21*Kortingspercentages!$D$6 -> 0 | J21: =I21*F21 -> 0
D22: Gasmondstuk mb15ak | E22: 5 | F22: 3 | H22: =E22*G22 -> 0 | I22: =H22-H22*Kortingspercentages!$D$6 -> 0 | J22: =I22*F22 -> 0
D23: Gasmondstuk mb24kd | E23: 5 | F23: 3 | H23: =E23*G23 -> 0 | I23: =H23-H23*Kortingspercentages!$D$6 -> 0 | J23: =I23*F23 -> 0
D24: MB24 Gasmondstuk lengte 75mm inwendig 20mm | E24: 5 | F24: 3 | H24: =E24*G24 -> 0 | I24: =H24-H24*Kortingspercentages!$D$6 -> 0 | J24: =I24*F24 -> 0
A25: 1.3 | C25: Spare-part kontaktbuisjes/contacttip | D25: Contacttip e-cu/alu m6-1.0 | E25: 10 | F25: 1 | H25: =E25*G25 -> 0 | I25: =H25-H25*Kortingspercentages!$D$7 -> 0 | J25: =I25*F25 -> 0
D26: Contacttip m8x0,8 28mm | E26: 10 | F26: 5 | H26: =E26*G26 -> 0 | I26: =H26-H26*Kortingspercentages!$D$7 -> 0 | J26: =I26*F26 -> 0
D27: Contacttip e-cu d6 m6-0.8 | E27: 10 | F27: 5 | H27: =E27*G27 -> 0 | I27: =H27-H27*Kortingspercentages!$D$7 -> 0 | J27: =I27*F27 -> 0
D28: Contacttip e-cu d8 m6-1.0 | E28: 10 | F28: 5 | H28: =E28*G28 -> 0 | I28: =H28-H28*Kortingspercentages!$D$7 -> 0 | J28: =I28*F28 -> 0
A29: 1.4 | C29: Spare-part gasverdeler | D29: Gasverdeler MB24KD 012.0183 | E29: 5 | F29: 3 | H29: =E29*G29 -> 0 | I29: =H29-H29*Kortingspercentages!$D$8 -> 0 | J29: =I29*F29 -> 0
D30: Gasverdeler standaard 20mm | E30: 5 | F30: 3 | H30: =E30*G30 -> 0 | I30: =H30-H30*Kortingspercentages!$D$8 -> 0 | J30: =I30*F30 -> 0
D31: GASVERDELER KUMOWELD KW-24 WIT | E31: 5 | F31: 3 | H31: =E31*G31 -> 0 | I31: =H31-H31*Kortingspercentages!$D$8 -> 0 | J31: =I31*F31 -> 0
D32: Gasverdeler PB 2405W | E32: 5 | F32: 3 | H32: =E32*G32 -> 0 | I32: =H32-H32*Kortingspercentages!$D$8 -> 0 | J32: =I32*F32 -> 0
D33: Gasverdeler wit B2405W | E33: 5 | F33: 3 | H33: =E33*G33 -> 0 | I33: =H33-H33*Kortingspercentages!$D$8 -> 0 | J33: =I33*F33 -> 0
D34: Gasverdelers MGW240W | E34: 5 | F34: 3 | H34: =E34*G34 -> 0 | I34: =H34-H34*Kortingspercentages!$D$8 -> 0 | J34: =I34*F34 -> 0
A35: 1.5 | C35: Spare-part contacttiphouder | D35: MB 25 AK gripplus: kontacttiphouder | E35: 5 | F35: 1 | H35: =E35*G35 -> 0 | I35: =H35-H35*Kortingspercentages!$D$9 -> 0 | J35: =I35*F35 -> 0
D36: Tiphouder 26 142.0007 m6 kort | E36: 5 | F36: 1 | H36: =E36*G36 -> 0 | I36: =H36-H36*Kortingspercentages!$D$9 -> 0 | J36: =I36*F36 -> 0
D37: Kontaktbuishouder M6x35 | E37: 5 | F37: 1 | H37: =E37*G37 -> 0 | I37: =H37-H37*Kortingspercentages!$D$9 -> 0 | J37: =I37*F37 -> 0
D38: Kontakttiphouder MDSm6-m6x26 | E38: 5 | F38: 1 | H38: =E38*G38 -> 0 | I38: =H38-H38*Kortingspercentages!$D$9 -> 0 | J38: =I38*F38 -> 0
A39: 1.6 | C39: Spare-part spiraalinliner | D39: Liner staal rood 4m 1,0-1,2 mm | E39: 1 | F39: 1 | H39: =E39*G39 -> 0 | I39: =H39-H39*Kortingspercentages!$D$10 -> 0 | J39: =I39*F39 -> 0
D40: Liner staal blauw 4m 0,8-1,0 mm | E40: 1 | F40: 1 | H40: =E40*G40 -> 0 | I40: =H40-H40*Kortingspercentages!$D$10 -> 0 | J40: =I40*F40 -> 0
A41: 1.7 | C41: Spare-part tefloninliner | D41: Teflon geleider rood- 4 mt | E41: 1 | F41: 1 | H41: =E41*G41 -> 0 | I41: =H41-H41*Kortingspercentages!$D$11 -> 0 | J41: =I41*F41 -> 0
D42: Teflon liner 1.0-1.2\4mtr.rood, | E42: 1 | F42: 1 | H42: =E42*G42 -> 0 | I42: =H42-H42*Kortingspercentages!$D$11 -> 0 | J42: =I42*F42 -> 0
A43: 1.8 | C43: Aandrijfset | D43: Duratorque kit fe(mc/fc) v0.8-0.9 f000330 | E43: 1 | F43: 1 | H43: =E43*G43 -> 0 | I43: =H43-H43*Kortingspercentages!$D$12 -> 0 | J43: =I43*F43 -> 0
D44: Duratorque kit fe(mc/fc) v1,0 f000331 | E44: 1 | F44: 1 | H44: =E44*G44 -> 0 | I44: =H44-H44*Kortingspercentages!$D$12 -> 0 | J44: =I44*F44 -> 0
A45: 2.1 | B45: TIG | C45: Tig toorts | D45: Slangenpakket voor Tig commander 320 AC/DC | E45: 1 | F45: 5 | H45: =E45*G45 -> 0 | I45: =H45-H45*Kortingspercentages!$D$14 -> 0 | J45: =I45*F45 -> 0
D46: Tig Ergo 201 - 4meter gasgekoeld MIGATRONIC TIG LASTOORTSEN | E46: 1 | F46: 5 | H46: =E46*G46 -> 0 | I46: =H46-H46*Kortingspercentages!$D$14 -> 0 | J46: =I46*F46 -> 0
D47: Tig las toorts 3 meter | E47: 1 | F47: 5 | H47: =E47*G47 -> 0 | I47: =H47-H47*Kortingspercentages!$D$14 -> 0 | J47: =I47*F47 -> 0
D48: Tig toorts Migatronic 400F 0313173 | E48: 1 | F48: 5 | H48: =E48*G48 -> 0 | I48: =H48-H48*Kortingspercentages!$D$14 -> 0 | J48: =I48*F48 -> 0
D49: Voetafstandbediening PG-1 7-Pole 5M AIR | E49: 1 | F49: 1 | H49: =E49*G49 -> 0 | I49: =H49-H49*Kortingspercentages!$D$14 -> 0 | J49: =I49*F49 -> 0
D50: Zwanehals mb15ak 002.0009 | E50: 1 | F50: 5 | H50: =E50*G50 -> 0 | I50: =H50-H50*Kortingspercentages!$D$14 -> 0 | J50: =I50*F50 -> 0
D51: Abitig grip 18-4m | E51: 1 | F51: 5 | H51: =E51*G51 -> 0 | I51: =H51-H51*Kortingspercentages!$D$14 -> 0 | J51: =I51*F51 -> 0
D52: Toortslich.abitig grip little 17/SR 17 | E52: 1 | F52: 5 | H52: =E52*G52 -> 0 | I52: =H52-H52*Kortingspercentages!$D$14 -> 0 | J52: =I52*F52 -> 0
D53: Toortslichaam abitig 18 712.2020 | E53: 1 | F53: 5 | H53: =E53*G53 -> 0 | I53: =H53-H53*Kortingspercentages!$D$14 -> 0 | J53: =I53*F53 -> 0
A54: 2.2 | C54: Kap | D54: Toortskap kort 57y04 17/18/26 712.1053 L9550100 | E54: 1 | F54: 5 | H54: =E54*G54 -> 0 | I54: =H54-H54*Kortingspercentages!$D$15 -> 0 | J54: =I54*F54 -> 0
D55: Toortskap lang 57y02 17/18/26 712.1051 L9550102 | E55: 1 | F55: 5 | H55: =E55*G55 -> 0 | I55: =H55-H55*Kortingspercentages!$D$15 -> 0 | J55: =I55*F55 -> 0
A56: 2.3 | C56: Teflon afdichting | D56: CUPAFDICHTING WP-17/18/26 18CG | E56: 5 | F56: 3 | H56: =E56*G56 -> 0 | I56: =H56-H56*Kortingspercentages!$D$16 -> 0 | J56: =I56*F56 -> 0
D57: Isolatiering 54 n 01 701,0130 | E57: 5 | F57: 3 | H57: =E57*G57 -> 0 | I57: =H57-H57*Kortingspercentages!$D$16 -> 0 | J57: =I57*F57 -> 0
A58: 2.4 | C58: Klem nippel | D58: SPANTANG 10N23 WP-17/18/26 1.6-50mm | E58: 5 | F58: 3 | H58: =E58*G58 -> 0 | I58: =H58-H58*Kortingspercentages!$D$17 -> 0 | J58: =I58*F58 -> 0
D59: SPANTANG 10N23M WP-17/18/26 2.0-50mm | E59: 5 | F59: 3 | H59: =E59*G59 -> 0 | I59: =H59-H59*Kortingspercentages!$D$17 -> 0 | J59: =I59*F59 -> 0
D60: SPANTANG 10N24 WP-17/18/26 2.4-50mm | E60: 5 | F60: 3 | H60: =E60*G60 -> 0 | I60: =H60-H60*Kortingspercentages!$D$17 -> 0 | J60: =I60*F60 -> 0
D61: SPANTANG 10N25 WP-17/18/26 3.2-50mm | E61: 5 | F61: 3 | H61: =E61*G61 -> 0 | I61: =H61-H61*Kortingspercentages!$D$17 -> 0 | J61: =I61*F61 -> 0
A62: 2.5 | C62: klemnippelhouder | D62: GASLENS 45V24 WP-17/18/26 1.0mm | E62: 10 | F62: 3 | H62: =E62*G62 -> 0 | I62: =H62-H62*Kortingspercentages!$D$18 -> 0 | J62: =I62*F62 -> 0
D63: GASLENS 45V25 WP-17/18/26 1.6mm | E63: 10 | F63: 3 | H63: =E63*G63 -> 0 | I63: =H63-H63*Kortingspercentages!$D$18 -> 0 | J63: =I63*F63 -> 0
D64: GASLENS 45V26 WP-17/18/26 2.4mm | E64: 10 | F64: 3 | H64: =E64*G64 -> 0 | I64: =H64-H64*Kortingspercentages!$D$18 -> 0 | J64: =I64*F64 -> 0
D65: GASLENS 45V27 WP-17/18/26 3.2mm | E65: 10 | F65: 3 | H65: =E65*G65 -> 0 | I65: =H65-H65*Kortingspercentages!$D$18 -> 0 | J65: =I65*F65 -> 0
D66: GASLENS 54N14 WP-17/18/26 GR-8 12.5mm | E66: 10 | F66: 3 | H66: =E66*G66 -> 0 | I66: =H66-H66*Kortingspercentages!$D$18 -> 0 | J66: =I66*F66 -> 0
D67: GASLENS 54N15 WP-17/18/26 GR-7 11.0mm | E67: 10 | F67: 3 | H67: =E67*G67 -> 0 | I67: =H67-H67*Kortingspercentages!$D$18 -> 0 | J67: =I67*F67 -> 0
D68: Spantang 10 n 23-1.6 702.0008 | E68: 10 | F68: 3 | H68: =E68*G68 -> 0 | I68: =H68-H68*Kortingspercentages!$D$18 -> 0 | J68: =I68*F68 -> 0
D69: Spantang 10 n 24-2.4 702.0009 | E69: 10 | F69: 3 | H69: =E69*G69 -> 0 | I69: =H69-H69*Kortingspercentages!$D$18 -> 0 | J69: =I69*F69 -> 0
D70: Spantanghouder 10 n 32-2.4 701.0196 | E70: 5 | F70: 1 | H70: =E70*G70 -> 0 | I70: =H70-H70*Kortingspercentages!$D$18 -> 0 | J70: =I70*F70 -> 0
D71: SPANTANGHOUDER 10N28 WP-17/18/26 3.2mm | E71: 5 | F71: 1 | H71: =E71*G71 -> 0 | I71: =H71-H71*Kortingspercentages!$D$18 -> 0 | J71: =I71*F71 -> 0
D72: SPANTANGHOUDER 10N31 WP-17/18/26 1.6mm | E72: 5 | F72: 1 | H72: =E72*G72 -> 0 | I72: =H72-H72*Kortingspercentages!$D$18 -> 0 | J72: =I72*F72 -> 0
D73: SPANTANGHOUDER 10N32 WP-17/18/26 2.4mm | E73: 5 | F73: 1 | H73: =E73*G73 -> 0 | I73: =H73-H73*Kortingspercentages!$D$18 -> 0 | J73: =I73*F73 -> 0
D74: SPANTANGHOUDER 70064 WP-17/18/26 2.0mm | E74: 5 | F74: 1 | H74: =E74*G74 -> 0 | I74: =H74-H74*Kortingspercentages!$D$18 -> 0 | J74: =I74*F74 -> 0
A75: 2.6 | C75: Gascup | D75: Alumina gaslenscup cup nr.6 | E75: 10 | F75: 5 | H75: =E75*G75 -> 0 | I75: =H75-H75*Kortingspercentages!$D$19 -> 0 | J75: =I75*F75 -> 0
D76: Alumina gaslenscup GR.7 rond 12,8 mm | E76: 10 | F76: 5 | H76: =E76*G76 -> 0 | I76: =H76-H76*Kortingspercentages!$D$19 -> 0 | J76: =I76*F76 -> 0
D77: Alumina gaslenscup GR.8 rond | E77: 10 | F77: 5 | H77: =E77*G77 -> 0 | I77: =H77-H77*Kortingspercentages!$D$19 -> 0 | J77: =I77*F77 -> 0
D78: Alumina gaslenscup. groot. diameter 30 naar 20. Lengte 48 mm. | E78: 10 | F78: 5 | H78: =E78*G78 -> 0 | I78: =H78-H78*Kortingspercentages!$D$19 -> 0 | J78: =I78*F78 -> 0
D79: Binzel gascup 54 n 14-gr. 8-12.5 | E79: 10 | F79: 5 | H79: =E79*G79 -> 0 | I79: =H79-H79*Kortingspercentages!$D$19 -> 0 | J79: =I79*F79 -> 0
D80: Gascup 10 n 46-gr. 8-12.5 | E80: 10 | F80: 5 | H80: =E80*G80 -> 0 | I80: =H80-H80*Kortingspercentages!$D$19 -> 0 | J80: =I80*F80 -> 0
D81: Gascup 10 n 47-gr. 7-11.0 | E81: 10 | F81: 5 | H81: =E81*G81 -> 0 | I81: =H81-H81*Kortingspercentages!$D$19 -> 0 | J81: =I81*F81 -> 0
D82: Gascup 10 n 48-gr. 6- 9.5 | E82: 10 | F82: 5 | H82: =E82*G82 -> 0 | I82: =H82-H82*Kortingspercentages!$D$19 -> 0 | J82: =I82*F82 -> 0
D83: Keramisch gasmondstuk 12, (54N19) MD13.701.0426 | E83: 10 | F83: 5 | H83: =E83*G83 -> 0 | I83: =H83-H83*Kortingspercentages!$D$19 -> 0 | J83: =I83*F83 -> 0
D84: Keramisch gasmondstuk 8, (54N14) MD13.701.0424 | E84: 10 | F84: 5 | H84: =E84*G84 -> 0 | I84: =H84-H84*Kortingspercentages!$D$19 -> 0 | J84: =I84*F84 -> 0
D85: Keramische las cup maat 4 | E85: 10 | F85: 5 | H85: =E85*G85 -> 0 | I85: =H85-H85*Kortingspercentages!$D$19 -> 0 | J85: =I85*F85 -> 0
D86: Keramische las cup maat 7 | E86: 10 | F86: 5 | H86: =E86*G86 -> 0 | I86: =H86-H86*Kortingspercentages!$D$19 -> 0 | J86: =I86*F86 -> 0
D87: CUP KERAMISCH 10N45 WP-17/18/26 GR-10 16.0mm | E87: 10 | F87: 5 | H87: =E87*G87 -> 0 | I87: =H87-H87*Kortingspercentages!$D$19 -> 0 | J87: =I87*F87 -> 0
A88: 3.1 | B88: Lastoevoegmateriaal | C88: Lasdraad fijngespoeld RVS per pallet | D88: Lasdraad 0,8mm RVS 316 L 15 kg | E88: 1 | F88: 1 | H88: =E88*G88 -> 0 | I88: =H88-H88*Kortingspercentages!$D$21 -> 0 | J88: =I88*F88 -> 0
D89: Lasdraad 1,0 mm RVS 316 L 15 kg | E89: 1 | F89: 1 | H89: =E89*G89 -> 0 | I89: =H89-H89*Kortingspercentages!$D$21 -> 0 | J89: =I89*F89 -> 0
D90: Lasdraad 1,2 mm RVS 316 L 15 kg | E90: 1 | F90: 1 | H90: =E90*G90 -> 0 | I90: =H90-H90*Kortingspercentages!$D$21 -> 0 | J90: =I90*F90 -> 0
A91: 3.2 | C91: Lasdraad fijngespoeld staal SG2 per pallet | D91: Lasdraad 0,8mm SG2 perfect | E91: 1 | F91: 5 | H91: =E91*G91 -> 0 | I91: =H91-H91*Kortingspercentages!$D$22 -> 0 | J91: =I91*F91 -> 0
D92: Lasdraad 1,0 mm SG2 perfect | E92: 1 | F92: 5 | H92: =E92*G92 -> 0 | I92: =H92-H92*Kortingspercentages!$D$22 -> 0 | J92: =I92*F92 -> 0
D93: Lasdraad 1,2 mm SG2 perfect | E93: 1 | F93: 1 | H93: =E93*G93 -> 0 | I93: =H93-H93*Kortingspercentages!$D$22 -> 0 | J93: =I93*F93 -> 0
A94: 3.3 | C94: Lasdraad fijngespoeld RVS per rol á 15 kg | D94: Lasdraad 0,8mm RVS 316 L 15 kg | E94: 1 | F94: 1 | H94: =E94*G94 -> 0 | I94: =H94-H94*Kortingspercentages!$D$23 -> 0 | J94: =I94*F94 -> 0
D95: Lasdraad 1,0 mm RVS 316 L 15 kg | E95: 1 | F95: 1 | H95: =E95*G95 -> 0 | I95: =H95-H95*Kortingspercentages!$D$23 -> 0 | J95: =I95*F95 -> 0
D96: Lasdraad 1,2 mm RVS 316 L 15 kg | E96: 1 | F96: 1 | H96: =E96*G96 -> 0 | I96: =H96-H96*Kortingspercentages!$D$23 -> 0 | J96: =I96*F96 -> 0
A97: 3.4 | C97: Lasdraad fijngespoeld staal SG2 per rol á 15 kg | D97: Lasdraad 0,8mm SG2 perfect 15 kg | E97: 1 | F97: 5 | H97: =E97*G97 -> 0 | I97: =H97-H97*Kortingspercentages!$D$24 -> 0 | J97: =I97*F97 -> 0
D98: Lasdraad 1,0 mm SG2 perfect 15 kg | E98: 1 | F98: 5 | H98: =E98*G98 -> 0 | I98: =H98-H98*Kortingspercentages!$D$24 -> 0 | J98: =I98*F98 -> 0
D99: Lasdraad 1,2 mm SG2 perfect 15 kg | E99: 1 | F99: 1 | H99: =E99*G99 -> 0 | I99: =H99-H99*Kortingspercentages!$D$24 -> 0 | J99: =I99*F99 -> 0
A100: 3.5 | C100: Wolfram elektroden paars | D100: Wolfram elektroden paars 1,6x175 | E100: 10 | F100: 3 | H100: =E100*G100 -> 0 | I100: =H100-H100*Kortingspercentages!$D$25 -> 0 | J100: =I100*F100 -> 0
D101: Wolfram elektroden paars 2,0x175 | E101: 10 | F101: 3 | H101: =E101*G101 -> 0 | I101: =H101-H101*Kortingspercentages!$D$25 -> 0 | J101: =I101*F101 -> 0
D102: Wolfram elektroden paars 2,4x175 | E102: 10 | F102: 3 | H102: =E102*G102 -> 0 | I102: =H102-H102*Kortingspercentages!$D$25 -> 0 | J102: =I102*F102 -> 0
...
