Workbook

Sheet Kortingspercentages
A1: Formulier E3 - Prijzenblad Perceel 3 Lasbenodigdheden
A4: Nr. | B4: Productcategorie | C4: Kortingsgroep | D4: Kortingspercentage
A5: 1.1 | B5: MIG/MAG | C5: Toorts compleet
A6: 1.2 | C6: Spare-part gasmondstuk
A7: 1.3 | C7: Spare-part kontaktbuisjes/contacttip
A8: 1.4 | C8: Spare-part gasverdeler
A9: 1.5 | C9: Spare-part contacttiphouder
A10: 1.6 | C10: Spare-part spiraalinliner
A11: 1.7 | C11: Spare-part tefloninliner
A12: 1.8 | C12: Aandrijfset
A14: 2.1 | B14: TIG | C14: Tig toorts
A15: 2.2 | C15: Kap
A16: 2.3 | C16: Teflon afdichting
A17: 2.4 | C17: Klem nippel
A18: 2.5 | C18: Klemnippelhouder
A19: 2.6 | C19: Gascup
A21: 3.1 | B21: Lastoevoegmateriaal | C21: Lasdraad fijngespoeld RVS per pallet
A22: 3.2 | C22: Lasdraad fijngespoeld staal SG2 per pallet
A23: 3.3 | C23: Lasdraad fijngespoeld RVS per rol á 15 kg
A24: 3.4 | C24: Lasdraad fijngespoeld staal SG2 per rol á 15 kg
A25: 3.5 | C25: Wolfram elektroden paars
A26: 3.6 | C26: Wolfram elektroden groen
A27: 3.7 | C27: Wolfram elektroden grijs
A28: 3.8 | C28: TIG lasdraad rvs 316
A29: 3.9 | C29: TIG lasdraad AlMg
A30: 3.10 | C30: Tig lasdraad SG2
A32: 4.1 | B32: Overige lasbenodigdheden | C32: Aardklem schroefmodel
A33: 4.2 | C33: Puntlassen
A34: 4.3 | C34: Plasmasnijden/snijden
A35: 4.4 | C35: Niet-gecategoriseerde lasmaterialen

Sheet Vergelijkingsprijs
A1: =Kortingspercentages!A1 -> Formulier E3 - Prijzenblad Perceel 3 Lasbenodigdheden
A4: Nr. | B4: Productcategorie | C4: Kortingsgroep | D4: Product | E4: Eenheid waarvoor de prijs voor het in kolom D gespecificeerde Product moet worden opgegeven | F4: Weging | G4: Catalogusprijs exclusief btw | H4: Catalogusprijs exclusief btw x eenheid (= kolom G x kolom E) | I4: Prijs per aangegeven eenheid met korting (kolom H - (kolom H x kortingspercentage dat is opgegegeven in het tabblad 'Kortingspercentages' voor de relevante kortingsgroep) | J4: Gewogen prijs (zijnde kortingsprijs (kolom I) x weging (kolom F))
A5: 1.1 | B5: MIG/MAG | C5: Toorts compleet | D5: Lastoorts mb24kd plus-4 mtr | E5: 1 | F5: 3 | H5: =E5*G5 -> 0 | I5: =H5-H5*Kortingspercentages!$D$5 -> 0 | J5: =I5*F5 -> 0
D6: Lastoorts, MIG SGB 250A - 4 mtr "GT | E6: 1 | F6: 3 | H6: =E6*G6 -> 0 | I6: =H6-H6*Kortingspercentages!$D$5 -> 0 | J6: =I6*F6 -> 0
D7: Mig toorts MB 501 | E7: 1 | F7: 3 | H7: =E7*G7 -> 0 | I7: =H7-H7*Kortingspercentages!$D$5 -> 0 | J7: =I7*F7 -> 0
D8: Mig toorts PAR MB240 - 3-mtr | E8: 1 | F8: 3 | H8: =E8*G8 -> 0 | I8: =H8-H8*Kortingspercentages!$D$5 -> 0 | J8: =I8*F8 -> 0
D9: Mig toorts PAR MB240 - 4-mtr | E9: 1 | F9: 3 | H9: =E9*G9 -> 0 | I9: =H9-H9*Kortingspercentages!$D$5 -> 0 | J9: =I9*F9 -> 0
D10: SB 240 W - 4m Ergo 270/300Amp PARWELD WATERGEKOELD MIG PISTOOL | E10: 1 | F10: 3 | H10: =E10*G10 -> 0 | I10: =H10-H10*Kortingspercentages!$D$5 -> 0 | J10: =I10*F10 -> 0
A11: 1.2 | C11: Spare-part gasmondstuk | D11: Gasmondstuk 10mm | E11: 5 | F11: 3 | H11: =E11*G11 -> 0 | I11: =H11-H11*Kortingspercentages!$D$6 -> 0 | J11: =I11*F11 -> 0
D12: Gasmondstuk 12.5mm - | E12: 5 | F12: 3 | H12: =E12*G12 -> 0 | I12: =H12-H12*Kortingspercentages!$D$6 -> 0 | J12: =I12*F12 -> 0
D13: Gasmondstuk 15.0mm | E13: 5 | F13: 3 | H13: =E13*G13 -> 0 | I13: =H13-H13*Kortingspercentages!$D$6 -> 0 | J13: =I13*F13 -> 0
D14: Gasmondstuk 16-12 mm pb 2416 | E14: 5 | F14: 3 | H14: =E14*G14 -> 0 | I14: =H14-H14*Kortingspercentages!$D$6 -> 0 | J14: =I14*F14 -> 0
D15: Gasmondstuk 16mm | E15: 5 | F15: 3 | H15: =E15*G15 -> 0 | I15: =H15-H15*Kortingspercentages!$D$6 -> 0 | J15: =I15*F15 -> 0
D16: Gasmondstuk 17 mm conisch | E16: 5 | F16: 3 | H16: =E16*G16 -> 0 | I16: =H16-H16*Kortingspercentages!$D$6 -> 0 | J16: =I16*F16 -> 0
D17: Gasmondstuk 17mm | E17: 5 | F17: 3 | H17: =E17*G17 -> 0 | I17: =H17-H17*Kortingspercentages!$D$6 -> 0 | J17: =I17*F17 -> 0
D18: Gasmondstuk conisch 10mm | E18: 5 | F18: 3 | H18: =E18*G18 -> 0 | I18: =H18-H18*Kortingspercentages!$D$6 -> 0 | J18: =I18*F18 -> 0
D19: Gasmondstuk conisch 12 mm | E19: 5 | F19: 3 | H19: =E19*G19 -> 0 | I19: =H19-H19*Kortingspercentages!$D$6 -> 0 | J19: =I19*F19 -> 0
D20: Gasmondstuk kon. 12,5 mm | E20: 5 | F20: 3 | H20: =E20*G20 -> 0 | I20: =H20-H20*Kortingspercentages!$D$6 -> 0 | J20: =I20*F20 -> 0
D21: GASMONDSTUK KUMOWELD KW-24 CIL. | E21: 5 | F21: 3 | H21: =E21*G21 -> 0 | I21: =H21-H21*Kortingspercentages!$D$6 -> 0 | J21: =I21*F21 -> 0
D22: Gasmondstuk mb15ak | E22: 5 | F22: 3 | H22: =E22*G22 -> 0 | I22: =H22-H22*Kortingspercentages!$D$6 -> 0 | J22: =I22*F22 -> 0
D23: Gasmondstuk mb24kd | E23: 5 | F23: 3 | H23: =E23*G23 -> 0 | I23: =H23-H23*Kortingspercentages!$D$6 -> 0 | J23: =I23*F23 -> 0
D24: MB24 Gasmondstuk lengte 75mm inwendig 20mm | E24: 5 | F24: 3 | H24: =E24*G24 -> 0 | I24: =H24-H24*Kortingspercentages!$D$6 -> 0 | J24: =I24*F24 -> 0
A25: 1.3 | C25: Spare-part kontaktbuisjes/contacttip | D25: Contacttip e-cu/alu m6-1.0 | E25: 10 | F25: 1 | H25: =E25*G25 -> 0 | I25: =H25-H25*Kortingspercentages!$D$7 -> 0 | J25: =I25*F25 -> 0
D26: Contacttip m8x0,8 28mm | E26: 10 | F26: 5 | H26: =E26*G26 -> 0 | I26: =H26-H26*Kortingspercentages!$D$7 -> 0 | J26: =I26*F26 -> 0
D27: Contacttip e-cu d6 m6-0.8 | E27: 10 | F27: 5 | H27: =E27*G27 -> 0 | I27: =H27-H27*Kortingspercentages!$D$7 -> 0 | J27: =I27*F27 -> 0
D28: Contacttip e-cu d8 m6-1.0 | E28: 10 | F28: 5 | H28: =E28*G28 -> 0 | I28: =H28-H28*Kortingspercentages!$D$7 -> 0 | J28: =I28*F28 -> 0
A29: 1.4 | C29: Spare-part gasverdeler | D29: Gasverdeler MB24KD 012.0183 | E29: 5 | F29: 3 | H29: =E29*G29 -> 0 | I29: =H29-H29*Kortingspercentages!$D$8 -> 0 | J29: =I29*F29 -> 0
D30: Gasverdeler standaard 20mm | E30: 5 | F30: 3 | H30: =E30*G30 -> 0 | I30: =H30-H30*Kortingspercentages!$D$8 -> 0 | J30: =I30*F30 -> 0
D31: GASVERDELER KUMOWELD KW-24 WIT | E31: 5 | F31: 3 | H31: =E31*G31 -> 0 | I31: =H31-H31*Kortingspercentages!$D$8 -> 0 | J31: =I31*F31 -> 0
D32: Gasverdeler PB 2405W | E32: 5 | F32: 3 | H32: =E32*G32 -> 0 | I32: =H32-H32*Kortingspercentages!$D$8 -> 0 | J32: =I32*F32 -> 0
D33: Gasverdeler wit B2405W | E33: 5 | F33: 3 | H33: =E33*G33 -> 0 | I33: =H33-H33*Kortingspercentages!$D$8 -> 0 | J33: =I33*F33 -> 0
D34: Gasverdelers MGW240W | E34: 5 | F34: 3 | H34: =E34*G34 -> 0 | I34: =H34-H34*Kortingspercentages!$D$8 -> 0 | J34: =I34*F34 -> 0
A35: 1.5 | C35: Spare-part contacttiphouder | D35: MB 25 AK gripplus: kontacttiphouder | E35: 5 | F35: 1 | H35: =E35*G35 -> 0 | I35: =H35-H35*Kortingspercentages!$D$9 -> 0 | J35: =I35*F35 -> 0
D36: Tiphouder 26 142.0007 m6 kort | E36: 5 | F36: 1 | H36: =E36*G36 -> 0 | I36: =H36-H36*Kortingspercentages!$D$9 -> 0 | J36: =I36*F36 -> 0
D37: Kontaktbuishouder M6x35 | E37: 5 | F37: 1 | H37: =E37*G37 -> 0 | I37: =H37-H37*Kortingspercentages!$D$9 -> 0 | J37: =I37*F37 -> 0
D38: Kontakttiphouder MDSm6-m6x26 | E38: 5 | F38: 1 | H38: =E38*G38 -> 0 | I38: =H38-H38*Kortingspercentages!$D$9 -> 0 | J38: =I38*F38 -> 0
A39: 1.6 | C39: Spare-part spiraalinliner | D39: Liner staal rood 4m 1,0-1,2 mm | E39: 1 | F39: 1 | H39: =E39*G39 -> 0 | I39: =H39-H39*Kortingspercentages!$D$10 -> 0 | J39: =I39*F39 -> 0
D40: Liner staal blauw 4m 0,8-1,0 mm | E40: 1 | F40: 1 | H40: =E40*G40 -> 0 | I40: =H40-H40*Kortingspercentages!$D$10 -> 0 | J40: =I40*F40 -> 0
A41: 1.7 | C41: Spare-part tefloninliner | D41: Teflon geleider rood- 4 mt | E41: 1 | F41: 1 | H41: =E41*G41 -> 0 | I41: =H41-H41*Kortingspercentages!$D$11 -> 0 | J41: =I41*F41 -> 0
D42: Teflon liner 1.0-1.2\4mtr.rood, | E42: 1 | F42: 1 | H42: =E42*G42 -> 0 | I42: =H42-H42*Kortingspercentages!$D$11 -> 0 | J42: =I42*F42 -> 0
...
