Workbook
Name SCORE: 'Beoordelen open vragen'!$A$24:$A$29

Sheet Beoordelen open vragen
A1: Beoordeling open vragen
A2: Om de kwaliteit van een inschrijver te kunnen beoordelen heeft de aanbestedende dienst gekozen voor de beoordelingsmethodiek ‘gunnen op waarde’. Per item zal de beoordelingsgroep een waarde toekennen, afhankelijk van het onderwerp en de keuzemogelijkheden die de beoordelaar heeft voor dat onderdeel. Hoe meer toegevoegde waarde en/of kwaliteit een inschrijver biedt, hoe hoger zij op het onderdeel kwaliteit scoort (meer € waarde). Om de kwaliteit en toegevoegde waarde van de inschrijver(s) te kunnen beoordelen dient inschrijver haar kwaliteit aan te tonen en meerwaarde uit te werken conform onderstaande open vragen.
A3: 6.2.1 PLAN VAN AANPAK (AANVANG DIENSTVERLENING)
A4: Inschrijver dient te beschrijven op maximaal 2 A4 op welke wijze zij bij aanvang (bij de start van de dynamische verificatiefase) van de dienstverlening zich gaat verdiepen in de organisatie van de opdrachtgever en hoe zij haar dienstverlening gaat afstemmen op de uitvoering van de dienstverlening. Inschrijver beschrijft hier minimaal; • Op welke wijze gaat inschrijver zich verdiepen in de organisatie van de opdrachtgever? Inschrijver beschrijft daarbij minimaal hoe zij vanuit een partnerschap met een langdurige insteek zich gaat verdiepen over de verschillende scholen in cultuur, behoefte, aard van het onderwijs en plaats van de school in de samenleving; • Een realistisch tijdspad binnen de gestelde termijnen van deze aanbesteding (wanneer doet inschrijver wat in de eerste fase van de dynamische verificatie); • Communicatieplan (met wie wil de inschrijver op welk niveau en wanneer welke communicatie laten plaatsvinden om de juiste voorbereidingen te treffen, voordat de dynamische verificatiefase van start gaat); • Een verwachte inzet (in uren en welke functionaris(sen)) van de opdrachtgever zelf; • Op welke wijze borgt inschrijver dat de medewerkers die de dienstverlening gaan uitvoeren volledig op de hoogte zijn van de uitgangspunten van deze aanbesteding? • Welke risico’s ziet inschrijver gedurende de dynamische verificatiefase en welke beheersmaatregelen gaat zij treffen of het succesvol te kunnen afronden?
A5: 6.2.2 TEVREDENHEID
A6: Inschrijver dient te beschrijven op maximaal 1 A4 op welke wijze zij gedurende de looptijd van de overeenkomst maximale klanttevredenheid bij opdrachtgever zal waarborgen. Daarnaast dient inschrijver te beschrijven hoe zij de klanttevredenheid gedurende de looptijd zal monitoren en welke actie zij onderneemt bij verminderde tevredenheid.
A7: 6.2.3 BESCHRIJVING BOEKINGSPROCES
A8: Inschrijver dient op maximaal 6 A4 haar online- en offline boekingsproces te beschrijven. Inschrijver beschrijft hier minimaal; • Hoe zij het boekingsproces gaat inrichten naar de wensen van de opdrachtgever; • Hoe zij gebruiksvriendelijkheid van het boekingsproces monitort; • Welke stappen een boeker moet doorlopen om een boeking te plaatsen; • Hoe voorkomt inschrijver dat er onduidelijkheid ontstaat over de bedoelde plaatsnaam van bestemming? Hiermee bedoelt opdrachtgever dezelfde plaatsnaam in een andere provincie. Hoe borgt inschrijver de kennis over de verschillende continenten en landen om een verkeerde boeking te voorkomen?; • Welke flexibiliteit biedt inschrijver ten aanzien van de boeking? Bijvoorbeeld in de situatie dat de reiziger in verband met een pandemie vast zit in Bangkok waarbij de reis of vervolgreis niet door kan gaan?; • In welke mate blijft inschrijver betrokken bij de uitvoering van de reis vanaf het moment dat het vervoersmiddel vertrokken is?; • Hoe garandeert inschrijver de veiligheid bij het boeken van binnenlandse vluchten (doorreis) op de plaats van bestemming? Inschrijver denkt hierbij aan kleine vliegmaatschappijen en kleine vliegtuigen; • Wat kan inschrijver betekenen voor het aanvragen van een Visa?; • Wat kan inschrijver betekenen voor de reiziger ten aanzien van specifieke Visa voorwaarden, lokale regels en vaccinatie voorwaarden en op welk moment? Voor, tijdens of na de boeking?; • Hoe gaat inschrijver om met de situatie dat de reiziger op basis van eerdere ervaringen zelf andere vervoersmiddelen regelt dan wat inschrijver aangeboden heeft?
A9: 6.2.4 CALAMITEITEN
A10: Inschrijver dient te beschrijven op maximaal 2 A4 hoe zij handelt wanneer er zich op de reisbestemming calamiteiten voordoen, hierbij dienen inschrijvers te denken aan de volgende situaties: • Een reiziger mist zijn bus; • Verlies of diefstal van reisdocumenten; • Een reiziger wordt ziek gedurende de reis; • Mate waarin inschrijver meedenkt over oplossingen van problemen die zich voordoen bij een nieuwe internationale catastrofe waarvoor bijvoorbeeld evacuaties nodig zijn.
A11: 6.2.5 DUURZAAMHEID
A12: Inschrijver dient te beschrijven op maximaal 1 A4 welke maatregelen zij treft met betrekking tot duurzaamheid, CO2 uitstoot en reductie en CO2 compensatie.
... A22: Zie bijlage 6b Kwaliteit.
A23: Wijze van beoordeling van de open vragen: | B23: 6.2.1 | C23: 6.2.2 | D23: 6.2.3 | E23: 6.2.4 | F23: 6.2.5 | G23: 6.2.6 | H23: 6.2.7 | I23: 6.2.8 | J23: 6.2.9 | K23: 6.2.10
A24: Uitmuntend | B24: 2500 | C24: 2500 | D24: 2500 | E24: 2500 | F24: 2500 | G24: 7500 | H24: 7500 | I24: 7500 | J24: 7500 | K24: 7500
A25: Goed | B25: =B24/2 -> 1250 | C25: =C24/2 -> 1250 | D25: =D24/2 -> 1250 | E25: =E24/2 -> 1250 | F25: =F24/2 -> 1250 | G25: 3750 | H25: 3750 | I25: 3750 | J25: 3750 | K25: 3750
A26: Voldoende | B26: 0 | C26: 0 | D26: 0 | E26: 0 | F26: 0 | G26: 0 | H26: 0 | I26: 0 | J26: 0 | K26: 0
A27: Matig | B27: -2500 | C27: -2500 | D27: -2500 | E27: -2500 | F27: -2500 | G27: -7500 | H27: -7500 | I27: -7500 | J27: -7500 | K27: -7500
A28: Onvoldoende | B28: -10000 | C28: -10000 | D28: -10000 | E28: KO | F28: -10000 | G28: KO | H28: KO | I28: KO | J28: KO | K28: KO
A29: SCORE
A31: SCORE
A32: Uitmuntend
A33: Goed
A34: Voldoende
A35: Matig
A36: Onvoldoende

Sheet Beoordelaar 1
A1: Beoordelaar 1: <<>> | C1: Inschrijver 1
A2: Open vragen | C2: Score:
A3: ='Beoordelen open vragen'!A3 -> 6.2.1 PLAN VAN AANPAK (AANVANG DIENSTVERLENING) | C3: SCORE
A4: ='Beoordelen open vragen'!A4 -> Inschrijver dient te beschrijven op maximaal 2 A4 op welke wijze zij bij aanvang (bij de start van de dynamische verificatiefase) van de dienstverlening zich gaat verdiepen in de organisatie van de opdrachtgever en hoe zij haar dienstverlening gaat afstemmen op de uitvoering van de dienstverlening. Inschrijver beschrijft hier minimaal; • Op welke wijze gaat inschrijver zich verdiepen in de organisatie van de opdrachtgever? Inschrijver beschrijft daarbij minimaal hoe zij vanuit een partnerschap met een langdurige insteek zich gaat verdiepen over de verschillende scholen in cultuur, behoefte, aard van het onderwijs en plaats van de school in de samenleving; • Een realistisch tijdspad binnen de gestelde termijnen van deze aanbesteding (wanneer doet inschrijver wat in de eerste fase van de dynamische verificatie); • Communicatieplan (met wie wil de inschrijver op welk niveau en wanneer welke communicatie laten plaatsvinden om de juiste voorbereidingen te treffen, voordat de dynamische verificatiefase van start gaat); • Een verwachte inzet (in uren en welke functionaris(sen)) van de opdrachtgever zelf; • Op welke wijze borgt inschrijver dat de medewerkers die de dienstverlening gaan uitvoeren volledig op de hoogte zijn van de uitgangspunten van deze aanbesteding? • Welke risico’s ziet inschrijver gedurende de dynamische verificatiefase en welke beheersmaatregelen gaat zij treffen of het succesvol te kunnen afronden? | C4: <MOTIVATIE>
A5: ='Beoordelen open vragen'!A5 -> 6.2.2 TEVREDENHEID | C5: SCORE
A6: ='Beoordelen open vragen'!A6 -> Inschrijver dient te beschrijven op maximaal 1 A4 op welke wijze zij gedurende de looptijd van de overeenkomst maximale klanttevredenheid bij opdrachtgever zal waarborgen. Daarnaast dient inschrijver te beschrijven hoe zij de klanttevredenheid gedurende de looptijd zal monitoren en welke actie zij onderneemt bij verminderde tevredenheid. | C6: <MOTIVATIE>
A7: ='Beoordelen open vragen'!A7 -> 6.2.3 BESCHRIJVING BOEKINGSPROCES | C7: SCORE
A8: ='Beoordelen open vragen'!A8 -> Inschrijver dient op maximaal 6 A4 haar online- en offline boekingsproces te beschrijven. Inschrijver beschrijft hier minimaal; • Hoe zij het boekingsproces gaat inrichten naar de wensen van de opdrachtgever; • Hoe zij gebruiksvriendelijkheid van het boekingsproces monitort; • Welke stappen een boeker moet doorlopen om een boeking te plaatsen; • Hoe voorkomt inschrijver dat er onduidelijkheid ontstaat over de bedoelde plaatsnaam van bestemming? Hiermee bedoelt opdrachtgever dezelfde plaatsnaam in een andere provincie. Hoe borgt inschrijver de kennis over de verschillende continenten en landen om een verkeerde boeking te voorkomen?; • Welke flexibiliteit biedt inschrijver ten aanzien van de boeking? Bijvoorbeeld in de situatie dat de reiziger in verband met een pandemie vast zit in Bangkok waarbij de reis of vervolgreis niet door kan gaan?; • In welke mate blijft inschrijver betrokken bij de uitvoering van de reis vanaf het moment dat het vervoersmiddel vertrokken is?; • Hoe garandeert inschrijver de veiligheid bij het boeken van binnenlandse vluchten (doorreis) op de plaats van bestemming? Inschrijver denkt hierbij aan kleine vliegmaatschappijen en kleine vliegtuigen; • Wat kan inschrijver betekenen voor het aanvragen van een Visa?; • Wat kan inschrijver betekenen voor de reiziger ten aanzien van specifieke Visa voorwaarden, lokale regels en vaccinatie voorwaarden en op welk moment? Voor, tijdens of na de boeking?; • Hoe gaat inschrijver om met de situatie dat de reiziger op basis van eerdere ervaringen zelf andere vervoersmiddelen regelt dan wat inschrijver aangeboden heeft? | C8: <MOTIVATIE>
A9: ='Beoordelen open vragen'!A9 -> 6.2.4 CALAMITEITEN | C9: SCORE
A10: ='Beoordelen open vragen'!A10:B10 -> Inschrijver dient te beschrijven op maximaal 2 A4 hoe zij handelt wanneer er zich op de reisbestemming calamiteiten voordoen, hierbij dienen inschrijvers te denken aan de volgende situaties: • Een reiziger mist zijn bus; • Verlies of diefstal van reisdocumenten; • Een reiziger wordt ziek gedurende de reis; • Mate waarin inschrijver meedenkt over oplossingen van problemen die zich voordoen bij een nieuwe internationale catastrofe waarvoor bijvoorbeeld evacuaties nodig zijn. | C10: <MOTIVATIE>
A11: ='Beoordelen open vragen'!A11 -> 6.2.5 DUURZAAMHEID | C11: SCORE
A12: ='Beoordelen open vragen'!A12 -> Inschrijver dient te beschrijven op maximaal 1 A4 welke maatregelen zij treft met betrekking tot duurzaamheid, CO2 uitstoot en reductie en CO2 compensatie. | C12: <MOTIVATIE>
A13: ='Beoordelen open vragen'!A13 -> 6.2.6 KOSTEN EN BEREIKBAARHEID VOOR ALLE LEERLINGEN EN STUDENTEN | C13: SCORE
A14: ='Beoordelen open vragen'!A14 -> Inschrijver dient op maximaal 2 A4 te beschrijven op welke wijze zij gebruikt maakt van partners, om invulling te geven op de volgende vraagstukken. • Hoe voorkomt inschrijver dat de kosten voor een reis dusdanig hoog uitvallen dat de hele reis niet kan plaats vinden?; • Hoe zorgt inschrijver ervoor dat reizen voor studenten met beperkt budget bereikbaar blijven?; • Hoe gaat inschrijver om met situatie dat een vergelijkbare reis elders goedkoper aangeboden wordt?; • Bij welk %-verschil vindt de inschrijver dat zij stappen moet nemen om het eigen aanbod aan te passen? | C14: <MOTIVATIE>
A15: ='Beoordelen open vragen'!A15 -> 6.2.7 CASUS 1: INCORRECTE GEGEVENS OP VISA EN TICKETS | C15: SCORE
A16: ='Beoordelen open vragen'!A16 -> Zie bijlage 6b Kwaliteit. | C16: <MOTIVATIE>
A17: ='Beoordelen open vragen'!A17 -> 6.2.8 CASUS 2: COMPLEXE REIS DIVERSE LANDEN EN BESMETTINGEN | C17: SCORE
A18: ='Beoordelen open vragen'!A18 -> Zie bijlage 6b Kwaliteit. | C18: <MOTIVATIE>
A19: ='Beoordelen open vragen'!A19 -> 6.2.9 CASUS 3: COMPLEXE RIES INCLUSIEF DOMESTIC FLIGHTS | C19: SCORE
A20: ='Beoordelen open vragen'!A20 -> Zie bijlage 6b Kwaliteit. | C20: <MOTIVATIE>
A21: ='Beoordelen open vragen'!A21 -> 6.2.10 CASUS 4: VLUCHT GECANCELD | C21: SCORE
A22: ='Beoordelen open vragen'!A22 -> Zie bijlage 6b Kwaliteit. | C22: <MOTIVATIE>

Sheet Beoordelaar 2
A1: Beoordelaar 2: <<>> | C1: Inschrijver 1
A2: Open vragen | C2: Score:
A3: ='Beoordelen open vragen'!A3 -> 6.2.1 PLAN VAN AANPAK (AANVANG DIENSTVERLENING) | C3: SCORE
A4: ='Beoordelen open vragen'!A4 -> Inschrijver dient te beschrijven op maximaal 2 A4 op welke wijze zij bij aanvang (bij de start van de dynamische verificatiefase) van de dienstverlening zich gaat verdiepen in de organisatie van de opdrachtgever en hoe zij haar dienstverlening gaat afstemmen op de uitvoering van de dienstverlening. Inschrijver beschrijft hier minimaal; • Op welke wijze gaat inschrijver zich verdiepen in de organisatie van de opdrachtgever? Inschrijver beschrijft daarbij minimaal hoe zij vanuit een partnerschap met een langdurige insteek zich gaat verdiepen over de verschillende scholen in cultuur, behoefte, aard van het onderwijs en plaats van de school in de samenleving; • Een realistisch tijdspad binnen de gestelde termijnen van deze aanbesteding (wanneer doet inschrijver wat in de eerste fase van de dynamische verificatie); • Communicatieplan (met wie wil de inschrijver op welk niveau en wanneer welke communicatie laten plaatsvinden om de juiste voorbereidingen te treffen, voordat de dynamische verificatiefase van start gaat); • Een verwachte inzet (in uren en welke functionaris(sen)) van de opdrachtgever zelf; • Op welke wijze borgt inschrijver dat de medewerkers die de dienstverlening gaan uitvoeren volledig op de hoogte zijn van de uitgangspunten van deze aanbesteding? • Welke risico’s ziet inschrijver gedurende de dynamische verificatiefase en welke beheersmaatregelen gaat zij treffen of het succesvol te kunnen afronden? | C4: <MOTIVATIE>
A5: ='Beoordelen open vragen'!A5 -> 6.2.2 TEVREDENHEID | C5: SCORE
A6: ='Beoordelen open vragen'!A6 -> Inschrijver dient te beschrijven op maximaal 1 A4 op welke wijze zij gedurende de looptijd van de overeenkomst maximale klanttevredenheid bij opdrachtgever zal waarborgen. Daarnaast dient inschrijver te beschrijven hoe zij de klanttevredenheid gedurende de looptijd zal monitoren en welke actie zij onderneemt bij verminderde tevredenheid. | C6: <MOTIVATIE>
A7: ='Beoordelen open vragen'!A7 -> 6.2.3 BESCHRIJVING BOEKINGSPROCES | C7: SCORE
A8: ='Beoordelen open vragen'!A8 -> Inschrijver dient op maximaal 6 A4 haar online- en offline boekingsproces te beschrijven. Inschrijver beschrijft hier minimaal; • Hoe zij het boekingsproces gaat inrichten naar de wensen van de opdrachtgever; • Hoe zij gebruiksvriendelijkheid van het boekingsproces monitort; • Welke stappen een boeker moet doorlopen om een boeking te plaatsen; • Hoe voorkomt inschrijver dat er onduidelijkheid ontstaat over de bedoelde plaatsnaam van bestemming? Hiermee bedoelt opdrachtgever dezelfde plaatsnaam in een andere provincie. Hoe borgt inschrijver de kennis over de verschillende continenten en landen om een verkeerde boeking te voorkomen?; • Welke flexibiliteit biedt inschrijver ten aanzien van de boeking? Bijvoorbeeld in de situatie dat de reiziger in verband met een pandemie vast zit in Bangkok waarbij de reis of vervolgreis niet door kan gaan?; • In welke mate blijft inschrijver betrokken bij de uitvoering van de reis vanaf het moment dat het vervoersmiddel vertrokken is?; • Hoe garandeert inschrijver de veiligheid bij het boeken van binnenlandse vluchten (doorreis) op de plaats van bestemming? Inschrijver denkt hierbij aan kleine vliegmaatschappijen en kleine vliegtuigen; • Wat kan inschrijver betekenen voor het aanvragen van een Visa?; • Wat kan inschrijver betekenen voor de reiziger ten aanzien van specifieke Visa voorwaarden, lokale regels en vaccinatie voorwaarden en op welk moment? Voor, tijdens of na de boeking?; • Hoe gaat inschrijver om met de situatie dat de reiziger op basis van eerdere ervaringen zelf andere vervoersmiddelen regelt dan wat inschrijver aangeboden heeft? | C8: <MOTIVATIE>
A9: ='Beoordelen open vragen'!A9 -> 6.2.4 CALAMITEITEN | C9: SCORE
A10: ='Beoordelen open vragen'!A10:B10 -> Inschrijver dient te beschrijven op maximaal 2 A4 hoe zij handelt wanneer er zich op de reisbestemming calamiteiten voordoen, hierbij dienen inschrijvers te denken aan de volgende situaties: • Een reiziger mist zijn bus; • Verlies of diefstal van reisdocumenten; • Een reiziger wordt ziek gedurende de reis; • Mate waarin inschrijver meedenkt over oplossingen van problemen die zich voordoen bij een nieuwe internationale catastrofe waarvoor bijvoorbeeld evacuaties nodig zijn. | C10: <MOTIVATIE>
A11: ='Beoordelen open vragen'!A11 -> 6.2.5 DUURZAAMHEID | C11: SCORE
A12: ='Beoordelen open vragen'!A12 -> Inschrijver dient te beschrijven op maximaal 1 A4 welke maatregelen zij treft met betrekking tot duurzaamheid, CO2 uitstoot en reductie en CO2 compensatie. | C12: <MOTIVATIE>
A13: ='Beoordelen open vragen'!A13 -> 6.2.6 KOSTEN EN BEREIKBAARHEID VOOR ALLE LEERLINGEN EN STUDENTEN | C13: SCORE
A14: ='Beoordelen open vragen'!A14 -> Inschrijver dient op maximaal 2 A4 te beschrijven op welke wijze zij gebruikt maakt van partners, om invulling te geven op de volgende vraagstukken. • Hoe voorkomt inschrijver dat de kosten voor een reis dusdanig hoog uitvallen dat de hele reis niet kan plaats vinden?; • Hoe zorgt inschrijver ervoor dat reizen voor studenten met beperkt budget bereikbaar blijven?; • Hoe gaat inschrijver om met situatie dat een vergelijkbare reis elders goedkoper aangeboden wordt?; • Bij welk %-verschil vindt de inschrijver dat zij stappen moet nemen om het eigen aanbod aan te passen? | C14: <MOTIVATIE>
A15: ='Beoordelen open vragen'!A15 -> 6.2.7 CASUS 1: INCORRECTE GEGEVENS OP VISA EN TICKETS | C15: SCORE
A16: ='Beoordelen open vragen'!A16 -> Zie bijlage 6b Kwaliteit. | C16: <MOTIVATIE>
A17: ='Beoordelen open vragen'!A17 -> 6.2.8 CASUS 2: COMPLEXE REIS DIVERSE LANDEN EN BESMETTINGEN | C17: SCORE
A18: ='Beoordelen open vragen'!A18 -> Zie bijlage 6b Kwaliteit. | C18: <MOTIVATIE>
A19: ='Beoordelen open vragen'!A19 -> 6.2.9 CASUS 3: COMPLEXE RIES INCLUSIEF DOMESTIC FLIGHTS | C19: SCORE
A20: ='Beoordelen open vragen'!A20 -> Zie bijlage 6b Kwaliteit. | C20: <MOTIVATIE>
A21: ='Beoordelen open vragen'!A21 -> 6.2.10 CASUS 4: VLUCHT GECANCELD | C21: SCORE
A22: ='Beoordelen open vragen'!A22 -> Zie bijlage 6b Kwaliteit. | C22: <MOTIVATIE>

Sheet Beoordelaar 3
A1: Beoordelaar 3: <<>> | C1: Inschrijver 1
A2: Open vragen | C2: Score:
A3: ='Beoordelen open vragen'!A3 -> 6.2.1 PLAN VAN AANPAK (AANVANG DIENSTVERLENING) | C3: SCORE
A4: ='Beoordelen open vragen'!A4 -> Inschrijver dient te beschrijven op maximaal 2 A4 op welke wijze zij bij aanvang (bij de start van de dynamische verificatiefase) van de dienstverlening zich gaat verdiepen in de organisatie van de opdrachtgever en hoe zij haar dienstverlening gaat afstemmen op de uitvoering van de dienstverlening. Inschrijver beschrijft hier minimaal; • Op welke wijze gaat inschrijver zich verdiepen in de organisatie van de opdrachtgever? Inschrijver beschrijft daarbij minimaal hoe zij vanuit een partnerschap met een langdurige insteek zich gaat verdiepen over de verschillende scholen in cultuur, behoefte, aard van het onderwijs en plaats van de school in de samenleving; • Een realistisch tijdspad binnen de gestelde termijnen van deze aanbesteding (wanneer doet inschrijver wat in de eerste fase van de dynamische verificatie); • Communicatieplan (met wie wil de inschrijver op welk niveau en wanneer welke communicatie laten plaatsvinden om de juiste voorbereidingen te treffen, voordat de dynamische verificatiefase van start gaat); • Een verwachte inzet (in uren en welke functionaris(sen)) van de opdrachtgever zelf; • Op welke wijze borgt inschrijver dat de medewerkers die de dienstverlening gaan uitvoeren volledig op de hoogte zijn van de uitgangspunten van deze aanbesteding? • Welke risico’s ziet inschrijver gedurende de dynamische verificatiefase en welke beheersmaatregelen gaat zij treffen of het succesvol te kunnen afronden? | C4: <MOTIVATIE>
A5: ='Beoordelen open vragen'!A5 -> 6.2.2 TEVREDENHEID | C5: SCORE
A6: ='Beoordelen open vragen'!A6 -> Inschrijver dient te beschrijven op maximaal 1 A4 op welke wijze zij gedurende de looptijd van de overeenkomst maximale klanttevredenheid bij opdrachtgever zal waarborgen. Daarnaast dient inschrijver te beschrijven hoe zij de klanttevredenheid gedurende de looptijd zal monitoren en welke actie zij onderneemt bij verminderde tevredenheid. | C6: <MOTIVATIE>
A7: ='Beoordelen open vragen'!A7 -> 6.2.3 BESCHRIJVING BOEKINGSPROCES | C7: SCORE
A8: ='Beoordelen open vragen'!A8 -> Inschrijver dient op maximaal 6 A4 haar online- en offline boekingsproces te beschrijven. Inschrijver beschrijft hier minimaal; • Hoe zij het boekingsproces gaat inrichten naar de wensen van de opdrachtgever; • Hoe zij gebruiksvriendelijkheid van het boekingsproces monitort; • Welke stappen een boeker moet doorlopen om een boeking te plaatsen; • Hoe voorkomt inschrijver dat er onduidelijkheid ontstaat over de bedoelde plaatsnaam van bestemming? Hiermee bedoelt opdrachtgever dezelfde plaatsnaam in een andere provincie. Hoe borgt inschrijver de kennis over de verschillende continenten en landen om een verkeerde boeking te voorkomen?; • Welke flexibiliteit biedt inschrijver ten aanzien van de boeking? Bijvoorbeeld in de situatie dat de reiziger in verband met een pandemie vast zit in Bangkok waarbij de reis of vervolgreis niet door kan gaan?; • In welke mate blijft inschrijver betrokken bij de uitvoering van de reis vanaf het moment dat het vervoersmiddel vertrokken is?; • Hoe garandeert inschrijver de veiligheid bij het boeken van binnenlandse vluchten (doorreis) op de plaats van bestemming? Inschrijver denkt hierbij aan kleine vliegmaatschappijen en kleine vliegtuigen; • Wat kan inschrijver betekenen voor het aanvragen van een Visa?; • Wat kan inschrijver betekenen voor de reiziger ten aanzien van specifieke Visa voorwaarden, lokale regels en vaccinatie voorwaarden en op welk moment? Voor, tijdens of na de boeking?; • Hoe gaat inschrijver om met de situatie dat de reiziger op basis van eerdere ervaringen zelf andere vervoersmiddelen regelt dan wat inschrijver aangeboden heeft? | C8: <MOTIVATIE>
A9: ='Beoordelen open vragen'!A9 -> 6.2.4 CALAMITEITEN | C9: SCORE
A10: ='Beoordelen open vragen'!A10:B10 -> Inschrijver dient te beschrijven op maximaal 2 A4 hoe zij handelt wanneer er zich op de reisbestemming calamiteiten voordoen, hierbij dienen inschrijvers te denken aan de volgende situaties: • Een reiziger mist zijn bus; • Verlies of diefstal van reisdocumenten; • Een reiziger wordt ziek gedurende de reis; • Mate waarin inschrijver meedenkt over oplossingen van problemen die zich voordoen bij een nieuwe internationale catastrofe waarvoor bijvoorbeeld evacuaties nodig zijn. | C10: <MOTIVATIE>
A11: ='Beoordelen open vragen'!A11 -> 6.2.5 DUURZAAMHEID | C11: SCORE
A12: ='Beoordelen open vragen'!A12 -> Inschrijver dient te beschrijven op maximaal 1 A4 welke maatregelen zij treft met betrekking tot duurzaamheid, CO2 uitstoot en reductie en CO2 compensatie. | C12: <MOTIVATIE>
A13: ='Beoordelen open vragen'!A13 -> 6.2.6 KOSTEN EN BEREIKBAARHEID VOOR ALLE LEERLINGEN EN STUDENTEN | C13: SCORE
A14: ='Beoordelen open vragen'!A14 -> Inschrijver dient op maximaal 2 A4 te beschrijven op welke wijze zij gebruikt maakt van partners, om invulling te geven op de volgende vraagstukken. • Hoe voorkomt inschrijver dat de kosten voor een reis dusdanig hoog uitvallen dat de hele reis niet kan plaats vinden?; • Hoe zorgt inschrijver ervoor dat reizen voor studenten met beperkt budget bereikbaar blijven?; • Hoe gaat inschrijver om met situatie dat een vergelijkbare reis elders goedkoper aangeboden wordt?; • Bij welk %-verschil vindt de inschrijver dat zij stappen moet nemen om het eigen aanbod aan te passen? | C14: <MOTIVATIE>
A15: ='Beoordelen open vragen'!A15 -> 6.2.7 CASUS 1: INCORRECTE GEGEVENS OP VISA EN TICKETS | C15: SCORE
A16: ='Beoordelen open vragen'!A16 -> Zie bijlage 6b Kwaliteit. | C16: <MOTIVATIE>
A17: ='Beoordelen open vragen'!A17 -> 6.2.8 CASUS 2: COMPLEXE REIS DIVERSE LANDEN EN BESMETTINGEN | C17: SCORE
A18: ='Beoordelen open vragen'!A18 -> Zie bijlage 6b Kwaliteit. | C18: <MOTIVATIE>
A19: ='Beoordelen open vragen'!A19 -> 6.2.9 CASUS 3: COMPLEXE RIES INCLUSIEF DOMESTIC FLIGHTS | C19: SCORE
A20: ='Beoordelen open vragen'!A20 -> Zie bijlage 6b Kwaliteit. | C20: <MOTIVATIE>
A21: ='Beoordelen open vragen'!A21 -> 6.2.10 CASUS 4: VLUCHT GECANCELD | C21: SCORE
A22: ='Beoordelen open vragen'!A22 -> Zie bijlage 6b Kwaliteit. | C22: <MOTIVATIE>

Sheet Consensus
A1: Totaalwaardes
A2: Open vragen | D2: ='Beoordelaar 1'!C1 -> Inschrijver 1 | E2: MOTIVATIE CONSENSUS
A3: ='Beoordelen open vragen'!A3 -> 6.2.1 PLAN VAN AANPAK (AANVANG DIENSTVERLENING) | B3: Beoordelaar 1 | D3: ='Beoordelaar 1'!C3 -> SCORE | E3: <<motivatie CONSENSUS>>
B4: Beoordelaar 2 | D4: ='Beoordelaar 2'!C3 -> SCORE
B5: Beoordelaar 3 | D5: ='Beoordelaar 3'!C3 -> SCORE
A6: Consensus | D6: SCORE
D7: =IF(D6="Uitmuntend","€ 2.500",IF(D6="Goed","€ 1.250",IF(D6="Voldoende","€ 0",IF(D6="Matig","-€ 2.500",IF(D6="Onvoldoende","-€ 10.000"," ")))))
A8: ='Beoordelen open vragen'!A5 -> 6.2.2 TEVREDENHEID | B8: =B3 -> Beoordelaar 1 | D8: ='Beoordelaar 1'!C5 -> SCORE | E8: <<motivatie CONSENSUS>>
B9: =B4 -> Beoordelaar 2 | D9: ='Beoordelaar 2'!C5 -> SCORE
B10: =B5 -> Beoordelaar 3 | D10: ='Beoordelaar 3'!C5 -> SCORE
D11: SCORE
D12: =IF(D11="Uitmuntend","€ 2.500",IF(D11="Goed","€ 1.250",IF(D11="Voldoende","€ 0",IF(D11="Matig","-€ 2.500",IF(D11="Onvoldoende","-€ 10.000"," ")))))
A13: ='Beoordelen open vragen'!A7 -> 6.2.3 BESCHRIJVING BOEKINGSPROCES | B13: =B3 -> Beoordelaar 1 | D13: ='Beoordelaar 1'!C7 -> SCORE | E13: <<motivatie CONSENSUS>>
B14: =B4 -> Beoordelaar 2 | D14: ='Beoordelaar 2'!C7 -> SCORE
B15: =B5 -> Beoordelaar 3 | D15: ='Beoordelaar 3'!C7 -> SCORE
A16: Consensus | D16: SCORE
D17: =IF(D16="Uitmuntend","€ 2.500",IF(D16="Goed","€ 1.250",IF(D16="Voldoende","€ 0",IF(D16="Matig","-€ 2.500",IF(D16="Onvoldoende","-€ 10.000"," ")))))
A18: ='Beoordelen open vragen'!A9 -> 6.2.4 CALAMITEITEN | B18: =B3 -> Beoordelaar 1 | D18: ='Beoordelaar 1'!C9 -> SCORE | E18: <<motivatie CONSENSUS>>
B19: =B4 -> Beoordelaar 2 | D19: ='Beoordelaar 2'!C9 -> SCORE
B20: =B5 -> Beoordelaar 3 | D20: ='Beoordelaar 3'!C9 -> SCORE
A21: Consensus | D21: SCORE
D22: =IF(D21="Uitmuntend","€ 2.500",IF(D21="Goed","€ 1.250",IF(D21="Voldoende","€ 0",IF(D21="Matig","-€ 2.500",IF(D21="Onvoldoende","UITSLUITING"," ")))))
A23: ='Beoordelen open vragen'!A11 -> 6.2.5 DUURZAAMHEID | B23: =B3 -> Beoordelaar 1 | D23: ='Beoordelaar 1'!C11 -> SCORE | E23: <<motivatie CONSENSUS>>
B24: =B4 -> Beoordelaar 2 | D24: ='Beoordelaar 2'!C11 -> SCORE
B25: =B5 -> Beoordelaar 3 | D25: ='Beoordelaar 3'!C11 -> SCORE
A26: Consensus | D26: SCORE
D27: =IF(D26="Uitmuntend","€ 2.500",IF(D26="Goed","€ 1.250",IF(D26="Voldoende","€ 0",IF(D26="Matig","-€ 2.500",IF(D26="Onvoldoende","-€ 10.000"," ")))))
A28: ='Beoordelen open vragen'!A13 -> 6.2.6 KOSTEN EN BEREIKBAARHEID VOOR ALLE LEERLINGEN EN STUDENTEN | B28: =B8 -> Beoordelaar 1 | D28: ='Beoordelaar 1'!C13 -> SCORE | E28: <<motivatie CONSENSUS>>
B29: =B9 -> Beoordelaar 2 | D29: ='Beoordelaar 2'!C13 -> SCORE
B30: =B10 -> Beoordelaar 3 | D30: ='Beoordelaar 3'!C13 -> SCORE
A31: Consensus | D31: SCORE
D32: =IF(D31="Uitmuntend","€ 7.500",IF(D31="Goed","€ 3.750",IF(D31="Voldoende","€ 0",IF(D31="Matig","-€ 7.500",IF(D31="Onvoldoende","UITSLUITING"," ")))))
A33: ='Beoordelen open vragen'!A15 -> 6.2.7 CASUS 1: INCORRECTE GEGEVENS OP VISA EN TICKETS | B33: =B13 -> Beoordelaar 1 | D33: ='Beoordelaar 1'!C15 -> SCORE | E33: <<motivatie CONSENSUS>>
B34: =B14 -> Beoordelaar 2 | D34: ='Beoordelaar 2'!C15 -> SCORE
B35: =B15 -> Beoordelaar 3 | D35: ='Beoordelaar 3'!C15 -> SCORE
A36: Consensus | D36: SCORE
D37: =IF(D36="Uitmuntend","€ 7.500",IF(D36="Goed","€ 3.750",IF(D36="Voldoende","€ 0",IF(D36="Matig","-€ 7.500",IF(D36="Onvoldoende","UITSLUITING"," ")))))
A38: ='Beoordelen open vragen'!A17 -> 6.2.8 CASUS 2: COMPLEXE REIS DIVERSE LANDEN EN BESMETTINGEN | B38: =B18 -> Beoordelaar 1 | D38: ='Beoordelaar 1'!C17 -> SCORE | E38: <<motivatie CONSENSUS>>
B39: =B19 -> Beoordelaar 2 | D39: ='Beoordelaar 2'!C17 -> SCORE
B40: =B20 -> Beoordelaar 3 | D40: ='Beoordelaar 3'!C17 -> SCORE
...

Sheet Eindscores
A1: Totaalwaarde criterium kwaliteit
A2: Onderdeel | C2: ='Beoordelaar 1'!C1:D1 -> Inschrijver 1
A3: 6.1 Open vragen + toelichting | C3: =Consensus!D54 -> #VALUE!
A4: Totaal behaalde waarde criterium kwaliteit: | C4: =C3 -> #VALUE!
A6: Totaal behaalde waarde criterium prijs: | C6: 0
A8: FICTIEVE EINDWAARDE (prijs -/- kwaliteit): | C8: =C6-C4 -> #VALUE!
