Workbook
Name _______DAT1: #REF!
Name _______DAT1: #REF!
Name _______DAT1: #REF!
Name _______DAT1: #REF!
Name _______DAT1: #REF!
Name _______DAT10: #REF!
Name _______DAT10: #REF!
Name _______DAT10: #REF!
Name _______DAT11: #REF!
Name _______DAT11: #REF!
Name _______DAT11: #REF!
Name _______DAT12: #REF!
Name _______DAT12: #REF!
Name _______DAT12: #REF!
Name _______DAT13: #REF!
Name _______DAT13: #REF!
Name _______DAT13: #REF!
Name _______DAT14: #REF!
Name _______DAT14: #REF!
Name _______DAT14: #REF!
Name _______DAT15: #REF!
Name _______DAT15: #REF!
Name _______DAT15: #REF!
Name _______DAT16: #REF!
Name _______DAT16: #REF!
Name _______DAT16: #REF!
Name _______DAT17: #REF!
Name _______DAT17: #REF!
Name _______DAT17: #REF!
Name _______DAT18: #REF!
Name _______DAT18: #REF!
Name _______DAT18: #REF!
Name _______DAT19: #REF!
Name _______DAT19: #REF!
Name _______DAT19: #REF!
Name _______DAT2: #REF!
Name _______DAT2: #REF!
Name _______DAT2: #REF!
Name _______DAT20: #REF!
Name _______DAT20: #REF!
Name _______DAT20: #REF!
Name _______DAT21: #REF!
Name _______DAT21: #REF!
Name _______DAT21: #REF!
Name _______DAT22: #REF!
Name _______DAT22: #REF!
Name _______DAT22: #REF!
Name _______DAT3: #REF!
Name _______DAT3: #REF!
Name _______DAT3: #REF!
Name _______DAT4: #REF!
Name _______DAT4: #REF!
Name _______DAT4: #REF!
Name _______DAT5: #REF!
Name _______DAT5: #REF!
Name _______DAT5: #REF!
Name _______DAT6: #REF!
Name _______DAT6: #REF!
Name _______DAT6: #REF!
Name _______DAT7: #REF!

Sheet Colofon 1
B2: Prijzenblad Hogeschool Rotterdam
B4: EU aanbesteding levering en inzet van inhuurprofessionals inclusief brokerdiensten
B5: Bijlage 6A: Prijzenblad
B6: Instructie:
B7: 1. Format en indeling niet wijzigen.
B8: 2. Vul de lichtblauwe velden in.
B9: 3. Inschrijvers dienen deze template (het model) volledig in te vullen.
B10: 4. Alle prijzen: excl. BTW
B11: 4. Zie verder de eisen en bepalingen in de Aanbestedingsdocumenten.
B13: Copyright ©2023 Hogeschool Rotterdam
B14: Niets uit deze uitgave mag worden verveelvoudigd, opgeslagen in een geautomatiseerd gegevensbestand, of openbaar gemaakt, in enige vorm of op enige wijze, hetzij elektronisch, mechanisch, door fotokopieën, opnamen of enig andere manier, zonder voorafgaande schriftelijke toestemming van Hogeschool R'dam.
B16: Classificatie: vertrouwelijk

Sheet 1. Algemene info
B2: ='Colofon 1'!$B$2 -> Prijzenblad Hogeschool Rotterdam
B3: Vereenvoudigde schematische weergave van het prijsmodel
C5: 1 | D5: 2
B6: Opslag | C6: OPSLAG PER UUR behalve de migratie contracten. | D6: OPSLAG PER UUR voor migratie contracten.
B7: Contractdoeltarief | C7: Inhuurtarief Inhuurtarieven staan vast binnen een bandbreedte. De bandbreedte omvat het Richtlijntarief per uur vermenigvuldigd met het Aangeboden Doelgroep percentag | D7: Inhuurtarief Het huidige (oude) tarief van de lopende inhuurcontracten, gemigreerd naar Opdrachtnemer.
F8: Uurtarief (facturatie)
C16: Inhuurprofessionals
B18: 1 | C18: Het inhuurtarief is het totale bedrag dat in rekening wordt gebracht in het kader van de uit te voeren Dienstverlening.
B19: 2 | C19: Er kan maximaal 1 type Opslag per Inzetcontract worden toegepast.
B20: 3 | C20: Zie de bepalingen in de aanbestedingsdocumenten (o.a. PvE).
C22: Copyright ©2023 Hogeschool Rotterdam. Niets uit deze uitgave mag worden verveelvoudigd zonder toestemming van Hogeschool Rotterdam.

Sheet 2. Invulblad opslag 
B3: ='Colofon 1'!$B$2 -> Prijzenblad Hogeschool Rotterdam
B6: Nr | C6: Toelichting opslagen | D6: Opslag per uur te betalen door Opdrachtgever. Uw prijs (inschrijfprijs) voor de Diensten | E6: Laagste grenswaarde voor Opslag | F6: Hoogste grenswaarde voor Opslag
B7: 1 | C7: Opslag per uur -Intermediaire dienstverlening” Een maximale absolute vergoeding per gewerkt uur voor de Diensten. Inclusief intermediaire diensten, contract service, VMS, etc. | D7: 0 | E7: 1 | F7: 7 | H7: =IF(D7<E7,1,0) -> 1 | I7: =IF(D7>F7,1,0) -> 0
B8: 2 | C8: Opslag per uur - Contract Service Migratie. Een maximale absolute vergoeding voor migratiecontracten, per gewerkt uur voor de Diensten. Alleen van toepassing op gemigreerde contracten (overgenomen door Opdrachtnemer tijdens implementatieperiode). Inclusief contract service, VMS, etc. | D8: 0 | E8: 0.5 | F8: 2 | H8: =IF(D8<E8,1,0) -> 1 | I8: =IF(D8>F8,1,0) -> 0
D9: =IF(D7>F7,"Ongeldig","")
B11: Toelichting (zie ook overige aanbestedingsdocumenten)
B12: 1 | C12: De Opslagen, uw inschrijfprijs (blauw) mogen niet onder of boven de grenswaarden worden aangeboden.
B13: 2 | C13: Indien uw inschrijfprijs boven onder of boven de grenswaarde ligt, is uw inschrijving ongeldig.
B14: 3 | C14: Let op! Opslagen zijn inclusief: implementatie, re-transitie, VMS, etc.
B15: 4 | C15: Zie verder de bepalingen in de aanbestedingsdocumenten.
B16: 5 | C16: Uw Opslag; maximaal twee cijfers achter de komma invullen
C17: Copyright ©2023 Hogeschool Rotterdam Niets uit deze uitgave mag worden verveelvoudigd zonder toestemming van Hogeschool Rotterdam

Sheet 3. Invulblad per doelgroep
B2: ='2. Invulblad opslag '!B3 -> Prijzenblad Hogeschool Rotterdam
B3: Invulblad voor inschrijver
B5: Toelichting
B6: Van Inschrijver wordt verwacht dat hij/zij per Doelgroep aangeeft met welk percentage onder, op of boven de Richtlijntarieven (tabblad 6), Inhuurprofessionals kan leveren gedurende de looptijd van de Raamovereenkomst.
B7: Voor de beoordeling van de Inschrijfprijs wordt een gewogen gemiddelde berekend, mede op basis van het inhuurvolume per doelgroep (fictief).
B8: Het "Totaal gewogen percentage" wordt gebruikt voor de aanpassing van het fictieve inhuurtarief ten behoeve van het juist bepalen van de totale Inschrijfprijs.
B9: Door Opdrachtgever zijn de door Inschrijver toe te passen percentages begrenst tot en met de aangegeven maximale verlagingen en maximale verhogingen per Doelgroep (doelgroep) in onderstaand formulier.
B10: Lager dan wel hoger inschalen dan de vooraf bepaalde percentages door Opdrachtgever is niet toegestaan (o.a. in verband met juiste beloning conform wet- en regelgeving zoals WAADI).
B11: Een negatief percentage betekent dat Inschrijver kandidaten kan vinden en aanbieden voor een Inhuurtarief, lager dan het Richtlijntarief. Hierdoor krijgt Inschrijver meer punten.
B12: Indien u bij een Doelgroep niets invult, hanteert Hogeschool Rotterdam 0% bij de desbetreffende Doelgroep.
B13: Vul de lichtblauwe velden in (verplichting) met een getal en met maximaal 2 decimalen achter de komma.
B14: Nr. | C14: Inhuurdoelgroepen | E14: Ondergrens doelpercentage (max. verlaging) | F14: Bovengrens doelpercentage (max. verhoging) | G14: Uw Doelgroep percentage | H14: Geldig of niet geldig | I14: Aandeel in totale inhuurbehoefte* | J14: Gewogen percentage (% x100)
B15: 1 | C15: Administratief/Ondersteuning | E15: -0.02 | F15: 0.02 | G15: 0 | H15: =IF(L15=FALSE,"NIET GELDIG","GELDIG") -> GELDIG | I15: =$I$26/$H$26 -> 0.090909091 | J15: =I15*G15 -> 0 | L15: =IF(OR(G15<E15,G15>F15),FALSE,TRUE) -> TRUE
B16: 2 | C16: Facilitair/Logistiek/Vastgoed | E16: -0.02 | F16: 0.02 | G16: 0 | H16: =IF(L16=FALSE,"NIET GELDIG","GELDIG") -> GELDIG | I16: =$I$26/$H$26 -> 0.090909091 | J16: =I16*G16 -> 0 | L16: =IF(OR(G16<E16,G16>F16),FALSE,TRUE) -> TRUE
B17: 3 | C17: Finance | E17: -0.02 | F17: 0.02 | G17: 0 | H17: =IF(L17=FALSE,"NIET GELDIG","GELDIG") -> GELDIG | I17: =$I$26/$H$26 -> 0.090909091 | J17: =I17*G17 -> 0 | L17: =IF(OR(G17<E17,G17>F17),FALSE,TRUE) -> TRUE
B18: 4 | C18: HR | E18: -0.02 | F18: 0.02 | G18: 0 | H18: =IF(L18=FALSE,"NIET GELDIG","GELDIG") -> GELDIG | I18: =$I$26/$H$26 -> 0.090909091 | J18: =I18*G18 -> 0 | L18: =IF(OR(G18<E18,G18>F18),FALSE,TRUE) -> TRUE
B19: 5 | C19: Marketing & Communicatie | E19: -0.02 | F19: 0.02 | G19: 0 | H19: =IF(L19=FALSE,"NIET GELDIG","GELDIG") -> GELDIG | I19: =$I$26/$H$26 -> 0.090909091 | J19: =I19*G19 -> 0 | L19: =IF(OR(G19<E19,G19>F19),FALSE,TRUE) -> TRUE
B20: 6 | C20: Onderwijs - Docenten | E20: -0.02 | F20: 0.02 | G20: 0 | H20: =IF(L20=FALSE,"NIET GELDIG","GELDIG") -> GELDIG | I20: =$I$26/$H$26 -> 0.090909091 | J20: =I20*G20 -> 0 | L20: =IF(OR(G20<E20,G20>F20),FALSE,TRUE) -> TRUE
B21: 7 | C21: Onderwijs - Ondersteunend | E21: -0.02 | F21: 0.02 | G21: 0 | H21: =IF(L21=FALSE,"NIET GELDIG","GELDIG") -> GELDIG | I21: =$I$26/$H$26 -> 0.090909091 | J21: =I21*G21 -> 0 | L21: =IF(OR(G21<E21,G21>F21),FALSE,TRUE) -> TRUE
B22: 8 | C22: Onderwijs - Onderzoek | E22: -0.02 | F22: 0.02 | G22: 0 | H22: =IF(L22=FALSE,"NIET GELDIG","GELDIG") -> GELDIG | I22: =$I$26/$H$26 -> 0.090909091 | J22: =I22*G22 -> 0 | L22: =IF(OR(G22<E22,G22>F22),FALSE,TRUE) -> TRUE
B23: 9 | C23: Procurement | E23: -0.02 | F23: 0.02 | G23: 0 | H23: =IF(L23=FALSE,"NIET GELDIG","GELDIG") -> GELDIG | I23: =$I$26/$H$26 -> 0.090909091 | J23: =I23*G23 -> 0 | L23: =IF(OR(G23<E23,G23>F23),FALSE,TRUE) -> TRUE
B24: 10 | C24: Projectmanagement | E24: -0.02 | F24: 0.02 | G24: 0 | H24: =IF(L24=FALSE,"NIET GELDIG","GELDIG") -> GELDIG | I24: =$I$26/$H$26 -> 0.090909091 | J24: =I24*G24 -> 0 | L24: =IF(OR(G24<E24,G24>F24),FALSE,TRUE) -> TRUE
B25: 11 | C25: Risk, Audit, Legal & Compliance | E25: -0.02 | F25: 0.02 | G25: 0 | H25: =IF(L25=FALSE,"NIET GELDIG","GELDIG") -> GELDIG | I25: =$I$26/$H$26 -> 0.090909091 | J25: =I25*G25 -> 0 | L25: =IF(OR(G25<E25,G25>F25),FALSE,TRUE) -> TRUE
C26: Totaal gewogen percentage | H26: =COUNT(B15:B25) -> 11 | I26: 1 | J26: =SUM(J15:J25) -> 0
B27: Toelichting (zie ook overige aanbestedingsdocumenten)
B28: 1 | C28: Richtlijntarief per uur * aangeboden Doelgroep percentage = Contractdoeltarief (maximum inhuurtarief exclusief Opslag voor Nadere Overeenkomsten).
B29: 2 | C29: Zie tabblad 6 en 7 voor de Richtlijntarieven.
B30: 3 | C30: Aangeboden Doelgroep percentages staan vast gedurende de looptijd van de Raamovereenkomst.
B31: 4 | C31: Aangeboden Doelgroep percentages worden opgenomen in de KPI-rapportage en jaarlijks middels een resultaatmeting getoetst.
B32: 5 | C32: *Bevat fictieve data om Inschrijvingen te kunnen vergelijken, strategisch inschrijven te voorkomen en vanwege ontbrekende informatie.
B33: 6 | C33: Zie verder de bepalingen in de aanbestedingsdocumenten.
C34: Copyright ©2023 Hogeschool Rotterdam. Niets uit deze uitgave mag worden verveelvoudigd zonder toestemming van Hogeschool Rotterdam.

Sheet 4. Berekening inschrijfprijs
B2: ='3. Invulblad per doelgroep'!B2:I2 -> Prijzenblad Hogeschool Rotterdam
B3: Voorbeeld berekening van inschrijfprijs voor prijsvergelijk / ranking (in te vullen door Opdrachtgever)
B4: Beschrijving | C4: Uren* | D4: Tarief** | E4: Totaal gewogen percentage doelgroep percentage inschrijving | F4: Aangepast Tarief o.b.v. doelgroep percentage | G4: Aangeboden Opslag | H4: Inschrijfprijs
B5: Inschrijfbedrag Dienstverlening intermediaire diensten inclusief contract service | C5: 60000 | D5: 90 | E5: ='3. Invulblad per doelgroep'!J26 -> 0 | F5: =(100%+E5)*D5 -> 90 | G5: ='2. Invulblad opslag '!D7 -> 0 | H5: =(C5*F5)+(C5*G5) -> 5400000
B6: Inschrijfbedrag Dienstverlening gemigreerde inzetcontracten | C6: 30000 | D6: 90 | E6: ='3. Invulblad per doelgroep'!J26 -> 0 | F6: =(100%+E6)*D6 -> 90 | G6: ='2. Invulblad opslag '!D8 -> 0 | H6: =(C6*F6)+(C6*G6) -> 2700000
G7: UW INSCHRIJFPRIJS | H7: =SUM(H5:H6) -> 8100000
B9: Toelichting (zie ook overige aanbestedingsdocumenten)
A10: 1 | B10: *Bevat fictieve data en is een fictieve verhouding om inschrijvingen te kunnen vergelijken en strategisch inschrijven te voorkomen.
A11: 2 | B11: ** gehanteerd tarief is fictief om Inschrijvingen te kunnen vergelijken en strategisch inschrijven te voorkomen.
A12: 3 | B12: Totaal gewogen percentage wordt niet afgerond bij de berekening van de Inschrijfprijs.
A13: 4 | B13: Bedragen Excl. BTW
B15: Copyright ©2023 Hogeschool Rotterdam. Niets uit deze uitgave mag worden verveelvoudigd zonder toestemming van Hogeschool Rotterdam.

Sheet 5. Prijsscore
B2: ='4. Berekening inschrijfprijs'!B2:H2 -> Prijzenblad Hogeschool Rotterdam
B3: Voorbeeld rekentool prijsscore (in te vullen door Opdrachtgever)
B5: Inschrijfprijs | C5: Inschrijfprijs Inschrijver* | D5: Minimale prijs | E5: Maximale prijs
B6: Uw totale inschrijfprijs* | C6: ='4. Berekening inschrijfprijs'!H7 -> 8100000 | D6: 8013000 | E6: 8742000
B7: Totale inschrijving voor puntentoekenning* | C7: =IF(C6>E6,"Prijs is buiten de bandbreedte en is een ongeldige Inschrijving",IF(C6<D6,"Prijs is buiten de bandbreedte en is een ongeldige Inschrijving",C6:C6)) -> 8100000
B9: Omschrijving | C9: Bandbreedte | D9: Punten prijs (niet gewogen)
B10: Minimale Inschrijfprijs (laagst mogelijk) | C10: =D6 -> 8013000 | D10: 250
B11: Maximale Inschrijfprijs (hoogst mogelijk) | C11: =E6 -> 8742000 | D11: 0
B13: Prijsscore | C13: Inschrijfprijs | D13: Punten prijs
B14: Punten score subgunningscriterium Prijs ** | C14: =C7 -> 8100000 | D14: =IFERROR(D10 - (C14 - C10)/(C11-C10)*(D10),0) -> 220.16461
B17: Toelichting (zie ook overige aanbestedingsdocumenten)
B18: Bedragen Excl. BTW
B19: * Dit wordt automatisch gevuld op basis van uw afgegeven informatie in tabblad 2 "Opslagen" en tabblad 3 "invulblad per doelgroep" en vastgestelde parameters. De formule en puntentoekenning staan vast.
B20: **De totale score wordt afgerond op hele punten.
B21: Tip: vul eerst uw Opslagen en Doelgroep percentages in alvorens u dit voorbeeld bekijkt.
B37: 1.0425693e+08 | C37: 1.0781653e+08

Sheet 6. Richtlijntarieven
B2: Richtlijntarieven Hogeschool Rotterdam
B3: Per 1 april 2023
C5: Richtlijntarieven | G5: Inhuurdoelgroep | J5: Administratief/Ondersteuning | O5: Richtlijntarieven
D7: Begin | G7: Midden | J7: Eind
C8: Schaal | D8: Minimum Richttarief | E8: Maximum Richttarief | G8: Minimum Richttarief | H8: Maximum Richttarief | J8: Minimum Richttarief | K8: Maximum Richttarief | N8: Richtlijntarieven zijn inclusief loonkosten, vaste nominale marge per schaal, reis/ autokosten en opleidingskosten. Voor deze Inhuurdoelgroepen geldt geen overwerk-toeslag. EXCLUSIEF BTW en Opslag
C9: 9 | D9: 51 | E9: 56 | G9: 57.25 | H9: 62.25 | J9: 63.25 | K9: 68.25
C10: 10 | D10: 52.25 | E10: 59 | G10: 60.25 | H10: 66.75 | J10: 68.25 | K10: 75
C11: 11 | D11: 64.75 | E11: 71.75 | G11: 73.25 | H11: 80.25 | J11: 81.75 | K11: 88
C12: 12 | D12: 77.75 | E12: 84 | G12: 85.5 | H12: 91.25 | J12: 93 | K12: 98.75
C13: 13 | D13: 86.5 | E13: 91 | G13: 93 | H13: 97.5 | J13: 99.75 | K13: 104.25
C14: 14 | D14: 90.75 | E14: 96.75 | G14: 98.75 | H14: 104.75 | J14: 107 | K14: 112.75
C15: 15 | D15: 97.5 | E15: 104.25 | G15: 106.5 | H15: 113.25 | J15: 115.5 | K15: 122.25
C16: 16 | D16: 105.25 | E16: 113 | G16: 115.25 | H16: 123 | J16: 125.75 | K16: 133.5
C19: Richtlijntarieven | G19: Inhuurdoelgroep | J19: Facilitair/Logistiek/Vastgoed | O19: Richtlijntarieven
D21: Begin | G21: Midden | J21: Eind
C22: Schaal | D22: Minimum Richttarief | E22: Maximum Richttarief | G22: Minimum Richttarief | H22: Maximum Richttarief | J22: Minimum Richttarief | K22: Maximum Richttarief | N22: Richtlijntarieven zijn inclusief loonkosten, vaste nominale marge per schaal, reis/ autokosten en opleidingskosten. Voor deze Inhuurdoelgroepen geldt geen overwerk-toeslag. EXCLUSIEF BTW en Opslag
C23: 9 | D23: 51.75 | E23: 56.75 | G23: 58 | H23: 63 | J23: 64.25 | K23: 69.25
C24: 10 | D24: 53.75 | E24: 60.5 | G24: 61.75 | H24: 68.5 | J24: 70 | K24: 76.75
C25: 11 | D25: 66.5 | E25: 73.5 | G25: 75.25 | H25: 82 | J25: 84 | K25: 90.25
C26: 12 | D26: 79.5 | E26: 85.75 | G26: 87.75 | H26: 93.25 | J26: 95.25 | K26: 101
C27: 13 | D27: 87.25 | E27: 91.75 | G27: 93.75 | H27: 98.25 | J27: 100.5 | K27: 105
C28: 14 | D28: 91.75 | E28: 97.75 | G28: 99.75 | H28: 105.75 | J28: 108 | K28: 114
C29: 15 | D29: 98.25 | E29: 105 | G29: 107.25 | H29: 114 | J29: 116.5 | K29: 123.25
C30: 16 | D30: 106.5 | E30: 114.25 | G30: 116.75 | H30: 124.5 | J30: 127.25 | K30: 135
C33: Richtlijntarieven | G33: Inhuurdoelgroep | J33: Finance | O33: Richtlijntarieven
D35: Begin | G35: Midden | J35: Eind
C36: Schaal | D36: Minimum Richttarief | E36: Maximum Richttarief | G36: Minimum Richttarief | H36: Maximum Richttarief | J36: Minimum Richttarief | K36: Maximum Richttarief | N36: Richtlijntarieven zijn inclusief loonkosten, vaste nominale marge per schaal, reis/ autokosten en opleidingskosten. Voor deze Inhuurdoelgroepen geldt geen overwerk-toeslag. EXCLUSIEF BTW en Opslag
C37: 9 | D37: 55.25 | E37: 60.25 | G37: 61.75 | H37: 66.75 | J37: 68.5 | K37: 73.5
C38: 10 | D38: 57 | E38: 63.75 | G38: 65.5 | H38: 72.25 | J38: 74 | K38: 80.75
C39: 11 | D39: 71.25 | E39: 78.25 | G39: 80.25 | H39: 87.25 | J39: 89.75 | K39: 96
C40: 12 | D40: 84.75 | E40: 91 | G40: 93.5 | H40: 99.25 | J40: 102 | K40: 107.5
C41: 13 | D41: 92.5 | E41: 97 | G41: 99.5 | H41: 104 | J41: 106.75 | K41: 111.25
C42: 14 | D42: 97.75 | E42: 103.75 | G42: 106.5 | H42: 112.25 | J42: 115.5 | K42: 121.25
C43: 15 | D43: 105 | E43: 111.75 | G43: 114.75 | H43: 121.5 | J43: 124.75 | K43: 131.5
C44: 16 | D44: 113.25 | E44: 121 | G44: 124.25 | H44: 132 | J44: 135.75 | K44: 143.5
C47: Richtlijntarieven | G47: Inhuurdoelgroep | J47: HR | O47: Richtlijntarieven
D49: Begin | G49: Midden | J49: Eind
C50: Schaal | D50: Minimum Richttarief | E50: Maximum Richttarief | G50: Minimum Richttarief | H50: Maximum Richttarief | J50: Minimum Richttarief | K50: Maximum Richttarief | N50: Richtlijntarieven zijn inclusief loonkosten, vaste nominale marge per schaal, reis/ autokosten en opleidingskosten. Voor deze Inhuurdoelgroepen geldt geen overwerk-toeslag. EXCLUSIEF BTW en Opslag
C51: 9 | D51: 53.5 | E51: 58.5 | G51: 59.75 | H51: 64.75 | J51: 66.25 | K51: 71.25
C52: 10 | D52: 54.5 | E52: 61.25 | G52: 62.75 | H52: 69.5 | J52: 71.25 | K52: 77.75
C53: 11 | D53: 67.75 | E53: 74.75 | G53: 76.5 | H53: 83.5 | J53: 85.5 | K53: 91.75
C54: 12 | D54: 80.5 | E54: 87 | G54: 89 | H54: 94.5 | J54: 96.75 | K54: 102.25
C55: 13 | D55: 88.5 | E55: 93 | G55: 95.25 | H55: 99.75 | J55: 102 | K55: 106.5
C56: 14 | D56: 92.5 | E56: 98.5 | G56: 100.75 | H56: 106.5 | J56: 109 | K56: 115
C57: 15 | D57: 98.5 | E57: 105.25 | G57: 107.5 | H57: 114.25 | J57: 117 | K57: 123.5
C58: 16 | D58: 105.75 | E58: 113.75 | G58: 116 | H58: 123.75 | J58: 126.5 | K58: 134.25
C61: Richtlijntarieven | G61: Inhuurdoelgroep | J61: Marketing & Communicatie | O61: Richtlijntarieven
D63: Begin | G63: Midden | J63: Eind
C64: Schaal | D64: Minimum Richttarief | E64: Maximum Richttarief | G64: Minimum Richttarief | H64: Maximum Richttarief | J64: Minimum Richttarief | K64: Maximum Richttarief | N64: Richtlijntarieven zijn inclusief loonkosten, vaste nominale marge per schaal, reis/ autokosten en opleidingskosten. Voor deze Inhuurdoelgroepen geldt geen overwerk-toeslag. EXCLUSIEF BTW en Opslag
C65: 9 | D65: 54 | E65: 59 | G65: 60.5 | H65: 65.5 | J65: 67 | K65: 72
C66: 10 | D66: 54.5 | E66: 61.25 | G66: 62.75 | H66: 69.5 | J66: 71.25 | K66: 77.75
C67: 11 | D67: 67.75 | E67: 74.75 | G67: 76.5 | H67: 83.5 | J67: 85.5 | K67: 91.75
C68: 12 | D68: 80.5 | E68: 87 | G68: 89 | H68: 94.5 | J68: 96.75 | K68: 102.25
C69: 13 | D69: 88.5 | E69: 93 | G69: 95.25 | H69: 99.75 | J69: 102 | K69: 106.5
C70: 14 | D70: 92.5 | E70: 98.5 | G70: 100.75 | H70: 106.5 | J70: 109 | K70: 115
C71: 15 | D71: 98.5 | E71: 105.25 | G71: 107.5 | H71: 114.25 | J71: 117 | K71: 123.5
C72: 16 | D72: 105.75 | E72: 113.75 | G72: 116 | H72: 123.75 | J72: 126.5 | K72: 134.25
C75: Richtlijntarieven | G75: Inhuurdoelgroep | J75: Onderwijs - Docenten | O75: Richtlijntarieven
D77: Begin | G77: Midden | J77: Eind
C78: Schaal | D78: Minimum Richttarief | E78: Maximum Richttarief | G78: Minimum Richttarief | H78: Maximum Richttarief | J78: Minimum Richttarief | K78: Maximum Richttarief | N78: Richtlijntarieven zijn inclusief loonkosten, vaste nominale marge per schaal, reis/ autokosten en opleidingskosten. Voor deze Inhuurdoelgroepen geldt geen overwerk-toeslag. EXCLUSIEF BTW en Opslag
C79: 9 | D79: 54.5 | E79: 59.5 | G79: 61 | H79: 66 | J79: 67.5 | K79: 72.5
C80: 10 | D80: 54.5 | E80: 61.25 | G80: 62.75 | H80: 69.5 | J80: 71.25 | K80: 77.75
C81: 11 | D81: 67.75 | E81: 74.75 | G81: 76.5 | H81: 83.5 | J81: 85.5 | K81: 91.75
C82: 12 | D82: 80.5 | E82: 87 | G82: 89 | H82: 94.5 | J82: 96.75 | K82: 102.25
C83: 13 | D83: 88.5 | E83: 93 | G83: 95.25 | H83: 99.75 | J83: 102 | K83: 106.5
C84: 14 | D84: 92.5 | E84: 98.5 | G84: 100.75 | H84: 106.5 | J84: 109 | K84: 115
C85: 15 | D85: 98.5 | E85: 105.25 | G85: 107.5 | H85: 114.25 | J85: 117 | K85: 123.5
C86: 16 | D86: 105.75 | E86: 113.75 | G86: 116 | H86: 123.75 | J86: 126.5 | K86: 134.25
C89: Richtlijntarieven | G89: Inhuurdoelgroep | J89: Onderwijs - Ondersteunend | O89: Richtlijntarieven
D91: Begin | G91: Midden | J91: Eind
C92: Schaal | D92: Minimum Richttarief | E92: Maximum Richttarief | G92: Minimum Richttarief | H92: Maximum Richttarief | J92: Minimum Richttarief | K92: Maximum Richttarief | N92: Richtlijntarieven zijn inclusief loonkosten, vaste nominale marge per schaal, reis/ autokosten en opleidingskosten. Voor deze Inhuurdoelgroepen geldt geen overwerk-toeslag. EXCLUSIEF BTW en Opslag
C93: 9 | D93: 51.75 | E93: 56.75 | G93: 58 | H93: 63 | J93: 64.25 | K93: 69.25
C94: 10 | D94: 53.25 | E94: 60 | G94: 61.25 | H94: 68 | J94: 69.5 | K94: 76.25
C95: 11 | D95: 66.25 | E95: 73 | G95: 74.75 | H95: 81.5 | J95: 83.5 | K95: 89.75
C96: 12 | D96: 79.25 | E96: 85.5 | G96: 87.25 | H96: 93 | J96: 95 | K96: 100.75
C97: 13 | D97: 87.25 | E97: 91.75 | G97: 93.75 | H97: 98.25 | J97: 100.5 | K97: 105
C98: 14 | D98: 92 | E98: 98 | G98: 100.25 | H98: 106 | J98: 108.5 | K98: 114.25
C99: 15 | D99: 98 | E99: 104.75 | G99: 107 | H99: 113.75 | J99: 116.25 | K99: 123
C100: 16 | D100: 105.25 | E100: 113 | G100: 115.5 | H100: 123.25 | J100: 125.75 | K100: 133.75
C103: Richtlijntarieven | G103: Inhuurdoelgroep | J103: Onderwijs - Onderzoek | O103: Richtlijntarieven
D105: Begin | G105: Midden | J105: Eind
C106: Schaal | D106: Minimum Richttarief | E106: Maximum Richttarief | G106: Minimum Richttarief | H106: Maximum Richttarief | J106: Minimum Richttarief | K106: Maximum Richttarief | N106: Richtlijntarieven zijn inclusief loonkosten, vaste nominale marge per schaal, reis/ autokosten en opleidingskosten. Voor deze Inhuurdoelgroepen geldt geen overwerk-toeslag. EXCLUSIEF BTW en Opslag
C107: 9 | D107: 52.75 | E107: 57.75 | G107: 59 | H107: 64 | J107: 65.5 | K107: 70.5
C108: 10 | D108: 54.5 | E108: 61.25 | G108: 62.75 | H108: 69.5 | J108: 71.25 | K108: 78
C109: 11 | D109: 68 | E109: 74.75 | G109: 76.75 | H109: 83.5 | J109: 85.75 | K109: 92
C110: 12 | D110: 81.5 | E110: 87.75 | G110: 89.75 | H110: 95.5 | J110: 97.75 | K110: 103.5
C111: 13 | D111: 90.5 | E111: 95 | G111: 97.25 | H111: 101.75 | J111: 104.25 | K111: 108.75
C112: 14 | D112: 95.25 | E112: 101.25 | G112: 103.75 | H112: 109.75 | J112: 112.5 | K112: 118.25
C113: 15 | D113: 102 | E113: 108.75 | G113: 111.5 | H113: 118.25 | J113: 121.25 | K113: 128
C114: 16 | D114: 110 | E114: 118 | G114: 120.75 | H114: 128.5 | J114: 131.75 | K114: 139.5
C117: Richtlijntarieven | G117: Inhuurdoelgroep | J117: Procurement | O117: Richtlijntarieven
D119: Begin | G119: Midden | J119: Eind
C120: Schaal | D120: Minimum Richttarief | E120: Maximum Richttarief | G120: Minimum Richttarief | H120: Maximum Richttarief | J120: Minimum Richttarief | K120: Maximum Richttarief | N120: Richtlijntarieven zijn inclusief loonkosten, vaste nominale marge per schaal, reis/ autokosten en opleidingskosten. Voor deze Inhuurdoelgroepen geldt geen overwerk-toeslag. EXCLUSIEF BTW en Opslag
C121: 9 | D121: 53.25 | E121: 58.25 | G121: 59.75 | H121: 64.75 | J121: 66 | K121: 71.25
C122: 10 | D122: 54.5 | E122: 61.25 | G122: 62.75 | H122: 69.5 | J122: 71.25 | K122: 77.75
C123: 11 | D123: 68 | E123: 75 | G123: 76.75 | H123: 83.75 | J123: 85.75 | K123: 92
C124: 12 | D124: 81.25 | E124: 87.5 | G124: 89.5 | H124: 95.25 | J124: 97.5 | K124: 103
C125: 13 | D125: 89.5 | E125: 94 | G125: 96.25 | H125: 100.75 | J125: 103.25 | K125: 107.75
C126: 14 | D126: 93.25 | E126: 99.25 | G126: 101.5 | H126: 107.5 | J126: 110 | K126: 116
C127: 15 | D127: 99.25 | E127: 106 | G127: 108.5 | H127: 115.25 | J127: 117.75 | K127: 124.5
...

Sheet 7. Salaristabel
B1: Onderlegger Richtlijntarieven Hogeschool Rotterdam
B2: Salarisschalen Hogeschool Rotterdam per 1 juli 2023
B3: Begin | C3: 9 | D3: 10 | E3: 11 | F3: 12 | G3: 13 | H3: 14 | I3: 15 | J3: 16
B4: Min | C4: 3370 | D4: 3370 | E4: 4234.28 | F4: 5122.09 | G4: 5745.15 | H4: 6030.72 | I4: 6541.05 | J4: 7090.99
B5: Max | C5: =((C13-C4)/3)+C4 -> 3774.3033 | D5: =((D13-D4)/3)+D4 -> 3919.91 | E5: =((E13-E4)/3)+E4 -> 4801.7767 | F5: =((F13-F4)/3)+F4 -> 5647.68 | G5: =((G13-G4)/3)+G4 -> 6162.6533 | H5: =((H13-H4)/3)+H4 -> 6582.9967 | I5: =((I13-I4)/3)+I4 -> 7175.7967 | J5: =((J13-J4)/3)+J4 -> 7820.91
B7: Midden | C7: =C3 -> 9 | D7: =D3 -> 10 | E7: =E3 -> 11 | F7: =F3 -> 12 | G7: =G3 -> 13 | H7: =H3 -> 14 | I7: =I3 -> 15 | J7: =J3 -> 16
B8: Min | C8: =C5 -> 3774.3033 | D8: =D5 -> 3919.91 | E8: =E5 -> 4801.7767 | F8: =F5 -> 5647.68 | G8: =G5 -> 6162.6533 | H8: =H5 -> 6582.9967 | I8: =I5 -> 7175.7967 | J8: =J5 -> 7820.91
B9: Max | C9: =((C13-C4)/3)+C8 -> 4178.6067 | D9: =((D13-D4)/3)+D8 -> 4469.82 | E9: =((E13-E4)/3)+E8 -> 5369.2733 | F9: =((F13-F4)/3)+F8 -> 6173.27 | G9: =((G13-G4)/3)+G8 -> 6580.1567 | H9: =((H13-H4)/3)+H8 -> 7135.2733 | I9: =((I13-I4)/3)+I8 -> 7810.5433 | J9: =((J13-J4)/3)+J8 -> 8550.83
B11: Eind | C11: =C7 -> 9 | D11: =D7 -> 10 | E11: =E7 -> 11 | F11: =F7 -> 12 | G11: =G7 -> 13 | H11: =H7 -> 14 | I11: =I7 -> 15 | J11: =J7 -> 16
B12: Min | C12: =C9 -> 4178.6067 | D12: =D9 -> 4469.82 | E12: =E9 -> 5369.2733 | F12: =F9 -> 6173.27 | G12: =G9 -> 6580.1567 | H12: =H9 -> 7135.2733 | I12: =I9 -> 7810.5433 | J12: =J9 -> 8550.83
B13: Max | C13: 4582.91 | D13: 5019.73 | E13: 5936.77 | F13: 6698.86 | G13: 6997.66 | H13: 7687.55 | I13: 8445.29 | J13: 9280.75
B17: Copyright ©2023 Hogeschool Rotterdam. Niets uit deze uitgave mag worden verveelvoudigd zonder toestemming van Hogeschool Rotterdam.

Sheet 8. Invulblad opties
B3: ='Colofon 1'!$B$2 -> Prijzenblad Hogeschool Rotterdam
B4: Invulblad opties
B6: Nr | C6: Toelichting opties | D6: Uw prijs voor de opties (indicatie) | E6: Indicatie v/d uren | F6: Totale indicatie
B7: 1 | C7: Uw prijs als percentage over spend (inhuuruitgaven in het VMS) voor gebruik van het VMS door Opdrachtgever voor aanvragen, inhuurcontracten en uitgaven, wellke niet worden gefactureerd door/via Opdrachtnemer. Bijv. de IT en uitzend aanvragen en contracten. Evt. kunt u een Opslag per uur offreren. Graag (het percentage) inclusief de inrichtingskosten. Evt. kunt u de inrichtingskosten separaat offreren. | D7: 0.001 | E7: Nvt | F7: nvt
B8: 2 | C8: Uw (eenmalige) prijsindicatie voor het realiseren/implementeren van een integratie tussen het VMS en het P2P systeem (thans Proquro, per 1 juli 2024 ERP7) van Opdrachtgever middels standaard API's van het VMS. Creeren inkooporder en terugkoppeling van het inkoopordernummer naar het VMS. Inclusief het creëren van een nieuwe inkooporder voor verlengingen, etc. De kosten voor het gebruik van standaard API's dient inbegrepen te zijn in de Opslag. | D8: 0 | E8: 0 | F8: =E8*D8 -> 0
B9: 3 | C9: Uw (eenmalige) prijsindicatie voor het realiseren/implementeren van een integratie tussen het VMS en het HR systeem (thans HR2Day) van Opdrachtgever middels standaard API's van het VMS. Creeren medewerkers in het personeels-systeem en terugkoppeling van het personeelsnummer naar het VMS bij acceptatie van het Inzetcontract in het VMS. Inclusief uitdiensttreding. De kosten voor het gebruik van standaard API's dient inbegrepen te zijn in de Opslag. Graag uw uurtarief en inschatting qua uren. | D9: 0 | E9: 0 | F9: =E9*D9 -> 0
B10: 4 | C10: Urenregistratie in het ERP systeem van Opdrachtgever Opdrachtgever kan overwegen om de uren in het ERP systeem te gaan registeren. In dit geval wordt het end2end proces in gezamenlijkheid gewijzigd. Opdrachtgever behoudt zich het recht voor om dit te besluiten. Graag prijs voor urenregistratie systeem opnemen of per gebruiker. | D10: 0 | E10: 0 | F10: =E10*D10 -> 0
B13: Toelichting (zie ook overige Aanbestedingsdocumenten)
B14: 1 | C14: Zie Beschrijvend Document art. 2.5 voor de toelichting t.a.v. de opties.
B15: 2 | C15: De kosten voor de Opties zijn geen onderdeel van de inschrijfprijs.
C16: Copyright ©2023 Hogeschool Rotterdam Niets uit deze uitgave mag worden verveelvoudigd zonder toestemming van Hogeschool Rotterdam
