Workbook

Sheet Instructie 
B3: Bijlage 4: Prijsopgaveformulier Europese Aanbesteding Interieurarchitect Diensten
B10: Invulinstructie: Bijlage 14 Ruimtestaat dient als (fictieve) grondslag bij het invullen van het werkblad "Urenoverzicht", op basis van deze Ruimtestaat is het (fictief) aantal uren ingevuld, met uitzondering van rij 47 op dit werkblad. Vul boven in het werkblad "Urenoverzicht" de naam van uw organisatie in! Vul vervolgens de vijf gele velden op het werkblad "Urenoverzicht" op rij 22 in. Hier vermeld u de tarieven voor de verschillende in te zetten functionarissen/medewerkers. Vul daarna de vijf gele velden op het werkblad "Urenoverzicht" op rij 47 in. Hier vermeld u de het aantal uren in dat u verwacht in te zetten per functionaris voor deze activiteiten. De door u ingevulde tarieven per in te zetten functionaris/medewerker en de ingevulde aantallen uren worden automatisch vermenigvuldigd per activiteit. Dit resulteert in een automatisch uitgerekende som in de cel J58 welke correspondeert met de grijze cel C09 in het werkblad "Totale fictieve aanneemsom". Dit is het (fictieve) bedrag dat we meenemen om uw Inschrijving te beoordelen (conform Hoofdstuk 5.4 van het Beschrijvend Document) Vult u 0 in of geen waarde of een negatieve waarde bij de gevraagde tarieven? Dan is uw Inschrijving ongeldig en sluiten we u uit van verdere deelname aan de Aanbesteding. Geeft u prijzen, kortingen, voorwaarden of andere informatie op waar niet om is gevraagd? Dan nemen we die informatie niet mee in de beoordeling. U kunt aan de fictieve aantallen van de soorten activiteiten, die zijn opgenomen om tot een fictieve aanneemsom te komen, geen enkel recht ontlenen. werkblad Tarievenlijst Het werkblad “Tarievenlijst” wordt automatisch gevuld met de waardes (tarieven) die u invult in het werkblad “Urenoverzicht”. Deze informatie gebruiken wij gedurende de looptijd van de overeenkomst voor het controleren van de projectoffertes die we bij u zullen aanvragen. De tarieven die u in dit document opgeeft, gelden gedurende de gehele contractperiode. De offertes voortkomend uit de raamovereenkomst tussen u en UWV, dienen op deze tarieven gebaseerd te zijn. UVW behoudt zich het recht toe dit te allen tijde te toetsen. Aan de in dit prijsopgaveformulier gehanteerde aantallen kan door u nu en in de toekomst geen enkel recht worden ontleend ten aanzien van de tijdens de uitvoering van de opdracht werkelijk te realiseren hoeveelheden c.q. te realiseren omzet.

Sheet Urenoverzicht
B3: Naam Inschrijver
B5: Europese Aanbesteding Interieurarchitect Diensten
B7: Invulinstructie: Vul hierboven de naam van uw organisatie in. Vul vervolgens de vijf gele velden op het werkblad "Urenoverzicht" in. Hier vermeld u de tarieven voor de verschillende in te zetten functionarissen/medewerkers. Vul daarna de vijf gele velden op het werkblad "Urenoverzicht" op rij 47 in. Hier vermeld u de het aantal uren in dat u verwacht in te zetten per functionaris voor deze activiteiten. De door u ingevulde tarieven per in te zetten functionaris/medewerker worden automatisch vermenigvuldigd met het fictief aantal uren per activiteit. Dit resulteert in een automatisch uitgerekende som in de cel J58. Vult u 0 in of geen waarde of een negatieve waarde bij de gevraagde tarieven? Dan is uw Inschrijving ongeldig en sluiten we u uit van verdere deelname aan de Aanbesteding. Geeft u prijzen, kortingen, voorwaarden of andere informatie op waar niet om is gevraagd? Dan nemen we die informatie niet mee in de beoordeling.
F19: Alle bedragen excl. btw!!
B21: Urenoverzicht tbv Interieurarchitect dienstverlening | D21: Project-architect | E21: Project-leider | F21: Ontwerper | G21: Tekenaar | H21: jr. Tekenaar
C22: tarief per uur
C23: soort activiteit | D23: aantal uur per activiteit/functionaris | J23: Totaal
A24: 1 | B24: Fase O, Vooronderzoek | C24: Concept Vlekkenplan | F24: 8 | I24: =D$22*D24+E$22*E24+F$22*F24+G$22*G24+H$22*H24 -> 0
C25: Logistieke inpassing in het bestaande gebouw | I25: =D$22*D25+E$22*E25+F$22*F25+G$22*G25+H$22*H25 -> 0
C26: Globaal indelingsplan | D26: 8 | F26: 4 | I26: =D$22*D26+E$22*E26+F$22*F26+G$22*G26+H$22*H26 -> 0
C27: Rapporteren van stucturele aanpassingen aan het gebouw | I27: =D$22*D27+E$22*E27+F$22*F27+G$22*G27+H$22*H27 -> 0
C28: Voorbereiden van en deelnemen aan de vergaderingen met gebruikers | D28: 24 | F28: 12 | I28: =D$22*D28+E$22*E28+F$22*F28+G$22*G28+H$22*H28 -> 0
D29: =D21 -> Project-architect | E29: =E21 -> Project-leider | F29: =F21 -> Ontwerper | G29: =G21 -> Tekenaar | H29: =H21 -> jr. Tekenaar | I29: Fase O, Vooronderzoek | J29: =SUM(I24:I28) -> 0
A30: 2 | B30: Fase A, Voorlopig ontwerp | C30: Vlekkenplan | D30: 16 | F30: 10 | I30: =D$22*D30+E$22*E30+F$22*F30+G$22*G30+H$22*H30 -> 0
C31: Indelingsplan (werkplekindeling) | D31: 16 | F31: 12 | G31: 24 | I31: =D$22*D31+E$22*E31+F$22*F31+G$22*G31+H$22*H31 -> 0
C32: Plattegronden en aanzichten, schaal 1:100 | F32: 4 | I32: =D$22*D32+E$22*E32+F$22*F32+G$22*G32+H$22*H32 -> 0
C33: Plafond- en verlichtingsplan, schaal 1:100 | I33: =D$22*D33+E$22*E33+F$22*F33+G$22*G33+H$22*H33 -> 0
C34: Vloerplan, schaal 1:100 | I34: =D$22*D34+E$22*E34+F$22*F34+G$22*G34+H$22*H34 -> 0
C35: Schetsmatig optekenen van al het speciaal meubilair (ontvangstbalie, beveiligingsbalie, internetzuilen, folderrekken, koffie-corner en copy-corner) | I35: =D$22*D35+E$22*E35+F$22*F35+G$22*G35+H$22*H35 -> 0
C36: Materiaal- en kleurvoorstel | F36: 8 | I36: =D$22*D36+E$22*E36+F$22*F36+G$22*G36+H$22*H36 -> 0
C37: Rapporteren van structurele aanpassingen aan het gebouw | I37: =D$22*D37+E$22*E37+F$22*F37+G$22*G37+H$22*H37 -> 0
C38: Voorbereiden van en deelnemen aan de vergaderingen, inclusief eventuele 3D video- en presentatietekeningen, -middelen en materialen | D38: 24 | E38: 4 | F38: 32 | I38: =D$22*D38+E$22*E38+F$22*F38+G$22*G38+H$22*H38 -> 0
D39: Project-architect | E39: Project-leider | F39: Ontwerper | G39: Tekenaar | H39: jr. Tekenaar | I39: Fase A, Voorlopig ontwerp | J39: =SUM(I30:I38) -> 0
A40: 3 | B40: Fase B, Definitief ontwerp | C40: Definitieve plattegronden, compleet gemaatvoerd, en voorzien van principe aansluitdetails, schaal 1:100 | D40: 8 | F40: 16 | G40: 24 | I40: =D$22*D40+E$22*E40+F$22*F40+G$22*G40+H$22*H40 -> 0
C41: plafondplan, schaal 1:100 | D41: 4 | G41: 10 | H41: 4 | I41: =D$22*D41+E$22*E41+F$22*F41+G$22*G41+H$22*H41 -> 0
C42: Vloerplan, schaal 1:100 | D42: 4 | G42: 10 | H42: 4 | I42: =D$22*D42+E$22*E42+F$22*F42+G$22*G42+H$22*H42 -> 0
C43: Principe wandaanzichten, schaal 1:50 | D43: 4 | G43: 8 | I43: =D$22*D43+E$22*E43+F$22*F43+G$22*G43+H$22*H43 -> 0
C44: Definitief optekenen van het vaste meubilair (zie boven) en aangeven van de principedetails | D44: 2 | F44: 8 | G44: 6 | H44: 8 | I44: =D$22*D44+E$22*E44+F$22*F44+G$22*G44+H$22*H44 -> 0
C45: Systematisch overzicht van de te gebruiken materialen en afwerkingen | F45: 16 | G45: 6 | H45: 10 | I45: =D$22*D45+E$22*E45+F$22*F45+G$22*G45+H$22*H45 -> 0
C46: Complete bestellijst voor het losse- en speciale meubilair en verlichting | D46: 2 | F46: 4 | I46: =D$22*D46+E$22*E46+F$22*F46+G$22*G46+H$22*H46 -> 0
C47: Tekeningen ten behoeve van de gebruikersmelding of –vergunning | I47: =D$22*D47+E$22*E47+F$22*F47+G$22*G47+H$22*H47 -> 0
C48: Werkomschrijving (bouwkundig) ten behoeve van de aanbesteding | E48: 12 | I48: =D$22*D48+E$22*E48+F$22*F48+G$22*G48+H$22*H48 -> 0
C49: Voorbereiden van en deelnemen aan de vergaderingen, inclusief eventuele 3D video- en presentatietekeningen, -middelen en materialen | D49: 24 | F49: 40 | G49: 8 | I49: =D$22*D49+E$22*E49+F$22*F49+G$22*G49+H$22*H49 -> 0
D50: Project-architect | E50: Project-leider | F50: Ontwerper | G50: Tekenaar | H50: jr. Tekenaar | I50: Fase B, Definitief ontwerp | J50: =SUM(I40:I49) -> 0
A51: 4 | B51: Fase C, Uitvoering/Nazorg | C51: Aanvullende tekeningen ten behoeve van de uitvoering/ingebruikname: sparingstekeningen aansluitdetails overige op verzoek (bv tbv gebruiksmelding) | D51: 12 | G51: 12 | I51: =D$22*D51+E$22*E51+F$22*F51+G$22*G51+H$22*H51 -> 0
C52: Controleren van door derden gemaakte tekeningen | D52: 12 | G52: 4 | I52: =D$22*D52+E$22*E52+F$22*F52+G$22*G52+H$22*H52 -> 0
C53: Esthetische en kwalitatieve ondersteuning van het toezicht | I53: =D$22*D53+E$22*E53+F$22*F53+G$22*G53+H$22*H53 -> 0
C54: Waar zinvol, naar inzicht van UWV, deelnemen aan Bouw-en Werkvergaderingen | D54: 12 | E54: 3 | I54: =D$22*D54+E$22*E54+F$22*F54+G$22*G54+H$22*H54 -> 0
C55: Revisietekeningen | G55: 24 | I55: =D$22*D55+E$22*E55+F$22*F55+G$22*G55+H$22*H55 -> 0
I56: Fase C, Uitvoering/Zorg | J56: =SUM(I51:I55) -> 0
B58: TOTAAL | D58: =SUM(D24:D57) -> 172 | E58: =SUM(E24:E57) -> 19 | F58: =SUM(F24:F57) -> 174 | G58: =SUM(G24:G57) -> 136 | H58: =SUM(H24:H57) -> 26 | I58: Totaal | J58: =SUM(J29+J39+J50+J56) -> 0
C61: =+COUNTBLANK(D22:H22)+COUNTBLANK(D47:H47) -> 10
C62: =IF(C61=0,"Alle geel gemarkeerde velden zijn ingevoerd","Niet alle geel gemarkeerde velden zijn ingevoerd") -> Niet alle geel gemarkeerde velden zijn ingevoerd

Sheet Totale fictieve aanneemsom
B3: Europese Aanbesteding Interieurarchitect Diensten | C3: Let op: dit Prijsopgaveformulier bestaat uit 4 tabbladen
B5: Naam Inschrijver: | C5: =Urenoverzicht!C3 -> 0
B9: Totale fictieve aanneemsom exclusief BTW | C9: =Urenoverzicht!J58 -> 0

Sheet Tarievenlijst
C6: Tarieven / Verrekenprijzen arbeid | D6: In euro's exlc. btw | E6: eenheid
C8: Mogelijk in te zetten functionarissen:
C9: Project- architect | D9: =Urenoverzicht!D22 -> 0 | E9: uur
C10: Project- leider | D10: =Urenoverzicht!E22 -> 0 | E10: uur
C11: ontwerper | D11: =Urenoverzicht!F22 -> 0 | E11: uur
C12: Tekenaar | D12: =Urenoverzicht!G22 -> 0 | E12: uur
C13: jr. Tekenaar | D13: =Urenoverzicht!H22 -> 0 | E13: uur
