Workbook
Name Print_Area: Totaalblad!#REF!

Sheet Basisgegevens
A1: Basisgegevens Contract
A3: Aanbestedende Dienst
A4: Naam Opdrachtgever | B4: Stichting Quadraten
A5: Vestigingsplaats Opdrachtgever | B5: Grootegast
A6: Kvk-nummer | B6: 2090846
A7: Naam tekenbevoegde opdrachtgever voor contract | B7: J.P. Tuil
A8: Functie: | B8: lid College van Bestuur
A10: Alpha Adviesbureau
A11: Contactpersoon | B11: Mitchel Vos
A12: Telefoonnummer | B12: 06 19661399
A13: Email adres | B13: mvos@alpha-adviesbureau.nl
A15: Inschrijver
A16: Volledige naam Inschrijver (Handelsnaam KvK)
A17: Vestigingsplaats Inschrijver (KvK)
A18: KvK-nummer
A19: Tekenbevoegde voor overeenkomt
A20: Functie
A22: Contactpersoon offerte
A23: Telefoonnummer Kantoor
A24: Postadres Kantoor
A25: PC + Woonplaats Kantoor
A26: Mobielnummer contactpersoon offerte
A27: E-mail adres contactpersoon offerte

Sheet Totaalblad
B1: Prijzenblad t.b.v. de gunning
B2: Instructie
B6: Onderdeel ICT Hardware | C6: Fictieve uitgave | D6: Korting- en/of Opslagpercentage | E6: Korting- en of Opslag bedrag | F6: Vergelijkingsprijs
A7: 1.1 | B7: Chromebooks | C7: 1500000 | D7: ='1. Chromebooks'!C10 -> 0 | E7: =SUM(C7*D7) -> 0 | F7: =SUM(C7+E7) -> 1500000
A8: 1.2 | B8: ='1. Chromebooks'!B12 -> Oplaadkarren Chromebooks | C8: 50000 | D8: ='1. Chromebooks'!C21 -> 0 | E8: =SUM(C8*D8) -> 0 | F8: =SUM(C8+E8) -> 50000
A9: 2.1 | B9: ='2. Windows'!B3 -> Laptops | C9: 200000 | D9: ='2. Windows'!C10 -> 0 | E9: =SUM(C9*D9) -> 0 | F9: =SUM(C9+E9) -> 200000
A10: 2.2 | B10: Surface | C10: 60000 | D10: ='2. Windows'!C19 -> 0 | E10: =SUM(C10*D10) -> 0 | F10: =SUM(C10+E10) -> 60000
A11: 2.3 | B11: ='2. Windows'!B21 -> Desktops | C11: 200000 | D11: ='2. Windows'!C29 -> 0 | E11: =SUM(C11*D11) -> 0 | F11: =SUM(C11+E11) -> 200000
A12: 2.4 | B12: ='2. Windows'!B31 -> Monitoren Desktop | C12: 50000 | D12: ='2. Windows'!C40 -> 0 | E12: =SUM(C12*D12) -> 0 | F12: =SUM(C12+E12) -> 50000
A13: 3.1 | B13: ='3. Apple'!B3 -> iPads | C13: 65000 | D13: ='3. Apple'!C9 -> 0 | E13: =SUM(C13*D13) -> 0 | F13: =SUM(C13-E13) -> 65000
A14: 3.2 | B14: ='3. Apple'!B12 -> Oplaadkasten iPads | C14: 50000 | D14: ='3. Apple'!C21 -> 0 | E14: =SUM(C14*D14) -> 0 | F14: =SUM(C14+E14) -> 50000
A15: 4.1 | B15: ='4. Accessoires'!B3 -> Accessoires | C15: 50000 | D15: ='4. Accessoires'!B7 -> 0 | E15: =SUM(C15*D15) -> 0 | F15: =SUM(C15+E15) -> 50000
B16: Onderdeel overige leveringen/diensten | F16: Vergelijkingsprijs
A17: 6.1 | B17: ='5. Reparatietarieven'!B3 -> Reparatietarieven | F17: ='5. Reparatietarieven'!E8 -> 10000
A18: 7.1 | B18: ='6. Overige diensten'!B3 -> Overige diensten | F18: ='6. Overige diensten'!E7 -> 0
D20: Totaal vergelijkingsprijs | F20: {=SUM(F7:F15)+(F17:F18)} -> 2235000
F21: 2225000

Sheet 1. Chromebooks
B1: Chromebooks
A2: 1.1 | B2: Chromebooks
B3: Technische Specificatie | C3: Omschrijving
B4: Geschikt voor | C4: Ruggedized (is geschikt voor kinderen); kwalitatief stevig toetsenbord
B5: Licentie | C5: Google-licentie meegeleverd
B6: Batterij | C6: Minimaal 12 uur batterijlading
B7: Merk | C7: A merk (zie het Programma van Eisen)
B8: Stroom | C8: Kabel voor stroomvoorziening is mee geleverd
B9: Prijzen Chromebooks
B10: Opslagpercentage
A12: 1.2 | B12: Oplaadkarren Chromebooks
B13: Technische Specificatie | C13: Omschrijving
B14: Omvang/grote | C14: Leverbaar in 2 verschillende oplaadkasten: 24 en 32 Chromebooks
B15: Materiaal | C15: Metaal. De oplaadkar is stoot- en krasbestendig
B16: Afsluitbaar | C16: De oplaadkar is afsluitbaar met een slot
B17: Stroom | C17: De oplaadkar is voorzien van een 220V stopcontact (geaard en gezekerd)
B18: Aansluitingen | C18: Er dient een mogelijkheid te zijn om een verwisselbare aansluitkoppelstuk op de aansluiting te plaatsen, minimaal USB C
B19: Kabels | C19: De kabels zijn volledig weggewerkt in de oplaadkar
B20: Prijzen Oplaadkast
B21: Opslagpercentage oplaadkar

Sheet 2. Windows
B1: Windows
A3: 2.1 | B3: Laptops
B4: Technische Specificatie | C4: Omschrijving
B5: Model | C5: De mogelijkheid om een leerkrachten model en leerlingen model te leveren
B6: Licentie | C6: Windows 10 PRO (mogelijkheid tot Windows 11 PRO)
B7: Merk | C7: A merk (zie het Programma van Eisen)
B8: Stroom | C8: Kabel voor stroomvoorziening is mee geleverd
B9: Prijzen Laptop
B10: Opslagpercentage
A12: 2.2 | B12: Surface laptop
B13: Technische Specificatie | C13: Omschrijving
B14: Model | C14: De mogelijkheid om een leerkrachten model en leerlingen model te leveren
B15: Licentie | C15: Windows 10 PRO (mogelijkheid tot Windows 11 PRO)
B16: Merk | C16: A merk (zie het Programma van Eisen)
B17: Stroom | C17: Kabel voor stroomvoorziening is mee geleverd
B18: Prijzen Laptop
B19: Opslagpercentage
A21: 2.3 | B21: Desktops
B22: Technische Specificatie | C22: Omschrijving
B23: Model | C23: Klein model (mogelijkheid om aan de wand/scherm te bevestigen)
B24: Licentie | C24: Windows 10 PRO (mogelijkheid tot Windows 11 PRO)
B25: Merk | C25: A merk (zie het Programma van Eisen)
B26: Materiaal | C26: Metaal of soortgelijk
B27: Stroom | C27: Kabel voor stroomvoorziening is mee geleverd
B28: Prijzen Desktop
B29: Opslagpercentage
A31: 2.4 | B31: Monitoren Desktop
B32: Technische Specificatie | C32: Omschrijving
B33: Formaat | C33: Keuze uit 22, 23 of 24'' inch
B34: Scherm | C34: Full HD en Anti reflectielaag
B35: Merk | C35: A merk (zie het Programma van Eisen)
B36: Aansluitingen | C36: 2 HDMI-aansluitingen en/of 2 displaypoort
B37: Kijkhoek | C37: 178 graden
B38: Verstelbaarheid | C38: In hoogte verstelbaar
B39: Prijzen Monitor
B40: Opslagpercentage

Sheet 3. Apple
B1: Apple
A3: 3.1 | B3: iPads
B4: Technische Specificatie | C4: Omschrijving
B5: Model | C5: U kunt de meest actuele iPad leveren. De opdrachtgever maakt bij de aanschaf een keuze voor het model binnen deze overeenkomst.
B6: Opslag | C6: Minimaal 128 Gb
B7: Kleuren | C7: Alle beschikbare kleuren
B8: Prijzen iPads
B9: Let op: kortingspercentage
A12: 3.2 | B12: Oplaadkasten iPads
B13: Technische Specificatie | C13: Omschrijving
B14: Omvang/grote | C14: Leverbaar in verschillende oplaadkasten: minimaal 10 en 20 iPads.
B15: Afsluitbaar | C15: De oplaadkast is afsluitbaar met een slot.
B16: Inclusief hoes | C16: De iPads passen inclusief hoes in de oplaadkast.
B17: Stroom | C17: Oplaadkast is voorzien van een 220V stopcontact (geaard en gezekerd).
B18: Aansluitingen | C18: Lightning aansluiting. Er dient een mogelijkheid te zijn om een verwisselbare aansluitkoppelstuk op de aansluiting te plaatsen, minimaal USB C.
B19: Kabels | C19: De kabels zijn volledig weggewerkt in de oplaadkast.
B20: Prijzen Oplaadkast
B21: Opslagpercentage

Sheet 4. Accessoires
B1: Accessoires
A3: 4.1 | B3: Accessoires
B4: De opdrachtgever heeft de mogelijkheid om accessoires voor de alle Devices bij te bestellen tegen een vast opslagpercentage. Onder accessoires wordt verstaan maar niet beperkt tot: toetsenborden, muizen, beschermhoesen, dockingstations etc.
B5: De accessoires kunnen besteld worden in de webshop van de leverancier, met de opgegeven opslagpercentage.
B6: Opslagpercentage accessoires

Sheet 5. Reparatietarieven
A1: Reparatietarieven
A3: 5.1 | B3: Reparatietarieven | C3: Fictieve aantallen / eenheden | D3: Uurtarief | E3: Totaal
B4: Uurtarief reparatiewerkzaamheden | C4: 100 | E4: =SUM(C4*D4) -> 0
B5: Onderzoekskosten | C5: 100 | E5: =SUM(C5*D5) -> 0
C6: Fictieve inkoopwaarde | D6: Opslagpercentage
B7: Opslagpercentage onderdelen | C7: 10000 | E7: =SUM(C7*D7)+C7 -> 10000
D8: Totaal | E8: =SUM(E4:E7) -> 10000

Sheet 6. Overige diensten
A1: Overige diensten (optioneel)
A3: 6.1 | B3: Overige diensten | C3: Fictief aantal | D3: Prijs per stuk | E3: Totaal
B4: Uitpakken en afvoeren verpakkingsmateriaal | C4: 500 | E4: =SUM(C4*D4) -> 0
B5: Afvoeren oude hardware inclusief het aanleveren van certificaten van vernietiging | C5: 500 | E5: =SUM(C5*D5) -> 0
B6: Volledig werkend opleveren | C6: 500 | E6: =SUM(C6*D6) -> 0
D7: Totaal | E7: =SUM(E4:E6) -> 0
