Workbook
Name Kutools_AddTotalToChart: Ontwerp_Backlog!$AA$91:$AA$97+Ontwerp_Backlog!$AB$91:$AB$97
Name Slicer_Product: #N/A
Name Slicer_Product1: #N/A
Name Slicer_Variant: #N/A
Name Slicer_Variant1: #N/A

Sheet Ontwerpberekening
A1: Project levensduur
A2: 1
B4: Product-/ Projectvariant | C4: Onderdeel | D4: Omschrijving | E4: Bestaande Situatie of Nieuw Sitautie? | F4: Productgroep | G4: Product | H4: Category | I4: Producttype | J4: Aantal Eenheden | K4: Eenheid | L4: Lengte[m] | M4: Breedte [m] | N4: Dikte [m] | O4: Oppervlakte [m2] | P4: Hoeveelheid [m3] | Q4: Soortelijk gewicht [ton / m3] | R4: Gewicht [ton] | S4: Product levensduur [jaar] | T4: Vervangingen | U4: Onderhoudscylus [jaar] | V4: Onderhoudsbeurten | W4: A4 - Transportafstand naar bouwplaats [km] | X4: A4 - Transportmiddel naar bouwplaats | Y4: A5 - Asfalt Aanlegset | Z4: A5 - Overig Materieel tbv Aanleg | AA4: C1 - Asfalt Verwijderset | AB4: C1 - Overig Materieel tbv Verwijderen | AC4: C2 - Transportafstand naar verwerker [km] | AD4: C2 - Transportmiddel naar verwerker | AE4: C3 - % Verbranding | AF4: C3 - % Recycling | AG4: C3 - Verwerkingsset | AH4: C4 - % stort / verlies | AI4: D - % Hergebruik | AJ4: Uitgangspunten
B5: Open Menggranulaat | C5: Grondontgraving | E5: Bestaande situatie | F5: Ophoogmateriaal | G5: Ophoogmateriaal (Grond) | H5: =_xlfn.IFNA(VLOOKUP(Invoer_Ontwerp[[#This Row],[Product]],Database_Productkaarten[[Product]:[Comment]],64,FALSE),0) -> 3 | I5: =_xlfn.IFNA(VLOOKUP(Invoer_Ontwerp[[#This Row],[Product]],Database_Productkaarten[[Product]:[Producttype]],3,FALSE),0) -> Grond | J5: 440 | K5: =_xlfn.IFNA(VLOOKUP(Invoer_Ontwerp[[#This Row],[Product]],Database_Productkaarten[[#All],[Product]:[Eenheid]],4,FALSE),0) -> m3 | L5: 100 | M5: 5 | N5: 0.88 | O5: =Invoer_Ontwerp[[#This Row],[Lengte'[m']]]*Invoer_Ontwerp[[#This Row],[Breedte '[m']]] -> 500 | P5: =IFERROR(IF(Invoer_Ontwerp[[#This Row],[Oppervlakte '[m2']]]*Invoer_Ontwerp[[#This Row],[Dikte '[m']]]=0,Invoer_Ontwerp[[#This Row],[Gewicht '[ton']]]/Invoer_Ontwerp[[#This Row],[Soortelijk gewicht '[ton / m3']]],Invoer_Ontwerp[[#This Row],[Oppervlakte '[m2']]]*Invoer_Ontwerp[[#This Row],[Dikte '[m']]]),0) -> 440 | Q5: =_xlfn.IFNA(VLOOKUP(Invoer_Ontwerp[[#This Row],[Product]],Database_Productkaarten[[Product]:[Soortelijk Gewicht '[ton / m3']]],11,FALSE),0) -> 1.625 | R5: =_xlfn.IFNA(VLOOKUP(Invoer_Ontwerp[[#This Row],[Product]],Database_Productkaarten[[Product]:[Gewicht '[ton'] / Eenheid]],12,FALSE)*Invoer_Ontwerp[[#This Row],[Aantal Eenheden]],0) -> 715 | S5: =_xlfn.IFNA(VLOOKUP(Invoer_Ontwerp[[#This Row],[Product]],Database_Productkaarten[[Product]:[Levensduur]],14,FALSE),0) -> 100 | T5: =MAX(IFERROR($A$2/Invoer_Ontwerp[[#This Row],[Product levensduur '[jaar']]]-1,0),0) -> 0
B6: Open Menggranulaat | C6: Zandbed | E6: Nieuwe situatie | F6: Ophoogmateriaal | G6: Ophoogmateriaal (Zand) | H6: =_xlfn.IFNA(VLOOKUP(Invoer_Ontwerp[[#This Row],[Product]],Database_Productkaarten[[Product]:[Comment]],64,FALSE),0) -> 3 | I6: =_xlfn.IFNA(VLOOKUP(Invoer_Ontwerp[[#This Row],[Product]],Database_Productkaarten[[Product]:[Producttype]],3,FALSE),0) -> Zand | J6: 175 | K6: =_xlfn.IFNA(VLOOKUP(Invoer_Ontwerp[[#This Row],[Product]],Database_Productkaarten[[#All],[Product]:[Eenheid]],4,FALSE),0) -> m3 | L6: 100 | M6: 5 | N6: 0.35 | O6: =Invoer_Ontwerp[[#This Row],[Lengte'[m']]]*Invoer_Ontwerp[[#This Row],[Breedte '[m']]] -> 500 | P6: =IFERROR(IF(Invoer_Ontwerp[[#This Row],[Oppervlakte '[m2']]]*Invoer_Ontwerp[[#This Row],[Dikte '[m']]]=0,Invoer_Ontwerp[[#This Row],[Gewicht '[ton']]]/Invoer_Ontwerp[[#This Row],[Soortelijk gewicht '[ton / m3']]],Invoer_Ontwerp[[#This Row],[Oppervlakte '[m2']]]*Invoer_Ontwerp[[#This Row],[Dikte '[m']]]),0) -> 175 | Q6: =_xlfn.IFNA(VLOOKUP(Invoer_Ontwerp[[#This Row],[Product]],Database_Productkaarten[[Product]:[Soortelijk Gewicht '[ton / m3']]],11,FALSE),0) -> 1.5 | R6: =_xlfn.IFNA(VLOOKUP(Invoer_Ontwerp[[#This Row],[Product]],Database_Productkaarten[[Product]:[Gewicht '[ton'] / Eenheid]],12,FALSE)*Invoer_Ontwerp[[#This Row],[Aantal Eenheden]],0) -> 262.5 | S6: =_xlfn.IFNA(VLOOKUP(Invoer_Ontwerp[[#This Row],[Product]],Database_Productkaarten[[Product]:[Levensduur]],14,FALSE),0) -> 100 | T6: =MAX(IFERROR($A$2/Invoer_Ontwerp[[#This Row],[Product levensduur '[jaar']]]-1,0),0) -> 0
B7: Open Menggranulaat | C7: Funderingswapening | E7: Nieuwe situatie | F7: Funderingslagen | G7: Geogrid | H7: =_xlfn.IFNA(VLOOKUP(Invoer_Ontwerp[[#This Row],[Product]],Database_Productkaarten[[Product]:[Comment]],64,FALSE),0) -> 3 | I7: =_xlfn.IFNA(VLOOKUP(Invoer_Ontwerp[[#This Row],[Product]],Database_Productkaarten[[Product]:[Producttype]],3,FALSE),0) -> Waterbergende laag | J7: 500 | K7: =_xlfn.IFNA(VLOOKUP(Invoer_Ontwerp[[#This Row],[Product]],Database_Productkaarten[[#All],[Product]:[Eenheid]],4,FALSE),0) -> m2 | L7: 100 | M7: 5 | O7: =Invoer_Ontwerp[[#This Row],[Lengte'[m']]]*Invoer_Ontwerp[[#This Row],[Breedte '[m']]] -> 500 | P7: =IFERROR(IF(Invoer_Ontwerp[[#This Row],[Oppervlakte '[m2']]]*Invoer_Ontwerp[[#This Row],[Dikte '[m']]]=0,Invoer_Ontwerp[[#This Row],[Gewicht '[ton']]]/Invoer_Ontwerp[[#This Row],[Soortelijk gewicht '[ton / m3']]],Invoer_Ontwerp[[#This Row],[Oppervlakte '[m2']]]*Invoer_Ontwerp[[#This Row],[Dikte '[m']]]),0) -> 0 | Q7: =_xlfn.IFNA(VLOOKUP(Invoer_Ontwerp[[#This Row],[Product]],Database_Productkaarten[[Product]:[Soortelijk Gewicht '[ton / m3']]],11,FALSE),0) -> 0 | R7: =_xlfn.IFNA(VLOOKUP(Invoer_Ontwerp[[#This Row],[Product]],Database_Productkaarten[[Product]:[Gewicht '[ton'] / Eenheid]],12,FALSE)*Invoer_Ontwerp[[#This Row],[Aantal Eenheden]],0) -> 127.5 | S7: =_xlfn.IFNA(VLOOKUP(Invoer_Ontwerp[[#This Row],[Product]],Database_Productkaarten[[Product]:[Levensduur]],14,FALSE),0) -> 35 | T7: =MAX(IFERROR($A$2/Invoer_Ontwerp[[#This Row],[Product levensduur '[jaar']]]-1,0),0) -> 0
B8: Open Menggranulaat | C8: Menggranulaat | E8: Nieuwe situatie | F8: Funderingslagen | G8: Menggranulaat 200mm | H8: =_xlfn.IFNA(VLOOKUP(Invoer_Ontwerp[[#This Row],[Product]],Database_Productkaarten[[Product]:[Comment]],64,FALSE),0) -> 3 | I8: =_xlfn.IFNA(VLOOKUP(Invoer_Ontwerp[[#This Row],[Product]],Database_Productkaarten[[Product]:[Producttype]],3,FALSE),0) -> Menggranulaat | J8: 1000 | K8: =_xlfn.IFNA(VLOOKUP(Invoer_Ontwerp[[#This Row],[Product]],Database_Productkaarten[[#All],[Product]:[Eenheid]],4,FALSE),0) -> m2 | L8: 100 | M8: 5 | N8: 0.4 | O8: =Invoer_Ontwerp[[#This Row],[Lengte'[m']]]*Invoer_Ontwerp[[#This Row],[Breedte '[m']]] -> 500 | P8: =IFERROR(IF(Invoer_Ontwerp[[#This Row],[Oppervlakte '[m2']]]*Invoer_Ontwerp[[#This Row],[Dikte '[m']]]=0,Invoer_Ontwerp[[#This Row],[Gewicht '[ton']]]/Invoer_Ontwerp[[#This Row],[Soortelijk gewicht '[ton / m3']]],Invoer_Ontwerp[[#This Row],[Oppervlakte '[m2']]]*Invoer_Ontwerp[[#This Row],[Dikte '[m']]]),0) -> 200 | Q8: =_xlfn.IFNA(VLOOKUP(Invoer_Ontwerp[[#This Row],[Product]],Database_Productkaarten[[Product]:[Soortelijk Gewicht '[ton / m3']]],11,FALSE),0) -> 1.95 | R8: =_xlfn.IFNA(VLOOKUP(Invoer_Ontwerp[[#This Row],[Product]],Database_Productkaarten[[Product]:[Gewicht '[ton'] / Eenheid]],12,FALSE)*Invoer_Ontwerp[[#This Row],[Aantal Eenheden]],0) -> 390 | S8: =_xlfn.IFNA(VLOOKUP(Invoer_Ontwerp[[#This Row],[Product]],Database_Productkaarten[[Product]:[Levensduur]],14,FALSE),0) -> 100 | T8: =MAX(IFERROR($A$2/Invoer_Ontwerp[[#This Row],[Product levensduur '[jaar']]]-1,0),0) -> 0 | AJ8: 400mm dikte niet beschikbaar; 200 mm als uitgangspunten met aantal m2 * 2
B9: Open Menggranulaat | C9: Straatlaag | E9: Nieuwe situatie | F9: Ophoogmateriaal | G9: Ophoogmateriaal (Zand) | H9: =_xlfn.IFNA(VLOOKUP(Invoer_Ontwerp[[#This Row],[Product]],Database_Productkaarten[[Product]:[Comment]],64,FALSE),0) -> 3 | I9: =_xlfn.IFNA(VLOOKUP(Invoer_Ontwerp[[#This Row],[Product]],Database_Productkaarten[[Product]:[Producttype]],3,FALSE),0) -> Zand | J9: 25 | K9: =_xlfn.IFNA(VLOOKUP(Invoer_Ontwerp[[#This Row],[Product]],Database_Productkaarten[[#All],[Product]:[Eenheid]],4,FALSE),0) -> m3 | L9: 100 | M9: 5 | N9: 0.05 | O9: =Invoer_Ontwerp[[#This Row],[Lengte'[m']]]*Invoer_Ontwerp[[#This Row],[Breedte '[m']]] -> 500 | P9: =IFERROR(IF(Invoer_Ontwerp[[#This Row],[Oppervlakte '[m2']]]*Invoer_Ontwerp[[#This Row],[Dikte '[m']]]=0,Invoer_Ontwerp[[#This Row],[Gewicht '[ton']]]/Invoer_Ontwerp[[#This Row],[Soortelijk gewicht '[ton / m3']]],Invoer_Ontwerp[[#This Row],[Oppervlakte '[m2']]]*Invoer_Ontwerp[[#This Row],[Dikte '[m']]]),0) -> 25 | Q9: =_xlfn.IFNA(VLOOKUP(Invoer_Ontwerp[[#This Row],[Product]],Database_Productkaarten[[Product]:[Soortelijk Gewicht '[ton / m3']]],11,FALSE),0) -> 1.5 | R9: =_xlfn.IFNA(VLOOKUP(Invoer_Ontwerp[[#This Row],[Product]],Database_Productkaarten[[Product]:[Gewicht '[ton'] / Eenheid]],12,FALSE)*Invoer_Ontwerp[[#This Row],[Aantal Eenheden]],0) -> 37.5 | S9: =_xlfn.IFNA(VLOOKUP(Invoer_Ontwerp[[#This Row],[Product]],Database_Productkaarten[[Product]:[Levensduur]],14,FALSE),0) -> 100 | T9: =MAX(IFERROR($A$2/Invoer_Ontwerp[[#This Row],[Product levensduur '[jaar']]]-1,0),0) -> 0
B10: Open Menggranulaat | C10: Toplaag | E10: Nieuwe situatie | F10: Elementenverhardingen | G10: Betonstraatsteen 210x105x80 | H10: =_xlfn.IFNA(VLOOKUP(Invoer_Ontwerp[[#This Row],[Product]],Database_Productkaarten[[Product]:[Comment]],64,FALSE),0) -> 3 | I10: =_xlfn.IFNA(VLOOKUP(Invoer_Ontwerp[[#This Row],[Product]],Database_Productkaarten[[Product]:[Producttype]],3,FALSE),0) -> Betonstraatsteen | J10: 500 | K10: =_xlfn.IFNA(VLOOKUP(Invoer_Ontwerp[[#This Row],[Product]],Database_Productkaarten[[#All],[Product]:[Eenheid]],4,FALSE),0) -> m2 | L10: 100 | M10: 5 | N10: 0.08 | O10: =Invoer_Ontwerp[[#This Row],[Lengte'[m']]]*Invoer_Ontwerp[[#This Row],[Breedte '[m']]] -> 500 | P10: =IFERROR(IF(Invoer_Ontwerp[[#This Row],[Oppervlakte '[m2']]]*Invoer_Ontwerp[[#This Row],[Dikte '[m']]]=0,Invoer_Ontwerp[[#This Row],[Gewicht '[ton']]]/Invoer_Ontwerp[[#This Row],[Soortelijk gewicht '[ton / m3']]],Invoer_Ontwerp[[#This Row],[Oppervlakte '[m2']]]*Invoer_Ontwerp[[#This Row],[Dikte '[m']]]),0) -> 40 | Q10: =_xlfn.IFNA(VLOOKUP(Invoer_Ontwerp[[#This Row],[Product]],Database_Productkaarten[[Product]:[Soortelijk Gewicht '[ton / m3']]],11,FALSE),0) -> 2.4 | R10: =_xlfn.IFNA(VLOOKUP(Invoer_Ontwerp[[#This Row],[Product]],Database_Productkaarten[[Product]:[Gewicht '[ton'] / Eenheid]],12,FALSE)*Invoer_Ontwerp[[#This Row],[Aantal Eenheden]],0) -> 89.8 | S10: =_xlfn.IFNA(VLOOKUP(Invoer_Ontwerp[[#This Row],[Product]],Database_Productkaarten[[Product]:[Levensduur]],14,FALSE),0) -> 25 | T10: =MAX(IFERROR($A$2/Invoer_Ontwerp[[#This Row],[Product levensduur '[jaar']]]-1,0),0) -> 0
B11: Open Menggranulaat | C11: Zandbed | E11: Bestaande situatie | F11: Ophoogmateriaal | G11: Ophoogmateriaal (Zand) | H11: =_xlfn.IFNA(VLOOKUP(Invoer_Ontwerp[[#This Row],[Product]],Database_Productkaarten[[Product]:[Comment]],64,FALSE),0) -> 3 | I11: =_xlfn.IFNA(VLOOKUP(Invoer_Ontwerp[[#This Row],[Product]],Database_Productkaarten[[Product]:[Producttype]],3,FALSE),0) -> Zand | J11: 175 | K11: =_xlfn.IFNA(VLOOKUP(Invoer_Ontwerp[[#This Row],[Product]],Database_Productkaarten[[#All],[Product]:[Eenheid]],4,FALSE),0) -> m3 | L11: 100 | M11: 5 | N11: 0.35 | O11: =Invoer_Ontwerp[[#This Row],[Lengte'[m']]]*Invoer_Ontwerp[[#This Row],[Breedte '[m']]] -> 500 | P11: =IFERROR(IF(Invoer_Ontwerp[[#This Row],[Oppervlakte '[m2']]]*Invoer_Ontwerp[[#This Row],[Dikte '[m']]]=0,Invoer_Ontwerp[[#This Row],[Gewicht '[ton']]]/Invoer_Ontwerp[[#This Row],[Soortelijk gewicht '[ton / m3']]],Invoer_Ontwerp[[#This Row],[Oppervlakte '[m2']]]*Invoer_Ontwerp[[#This Row],[Dikte '[m']]]),0) -> 175 | Q11: =_xlfn.IFNA(VLOOKUP(Invoer_Ontwerp[[#This Row],[Product]],Database_Productkaarten[[Product]:[Soortelijk Gewicht '[ton / m3']]],11,FALSE),0) -> 1.5 | R11: =_xlfn.IFNA(VLOOKUP(Invoer_Ontwerp[[#This Row],[Product]],Database_Productkaarten[[Product]:[Gewicht '[ton'] / Eenheid]],12,FALSE)*Invoer_Ontwerp[[#This Row],[Aantal Eenheden]],0) -> 262.5 | S11: =_xlfn.IFNA(VLOOKUP(Invoer_Ontwerp[[#This Row],[Product]],Database_Productkaarten[[Product]:[Levensduur]],14,FALSE),0) -> 100 | T11: =MAX(IFERROR($A$2/Invoer_Ontwerp[[#This Row],[Product levensduur '[jaar']]]-1,0),0) -> 0
B12: Open Menggranulaat | C12: Funderingswapening | E12: Bestaande situatie | F12: Funderingslagen | G12: Geogrid | H12: =_xlfn.IFNA(VLOOKUP(Invoer_Ontwerp[[#This Row],[Product]],Database_Productkaarten[[Product]:[Comment]],64,FALSE),0) -> 3 | I12: =_xlfn.IFNA(VLOOKUP(Invoer_Ontwerp[[#This Row],[Product]],Database_Productkaarten[[Product]:[Producttype]],3,FALSE),0) -> Waterbergende laag | J12: 500 | K12: =_xlfn.IFNA(VLOOKUP(Invoer_Ontwerp[[#This Row],[Product]],Database_Productkaarten[[#All],[Product]:[Eenheid]],4,FALSE),0) -> m2 | L12: 100 | M12: 5 | O12: =Invoer_Ontwerp[[#This Row],[Lengte'[m']]]*Invoer_Ontwerp[[#This Row],[Breedte '[m']]] -> 500 | P12: =IFERROR(IF(Invoer_Ontwerp[[#This Row],[Oppervlakte '[m2']]]*Invoer_Ontwerp[[#This Row],[Dikte '[m']]]=0,Invoer_Ontwerp[[#This Row],[Gewicht '[ton']]]/Invoer_Ontwerp[[#This Row],[Soortelijk gewicht '[ton / m3']]],Invoer_Ontwerp[[#This Row],[Oppervlakte '[m2']]]*Invoer_Ontwerp[[#This Row],[Dikte '[m']]]),0) -> 0 | Q12: =_xlfn.IFNA(VLOOKUP(Invoer_Ontwerp[[#This Row],[Product]],Database_Productkaarten[[Product]:[Soortelijk Gewicht '[ton / m3']]],11,FALSE),0) -> 0 | R12: =_xlfn.IFNA(VLOOKUP(Invoer_Ontwerp[[#This Row],[Product]],Database_Productkaarten[[Product]:[Gewicht '[ton'] / Eenheid]],12,FALSE)*Invoer_Ontwerp[[#This Row],[Aantal Eenheden]],0) -> 127.5 | S12: =_xlfn.IFNA(VLOOKUP(Invoer_Ontwerp[[#This Row],[Product]],Database_Productkaarten[[Product]:[Levensduur]],14,FALSE),0) -> 35 | T12: =MAX(IFERROR($A$2/Invoer_Ontwerp[[#This Row],[Product levensduur '[jaar']]]-1,0),0) -> 0
B13: Open Menggranulaat | C13: Menggranulaat | E13: Bestaande situatie | F13: Funderingslagen | G13: Menggranulaat 200mm | H13: =_xlfn.IFNA(VLOOKUP(Invoer_Ontwerp[[#This Row],[Product]],Database_Productkaarten[[Product]:[Comment]],64,FALSE),0) -> 3 | I13: =_xlfn.IFNA(VLOOKUP(Invoer_Ontwerp[[#This Row],[Product]],Database_Productkaarten[[Product]:[Producttype]],3,FALSE),0) -> Menggranulaat | J13: 1000 | K13: =_xlfn.IFNA(VLOOKUP(Invoer_Ontwerp[[#This Row],[Product]],Database_Productkaarten[[#All],[Product]:[Eenheid]],4,FALSE),0) -> m2 | L13: 100 | M13: 5 | N13: 0.4 | O13: =Invoer_Ontwerp[[#This Row],[Lengte'[m']]]*Invoer_Ontwerp[[#This Row],[Breedte '[m']]] -> 500 | P13: =IFERROR(IF(Invoer_Ontwerp[[#This Row],[Oppervlakte '[m2']]]*Invoer_Ontwerp[[#This Row],[Dikte '[m']]]=0,Invoer_Ontwerp[[#This Row],[Gewicht '[ton']]]/Invoer_Ontwerp[[#This Row],[Soortelijk gewicht '[ton / m3']]],Invoer_Ontwerp[[#This Row],[Oppervlakte '[m2']]]*Invoer_Ontwerp[[#This Row],[Dikte '[m']]]),0) -> 200 | Q13: =_xlfn.IFNA(VLOOKUP(Invoer_Ontwerp[[#This Row],[Product]],Database_Productkaarten[[Product]:[Soortelijk Gewicht '[ton / m3']]],11,FALSE),0) -> 1.95 | R13: =_xlfn.IFNA(VLOOKUP(Invoer_Ontwerp[[#This Row],[Product]],Database_Productkaarten[[Product]:[Gewicht '[ton'] / Eenheid]],12,FALSE)*Invoer_Ontwerp[[#This Row],[Aantal Eenheden]],0) -> 390 | S13: =_xlfn.IFNA(VLOOKUP(Invoer_Ontwerp[[#This Row],[Product]],Database_Productkaarten[[Product]:[Levensduur]],14,FALSE),0) -> 100 | T13: =MAX(IFERROR($A$2/Invoer_Ontwerp[[#This Row],[Product levensduur '[jaar']]]-1,0),0) -> 0
B14: Open Menggranulaat | C14: Straatlaag | E14: Bestaande situatie | F14: Ophoogmateriaal | G14: Ophoogmateriaal (Zand) | H14: =_xlfn.IFNA(VLOOKUP(Invoer_Ontwerp[[#This Row],[Product]],Database_Productkaarten[[Product]:[Comment]],64,FALSE),0) -> 3 | I14: =_xlfn.IFNA(VLOOKUP(Invoer_Ontwerp[[#This Row],[Product]],Database_Productkaarten[[Product]:[Producttype]],3,FALSE),0) -> Zand | J14: 25 | K14: =_xlfn.IFNA(VLOOKUP(Invoer_Ontwerp[[#This Row],[Product]],Database_Productkaarten[[#All],[Product]:[Eenheid]],4,FALSE),0) -> m3 | L14: 100 | M14: 5 | N14: 0.05 | O14: =Invoer_Ontwerp[[#This Row],[Lengte'[m']]]*Invoer_Ontwerp[[#This Row],[Breedte '[m']]] -> 500 | P14: =IFERROR(IF(Invoer_Ontwerp[[#This Row],[Oppervlakte '[m2']]]*Invoer_Ontwerp[[#This Row],[Dikte '[m']]]=0,Invoer_Ontwerp[[#This Row],[Gewicht '[ton']]]/Invoer_Ontwerp[[#This Row],[Soortelijk gewicht '[ton / m3']]],Invoer_Ontwerp[[#This Row],[Oppervlakte '[m2']]]*Invoer_Ontwerp[[#This Row],[Dikte '[m']]]),0) -> 25 | Q14: =_xlfn.IFNA(VLOOKUP(Invoer_Ontwerp[[#This Row],[Product]],Database_Productkaarten[[Product]:[Soortelijk Gewicht '[ton / m3']]],11,FALSE),0) -> 1.5 | R14: =_xlfn.IFNA(VLOOKUP(Invoer_Ontwerp[[#This Row],[Product]],Database_Productkaarten[[Product]:[Gewicht '[ton'] / Eenheid]],12,FALSE)*Invoer_Ontwerp[[#This Row],[Aantal Eenheden]],0) -> 37.5 | S14: =_xlfn.IFNA(VLOOKUP(Invoer_Ontwerp[[#This Row],[Product]],Database_Productkaarten[[Product]:[Levensduur]],14,FALSE),0) -> 100 | T14: =MAX(IFERROR($A$2/Invoer_Ontwerp[[#This Row],[Product levensduur '[jaar']]]-1,0),0) -> 0
B15: Open Menggranulaat | C15: Toplaag | E15: Bestaande situatie | F15: Elementenverhardingen | G15: Betonstraatsteen 210x105x80 | H15: =_xlfn.IFNA(VLOOKUP(Invoer_Ontwerp[[#This Row],[Product]],Database_Productkaarten[[Product]:[Comment]],64,FALSE),0) -> 3 | I15: =_xlfn.IFNA(VLOOKUP(Invoer_Ontwerp[[#This Row],[Product]],Database_Productkaarten[[Product]:[Producttype]],3,FALSE),0) -> Betonstraatsteen | J15: 500 | K15: =_xlfn.IFNA(VLOOKUP(Invoer_Ontwerp[[#This Row],[Product]],Database_Productkaarten[[#All],[Product]:[Eenheid]],4,FALSE),0) -> m2 | L15: 100 | M15: 5 | N15: 0.08 | O15: =Invoer_Ontwerp[[#This Row],[Lengte'[m']]]*Invoer_Ontwerp[[#This Row],[Breedte '[m']]] -> 500 | P15: =IFERROR(IF(Invoer_Ontwerp[[#This Row],[Oppervlakte '[m2']]]*Invoer_Ontwerp[[#This Row],[Dikte '[m']]]=0,Invoer_Ontwerp[[#This Row],[Gewicht '[ton']]]/Invoer_Ontwerp[[#This Row],[Soortelijk gewicht '[ton / m3']]],Invoer_Ontwerp[[#This Row],[Oppervlakte '[m2']]]*Invoer_Ontwerp[[#This Row],[Dikte '[m']]]),0) -> 40 | Q15: =_xlfn.IFNA(VLOOKUP(Invoer_Ontwerp[[#This Row],[Product]],Database_Productkaarten[[Product]:[Soortelijk Gewicht '[ton / m3']]],11,FALSE),0) -> 2.4 | R15: =_xlfn.IFNA(VLOOKUP(Invoer_Ontwerp[[#This Row],[Product]],Database_Productkaarten[[Product]:[Gewicht '[ton'] / Eenheid]],12,FALSE)*Invoer_Ontwerp[[#This Row],[Aantal Eenheden]],0) -> 89.8 | S15: =_xlfn.IFNA(VLOOKUP(Invoer_Ontwerp[[#This Row],[Product]],Database_Productkaarten[[Product]:[Levensduur]],14,FALSE),0) -> 25 | T15: =MAX(IFERROR($A$2/Invoer_Ontwerp[[#This Row],[Product levensduur '[jaar']]]-1,0),0) -> 0
B16: Plastic kratten | C16: Grondontgraving | E16: Bestaande situatie | F16: Ophoogmateriaal | G16: Ophoogmateriaal (Grond) | H16: =_xlfn.IFNA(VLOOKUP(Invoer_Ontwerp[[#This Row],[Product]],Database_Productkaarten[[Product]:[Comment]],64,FALSE),0) -> 3 | I16: =_xlfn.IFNA(VLOOKUP(Invoer_Ontwerp[[#This Row],[Product]],Database_Productkaarten[[Product]:[Producttype]],3,FALSE),0) -> Grond | J16: 490 | K16: =_xlfn.IFNA(VLOOKUP(Invoer_Ontwerp[[#This Row],[Product]],Database_Productkaarten[[#All],[Product]:[Eenheid]],4,FALSE),0) -> m3 | L16: 100 | M16: 5 | N16: 0.98 | O16: =Invoer_Ontwerp[[#This Row],[Lengte'[m']]]*Invoer_Ontwerp[[#This Row],[Breedte '[m']]] -> 500 | P16: =IFERROR(IF(Invoer_Ontwerp[[#This Row],[Oppervlakte '[m2']]]*Invoer_Ontwerp[[#This Row],[Dikte '[m']]]=0,Invoer_Ontwerp[[#This Row],[Gewicht '[ton']]]/Invoer_Ontwerp[[#This Row],[Soortelijk gewicht '[ton / m3']]],Invoer_Ontwerp[[#This Row],[Oppervlakte '[m2']]]*Invoer_Ontwerp[[#This Row],[Dikte '[m']]]),0) -> 490 | Q16: =_xlfn.IFNA(VLOOKUP(Invoer_Ontwerp[[#This Row],[Product]],Database_Productkaarten[[Product]:[Soortelijk Gewicht '[ton / m3']]],11,FALSE),0) -> 1.625 | R16: =_xlfn.IFNA(VLOOKUP(Invoer_Ontwerp[[#This Row],[Product]],Database_Productkaarten[[Product]:[Gewicht '[ton'] / Eenheid]],12,FALSE)*Invoer_Ontwerp[[#This Row],[Aantal Eenheden]],0) -> 796.25 | S16: =_xlfn.IFNA(VLOOKUP(Invoer_Ontwerp[[#This Row],[Product]],Database_Productkaarten[[Product]:[Levensduur]],14,FALSE),0) -> 100 | T16: =MAX(IFERROR($A$2/Invoer_Ontwerp[[#This Row],[Product levensduur '[jaar']]]-1,0),0) -> 0
B17: Plastic kratten | C17: Grondverbetering | E17: Nieuwe situatie | F17: Ophoogmateriaal | G17: Ophoogmateriaal (Zand) | H17: =_xlfn.IFNA(VLOOKUP(Invoer_Ontwerp[[#This Row],[Product]],Database_Productkaarten[[Product]:[Comment]],64,FALSE),0) -> 3 | I17: =_xlfn.IFNA(VLOOKUP(Invoer_Ontwerp[[#This Row],[Product]],Database_Productkaarten[[Product]:[Producttype]],3,FALSE),0) -> Zand | J17: 25 | K17: =_xlfn.IFNA(VLOOKUP(Invoer_Ontwerp[[#This Row],[Product]],Database_Productkaarten[[#All],[Product]:[Eenheid]],4,FALSE),0) -> m3 | L17: 100 | M17: 5 | N17: 0.05 | O17: =Invoer_Ontwerp[[#This Row],[Lengte'[m']]]*Invoer_Ontwerp[[#This Row],[Breedte '[m']]] -> 500 | P17: =IFERROR(IF(Invoer_Ontwerp[[#This Row],[Oppervlakte '[m2']]]*Invoer_Ontwerp[[#This Row],[Dikte '[m']]]=0,Invoer_Ontwerp[[#This Row],[Gewicht '[ton']]]/Invoer_Ontwerp[[#This Row],[Soortelijk gewicht '[ton / m3']]],Invoer_Ontwerp[[#This Row],[Oppervlakte '[m2']]]*Invoer_Ontwerp[[#This Row],[Dikte '[m']]]),0) -> 25 | Q17: =_xlfn.IFNA(VLOOKUP(Invoer_Ontwerp[[#This Row],[Product]],Database_Productkaarten[[Product]:[Soortelijk Gewicht '[ton / m3']]],11,FALSE),0) -> 1.5 | R17: =_xlfn.IFNA(VLOOKUP(Invoer_Ontwerp[[#This Row],[Product]],Database_Productkaarten[[Product]:[Gewicht '[ton'] / Eenheid]],12,FALSE)*Invoer_Ontwerp[[#This Row],[Aantal Eenheden]],0) -> 37.5 | S17: =_xlfn.IFNA(VLOOKUP(Invoer_Ontwerp[[#This Row],[Product]],Database_Productkaarten[[Product]:[Levensduur]],14,FALSE),0) -> 100 | T17: =MAX(IFERROR($A$2/Invoer_Ontwerp[[#This Row],[Product levensduur '[jaar']]]-1,0),0) -> 0
B18: Plastic kratten | C18: Waterbergendelaag | E18: Nieuwe situatie | F18: Funderingslagen | G18: Kunststof Inflitratiekrat | H18: =_xlfn.IFNA(VLOOKUP(Invoer_Ontwerp[[#This Row],[Product]],Database_Productkaarten[[Product]:[Comment]],64,FALSE),0) -> 3 | I18: =_xlfn.IFNA(VLOOKUP(Invoer_Ontwerp[[#This Row],[Product]],Database_Productkaarten[[Product]:[Producttype]],3,FALSE),0) -> Waterbergende laag | J18: 500 | K18: =_xlfn.IFNA(VLOOKUP(Invoer_Ontwerp[[#This Row],[Product]],Database_Productkaarten[[#All],[Product]:[Eenheid]],4,FALSE),0) -> m2 | L18: 100 | M18: 5 | N18: 0.5 | O18: =Invoer_Ontwerp[[#This Row],[Lengte'[m']]]*Invoer_Ontwerp[[#This Row],[Breedte '[m']]] -> 500 | P18: =IFERROR(IF(Invoer_Ontwerp[[#This Row],[Oppervlakte '[m2']]]*Invoer_Ontwerp[[#This Row],[Dikte '[m']]]=0,Invoer_Ontwerp[[#This Row],[Gewicht '[ton']]]/Invoer_Ontwerp[[#This Row],[Soortelijk gewicht '[ton / m3']]],Invoer_Ontwerp[[#This Row],[Oppervlakte '[m2']]]*Invoer_Ontwerp[[#This Row],[Dikte '[m']]]),0) -> 250 | Q18: =_xlfn.IFNA(VLOOKUP(Invoer_Ontwerp[[#This Row],[Product]],Database_Productkaarten[[Product]:[Soortelijk Gewicht '[ton / m3']]],11,FALSE),0) -> 0 | R18: =_xlfn.IFNA(VLOOKUP(Invoer_Ontwerp[[#This Row],[Product]],Database_Productkaarten[[Product]:[Gewicht '[ton'] / Eenheid]],12,FALSE)*Invoer_Ontwerp[[#This Row],[Aantal Eenheden]],0) -> 7 | S18: =_xlfn.IFNA(VLOOKUP(Invoer_Ontwerp[[#This Row],[Product]],Database_Productkaarten[[Product]:[Levensduur]],14,FALSE),0) -> 15 | T18: =MAX(IFERROR($A$2/Invoer_Ontwerp[[#This Row],[Product levensduur '[jaar']]]-1,0),0) -> 0
B19: Plastic kratten | C19: Menggranulaat | E19: Nieuwe situatie | F19: Funderingslagen | G19: Menggranulaat 300mm | H19: =_xlfn.IFNA(VLOOKUP(Invoer_Ontwerp[[#This Row],[Product]],Database_Productkaarten[[Product]:[Comment]],64,FALSE),0) -> 3 | I19: =_xlfn.IFNA(VLOOKUP(Invoer_Ontwerp[[#This Row],[Product]],Database_Productkaarten[[Product]:[Producttype]],3,FALSE),0) -> Menggranulaat | J19: 500 | K19: =_xlfn.IFNA(VLOOKUP(Invoer_Ontwerp[[#This Row],[Product]],Database_Productkaarten[[#All],[Product]:[Eenheid]],4,FALSE),0) -> m2 | L19: 100 | M19: 5 | N19: 0.3 | O19: =Invoer_Ontwerp[[#This Row],[Lengte'[m']]]*Invoer_Ontwerp[[#This Row],[Breedte '[m']]] -> 500 | P19: =IFERROR(IF(Invoer_Ontwerp[[#This Row],[Oppervlakte '[m2']]]*Invoer_Ontwerp[[#This Row],[Dikte '[m']]]=0,Invoer_Ontwerp[[#This Row],[Gewicht '[ton']]]/Invoer_Ontwerp[[#This Row],[Soortelijk gewicht '[ton / m3']]],Invoer_Ontwerp[[#This Row],[Oppervlakte '[m2']]]*Invoer_Ontwerp[[#This Row],[Dikte '[m']]]),0) -> 150 | Q19: =_xlfn.IFNA(VLOOKUP(Invoer_Ontwerp[[#This Row],[Product]],Database_Productkaarten[[Product]:[Soortelijk Gewicht '[ton / m3']]],11,FALSE),0) -> 1.95 | R19: =_xlfn.IFNA(VLOOKUP(Invoer_Ontwerp[[#This Row],[Product]],Database_Productkaarten[[Product]:[Gewicht '[ton'] / Eenheid]],12,FALSE)*Invoer_Ontwerp[[#This Row],[Aantal Eenheden]],0) -> 292.5 | S19: =_xlfn.IFNA(VLOOKUP(Invoer_Ontwerp[[#This Row],[Product]],Database_Productkaarten[[Product]:[Levensduur]],14,FALSE),0) -> 100 | T19: =MAX(IFERROR($A$2/Invoer_Ontwerp[[#This Row],[Product levensduur '[jaar']]]-1,0),0) -> 0
B20: Plastic kratten | C20: Straatlaag | E20: Nieuwe situatie | F20: Ophoogmateriaal | G20: Ophoogmateriaal (Zand) | H20: =_xlfn.IFNA(VLOOKUP(Invoer_Ontwerp[[#This Row],[Product]],Database_Productkaarten[[Product]:[Comment]],64,FALSE),0) -> 3 | I20: =_xlfn.IFNA(VLOOKUP(Invoer_Ontwerp[[#This Row],[Product]],Database_Productkaarten[[Product]:[Producttype]],3,FALSE),0) -> Zand | J20: 25 | K20: =_xlfn.IFNA(VLOOKUP(Invoer_Ontwerp[[#This Row],[Product]],Database_Productkaarten[[#All],[Product]:[Eenheid]],4,FALSE),0) -> m3 | L20: 100 | M20: 5 | N20: 0.05 | O20: =Invoer_Ontwerp[[#This Row],[Lengte'[m']]]*Invoer_Ontwerp[[#This Row],[Breedte '[m']]] -> 500 | P20: =IFERROR(IF(Invoer_Ontwerp[[#This Row],[Oppervlakte '[m2']]]*Invoer_Ontwerp[[#This Row],[Dikte '[m']]]=0,Invoer_Ontwerp[[#This Row],[Gewicht '[ton']]]/Invoer_Ontwerp[[#This Row],[Soortelijk gewicht '[ton / m3']]],Invoer_Ontwerp[[#This Row],[Oppervlakte '[m2']]]*Invoer_Ontwerp[[#This Row],[Dikte '[m']]]),0) -> 25 | Q20: =_xlfn.IFNA(VLOOKUP(Invoer_Ontwerp[[#This Row],[Product]],Database_Productkaarten[[Product]:[Soortelijk Gewicht '[ton / m3']]],11,FALSE),0) -> 1.5 | R20: =_xlfn.IFNA(VLOOKUP(Invoer_Ontwerp[[#This Row],[Product]],Database_Productkaarten[[Product]:[Gewicht '[ton'] / Eenheid]],12,FALSE)*Invoer_Ontwerp[[#This Row],[Aantal Eenheden]],0) -> 37.5 | S20: =_xlfn.IFNA(VLOOKUP(Invoer_Ontwerp[[#This Row],[Product]],Database_Productkaarten[[Product]:[Levensduur]],14,FALSE),0) -> 100 | T20: =MAX(IFERROR($A$2/Invoer_Ontwerp[[#This Row],[Product levensduur '[jaar']]]-1,0),0) -> 0
B21: Plastic kratten | C21: Toplaag | E21: Nieuwe situatie | F21: Elementenverhardingen | G21: Betonstraatsteen 210x105x80 | H21: =_xlfn.IFNA(VLOOKUP(Invoer_Ontwerp[[#This Row],[Product]],Database_Productkaarten[[Product]:[Comment]],64,FALSE),0) -> 3 | I21: =_xlfn.IFNA(VLOOKUP(Invoer_Ontwerp[[#This Row],[Product]],Database_Productkaarten[[Product]:[Producttype]],3,FALSE),0) -> Betonstraatsteen | J21: 500 | K21: =_xlfn.IFNA(VLOOKUP(Invoer_Ontwerp[[#This Row],[Product]],Database_Productkaarten[[#All],[Product]:[Eenheid]],4,FALSE),0) -> m2 | L21: 100 | M21: 5 | N21: 0.08 | O21: =Invoer_Ontwerp[[#This Row],[Lengte'[m']]]*Invoer_Ontwerp[[#This Row],[Breedte '[m']]] -> 500 | P21: =IFERROR(IF(Invoer_Ontwerp[[#This Row],[Oppervlakte '[m2']]]*Invoer_Ontwerp[[#This Row],[Dikte '[m']]]=0,Invoer_Ontwerp[[#This Row],[Gewicht '[ton']]]/Invoer_Ontwerp[[#This Row],[Soortelijk gewicht '[ton / m3']]],Invoer_Ontwerp[[#This Row],[Oppervlakte '[m2']]]*Invoer_Ontwerp[[#This Row],[Dikte '[m']]]),0) -> 40 | Q21: =_xlfn.IFNA(VLOOKUP(Invoer_Ontwerp[[#This Row],[Product]],Database_Productkaarten[[Product]:[Soortelijk Gewicht '[ton / m3']]],11,FALSE),0) -> 2.4 | R21: =_xlfn.IFNA(VLOOKUP(Invoer_Ontwerp[[#This Row],[Product]],Database_Productkaarten[[Product]:[Gewicht '[ton'] / Eenheid]],12,FALSE)*Invoer_Ontwerp[[#This Row],[Aantal Eenheden]],0) -> 89.8 | S21: =_xlfn.IFNA(VLOOKUP(Invoer_Ontwerp[[#This Row],[Product]],Database_Productkaarten[[Product]:[Levensduur]],14,FALSE),0) -> 25 | T21: =MAX(IFERROR($A$2/Invoer_Ontwerp[[#This Row],[Product levensduur '[jaar']]]-1,0),0) -> 0
B22: Plastic kratten | C22: Grondverbetering | E22: Bestaande situatie | F22: Ophoogmateriaal | G22: Ophoogmateriaal (Zand) | H22: =_xlfn.IFNA(VLOOKUP(Invoer_Ontwerp[[#This Row],[Product]],Database_Productkaarten[[Product]:[Comment]],64,FALSE),0) -> 3 | I22: =_xlfn.IFNA(VLOOKUP(Invoer_Ontwerp[[#This Row],[Product]],Database_Productkaarten[[Product]:[Producttype]],3,FALSE),0) -> Zand | J22: 25 | K22: =_xlfn.IFNA(VLOOKUP(Invoer_Ontwerp[[#This Row],[Product]],Database_Productkaarten[[#All],[Product]:[Eenheid]],4,FALSE),0) -> m3 | L22: 100 | M22: 5 | N22: 0.05 | O22: =Invoer_Ontwerp[[#This Row],[Lengte'[m']]]*Invoer_Ontwerp[[#This Row],[Breedte '[m']]] -> 500 | P22: =IFERROR(IF(Invoer_Ontwerp[[#This Row],[Oppervlakte '[m2']]]*Invoer_Ontwerp[[#This Row],[Dikte '[m']]]=0,Invoer_Ontwerp[[#This Row],[Gewicht '[ton']]]/Invoer_Ontwerp[[#This Row],[Soortelijk gewicht '[ton / m3']]],Invoer_Ontwerp[[#This Row],[Oppervlakte '[m2']]]*Invoer_Ontwerp[[#This Row],[Dikte '[m']]]),0) -> 25 | Q22: =_xlfn.IFNA(VLOOKUP(Invoer_Ontwerp[[#This Row],[Product]],Database_Productkaarten[[Product]:[Soortelijk Gewicht '[ton / m3']]],11,FALSE),0) -> 1.5 | R22: =_xlfn.IFNA(VLOOKUP(Invoer_Ontwerp[[#This Row],[Product]],Database_Productkaarten[[Product]:[Gewicht '[ton'] / Eenheid]],12,FALSE)*Invoer_Ontwerp[[#This Row],[Aantal Eenheden]],0) -> 37.5 | S22: =_xlfn.IFNA(VLOOKUP(Invoer_Ontwerp[[#This Row],[Product]],Database_Productkaarten[[Product]:[Levensduur]],14,FALSE),0) -> 100 | T22: =MAX(IFERROR($A$2/Invoer_Ontwerp[[#This Row],[Product levensduur '[jaar']]]-1,0),0) -> 0
B23: Plastic kratten | C23: Waterbergendelaag | E23: Bestaande situatie | F23: Funderingslagen | G23: Kunststof Inflitratiekrat | H23: =_xlfn.IFNA(VLOOKUP(Invoer_Ontwerp[[#This Row],[Product]],Database_Productkaarten[[Product]:[Comment]],64,FALSE),0) -> 3 | I23: =_xlfn.IFNA(VLOOKUP(Invoer_Ontwerp[[#This Row],[Product]],Database_Productkaarten[[Product]:[Producttype]],3,FALSE),0) -> Waterbergende laag | J23: 500 | K23: =_xlfn.IFNA(VLOOKUP(Invoer_Ontwerp[[#This Row],[Product]],Database_Productkaarten[[#All],[Product]:[Eenheid]],4,FALSE),0) -> m2 | L23: 100 | M23: 5 | N23: 0.5 | O23: =Invoer_Ontwerp[[#This Row],[Lengte'[m']]]*Invoer_Ontwerp[[#This Row],[Breedte '[m']]] -> 500 | P23: =IFERROR(IF(Invoer_Ontwerp[[#This Row],[Oppervlakte '[m2']]]*Invoer_Ontwerp[[#This Row],[Dikte '[m']]]=0,Invoer_Ontwerp[[#This Row],[Gewicht '[ton']]]/Invoer_Ontwerp[[#This Row],[Soortelijk gewicht '[ton / m3']]],Invoer_Ontwerp[[#This Row],[Oppervlakte '[m2']]]*Invoer_Ontwerp[[#This Row],[Dikte '[m']]]),0) -> 250 | Q23: =_xlfn.IFNA(VLOOKUP(Invoer_Ontwerp[[#This Row],[Product]],Database_Productkaarten[[Product]:[Soortelijk Gewicht '[ton / m3']]],11,FALSE),0) -> 0 | R23: =_xlfn.IFNA(VLOOKUP(Invoer_Ontwerp[[#This Row],[Product]],Database_Productkaarten[[Product]:[Gewicht '[ton'] / Eenheid]],12,FALSE)*Invoer_Ontwerp[[#This Row],[Aantal Eenheden]],0) -> 7 | S23: =_xlfn.IFNA(VLOOKUP(Invoer_Ontwerp[[#This Row],[Product]],Database_Productkaarten[[Product]:[Levensduur]],14,FALSE),0) -> 15 | T23: =MAX(IFERROR($A$2/Invoer_Ontwerp[[#This Row],[Product levensduur '[jaar']]]-1,0),0) -> 0
B24: Plastic kratten | C24: Menggranulaat | E24: Bestaande situatie | F24: Funderingslagen | G24: Menggranulaat 300mm | H24: =_xlfn.IFNA(VLOOKUP(Invoer_Ontwerp[[#This Row],[Product]],Database_Productkaarten[[Product]:[Comment]],64,FALSE),0) -> 3 | I24: =_xlfn.IFNA(VLOOKUP(Invoer_Ontwerp[[#This Row],[Product]],Database_Productkaarten[[Product]:[Producttype]],3,FALSE),0) -> Menggranulaat | J24: 500 | K24: =_xlfn.IFNA(VLOOKUP(Invoer_Ontwerp[[#This Row],[Product]],Database_Productkaarten[[#All],[Product]:[Eenheid]],4,FALSE),0) -> m2 | L24: 100 | M24: 5 | N24: 0.3 | O24: =Invoer_Ontwerp[[#This Row],[Lengte'[m']]]*Invoer_Ontwerp[[#This Row],[Breedte '[m']]] -> 500 | P24: =IFERROR(IF(Invoer_Ontwerp[[#This Row],[Oppervlakte '[m2']]]*Invoer_Ontwerp[[#This Row],[Dikte '[m']]]=0,Invoer_Ontwerp[[#This Row],[Gewicht '[ton']]]/Invoer_Ontwerp[[#This Row],[Soortelijk gewicht '[ton / m3']]],Invoer_Ontwerp[[#This Row],[Oppervlakte '[m2']]]*Invoer_Ontwerp[[#This Row],[Dikte '[m']]]),0) -> 150 | Q24: =_xlfn.IFNA(VLOOKUP(Invoer_Ontwerp[[#This Row],[Product]],Database_Productkaarten[[Product]:[Soortelijk Gewicht '[ton / m3']]],11,FALSE),0) -> 1.95 | R24: =_xlfn.IFNA(VLOOKUP(Invoer_Ontwerp[[#This Row],[Product]],Database_Productkaarten[[Product]:[Gewicht '[ton'] / Eenheid]],12,FALSE)*Invoer_Ontwerp[[#This Row],[Aantal Eenheden]],0) -> 292.5 | S24: =_xlfn.IFNA(VLOOKUP(Invoer_Ontwerp[[#This Row],[Product]],Database_Productkaarten[[Product]:[Levensduur]],14,FALSE),0) -> 100 | T24: =MAX(IFERROR($A$2/Invoer_Ontwerp[[#This Row],[Product levensduur '[jaar']]]-1,0),0) -> 0
... B37: Rockwool | C37: Toplaag | E37: Bestaande situatie | F37: Elementenverhardingen | G37: Betonstraatsteen 210x105x80 | H37: =_xlfn.IFNA(VLOOKUP(Invoer_Ontwerp[[#This Row],[Product]],Database_Productkaarten[[Product]:[Comment]],64,FALSE),0) -> 3 | I37: =_xlfn.IFNA(VLOOKUP(Invoer_Ontwerp[[#This Row],[Product]],Database_Productkaarten[[Product]:[Producttype]],3,FALSE),0) -> Betonstraatsteen | J37: 500 | K37: =_xlfn.IFNA(VLOOKUP(Invoer_Ontwerp[[#This Row],[Product]],Database_Productkaarten[[#All],[Product]:[Eenheid]],4,FALSE),0) -> m2 | L37: 100 | M37: 5 | N37: 0.08 | O37: =Invoer_Ontwerp[[#This Row],[Lengte'[m']]]*Invoer_Ontwerp[[#This Row],[Breedte '[m']]] -> 500 | P37: =IFERROR(IF(Invoer_Ontwerp[[#This Row],[Oppervlakte '[m2']]]*Invoer_Ontwerp[[#This Row],[Dikte '[m']]]=0,Invoer_Ontwerp[[#This Row],[Gewicht '[ton']]]/Invoer_Ontwerp[[#This Row],[Soortelijk gewicht '[ton / m3']]],Invoer_Ontwerp[[#This Row],[Oppervlakte '[m2']]]*Invoer_Ontwerp[[#This Row],[Dikte '[m']]]),0) -> 40 | Q37: =_xlfn.IFNA(VLOOKUP(Invoer_Ontwerp[[#This Row],[Product]],Database_Productkaarten[[Product]:[Soortelijk Gewicht '[ton / m3']]],11,FALSE),0) -> 2.4 | R37: =_xlfn.IFNA(VLOOKUP(Invoer_Ontwerp[[#This Row],[Product]],Database_Productkaarten[[Product]:[Gewicht '[ton'] / Eenheid]],12,FALSE)*Invoer_Ontwerp[[#This Row],[Aantal Eenheden]],0) -> 89.8 | S37: =_xlfn.IFNA(VLOOKUP(Invoer_Ontwerp[[#This Row],[Product]],Database_Productkaarten[[Product]:[Levensduur]],14,FALSE),0) -> 25 | T37: =MAX(IFERROR($A$2/Invoer_Ontwerp[[#This Row],[Product levensduur '[jaar']]]-1,0),0) -> 0
H38: =_xlfn.IFNA(VLOOKUP(Invoer_Ontwerp[[#This Row],[Product]],Database_Productkaarten[[Product]:[Comment]],64,FALSE),0) -> 0 | I38: =_xlfn.IFNA(VLOOKUP(Invoer_Ontwerp[[#This Row],[Product]],Database_Productkaarten[[Product]:[Producttype]],3,FALSE),0) -> 0 | J38: 1 | K38: =_xlfn.IFNA(VLOOKUP(Invoer_Ontwerp[[#This Row],[Product]],Database_Productkaarten[[#All],[Product]:[Eenheid]],4,FALSE),0) -> 0 | O38: =Invoer_Ontwerp[[#This Row],[Lengte'[m']]]*Invoer_Ontwerp[[#This Row],[Breedte '[m']]] -> 0 | P38: =IFERROR(IF(Invoer_Ontwerp[[#This Row],[Oppervlakte '[m2']]]*Invoer_Ontwerp[[#This Row],[Dikte '[m']]]=0,Invoer_Ontwerp[[#This Row],[Gewicht '[ton']]]/Invoer_Ontwerp[[#This Row],[Soortelijk gewicht '[ton / m3']]],Invoer_Ontwerp[[#This Row],[Oppervlakte '[m2']]]*Invoer_Ontwerp[[#This Row],[Dikte '[m']]]),0) -> 0 | Q38: =_xlfn.IFNA(VLOOKUP(Invoer_Ontwerp[[#This Row],[Product]],Database_Productkaarten[[Product]:[Soortelijk Gewicht '[ton / m3']]],11,FALSE),0) -> 0 | R38: =_xlfn.IFNA(VLOOKUP(Invoer_Ontwerp[[#This Row],[Product]],Database_Productkaarten[[Product]:[Gewicht '[ton'] / Eenheid]],12,FALSE)*Invoer_Ontwerp[[#This Row],[Aantal Eenheden]],0) -> 0 | S38: =_xlfn.IFNA(VLOOKUP(Invoer_Ontwerp[[#This Row],[Product]],Database_Productkaarten[[Product]:[Levensduur]],14,FALSE),0) -> 0 | T38: =MAX(IFERROR($A$2/Invoer_Ontwerp[[#This Row],[Product levensduur '[jaar']]]-1,0),0) -> 0
H39: =_xlfn.IFNA(VLOOKUP(Invoer_Ontwerp[[#This Row],[Product]],Database_Productkaarten[[Product]:[Comment]],64,FALSE),0) -> 0 | I39: =_xlfn.IFNA(VLOOKUP(Invoer_Ontwerp[[#This Row],[Product]],Database_Productkaarten[[Product]:[Producttype]],3,FALSE),0) -> 0 | J39: 1 | K39: =_xlfn.IFNA(VLOOKUP(Invoer_Ontwerp[[#This Row],[Product]],Database_Productkaarten[[#All],[Product]:[Eenheid]],4,FALSE),0) -> 0 | O39: =Invoer_Ontwerp[[#This Row],[Lengte'[m']]]*Invoer_Ontwerp[[#This Row],[Breedte '[m']]] -> 0 | P39: =IFERROR(IF(Invoer_Ontwerp[[#This Row],[Oppervlakte '[m2']]]*Invoer_Ontwerp[[#This Row],[Dikte '[m']]]=0,Invoer_Ontwerp[[#This Row],[Gewicht '[ton']]]/Invoer_Ontwerp[[#This Row],[Soortelijk gewicht '[ton / m3']]],Invoer_Ontwerp[[#This Row],[Oppervlakte '[m2']]]*Invoer_Ontwerp[[#This Row],[Dikte '[m']]]),0) -> 0 | Q39: =_xlfn.IFNA(VLOOKUP(Invoer_Ontwerp[[#This Row],[Product]],Database_Productkaarten[[Product]:[Soortelijk Gewicht '[ton / m3']]],11,FALSE),0) -> 0 | R39: =_xlfn.IFNA(VLOOKUP(Invoer_Ontwerp[[#This Row],[Product]],Database_Productkaarten[[Product]:[Gewicht '[ton'] / Eenheid]],12,FALSE)*Invoer_Ontwerp[[#This Row],[Aantal Eenheden]],0) -> 0 | S39: =_xlfn.IFNA(VLOOKUP(Invoer_Ontwerp[[#This Row],[Product]],Database_Productkaarten[[Product]:[Levensduur]],14,FALSE),0) -> 0 | T39: =MAX(IFERROR($A$2/Invoer_Ontwerp[[#This Row],[Product levensduur '[jaar']]]-1,0),0) -> 0
H40: =_xlfn.IFNA(VLOOKUP(Invoer_Ontwerp[[#This Row],[Product]],Database_Productkaarten[[Product]:[Comment]],64,FALSE),0) -> 0 | I40: =_xlfn.IFNA(VLOOKUP(Invoer_Ontwerp[[#This Row],[Product]],Database_Productkaarten[[Product]:[Producttype]],3,FALSE),0) -> 0 | J40: 1 | K40: =_xlfn.IFNA(VLOOKUP(Invoer_Ontwerp[[#This Row],[Product]],Database_Productkaarten[[#All],[Product]:[Eenheid]],4,FALSE),0) -> 0 | O40: =Invoer_Ontwerp[[#This Row],[Lengte'[m']]]*Invoer_Ontwerp[[#This Row],[Breedte '[m']]] -> 0 | P40: =IFERROR(IF(Invoer_Ontwerp[[#This Row],[Oppervlakte '[m2']]]*Invoer_Ontwerp[[#This Row],[Dikte '[m']]]=0,Invoer_Ontwerp[[#This Row],[Gewicht '[ton']]]/Invoer_Ontwerp[[#This Row],[Soortelijk gewicht '[ton / m3']]],Invoer_Ontwerp[[#This Row],[Oppervlakte '[m2']]]*Invoer_Ontwerp[[#This Row],[Dikte '[m']]]),0) -> 0 | Q40: =_xlfn.IFNA(VLOOKUP(Invoer_Ontwerp[[#This Row],[Product]],Database_Productkaarten[[Product]:[Soortelijk Gewicht '[ton / m3']]],11,FALSE),0) -> 0 | R40: =_xlfn.IFNA(VLOOKUP(Invoer_Ontwerp[[#This Row],[Product]],Database_Productkaarten[[Product]:[Gewicht '[ton'] / Eenheid]],12,FALSE)*Invoer_Ontwerp[[#This Row],[Aantal Eenheden]],0) -> 0 | S40: =_xlfn.IFNA(VLOOKUP(Invoer_Ontwerp[[#This Row],[Product]],Database_Productkaarten[[Product]:[Levensduur]],14,FALSE),0) -> 0 | T40: =MAX(IFERROR($A$2/Invoer_Ontwerp[[#This Row],[Product levensduur '[jaar']]]-1,0),0) -> 0
H41: =_xlfn.IFNA(VLOOKUP(Invoer_Ontwerp[[#This Row],[Product]],Database_Productkaarten[[Product]:[Comment]],64,FALSE),0) -> 0 | I41: =_xlfn.IFNA(VLOOKUP(Invoer_Ontwerp[[#This Row],[Product]],Database_Productkaarten[[Product]:[Producttype]],3,FALSE),0) -> 0 | J41: 1 | K41: =_xlfn.IFNA(VLOOKUP(Invoer_Ontwerp[[#This Row],[Product]],Database_Productkaarten[[#All],[Product]:[Eenheid]],4,FALSE),0) -> 0 | O41: =Invoer_Ontwerp[[#This Row],[Lengte'[m']]]*Invoer_Ontwerp[[#This Row],[Breedte '[m']]] -> 0 | P41: =IFERROR(IF(Invoer_Ontwerp[[#This Row],[Oppervlakte '[m2']]]*Invoer_Ontwerp[[#This Row],[Dikte '[m']]]=0,Invoer_Ontwerp[[#This Row],[Gewicht '[ton']]]/Invoer_Ontwerp[[#This Row],[Soortelijk gewicht '[ton / m3']]],Invoer_Ontwerp[[#This Row],[Oppervlakte '[m2']]]*Invoer_Ontwerp[[#This Row],[Dikte '[m']]]),0) -> 0 | Q41: =_xlfn.IFNA(VLOOKUP(Invoer_Ontwerp[[#This Row],[Product]],Database_Productkaarten[[Product]:[Soortelijk Gewicht '[ton / m3']]],11,FALSE),0) -> 0 | R41: =_xlfn.IFNA(VLOOKUP(Invoer_Ontwerp[[#This Row],[Product]],Database_Productkaarten[[Product]:[Gewicht '[ton'] / Eenheid]],12,FALSE)*Invoer_Ontwerp[[#This Row],[Aantal Eenheden]],0) -> 0 | S41: =_xlfn.IFNA(VLOOKUP(Invoer_Ontwerp[[#This Row],[Product]],Database_Productkaarten[[Product]:[Levensduur]],14,FALSE),0) -> 0 | T41: =MAX(IFERROR($A$2/Invoer_Ontwerp[[#This Row],[Product levensduur '[jaar']]]-1,0),0) -> 0
AK50: =Ontwerp_Backlog!AC4 -> Open Menggranulaat | AL50: =SUM(Ontwerp_Backlog!AD4:AQ4) -> 3399.0552
AK51: =Ontwerp_Backlog!AC5 -> Plastic kratten | AL51: =SUM(Ontwerp_Backlog!AD5:AQ5) -> 5675.4435
AK52: =Ontwerp_Backlog!AC6 -> Rockwool | AL52: =SUM(Ontwerp_Backlog!AD6:AQ6) -> 2511.4815
AK53: =Ontwerp_Backlog!AC7 -> Grand Total | AL53: =SUM(Ontwerp_Backlog!AD7:AQ7) -> 11585.98
E67: CO2 project totaal (ton)
E68: =SUM(Referentie_CO2_Totaal[[#Totals],[A1]:[D2]])/1000 -> 884.0972
E70: Grondstoffengebruik (ton)
E77: =Referentie_Materiaal_Totaal[[#Totals],[Primair materiaalverbruik '[ton']]]+Referentie_Materiaal_Totaal[[#Totals],[Primair materiaalverbruik Vervangingen '[ton']]] -> 12406.896
E78: =Referentie_Materiaal_Totaal[[#Totals],[Secundair materiaalverbruik '[ton']]]+Referentie_Materiaal_Totaal[[#Totals],[Secundair materiaalverbruik Vervangingen '[ton']]] -> 94414.092
E79: =E77+E78 -> 106820.99
E85: Energiegebruik (GJ)
E86: =SUM(Referentie_Hernieuwbare_Energie_Totaal[[#Totals],[A1]:[D2]])/1000 -> 411.4248 | H86: Hernieuwbaar
...

Sheet Ontwerp_Backlog
CH1: Variant | CI1: (Multiple Items)
B2: MKI project totaal (€) | BJ2: Product | BK2: (All)
B3: Variant | C3: Onderdeel | D3: Product | E3: A1 | F3: A2 | G3: A3 | H3: A1-A3 | I3: A4 | J3: A5 | K3: B1 | L3: B3 | M3: B4 | N3: C1 | O3: C2 | P3: C3 | Q3: C4 | R3: D1 | S3: D2 | T3: D | U3: Totaal | AC3: Row Labels | AD3: Sum of A1-A3 | AE3: Sum of A4 | AF3: Sum of A5 | AG3: Sum of B1 | AH3: Sum of B3 | AI3: Sum of B4 | AJ3: Sum of C1 | AK3: Sum of C2 | AL3: Sum of C3 | AM3: Sum of C4 | AN3: Sum of D | CH3: Row Labels | CI3: Sum of A1-A3 | CJ3: Sum of A4 | CK3: Sum of A5 | CL3: Sum of B1 | CM3: Sum of B3 | CN3: Sum of B4 | CO3: Sum of C1 | CP3: Sum of C2 | CQ3: Sum of C3 | CR3: Sum of C4 | CS3: Sum of D
B4: =Ontwerpberekening!B5 -> Open Menggranulaat | C4: =Ontwerpberekening!C5 -> Grondontgraving | D4: =Ontwerpberekening!G5 -> Ophoogmateriaal (Grond) | E4: =(IF(Ontwerpberekening!E5="Nieuwe Situatie",(_xlfn.IFNA(VLOOKUP(Ontwerp_MKI_Totaal[[#This Row],[Product]]&", "&Ontwerp_MKI_Totaal[[#Headers],[A1]],Database_Productkaarten[#All],14,FALSE),0)*Ontwerpberekening!J5),0))/Ontwerpberekening!$A$2 -> 0 | F4: =(IF(Ontwerpberekening!E5="Nieuwe Situatie",(_xlfn.IFNA(VLOOKUP(Ontwerp_MKI_Totaal[[#This Row],[Product]]&", "&Ontwerp_MKI_Totaal[[#Headers],[A2]],Database_Productkaarten[#All],14,FALSE),0)*Ontwerpberekening!J5),0))/Ontwerpberekening!$A$2 -> 0 | G4: =(IF(Ontwerpberekening!E5="Nieuwe Situatie",(_xlfn.IFNA(VLOOKUP(Ontwerp_MKI_Totaal[[#This Row],[Product]]&", "&Ontwerp_MKI_Totaal[[#Headers],[A3]],Database_Productkaarten[#All],14,FALSE),0)*Ontwerpberekening!J5),0))/Ontwerpberekening!$A$2 -> 0 | H4: =(IF(Ontwerpberekening!E5="Nieuwe Situatie",(_xlfn.IFNA(VLOOKUP(Ontwerp_MKI_Totaal[[#This Row],[Product]]&", "&Ontwerp_MKI_Totaal[[#Headers],[A1-A3]],Database_Productkaarten[#All],14,FALSE),0)*Ontwerpberekening!J5),0))/Ontwerpberekening!$A$2 -> 0 | I4: =(IF(Ontwerpberekening!E5="Nieuwe Situatie",(_xlfn.IFNA(VLOOKUP(Ontwerp_MKI_Totaal[[#This Row],[Product]]&", "&Ontwerp_MKI_Totaal[[#Headers],[A4]],Database_Productkaarten[#All],14,FALSE),0)*Ontwerpberekening!R5),0))/Ontwerpberekening!$A$2 -> 0 | J4: =(IF(Ontwerpberekening!E5="Nieuwe Situatie",(_xlfn.IFNA(VLOOKUP(Ontwerp_MKI_Totaal[[#This Row],[Product]]&", "&Ontwerp_MKI_Totaal[[#Headers],[A5]],Database_Productkaarten[#All],14,FALSE),0)*Ontwerpberekening!J5),0))/Ontwerpberekening!$A$2 -> 0 | K4: =(IF(Ontwerpberekening!E5="Nieuwe Situatie",(_xlfn.IFNA(VLOOKUP(Ontwerp_MKI_Totaal[[#This Row],[Product]]&", "&Ontwerp_MKI_Totaal[[#Headers],[B1]],Database_Productkaarten[#All],14,FALSE),0)*Ontwerpberekening!J5),0))/Ontwerpberekening!$A$2 -> 0 | L4: =(IF(Ontwerpberekening!E5="Nieuwe Situatie",(_xlfn.IFNA(VLOOKUP(Ontwerp_MKI_Totaal[[#This Row],[Product]]&", "&Ontwerp_MKI_Totaal[[#Headers],[B3]],Database_Productkaarten[#All],14,FALSE),0)*Ontwerpberekening!J5),0))/Ontwerpberekening!$A$2 -> 0 | M4: =(IF(Ontwerpberekening!E5="Nieuwe Situatie",(SUM(Ontwerp_MKI_Totaal[[#This Row],[A1]:[B1]],Ontwerp_MKI_Totaal[[#This Row],[C1]:[D2]])*Ontwerpberekening!T5),0)) -> 0 | N4: =(IF(Ontwerpberekening!E5="Bestaande Situatie",(_xlfn.IFNA(VLOOKUP(Ontwerp_MKI_Totaal[[#This Row],[Product]]&", "&Ontwerp_MKI_Totaal[[#Headers],[C1]],Database_Productkaarten[#All],14,FALSE),0)*Ontwerpberekening!J5),0))/Ontwerpberekening!$A$2 -> 31.6448 | O4: =(IF(Ontwerpberekening!E5="Bestaande Situatie",(_xlfn.IFNA(VLOOKUP(Ontwerp_MKI_Totaal[[#This Row],[Product]]&", "&Ontwerp_MKI_Totaal[[#Headers],[C2]],Database_Productkaarten[#All],14,FALSE),0)*Ontwerpberekening!R5),0))/Ontwerpberekening!$A$2 -> 556.21995 | P4: =(IF(Ontwerpberekening!E5="Bestaande Situatie",(_xlfn.IFNA(VLOOKUP(Ontwerp_MKI_Totaal[[#This Row],[Product]]&", "&Ontwerp_MKI_Totaal[[#Headers],[C3]],Database_Productkaarten[#All],14,FALSE),0)*Ontwerpberekening!J5),0))/Ontwerpberekening!$A$2 -> 0 | Q4: =(IF(Ontwerpberekening!E5="Bestaande Situatie",(_xlfn.IFNA(VLOOKUP(Ontwerp_MKI_Totaal[[#This Row],[Product]]&", "&Ontwerp_MKI_Totaal[[#Headers],[C4]],Database_Productkaarten[#All],14,FALSE),0)*Ontwerpberekening!J5),0))/Ontwerpberekening!$A$2 -> 5.3152 | R4: =(IF(Ontwerpberekening!E5="Bestaande Situatie",(_xlfn.IFNA(VLOOKUP(Ontwerp_MKI_Totaal[[#This Row],[Product]]&", "&Ontwerp_MKI_Totaal[[#Headers],[D1]],Database_Productkaarten[#All],14,FALSE),0)*Ontwerpberekening!J5),0))/Ontwerpberekening!$A$2 -> 0 | S4: =(IF(Ontwerpberekening!E5="Bestaande Situatie",(_xlfn.IFNA(VLOOKUP(Ontwerp_MKI_Totaal[[#This Row],[Product]]&", "&Ontwerp_MKI_Totaal[[#Headers],[D2]],Database_Productkaarten[#All],14,FALSE),0)*Ontwerpberekening!J5),0))/Ontwerpberekening!$A$2 -> 0 | T4: =(IF(Ontwerpberekening!E5="Bestaande Situatie",(_xlfn.IFNA(VLOOKUP(Ontwerp_MKI_Totaal[[#This Row],[Product]]&", "&Ontwerp_MKI_Totaal[[#Headers],[D]],Database_Productkaarten[#All],14,FALSE),0)*Ontwerpberekening!J5),0))/Ontwerpberekening!$A$2 -> 0 | U4: =SUM(Ontwerp_MKI_Totaal[[#This Row],[A1-A3]:[C4]])+Ontwerp_MKI_Totaal[[#This Row],[D]] -> 593.17995 | AC4: Open Menggranulaat | AD4: 1372.0571 | AE4: 323.80387 | AF4: 538.82961 | AG4: 27.49 | AH4: 269.37365 | AI4: 0 | AJ4: 244.8644 | AK4: 785.84752 | AL4: 21.417488 | AM4: 24.013711 | AN4: -208.64211 | BJ4: Sum of Totaal | BK4: Column Labels | CH4: Funderingswapening | CI4: 32.073077 | CJ4: 0.078413553 | CK4: 232.69064 | CL4: 0 | CM4: 0 | CN4: 0 | CO4: 104.18983 | CP4: 0.056196379 | CQ4: 7.0133439 | CR4: 12.911591 | CS4: -7.8846214
B5: =Ontwerpberekening!B6 -> Open Menggranulaat | C5: =Ontwerpberekening!C6 -> Zandbed | D5: =Ontwerpberekening!G6 -> Ophoogmateriaal (Zand) | E5: =(IF(Ontwerpberekening!E6="Nieuwe Situatie",(_xlfn.IFNA(VLOOKUP(Ontwerp_MKI_Totaal[[#This Row],[Product]]&", "&Ontwerp_MKI_Totaal[[#Headers],[A1]],Database_Productkaarten[#All],14,FALSE),0)*Ontwerpberekening!J6),0))/Ontwerpberekening!$A$2 -> 0 | F5: =(IF(Ontwerpberekening!E6="Nieuwe Situatie",(_xlfn.IFNA(VLOOKUP(Ontwerp_MKI_Totaal[[#This Row],[Product]]&", "&Ontwerp_MKI_Totaal[[#Headers],[A2]],Database_Productkaarten[#All],14,FALSE),0)*Ontwerpberekening!J6),0))/Ontwerpberekening!$A$2 -> 0 | G5: =(IF(Ontwerpberekening!E6="Nieuwe Situatie",(_xlfn.IFNA(VLOOKUP(Ontwerp_MKI_Totaal[[#This Row],[Product]]&", "&Ontwerp_MKI_Totaal[[#Headers],[A3]],Database_Productkaarten[#All],14,FALSE),0)*Ontwerpberekening!J6),0))/Ontwerpberekening!$A$2 -> 0 | H5: =(IF(Ontwerpberekening!E6="Nieuwe Situatie",(_xlfn.IFNA(VLOOKUP(Ontwerp_MKI_Totaal[[#This Row],[Product]]&", "&Ontwerp_MKI_Totaal[[#Headers],[A1-A3]],Database_Productkaarten[#All],14,FALSE),0)*Ontwerpberekening!J6),0))/Ontwerpberekening!$A$2 -> 392.4235 | I5: =(IF(Ontwerpberekening!E6="Nieuwe Situatie",(_xlfn.IFNA(VLOOKUP(Ontwerp_MKI_Totaal[[#This Row],[Product]]&", "&Ontwerp_MKI_Totaal[[#Headers],[A4]],Database_Productkaarten[#All],14,FALSE),0)*Ontwerpberekening!R6),0))/Ontwerpberekening!$A$2 -> 186.63225 | J5: =(IF(Ontwerpberekening!E6="Nieuwe Situatie",(_xlfn.IFNA(VLOOKUP(Ontwerp_MKI_Totaal[[#This Row],[Product]]&", "&Ontwerp_MKI_Totaal[[#Headers],[A5]],Database_Productkaarten[#All],14,FALSE),0)*Ontwerpberekening!J6),0))/Ontwerpberekening!$A$2 -> 38.9795 | K5: =(IF(Ontwerpberekening!E6="Nieuwe Situatie",(_xlfn.IFNA(VLOOKUP(Ontwerp_MKI_Totaal[[#This Row],[Product]]&", "&Ontwerp_MKI_Totaal[[#Headers],[B1]],Database_Productkaarten[#All],14,FALSE),0)*Ontwerpberekening!J6),0))/Ontwerpberekening!$A$2 -> 0 | L5: =(IF(Ontwerpberekening!E6="Nieuwe Situatie",(_xlfn.IFNA(VLOOKUP(Ontwerp_MKI_Totaal[[#This Row],[Product]]&", "&Ontwerp_MKI_Totaal[[#Headers],[B3]],Database_Productkaarten[#All],14,FALSE),0)*Ontwerpberekening!J6),0))/Ontwerpberekening!$A$2 -> 0 | M5: =(IF(Ontwerpberekening!E6="Nieuwe Situatie",(SUM(Ontwerp_MKI_Totaal[[#This Row],[A1]:[B1]],Ontwerp_MKI_Totaal[[#This Row],[C1]:[D2]])*Ontwerpberekening!T6),0)) -> 0 | N5: =(IF(Ontwerpberekening!E6="Bestaande Situatie",(_xlfn.IFNA(VLOOKUP(Ontwerp_MKI_Totaal[[#This Row],[Product]]&", "&Ontwerp_MKI_Totaal[[#Headers],[C1]],Database_Productkaarten[#All],14,FALSE),0)*Ontwerpberekening!J6),0))/Ontwerpberekening!$A$2 -> 0 | O5: =(IF(Ontwerpberekening!E6="Bestaande Situatie",(_xlfn.IFNA(VLOOKUP(Ontwerp_MKI_Totaal[[#This Row],[Product]]&", "&Ontwerp_MKI_Totaal[[#Headers],[C2]],Database_Productkaarten[#All],14,FALSE),0)*Ontwerpberekening!R6),0))/Ontwerpberekening!$A$2 -> 0 | P5: =(IF(Ontwerpberekening!E6="Bestaande Situatie",(_xlfn.IFNA(VLOOKUP(Ontwerp_MKI_Totaal[[#This Row],[Product]]&", "&Ontwerp_MKI_Totaal[[#Headers],[C3]],Database_Productkaarten[#All],14,FALSE),0)*Ontwerpberekening!J6),0))/Ontwerpberekening!$A$2 -> 0 | Q5: =(IF(Ontwerpberekening!E6="Bestaande Situatie",(_xlfn.IFNA(VLOOKUP(Ontwerp_MKI_Totaal[[#This Row],[Product]]&", "&Ontwerp_MKI_Totaal[[#Headers],[C4]],Database_Productkaarten[#All],14,FALSE),0)*Ontwerpberekening!J6),0))/Ontwerpberekening!$A$2 -> 0 | R5: =(IF(Ontwerpberekening!E6="Bestaande Situatie",(_xlfn.IFNA(VLOOKUP(Ontwerp_MKI_Totaal[[#This Row],[Product]]&", "&Ontwerp_MKI_Totaal[[#Headers],[D1]],Database_Productkaarten[#All],14,FALSE),0)*Ontwerpberekening!J6),0))/Ontwerpberekening!$A$2 -> 0 | S5: =(IF(Ontwerpberekening!E6="Bestaande Situatie",(_xlfn.IFNA(VLOOKUP(Ontwerp_MKI_Totaal[[#This Row],[Product]]&", "&Ontwerp_MKI_Totaal[[#Headers],[D2]],Database_Productkaarten[#All],14,FALSE),0)*Ontwerpberekening!J6),0))/Ontwerpberekening!$A$2 -> 0 | T5: =(IF(Ontwerpberekening!E6="Bestaande Situatie",(_xlfn.IFNA(VLOOKUP(Ontwerp_MKI_Totaal[[#This Row],[Product]]&", "&Ontwerp_MKI_Totaal[[#Headers],[D]],Database_Productkaarten[#All],14,FALSE),0)*Ontwerpberekening!J6),0))/Ontwerpberekening!$A$2 -> 0 | U5: =SUM(Ontwerp_MKI_Totaal[[#This Row],[A1-A3]:[C4]])+Ontwerp_MKI_Totaal[[#This Row],[D]] -> 618.03525 | AC5: Plastic kratten | AD5: 3360.121 | AE5: 173.09263 | AF5: 510.71297 | AG5: 20.62 | AH5: 269.37365 | AI5: 0 | AJ5: 223.56757 | AK5: 768.88596 | AL5: 1012.9441 | AM5: 15.80862 | AN5: -679.68299 | BJ5: Row Labels | BK5: Funderingswapening | BL5: Grondverbetering | BM5: Menggranulaat | BN5: Straatlaag | BO5: Toplaag | BP5: Waterbergendelaag | BQ5: Zandbed | BR5: Grondontgraving | BS5: Grand Total | CH5: Grondverbetering | CI5: 112.121 | CJ5: 53.3235 | CK5: 11.137 | CL5: 0 | CM5: 0 | CN5: 0 | CO5: 1.876 | CP5: 53.85675 | CQ5: 0 | CR5: 0.5575 | CS5: -39.8465
B6: =Ontwerpberekening!B7 -> Open Menggranulaat | C6: =Ontwerpberekening!C7 -> Funderingswapening | D6: =Ontwerpberekening!G7 -> Geogrid | E6: =(IF(Ontwerpberekening!E7="Nieuwe Situatie",(_xlfn.IFNA(VLOOKUP(Ontwerp_MKI_Totaal[[#This Row],[Product]]&", "&Ontwerp_MKI_Totaal[[#Headers],[A1]],Database_Productkaarten[#All],14,FALSE),0)*Ontwerpberekening!J7),0))/Ontwerpberekening!$A$2 -> 0 | F6: =(IF(Ontwerpberekening!E7="Nieuwe Situatie",(_xlfn.IFNA(VLOOKUP(Ontwerp_MKI_Totaal[[#This Row],[Product]]&", "&Ontwerp_MKI_Totaal[[#Headers],[A2]],Database_Productkaarten[#All],14,FALSE),0)*Ontwerpberekening!J7),0))/Ontwerpberekening!$A$2 -> 0 | G6: =(IF(Ontwerpberekening!E7="Nieuwe Situatie",(_xlfn.IFNA(VLOOKUP(Ontwerp_MKI_Totaal[[#This Row],[Product]]&", "&Ontwerp_MKI_Totaal[[#Headers],[A3]],Database_Productkaarten[#All],14,FALSE),0)*Ontwerpberekening!J7),0))/Ontwerpberekening!$A$2 -> 0 | H6: =(IF(Ontwerpberekening!E7="Nieuwe Situatie",(_xlfn.IFNA(VLOOKUP(Ontwerp_MKI_Totaal[[#This Row],[Product]]&", "&Ontwerp_MKI_Totaal[[#Headers],[A1-A3]],Database_Productkaarten[#All],14,FALSE),0)*Ontwerpberekening!J7),0))/Ontwerpberekening!$A$2 -> 32.073077 | I6: =(IF(Ontwerpberekening!E7="Nieuwe Situatie",(_xlfn.IFNA(VLOOKUP(Ontwerp_MKI_Totaal[[#This Row],[Product]]&", "&Ontwerp_MKI_Totaal[[#Headers],[A4]],Database_Productkaarten[#All],14,FALSE),0)*Ontwerpberekening!R7),0))/Ontwerpberekening!$A$2 -> 0.078413553 | J6: =(IF(Ontwerpberekening!E7="Nieuwe Situatie",(_xlfn.IFNA(VLOOKUP(Ontwerp_MKI_Totaal[[#This Row],[Product]]&", "&Ontwerp_MKI_Totaal[[#Headers],[A5]],Database_Productkaarten[#All],14,FALSE),0)*Ontwerpberekening!J7),0))/Ontwerpberekening!$A$2 -> 232.69064 | K6: =(IF(Ontwerpberekening!E7="Nieuwe Situatie",(_xlfn.IFNA(VLOOKUP(Ontwerp_MKI_Totaal[[#This Row],[Product]]&", "&Ontwerp_MKI_Totaal[[#Headers],[B1]],Database_Productkaarten[#All],14,FALSE),0)*Ontwerpberekening!J7),0))/Ontwerpberekening!$A$2 -> 0 | L6: =(IF(Ontwerpberekening!E7="Nieuwe Situatie",(_xlfn.IFNA(VLOOKUP(Ontwerp_MKI_Totaal[[#This Row],[Product]]&", "&Ontwerp_MKI_Totaal[[#Headers],[B3]],Database_Productkaarten[#All],14,FALSE),0)*Ontwerpberekening!J7),0))/Ontwerpberekening!$A$2 -> 0 | M6: =(IF(Ontwerpberekening!E7="Nieuwe Situatie",(SUM(Ontwerp_MKI_Totaal[[#This Row],[A1]:[B1]],Ontwerp_MKI_Totaal[[#This Row],[C1]:[D2]])*Ontwerpberekening!T7),0)) -> 0 | N6: =(IF(Ontwerpberekening!E7="Bestaande Situatie",(_xlfn.IFNA(VLOOKUP(Ontwerp_MKI_Totaal[[#This Row],[Product]]&", "&Ontwerp_MKI_Totaal[[#Headers],[C1]],Database_Productkaarten[#All],14,FALSE),0)*Ontwerpberekening!J7),0))/Ontwerpberekening!$A$2 -> 0 | O6: =(IF(Ontwerpberekening!E7="Bestaande Situatie",(_xlfn.IFNA(VLOOKUP(Ontwerp_MKI_Totaal[[#This Row],[Product]]&", "&Ontwerp_MKI_Totaal[[#Headers],[C2]],Database_Productkaarten[#All],14,FALSE),0)*Ontwerpberekening!R7),0))/Ontwerpberekening!$A$2 -> 0 | P6: =(IF(Ontwerpberekening!E7="Bestaande Situatie",(_xlfn.IFNA(VLOOKUP(Ontwerp_MKI_Totaal[[#This Row],[Product]]&", "&Ontwerp_MKI_Totaal[[#Headers],[C3]],Database_Productkaarten[#All],14,FALSE),0)*Ontwerpberekening!J7),0))/Ontwerpberekening!$A$2 -> 0 | Q6: =(IF(Ontwerpberekening!E7="Bestaande Situatie",(_xlfn.IFNA(VLOOKUP(Ontwerp_MKI_Totaal[[#This Row],[Product]]&", "&Ontwerp_MKI_Totaal[[#Headers],[C4]],Database_Productkaarten[#All],14,FALSE),0)*Ontwerpberekening!J7),0))/Ontwerpberekening!$A$2 -> 0 | R6: =(IF(Ontwerpberekening!E7="Bestaande Situatie",(_xlfn.IFNA(VLOOKUP(Ontwerp_MKI_Totaal[[#This Row],[Product]]&", "&Ontwerp_MKI_Totaal[[#Headers],[D1]],Database_Productkaarten[#All],14,FALSE),0)*Ontwerpberekening!J7),0))/Ontwerpberekening!$A$2 -> 0 | S6: =(IF(Ontwerpberekening!E7="Bestaande Situatie",(_xlfn.IFNA(VLOOKUP(Ontwerp_MKI_Totaal[[#This Row],[Product]]&", "&Ontwerp_MKI_Totaal[[#Headers],[D2]],Database_Productkaarten[#All],14,FALSE),0)*Ontwerpberekening!J7),0))/Ontwerpberekening!$A$2 -> 0 | T6: =(IF(Ontwerpberekening!E7="Bestaande Situatie",(_xlfn.IFNA(VLOOKUP(Ontwerp_MKI_Totaal[[#This Row],[Product]]&", "&Ontwerp_MKI_Totaal[[#Headers],[D]],Database_Productkaarten[#All],14,FALSE),0)*Ontwerpberekening!J7),0))/Ontwerpberekening!$A$2 -> 0 | U6: =SUM(Ontwerp_MKI_Totaal[[#This Row],[A1-A3]:[C4]])+Ontwerp_MKI_Totaal[[#This Row],[D]] -> 264.84213 | AC6: Rockwool | AD6: 1003.621 | AE6: 172.85463 | AF6: 178.71297 | AG6: 20.62 | AH6: 269.37365 | AI6: 0 | AJ6: 107.56757 | AK6: 768.66196 | AL6: 63.444145 | AM6: 9.3086195 | AN6: -82.68299 | BJ6: Open Menggranulaat | BK6: 381.12847 | BM6: 360.686 | BN6: 96.512625 | BO6: 1291.9598 | BQ6: 675.58838 | BR6: 593.17995 | BS6: 3399.0552 | CH6: Menggranulaat | CI6: 0 | CJ6: 236.55645 | CK6: 376.06 | CL6: 68.73 | CM6: 0 | CN6: 0 | CO6: 124.3 | CP6: 166.87905 | CQ6: 98.08 | CR6: 7.25 | CS6: 14.65
