Workbook

Sheet Invulinstructie
B1: INVUL INSTRUCTIE
A2: 1 | B2: Vul eerst uw firmanaam in onderstaande blauwe cel, deze wordt automatisch overgenomen op de andere tabbladen.
A3: 2 | B3: Uw firmanaam
A4: 3 | B4: U dient alle prijzenbladen in te vullen behalve: -Maatregelenoverzicht, dit blad bevat het overzicht van de toe te passen beveiligingspakketten conform de tabellen in hoofdstuk 3 van bijlage 2 van de Opdracht- en werkbeschrijving.
A5: 4 | B5: U dient alleen de lichtblauwe cellen in te vullen. De witte cellen kunt u niet invullen of aanpassen, deze zijn geblokkeerd.
A6: 5 | B6: De aanbestedende dienst heeft diverse items vooraf ingevuld in het prijzenblad. U dient deze regels als eerste in te vullen. U kunt in de lichtblauwe lege regels onder de ingevulde regels overige items toevoegen/aanvullen indien nodig.
A7: 6 | B7: Merk, type, specificaties en voorzieningen van de componenten in de beveiligingspakketten staan in het specificatie document. Bijlage 2 van de Opdracht- en werkbeschrijving.
A8: 7 | B8: U dient alle ingevulde prijzenbladen in Excel aan te leveren bij uw inschrijving, anders is uw inschrijving onvolledig en kunnen wij deze niet in behandeling nemen.
A9: 8 | B9: De aantallen beveiligingspakketten vanuit het Maatregelen overzicht die opgenomen zijn in het Prijzenblad Realisatiefase zijn de aantallen t.b.v. de inschrijving. Deze aantallen zijn conform het Voorontwerp en kunnen wijzigen (zowel minder als meer) tijdens de uitwerking van het DO. Inschrijver kan geen rechten ontlenen aan deze bij de inschrijving vermelde aantallen.
A10: 9 | B10: U blijft zelf verantwoordelijk voor het juist invullen van de prijzenbladen. Controleer deze goed voordat u ze indient.
A11: 10 | B11: De aanbestedende dienst heeft veel zorg besteed aan de prijzenbladen. Mocht er desondanks iets onjuist zijn, meldt u dit dan direct bij de aanbestedende dienst.
A12: 11 | B12: Op dit moment is nog niet precies bekend welke (en aantal) beveiligingsmaatregelen per fase worden gerealiseerd. Om deze reden is voor de realisatiefase ontwikkelcel 1 t/m 4 één prijzenblad voorzien. Het betreft hier het prijzenblad realisatiefase. Voor de inschrijving dient u uit te gaan dat de beveiligingsmaatregelen voor LPM in 4 fasen worden gerealiseerd, waarbij in realisatiefase 1 en 2 de meeste, ongeveer 80% van de beveiligingsmaatregelen zullen worden gerealiseerd.
B23: V1.0 14-03-2023

Sheet Inschrijfstaat
A1: Naam inschrijver | B1: =Invulinstructie!B3 -> Uw firmanaam
A2: Inschrijfstaat | B2: Fysieke beveiligingsmaatregelen Logistiek Park Moerdijk
A6: Algemeen
A7: Omschrijving | D7: Bedrag
A8: Ontwerpfase ontwikkelcel 1 t/m 4 | D8: ='Prijzenblad Ontwerpfase'!G18 -> 0
A9: Realisatiefase ontwikkelcel 1 t/m 4 | D9: ='Prijzenblad Realisatiefase'!G39 -> 0
C12: Totaal | D12: =SUM(D8:E9) -> 0
A32: V1.0 14-03-2023

Sheet Prijzenblad Ontwerpfase
A1: Naam inschrijver | B1: =Inschrijfstaat!B1 -> Uw firmanaam
A2: Prijzenblad | B2: Fysieke beveiligingsmaatregelen Logistiek Park Moerdijk
A7: Ontwerpfase ontwikkelcel 1 t/m 4
A8: Omschrijving | E8: Uren | F8: Uurtarief | G8: Totaal
A9: Uitwerken DO en ontwerp UO (engineering, tekenwerk, etc.) | G9: =E9*F9 -> 0
A10: Opstellen uitvoeringsbegrotingen | G10: =E10*F10 -> 0
A11: Projectleider | G11: =E11*F11 -> 0
A12: Overlegstructuur (o.b.v. 12 overleggen) | E12: 48 | G12: =E12*F12 -> 0
G13: =E13*F13 -> 0
G14: =E14*F14 -> 0
G15: =E15*F15 -> 0
G16: =E16*F16 -> 0
E18: TOTAAL ONTWERPFASE | G18: =SUM(G9:G16) -> 0
A32: V1.0 14-03-2023

Sheet Prijzenblad Realisatiefase
A1: Naam inschrijver | B1: =Inschrijfstaat!B1 -> Uw firmanaam
A2: Prijzenblad | B2: Fysieke beveiligingsmaatregelen Logistiek Park Moerdijk
A5: Realisatiefase ontwikkelcel 1 t/m 4
A6: Beveiligingspakket | D6: stuksprijs beveiligingspakket | E6: Aantal beveiligings pakketten | G6: Totaal
A7: ANPR | D7: ='Prijzenblad ANPR'!I41 -> 0 | E7: =COUNTIF('Maatregelen overzicht'!$B$5:$B$64,A7) -> 7 | G7: =D7*E7 -> 0
A8: Bermkast C | D8: ='Prijzenblad Berm kast C'!I41 -> 0 | E8: =COUNTIF('Maatregelen overzicht'!$B$5:$B$64,A8) -> 8 | G8: =D8*E8 -> 0
A9: Bermkast DC | D9: ='Prijzenblad Berm kast DC'!I41 -> 0 | E9: =COUNTIF('Maatregelen overzicht'!$B$5:$B$64,A9) -> 9 | G9: =D9*E9 -> 0
A10: Intercom | D10: ='Prijzenblad IC Intercom'!I41 -> 0 | E10: =COUNTIF('Maatregelen overzicht'!$B$5:$B$64,A10) -> 8 | G10: =D10*E10 -> 0
A11: Multisensor incl. PTZ | D11: ='Prijzenblad Multi Sens PTZ'!I41 -> 0 | E11: =COUNTIF('Maatregelen overzicht'!$B$5:$B$64,A11) -> 9 | G11: =D11*E11 -> 0
A12: PTZ | D12: ='Prijzenblad PTZ'!I41 -> 0 | E12: =COUNTIF('Maatregelen overzicht'!$B$5:$B$64,A12) -> 12 | G12: =D12*E12 -> 0
A13: Speedgate 12m | D13: ='Prijzenblad Speedgate 12m'!I41 -> 0 | E13: =COUNTIF('Maatregelen overzicht'!$B$5:$B$64,A13) -> 2 | G13: =D13*E13 -> 0
A14: Speedgate 4m | D14: ='Prijzenblad Speedgate 4m'!I41 -> 0 | E14: =COUNTIF('Maatregelen overzicht'!$B$5:$B$64,A14) -> 1 | G14: =D14*E14 -> 0
A15: Speedgate 8m | D15: ='Prijzenblad Speedgate 8m'!I41 -> 0 | E15: =COUNTIF('Maatregelen overzicht'!$B$5:$B$64,A15) -> 1 | G15: =D15*E15 -> 0
A16: Speedgate 8 twee rijrichtingen | D16: ='Speedgate 8m 2r'!I41 -> 0 | E16: =COUNTIF('Maatregelen overzicht'!$B$5:$B$64,A16) -> 2 | G16: =D16*E16 -> 0
F18: Subtotaal | G18: =SUM(G7:G16) -> 0
A23: Realisatiefase ontwikkelcel 1 t/m 4: Algemene projectkosten
A24: Omschrijving | D24: Uren | E24: Uurtarief | F24: Kosten | G24: Totaal
A25: Projectmanagement / projectleiding | G25: =D25*E25+F25 -> 0
A26: Bouwvergadering o.b.v. 20 vergaderingen | D26: 80 | G26: =D26*E26+F26 -> 0
A27: Technische overleggen o.b.v. 40 overleggen | D27: 80 | G27: =D27*E27+F27 -> 0
A28: Bouwplaatsvoorzieningen | G28: =D28*E28+F28 -> 0
A29: As built documentatie | G29: =D29*E29+F29 -> 0
A30: Bouwmaterieel (hoogwerkers, graafmachines etc.) | G30: =D30*E30+F30 -> 0
G31: =D31*E31+F31 -> 0
G32: =D32*E32+F32 -> 0
G33: =D33*E33+F33 -> 0
G34: =D34*E34+F34 -> 0
F36: Subtotaal | G36: =SUM(G25:G34) -> 0
E39: TOTAAL REALISATIEFASE | G39: =G18+G36 -> 0
A40: V1.0 14-03-2023

Sheet Prijzenblad verrekentarieven
A1: Naam inschrijver | B1: =Inschrijfstaat!B1 -> Uw firmanaam
A2: Prijzenblad | B2: Verrekentarieven
A7: Verrekentarieven
A8: Omschrijving | F8: Uurtarief
A9: Engineer Ontwerp
A10: Field engineer/ inbedrijfsteller
A11: Projectleider
A12: Tekenaar
A32: V1.0 14-03-2023

Sheet Maatregelen overzicht
B2: Fysieke beveiligingsmaatregelen Logistiek Park Moerdijk
A4: LOCATIE | B4: COMPONENT | C4: CODE | D4: UITVOERINGSFASE
A5: E1 IN | B5: ANPR | C5: A01 | D5: 1
A6: E1 UIT | B6: ANPR | C6: A02 | D6: 1
A7: E2 IN | B7: ANPR | C7: A03 | D7: 1
A8: E2 IN | B8: ANPR | C8: A04 | D8: 1
A9: E2 UIT | B9: ANPR | C9: A05 | D9: 1
A10: E3 IN | B10: ANPR | C10: A06 | D10: 1
A11: E3 UIT | B11: ANPR | C11: A07 | D11: 1
A12: E1 IN | B12: Intercom | C12: I01 | D12: 1
A13: E1 UIT | B13: Intercom | C13: I02 | D13: 1
A14: E2 IN | B14: Intercom | C14: I03 | D14: 1
A15: E2 UIT | B15: Intercom | C15: I04 | D15: 1
A16: E3 IN | B16: Intercom | C16: I05 | D16: 1
... A64: K10 P11 | B64: Bermkast DC | C64: K09b | D64: 1
A73: V1.0 14-03-2023

Sheet Prijzenblad ANPR
A1: Naam inschrijver | B1: =Inschrijfstaat!B1 -> Uw firmanaam
A2: Prijzenblad | B2: ANPR
A4: Omschrijving | B4: Fabrikant | C4: Type | D4: Aantal | E4: Eenheid | F4: Uren(*) | G4: Uurtarief | H4: Materiaal | I4: Totaal
A5: Bouwkundige componenten
A6: Cameramast, 4m kantelbaar inclusief fundatie en toebehoren. | D6: 1 | E6: stuks | I6: =(D6*F6*G6)+(D6*H6) -> 0
I7: =(D7*F7*G7)+(D7*H7) -> 0
I8: =(D8*F8*G8)+(D8*H8) -> 0
I9: =(D9*F9*G9)+(D9*H9) -> 0
I10: =(D10*F10*G10)+(D10*H10) -> 0
I11: =(D11*F11*G11)+(D11*H11) -> 0
I12: =(D12*F12*G12)+(D12*H12) -> 0
I13: =(D13*F13*G13)+(D13*H13) -> 0
I14: =(D14*F14*G14)+(D14*H14) -> 0
A15: Elektronische componenten
A16: ANPR Camera | B16: Genetec | C16: AutoVU SharpV | D16: 1 | E16: stuk | I16: =(D16*F16*G16)+(D16*H16) -> 0
A17: Montagebeugel | D17: 1 | E17: stuk | I17: =(D17*F17*G17)+(D17*H17) -> 0
A18: Patchkabel | D18: 1 | E18: stuk | I18: =(D18*F18*G18)+(D18*H18) -> 0
A19: Codering componenten | D19: 1 | E19: stuk | I19: =(D19*F19*G19)+(D19*H19) -> 0
A20: Laskast voeding en UTP | D20: 1 | E20: stuk | I20: =(D20*F20*G20)+(D20*H20) -> 0
I21: =(D21*F21*G21)+(D21*H21) -> 0
I22: =(D22*F22*G22)+(D22*H22) -> 0
I23: =(D23*F23*G23)+(D23*H23) -> 0
I24: =(D24*F24*G24)+(D24*H24) -> 0
I25: =(D25*F25*G25)+(D25*H25) -> 0
I26: =(D26*F26*G26)+(D26*H26) -> 0
I27: =(D27*F27*G27)+(D27*H27) -> 0
I28: =(D28*F28*G28)+(D28*H28) -> 0
I29: =(D29*F29*G29)+(D29*H29) -> 0
I30: =(D30*F30*G30)+(D30*H30) -> 0
I31: =(D31*F31*G31)+(D31*H31) -> 0
I32: =(D32*F32*G32)+(D32*H32) -> 0
... I34: =(D34*F34*G34)+(D34*H34) -> 0
A35: Diversen
A36: Transport | D36: 1 | E36: stuks | I36: =(D36*F36*G36)+(D36*H36) -> 0
I37: =(D37*F37*G37)+(D37*H37) -> 0
I38: =(D38*F38*G38)+(D38*H38) -> 0
I39: =(D39*F39*G39)+(D39*H39) -> 0
I40: =(D40*F40*G40)+(D40*H40) -> 0
A41: Totaal | I41: =SUM(I6:I40) -> 0
A43: *Uren inclusief alle werkzaamheden zoals: plaatsing, aansluiten, configureren, testen, inbedrijfstellen, koppelen en volledig bedrijfsklaar opleveren.
A49: V1.0 14-03-2023

Sheet Prijzenblad Berm kast C
A1: Naam inschrijver | B1: =Inschrijfstaat!B1 -> Uw firmanaam
A2: Prijzenblad | B2: Bermkast C
A4: Omschrijving | B4: Fabrikant | C4: Type | D4: Aantal | E4: Eenheid | F4: Uren(*) | G4: Uurtarief | H4: Materiaal | I4: Totaal
A5: Bouwkundige componenten
A6: Bermkast incl. sokkel, fundatie en toebehoren | D6: 1 | E6: stuks | I6: =(D6*F6*G6)+(D6*H6) -> 0
I7: =(D7*F7*G7)+(D7*H7) -> 0
I8: =(D8*F8*G8)+(D8*H8) -> 0
I9: =(D9*F9*G9)+(D9*H9) -> 0
I10: =(D10*F10*G10)+(D10*H10) -> 0
I11: =(D11*F11*G11)+(D11*H11) -> 0
I12: =(D12*F12*G12)+(D12*H12) -> 0
I13: =(D13*F13*G13)+(D13*H13) -> 0
I14: =(D14*F14*G14)+(D14*H14) -> 0
A15: Elektronische componenten
A16: Voeding Switch | B16: Comnet | C16: 240W | D16: 1 | E16: stuks | I16: =(D16*F16*G16)+(D16*H16) -> 0
A17: Installatie Automaten 230V | D17: 4 | E17: stuks | I17: =(D17*F17*G17)+(D17*H17) -> 0
A18: Aardlekschakelaar 30mA | D18: 1 | E18: stuks | I18: =(D18*F18*G18)+(D18*H18) -> 0
A19: Hoofdschakelaar | D19: 1 | E19: stuks | I19: =(D19*F19*G19)+(D19*H19) -> 0
A20: Verlichting | D20: 1 | E20: stuks | I20: =(D20*F20*G20)+(D20*H20) -> 0
A21: Deustandsignalering | D21: 2 | E21: stuks | I21: =(D21*F21*G21)+(D21*H21) -> 0
A22: ThermostaatVerwarming | D22: 1 | E22: stuks | I22: =(D22*F22*G22)+(D22*H22) -> 0
A23: glasvezel verdeeldoos | D23: 2 | E23: stuks | I23: =(D23*F23*G23)+(D23*H23) -> 0
A24: Overspanningsbeveiliging 230V | D24: 3 | E24: stuks | I24: =(D24*F24*G24)+(D24*H24) -> 0
A25: Overspanningsbeveiliging SFTP | D25: 9 | E25: stuks | I25: =(D25*F25*G25)+(D25*H25) -> 0
A26: WCD dinrail | D26: 1 | E26: stuks | I26: =(D26*F26*G26)+(D26*H26) -> 0
A27: Klemmen | D27: 25 | E27: stuks | I27: =(D27*F27*G27)+(D27*H27) -> 0
A28: Kleinmateriaal DIN Rail Kabelgoot | D28: 1 | E28: stuks | I28: =(D28*F28*G28)+(D28*H28) -> 0
A29: Aardelektrode | D29: 1 | E29: stuks | I29: =(D29*F29*G29)+(D29*H29) -> 0
A30: I/O module | B30: Axis | C30: 9188VE | D30: 1 | E30: stuks | I30: =(D30*F30*G30)+(D30*H30) -> 0
A31: Midspan 60W | B31: Axis | C31: T8134 | D31: 1 | E31: stuks | I31: =(D31*F31*G31)+(D31*H31) -> 0
A32: Midspan 30W | B32: Axis | D32: 3 | E32: stuks | I32: =(D32*F32*G32)+(D32*H32) -> 0
A33: CAT6 -RJ45 DIN Rail mounting outlet | D33: 6 | E33: stuks | I33: =(D33*F33*G33)+(D33*H33) -> 0
D34: 7 | I34: =(D34*F34*G34)+(D34*H34) -> 0
A35: Diversen
A36: Assemblage en interne bedrading | D36: 1 | E36: stuks | I36: =(D36*F36*G36)+(D36*H36) -> 0
A37: Transport | D37: 1 | E37: stuks | I37: =(D37*F37*G37)+(D37*H37) -> 0
I38: =(D38*F38*G38)+(D38*H38) -> 0
I39: =(D39*F39*G39)+(D39*H39) -> 0
I40: =(D40*F40*G40)+(D40*H40) -> 0
A41: Totaal | I41: =SUM(I6:I40) -> 0
A43: *Uren inclusief alle werkzaamheden zoals: plaatsing, aansluiten, configureren, testen, inbedrijfstellen, koppelen en volledig bedrijfsklaar opleveren.
A49: V1.0 14-03-2023

Sheet Prijzenblad Berm kast DC
A1: Naam inschrijver | B1: =Inschrijfstaat!B1 -> Uw firmanaam
A2: Prijzenblad | B2: Bermkast DC
A4: Omschrijving | B4: Fabrikant | C4: Type | D4: Aantal | E4: Eenheid | F4: Uren(*) | G4: Uurtarief | H4: Materiaal | I4: Totaal
A5: Bouwkundige componenten
A6: Bermkast incl. sokkel, fundatie en toebehoren | D6: 1 | E6: stuks | I6: =(D6*F6*G6)+(D6*H6) -> 0
I7: =(D7*F7*G7)+(D7*H7) -> 0
I8: =(D8*F8*G8)+(D8*H8) -> 0
I9: =(D9*F9*G9)+(D9*H9) -> 0
I10: =(D10*F10*G10)+(D10*H10) -> 0
I11: =(D11*F11*G11)+(D11*H11) -> 0
I12: =(D12*F12*G12)+(D12*H12) -> 0
I13: =(D13*F13*G13)+(D13*H13) -> 0
I14: =(D14*F14*G14)+(D14*H14) -> 0
A15: Elektronische componenten
A16: Voeding Switch | B16: Comnet | C16: 240W | D16: 1 | E16: stuks | I16: =(D16*F16*G16)+(D16*H16) -> 0
A17: Installatie Automaten 230V | D17: 2 | E17: stuks | I17: =(D17*F17*G17)+(D17*H17) -> 0
A18: Aardlekschakelaar 30mA | D18: 1 | E18: stuks | I18: =(D18*F18*G18)+(D18*H18) -> 0
A19: Hoofdschakelaar | D19: 1 | E19: stuks | I19: =(D19*F19*G19)+(D19*H19) -> 0
A20: Verlichting | D20: 1 | E20: stuks | I20: =(D20*F20*G20)+(D20*H20) -> 0
A21: Deustandsignalering | D21: 1 | E21: stuks | I21: =(D21*F21*G21)+(D21*H21) -> 0
A22: ThermostaatVerwarming | D22: 1 | E22: stuks | I22: =(D22*F22*G22)+(D22*H22) -> 0
A23: glasvezel verdeeldoos | D23: 1 | E23: stuks | I23: =(D23*F23*G23)+(D23*H23) -> 0
A24: Overspanningsbeveiliging 230V | D24: 1 | E24: stuks | I24: =(D24*F24*G24)+(D24*H24) -> 0
A25: Overspanningsbeveiliging SFTP | D25: 2 | E25: stuks | I25: =(D25*F25*G25)+(D25*H25) -> 0
A26: WCD dinrail | D26: 1 | E26: stuks | I26: =(D26*F26*G26)+(D26*H26) -> 0
A27: Klemmen | D27: 10 | E27: stuks | I27: =(D27*F27*G27)+(D27*H27) -> 0
A28: Kleinmateriaal DIN Rail Kabelgoot | D28: 1 | E28: stuks | I28: =(D28*F28*G28)+(D28*H28) -> 0
A29: Aardelektrode | D29: 1 | E29: stuks | I29: =(D29*F29*G29)+(D29*H29) -> 0
A30: I/O module | B30: Axis | C30: 9188VE | D30: 1 | E30: stuks | I30: =(D30*F30*G30)+(D30*H30) -> 0
A31: Midspan 60W | B31: Axis | C31: T8134 | D31: 1 | E31: stuks | I31: =(D31*F31*G31)+(D31*H31) -> 0
A32: Midspan 30W | B32: Axis | D32: 1 | E32: stuks | I32: =(D32*F32*G32)+(D32*H32) -> 0
A33: CAT6 -RJ45 DIN Rail mounting outlet | D33: 3 | E33: stuks | I33: =(D33*F33*G33)+(D33*H33) -> 0
I34: =(D34*F34*G34)+(D34*H34) -> 0
A35: Diversen
A36: Assemblage | D36: 1 | E36: stuks | I36: =(D36*F36*G36)+(D36*H36) -> 0
A37: Transport | D37: 1 | E37: stuks | I37: =(D37*F37*G37)+(D37*H37) -> 0
I38: =(D38*F38*G38)+(D38*H38) -> 0
I39: =(D39*F39*G39)+(D39*H39) -> 0
I40: =(D40*F40*G40)+(D40*H40) -> 0
A41: Totaal | I41: =SUM(I6:I40) -> 0
A43: *Uren inclusief alle werkzaamheden zoals: plaatsing, aansluiten, configureren, testen, inbedrijfstellen, koppelen en volledig bedrijfsklaar opleveren.
A56: V1.0 14-03-2023

Sheet Prijzenblad IC Intercom
A1: Naam inschrijver | B1: =Inschrijfstaat!B1 -> Uw firmanaam
A2: Prijzenblad | B2: Intercom
A4: Omschrijving | B4: Fabrikant | C4: Type | D4: Aantal | E4: Eenheid | F4: Uren(*) | G4: Uurtarief | H4: Materiaal | I4: Totaal
A5: Bouwkundige componenten
A6: intercomzuil incl. fundatie en toebehoren | C6: FT3501 | D6: 1 | E6: stuks | I6: =(D6*F6*G6)+(D6*H6) -> 0
I7: =(D7*F7*G7)+(D7*H7) -> 0
I8: =(D8*F8*G8)+(D8*H8) -> 0
I9: =(D9*F9*G9)+(D9*H9) -> 0
I10: =(D10*F10*G10)+(D10*H10) -> 0
I11: =(D11*F11*G11)+(D11*H11) -> 0
I12: =(D12*F12*G12)+(D12*H12) -> 0
I13: =(D13*F13*G13)+(D13*H13) -> 0
I14: =(D14*F14*G14)+(D14*H14) -> 0
A15: Elektronische componenten
A16: Intercom nevenpost | B16: Zenitel | C16: TCIS-3 | D16: 1 | E16: stuks | I16: =(D16*F16*G16)+(D16*H16) -> 0
I17: =(D17*F17*G17)+(D17*H17) -> 0
I18: =(D18*F18*G18)+(D18*H18) -> 0
I19: =(D19*F19*G19)+(D19*H19) -> 0
I20: =(D20*F20*G20)+(D20*H20) -> 0
I21: =(D21*F21*G21)+(D21*H21) -> 0
I22: =(D22*F22*G22)+(D22*H22) -> 0
I23: =(D23*F23*G23)+(D23*H23) -> 0
I24: =(D24*F24*G24)+(D24*H24) -> 0
I25: =(D25*F25*G25)+(D25*H25) -> 0
I26: =(D26*F26*G26)+(D26*H26) -> 0
I27: =(D27*F27*G27)+(D27*H27) -> 0
I28: =(D28*F28*G28)+(D28*H28) -> 0
... I34: =(D34*F34*G34)+(D34*H34) -> 0
A35: Diversen
A36: Transport | D36: 1 | E36: stuks | I36: =(D36*F36*G36)+(D36*H36) -> 0
I37: =(D37*F37*G37)+(D37*H37) -> 0
I38: =(D38*F38*G38)+(D38*H38) -> 0
I39: =(D39*F39*G39)+(D39*H39) -> 0
I40: =(D40*F40*G40)+(D40*H40) -> 0
A41: Totaal | I41: =SUM(I6:I40) -> 0
A43: *Uren inclusief alle werkzaamheden zoals: plaatsing, aansluiten,configureren, testen, inbedrijfstellen, koppelen en volledig bedrijfsklaar opleveren.
A57: V1.0 14-03-2023

Sheet Prijzenblad Multi Sens PTZ
A1: Naam inschrijver | B1: =Inschrijfstaat!B1 -> Uw firmanaam
A2: Prijzenblad | B2: Multi Sens PTZ
A4: Omschrijving | B4: Fabrikant | C4: Type | D4: Aantal | E4: Eenheid | F4: Uren(*) | G4: Uurtarief | H4: Materiaal | I4: Totaal
A5: Bouwkundige componenten
A6: Cameramast, 8m kantelbaar inclusief fundatie en toebehoren. | D6: 1 | E6: stuks | I6: =(D6*F6*G6)+(D6*H6) -> 0
I7: =(D7*F7*G7)+(D7*H7) -> 0
I8: =(D8*F8*G8)+(D8*H8) -> 0
I9: =(D9*F9*G9)+(D9*H9) -> 0
I10: =(D10*F10*G10)+(D10*H10) -> 0
I11: =(D11*F11*G11)+(D11*H11) -> 0
I12: =(D12*F12*G12)+(D12*H12) -> 0
I13: =(D13*F13*G13)+(D13*H13) -> 0
I14: =(D14*F14*G14)+(D14*H14) -> 0
A15: Elektronische componenten
A16: Multisensor camera | B16: Axis | C16: Q6100-E | D16: 1 | E16: stuks | I16: =(D16*F16*G16)+(D16*H16) -> 0
A17: PTZ camera t.b.v. multi sensor camera | B17: Axis | C17: Q6315-LE | D17: 1 | E17: stuks | I17: =(D17*F17*G17)+(D17*H17) -> 0
A18: Montagebeugel | D18: 1 | E18: stuks | I18: =(D18*F18*G18)+(D18*H18) -> 0
A19: Patchkabel | D19: 1 | E19: stuks | I19: =(D19*F19*G19)+(D19*H19) -> 0
A20: Codering componenten | D20: 1 | E20: stuks | I20: =(D20*F20*G20)+(D20*H20) -> 0
A21: Laskast voeding en UTP | D21: 1 | E21: stuk | I21: =(D21*F21*G21)+(D21*H21) -> 0
I22: =(D22*F22*G22)+(D22*H22) -> 0
I23: =(D23*F23*G23)+(D23*H23) -> 0
I24: =(D24*F24*G24)+(D24*H24) -> 0
I25: =(D25*F25*G25)+(D25*H25) -> 0
I26: =(D26*F26*G26)+(D26*H26) -> 0
I27: =(D27*F27*G27)+(D27*H27) -> 0
I28: =(D28*F28*G28)+(D28*H28) -> 0
I29: =(D29*F29*G29)+(D29*H29) -> 0
I30: =(D30*F30*G30)+(D30*H30) -> 0
I31: =(D31*F31*G31)+(D31*H31) -> 0
I32: =(D32*F32*G32)+(D32*H32) -> 0
I33: =(D33*F33*G33)+(D33*H33) -> 0
I34: =(D34*F34*G34)+(D34*H34) -> 0
A35: Diversen
A36: Transport | D36: 1 | E36: stuks | I36: =(D36*F36*G36)+(D36*H36) -> 0
I37: =(D37*F37*G37)+(D37*H37) -> 0
I38: =(D38*F38*G38)+(D38*H38) -> 0
I39: =(D39*F39*G39)+(D39*H39) -> 0
I40: =(D40*F40*G40)+(D40*H40) -> 0
A41: Totaal | I41: =SUM(I6:I40) -> 0
A43: *Uren inclusief alle werkzaamheden zoals: plaatsing, aansluiten,configureren, testen, inbedrijfstellen, koppelen en volledig bedrijfsklaar opleveren.
A56: V1.0 14-03-2023

Sheet Prijzenblad PTZ
A1: Naam inschrijver | B1: =Inschrijfstaat!B1 -> Uw firmanaam
A2: Prijzenblad | B2: PTZ
A4: Omschrijving | B4: Fabrikant | C4: Type | D4: Aantal | E4: Eenheid | F4: Uren(*) | G4: Uurtarief | H4: Materiaal | I4: Totaal
A5: Bouwkundige componenten
A6: Cameramast, 8m kantelbaar inclusief fundatie en toebehoren. | D6: 1 | E6: stuks | I6: =(D6*F6*G6)+(D6*H6) -> 0
I7: =(D7*F7*G7)+(D7*H7) -> 0
I8: =(D8*F8*G8)+(D8*H8) -> 0
I9: =(D9*F9*G9)+(D9*H9) -> 0
I10: =(D10*F10*G10)+(D10*H10) -> 0
I11: =(D11*F11*G11)+(D11*H11) -> 0
I12: =(D12*F12*G12)+(D12*H12) -> 0
I13: =(D13*F13*G13)+(D13*H13) -> 0
I14: =(D14*F14*G14)+(D14*H14) -> 0
A15: Elektronische componenten
A16: PTZ camera t.b.v. multi sensor camera | B16: Axis | C16: Q6315-LE | D16: 1 | E16: stuks | I16: =(D16*F16*G16)+(D16*H16) -> 0
A17: Montagebeugel | D17: 1 | E17: stuks | I17: =(D17*F17*G17)+(D17*H17) -> 0
A18: Patchkabel | D18: 1 | E18: stuks | I18: =(D18*F18*G18)+(D18*H18) -> 0
A19: Codering componenten | D19: 1 | E19: stuks | I19: =(D19*F19*G19)+(D19*H19) -> 0
A20: Laskast voeding en UTP | D20: 1 | E20: stuk | I20: =(D20*F20*G20)+(D20*H20) -> 0
I21: =(D21*F21*G21)+(D21*H21) -> 0
I22: =(D22*F22*G22)+(D22*H22) -> 0
I23: =(D23*F23*G23)+(D23*H23) -> 0
I24: =(D24*F24*G24)+(D24*H24) -> 0
I25: =(D25*F25*G25)+(D25*H25) -> 0
I26: =(D26*F26*G26)+(D26*H26) -> 0
I27: =(D27*F27*G27)+(D27*H27) -> 0
I28: =(D28*F28*G28)+(D28*H28) -> 0
I29: =(D29*F29*G29)+(D29*H29) -> 0
I30: =(D30*F30*G30)+(D30*H30) -> 0
I31: =(D31*F31*G31)+(D31*H31) -> 0
I32: =(D32*F32*G32)+(D32*H32) -> 0
... I34: =(D34*F34*G34)+(D34*H34) -> 0
A35: Diversen
A36: Transport | D36: 1 | E36: stuks | I36: =(D36*F36*G36)+(D36*H36) -> 0
I37: =(D37*F37*G37)+(D37*H37) -> 0
I38: =(D38*F38*G38)+(D38*H38) -> 0
I39: =(D39*F39*G39)+(D39*H39) -> 0
I40: =(D40*F40*G40)+(D40*H40) -> 0
A41: Totaal | I41: =SUM(I6:I40) -> 0
A43: *Uren inclusief alle werkzaamheden zoals: plaatsing, aansluiten,configureren, testen, inbedrijfstellen, koppelen en volledig bedrijfsklaar opleveren.
A56: V1.0 14-03-2023

Sheet Prijzenblad Speedgate 4m
A1: Naam inschrijver | B1: =Inschrijfstaat!B1 -> Uw firmanaam
A2: Prijzenblad | B2: Speedgate 4m
A4: Omschrijving | B4: Fabrikant | C4: Type | D4: Aantal | E4: Eenheid | F4: Uren(*) | G4: Uurtarief | H4: Materiaal | I4: Totaal
A5: Bouwkundige componenten
A6: Speedgate 4m incl. transport, montage en inbedrijfstelling conform specificaties | B6: HTC | C6: Xentry STS 4m | D6: 1 | E6: stuks | I6: =(D6*F6*G6)+(D6*H6) -> 0
I7: =(D7*F7*G7)+(D7*H7) -> 0
I8: =(D8*F8*G8)+(D8*H8) -> 0
I9: =(D9*F9*G9)+(D9*H9) -> 0
I10: =(D10*F10*G10)+(D10*H10) -> 0
I11: =(D11*F11*G11)+(D11*H11) -> 0
I12: =(D12*F12*G12)+(D12*H12) -> 0
I13: =(D13*F13*G13)+(D13*H13) -> 0
I14: =(D14*F14*G14)+(D14*H14) -> 0
A15: Elektronische componenten
I16: =(D16*F16*G16)+(D16*H16) -> 0
I17: =(D17*F17*G17)+(D17*H17) -> 0
I18: =(D18*F18*G18)+(D18*H18) -> 0
I19: =(D19*F19*G19)+(D19*H19) -> 0
I20: =(D20*F20*G20)+(D20*H20) -> 0
I21: =(D21*F21*G21)+(D21*H21) -> 0
I22: =(D22*F22*G22)+(D22*H22) -> 0
I23: =(D23*F23*G23)+(D23*H23) -> 0
I24: =(D24*F24*G24)+(D24*H24) -> 0
I25: =(D25*F25*G25)+(D25*H25) -> 0
I26: =(D26*F26*G26)+(D26*H26) -> 0
I27: =(D27*F27*G27)+(D27*H27) -> 0
... I34: =(D34*F34*G34)+(D34*H34) -> 0
A35: Diversen
I36: =(D36*F36*G36)+(D36*H36) -> 0
I37: =(D37*F37*G37)+(D37*H37) -> 0
I38: =(D38*F38*G38)+(D38*H38) -> 0
I39: =(D39*F39*G39)+(D39*H39) -> 0
I40: =(D40*F40*G40)+(D40*H40) -> 0
A41: Totaal | I41: =SUM(I6:I40) -> 0
A43: *Uren inclusief alle werkzaamheden zoals: plaatsing, aansluiten,configureren, testen, inbedrijfstellen, koppelen en volledig bedrijfsklaar opleveren.
A56: V1.0 14-03-2023

Sheet Prijzenblad Speedgate 8m
A1: Naam inschrijver | B1: =Inschrijfstaat!B1 -> Uw firmanaam
A2: Prijzenblad | B2: Speedgate 8m
A4: Omschrijving | B4: Fabrikant | C4: Type | D4: Aantal | E4: Eenheid | F4: Uren(*) | G4: Uurtarief | H4: Materiaal | I4: Totaal
A5: Bouwkundige componenten
A6: Speedgate 8m incl. transport, montage en inbedrijfstelling conform specificaties | B6: HTC | C6: Xentry STS 8m | D6: 1 | E6: stuks | I6: =(D6*F6*G6)+(D6*H6) -> 0
I7: =(D7*F7*G7)+(D7*H7) -> 0
I8: =(D8*F8*G8)+(D8*H8) -> 0
I9: =(D9*F9*G9)+(D9*H9) -> 0
I10: =(D10*F10*G10)+(D10*H10) -> 0
I11: =(D11*F11*G11)+(D11*H11) -> 0
I12: =(D12*F12*G12)+(D12*H12) -> 0
I13: =(D13*F13*G13)+(D13*H13) -> 0
I14: =(D14*F14*G14)+(D14*H14) -> 0
A15: Elektronische componenten
I16: =(D16*F16*G16)+(D16*H16) -> 0
I17: =(D17*F17*G17)+(D17*H17) -> 0
I18: =(D18*F18*G18)+(D18*H18) -> 0
I19: =(D19*F19*G19)+(D19*H19) -> 0
I20: =(D20*F20*G20)+(D20*H20) -> 0
I21: =(D21*F21*G21)+(D21*H21) -> 0
I22: =(D22*F22*G22)+(D22*H22) -> 0
I23: =(D23*F23*G23)+(D23*H23) -> 0
I24: =(D24*F24*G24)+(D24*H24) -> 0
I25: =(D25*F25*G25)+(D25*H25) -> 0
I26: =(D26*F26*G26)+(D26*H26) -> 0
I27: =(D27*F27*G27)+(D27*H27) -> 0
... I34: =(D34*F34*G34)+(D34*H34) -> 0
A35: Diversen
I36: =(D36*F36*G36)+(D36*H36) -> 0
I37: =(D37*F37*G37)+(D37*H37) -> 0
I38: =(D38*F38*G38)+(D38*H38) -> 0
I39: =(D39*F39*G39)+(D39*H39) -> 0
I40: =(D40*F40*G40)+(D40*H40) -> 0
A41: Totaal | I41: =SUM(I6:I40) -> 0
A43: *Uren inclusief alle werkzaamheden zoals: plaatsing, aansluiten,configureren, testen, inbedrijfstellen, koppelen en volledig bedrijfsklaar opleveren.
A55: V1.0 14-03-2023

Sheet Speedgate 8m 2r
A1: Naam inschrijver | B1: =Inschrijfstaat!B1 -> Uw firmanaam
A2: Prijzenblad locatie | B2: Speedgate 8m twee rijrichtingen
A4: Omschrijving | B4: Fabrikant | C4: Type | D4: Aantal | E4: Eenheid | F4: Uren(*) | G4: Uurtarief | H4: Materiaal | I4: Totaal
A5: Bouwkundige componenten
A6: Speedgate 8m incl. transport, montage en inbedrijfstelling conform specificaties | B6: HTC | C6: Xentry STS 8m | D6: 1 | E6: stuks | I6: =(D6*F6*G6)+(D6*H6) -> 0
I7: =(D7*F7*G7)+(D7*H7) -> 0
I8: =(D8*F8*G8)+(D8*H8) -> 0
I9: =(D9*F9*G9)+(D9*H9) -> 0
I10: =(D10*F10*G10)+(D10*H10) -> 0
I11: =(D11*F11*G11)+(D11*H11) -> 0
I12: =(D12*F12*G12)+(D12*H12) -> 0
I13: =(D13*F13*G13)+(D13*H13) -> 0
I14: =(D14*F14*G14)+(D14*H14) -> 0
A15: Elektronische componenten
I16: =(D16*F16*G16)+(D16*H16) -> 0
I17: =(D17*F17*G17)+(D17*H17) -> 0
I18: =(D18*F18*G18)+(D18*H18) -> 0
I19: =(D19*F19*G19)+(D19*H19) -> 0
I20: =(D20*F20*G20)+(D20*H20) -> 0
I21: =(D21*F21*G21)+(D21*H21) -> 0
I22: =(D22*F22*G22)+(D22*H22) -> 0
I23: =(D23*F23*G23)+(D23*H23) -> 0
I24: =(D24*F24*G24)+(D24*H24) -> 0
I25: =(D25*F25*G25)+(D25*H25) -> 0
I26: =(D26*F26*G26)+(D26*H26) -> 0
I27: =(D27*F27*G27)+(D27*H27) -> 0
... I34: =(D34*F34*G34)+(D34*H34) -> 0
A35: Diversen
I36: =(D36*F36*G36)+(D36*H36) -> 0
I37: =(D37*F37*G37)+(D37*H37) -> 0
I38: =(D38*F38*G38)+(D38*H38) -> 0
I39: =(D39*F39*G39)+(D39*H39) -> 0
I40: =(D40*F40*G40)+(D40*H40) -> 0
A41: Totaal | I41: =SUM(I6:I40) -> 0
A43: *Uren inclusief alle werkzaamheden zoals: plaatsing, aansluiten,configureren, testen, inbedrijfstellen, koppelen en volledig bedrijfsklaar opleveren.
A55: V1.0 14-03-2023

Sheet Prijzenblad Speedgate 12m
A1: Naam inschrijver | B1: =Inschrijfstaat!B1 -> Uw firmanaam
A2: Prijzenblad | B2: Speedgate 12m
A4: Omschrijving | B4: Fabrikant | C4: Type | D4: Aantal | E4: Eenheid | F4: Uren(*) | G4: Uurtarief | H4: Materiaal | I4: Totaal
A5: Bouwkundige componenten
A6: Speedgate 12m incl. transport, montage en inbedrijfstelling conform specificaties | B6: HTC | C6: Xentry STS 12m | D6: 1 | E6: stuks | I6: =(D6*F6*G6)+(D6*H6) -> 0
I7: =(D7*F7*G7)+(D7*H7) -> 0
I8: =(D8*F8*G8)+(D8*H8) -> 0
I9: =(D9*F9*G9)+(D9*H9) -> 0
I10: =(D10*F10*G10)+(D10*H10) -> 0
I11: =(D11*F11*G11)+(D11*H11) -> 0
I12: =(D12*F12*G12)+(D12*H12) -> 0
I13: =(D13*F13*G13)+(D13*H13) -> 0
I14: =(D14*F14*G14)+(D14*H14) -> 0
A15: Elektronische componenten
I16: =(D16*F16*G16)+(D16*H16) -> 0
I17: =(D17*F17*G17)+(D17*H17) -> 0
I18: =(D18*F18*G18)+(D18*H18) -> 0
I19: =(D19*F19*G19)+(D19*H19) -> 0
I20: =(D20*F20*G20)+(D20*H20) -> 0
I21: =(D21*F21*G21)+(D21*H21) -> 0
I22: =(D22*F22*G22)+(D22*H22) -> 0
I23: =(D23*F23*G23)+(D23*H23) -> 0
I24: =(D24*F24*G24)+(D24*H24) -> 0
I25: =(D25*F25*G25)+(D25*H25) -> 0
I26: =(D26*F26*G26)+(D26*H26) -> 0
I27: =(D27*F27*G27)+(D27*H27) -> 0
... I34: =(D34*F34*G34)+(D34*H34) -> 0
A35: Diversen
I36: =(D36*F36*G36)+(D36*H36) -> 0
I37: =(D37*F37*G37)+(D37*H37) -> 0
I38: =(D38*F38*G38)+(D38*H38) -> 0
I39: =(D39*F39*G39)+(D39*H39) -> 0
I40: =(D40*F40*G40)+(D40*H40) -> 0
A41: Totaal | I41: =SUM(I6:I40) -> 0
A43: *Uren inclusief alle werkzaamheden zoals: plaatsing, aansluiten,configureren, testen, inbedrijfstellen, koppelen en volledig bedrijfsklaar opleveren.
A55: V1.0 14-03-2023
